{"text_format":"1","workbook":"xlsx","n_sheets":2,"sheets":["Attendance 2024","Daily Register"],"not_rendered":{"charts":0,"images":0,"macros":1,"external_links":0,"defined_names":0,"comments":0,"pivot_tables":0},"unopened":[],"bounds":{"document_bytes":16777216,"sheet_cells":100000,"rows_first":2000,"rows_last":500,"rows_between":2000,"halvings":0,"cell_chars":16384,"cell_head_chars":4096},"cells_cut":0,"cells_raw":0,"read":"whole","date_system":"1900"}

{"sheet":"Attendance 2024","index":0,"n_rows":63,"n_cols":370,"rows_kept":63,"cut":false,"hidden":false,"merged":[[1,1,2,1],[1,0,2,0],[1,2,2,2]]}
[]
["Total \nAttended","Total\nDelivered ","Student\nID",null,"2024-01-01","2024-01-02","2024-01-03","2024-01-04","2024-01-05","2024-01-06","2024-01-07","2024-01-08","2024-01-09","2024-01-10","2024-01-11","2024-01-12","2024-01-13","2024-01-14","2024-01-15","2024-01-16","2024-01-17","2024-01-18","2024-01-19","2024-01-20","2024-01-21","2024-01-22","2024-01-23","2024-01-24","2024-01-25","2024-01-26","2024-01-27","2024-01-28","2024-01-29","2024-01-30","2024-01-31","2024-02-01","2024-02-02","2024-02-03","2024-02-04","2024-02-05","2024-02-06","2024-02-07","2024-02-08","2024-02-09","2024-02-10","2024-02-11","2024-02-12","2024-02-13","2024-02-14","2024-02-15","2024-02-16","2024-02-17","2024-02-18","2024-02-19","2024-02-20","2024-02-21","2024-02-22","2024-02-23","2024-02-24","2024-02-25","2024-02-26","2024-02-27","2024-02-28","2024-02-29","2024-03-01","2024-03-02","2024-03-03","2024-03-04","2024-03-05","2024-03-06","2024-03-07","2024-03-08","2024-03-09","2024-03-10","2024-03-11","2024-03-12","2024-03-13","2024-03-14","2024-03-15","2024-03-16","2024-03-17","2024-03-18","2024-03-19","2024-03-20","2024-03-21","2024-03-22","2024-03-23","2024-03-24","2024-03-25","2024-03-26","2024-03-27","2024-03-28","2024-03-29","2024-03-30","2024-03-31","2024-04-01","2024-04-02","2024-04-03","2024-04-04","2024-04-05","2024-04-06","2024-04-07","2024-04-08","2024-04-09","2024-04-10","2024-04-11","2024-04-12","2024-04-13","2024-04-14","2024-04-15","2024-04-16","2024-04-17","2024-04-18","2024-04-19","2024-04-20","2024-04-21","2024-04-22","2024-04-23","2024-04-24","2024-04-25","2024-04-26","2024-04-27","2024-04-28","2024-04-29","2024-04-30","2024-05-01","2024-05-02","2024-05-03","2024-05-04","2024-05-05","2024-05-06","2024-05-07","2024-05-08","2024-05-09","2024-05-10","2024-05-11","2024-05-12","2024-05-13","2024-05-14","2024-05-15","2024-05-16","2024-05-17","2024-05-18","2024-05-19","2024-05-20","2024-05-21","2024-05-22","2024-05-23","2024-05-24","2024-05-25","2024-05-26","2024-05-27","2024-05-28","2024-05-29","2024-05-30","2024-05-31","2024-06-01","2024-06-02","2024-06-03","2024-06-04","2024-06-05","2024-06-06","2024-06-07","2024-06-08","2024-06-09","2024-06-10","2024-06-11","2024-06-12","2024-06-13","2024-06-14","2024-06-15","2024-06-16","2024-06-17","2024-06-18","2024-06-19","2024-06-20","2024-06-21","2024-06-22","2024-06-23","2024-06-24","2024-06-25","2024-06-26","2024-06-27","2024-06-28","2024-06-29","2024-06-30","2024-07-01","2024-07-02","2024-07-03","2024-07-04","2024-07-05","2024-07-06","2024-07-07","2024-07-08","2024-07-09","2024-07-10","2024-07-11","2024-07-12","2024-07-13","2024-07-14","2024-07-15","2024-07-16","2024-07-17","2024-07-18","2024-07-19","2024-07-20","2024-07-21","2024-07-22","2024-07-23","2024-07-24","2024-07-25","2024-07-26","2024-07-27","2024-07-28","2024-07-29","2024-07-30","2024-07-31","2024-08-01","2024-08-02","2024-08-03","2024-08-04","2024-08-05","2024-08-06","2024-08-07","2024-08-08","2024-08-09","2024-08-10","2024-08-11","2024-08-12","2024-08-13","2024-08-14","2024-08-15","2024-08-16","2024-08-17","2024-08-18","2024-08-19","2024-08-20","2024-08-21","2024-08-22","2024-08-23","2024-08-24","2024-08-25","2024-08-26","2024-08-27","2024-08-28","2024-08-29","2024-08-30","2024-08-31","2024-09-01","2024-09-02","2024-09-03","2024-09-04","2024-09-05","2024-09-06","2024-09-07","2024-09-08","2024-09-09","2024-09-10","2024-09-11","2024-09-12","2024-09-13","2024-09-14","2024-09-15","2024-09-16","2024-09-17","2024-09-18","2024-09-19","2024-09-20","2024-09-21","2024-09-22","2024-09-23","2024-09-24","2024-09-25","2024-09-26","2024-09-27","2024-09-28","2024-09-29","2024-09-30","2024-10-01","2024-10-02","2024-10-03","2024-10-04","2024-10-05","2024-10-06","2024-10-07","2024-10-08","2024-10-09","2024-10-10","2024-10-11","2024-10-12","2024-10-13","2024-10-14","2024-10-15","2024-10-16","2024-10-17","2024-10-18","2024-10-19","2024-10-20","2024-10-21","2024-10-22","2024-10-23","2024-10-24","2024-10-25","2024-10-26","2024-10-27","2024-10-28","2024-10-29","2024-10-30","2024-10-31","2024-11-01","2024-11-02","2024-11-03","2024-11-04","2024-11-05","2024-11-06","2024-11-07","2024-11-08","2024-11-09","2024-11-10","2024-11-11","2024-11-12","2024-11-13","2024-11-14","2024-11-15","2024-11-16","2024-11-17","2024-11-18","2024-11-19","2024-11-20","2024-11-21","2024-11-22","2024-11-23","2024-11-24","2024-11-25","2024-11-26","2024-11-27","2024-11-28","2024-11-29","2024-11-30","2024-12-01","2024-12-02","2024-12-03","2024-12-04","2024-12-05","2024-12-06","2024-12-07","2024-12-08","2024-12-09","2024-12-10","2024-12-11","2024-12-12","2024-12-13","2024-12-14","2024-12-15","2024-12-16","2024-12-17","2024-12-18","2024-12-19","2024-12-20","2024-12-21","2024-12-22","2024-12-23","2024-12-24","2024-12-25","2024-12-26","2024-12-27","2024-12-28","2024-12-29","2024-12-30","2024-12-31"]
[null,null,null,"Student Name",{"$f":"TEXT(E2,\"DDD\")","v":"Mon"},"Tue",{"$f":"TEXT(G2,\"DDD\")","v":"Wed"},"Thu","Fri","Sat","Sun","Mon","Tue","Wed","Thu","Fri","Sat","Sun","Mon","Tue","Wed","Thu","Fri","Sat","Sun","Mon","Tue","Wed","Thu","Fri","Sat","Sun","Mon","Tue","Wed","Thu","Fri","Sat","Sun","Mon","Tue","Wed","Thu","Fri","Sat","Sun","Mon","Tue","Wed","Thu","Fri","Sat","Sun","Mon","Tue","Wed","Thu","Fri","Sat","Sun","Mon","Tue","Wed","Thu","Fri","Sat","Sun","Mon","Tue","Wed",{"$f":"TEXT(BS2,\"DDD\")","v":"Thu"},"Fri","Sat","Sun","Mon","Tue","Wed","Thu","Fri","Sat","Sun","Mon","Tue","Wed","Thu","Fri","Sat","Sun","Mon","Tue","Wed","Thu","Fri","Sat","Sun","Mon","Tue","Wed","Thu","Fri","Sat","Sun","Mon","Tue","Wed","Thu","Fri","Sat","Sun","Mon","Tue","Wed","Thu","Fri","Sat","Sun","Mon","Tue","Wed","Thu","Fri","Sat","Sun","Mon","Tue","Wed","Thu","Fri","Sat","Sun","Mon","Tue","Wed","Thu",{"$f":"TEXT(EE2,\"DDD\")","v":"Fri"},"Sat","Sun","Mon","Tue","Wed","Thu","Fri","Sat","Sun","Mon","Tue","Wed","Thu","Fri","Sat","Sun","Mon",{"$f":"TEXT(EW2,\"DDD\")","v":"Tue"},{"$f":"TEXT(EX2,\"DDD\")","v":"Wed"},"Thu","Fri","Sat","Sun","Mon","Tue","Wed","Thu","Fri","Sat","Sun","Mon","Tue","Wed","Thu","Fri","Sat","Sun","Mon","Tue","Wed","Thu","Fri","Sat","Sun","Mon","Tue","Wed","Thu","Fri","Sat","Sun","Mon","Tue","Wed","Thu","Fri","Sat","Sun","Mon","Tue","Wed","Thu","Fri","Sat","Sun","Mon","Tue","Wed","Thu","Fri","Sat","Sun","Mon","Tue","Wed","Thu","Fri","Sat","Sun","Mon","Tue","Wed",{"$f":"TEXT(HJ2,\"DDD\")","v":"Thu"},"Fri","Sat","Sun","Mon","Tue","Wed","Thu","Fri","Sat","Sun","Mon","Tue","Wed","Thu","Fri","Sat","Sun","Mon","Tue","Wed","Thu","Fri","Sat","Sun","Mon","Tue","Wed","Thu","Fri","Sat","Sun","Mon","Tue","Wed","Thu","Fri","Sat","Sun","Mon","Tue","Wed","Thu","Fri","Sat","Sun","Mon","Tue","Wed","Thu","Fri","Sat","Sun","Mon","Tue","Wed","Thu","Fri","Sat","Sun","Mon","Tue","Wed","Thu",{"$f":"TEXT(JV2,\"DDD\")","v":"Fri"},"Sat","Sun","Mon","Tue","Wed","Thu","Fri","Sat","Sun","Mon","Tue","Wed","Thu","Fri","Sat","Sun","Mon","Tue","Wed","Thu","Fri","Sat","Sun","Mon","Tue","Wed","Thu","Fri","Sat","Sun","Mon","Tue","Wed","Thu","Fri","Sat","Sun","Mon","Tue","Wed","Thu","Fri","Sat","Sun","Mon","Tue","Wed","Thu","Fri","Sat","Sun","Mon","Tue","Wed","Thu","Fri","Sat","Sun","Mon","Tue","Wed","Thu","Fri",{"$f":"TEXT(MH2,\"DDD\")","v":"Sat"},"Sun","Mon","Tue","Wed","Thu","Fri","Sat","Sun","Mon","Tue","Wed","Thu","Fri","Sat","Sun","Mon","Tue","Wed","Thu","Fri","Sat","Sun","Mon","Tue"]
[{"$f":"COUNTIF(E4:NF4,\"P\")","v":0},null,1,null,{"$f":"IF(Attendance($C4,'Daily Register'!A$3:A$242)=TRUE,\"P\",\"A\")","v":"A"},{"$f":"IF(Attendance($C4,'Daily Register'!B$3:B$242)=TRUE,\"P\",\"A\")","v":"A"},{"$f":"IF(Attendance($C4,'Daily Register'!C$3:C$242)=TRUE,\"P\",\"A\")","v":"A"},{"$f":"IF(Attendance($C4,'Daily Register'!D$3:D$242)=TRUE,\"P\",\"A\")","v":"A"},{"$f":"IF(Attendance($C4,'Daily Register'!E$3:E$242)=TRUE,\"P\",\"A\")","v":"A"},{"$f":"IF(Attendance($C4,'Daily Register'!F$3:F$242)=TRUE,\"P\",\"A\")","v":"A"},{"$f":"IF(Attendance($C4,'Daily Register'!G$3:G$242)=TRUE,\"P\",\"A\")","v":"A"},{"$f":"IF(Attendance($C4,'Daily Register'!H$3:H$242)=TRUE,\"P\",\"A\")","v":"A"},{"$f":"IF(Attendance($C4,'Daily Register'!I$3:I$242)=TRUE,\"P\",\"A\")","v":"A"},{"$f":"IF(Attendance($C4,'Daily Register'!J$3:J$242)=TRUE,\"P\",\"A\")","v":"A"},{"$f":"IF(Attendance($C4,'Daily Register'!K$3:K$242)=TRUE,\"P\",\"A\")","v":"A"},{"$f":"IF(Attendance($C4,'Daily Register'!L$3:L$242)=TRUE,\"P\",\"A\")","v":"A"},{"$f":"IF(Attendance($C4,'Daily Register'!M$3:M$242)=TRUE,\"P\",\"A\")","v":"A"},{"$f":"IF(Attendance($C4,'Daily Register'!N$3:N$242)=TRUE,\"P\",\"A\")","v":"A"},{"$f":"IF(Attendance($C4,'Daily Register'!O$3:O$242)=TRUE,\"P\",\"A\")","v":"A"},{"$f":"IF(Attendance($C4,'Daily Register'!P$3:P$242)=TRUE,\"P\",\"A\")","v":"A"},{"$f":"IF(Attendance($C4,'Daily Register'!Q$3:Q$242)=TRUE,\"P\",\"A\")","v":"A"},{"$f":"IF(Attendance($C4,'Daily Register'!R$3:R$242)=TRUE,\"P\",\"A\")","v":"A"},{"$f":"IF(Attendance($C4,'Daily Register'!S$3:S$242)=TRUE,\"P\",\"A\")","v":"A"},{"$f":"IF(Attendance($C4,'Daily Register'!T$3:T$242)=TRUE,\"P\",\"A\")","v":"A"},{"$f":"IF(Attendance($C4,'Daily Register'!U$3:U$242)=TRUE,\"P\",\"A\")","v":"A"},{"$f":"IF(Attendance($C4,'Daily Register'!V$3:V$242)=TRUE,\"P\",\"A\")","v":"A"},{"$f":"IF(Attendance($C4,'Daily Register'!W$3:W$242)=TRUE,\"P\",\"A\")","v":"A"},{"$f":"IF(Attendance($C4,'Daily Register'!X$3:X$242)=TRUE,\"P\",\"A\")","v":"A"},{"$f":"IF(Attendance($C4,'Daily Register'!Y$3:Y$242)=TRUE,\"P\",\"A\")","v":"A"},{"$f":"IF(Attendance($C4,'Daily Register'!Z$3:Z$242)=TRUE,\"P\",\"A\")","v":"A"},{"$f":"IF(Attendance($C4,'Daily Register'!AA$3:AA$242)=TRUE,\"P\",\"A\")","v":"A"},{"$f":"IF(Attendance($C4,'Daily Register'!AB$3:AB$242)=TRUE,\"P\",\"A\")","v":"A"},{"$f":"IF(Attendance($C4,'Daily Register'!AC$3:AC$242)=TRUE,\"P\",\"A\")","v":"A"},{"$f":"IF(Attendance($C4,'Daily Register'!AD$3:AD$242)=TRUE,\"P\",\"A\")","v":"A"},{"$f":"IF(Attendance($C4,'Daily Register'!AE$3:AE$242)=TRUE,\"P\",\"A\")","v":"A"},{"$f":"IF(Attendance($C4,'Daily Register'!AF$3:AF$242)=TRUE,\"P\",\"A\")","v":"A"},{"$f":"IF(Attendance($C4,'Daily Register'!AG$3:AG$242)=TRUE,\"P\",\"A\")","v":"A"},{"$f":"IF(Attendance($C4,'Daily Register'!AH$3:AH$242)=TRUE,\"P\",\"A\")","v":"A"},{"$f":"IF(Attendance($C4,'Daily Register'!AI$3:AI$242)=TRUE,\"P\",\"A\")","v":"A"},{"$f":"IF(Attendance($C4,'Daily Register'!AJ$3:AJ$242)=TRUE,\"P\",\"A\")","v":"A"},{"$f":"IF(Attendance($C4,'Daily Register'!AK$3:AK$242)=TRUE,\"P\",\"A\")","v":"A"},{"$f":"IF(Attendance($C4,'Daily Register'!AL$3:AL$242)=TRUE,\"P\",\"A\")","v":"A"},{"$f":"IF(Attendance($C4,'Daily Register'!AM$3:AM$242)=TRUE,\"P\",\"A\")","v":"A"},{"$f":"IF(Attendance($C4,'Daily Register'!AN$3:AN$242)=TRUE,\"P\",\"A\")","v":"A"},{"$f":"IF(Attendance($C4,'Daily Register'!AO$3:AO$242)=TRUE,\"P\",\"A\")","v":"A"},{"$f":"IF(Attendance($C4,'Daily Register'!AP$3:AP$242)=TRUE,\"P\",\"A\")","v":"A"},{"$f":"IF(Attendance($C4,'Daily Register'!AQ$3:AQ$242)=TRUE,\"P\",\"A\")","v":"A"},{"$f":"IF(Attendance($C4,'Daily Register'!AR$3:AR$242)=TRUE,\"P\",\"A\")","v":"A"},{"$f":"IF(Attendance($C4,'Daily Register'!AS$3:AS$242)=TRUE,\"P\",\"A\")","v":"A"},{"$f":"IF(Attendance($C4,'Daily Register'!AT$3:AT$242)=TRUE,\"P\",\"A\")","v":"A"},{"$f":"IF(Attendance($C4,'Daily Register'!AU$3:AU$242)=TRUE,\"P\",\"A\")","v":"A"},{"$f":"IF(Attendance($C4,'Daily Register'!AV$3:AV$242)=TRUE,\"P\",\"A\")","v":"A"},{"$f":"IF(Attendance($C4,'Daily Register'!AW$3:AW$242)=TRUE,\"P\",\"A\")","v":"A"},{"$f":"IF(Attendance($C4,'Daily Register'!AX$3:AX$242)=TRUE,\"P\",\"A\")","v":"A"},{"$f":"IF(Attendance($C4,'Daily Register'!AY$3:AY$242)=TRUE,\"P\",\"A\")","v":"A"},{"$f":"IF(Attendance($C4,'Daily Register'!AZ$3:AZ$242)=TRUE,\"P\",\"A\")","v":"A"},{"$f":"IF(Attendance($C4,'Daily Register'!BA$3:BA$242)=TRUE,\"P\",\"A\")","v":"A"},{"$f":"IF(Attendance($C4,'Daily Register'!BB$3:BB$242)=TRUE,\"P\",\"A\")","v":"A"},{"$f":"IF(Attendance($C4,'Daily Register'!BC$3:BC$242)=TRUE,\"P\",\"A\")","v":"A"},{"$f":"IF(Attendance($C4,'Daily Register'!BD$3:BD$242)=TRUE,\"P\",\"A\")","v":"A"},{"$f":"IF(Attendance($C4,'Daily Register'!BE$3:BE$242)=TRUE,\"P\",\"A\")","v":"A"},{"$f":"IF(Attendance($C4,'Daily Register'!BF$3:BF$242)=TRUE,\"P\",\"A\")","v":"A"},{"$f":"IF(Attendance($C4,'Daily Register'!BG$3:BG$242)=TRUE,\"P\",\"A\")","v":"A"},{"$f":"IF(Attendance($C4,'Daily Register'!BH$3:BH$242)=TRUE,\"P\",\"A\")","v":"A"},{"$f":"IF(Attendance($C4,'Daily Register'!BI$3:BI$242)=TRUE,\"P\",\"A\")","v":"A"},{"$f":"IF(Attendance($C4,'Daily Register'!BJ$3:BJ$242)=TRUE,\"P\",\"A\")","v":"A"},{"$f":"IF(Attendance($C4,'Daily Register'!BK$3:BK$242)=TRUE,\"P\",\"A\")","v":"A"},{"$f":"IF(Attendance($C4,'Daily Register'!BL$3:BL$242)=TRUE,\"P\",\"A\")","v":"A"},{"$f":"IF(Attendance($C4,'Daily Register'!BM$3:BM$242)=TRUE,\"P\",\"A\")","v":"A"},{"$f":"IF(Attendance($C4,'Daily Register'!BN$3:BN$242)=TRUE,\"P\",\"A\")","v":"A"},{"$f":"IF(Attendance($C4,'Daily Register'!BO$3:BO$242)=TRUE,\"P\",\"A\")","v":"A"},{"$f":"IF(Attendance($C4,'Daily Register'!BP$3:BP$242)=TRUE,\"P\",\"A\")","v":"A"},{"$f":"IF(Attendance($C4,'Daily Register'!BQ$3:BQ$242)=TRUE,\"P\",\"A\")","v":"A"},{"$f":"IF(Attendance($C4,'Daily Register'!BR$3:BR$242)=TRUE,\"P\",\"A\")","v":"A"},{"$f":"IF(Attendance($C4,'Daily Register'!BS$3:BS$242)=TRUE,\"P\",\"A\")","v":"A"},{"$f":"IF(Attendance($C4,'Daily Register'!BT$3:BT$242)=TRUE,\"P\",\"A\")","v":"A"},{"$f":"IF(Attendance($C4,'Daily Register'!BU$3:BU$242)=TRUE,\"P\",\"A\")","v":"A"},{"$f":"IF(Attendance($C4,'Daily Register'!BV$3:BV$242)=TRUE,\"P\",\"A\")","v":"A"},{"$f":"IF(Attendance($C4,'Daily Register'!BW$3:BW$242)=TRUE,\"P\",\"A\")","v":"A"},{"$f":"IF(Attendance($C4,'Daily Register'!BX$3:BX$242)=TRUE,\"P\",\"A\")","v":"A"},{"$f":"IF(Attendance($C4,'Daily Register'!BY$3:BY$242)=TRUE,\"P\",\"A\")","v":"A"},{"$f":"IF(Attendance($C4,'Daily Register'!BZ$3:BZ$242)=TRUE,\"P\",\"A\")","v":"A"},{"$f":"IF(Attendance($C4,'Daily Register'!CA$3:CA$242)=TRUE,\"P\",\"A\")","v":"A"},{"$f":"IF(Attendance($C4,'Daily Register'!CB$3:CB$242)=TRUE,\"P\",\"A\")","v":"A"},{"$f":"IF(Attendance($C4,'Daily Register'!CC$3:CC$242)=TRUE,\"P\",\"A\")","v":"A"},{"$f":"IF(Attendance($C4,'Daily Register'!CD$3:CD$242)=TRUE,\"P\",\"A\")","v":"A"},{"$f":"IF(Attendance($C4,'Daily Register'!CE$3:CE$242)=TRUE,\"P\",\"A\")","v":"A"},{"$f":"IF(Attendance($C4,'Daily Register'!CF$3:CF$242)=TRUE,\"P\",\"A\")","v":"A"},{"$f":"IF(Attendance($C4,'Daily Register'!CG$3:CG$242)=TRUE,\"P\",\"A\")","v":"A"},{"$f":"IF(Attendance($C4,'Daily Register'!CH$3:CH$242)=TRUE,\"P\",\"A\")","v":"A"},{"$f":"IF(Attendance($C4,'Daily Register'!CI$3:CI$242)=TRUE,\"P\",\"A\")","v":"A"},{"$f":"IF(Attendance($C4,'Daily Register'!CJ$3:CJ$242)=TRUE,\"P\",\"A\")","v":"A"},{"$f":"IF(Attendance($C4,'Daily Register'!CK$3:CK$242)=TRUE,\"P\",\"A\")","v":"A"},{"$f":"IF(Attendance($C4,'Daily Register'!CL$3:CL$242)=TRUE,\"P\",\"A\")","v":"A"},{"$f":"IF(Attendance($C4,'Daily Register'!CM$3:CM$242)=TRUE,\"P\",\"A\")","v":"A"},{"$f":"IF(Attendance($C4,'Daily Register'!CN$3:CN$242)=TRUE,\"P\",\"A\")","v":"A"},{"$f":"IF(Attendance($C4,'Daily Register'!CO$3:CO$242)=TRUE,\"P\",\"A\")","v":"A"},{"$f":"IF(Attendance($C4,'Daily Register'!CP$3:CP$242)=TRUE,\"P\",\"A\")","v":"A"},{"$f":"IF(Attendance($C4,'Daily Register'!CQ$3:CQ$242)=TRUE,\"P\",\"A\")","v":"A"},{"$f":"IF(Attendance($C4,'Daily Register'!CR$3:CR$242)=TRUE,\"P\",\"A\")","v":"A"},{"$f":"IF(Attendance($C4,'Daily Register'!CS$3:CS$242)=TRUE,\"P\",\"A\")","v":"A"},{"$f":"IF(Attendance($C4,'Daily Register'!CT$3:CT$242)=TRUE,\"P\",\"A\")","v":"A"},{"$f":"IF(Attendance($C4,'Daily Register'!CU$3:CU$242)=TRUE,\"P\",\"A\")","v":"A"},{"$f":"IF(Attendance($C4,'Daily Register'!CV$3:CV$242)=TRUE,\"P\",\"A\")","v":"A"},{"$f":"IF(Attendance($C4,'Daily Register'!CW$3:CW$242)=TRUE,\"P\",\"A\")","v":"A"},{"$f":"IF(Attendance($C4,'Daily Register'!CX$3:CX$242)=TRUE,\"P\",\"A\")","v":"A"},{"$f":"IF(Attendance($C4,'Daily Register'!CY$3:CY$242)=TRUE,\"P\",\"A\")","v":"A"},{"$f":"IF(Attendance($C4,'Daily Register'!CZ$3:CZ$242)=TRUE,\"P\",\"A\")","v":"A"},{"$f":"IF(Attendance($C4,'Daily Register'!DA$3:DA$242)=TRUE,\"P\",\"A\")","v":"A"},{"$f":"IF(Attendance($C4,'Daily Register'!DB$3:DB$242)=TRUE,\"P\",\"A\")","v":"A"},{"$f":"IF(Attendance($C4,'Daily Register'!DC$3:DC$242)=TRUE,\"P\",\"A\")","v":"A"},{"$f":"IF(Attendance($C4,'Daily Register'!DD$3:DD$242)=TRUE,\"P\",\"A\")","v":"A"},{"$f":"IF(Attendance($C4,'Daily Register'!DE$3:DE$242)=TRUE,\"P\",\"A\")","v":"A"},{"$f":"IF(Attendance($C4,'Daily Register'!DF$3:DF$242)=TRUE,\"P\",\"A\")","v":"A"},{"$f":"IF(Attendance($C4,'Daily Register'!DG$3:DG$242)=TRUE,\"P\",\"A\")","v":"A"},{"$f":"IF(Attendance($C4,'Daily Register'!DH$3:DH$242)=TRUE,\"P\",\"A\")","v":"A"},{"$f":"IF(Attendance($C4,'Daily Register'!DI$3:DI$242)=TRUE,\"P\",\"A\")","v":"A"},{"$f":"IF(Attendance($C4,'Daily Register'!DJ$3:DJ$242)=TRUE,\"P\",\"A\")","v":"A"},{"$f":"IF(Attendance($C4,'Daily Register'!DK$3:DK$242)=TRUE,\"P\",\"A\")","v":"A"},{"$f":"IF(Attendance($C4,'Daily Register'!DL$3:DL$242)=TRUE,\"P\",\"A\")","v":"A"},{"$f":"IF(Attendance($C4,'Daily Register'!DM$3:DM$242)=TRUE,\"P\",\"A\")","v":"A"},{"$f":"IF(Attendance($C4,'Daily Register'!DN$3:DN$242)=TRUE,\"P\",\"A\")","v":"A"},{"$f":"IF(Attendance($C4,'Daily Register'!DO$3:DO$242)=TRUE,\"P\",\"A\")","v":"A"},{"$f":"IF(Attendance($C4,'Daily Register'!DP$3:DP$242)=TRUE,\"P\",\"A\")","v":"A"},{"$f":"IF(Attendance($C4,'Daily Register'!DQ$3:DQ$242)=TRUE,\"P\",\"A\")","v":"A"},{"$f":"IF(Attendance($C4,'Daily Register'!DR$3:DR$242)=TRUE,\"P\",\"A\")","v":"A"},{"$f":"IF(Attendance($C4,'Daily Register'!DS$3:DS$242)=TRUE,\"P\",\"A\")","v":"A"},{"$f":"IF(Attendance($C4,'Daily Register'!DT$3:DT$242)=TRUE,\"P\",\"A\")","v":"A"},{"$f":"IF(Attendance($C4,'Daily Register'!DU$3:DU$242)=TRUE,\"P\",\"A\")","v":"A"},{"$f":"IF(Attendance($C4,'Daily Register'!DV$3:DV$242)=TRUE,\"P\",\"A\")","v":"A"},{"$f":"IF(Attendance($C4,'Daily Register'!DW$3:DW$242)=TRUE,\"P\",\"A\")","v":"A"},{"$f":"IF(Attendance($C4,'Daily Register'!DX$3:DX$242)=TRUE,\"P\",\"A\")","v":"A"},{"$f":"IF(Attendance($C4,'Daily Register'!DY$3:DY$242)=TRUE,\"P\",\"A\")","v":"A"},{"$f":"IF(Attendance($C4,'Daily Register'!DZ$3:DZ$242)=TRUE,\"P\",\"A\")","v":"A"},{"$f":"IF(Attendance($C4,'Daily Register'!EA$3:EA$242)=TRUE,\"P\",\"A\")","v":"A"},{"$f":"IF(Attendance($C4,'Daily Register'!EB$3:EB$242)=TRUE,\"P\",\"A\")","v":"A"},{"$f":"IF(Attendance($C4,'Daily Register'!EC$3:EC$242)=TRUE,\"P\",\"A\")","v":"A"},{"$f":"IF(Attendance($C4,'Daily Register'!ED$3:ED$242)=TRUE,\"P\",\"A\")","v":"A"},{"$f":"IF(Attendance($C4,'Daily Register'!EE$3:EE$242)=TRUE,\"P\",\"A\")","v":"A"},{"$f":"IF(Attendance($C4,'Daily Register'!EF$3:EF$242)=TRUE,\"P\",\"A\")","v":"A"},{"$f":"IF(Attendance($C4,'Daily Register'!EG$3:EG$242)=TRUE,\"P\",\"A\")","v":"A"},{"$f":"IF(Attendance($C4,'Daily Register'!EH$3:EH$242)=TRUE,\"P\",\"A\")","v":"A"},{"$f":"IF(Attendance($C4,'Daily Register'!EI$3:EI$242)=TRUE,\"P\",\"A\")","v":"A"},{"$f":"IF(Attendance($C4,'Daily Register'!EJ$3:EJ$242)=TRUE,\"P\",\"A\")","v":"A"},{"$f":"IF(Attendance($C4,'Daily Register'!EK$3:EK$242)=TRUE,\"P\",\"A\")","v":"A"},{"$f":"IF(Attendance($C4,'Daily Register'!EL$3:EL$242)=TRUE,\"P\",\"A\")","v":"A"},{"$f":"IF(Attendance($C4,'Daily Register'!EM$22:EM$242)=TRUE,\"P\",\"A\")","v":"A"},{"$f":"IF(Attendance($C4,'Daily Register'!EN$3:EN$242)=TRUE,\"P\",\"A\")","v":"A"},{"$f":"IF(Attendance($C4,'Daily Register'!EO$3:EO$242)=TRUE,\"P\",\"A\")","v":"A"},{"$f":"IF(Attendance($C4,'Daily Register'!EP$3:EP$242)=TRUE,\"P\",\"A\")","v":"A"},{"$f":"IF(Attendance($C4,'Daily Register'!EQ$3:EQ$242)=TRUE,\"P\",\"A\")","v":"A"},{"$f":"IF(Attendance($C4,'Daily Register'!ER$3:ER$242)=TRUE,\"P\",\"A\")","v":"A"},{"$f":"IF(Attendance($C4,'Daily Register'!ES$3:ES$242)=TRUE,\"P\",\"A\")","v":"A"},{"$f":"IF(Attendance($C4,'Daily Register'!ET$3:ET$242)=TRUE,\"P\",\"A\")","v":"A"},{"$f":"IF(Attendance($C4,'Daily Register'!EU$3:EU$242)=TRUE,\"P\",\"A\")","v":"A"},{"$f":"IF(Attendance($C4,'Daily Register'!EV$3:EV$242)=TRUE,\"P\",\"A\")","v":"A"},{"$f":"IF(Attendance($C4,'Daily Register'!EW$3:EW$242)=TRUE,\"P\",\"A\")","v":"A"},{"$f":"IF(Attendance($C4,'Daily Register'!EX$3:EX$242)=TRUE,\"P\",\"A\")","v":"A"},{"$f":"IF(Attendance($C4,'Daily Register'!EY$3:EY$242)=TRUE,\"P\",\"A\")","v":"A"},{"$f":"IF(Attendance($C4,'Daily Register'!EZ$3:EZ$242)=TRUE,\"P\",\"A\")","v":"A"},{"$f":"IF(Attendance($C4,'Daily Register'!FA$3:FA$242)=TRUE,\"P\",\"A\")","v":"A"},{"$f":"IF(Attendance($C4,'Daily Register'!FB$3:FB$242)=TRUE,\"P\",\"A\")","v":"A"},{"$f":"IF(Attendance($C4,'Daily Register'!FC$3:FC$242)=TRUE,\"P\",\"A\")","v":"A"},{"$f":"IF(Attendance($C4,'Daily Register'!FD$3:FD$242)=TRUE,\"P\",\"A\")","v":"A"},{"$f":"IF(Attendance($C4,'Daily Register'!FE$3:FE$242)=TRUE,\"P\",\"A\")","v":"A"},{"$f":"IF(Attendance($C4,'Daily Register'!FF$3:FF$242)=TRUE,\"P\",\"A\")","v":"A"},{"$f":"IF(Attendance($C4,'Daily Register'!FG$3:FG$242)=TRUE,\"P\",\"A\")","v":"A"},{"$f":"IF(Attendance($C4,'Daily Register'!FH$3:FH$242)=TRUE,\"P\",\"A\")","v":"A"},{"$f":"IF(Attendance($C4,'Daily Register'!FI$3:FI$242)=TRUE,\"P\",\"A\")","v":"A"},{"$f":"IF(Attendance($C4,'Daily Register'!FJ$3:FJ$242)=TRUE,\"P\",\"A\")","v":"A"},{"$f":"IF(Attendance($C4,'Daily Register'!FK$3:FK$242)=TRUE,\"P\",\"A\")","v":"A"},{"$f":"IF(Attendance($C4,'Daily Register'!FL$3:FL$242)=TRUE,\"P\",\"A\")","v":"A"},{"$f":"IF(Attendance($C4,'Daily Register'!FM$3:FM$242)=TRUE,\"P\",\"A\")","v":"A"},{"$f":"IF(Attendance($C4,'Daily Register'!FN$3:FN$242)=TRUE,\"P\",\"A\")","v":"A"},{"$f":"IF(Attendance($C4,'Daily Register'!FO$3:FO$242)=TRUE,\"P\",\"A\")","v":"A"},{"$f":"IF(Attendance($C4,'Daily Register'!FP$3:FP$242)=TRUE,\"P\",\"A\")","v":"A"},{"$f":"IF(Attendance($C4,'Daily Register'!FQ$3:FQ$242)=TRUE,\"P\",\"A\")","v":"A"},{"$f":"IF(Attendance($C4,'Daily Register'!FR$3:FR$242)=TRUE,\"P\",\"A\")","v":"A"},{"$f":"IF(Attendance($C4,'Daily Register'!FS$3:FS$242)=TRUE,\"P\",\"A\")","v":"A"},{"$f":"IF(Attendance($C4,'Daily Register'!FT$3:FT$242)=TRUE,\"P\",\"A\")","v":"A"},{"$f":"IF(Attendance($C4,'Daily Register'!FU$3:FU$242)=TRUE,\"P\",\"A\")","v":"A"},{"$f":"IF(Attendance($C4,'Daily Register'!FV$3:FV$242)=TRUE,\"P\",\"A\")","v":"A"},{"$f":"IF(Attendance($C4,'Daily Register'!FW$3:FW$242)=TRUE,\"P\",\"A\")","v":"A"},{"$f":"IF(Attendance($C4,'Daily Register'!FX$3:FX$242)=TRUE,\"P\",\"A\")","v":"A"},{"$f":"IF(Attendance($C4,'Daily Register'!FY$3:FY$242)=TRUE,\"P\",\"A\")","v":"A"},{"$f":"IF(Attendance($C4,'Daily Register'!FZ$3:FZ$242)=TRUE,\"P\",\"A\")","v":"A"},{"$f":"IF(Attendance($C4,'Daily Register'!GA$3:GA$242)=TRUE,\"P\",\"A\")","v":"A"},{"$f":"IF(Attendance($C4,'Daily Register'!GB$3:GB$242)=TRUE,\"P\",\"A\")","v":"A"},{"$f":"IF(Attendance($C4,'Daily Register'!GC$3:GC$242)=TRUE,\"P\",\"A\")","v":"A"},{"$f":"IF(Attendance($C4,'Daily Register'!GD$3:GD$242)=TRUE,\"P\",\"A\")","v":"A"},{"$f":"IF(Attendance($C4,'Daily Register'!GE$3:GE$242)=TRUE,\"P\",\"A\")","v":"A"},{"$f":"IF(Attendance($C4,'Daily Register'!GF$3:GF$242)=TRUE,\"P\",\"A\")","v":"A"},{"$f":"IF(Attendance($C4,'Daily Register'!GG$3:GG$242)=TRUE,\"P\",\"A\")","v":"A"},{"$f":"IF(Attendance($C4,'Daily Register'!GH$3:GH$242)=TRUE,\"P\",\"A\")","v":"A"},{"$f":"IF(Attendance($C4,'Daily Register'!GI$3:GI$242)=TRUE,\"P\",\"A\")","v":"A"},{"$f":"IF(Attendance($C4,'Daily Register'!GJ$3:GJ$242)=TRUE,\"P\",\"A\")","v":"A"},{"$f":"IF(Attendance($C4,'Daily Register'!GK$3:GK$242)=TRUE,\"P\",\"A\")","v":"A"},{"$f":"IF(Attendance($C4,'Daily Register'!GL$3:GL$242)=TRUE,\"P\",\"A\")","v":"A"},{"$f":"IF(Attendance($C4,'Daily Register'!GM$3:GM$242)=TRUE,\"P\",\"A\")","v":"A"},{"$f":"IF(Attendance($C4,'Daily Register'!GN$3:GN$242)=TRUE,\"P\",\"A\")","v":"A"},{"$f":"IF(Attendance($C4,'Daily Register'!GO$3:GO$242)=TRUE,\"P\",\"A\")","v":"A"},{"$f":"IF(Attendance($C4,'Daily Register'!GP$3:GP$242)=TRUE,\"P\",\"A\")","v":"A"},{"$f":"IF(Attendance($C4,'Daily Register'!GQ$3:GQ$242)=TRUE,\"P\",\"A\")","v":"A"},{"$f":"IF(Attendance($C4,'Daily Register'!GR$3:GR$242)=TRUE,\"P\",\"A\")","v":"A"},{"$f":"IF(Attendance($C4,'Daily Register'!GS$3:GS$242)=TRUE,\"P\",\"A\")","v":"A"},{"$f":"IF(Attendance($C4,'Daily Register'!GT$3:GT$242)=TRUE,\"P\",\"A\")","v":"A"},{"$f":"IF(Attendance($C4,'Daily Register'!GU$3:GU$242)=TRUE,\"P\",\"A\")","v":"A"},{"$f":"IF(Attendance($C4,'Daily Register'!GV$3:GV$242)=TRUE,\"P\",\"A\")","v":"A"},{"$f":"IF(Attendance($C4,'Daily Register'!GW$3:GW$242)=TRUE,\"P\",\"A\")","v":"A"},{"$f":"IF(Attendance($C4,'Daily Register'!GX$3:GX$242)=TRUE,\"P\",\"A\")","v":"A"},{"$f":"IF(Attendance($C4,'Daily Register'!GY$3:GY$242)=TRUE,\"P\",\"A\")","v":"A"},{"$f":"IF(Attendance($C4,'Daily Register'!GZ$3:GZ$242)=TRUE,\"P\",\"A\")","v":"A"},{"$f":"IF(Attendance($C4,'Daily Register'!HA$3:HA$242)=TRUE,\"P\",\"A\")","v":"A"},{"$f":"IF(Attendance($C4,'Daily Register'!HB$3:HB$242)=TRUE,\"P\",\"A\")","v":"A"},{"$f":"IF(Attendance($C4,'Daily Register'!HC$3:HC$242)=TRUE,\"P\",\"A\")","v":"A"},{"$f":"IF(Attendance($C4,'Daily Register'!HD$3:HD$242)=TRUE,\"P\",\"A\")","v":"A"},{"$f":"IF(Attendance($C4,'Daily Register'!HE$3:HE$242)=TRUE,\"P\",\"A\")","v":"A"},{"$f":"IF(Attendance($C4,'Daily Register'!HF$3:HF$242)=TRUE,\"P\",\"A\")","v":"A"},{"$f":"IF(Attendance($C4,'Daily Register'!HG$3:HG$242)=TRUE,\"P\",\"A\")","v":"A"},{"$f":"IF(Attendance($C4,'Daily Register'!HH$3:HH$242)=TRUE,\"P\",\"A\")","v":"A"},{"$f":"IF(Attendance($C4,'Daily Register'!HI$3:HI$242)=TRUE,\"P\",\"A\")","v":"A"},{"$f":"IF(Attendance($C4,'Daily Register'!HJ$3:HJ$242)=TRUE,\"P\",\"A\")","v":"A"},{"$f":"IF(Attendance($C4,'Daily Register'!HK$3:HK$242)=TRUE,\"P\",\"A\")","v":"A"},{"$f":"IF(Attendance($C4,'Daily Register'!HL$3:HL$242)=TRUE,\"P\",\"A\")","v":"A"},{"$f":"IF(Attendance($C4,'Daily Register'!HM$3:HM$242)=TRUE,\"P\",\"A\")","v":"A"},{"$f":"IF(Attendance($C4,'Daily Register'!HN$3:HN$242)=TRUE,\"P\",\"A\")","v":"A"},{"$f":"IF(Attendance($C4,'Daily Register'!HO$3:HO$242)=TRUE,\"P\",\"A\")","v":"A"},{"$f":"IF(Attendance($C4,'Daily Register'!HP$3:HP$242)=TRUE,\"P\",\"A\")","v":"A"},{"$f":"IF(Attendance($C4,'Daily Register'!HQ$3:HQ$242)=TRUE,\"P\",\"A\")","v":"A"},{"$f":"IF(Attendance($C4,'Daily Register'!HR$3:HR$242)=TRUE,\"P\",\"A\")","v":"A"},{"$f":"IF(Attendance($C4,'Daily Register'!HS$3:HS$242)=TRUE,\"P\",\"A\")","v":"A"},{"$f":"IF(Attendance($C4,'Daily Register'!HT$3:HT$242)=TRUE,\"P\",\"A\")","v":"A"},{"$f":"IF(Attendance($C4,'Daily Register'!HU$3:HU$242)=TRUE,\"P\",\"A\")","v":"A"},{"$f":"IF(Attendance($C4,'Daily Register'!HV$3:HV$242)=TRUE,\"P\",\"A\")","v":"A"},{"$f":"IF(Attendance($C4,'Daily Register'!HW$3:HW$242)=TRUE,\"P\",\"A\")","v":"A"},{"$f":"IF(Attendance($C4,'Daily Register'!HX$3:HX$242)=TRUE,\"P\",\"A\")","v":"A"},{"$f":"IF(Attendance($C4,'Daily Register'!HY$3:HY$242)=TRUE,\"P\",\"A\")","v":"A"},{"$f":"IF(Attendance($C4,'Daily Register'!HZ$3:HZ$242)=TRUE,\"P\",\"A\")","v":"A"},{"$f":"IF(Attendance($C4,'Daily Register'!IA$3:IA$242)=TRUE,\"P\",\"A\")","v":"A"},{"$f":"IF(Attendance($C4,'Daily Register'!IB$3:IB$242)=TRUE,\"P\",\"A\")","v":"A"},{"$f":"IF(Attendance($C4,'Daily Register'!IC$3:IC$242)=TRUE,\"P\",\"A\")","v":"A"},{"$f":"IF(Attendance($C4,'Daily Register'!ID$3:ID$242)=TRUE,\"P\",\"A\")","v":"A"},{"$f":"IF(Attendance($C4,'Daily Register'!IE$3:IE$242)=TRUE,\"P\",\"A\")","v":"A"},{"$f":"IF(Attendance($C4,'Daily Register'!IF$3:IF$242)=TRUE,\"P\",\"A\")","v":"A"},{"$f":"IF(Attendance($C4,'Daily Register'!IG$3:IG$242)=TRUE,\"P\",\"A\")","v":"A"},{"$f":"IF(Attendance($C4,'Daily Register'!IH$3:IH$242)=TRUE,\"P\",\"A\")","v":"A"},{"$f":"IF(Attendance($C4,'Daily Register'!II$3:II$242)=TRUE,\"P\",\"A\")","v":"A"},{"$f":"IF(Attendance($C4,'Daily Register'!IJ$3:IJ$242)=TRUE,\"P\",\"A\")","v":"A"},{"$f":"IF(Attendance($C4,'Daily Register'!IK$3:IK$242)=TRUE,\"P\",\"A\")","v":"A"},{"$f":"IF(Attendance($C4,'Daily Register'!IL$3:IL$242)=TRUE,\"P\",\"A\")","v":"A"},{"$f":"IF(Attendance($C4,'Daily Register'!IM$3:IM$242)=TRUE,\"P\",\"A\")","v":"A"},{"$f":"IF(Attendance($C4,'Daily Register'!IN$3:IN$242)=TRUE,\"P\",\"A\")","v":"A"},{"$f":"IF(Attendance($C4,'Daily Register'!IO$3:IO$242)=TRUE,\"P\",\"A\")","v":"A"},{"$f":"IF(Attendance($C4,'Daily Register'!IP$3:IP$242)=TRUE,\"P\",\"A\")","v":"A"},{"$f":"IF(Attendance($C4,'Daily Register'!IQ$3:IQ$242)=TRUE,\"P\",\"A\")","v":"A"},{"$f":"IF(Attendance($C4,'Daily Register'!IR$3:IR$242)=TRUE,\"P\",\"A\")","v":"A"},{"$f":"IF(Attendance($C4,'Daily Register'!IS$3:IS$242)=TRUE,\"P\",\"A\")","v":"A"},{"$f":"IF(Attendance($C4,'Daily Register'!IT$3:IT$242)=TRUE,\"P\",\"A\")","v":"A"},{"$f":"IF(Attendance($C4,'Daily Register'!IU$3:IU$242)=TRUE,\"P\",\"A\")","v":"A"},{"$f":"IF(Attendance($C4,'Daily Register'!IV$3:IV$242)=TRUE,\"P\",\"A\")","v":"A"},{"$f":"IF(Attendance($C4,'Daily Register'!IW$3:IW$242)=TRUE,\"P\",\"A\")","v":"A"},{"$f":"IF(Attendance($C4,'Daily Register'!IX$3:IX$242)=TRUE,\"P\",\"A\")","v":"A"},{"$f":"IF(Attendance($C4,'Daily Register'!IY$3:IY$242)=TRUE,\"P\",\"A\")","v":"A"},{"$f":"IF(Attendance($C4,'Daily Register'!IZ$3:IZ$242)=TRUE,\"P\",\"A\")","v":"A"},{"$f":"IF(Attendance($C4,'Daily Register'!JA$3:JA$242)=TRUE,\"P\",\"A\")","v":"A"},{"$f":"IF(Attendance($C4,'Daily Register'!JB$3:JB$242)=TRUE,\"P\",\"A\")","v":"A"},{"$f":"IF(Attendance($C4,'Daily Register'!JC$3:JC$242)=TRUE,\"P\",\"A\")","v":"A"},{"$f":"IF(Attendance($C4,'Daily Register'!JD$3:JD$242)=TRUE,\"P\",\"A\")","v":"A"},{"$f":"IF(Attendance($C4,'Daily Register'!JE$3:JE$242)=TRUE,\"P\",\"A\")","v":"A"},{"$f":"IF(Attendance($C4,'Daily Register'!JF$3:JF$242)=TRUE,\"P\",\"A\")","v":"A"},{"$f":"IF(Attendance($C4,'Daily Register'!JG$3:JG$242)=TRUE,\"P\",\"A\")","v":"A"},{"$f":"IF(Attendance($C4,'Daily Register'!JH$3:JH$242)=TRUE,\"P\",\"A\")","v":"A"},{"$f":"IF(Attendance($C4,'Daily Register'!JI$3:JI$242)=TRUE,\"P\",\"A\")","v":"A"},{"$f":"IF(Attendance($C4,'Daily Register'!JJ$3:JJ$242)=TRUE,\"P\",\"A\")","v":"A"},{"$f":"IF(Attendance($C4,'Daily Register'!JK$3:JK$242)=TRUE,\"P\",\"A\")","v":"A"},{"$f":"IF(Attendance($C4,'Daily Register'!JL$3:JL$242)=TRUE,\"P\",\"A\")","v":"A"},{"$f":"IF(Attendance($C4,'Daily Register'!JM$3:JM$242)=TRUE,\"P\",\"A\")","v":"A"},{"$f":"IF(Attendance($C4,'Daily Register'!JN$3:JN$242)=TRUE,\"P\",\"A\")","v":"A"},{"$f":"IF(Attendance($C4,'Daily Register'!JO$3:JO$242)=TRUE,\"P\",\"A\")","v":"A"},{"$f":"IF(Attendance($C4,'Daily Register'!JP$3:JP$242)=TRUE,\"P\",\"A\")","v":"A"},{"$f":"IF(Attendance($C4,'Daily Register'!JQ$3:JQ$242)=TRUE,\"P\",\"A\")","v":"A"},{"$f":"IF(Attendance($C4,'Daily Register'!JR$3:JR$242)=TRUE,\"P\",\"A\")","v":"A"},{"$f":"IF(Attendance($C4,'Daily Register'!JS$3:JS$242)=TRUE,\"P\",\"A\")","v":"A"},{"$f":"IF(Attendance($C4,'Daily Register'!JT$3:JT$242)=TRUE,\"P\",\"A\")","v":"A"},{"$f":"IF(Attendance($C4,'Daily Register'!JU$3:JU$242)=TRUE,\"P\",\"A\")","v":"A"},{"$f":"IF(Attendance($C4,'Daily Register'!JV$3:JV$242)=TRUE,\"P\",\"A\")","v":"A"},{"$f":"IF(Attendance($C4,'Daily Register'!JW$3:JW$242)=TRUE,\"P\",\"A\")","v":"A"},{"$f":"IF(Attendance($C4,'Daily Register'!JX$3:JX$242)=TRUE,\"P\",\"A\")","v":"A"},{"$f":"IF(Attendance($C4,'Daily Register'!JY$3:JY$242)=TRUE,\"P\",\"A\")","v":"A"},{"$f":"IF(Attendance($C4,'Daily Register'!JZ$3:JZ$242)=TRUE,\"P\",\"A\")","v":"A"},{"$f":"IF(Attendance($C4,'Daily Register'!KA$3:KA$242)=TRUE,\"P\",\"A\")","v":"A"},{"$f":"IF(Attendance($C4,'Daily Register'!KB$3:KB$242)=TRUE,\"P\",\"A\")","v":"A"},{"$f":"IF(Attendance($C4,'Daily Register'!KC$3:KC$242)=TRUE,\"P\",\"A\")","v":"A"},{"$f":"IF(Attendance($C4,'Daily Register'!KD$3:KD$242)=TRUE,\"P\",\"A\")","v":"A"},{"$f":"IF(Attendance($C4,'Daily Register'!KE$3:KE$242)=TRUE,\"P\",\"A\")","v":"A"},{"$f":"IF(Attendance($C4,'Daily Register'!KF$3:KF$242)=TRUE,\"P\",\"A\")","v":"A"},{"$f":"IF(Attendance($C4,'Daily Register'!KG$3:KG$242)=TRUE,\"P\",\"A\")","v":"A"},{"$f":"IF(Attendance($C4,'Daily Register'!KH$3:KH$242)=TRUE,\"P\",\"A\")","v":"A"},{"$f":"IF(Attendance($C4,'Daily Register'!KI$3:KI$242)=TRUE,\"P\",\"A\")","v":"A"},{"$f":"IF(Attendance($C4,'Daily Register'!KJ$3:KJ$242)=TRUE,\"P\",\"A\")","v":"A"},{"$f":"IF(Attendance($C4,'Daily Register'!KK$3:KK$242)=TRUE,\"P\",\"A\")","v":"A"},{"$f":"IF(Attendance($C4,'Daily Register'!KL$3:KL$242)=TRUE,\"P\",\"A\")","v":"A"},{"$f":"IF(Attendance($C4,'Daily Register'!KM$3:KM$242)=TRUE,\"P\",\"A\")","v":"A"},{"$f":"IF(Attendance($C4,'Daily Register'!KN$3:KN$242)=TRUE,\"P\",\"A\")","v":"A"},{"$f":"IF(Attendance($C4,'Daily Register'!KO$3:KO$242)=TRUE,\"P\",\"A\")","v":"A"},{"$f":"IF(Attendance($C4,'Daily Register'!KP$3:KP$242)=TRUE,\"P\",\"A\")","v":"A"},{"$f":"IF(Attendance($C4,'Daily Register'!KQ$3:KQ$242)=TRUE,\"P\",\"A\")","v":"A"},{"$f":"IF(Attendance($C4,'Daily Register'!KR$3:KR$242)=TRUE,\"P\",\"A\")","v":"A"},{"$f":"IF(Attendance($C4,'Daily Register'!KS$3:KS$242)=TRUE,\"P\",\"A\")","v":"A"},{"$f":"IF(Attendance($C4,'Daily Register'!KT$3:KT$242)=TRUE,\"P\",\"A\")","v":"A"},{"$f":"IF(Attendance($C4,'Daily Register'!KU$3:KU$242)=TRUE,\"P\",\"A\")","v":"A"},{"$f":"IF(Attendance($C4,'Daily Register'!KV$3:KV$242)=TRUE,\"P\",\"A\")","v":"A"},{"$f":"IF(Attendance($C4,'Daily Register'!KW$3:KW$242)=TRUE,\"P\",\"A\")","v":"A"},{"$f":"IF(Attendance($C4,'Daily Register'!KX$3:KX$242)=TRUE,\"P\",\"A\")","v":"A"},{"$f":"IF(Attendance($C4,'Daily Register'!KY$3:KY$242)=TRUE,\"P\",\"A\")","v":"A"},{"$f":"IF(Attendance($C4,'Daily Register'!KZ$3:KZ$242)=TRUE,\"P\",\"A\")","v":"A"},{"$f":"IF(Attendance($C4,'Daily Register'!LA$3:LA$242)=TRUE,\"P\",\"A\")","v":"A"},{"$f":"IF(Attendance($C4,'Daily Register'!LB$3:LB$242)=TRUE,\"P\",\"A\")","v":"A"},{"$f":"IF(Attendance($C4,'Daily Register'!LC$3:LC$242)=TRUE,\"P\",\"A\")","v":"A"},{"$f":"IF(Attendance($C4,'Daily Register'!LD$3:LD$242)=TRUE,\"P\",\"A\")","v":"A"},{"$f":"IF(Attendance($C4,'Daily Register'!LE$3:LE$242)=TRUE,\"P\",\"A\")","v":"A"},{"$f":"IF(Attendance($C4,'Daily Register'!LF$3:LF$242)=TRUE,\"P\",\"A\")","v":"A"},{"$f":"IF(Attendance($C4,'Daily Register'!LG$3:LG$242)=TRUE,\"P\",\"A\")","v":"A"},{"$f":"IF(Attendance($C4,'Daily Register'!LH$3:LH$242)=TRUE,\"P\",\"A\")","v":"A"},{"$f":"IF(Attendance($C4,'Daily Register'!LI$3:LI$242)=TRUE,\"P\",\"A\")","v":"A"},{"$f":"IF(Attendance($C4,'Daily Register'!LJ$3:LJ$242)=TRUE,\"P\",\"A\")","v":"A"},{"$f":"IF(Attendance($C4,'Daily Register'!LK$3:LK$242)=TRUE,\"P\",\"A\")","v":"A"},{"$f":"IF(Attendance($C4,'Daily Register'!LL$3:LL$242)=TRUE,\"P\",\"A\")","v":"A"},{"$f":"IF(Attendance($C4,'Daily Register'!LM$3:LM$242)=TRUE,\"P\",\"A\")","v":"A"},{"$f":"IF(Attendance($C4,'Daily Register'!LN$3:LN$242)=TRUE,\"P\",\"A\")","v":"A"},{"$f":"IF(Attendance($C4,'Daily Register'!LO$3:LO$242)=TRUE,\"P\",\"A\")","v":"A"},{"$f":"IF(Attendance($C4,'Daily Register'!LP$3:LP$242)=TRUE,\"P\",\"A\")","v":"A"},{"$f":"IF(Attendance($C4,'Daily Register'!LQ$3:LQ$242)=TRUE,\"P\",\"A\")","v":"A"},{"$f":"IF(Attendance($C4,'Daily Register'!LR$3:LR$242)=TRUE,\"P\",\"A\")","v":"A"},{"$f":"IF(Attendance($C4,'Daily Register'!LS$3:LS$242)=TRUE,\"P\",\"A\")","v":"A"},{"$f":"IF(Attendance($C4,'Daily Register'!LT$3:LT$242)=TRUE,\"P\",\"A\")","v":"A"},{"$f":"IF(Attendance($C4,'Daily Register'!LU$3:LU$242)=TRUE,\"P\",\"A\")","v":"A"},{"$f":"IF(Attendance($C4,'Daily Register'!LV$3:LV$242)=TRUE,\"P\",\"A\")","v":"A"},{"$f":"IF(Attendance($C4,'Daily Register'!LW$3:LW$242)=TRUE,\"P\",\"A\")","v":"A"},{"$f":"IF(Attendance($C4,'Daily Register'!LX$3:LX$242)=TRUE,\"P\",\"A\")","v":"A"},{"$f":"IF(Attendance($C4,'Daily Register'!LY$3:LY$242)=TRUE,\"P\",\"A\")","v":"A"},{"$f":"IF(Attendance($C4,'Daily Register'!LZ$3:LZ$242)=TRUE,\"P\",\"A\")","v":"A"},{"$f":"IF(Attendance($C4,'Daily Register'!MA$3:MA$242)=TRUE,\"P\",\"A\")","v":"A"},{"$f":"IF(Attendance($C4,'Daily Register'!MB$3:MB$242)=TRUE,\"P\",\"A\")","v":"A"},{"$f":"IF(Attendance($C4,'Daily Register'!MC$3:MC$242)=TRUE,\"P\",\"A\")","v":"A"},{"$f":"IF(Attendance($C4,'Daily Register'!MD$3:MD$242)=TRUE,\"P\",\"A\")","v":"A"},{"$f":"IF(Attendance($C4,'Daily Register'!ME$3:ME$242)=TRUE,\"P\",\"A\")","v":"A"},{"$f":"IF(Attendance($C4,'Daily Register'!MF$3:MF$242)=TRUE,\"P\",\"A\")","v":"A"},{"$f":"IF(Attendance($C4,'Daily Register'!MG$3:MG$242)=TRUE,\"P\",\"A\")","v":"A"},{"$f":"IF(Attendance($C4,'Daily Register'!MH$3:MH$242)=TRUE,\"P\",\"A\")","v":"A"},{"$f":"IF(Attendance($C4,'Daily Register'!MI$3:MI$242)=TRUE,\"P\",\"A\")","v":"A"},{"$f":"IF(Attendance($C4,'Daily Register'!MJ$3:MJ$242)=TRUE,\"P\",\"A\")","v":"A"},{"$f":"IF(Attendance($C4,'Daily Register'!MK$3:MK$242)=TRUE,\"P\",\"A\")","v":"A"},{"$f":"IF(Attendance($C4,'Daily Register'!ML$3:ML$242)=TRUE,\"P\",\"A\")","v":"A"},{"$f":"IF(Attendance($C4,'Daily Register'!MM$3:MM$242)=TRUE,\"P\",\"A\")","v":"A"},{"$f":"IF(Attendance($C4,'Daily Register'!MN$3:MN$242)=TRUE,\"P\",\"A\")","v":"A"},{"$f":"IF(Attendance($C4,'Daily Register'!MO$3:MO$242)=TRUE,\"P\",\"A\")","v":"A"},{"$f":"IF(Attendance($C4,'Daily Register'!MP$3:MP$242)=TRUE,\"P\",\"A\")","v":"A"},{"$f":"IF(Attendance($C4,'Daily Register'!MQ$3:MQ$242)=TRUE,\"P\",\"A\")","v":"A"},{"$f":"IF(Attendance($C4,'Daily Register'!MR$3:MR$242)=TRUE,\"P\",\"A\")","v":"A"},{"$f":"IF(Attendance($C4,'Daily Register'!MS$3:MS$242)=TRUE,\"P\",\"A\")","v":"A"},{"$f":"IF(Attendance($C4,'Daily Register'!MT$3:MT$242)=TRUE,\"P\",\"A\")","v":"A"},{"$f":"IF(Attendance($C4,'Daily Register'!MU$3:MU$242)=TRUE,\"P\",\"A\")","v":"A"},{"$f":"IF(Attendance($C4,'Daily Register'!MV$3:MV$242)=TRUE,\"P\",\"A\")","v":"A"},{"$f":"IF(Attendance($C4,'Daily Register'!MW$3:MW$242)=TRUE,\"P\",\"A\")","v":"A"},{"$f":"IF(Attendance($C4,'Daily Register'!MX$3:MX$242)=TRUE,\"P\",\"A\")","v":"A"},{"$f":"IF(Attendance($C4,'Daily Register'!MY$3:MY$242)=TRUE,\"P\",\"A\")","v":"A"},{"$f":"IF(Attendance($C4,'Daily Register'!MZ$3:MZ$242)=TRUE,\"P\",\"A\")","v":"A"},{"$f":"IF(Attendance($C4,'Daily Register'!NA$3:NA$242)=TRUE,\"P\",\"A\")","v":"A"},{"$f":"IF(Attendance($C4,'Daily Register'!NB$3:NB$242)=TRUE,\"P\",\"A\")","v":"A"}]
[{"$f":"COUNTIF(E5:NF5,\"P\")","v":0},null,2,null,{"$f":"IF(Attendance($C5,'Daily Register'!A$3:A$242)=TRUE,\"P\",\"A\")","v":"A"},{"$f":"IF(Attendance($C5,'Daily Register'!B$3:B$242)=TRUE,\"P\",\"A\")","v":"A"},{"$f":"IF(Attendance($C5,'Daily Register'!C$3:C$242)=TRUE,\"P\",\"A\")","v":"A"},{"$f":"IF(Attendance($C5,'Daily Register'!D$3:D$242)=TRUE,\"P\",\"A\")","v":"A"},{"$f":"IF(Attendance($C5,'Daily Register'!E$3:E$242)=TRUE,\"P\",\"A\")","v":"A"},{"$f":"IF(Attendance($C5,'Daily Register'!F$3:F$242)=TRUE,\"P\",\"A\")","v":"A"},{"$f":"IF(Attendance($C5,'Daily Register'!G$3:G$242)=TRUE,\"P\",\"A\")","v":"A"},{"$f":"IF(Attendance($C5,'Daily Register'!H$3:H$242)=TRUE,\"P\",\"A\")","v":"A"},{"$f":"IF(Attendance($C5,'Daily Register'!I$3:I$242)=TRUE,\"P\",\"A\")","v":"A"},{"$f":"IF(Attendance($C5,'Daily Register'!J$3:J$242)=TRUE,\"P\",\"A\")","v":"A"},{"$f":"IF(Attendance($C5,'Daily Register'!K$3:K$242)=TRUE,\"P\",\"A\")","v":"A"},{"$f":"IF(Attendance($C5,'Daily Register'!L$3:L$242)=TRUE,\"P\",\"A\")","v":"A"},{"$f":"IF(Attendance($C5,'Daily Register'!M$3:M$242)=TRUE,\"P\",\"A\")","v":"A"},{"$f":"IF(Attendance($C5,'Daily Register'!N$3:N$242)=TRUE,\"P\",\"A\")","v":"A"},{"$f":"IF(Attendance($C5,'Daily Register'!O$3:O$242)=TRUE,\"P\",\"A\")","v":"A"},{"$f":"IF(Attendance($C5,'Daily Register'!P$3:P$242)=TRUE,\"P\",\"A\")","v":"A"},{"$f":"IF(Attendance($C5,'Daily Register'!Q$3:Q$242)=TRUE,\"P\",\"A\")","v":"A"},{"$f":"IF(Attendance($C5,'Daily Register'!R$3:R$242)=TRUE,\"P\",\"A\")","v":"A"},{"$f":"IF(Attendance($C5,'Daily Register'!S$3:S$242)=TRUE,\"P\",\"A\")","v":"A"},{"$f":"IF(Attendance($C5,'Daily Register'!T$3:T$242)=TRUE,\"P\",\"A\")","v":"A"},{"$f":"IF(Attendance($C5,'Daily Register'!U$3:U$242)=TRUE,\"P\",\"A\")","v":"A"},{"$f":"IF(Attendance($C5,'Daily Register'!V$3:V$242)=TRUE,\"P\",\"A\")","v":"A"},{"$f":"IF(Attendance($C5,'Daily Register'!W$3:W$242)=TRUE,\"P\",\"A\")","v":"A"},{"$f":"IF(Attendance($C5,'Daily Register'!X$3:X$242)=TRUE,\"P\",\"A\")","v":"A"},{"$f":"IF(Attendance($C5,'Daily Register'!Y$3:Y$242)=TRUE,\"P\",\"A\")","v":"A"},{"$f":"IF(Attendance($C5,'Daily Register'!Z$3:Z$242)=TRUE,\"P\",\"A\")","v":"A"},{"$f":"IF(Attendance($C5,'Daily Register'!AA$3:AA$242)=TRUE,\"P\",\"A\")","v":"A"},{"$f":"IF(Attendance($C5,'Daily Register'!AB$3:AB$242)=TRUE,\"P\",\"A\")","v":"A"},{"$f":"IF(Attendance($C5,'Daily Register'!AC$3:AC$242)=TRUE,\"P\",\"A\")","v":"A"},{"$f":"IF(Attendance($C5,'Daily Register'!AD$3:AD$242)=TRUE,\"P\",\"A\")","v":"A"},{"$f":"IF(Attendance($C5,'Daily Register'!AE$3:AE$242)=TRUE,\"P\",\"A\")","v":"A"},{"$f":"IF(Attendance($C5,'Daily Register'!AF$3:AF$242)=TRUE,\"P\",\"A\")","v":"A"},{"$f":"IF(Attendance($C5,'Daily Register'!AG$3:AG$242)=TRUE,\"P\",\"A\")","v":"A"},{"$f":"IF(Attendance($C5,'Daily Register'!AH$3:AH$242)=TRUE,\"P\",\"A\")","v":"A"},{"$f":"IF(Attendance($C5,'Daily Register'!AI$3:AI$242)=TRUE,\"P\",\"A\")","v":"A"},{"$f":"IF(Attendance($C5,'Daily Register'!AJ$3:AJ$242)=TRUE,\"P\",\"A\")","v":"A"},{"$f":"IF(Attendance($C5,'Daily Register'!AK$3:AK$242)=TRUE,\"P\",\"A\")","v":"A"},{"$f":"IF(Attendance($C5,'Daily Register'!AL$3:AL$242)=TRUE,\"P\",\"A\")","v":"A"},{"$f":"IF(Attendance($C5,'Daily Register'!AM$3:AM$242)=TRUE,\"P\",\"A\")","v":"A"},{"$f":"IF(Attendance($C5,'Daily Register'!AN$3:AN$242)=TRUE,\"P\",\"A\")","v":"A"},{"$f":"IF(Attendance($C5,'Daily Register'!AO$3:AO$242)=TRUE,\"P\",\"A\")","v":"A"},{"$f":"IF(Attendance($C5,'Daily Register'!AP$3:AP$242)=TRUE,\"P\",\"A\")","v":"A"},{"$f":"IF(Attendance($C5,'Daily Register'!AQ$3:AQ$242)=TRUE,\"P\",\"A\")","v":"A"},{"$f":"IF(Attendance($C5,'Daily Register'!AR$3:AR$242)=TRUE,\"P\",\"A\")","v":"A"},{"$f":"IF(Attendance($C5,'Daily Register'!AS$3:AS$242)=TRUE,\"P\",\"A\")","v":"A"},{"$f":"IF(Attendance($C5,'Daily Register'!AT$3:AT$242)=TRUE,\"P\",\"A\")","v":"A"},{"$f":"IF(Attendance($C5,'Daily Register'!AU$3:AU$242)=TRUE,\"P\",\"A\")","v":"A"},{"$f":"IF(Attendance($C5,'Daily Register'!AV$3:AV$242)=TRUE,\"P\",\"A\")","v":"A"},{"$f":"IF(Attendance($C5,'Daily Register'!AW$3:AW$242)=TRUE,\"P\",\"A\")","v":"A"},{"$f":"IF(Attendance($C5,'Daily Register'!AX$3:AX$242)=TRUE,\"P\",\"A\")","v":"A"},{"$f":"IF(Attendance($C5,'Daily Register'!AY$3:AY$242)=TRUE,\"P\",\"A\")","v":"A"},{"$f":"IF(Attendance($C5,'Daily Register'!AZ$3:AZ$242)=TRUE,\"P\",\"A\")","v":"A"},{"$f":"IF(Attendance($C5,'Daily Register'!BA$3:BA$242)=TRUE,\"P\",\"A\")","v":"A"},{"$f":"IF(Attendance($C5,'Daily Register'!BB$3:BB$242)=TRUE,\"P\",\"A\")","v":"A"},{"$f":"IF(Attendance($C5,'Daily Register'!BC$3:BC$242)=TRUE,\"P\",\"A\")","v":"A"},{"$f":"IF(Attendance($C5,'Daily Register'!BD$3:BD$242)=TRUE,\"P\",\"A\")","v":"A"},{"$f":"IF(Attendance($C5,'Daily Register'!BE$3:BE$242)=TRUE,\"P\",\"A\")","v":"A"},{"$f":"IF(Attendance($C5,'Daily Register'!BF$3:BF$242)=TRUE,\"P\",\"A\")","v":"A"},{"$f":"IF(Attendance($C5,'Daily Register'!BG$3:BG$242)=TRUE,\"P\",\"A\")","v":"A"},{"$f":"IF(Attendance($C5,'Daily Register'!BH$3:BH$242)=TRUE,\"P\",\"A\")","v":"A"},{"$f":"IF(Attendance($C5,'Daily Register'!BI$3:BI$242)=TRUE,\"P\",\"A\")","v":"A"},{"$f":"IF(Attendance($C5,'Daily Register'!BJ$3:BJ$242)=TRUE,\"P\",\"A\")","v":"A"},{"$f":"IF(Attendance($C5,'Daily Register'!BK$3:BK$242)=TRUE,\"P\",\"A\")","v":"A"},{"$f":"IF(Attendance($C5,'Daily Register'!BL$3:BL$242)=TRUE,\"P\",\"A\")","v":"A"},{"$f":"IF(Attendance($C5,'Daily Register'!BM$3:BM$242)=TRUE,\"P\",\"A\")","v":"A"},{"$f":"IF(Attendance($C5,'Daily Register'!BN$3:BN$242)=TRUE,\"P\",\"A\")","v":"A"},{"$f":"IF(Attendance($C5,'Daily Register'!BO$3:BO$242)=TRUE,\"P\",\"A\")","v":"A"},{"$f":"IF(Attendance($C5,'Daily Register'!BP$3:BP$242)=TRUE,\"P\",\"A\")","v":"A"},{"$f":"IF(Attendance($C5,'Daily Register'!BQ$3:BQ$242)=TRUE,\"P\",\"A\")","v":"A"},{"$f":"IF(Attendance($C5,'Daily Register'!BR$3:BR$242)=TRUE,\"P\",\"A\")","v":"A"},{"$f":"IF(Attendance($C5,'Daily Register'!BS$3:BS$242)=TRUE,\"P\",\"A\")","v":"A"},{"$f":"IF(Attendance($C5,'Daily Register'!BT$3:BT$242)=TRUE,\"P\",\"A\")","v":"A"},{"$f":"IF(Attendance($C5,'Daily Register'!BU$3:BU$242)=TRUE,\"P\",\"A\")","v":"A"},{"$f":"IF(Attendance($C5,'Daily Register'!BV$3:BV$242)=TRUE,\"P\",\"A\")","v":"A"},{"$f":"IF(Attendance($C5,'Daily Register'!BW$3:BW$242)=TRUE,\"P\",\"A\")","v":"A"},{"$f":"IF(Attendance($C5,'Daily Register'!BX$3:BX$242)=TRUE,\"P\",\"A\")","v":"A"},{"$f":"IF(Attendance($C5,'Daily Register'!BY$3:BY$242)=TRUE,\"P\",\"A\")","v":"A"},{"$f":"IF(Attendance($C5,'Daily Register'!BZ$3:BZ$242)=TRUE,\"P\",\"A\")","v":"A"},{"$f":"IF(Attendance($C5,'Daily Register'!CA$3:CA$242)=TRUE,\"P\",\"A\")","v":"A"},{"$f":"IF(Attendance($C5,'Daily Register'!CB$3:CB$242)=TRUE,\"P\",\"A\")","v":"A"},{"$f":"IF(Attendance($C5,'Daily Register'!CC$3:CC$242)=TRUE,\"P\",\"A\")","v":"A"},{"$f":"IF(Attendance($C5,'Daily Register'!CD$3:CD$242)=TRUE,\"P\",\"A\")","v":"A"},{"$f":"IF(Attendance($C5,'Daily Register'!CE$3:CE$242)=TRUE,\"P\",\"A\")","v":"A"},{"$f":"IF(Attendance($C5,'Daily Register'!CF$3:CF$242)=TRUE,\"P\",\"A\")","v":"A"},{"$f":"IF(Attendance($C5,'Daily Register'!CG$3:CG$242)=TRUE,\"P\",\"A\")","v":"A"},{"$f":"IF(Attendance($C5,'Daily Register'!CH$3:CH$242)=TRUE,\"P\",\"A\")","v":"A"},{"$f":"IF(Attendance($C5,'Daily Register'!CI$3:CI$242)=TRUE,\"P\",\"A\")","v":"A"},{"$f":"IF(Attendance($C5,'Daily Register'!CJ$3:CJ$242)=TRUE,\"P\",\"A\")","v":"A"},{"$f":"IF(Attendance($C5,'Daily Register'!CK$3:CK$242)=TRUE,\"P\",\"A\")","v":"A"},{"$f":"IF(Attendance($C5,'Daily Register'!CL$3:CL$242)=TRUE,\"P\",\"A\")","v":"A"},{"$f":"IF(Attendance($C5,'Daily Register'!CM$3:CM$242)=TRUE,\"P\",\"A\")","v":"A"},{"$f":"IF(Attendance($C5,'Daily Register'!CN$3:CN$242)=TRUE,\"P\",\"A\")","v":"A"},{"$f":"IF(Attendance($C5,'Daily Register'!CO$3:CO$242)=TRUE,\"P\",\"A\")","v":"A"},{"$f":"IF(Attendance($C5,'Daily Register'!CP$3:CP$242)=TRUE,\"P\",\"A\")","v":"A"},{"$f":"IF(Attendance($C5,'Daily Register'!CQ$3:CQ$242)=TRUE,\"P\",\"A\")","v":"A"},{"$f":"IF(Attendance($C5,'Daily Register'!CR$3:CR$242)=TRUE,\"P\",\"A\")","v":"A"},{"$f":"IF(Attendance($C5,'Daily Register'!CS$3:CS$242)=TRUE,\"P\",\"A\")","v":"A"},{"$f":"IF(Attendance($C5,'Daily Register'!CT$3:CT$242)=TRUE,\"P\",\"A\")","v":"A"},{"$f":"IF(Attendance($C5,'Daily Register'!CU$3:CU$242)=TRUE,\"P\",\"A\")","v":"A"},{"$f":"IF(Attendance($C5,'Daily Register'!CV$3:CV$242)=TRUE,\"P\",\"A\")","v":"A"},{"$f":"IF(Attendance($C5,'Daily Register'!CW$3:CW$242)=TRUE,\"P\",\"A\")","v":"A"},{"$f":"IF(Attendance($C5,'Daily Register'!CX$3:CX$242)=TRUE,\"P\",\"A\")","v":"A"},{"$f":"IF(Attendance($C5,'Daily Register'!CY$3:CY$242)=TRUE,\"P\",\"A\")","v":"A"},{"$f":"IF(Attendance($C5,'Daily Register'!CZ$3:CZ$242)=TRUE,\"P\",\"A\")","v":"A"},{"$f":"IF(Attendance($C5,'Daily Register'!DA$3:DA$242)=TRUE,\"P\",\"A\")","v":"A"},{"$f":"IF(Attendance($C5,'Daily Register'!DB$3:DB$242)=TRUE,\"P\",\"A\")","v":"A"},{"$f":"IF(Attendance($C5,'Daily Register'!DC$3:DC$242)=TRUE,\"P\",\"A\")","v":"A"},{"$f":"IF(Attendance($C5,'Daily Register'!DD$3:DD$242)=TRUE,\"P\",\"A\")","v":"A"},{"$f":"IF(Attendance($C5,'Daily Register'!DE$3:DE$242)=TRUE,\"P\",\"A\")","v":"A"},{"$f":"IF(Attendance($C5,'Daily Register'!DF$3:DF$242)=TRUE,\"P\",\"A\")","v":"A"},{"$f":"IF(Attendance($C5,'Daily Register'!DG$3:DG$242)=TRUE,\"P\",\"A\")","v":"A"},{"$f":"IF(Attendance($C5,'Daily Register'!DH$3:DH$242)=TRUE,\"P\",\"A\")","v":"A"},{"$f":"IF(Attendance($C5,'Daily Register'!DI$3:DI$242)=TRUE,\"P\",\"A\")","v":"A"},{"$f":"IF(Attendance($C5,'Daily Register'!DJ$3:DJ$242)=TRUE,\"P\",\"A\")","v":"A"},{"$f":"IF(Attendance($C5,'Daily Register'!DK$3:DK$242)=TRUE,\"P\",\"A\")","v":"A"},{"$f":"IF(Attendance($C5,'Daily Register'!DL$3:DL$242)=TRUE,\"P\",\"A\")","v":"A"},{"$f":"IF(Attendance($C5,'Daily Register'!DM$3:DM$242)=TRUE,\"P\",\"A\")","v":"A"},{"$f":"IF(Attendance($C5,'Daily Register'!DN$3:DN$242)=TRUE,\"P\",\"A\")","v":"A"},{"$f":"IF(Attendance($C5,'Daily Register'!DO$3:DO$242)=TRUE,\"P\",\"A\")","v":"A"},{"$f":"IF(Attendance($C5,'Daily Register'!DP$3:DP$242)=TRUE,\"P\",\"A\")","v":"A"},{"$f":"IF(Attendance($C5,'Daily Register'!DQ$3:DQ$242)=TRUE,\"P\",\"A\")","v":"A"},{"$f":"IF(Attendance($C5,'Daily Register'!DR$3:DR$242)=TRUE,\"P\",\"A\")","v":"A"},{"$f":"IF(Attendance($C5,'Daily Register'!DS$3:DS$242)=TRUE,\"P\",\"A\")","v":"A"},{"$f":"IF(Attendance($C5,'Daily Register'!DT$3:DT$242)=TRUE,\"P\",\"A\")","v":"A"},{"$f":"IF(Attendance($C5,'Daily Register'!DU$3:DU$242)=TRUE,\"P\",\"A\")","v":"A"},{"$f":"IF(Attendance($C5,'Daily Register'!DV$3:DV$242)=TRUE,\"P\",\"A\")","v":"A"},{"$f":"IF(Attendance($C5,'Daily Register'!DW$3:DW$242)=TRUE,\"P\",\"A\")","v":"A"},{"$f":"IF(Attendance($C5,'Daily Register'!DX$3:DX$242)=TRUE,\"P\",\"A\")","v":"A"},{"$f":"IF(Attendance($C5,'Daily Register'!DY$3:DY$242)=TRUE,\"P\",\"A\")","v":"A"},{"$f":"IF(Attendance($C5,'Daily Register'!DZ$3:DZ$242)=TRUE,\"P\",\"A\")","v":"A"},{"$f":"IF(Attendance($C5,'Daily Register'!EA$3:EA$242)=TRUE,\"P\",\"A\")","v":"A"},{"$f":"IF(Attendance($C5,'Daily Register'!EB$3:EB$242)=TRUE,\"P\",\"A\")","v":"A"},{"$f":"IF(Attendance($C5,'Daily Register'!EC$3:EC$242)=TRUE,\"P\",\"A\")","v":"A"},{"$f":"IF(Attendance($C5,'Daily Register'!ED$3:ED$242)=TRUE,\"P\",\"A\")","v":"A"},{"$f":"IF(Attendance($C5,'Daily Register'!EE$3:EE$242)=TRUE,\"P\",\"A\")","v":"A"},{"$f":"IF(Attendance($C5,'Daily Register'!EF$3:EF$242)=TRUE,\"P\",\"A\")","v":"A"},{"$f":"IF(Attendance($C5,'Daily Register'!EG$3:EG$242)=TRUE,\"P\",\"A\")","v":"A"},{"$f":"IF(Attendance($C5,'Daily Register'!EH$3:EH$242)=TRUE,\"P\",\"A\")","v":"A"},{"$f":"IF(Attendance($C5,'Daily Register'!EI$3:EI$242)=TRUE,\"P\",\"A\")","v":"A"},{"$f":"IF(Attendance($C5,'Daily Register'!EJ$3:EJ$242)=TRUE,\"P\",\"A\")","v":"A"},{"$f":"IF(Attendance($C5,'Daily Register'!EK$3:EK$242)=TRUE,\"P\",\"A\")","v":"A"},{"$f":"IF(Attendance($C5,'Daily Register'!EL$3:EL$242)=TRUE,\"P\",\"A\")","v":"A"},{"$f":"IF(Attendance($C5,'Daily Register'!EM$22:EM$242)=TRUE,\"P\",\"A\")","v":"A"},{"$f":"IF(Attendance($C5,'Daily Register'!EN$3:EN$242)=TRUE,\"P\",\"A\")","v":"A"},{"$f":"IF(Attendance($C5,'Daily Register'!EO$3:EO$242)=TRUE,\"P\",\"A\")","v":"A"},{"$f":"IF(Attendance($C5,'Daily Register'!EP$3:EP$242)=TRUE,\"P\",\"A\")","v":"A"},{"$f":"IF(Attendance($C5,'Daily Register'!EQ$3:EQ$242)=TRUE,\"P\",\"A\")","v":"A"},{"$f":"IF(Attendance($C5,'Daily Register'!ER$3:ER$242)=TRUE,\"P\",\"A\")","v":"A"},{"$f":"IF(Attendance($C5,'Daily Register'!ES$3:ES$242)=TRUE,\"P\",\"A\")","v":"A"},{"$f":"IF(Attendance($C5,'Daily Register'!ET$3:ET$242)=TRUE,\"P\",\"A\")","v":"A"},{"$f":"IF(Attendance($C5,'Daily Register'!EU$3:EU$242)=TRUE,\"P\",\"A\")","v":"A"},{"$f":"IF(Attendance($C5,'Daily Register'!EV$3:EV$242)=TRUE,\"P\",\"A\")","v":"A"},{"$f":"IF(Attendance($C5,'Daily Register'!EW$3:EW$242)=TRUE,\"P\",\"A\")","v":"A"},{"$f":"IF(Attendance($C5,'Daily Register'!EX$3:EX$242)=TRUE,\"P\",\"A\")","v":"A"},{"$f":"IF(Attendance($C5,'Daily Register'!EY$3:EY$242)=TRUE,\"P\",\"A\")","v":"A"},{"$f":"IF(Attendance($C5,'Daily Register'!EZ$3:EZ$242)=TRUE,\"P\",\"A\")","v":"A"},{"$f":"IF(Attendance($C5,'Daily Register'!FA$3:FA$242)=TRUE,\"P\",\"A\")","v":"A"},{"$f":"IF(Attendance($C5,'Daily Register'!FB$3:FB$242)=TRUE,\"P\",\"A\")","v":"A"},{"$f":"IF(Attendance($C5,'Daily Register'!FC$3:FC$242)=TRUE,\"P\",\"A\")","v":"A"},{"$f":"IF(Attendance($C5,'Daily Register'!FD$3:FD$242)=TRUE,\"P\",\"A\")","v":"A"},{"$f":"IF(Attendance($C5,'Daily Register'!FE$3:FE$242)=TRUE,\"P\",\"A\")","v":"A"},{"$f":"IF(Attendance($C5,'Daily Register'!FF$3:FF$242)=TRUE,\"P\",\"A\")","v":"A"},{"$f":"IF(Attendance($C5,'Daily Register'!FG$3:FG$242)=TRUE,\"P\",\"A\")","v":"A"},{"$f":"IF(Attendance($C5,'Daily Register'!FH$3:FH$242)=TRUE,\"P\",\"A\")","v":"A"},{"$f":"IF(Attendance($C5,'Daily Register'!FI$3:FI$242)=TRUE,\"P\",\"A\")","v":"A"},{"$f":"IF(Attendance($C5,'Daily Register'!FJ$3:FJ$242)=TRUE,\"P\",\"A\")","v":"A"},{"$f":"IF(Attendance($C5,'Daily Register'!FK$3:FK$242)=TRUE,\"P\",\"A\")","v":"A"},{"$f":"IF(Attendance($C5,'Daily Register'!FL$3:FL$242)=TRUE,\"P\",\"A\")","v":"A"},{"$f":"IF(Attendance($C5,'Daily Register'!FM$3:FM$242)=TRUE,\"P\",\"A\")","v":"A"},{"$f":"IF(Attendance($C5,'Daily Register'!FN$3:FN$242)=TRUE,\"P\",\"A\")","v":"A"},{"$f":"IF(Attendance($C5,'Daily Register'!FO$3:FO$242)=TRUE,\"P\",\"A\")","v":"A"},{"$f":"IF(Attendance($C5,'Daily Register'!FP$3:FP$242)=TRUE,\"P\",\"A\")","v":"A"},{"$f":"IF(Attendance($C5,'Daily Register'!FQ$3:FQ$242)=TRUE,\"P\",\"A\")","v":"A"},{"$f":"IF(Attendance($C5,'Daily Register'!FR$3:FR$242)=TRUE,\"P\",\"A\")","v":"A"},{"$f":"IF(Attendance($C5,'Daily Register'!FS$3:FS$242)=TRUE,\"P\",\"A\")","v":"A"},{"$f":"IF(Attendance($C5,'Daily Register'!FT$3:FT$242)=TRUE,\"P\",\"A\")","v":"A"},{"$f":"IF(Attendance($C5,'Daily Register'!FU$3:FU$242)=TRUE,\"P\",\"A\")","v":"A"},{"$f":"IF(Attendance($C5,'Daily Register'!FV$3:FV$242)=TRUE,\"P\",\"A\")","v":"A"},{"$f":"IF(Attendance($C5,'Daily Register'!FW$3:FW$242)=TRUE,\"P\",\"A\")","v":"A"},{"$f":"IF(Attendance($C5,'Daily Register'!FX$3:FX$242)=TRUE,\"P\",\"A\")","v":"A"},{"$f":"IF(Attendance($C5,'Daily Register'!FY$3:FY$242)=TRUE,\"P\",\"A\")","v":"A"},{"$f":"IF(Attendance($C5,'Daily Register'!FZ$3:FZ$242)=TRUE,\"P\",\"A\")","v":"A"},{"$f":"IF(Attendance($C5,'Daily Register'!GA$3:GA$242)=TRUE,\"P\",\"A\")","v":"A"},{"$f":"IF(Attendance($C5,'Daily Register'!GB$3:GB$242)=TRUE,\"P\",\"A\")","v":"A"},{"$f":"IF(Attendance($C5,'Daily Register'!GC$3:GC$242)=TRUE,\"P\",\"A\")","v":"A"},{"$f":"IF(Attendance($C5,'Daily Register'!GD$3:GD$242)=TRUE,\"P\",\"A\")","v":"A"},{"$f":"IF(Attendance($C5,'Daily Register'!GE$3:GE$242)=TRUE,\"P\",\"A\")","v":"A"},{"$f":"IF(Attendance($C5,'Daily Register'!GF$3:GF$242)=TRUE,\"P\",\"A\")","v":"A"},{"$f":"IF(Attendance($C5,'Daily Register'!GG$3:GG$242)=TRUE,\"P\",\"A\")","v":"A"},{"$f":"IF(Attendance($C5,'Daily Register'!GH$3:GH$242)=TRUE,\"P\",\"A\")","v":"A"},{"$f":"IF(Attendance($C5,'Daily Register'!GI$3:GI$242)=TRUE,\"P\",\"A\")","v":"A"},{"$f":"IF(Attendance($C5,'Daily Register'!GJ$3:GJ$242)=TRUE,\"P\",\"A\")","v":"A"},{"$f":"IF(Attendance($C5,'Daily Register'!GK$3:GK$242)=TRUE,\"P\",\"A\")","v":"A"},{"$f":"IF(Attendance($C5,'Daily Register'!GL$3:GL$242)=TRUE,\"P\",\"A\")","v":"A"},{"$f":"IF(Attendance($C5,'Daily Register'!GM$3:GM$242)=TRUE,\"P\",\"A\")","v":"A"},{"$f":"IF(Attendance($C5,'Daily Register'!GN$3:GN$242)=TRUE,\"P\",\"A\")","v":"A"},{"$f":"IF(Attendance($C5,'Daily Register'!GO$3:GO$242)=TRUE,\"P\",\"A\")","v":"A"},{"$f":"IF(Attendance($C5,'Daily Register'!GP$3:GP$242)=TRUE,\"P\",\"A\")","v":"A"},{"$f":"IF(Attendance($C5,'Daily Register'!GQ$3:GQ$242)=TRUE,\"P\",\"A\")","v":"A"},{"$f":"IF(Attendance($C5,'Daily Register'!GR$3:GR$242)=TRUE,\"P\",\"A\")","v":"A"},{"$f":"IF(Attendance($C5,'Daily Register'!GS$3:GS$242)=TRUE,\"P\",\"A\")","v":"A"},{"$f":"IF(Attendance($C5,'Daily Register'!GT$3:GT$242)=TRUE,\"P\",\"A\")","v":"A"},{"$f":"IF(Attendance($C5,'Daily Register'!GU$3:GU$242)=TRUE,\"P\",\"A\")","v":"A"},{"$f":"IF(Attendance($C5,'Daily Register'!GV$3:GV$242)=TRUE,\"P\",\"A\")","v":"A"},{"$f":"IF(Attendance($C5,'Daily Register'!GW$3:GW$242)=TRUE,\"P\",\"A\")","v":"A"},{"$f":"IF(Attendance($C5,'Daily Register'!GX$3:GX$242)=TRUE,\"P\",\"A\")","v":"A"},{"$f":"IF(Attendance($C5,'Daily Register'!GY$3:GY$242)=TRUE,\"P\",\"A\")","v":"A"},{"$f":"IF(Attendance($C5,'Daily Register'!GZ$3:GZ$242)=TRUE,\"P\",\"A\")","v":"A"},{"$f":"IF(Attendance($C5,'Daily Register'!HA$3:HA$242)=TRUE,\"P\",\"A\")","v":"A"},{"$f":"IF(Attendance($C5,'Daily Register'!HB$3:HB$242)=TRUE,\"P\",\"A\")","v":"A"},{"$f":"IF(Attendance($C5,'Daily Register'!HC$3:HC$242)=TRUE,\"P\",\"A\")","v":"A"},{"$f":"IF(Attendance($C5,'Daily Register'!HD$3:HD$242)=TRUE,\"P\",\"A\")","v":"A"},{"$f":"IF(Attendance($C5,'Daily Register'!HE$3:HE$242)=TRUE,\"P\",\"A\")","v":"A"},{"$f":"IF(Attendance($C5,'Daily Register'!HF$3:HF$242)=TRUE,\"P\",\"A\")","v":"A"},{"$f":"IF(Attendance($C5,'Daily Register'!HG$3:HG$242)=TRUE,\"P\",\"A\")","v":"A"},{"$f":"IF(Attendance($C5,'Daily Register'!HH$3:HH$242)=TRUE,\"P\",\"A\")","v":"A"},{"$f":"IF(Attendance($C5,'Daily Register'!HI$3:HI$242)=TRUE,\"P\",\"A\")","v":"A"},{"$f":"IF(Attendance($C5,'Daily Register'!HJ$3:HJ$242)=TRUE,\"P\",\"A\")","v":"A"},{"$f":"IF(Attendance($C5,'Daily Register'!HK$3:HK$242)=TRUE,\"P\",\"A\")","v":"A"},{"$f":"IF(Attendance($C5,'Daily Register'!HL$3:HL$242)=TRUE,\"P\",\"A\")","v":"A"},{"$f":"IF(Attendance($C5,'Daily Register'!HM$3:HM$242)=TRUE,\"P\",\"A\")","v":"A"},{"$f":"IF(Attendance($C5,'Daily Register'!HN$3:HN$242)=TRUE,\"P\",\"A\")","v":"A"},{"$f":"IF(Attendance($C5,'Daily Register'!HO$3:HO$242)=TRUE,\"P\",\"A\")","v":"A"},{"$f":"IF(Attendance($C5,'Daily Register'!HP$3:HP$242)=TRUE,\"P\",\"A\")","v":"A"},{"$f":"IF(Attendance($C5,'Daily Register'!HQ$3:HQ$242)=TRUE,\"P\",\"A\")","v":"A"},{"$f":"IF(Attendance($C5,'Daily Register'!HR$3:HR$242)=TRUE,\"P\",\"A\")","v":"A"},{"$f":"IF(Attendance($C5,'Daily Register'!HS$3:HS$242)=TRUE,\"P\",\"A\")","v":"A"},{"$f":"IF(Attendance($C5,'Daily Register'!HT$3:HT$242)=TRUE,\"P\",\"A\")","v":"A"},{"$f":"IF(Attendance($C5,'Daily Register'!HU$3:HU$242)=TRUE,\"P\",\"A\")","v":"A"},{"$f":"IF(Attendance($C5,'Daily Register'!HV$3:HV$242)=TRUE,\"P\",\"A\")","v":"A"},{"$f":"IF(Attendance($C5,'Daily Register'!HW$3:HW$242)=TRUE,\"P\",\"A\")","v":"A"},{"$f":"IF(Attendance($C5,'Daily Register'!HX$3:HX$242)=TRUE,\"P\",\"A\")","v":"A"},{"$f":"IF(Attendance($C5,'Daily Register'!HY$3:HY$242)=TRUE,\"P\",\"A\")","v":"A"},{"$f":"IF(Attendance($C5,'Daily Register'!HZ$3:HZ$242)=TRUE,\"P\",\"A\")","v":"A"},{"$f":"IF(Attendance($C5,'Daily Register'!IA$3:IA$242)=TRUE,\"P\",\"A\")","v":"A"},{"$f":"IF(Attendance($C5,'Daily Register'!IB$3:IB$242)=TRUE,\"P\",\"A\")","v":"A"},{"$f":"IF(Attendance($C5,'Daily Register'!IC$3:IC$242)=TRUE,\"P\",\"A\")","v":"A"},{"$f":"IF(Attendance($C5,'Daily Register'!ID$3:ID$242)=TRUE,\"P\",\"A\")","v":"A"},{"$f":"IF(Attendance($C5,'Daily Register'!IE$3:IE$242)=TRUE,\"P\",\"A\")","v":"A"},{"$f":"IF(Attendance($C5,'Daily Register'!IF$3:IF$242)=TRUE,\"P\",\"A\")","v":"A"},{"$f":"IF(Attendance($C5,'Daily Register'!IG$3:IG$242)=TRUE,\"P\",\"A\")","v":"A"},{"$f":"IF(Attendance($C5,'Daily Register'!IH$3:IH$242)=TRUE,\"P\",\"A\")","v":"A"},{"$f":"IF(Attendance($C5,'Daily Register'!II$3:II$242)=TRUE,\"P\",\"A\")","v":"A"},{"$f":"IF(Attendance($C5,'Daily Register'!IJ$3:IJ$242)=TRUE,\"P\",\"A\")","v":"A"},{"$f":"IF(Attendance($C5,'Daily Register'!IK$3:IK$242)=TRUE,\"P\",\"A\")","v":"A"},{"$f":"IF(Attendance($C5,'Daily Register'!IL$3:IL$242)=TRUE,\"P\",\"A\")","v":"A"},{"$f":"IF(Attendance($C5,'Daily Register'!IM$3:IM$242)=TRUE,\"P\",\"A\")","v":"A"},{"$f":"IF(Attendance($C5,'Daily Register'!IN$3:IN$242)=TRUE,\"P\",\"A\")","v":"A"},{"$f":"IF(Attendance($C5,'Daily Register'!IO$3:IO$242)=TRUE,\"P\",\"A\")","v":"A"},{"$f":"IF(Attendance($C5,'Daily Register'!IP$3:IP$242)=TRUE,\"P\",\"A\")","v":"A"},{"$f":"IF(Attendance($C5,'Daily Register'!IQ$3:IQ$242)=TRUE,\"P\",\"A\")","v":"A"},{"$f":"IF(Attendance($C5,'Daily Register'!IR$3:IR$242)=TRUE,\"P\",\"A\")","v":"A"},{"$f":"IF(Attendance($C5,'Daily Register'!IS$3:IS$242)=TRUE,\"P\",\"A\")","v":"A"},{"$f":"IF(Attendance($C5,'Daily Register'!IT$3:IT$242)=TRUE,\"P\",\"A\")","v":"A"},{"$f":"IF(Attendance($C5,'Daily Register'!IU$3:IU$242)=TRUE,\"P\",\"A\")","v":"A"},{"$f":"IF(Attendance($C5,'Daily Register'!IV$3:IV$242)=TRUE,\"P\",\"A\")","v":"A"},{"$f":"IF(Attendance($C5,'Daily Register'!IW$3:IW$242)=TRUE,\"P\",\"A\")","v":"A"},{"$f":"IF(Attendance($C5,'Daily Register'!IX$3:IX$242)=TRUE,\"P\",\"A\")","v":"A"},{"$f":"IF(Attendance($C5,'Daily Register'!IY$3:IY$242)=TRUE,\"P\",\"A\")","v":"A"},{"$f":"IF(Attendance($C5,'Daily Register'!IZ$3:IZ$242)=TRUE,\"P\",\"A\")","v":"A"},{"$f":"IF(Attendance($C5,'Daily Register'!JA$3:JA$242)=TRUE,\"P\",\"A\")","v":"A"},{"$f":"IF(Attendance($C5,'Daily Register'!JB$3:JB$242)=TRUE,\"P\",\"A\")","v":"A"},{"$f":"IF(Attendance($C5,'Daily Register'!JC$3:JC$242)=TRUE,\"P\",\"A\")","v":"A"},{"$f":"IF(Attendance($C5,'Daily Register'!JD$3:JD$242)=TRUE,\"P\",\"A\")","v":"A"},{"$f":"IF(Attendance($C5,'Daily Register'!JE$3:JE$242)=TRUE,\"P\",\"A\")","v":"A"},{"$f":"IF(Attendance($C5,'Daily Register'!JF$3:JF$242)=TRUE,\"P\",\"A\")","v":"A"},{"$f":"IF(Attendance($C5,'Daily Register'!JG$3:JG$242)=TRUE,\"P\",\"A\")","v":"A"},{"$f":"IF(Attendance($C5,'Daily Register'!JH$3:JH$242)=TRUE,\"P\",\"A\")","v":"A"},{"$f":"IF(Attendance($C5,'Daily Register'!JI$3:JI$242)=TRUE,\"P\",\"A\")","v":"A"},{"$f":"IF(Attendance($C5,'Daily Register'!JJ$3:JJ$242)=TRUE,\"P\",\"A\")","v":"A"},{"$f":"IF(Attendance($C5,'Daily Register'!JK$3:JK$242)=TRUE,\"P\",\"A\")","v":"A"},{"$f":"IF(Attendance($C5,'Daily Register'!JL$3:JL$242)=TRUE,\"P\",\"A\")","v":"A"},{"$f":"IF(Attendance($C5,'Daily Register'!JM$3:JM$242)=TRUE,\"P\",\"A\")","v":"A"},{"$f":"IF(Attendance($C5,'Daily Register'!JN$3:JN$242)=TRUE,\"P\",\"A\")","v":"A"},{"$f":"IF(Attendance($C5,'Daily Register'!JO$3:JO$242)=TRUE,\"P\",\"A\")","v":"A"},{"$f":"IF(Attendance($C5,'Daily Register'!JP$3:JP$242)=TRUE,\"P\",\"A\")","v":"A"},{"$f":"IF(Attendance($C5,'Daily Register'!JQ$3:JQ$242)=TRUE,\"P\",\"A\")","v":"A"},{"$f":"IF(Attendance($C5,'Daily Register'!JR$3:JR$242)=TRUE,\"P\",\"A\")","v":"A"},{"$f":"IF(Attendance($C5,'Daily Register'!JS$3:JS$242)=TRUE,\"P\",\"A\")","v":"A"},{"$f":"IF(Attendance($C5,'Daily Register'!JT$3:JT$242)=TRUE,\"P\",\"A\")","v":"A"},{"$f":"IF(Attendance($C5,'Daily Register'!JU$3:JU$242)=TRUE,\"P\",\"A\")","v":"A"},{"$f":"IF(Attendance($C5,'Daily Register'!JV$3:JV$242)=TRUE,\"P\",\"A\")","v":"A"},{"$f":"IF(Attendance($C5,'Daily Register'!JW$3:JW$242)=TRUE,\"P\",\"A\")","v":"A"},{"$f":"IF(Attendance($C5,'Daily Register'!JX$3:JX$242)=TRUE,\"P\",\"A\")","v":"A"},{"$f":"IF(Attendance($C5,'Daily Register'!JY$3:JY$242)=TRUE,\"P\",\"A\")","v":"A"},{"$f":"IF(Attendance($C5,'Daily Register'!JZ$3:JZ$242)=TRUE,\"P\",\"A\")","v":"A"},{"$f":"IF(Attendance($C5,'Daily Register'!KA$3:KA$242)=TRUE,\"P\",\"A\")","v":"A"},{"$f":"IF(Attendance($C5,'Daily Register'!KB$3:KB$242)=TRUE,\"P\",\"A\")","v":"A"},{"$f":"IF(Attendance($C5,'Daily Register'!KC$3:KC$242)=TRUE,\"P\",\"A\")","v":"A"},{"$f":"IF(Attendance($C5,'Daily Register'!KD$3:KD$242)=TRUE,\"P\",\"A\")","v":"A"},{"$f":"IF(Attendance($C5,'Daily Register'!KE$3:KE$242)=TRUE,\"P\",\"A\")","v":"A"},{"$f":"IF(Attendance($C5,'Daily Register'!KF$3:KF$242)=TRUE,\"P\",\"A\")","v":"A"},{"$f":"IF(Attendance($C5,'Daily Register'!KG$3:KG$242)=TRUE,\"P\",\"A\")","v":"A"},{"$f":"IF(Attendance($C5,'Daily Register'!KH$3:KH$242)=TRUE,\"P\",\"A\")","v":"A"},{"$f":"IF(Attendance($C5,'Daily Register'!KI$3:KI$242)=TRUE,\"P\",\"A\")","v":"A"},{"$f":"IF(Attendance($C5,'Daily Register'!KJ$3:KJ$242)=TRUE,\"P\",\"A\")","v":"A"},{"$f":"IF(Attendance($C5,'Daily Register'!KK$3:KK$242)=TRUE,\"P\",\"A\")","v":"A"},{"$f":"IF(Attendance($C5,'Daily Register'!KL$3:KL$242)=TRUE,\"P\",\"A\")","v":"A"},{"$f":"IF(Attendance($C5,'Daily Register'!KM$3:KM$242)=TRUE,\"P\",\"A\")","v":"A"},{"$f":"IF(Attendance($C5,'Daily Register'!KN$3:KN$242)=TRUE,\"P\",\"A\")","v":"A"},{"$f":"IF(Attendance($C5,'Daily Register'!KO$3:KO$242)=TRUE,\"P\",\"A\")","v":"A"},{"$f":"IF(Attendance($C5,'Daily Register'!KP$3:KP$242)=TRUE,\"P\",\"A\")","v":"A"},{"$f":"IF(Attendance($C5,'Daily Register'!KQ$3:KQ$242)=TRUE,\"P\",\"A\")","v":"A"},{"$f":"IF(Attendance($C5,'Daily Register'!KR$3:KR$242)=TRUE,\"P\",\"A\")","v":"A"},{"$f":"IF(Attendance($C5,'Daily Register'!KS$3:KS$242)=TRUE,\"P\",\"A\")","v":"A"},{"$f":"IF(Attendance($C5,'Daily Register'!KT$3:KT$242)=TRUE,\"P\",\"A\")","v":"A"},{"$f":"IF(Attendance($C5,'Daily Register'!KU$3:KU$242)=TRUE,\"P\",\"A\")","v":"A"},{"$f":"IF(Attendance($C5,'Daily Register'!KV$3:KV$242)=TRUE,\"P\",\"A\")","v":"A"},{"$f":"IF(Attendance($C5,'Daily Register'!KW$3:KW$242)=TRUE,\"P\",\"A\")","v":"A"},{"$f":"IF(Attendance($C5,'Daily Register'!KX$3:KX$242)=TRUE,\"P\",\"A\")","v":"A"},{"$f":"IF(Attendance($C5,'Daily Register'!KY$3:KY$242)=TRUE,\"P\",\"A\")","v":"A"},{"$f":"IF(Attendance($C5,'Daily Register'!KZ$3:KZ$242)=TRUE,\"P\",\"A\")","v":"A"},{"$f":"IF(Attendance($C5,'Daily Register'!LA$3:LA$242)=TRUE,\"P\",\"A\")","v":"A"},{"$f":"IF(Attendance($C5,'Daily Register'!LB$3:LB$242)=TRUE,\"P\",\"A\")","v":"A"},{"$f":"IF(Attendance($C5,'Daily Register'!LC$3:LC$242)=TRUE,\"P\",\"A\")","v":"A"},{"$f":"IF(Attendance($C5,'Daily Register'!LD$3:LD$242)=TRUE,\"P\",\"A\")","v":"A"},{"$f":"IF(Attendance($C5,'Daily Register'!LE$3:LE$242)=TRUE,\"P\",\"A\")","v":"A"},{"$f":"IF(Attendance($C5,'Daily Register'!LF$3:LF$242)=TRUE,\"P\",\"A\")","v":"A"},{"$f":"IF(Attendance($C5,'Daily Register'!LG$3:LG$242)=TRUE,\"P\",\"A\")","v":"A"},{"$f":"IF(Attendance($C5,'Daily Register'!LH$3:LH$242)=TRUE,\"P\",\"A\")","v":"A"},{"$f":"IF(Attendance($C5,'Daily Register'!LI$3:LI$242)=TRUE,\"P\",\"A\")","v":"A"},{"$f":"IF(Attendance($C5,'Daily Register'!LJ$3:LJ$242)=TRUE,\"P\",\"A\")","v":"A"},{"$f":"IF(Attendance($C5,'Daily Register'!LK$3:LK$242)=TRUE,\"P\",\"A\")","v":"A"},{"$f":"IF(Attendance($C5,'Daily Register'!LL$3:LL$242)=TRUE,\"P\",\"A\")","v":"A"},{"$f":"IF(Attendance($C5,'Daily Register'!LM$3:LM$242)=TRUE,\"P\",\"A\")","v":"A"},{"$f":"IF(Attendance($C5,'Daily Register'!LN$3:LN$242)=TRUE,\"P\",\"A\")","v":"A"},{"$f":"IF(Attendance($C5,'Daily Register'!LO$3:LO$242)=TRUE,\"P\",\"A\")","v":"A"},{"$f":"IF(Attendance($C5,'Daily Register'!LP$3:LP$242)=TRUE,\"P\",\"A\")","v":"A"},{"$f":"IF(Attendance($C5,'Daily Register'!LQ$3:LQ$242)=TRUE,\"P\",\"A\")","v":"A"},{"$f":"IF(Attendance($C5,'Daily Register'!LR$3:LR$242)=TRUE,\"P\",\"A\")","v":"A"},{"$f":"IF(Attendance($C5,'Daily Register'!LS$3:LS$242)=TRUE,\"P\",\"A\")","v":"A"},{"$f":"IF(Attendance($C5,'Daily Register'!LT$3:LT$242)=TRUE,\"P\",\"A\")","v":"A"},{"$f":"IF(Attendance($C5,'Daily Register'!LU$3:LU$242)=TRUE,\"P\",\"A\")","v":"A"},{"$f":"IF(Attendance($C5,'Daily Register'!LV$3:LV$242)=TRUE,\"P\",\"A\")","v":"A"},{"$f":"IF(Attendance($C5,'Daily Register'!LW$3:LW$242)=TRUE,\"P\",\"A\")","v":"A"},{"$f":"IF(Attendance($C5,'Daily Register'!LX$3:LX$242)=TRUE,\"P\",\"A\")","v":"A"},{"$f":"IF(Attendance($C5,'Daily Register'!LY$3:LY$242)=TRUE,\"P\",\"A\")","v":"A"},{"$f":"IF(Attendance($C5,'Daily Register'!LZ$3:LZ$242)=TRUE,\"P\",\"A\")","v":"A"},{"$f":"IF(Attendance($C5,'Daily Register'!MA$3:MA$242)=TRUE,\"P\",\"A\")","v":"A"},{"$f":"IF(Attendance($C5,'Daily Register'!MB$3:MB$242)=TRUE,\"P\",\"A\")","v":"A"},{"$f":"IF(Attendance($C5,'Daily Register'!MC$3:MC$242)=TRUE,\"P\",\"A\")","v":"A"},{"$f":"IF(Attendance($C5,'Daily Register'!MD$3:MD$242)=TRUE,\"P\",\"A\")","v":"A"},{"$f":"IF(Attendance($C5,'Daily Register'!ME$3:ME$242)=TRUE,\"P\",\"A\")","v":"A"},{"$f":"IF(Attendance($C5,'Daily Register'!MF$3:MF$242)=TRUE,\"P\",\"A\")","v":"A"},{"$f":"IF(Attendance($C5,'Daily Register'!MG$3:MG$242)=TRUE,\"P\",\"A\")","v":"A"},{"$f":"IF(Attendance($C5,'Daily Register'!MH$3:MH$242)=TRUE,\"P\",\"A\")","v":"A"},{"$f":"IF(Attendance($C5,'Daily Register'!MI$3:MI$242)=TRUE,\"P\",\"A\")","v":"A"},{"$f":"IF(Attendance($C5,'Daily Register'!MJ$3:MJ$242)=TRUE,\"P\",\"A\")","v":"A"},{"$f":"IF(Attendance($C5,'Daily Register'!MK$3:MK$242)=TRUE,\"P\",\"A\")","v":"A"},{"$f":"IF(Attendance($C5,'Daily Register'!ML$3:ML$242)=TRUE,\"P\",\"A\")","v":"A"},{"$f":"IF(Attendance($C5,'Daily Register'!MM$3:MM$242)=TRUE,\"P\",\"A\")","v":"A"},{"$f":"IF(Attendance($C5,'Daily Register'!MN$3:MN$242)=TRUE,\"P\",\"A\")","v":"A"},{"$f":"IF(Attendance($C5,'Daily Register'!MO$3:MO$242)=TRUE,\"P\",\"A\")","v":"A"},{"$f":"IF(Attendance($C5,'Daily Register'!MP$3:MP$242)=TRUE,\"P\",\"A\")","v":"A"},{"$f":"IF(Attendance($C5,'Daily Register'!MQ$3:MQ$242)=TRUE,\"P\",\"A\")","v":"A"},{"$f":"IF(Attendance($C5,'Daily Register'!MR$3:MR$242)=TRUE,\"P\",\"A\")","v":"A"},{"$f":"IF(Attendance($C5,'Daily Register'!MS$3:MS$242)=TRUE,\"P\",\"A\")","v":"A"},{"$f":"IF(Attendance($C5,'Daily Register'!MT$3:MT$242)=TRUE,\"P\",\"A\")","v":"A"},{"$f":"IF(Attendance($C5,'Daily Register'!MU$3:MU$242)=TRUE,\"P\",\"A\")","v":"A"},{"$f":"IF(Attendance($C5,'Daily Register'!MV$3:MV$242)=TRUE,\"P\",\"A\")","v":"A"},{"$f":"IF(Attendance($C5,'Daily Register'!MW$3:MW$242)=TRUE,\"P\",\"A\")","v":"A"},{"$f":"IF(Attendance($C5,'Daily Register'!MX$3:MX$242)=TRUE,\"P\",\"A\")","v":"A"},{"$f":"IF(Attendance($C5,'Daily Register'!MY$3:MY$242)=TRUE,\"P\",\"A\")","v":"A"},{"$f":"IF(Attendance($C5,'Daily Register'!MZ$3:MZ$242)=TRUE,\"P\",\"A\")","v":"A"},{"$f":"IF(Attendance($C5,'Daily Register'!NA$3:NA$242)=TRUE,\"P\",\"A\")","v":"A"},{"$f":"IF(Attendance($C5,'Daily Register'!NB$3:NB$242)=TRUE,\"P\",\"A\")","v":"A"}]
[0,null,3,null,{"$f":"IF(Attendance($C6,'Daily Register'!A$3:A$242)=TRUE,\"P\",\"A\")","v":"A"},{"$f":"IF(Attendance($C6,'Daily Register'!B$3:B$242)=TRUE,\"P\",\"A\")","v":"A"},{"$f":"IF(Attendance($C6,'Daily Register'!C$3:C$242)=TRUE,\"P\",\"A\")","v":"A"},{"$f":"IF(Attendance($C6,'Daily Register'!D$3:D$242)=TRUE,\"P\",\"A\")","v":"A"},{"$f":"IF(Attendance($C6,'Daily Register'!E$3:E$242)=TRUE,\"P\",\"A\")","v":"A"},{"$f":"IF(Attendance($C6,'Daily Register'!F$3:F$242)=TRUE,\"P\",\"A\")","v":"A"},{"$f":"IF(Attendance($C6,'Daily Register'!G$3:G$242)=TRUE,\"P\",\"A\")","v":"A"},{"$f":"IF(Attendance($C6,'Daily Register'!H$3:H$242)=TRUE,\"P\",\"A\")","v":"A"},{"$f":"IF(Attendance($C6,'Daily Register'!I$3:I$242)=TRUE,\"P\",\"A\")","v":"A"},{"$f":"IF(Attendance($C6,'Daily Register'!J$3:J$242)=TRUE,\"P\",\"A\")","v":"A"},{"$f":"IF(Attendance($C6,'Daily Register'!K$3:K$242)=TRUE,\"P\",\"A\")","v":"A"},{"$f":"IF(Attendance($C6,'Daily Register'!L$3:L$242)=TRUE,\"P\",\"A\")","v":"A"},{"$f":"IF(Attendance($C6,'Daily Register'!M$3:M$242)=TRUE,\"P\",\"A\")","v":"A"},{"$f":"IF(Attendance($C6,'Daily Register'!N$3:N$242)=TRUE,\"P\",\"A\")","v":"A"},{"$f":"IF(Attendance($C6,'Daily Register'!O$3:O$242)=TRUE,\"P\",\"A\")","v":"A"},{"$f":"IF(Attendance($C6,'Daily Register'!P$3:P$242)=TRUE,\"P\",\"A\")","v":"A"},{"$f":"IF(Attendance($C6,'Daily Register'!Q$3:Q$242)=TRUE,\"P\",\"A\")","v":"A"},{"$f":"IF(Attendance($C6,'Daily Register'!R$3:R$242)=TRUE,\"P\",\"A\")","v":"A"},{"$f":"IF(Attendance($C6,'Daily Register'!S$3:S$242)=TRUE,\"P\",\"A\")","v":"A"},{"$f":"IF(Attendance($C6,'Daily Register'!T$3:T$242)=TRUE,\"P\",\"A\")","v":"A"},{"$f":"IF(Attendance($C6,'Daily Register'!U$3:U$242)=TRUE,\"P\",\"A\")","v":"A"},{"$f":"IF(Attendance($C6,'Daily Register'!V$3:V$242)=TRUE,\"P\",\"A\")","v":"A"},{"$f":"IF(Attendance($C6,'Daily Register'!W$3:W$242)=TRUE,\"P\",\"A\")","v":"A"},{"$f":"IF(Attendance($C6,'Daily Register'!X$3:X$242)=TRUE,\"P\",\"A\")","v":"A"},{"$f":"IF(Attendance($C6,'Daily Register'!Y$3:Y$242)=TRUE,\"P\",\"A\")","v":"A"},{"$f":"IF(Attendance($C6,'Daily Register'!Z$3:Z$242)=TRUE,\"P\",\"A\")","v":"A"},{"$f":"IF(Attendance($C6,'Daily Register'!AA$3:AA$242)=TRUE,\"P\",\"A\")","v":"A"},{"$f":"IF(Attendance($C6,'Daily Register'!AB$3:AB$242)=TRUE,\"P\",\"A\")","v":"A"},{"$f":"IF(Attendance($C6,'Daily Register'!AC$3:AC$242)=TRUE,\"P\",\"A\")","v":"A"},{"$f":"IF(Attendance($C6,'Daily Register'!AD$3:AD$242)=TRUE,\"P\",\"A\")","v":"A"},{"$f":"IF(Attendance($C6,'Daily Register'!AE$3:AE$242)=TRUE,\"P\",\"A\")","v":"A"},{"$f":"IF(Attendance($C6,'Daily Register'!AF$3:AF$242)=TRUE,\"P\",\"A\")","v":"A"},{"$f":"IF(Attendance($C6,'Daily Register'!AG$3:AG$242)=TRUE,\"P\",\"A\")","v":"A"},{"$f":"IF(Attendance($C6,'Daily Register'!AH$3:AH$242)=TRUE,\"P\",\"A\")","v":"A"},{"$f":"IF(Attendance($C6,'Daily Register'!AI$3:AI$242)=TRUE,\"P\",\"A\")","v":"A"},{"$f":"IF(Attendance($C6,'Daily Register'!AJ$3:AJ$242)=TRUE,\"P\",\"A\")","v":"A"},{"$f":"IF(Attendance($C6,'Daily Register'!AK$3:AK$242)=TRUE,\"P\",\"A\")","v":"A"},{"$f":"IF(Attendance($C6,'Daily Register'!AL$3:AL$242)=TRUE,\"P\",\"A\")","v":"A"},{"$f":"IF(Attendance($C6,'Daily Register'!AM$3:AM$242)=TRUE,\"P\",\"A\")","v":"A"},{"$f":"IF(Attendance($C6,'Daily Register'!AN$3:AN$242)=TRUE,\"P\",\"A\")","v":"A"},{"$f":"IF(Attendance($C6,'Daily Register'!AO$3:AO$242)=TRUE,\"P\",\"A\")","v":"A"},{"$f":"IF(Attendance($C6,'Daily Register'!AP$3:AP$242)=TRUE,\"P\",\"A\")","v":"A"},{"$f":"IF(Attendance($C6,'Daily Register'!AQ$3:AQ$242)=TRUE,\"P\",\"A\")","v":"A"},{"$f":"IF(Attendance($C6,'Daily Register'!AR$3:AR$242)=TRUE,\"P\",\"A\")","v":"A"},{"$f":"IF(Attendance($C6,'Daily Register'!AS$3:AS$242)=TRUE,\"P\",\"A\")","v":"A"},{"$f":"IF(Attendance($C6,'Daily Register'!AT$3:AT$242)=TRUE,\"P\",\"A\")","v":"A"},{"$f":"IF(Attendance($C6,'Daily Register'!AU$3:AU$242)=TRUE,\"P\",\"A\")","v":"A"},{"$f":"IF(Attendance($C6,'Daily Register'!AV$3:AV$242)=TRUE,\"P\",\"A\")","v":"A"},{"$f":"IF(Attendance($C6,'Daily Register'!AW$3:AW$242)=TRUE,\"P\",\"A\")","v":"A"},{"$f":"IF(Attendance($C6,'Daily Register'!AX$3:AX$242)=TRUE,\"P\",\"A\")","v":"A"},{"$f":"IF(Attendance($C6,'Daily Register'!AY$3:AY$242)=TRUE,\"P\",\"A\")","v":"A"},{"$f":"IF(Attendance($C6,'Daily Register'!AZ$3:AZ$242)=TRUE,\"P\",\"A\")","v":"A"},{"$f":"IF(Attendance($C6,'Daily Register'!BA$3:BA$242)=TRUE,\"P\",\"A\")","v":"A"},{"$f":"IF(Attendance($C6,'Daily Register'!BB$3:BB$242)=TRUE,\"P\",\"A\")","v":"A"},{"$f":"IF(Attendance($C6,'Daily Register'!BC$3:BC$242)=TRUE,\"P\",\"A\")","v":"A"},{"$f":"IF(Attendance($C6,'Daily Register'!BD$3:BD$242)=TRUE,\"P\",\"A\")","v":"A"},{"$f":"IF(Attendance($C6,'Daily Register'!BE$3:BE$242)=TRUE,\"P\",\"A\")","v":"A"},{"$f":"IF(Attendance($C6,'Daily Register'!BF$3:BF$242)=TRUE,\"P\",\"A\")","v":"A"},{"$f":"IF(Attendance($C6,'Daily Register'!BG$3:BG$242)=TRUE,\"P\",\"A\")","v":"A"},{"$f":"IF(Attendance($C6,'Daily Register'!BH$3:BH$242)=TRUE,\"P\",\"A\")","v":"A"},{"$f":"IF(Attendance($C6,'Daily Register'!BI$3:BI$242)=TRUE,\"P\",\"A\")","v":"A"},{"$f":"IF(Attendance($C6,'Daily Register'!BJ$3:BJ$242)=TRUE,\"P\",\"A\")","v":"A"},{"$f":"IF(Attendance($C6,'Daily Register'!BK$3:BK$242)=TRUE,\"P\",\"A\")","v":"A"},{"$f":"IF(Attendance($C6,'Daily Register'!BL$3:BL$242)=TRUE,\"P\",\"A\")","v":"A"},{"$f":"IF(Attendance($C6,'Daily Register'!BM$3:BM$242)=TRUE,\"P\",\"A\")","v":"A"},{"$f":"IF(Attendance($C6,'Daily Register'!BN$3:BN$242)=TRUE,\"P\",\"A\")","v":"A"},{"$f":"IF(Attendance($C6,'Daily Register'!BO$3:BO$242)=TRUE,\"P\",\"A\")","v":"A"},{"$f":"IF(Attendance($C6,'Daily Register'!BP$3:BP$242)=TRUE,\"P\",\"A\")","v":"A"},{"$f":"IF(Attendance($C6,'Daily Register'!BQ$3:BQ$242)=TRUE,\"P\",\"A\")","v":"A"},{"$f":"IF(Attendance($C6,'Daily Register'!BR$3:BR$242)=TRUE,\"P\",\"A\")","v":"A"},{"$f":"IF(Attendance($C6,'Daily Register'!BS$3:BS$242)=TRUE,\"P\",\"A\")","v":"A"},{"$f":"IF(Attendance($C6,'Daily Register'!BT$3:BT$242)=TRUE,\"P\",\"A\")","v":"A"},{"$f":"IF(Attendance($C6,'Daily Register'!BU$3:BU$242)=TRUE,\"P\",\"A\")","v":"A"},{"$f":"IF(Attendance($C6,'Daily Register'!BV$3:BV$242)=TRUE,\"P\",\"A\")","v":"A"},{"$f":"IF(Attendance($C6,'Daily Register'!BW$3:BW$242)=TRUE,\"P\",\"A\")","v":"A"},{"$f":"IF(Attendance($C6,'Daily Register'!BX$3:BX$242)=TRUE,\"P\",\"A\")","v":"A"},{"$f":"IF(Attendance($C6,'Daily Register'!BY$3:BY$242)=TRUE,\"P\",\"A\")","v":"A"},{"$f":"IF(Attendance($C6,'Daily Register'!BZ$3:BZ$242)=TRUE,\"P\",\"A\")","v":"A"},{"$f":"IF(Attendance($C6,'Daily Register'!CA$3:CA$242)=TRUE,\"P\",\"A\")","v":"A"},{"$f":"IF(Attendance($C6,'Daily Register'!CB$3:CB$242)=TRUE,\"P\",\"A\")","v":"A"},{"$f":"IF(Attendance($C6,'Daily Register'!CC$3:CC$242)=TRUE,\"P\",\"A\")","v":"A"},{"$f":"IF(Attendance($C6,'Daily Register'!CD$3:CD$242)=TRUE,\"P\",\"A\")","v":"A"},{"$f":"IF(Attendance($C6,'Daily Register'!CE$3:CE$242)=TRUE,\"P\",\"A\")","v":"A"},{"$f":"IF(Attendance($C6,'Daily Register'!CF$3:CF$242)=TRUE,\"P\",\"A\")","v":"A"},{"$f":"IF(Attendance($C6,'Daily Register'!CG$3:CG$242)=TRUE,\"P\",\"A\")","v":"A"},{"$f":"IF(Attendance($C6,'Daily Register'!CH$3:CH$242)=TRUE,\"P\",\"A\")","v":"A"},{"$f":"IF(Attendance($C6,'Daily Register'!CI$3:CI$242)=TRUE,\"P\",\"A\")","v":"A"},{"$f":"IF(Attendance($C6,'Daily Register'!CJ$3:CJ$242)=TRUE,\"P\",\"A\")","v":"A"},{"$f":"IF(Attendance($C6,'Daily Register'!CK$3:CK$242)=TRUE,\"P\",\"A\")","v":"A"},{"$f":"IF(Attendance($C6,'Daily Register'!CL$3:CL$242)=TRUE,\"P\",\"A\")","v":"A"},{"$f":"IF(Attendance($C6,'Daily Register'!CM$3:CM$242)=TRUE,\"P\",\"A\")","v":"A"},{"$f":"IF(Attendance($C6,'Daily Register'!CN$3:CN$242)=TRUE,\"P\",\"A\")","v":"A"},{"$f":"IF(Attendance($C6,'Daily Register'!CO$3:CO$242)=TRUE,\"P\",\"A\")","v":"A"},{"$f":"IF(Attendance($C6,'Daily Register'!CP$3:CP$242)=TRUE,\"P\",\"A\")","v":"A"},{"$f":"IF(Attendance($C6,'Daily Register'!CQ$3:CQ$242)=TRUE,\"P\",\"A\")","v":"A"},{"$f":"IF(Attendance($C6,'Daily Register'!CR$3:CR$242)=TRUE,\"P\",\"A\")","v":"A"},{"$f":"IF(Attendance($C6,'Daily Register'!CS$3:CS$242)=TRUE,\"P\",\"A\")","v":"A"},{"$f":"IF(Attendance($C6,'Daily Register'!CT$3:CT$242)=TRUE,\"P\",\"A\")","v":"A"},{"$f":"IF(Attendance($C6,'Daily Register'!CU$3:CU$242)=TRUE,\"P\",\"A\")","v":"A"},{"$f":"IF(Attendance($C6,'Daily Register'!CV$3:CV$242)=TRUE,\"P\",\"A\")","v":"A"},{"$f":"IF(Attendance($C6,'Daily Register'!CW$3:CW$242)=TRUE,\"P\",\"A\")","v":"A"},{"$f":"IF(Attendance($C6,'Daily Register'!CX$3:CX$242)=TRUE,\"P\",\"A\")","v":"A"},{"$f":"IF(Attendance($C6,'Daily Register'!CY$3:CY$242)=TRUE,\"P\",\"A\")","v":"A"},{"$f":"IF(Attendance($C6,'Daily Register'!CZ$3:CZ$242)=TRUE,\"P\",\"A\")","v":"A"},{"$f":"IF(Attendance($C6,'Daily Register'!DA$3:DA$242)=TRUE,\"P\",\"A\")","v":"A"},{"$f":"IF(Attendance($C6,'Daily Register'!DB$3:DB$242)=TRUE,\"P\",\"A\")","v":"A"},{"$f":"IF(Attendance($C6,'Daily Register'!DC$3:DC$242)=TRUE,\"P\",\"A\")","v":"A"},{"$f":"IF(Attendance($C6,'Daily Register'!DD$3:DD$242)=TRUE,\"P\",\"A\")","v":"A"},{"$f":"IF(Attendance($C6,'Daily Register'!DE$3:DE$242)=TRUE,\"P\",\"A\")","v":"A"},{"$f":"IF(Attendance($C6,'Daily Register'!DF$3:DF$242)=TRUE,\"P\",\"A\")","v":"A"},{"$f":"IF(Attendance($C6,'Daily Register'!DG$3:DG$242)=TRUE,\"P\",\"A\")","v":"A"},{"$f":"IF(Attendance($C6,'Daily Register'!DH$3:DH$242)=TRUE,\"P\",\"A\")","v":"A"},{"$f":"IF(Attendance($C6,'Daily Register'!DI$3:DI$242)=TRUE,\"P\",\"A\")","v":"A"},{"$f":"IF(Attendance($C6,'Daily Register'!DJ$3:DJ$242)=TRUE,\"P\",\"A\")","v":"A"},{"$f":"IF(Attendance($C6,'Daily Register'!DK$3:DK$242)=TRUE,\"P\",\"A\")","v":"A"},{"$f":"IF(Attendance($C6,'Daily Register'!DL$3:DL$242)=TRUE,\"P\",\"A\")","v":"A"},{"$f":"IF(Attendance($C6,'Daily Register'!DM$3:DM$242)=TRUE,\"P\",\"A\")","v":"A"},{"$f":"IF(Attendance($C6,'Daily Register'!DN$3:DN$242)=TRUE,\"P\",\"A\")","v":"A"},{"$f":"IF(Attendance($C6,'Daily Register'!DO$3:DO$242)=TRUE,\"P\",\"A\")","v":"A"},{"$f":"IF(Attendance($C6,'Daily Register'!DP$3:DP$242)=TRUE,\"P\",\"A\")","v":"A"},{"$f":"IF(Attendance($C6,'Daily Register'!DQ$3:DQ$242)=TRUE,\"P\",\"A\")","v":"A"},{"$f":"IF(Attendance($C6,'Daily Register'!DR$3:DR$242)=TRUE,\"P\",\"A\")","v":"A"},{"$f":"IF(Attendance($C6,'Daily Register'!DS$3:DS$242)=TRUE,\"P\",\"A\")","v":"A"},{"$f":"IF(Attendance($C6,'Daily Register'!DT$3:DT$242)=TRUE,\"P\",\"A\")","v":"A"},{"$f":"IF(Attendance($C6,'Daily Register'!DU$3:DU$242)=TRUE,\"P\",\"A\")","v":"A"},{"$f":"IF(Attendance($C6,'Daily Register'!DV$3:DV$242)=TRUE,\"P\",\"A\")","v":"A"},{"$f":"IF(Attendance($C6,'Daily Register'!DW$3:DW$242)=TRUE,\"P\",\"A\")","v":"A"},{"$f":"IF(Attendance($C6,'Daily Register'!DX$3:DX$242)=TRUE,\"P\",\"A\")","v":"A"},{"$f":"IF(Attendance($C6,'Daily Register'!DY$3:DY$242)=TRUE,\"P\",\"A\")","v":"A"},{"$f":"IF(Attendance($C6,'Daily Register'!DZ$3:DZ$242)=TRUE,\"P\",\"A\")","v":"A"},{"$f":"IF(Attendance($C6,'Daily Register'!EA$3:EA$242)=TRUE,\"P\",\"A\")","v":"A"},{"$f":"IF(Attendance($C6,'Daily Register'!EB$3:EB$242)=TRUE,\"P\",\"A\")","v":"A"},{"$f":"IF(Attendance($C6,'Daily Register'!EC$3:EC$242)=TRUE,\"P\",\"A\")","v":"A"},{"$f":"IF(Attendance($C6,'Daily Register'!ED$3:ED$242)=TRUE,\"P\",\"A\")","v":"A"},{"$f":"IF(Attendance($C6,'Daily Register'!EE$3:EE$242)=TRUE,\"P\",\"A\")","v":"A"},{"$f":"IF(Attendance($C6,'Daily Register'!EF$3:EF$242)=TRUE,\"P\",\"A\")","v":"A"},{"$f":"IF(Attendance($C6,'Daily Register'!EG$3:EG$242)=TRUE,\"P\",\"A\")","v":"A"},{"$f":"IF(Attendance($C6,'Daily Register'!EH$3:EH$242)=TRUE,\"P\",\"A\")","v":"A"},{"$f":"IF(Attendance($C6,'Daily Register'!EI$3:EI$242)=TRUE,\"P\",\"A\")","v":"A"},{"$f":"IF(Attendance($C6,'Daily Register'!EJ$3:EJ$242)=TRUE,\"P\",\"A\")","v":"A"},{"$f":"IF(Attendance($C6,'Daily Register'!EK$3:EK$242)=TRUE,\"P\",\"A\")","v":"A"},{"$f":"IF(Attendance($C6,'Daily Register'!EL$3:EL$242)=TRUE,\"P\",\"A\")","v":"A"},{"$f":"IF(Attendance($C6,'Daily Register'!EM$22:EM$242)=TRUE,\"P\",\"A\")","v":"A"},{"$f":"IF(Attendance($C6,'Daily Register'!EN$3:EN$242)=TRUE,\"P\",\"A\")","v":"A"},{"$f":"IF(Attendance($C6,'Daily Register'!EO$3:EO$242)=TRUE,\"P\",\"A\")","v":"A"},{"$f":"IF(Attendance($C6,'Daily Register'!EP$3:EP$242)=TRUE,\"P\",\"A\")","v":"A"},{"$f":"IF(Attendance($C6,'Daily Register'!EQ$3:EQ$242)=TRUE,\"P\",\"A\")","v":"A"},{"$f":"IF(Attendance($C6,'Daily Register'!ER$3:ER$242)=TRUE,\"P\",\"A\")","v":"A"},{"$f":"IF(Attendance($C6,'Daily Register'!ES$3:ES$242)=TRUE,\"P\",\"A\")","v":"A"},{"$f":"IF(Attendance($C6,'Daily Register'!ET$3:ET$242)=TRUE,\"P\",\"A\")","v":"A"},{"$f":"IF(Attendance($C6,'Daily Register'!EU$3:EU$242)=TRUE,\"P\",\"A\")","v":"A"},{"$f":"IF(Attendance($C6,'Daily Register'!EV$3:EV$242)=TRUE,\"P\",\"A\")","v":"A"},{"$f":"IF(Attendance($C6,'Daily Register'!EW$3:EW$242)=TRUE,\"P\",\"A\")","v":"A"},{"$f":"IF(Attendance($C6,'Daily Register'!EX$3:EX$242)=TRUE,\"P\",\"A\")","v":"A"},{"$f":"IF(Attendance($C6,'Daily Register'!EY$3:EY$242)=TRUE,\"P\",\"A\")","v":"A"},{"$f":"IF(Attendance($C6,'Daily Register'!EZ$3:EZ$242)=TRUE,\"P\",\"A\")","v":"A"},{"$f":"IF(Attendance($C6,'Daily Register'!FA$3:FA$242)=TRUE,\"P\",\"A\")","v":"A"},{"$f":"IF(Attendance($C6,'Daily Register'!FB$3:FB$242)=TRUE,\"P\",\"A\")","v":"A"},{"$f":"IF(Attendance($C6,'Daily Register'!FC$3:FC$242)=TRUE,\"P\",\"A\")","v":"A"},{"$f":"IF(Attendance($C6,'Daily Register'!FD$3:FD$242)=TRUE,\"P\",\"A\")","v":"A"},{"$f":"IF(Attendance($C6,'Daily Register'!FE$3:FE$242)=TRUE,\"P\",\"A\")","v":"A"},{"$f":"IF(Attendance($C6,'Daily Register'!FF$3:FF$242)=TRUE,\"P\",\"A\")","v":"A"},{"$f":"IF(Attendance($C6,'Daily Register'!FG$3:FG$242)=TRUE,\"P\",\"A\")","v":"A"},{"$f":"IF(Attendance($C6,'Daily Register'!FH$3:FH$242)=TRUE,\"P\",\"A\")","v":"A"},{"$f":"IF(Attendance($C6,'Daily Register'!FI$3:FI$242)=TRUE,\"P\",\"A\")","v":"A"},{"$f":"IF(Attendance($C6,'Daily Register'!FJ$3:FJ$242)=TRUE,\"P\",\"A\")","v":"A"},{"$f":"IF(Attendance($C6,'Daily Register'!FK$3:FK$242)=TRUE,\"P\",\"A\")","v":"A"},{"$f":"IF(Attendance($C6,'Daily Register'!FL$3:FL$242)=TRUE,\"P\",\"A\")","v":"A"},{"$f":"IF(Attendance($C6,'Daily Register'!FM$3:FM$242)=TRUE,\"P\",\"A\")","v":"A"},{"$f":"IF(Attendance($C6,'Daily Register'!FN$3:FN$242)=TRUE,\"P\",\"A\")","v":"A"},{"$f":"IF(Attendance($C6,'Daily Register'!FO$3:FO$242)=TRUE,\"P\",\"A\")","v":"A"},{"$f":"IF(Attendance($C6,'Daily Register'!FP$3:FP$242)=TRUE,\"P\",\"A\")","v":"A"},{"$f":"IF(Attendance($C6,'Daily Register'!FQ$3:FQ$242)=TRUE,\"P\",\"A\")","v":"A"},{"$f":"IF(Attendance($C6,'Daily Register'!FR$3:FR$242)=TRUE,\"P\",\"A\")","v":"A"},{"$f":"IF(Attendance($C6,'Daily Register'!FS$3:FS$242)=TRUE,\"P\",\"A\")","v":"A"},{"$f":"IF(Attendance($C6,'Daily Register'!FT$3:FT$242)=TRUE,\"P\",\"A\")","v":"A"},{"$f":"IF(Attendance($C6,'Daily Register'!FU$3:FU$242)=TRUE,\"P\",\"A\")","v":"A"},{"$f":"IF(Attendance($C6,'Daily Register'!FV$3:FV$242)=TRUE,\"P\",\"A\")","v":"A"},{"$f":"IF(Attendance($C6,'Daily Register'!FW$3:FW$242)=TRUE,\"P\",\"A\")","v":"A"},{"$f":"IF(Attendance($C6,'Daily Register'!FX$3:FX$242)=TRUE,\"P\",\"A\")","v":"A"},{"$f":"IF(Attendance($C6,'Daily Register'!FY$3:FY$242)=TRUE,\"P\",\"A\")","v":"A"},{"$f":"IF(Attendance($C6,'Daily Register'!FZ$3:FZ$242)=TRUE,\"P\",\"A\")","v":"A"},{"$f":"IF(Attendance($C6,'Daily Register'!GA$3:GA$242)=TRUE,\"P\",\"A\")","v":"A"},{"$f":"IF(Attendance($C6,'Daily Register'!GB$3:GB$242)=TRUE,\"P\",\"A\")","v":"A"},{"$f":"IF(Attendance($C6,'Daily Register'!GC$3:GC$242)=TRUE,\"P\",\"A\")","v":"A"},{"$f":"IF(Attendance($C6,'Daily Register'!GD$3:GD$242)=TRUE,\"P\",\"A\")","v":"A"},{"$f":"IF(Attendance($C6,'Daily Register'!GE$3:GE$242)=TRUE,\"P\",\"A\")","v":"A"},{"$f":"IF(Attendance($C6,'Daily Register'!GF$3:GF$242)=TRUE,\"P\",\"A\")","v":"A"},{"$f":"IF(Attendance($C6,'Daily Register'!GG$3:GG$242)=TRUE,\"P\",\"A\")","v":"A"},{"$f":"IF(Attendance($C6,'Daily Register'!GH$3:GH$242)=TRUE,\"P\",\"A\")","v":"A"},{"$f":"IF(Attendance($C6,'Daily Register'!GI$3:GI$242)=TRUE,\"P\",\"A\")","v":"A"},{"$f":"IF(Attendance($C6,'Daily Register'!GJ$3:GJ$242)=TRUE,\"P\",\"A\")","v":"A"},{"$f":"IF(Attendance($C6,'Daily Register'!GK$3:GK$242)=TRUE,\"P\",\"A\")","v":"A"},{"$f":"IF(Attendance($C6,'Daily Register'!GL$3:GL$242)=TRUE,\"P\",\"A\")","v":"A"},{"$f":"IF(Attendance($C6,'Daily Register'!GM$3:GM$242)=TRUE,\"P\",\"A\")","v":"A"},{"$f":"IF(Attendance($C6,'Daily Register'!GN$3:GN$242)=TRUE,\"P\",\"A\")","v":"A"},{"$f":"IF(Attendance($C6,'Daily Register'!GO$3:GO$242)=TRUE,\"P\",\"A\")","v":"A"},{"$f":"IF(Attendance($C6,'Daily Register'!GP$3:GP$242)=TRUE,\"P\",\"A\")","v":"A"},{"$f":"IF(Attendance($C6,'Daily Register'!GQ$3:GQ$242)=TRUE,\"P\",\"A\")","v":"A"},{"$f":"IF(Attendance($C6,'Daily Register'!GR$3:GR$242)=TRUE,\"P\",\"A\")","v":"A"},{"$f":"IF(Attendance($C6,'Daily Register'!GS$3:GS$242)=TRUE,\"P\",\"A\")","v":"A"},{"$f":"IF(Attendance($C6,'Daily Register'!GT$3:GT$242)=TRUE,\"P\",\"A\")","v":"A"},{"$f":"IF(Attendance($C6,'Daily Register'!GU$3:GU$242)=TRUE,\"P\",\"A\")","v":"A"},{"$f":"IF(Attendance($C6,'Daily Register'!GV$3:GV$242)=TRUE,\"P\",\"A\")","v":"A"},{"$f":"IF(Attendance($C6,'Daily Register'!GW$3:GW$242)=TRUE,\"P\",\"A\")","v":"A"},{"$f":"IF(Attendance($C6,'Daily Register'!GX$3:GX$242)=TRUE,\"P\",\"A\")","v":"A"},{"$f":"IF(Attendance($C6,'Daily Register'!GY$3:GY$242)=TRUE,\"P\",\"A\")","v":"A"},{"$f":"IF(Attendance($C6,'Daily Register'!GZ$3:GZ$242)=TRUE,\"P\",\"A\")","v":"A"},{"$f":"IF(Attendance($C6,'Daily Register'!HA$3:HA$242)=TRUE,\"P\",\"A\")","v":"A"},{"$f":"IF(Attendance($C6,'Daily Register'!HB$3:HB$242)=TRUE,\"P\",\"A\")","v":"A"},{"$f":"IF(Attendance($C6,'Daily Register'!HC$3:HC$242)=TRUE,\"P\",\"A\")","v":"A"},{"$f":"IF(Attendance($C6,'Daily Register'!HD$3:HD$242)=TRUE,\"P\",\"A\")","v":"A"},{"$f":"IF(Attendance($C6,'Daily Register'!HE$3:HE$242)=TRUE,\"P\",\"A\")","v":"A"},{"$f":"IF(Attendance($C6,'Daily Register'!HF$3:HF$242)=TRUE,\"P\",\"A\")","v":"A"},{"$f":"IF(Attendance($C6,'Daily Register'!HG$3:HG$242)=TRUE,\"P\",\"A\")","v":"A"},{"$f":"IF(Attendance($C6,'Daily Register'!HH$3:HH$242)=TRUE,\"P\",\"A\")","v":"A"},{"$f":"IF(Attendance($C6,'Daily Register'!HI$3:HI$242)=TRUE,\"P\",\"A\")","v":"A"},{"$f":"IF(Attendance($C6,'Daily Register'!HJ$3:HJ$242)=TRUE,\"P\",\"A\")","v":"A"},{"$f":"IF(Attendance($C6,'Daily Register'!HK$3:HK$242)=TRUE,\"P\",\"A\")","v":"A"},{"$f":"IF(Attendance($C6,'Daily Register'!HL$3:HL$242)=TRUE,\"P\",\"A\")","v":"A"},{"$f":"IF(Attendance($C6,'Daily Register'!HM$3:HM$242)=TRUE,\"P\",\"A\")","v":"A"},{"$f":"IF(Attendance($C6,'Daily Register'!HN$3:HN$242)=TRUE,\"P\",\"A\")","v":"A"},{"$f":"IF(Attendance($C6,'Daily Register'!HO$3:HO$242)=TRUE,\"P\",\"A\")","v":"A"},{"$f":"IF(Attendance($C6,'Daily Register'!HP$3:HP$242)=TRUE,\"P\",\"A\")","v":"A"},{"$f":"IF(Attendance($C6,'Daily Register'!HQ$3:HQ$242)=TRUE,\"P\",\"A\")","v":"A"},{"$f":"IF(Attendance($C6,'Daily Register'!HR$3:HR$242)=TRUE,\"P\",\"A\")","v":"A"},{"$f":"IF(Attendance($C6,'Daily Register'!HS$3:HS$242)=TRUE,\"P\",\"A\")","v":"A"},{"$f":"IF(Attendance($C6,'Daily Register'!HT$3:HT$242)=TRUE,\"P\",\"A\")","v":"A"},{"$f":"IF(Attendance($C6,'Daily Register'!HU$3:HU$242)=TRUE,\"P\",\"A\")","v":"A"},{"$f":"IF(Attendance($C6,'Daily Register'!HV$3:HV$242)=TRUE,\"P\",\"A\")","v":"A"},{"$f":"IF(Attendance($C6,'Daily Register'!HW$3:HW$242)=TRUE,\"P\",\"A\")","v":"A"},{"$f":"IF(Attendance($C6,'Daily Register'!HX$3:HX$242)=TRUE,\"P\",\"A\")","v":"A"},{"$f":"IF(Attendance($C6,'Daily Register'!HY$3:HY$242)=TRUE,\"P\",\"A\")","v":"A"},{"$f":"IF(Attendance($C6,'Daily Register'!HZ$3:HZ$242)=TRUE,\"P\",\"A\")","v":"A"},{"$f":"IF(Attendance($C6,'Daily Register'!IA$3:IA$242)=TRUE,\"P\",\"A\")","v":"A"},{"$f":"IF(Attendance($C6,'Daily Register'!IB$3:IB$242)=TRUE,\"P\",\"A\")","v":"A"},{"$f":"IF(Attendance($C6,'Daily Register'!IC$3:IC$242)=TRUE,\"P\",\"A\")","v":"A"},{"$f":"IF(Attendance($C6,'Daily Register'!ID$3:ID$242)=TRUE,\"P\",\"A\")","v":"A"},{"$f":"IF(Attendance($C6,'Daily Register'!IE$3:IE$242)=TRUE,\"P\",\"A\")","v":"A"},{"$f":"IF(Attendance($C6,'Daily Register'!IF$3:IF$242)=TRUE,\"P\",\"A\")","v":"A"},{"$f":"IF(Attendance($C6,'Daily Register'!IG$3:IG$242)=TRUE,\"P\",\"A\")","v":"A"},{"$f":"IF(Attendance($C6,'Daily Register'!IH$3:IH$242)=TRUE,\"P\",\"A\")","v":"A"},{"$f":"IF(Attendance($C6,'Daily Register'!II$3:II$242)=TRUE,\"P\",\"A\")","v":"A"},{"$f":"IF(Attendance($C6,'Daily Register'!IJ$3:IJ$242)=TRUE,\"P\",\"A\")","v":"A"},{"$f":"IF(Attendance($C6,'Daily Register'!IK$3:IK$242)=TRUE,\"P\",\"A\")","v":"A"},{"$f":"IF(Attendance($C6,'Daily Register'!IL$3:IL$242)=TRUE,\"P\",\"A\")","v":"A"},{"$f":"IF(Attendance($C6,'Daily Register'!IM$3:IM$242)=TRUE,\"P\",\"A\")","v":"A"},{"$f":"IF(Attendance($C6,'Daily Register'!IN$3:IN$242)=TRUE,\"P\",\"A\")","v":"A"},{"$f":"IF(Attendance($C6,'Daily Register'!IO$3:IO$242)=TRUE,\"P\",\"A\")","v":"A"},{"$f":"IF(Attendance($C6,'Daily Register'!IP$3:IP$242)=TRUE,\"P\",\"A\")","v":"A"},{"$f":"IF(Attendance($C6,'Daily Register'!IQ$3:IQ$242)=TRUE,\"P\",\"A\")","v":"A"},{"$f":"IF(Attendance($C6,'Daily Register'!IR$3:IR$242)=TRUE,\"P\",\"A\")","v":"A"},{"$f":"IF(Attendance($C6,'Daily Register'!IS$3:IS$242)=TRUE,\"P\",\"A\")","v":"A"},{"$f":"IF(Attendance($C6,'Daily Register'!IT$3:IT$242)=TRUE,\"P\",\"A\")","v":"A"},{"$f":"IF(Attendance($C6,'Daily Register'!IU$3:IU$242)=TRUE,\"P\",\"A\")","v":"A"},{"$f":"IF(Attendance($C6,'Daily Register'!IV$3:IV$242)=TRUE,\"P\",\"A\")","v":"A"},{"$f":"IF(Attendance($C6,'Daily Register'!IW$3:IW$242)=TRUE,\"P\",\"A\")","v":"A"},{"$f":"IF(Attendance($C6,'Daily Register'!IX$3:IX$242)=TRUE,\"P\",\"A\")","v":"A"},{"$f":"IF(Attendance($C6,'Daily Register'!IY$3:IY$242)=TRUE,\"P\",\"A\")","v":"A"},{"$f":"IF(Attendance($C6,'Daily Register'!IZ$3:IZ$242)=TRUE,\"P\",\"A\")","v":"A"},{"$f":"IF(Attendance($C6,'Daily Register'!JA$3:JA$242)=TRUE,\"P\",\"A\")","v":"A"},{"$f":"IF(Attendance($C6,'Daily Register'!JB$3:JB$242)=TRUE,\"P\",\"A\")","v":"A"},{"$f":"IF(Attendance($C6,'Daily Register'!JC$3:JC$242)=TRUE,\"P\",\"A\")","v":"A"},{"$f":"IF(Attendance($C6,'Daily Register'!JD$3:JD$242)=TRUE,\"P\",\"A\")","v":"A"},{"$f":"IF(Attendance($C6,'Daily Register'!JE$3:JE$242)=TRUE,\"P\",\"A\")","v":"A"},{"$f":"IF(Attendance($C6,'Daily Register'!JF$3:JF$242)=TRUE,\"P\",\"A\")","v":"A"},{"$f":"IF(Attendance($C6,'Daily Register'!JG$3:JG$242)=TRUE,\"P\",\"A\")","v":"A"},{"$f":"IF(Attendance($C6,'Daily Register'!JH$3:JH$242)=TRUE,\"P\",\"A\")","v":"A"},{"$f":"IF(Attendance($C6,'Daily Register'!JI$3:JI$242)=TRUE,\"P\",\"A\")","v":"A"},{"$f":"IF(Attendance($C6,'Daily Register'!JJ$3:JJ$242)=TRUE,\"P\",\"A\")","v":"A"},{"$f":"IF(Attendance($C6,'Daily Register'!JK$3:JK$242)=TRUE,\"P\",\"A\")","v":"A"},{"$f":"IF(Attendance($C6,'Daily Register'!JL$3:JL$242)=TRUE,\"P\",\"A\")","v":"A"},{"$f":"IF(Attendance($C6,'Daily Register'!JM$3:JM$242)=TRUE,\"P\",\"A\")","v":"A"},{"$f":"IF(Attendance($C6,'Daily Register'!JN$3:JN$242)=TRUE,\"P\",\"A\")","v":"A"},{"$f":"IF(Attendance($C6,'Daily Register'!JO$3:JO$242)=TRUE,\"P\",\"A\")","v":"A"},{"$f":"IF(Attendance($C6,'Daily Register'!JP$3:JP$242)=TRUE,\"P\",\"A\")","v":"A"},{"$f":"IF(Attendance($C6,'Daily Register'!JQ$3:JQ$242)=TRUE,\"P\",\"A\")","v":"A"},{"$f":"IF(Attendance($C6,'Daily Register'!JR$3:JR$242)=TRUE,\"P\",\"A\")","v":"A"},{"$f":"IF(Attendance($C6,'Daily Register'!JS$3:JS$242)=TRUE,\"P\",\"A\")","v":"A"},{"$f":"IF(Attendance($C6,'Daily Register'!JT$3:JT$242)=TRUE,\"P\",\"A\")","v":"A"},{"$f":"IF(Attendance($C6,'Daily Register'!JU$3:JU$242)=TRUE,\"P\",\"A\")","v":"A"},{"$f":"IF(Attendance($C6,'Daily Register'!JV$3:JV$242)=TRUE,\"P\",\"A\")","v":"A"},{"$f":"IF(Attendance($C6,'Daily Register'!JW$3:JW$242)=TRUE,\"P\",\"A\")","v":"A"},{"$f":"IF(Attendance($C6,'Daily Register'!JX$3:JX$242)=TRUE,\"P\",\"A\")","v":"A"},{"$f":"IF(Attendance($C6,'Daily Register'!JY$3:JY$242)=TRUE,\"P\",\"A\")","v":"A"},{"$f":"IF(Attendance($C6,'Daily Register'!JZ$3:JZ$242)=TRUE,\"P\",\"A\")","v":"A"},{"$f":"IF(Attendance($C6,'Daily Register'!KA$3:KA$242)=TRUE,\"P\",\"A\")","v":"A"},{"$f":"IF(Attendance($C6,'Daily Register'!KB$3:KB$242)=TRUE,\"P\",\"A\")","v":"A"},{"$f":"IF(Attendance($C6,'Daily Register'!KC$3:KC$242)=TRUE,\"P\",\"A\")","v":"A"},{"$f":"IF(Attendance($C6,'Daily Register'!KD$3:KD$242)=TRUE,\"P\",\"A\")","v":"A"},{"$f":"IF(Attendance($C6,'Daily Register'!KE$3:KE$242)=TRUE,\"P\",\"A\")","v":"A"},{"$f":"IF(Attendance($C6,'Daily Register'!KF$3:KF$242)=TRUE,\"P\",\"A\")","v":"A"},{"$f":"IF(Attendance($C6,'Daily Register'!KG$3:KG$242)=TRUE,\"P\",\"A\")","v":"A"},{"$f":"IF(Attendance($C6,'Daily Register'!KH$3:KH$242)=TRUE,\"P\",\"A\")","v":"A"},{"$f":"IF(Attendance($C6,'Daily Register'!KI$3:KI$242)=TRUE,\"P\",\"A\")","v":"A"},{"$f":"IF(Attendance($C6,'Daily Register'!KJ$3:KJ$242)=TRUE,\"P\",\"A\")","v":"A"},{"$f":"IF(Attendance($C6,'Daily Register'!KK$3:KK$242)=TRUE,\"P\",\"A\")","v":"A"},{"$f":"IF(Attendance($C6,'Daily Register'!KL$3:KL$242)=TRUE,\"P\",\"A\")","v":"A"},{"$f":"IF(Attendance($C6,'Daily Register'!KM$3:KM$242)=TRUE,\"P\",\"A\")","v":"A"},{"$f":"IF(Attendance($C6,'Daily Register'!KN$3:KN$242)=TRUE,\"P\",\"A\")","v":"A"},{"$f":"IF(Attendance($C6,'Daily Register'!KO$3:KO$242)=TRUE,\"P\",\"A\")","v":"A"},{"$f":"IF(Attendance($C6,'Daily Register'!KP$3:KP$242)=TRUE,\"P\",\"A\")","v":"A"},{"$f":"IF(Attendance($C6,'Daily Register'!KQ$3:KQ$242)=TRUE,\"P\",\"A\")","v":"A"},{"$f":"IF(Attendance($C6,'Daily Register'!KR$3:KR$242)=TRUE,\"P\",\"A\")","v":"A"},{"$f":"IF(Attendance($C6,'Daily Register'!KS$3:KS$242)=TRUE,\"P\",\"A\")","v":"A"},{"$f":"IF(Attendance($C6,'Daily Register'!KT$3:KT$242)=TRUE,\"P\",\"A\")","v":"A"},{"$f":"IF(Attendance($C6,'Daily Register'!KU$3:KU$242)=TRUE,\"P\",\"A\")","v":"A"},{"$f":"IF(Attendance($C6,'Daily Register'!KV$3:KV$242)=TRUE,\"P\",\"A\")","v":"A"},{"$f":"IF(Attendance($C6,'Daily Register'!KW$3:KW$242)=TRUE,\"P\",\"A\")","v":"A"},{"$f":"IF(Attendance($C6,'Daily Register'!KX$3:KX$242)=TRUE,\"P\",\"A\")","v":"A"},{"$f":"IF(Attendance($C6,'Daily Register'!KY$3:KY$242)=TRUE,\"P\",\"A\")","v":"A"},{"$f":"IF(Attendance($C6,'Daily Register'!KZ$3:KZ$242)=TRUE,\"P\",\"A\")","v":"A"},{"$f":"IF(Attendance($C6,'Daily Register'!LA$3:LA$242)=TRUE,\"P\",\"A\")","v":"A"},{"$f":"IF(Attendance($C6,'Daily Register'!LB$3:LB$242)=TRUE,\"P\",\"A\")","v":"A"},{"$f":"IF(Attendance($C6,'Daily Register'!LC$3:LC$242)=TRUE,\"P\",\"A\")","v":"A"},{"$f":"IF(Attendance($C6,'Daily Register'!LD$3:LD$242)=TRUE,\"P\",\"A\")","v":"A"},{"$f":"IF(Attendance($C6,'Daily Register'!LE$3:LE$242)=TRUE,\"P\",\"A\")","v":"A"},{"$f":"IF(Attendance($C6,'Daily Register'!LF$3:LF$242)=TRUE,\"P\",\"A\")","v":"A"},{"$f":"IF(Attendance($C6,'Daily Register'!LG$3:LG$242)=TRUE,\"P\",\"A\")","v":"A"},{"$f":"IF(Attendance($C6,'Daily Register'!LH$3:LH$242)=TRUE,\"P\",\"A\")","v":"A"},{"$f":"IF(Attendance($C6,'Daily Register'!LI$3:LI$242)=TRUE,\"P\",\"A\")","v":"A"},{"$f":"IF(Attendance($C6,'Daily Register'!LJ$3:LJ$242)=TRUE,\"P\",\"A\")","v":"A"},{"$f":"IF(Attendance($C6,'Daily Register'!LK$3:LK$242)=TRUE,\"P\",\"A\")","v":"A"},{"$f":"IF(Attendance($C6,'Daily Register'!LL$3:LL$242)=TRUE,\"P\",\"A\")","v":"A"},{"$f":"IF(Attendance($C6,'Daily Register'!LM$3:LM$242)=TRUE,\"P\",\"A\")","v":"A"},{"$f":"IF(Attendance($C6,'Daily Register'!LN$3:LN$242)=TRUE,\"P\",\"A\")","v":"A"},{"$f":"IF(Attendance($C6,'Daily Register'!LO$3:LO$242)=TRUE,\"P\",\"A\")","v":"A"},{"$f":"IF(Attendance($C6,'Daily Register'!LP$3:LP$242)=TRUE,\"P\",\"A\")","v":"A"},{"$f":"IF(Attendance($C6,'Daily Register'!LQ$3:LQ$242)=TRUE,\"P\",\"A\")","v":"A"},{"$f":"IF(Attendance($C6,'Daily Register'!LR$3:LR$242)=TRUE,\"P\",\"A\")","v":"A"},{"$f":"IF(Attendance($C6,'Daily Register'!LS$3:LS$242)=TRUE,\"P\",\"A\")","v":"A"},{"$f":"IF(Attendance($C6,'Daily Register'!LT$3:LT$242)=TRUE,\"P\",\"A\")","v":"A"},{"$f":"IF(Attendance($C6,'Daily Register'!LU$3:LU$242)=TRUE,\"P\",\"A\")","v":"A"},{"$f":"IF(Attendance($C6,'Daily Register'!LV$3:LV$242)=TRUE,\"P\",\"A\")","v":"A"},{"$f":"IF(Attendance($C6,'Daily Register'!LW$3:LW$242)=TRUE,\"P\",\"A\")","v":"A"},{"$f":"IF(Attendance($C6,'Daily Register'!LX$3:LX$242)=TRUE,\"P\",\"A\")","v":"A"},{"$f":"IF(Attendance($C6,'Daily Register'!LY$3:LY$242)=TRUE,\"P\",\"A\")","v":"A"},{"$f":"IF(Attendance($C6,'Daily Register'!LZ$3:LZ$242)=TRUE,\"P\",\"A\")","v":"A"},{"$f":"IF(Attendance($C6,'Daily Register'!MA$3:MA$242)=TRUE,\"P\",\"A\")","v":"A"},{"$f":"IF(Attendance($C6,'Daily Register'!MB$3:MB$242)=TRUE,\"P\",\"A\")","v":"A"},{"$f":"IF(Attendance($C6,'Daily Register'!MC$3:MC$242)=TRUE,\"P\",\"A\")","v":"A"},{"$f":"IF(Attendance($C6,'Daily Register'!MD$3:MD$242)=TRUE,\"P\",\"A\")","v":"A"},{"$f":"IF(Attendance($C6,'Daily Register'!ME$3:ME$242)=TRUE,\"P\",\"A\")","v":"A"},{"$f":"IF(Attendance($C6,'Daily Register'!MF$3:MF$242)=TRUE,\"P\",\"A\")","v":"A"},{"$f":"IF(Attendance($C6,'Daily Register'!MG$3:MG$242)=TRUE,\"P\",\"A\")","v":"A"},{"$f":"IF(Attendance($C6,'Daily Register'!MH$3:MH$242)=TRUE,\"P\",\"A\")","v":"A"},{"$f":"IF(Attendance($C6,'Daily Register'!MI$3:MI$242)=TRUE,\"P\",\"A\")","v":"A"},{"$f":"IF(Attendance($C6,'Daily Register'!MJ$3:MJ$242)=TRUE,\"P\",\"A\")","v":"A"},{"$f":"IF(Attendance($C6,'Daily Register'!MK$3:MK$242)=TRUE,\"P\",\"A\")","v":"A"},{"$f":"IF(Attendance($C6,'Daily Register'!ML$3:ML$242)=TRUE,\"P\",\"A\")","v":"A"},{"$f":"IF(Attendance($C6,'Daily Register'!MM$3:MM$242)=TRUE,\"P\",\"A\")","v":"A"},{"$f":"IF(Attendance($C6,'Daily Register'!MN$3:MN$242)=TRUE,\"P\",\"A\")","v":"A"},{"$f":"IF(Attendance($C6,'Daily Register'!MO$3:MO$242)=TRUE,\"P\",\"A\")","v":"A"},{"$f":"IF(Attendance($C6,'Daily Register'!MP$3:MP$242)=TRUE,\"P\",\"A\")","v":"A"},{"$f":"IF(Attendance($C6,'Daily Register'!MQ$3:MQ$242)=TRUE,\"P\",\"A\")","v":"A"},{"$f":"IF(Attendance($C6,'Daily Register'!MR$3:MR$242)=TRUE,\"P\",\"A\")","v":"A"},{"$f":"IF(Attendance($C6,'Daily Register'!MS$3:MS$242)=TRUE,\"P\",\"A\")","v":"A"},{"$f":"IF(Attendance($C6,'Daily Register'!MT$3:MT$242)=TRUE,\"P\",\"A\")","v":"A"},{"$f":"IF(Attendance($C6,'Daily Register'!MU$3:MU$242)=TRUE,\"P\",\"A\")","v":"A"},{"$f":"IF(Attendance($C6,'Daily Register'!MV$3:MV$242)=TRUE,\"P\",\"A\")","v":"A"},{"$f":"IF(Attendance($C6,'Daily Register'!MW$3:MW$242)=TRUE,\"P\",\"A\")","v":"A"},{"$f":"IF(Attendance($C6,'Daily Register'!MX$3:MX$242)=TRUE,\"P\",\"A\")","v":"A"},{"$f":"IF(Attendance($C6,'Daily Register'!MY$3:MY$242)=TRUE,\"P\",\"A\")","v":"A"},{"$f":"IF(Attendance($C6,'Daily Register'!MZ$3:MZ$242)=TRUE,\"P\",\"A\")","v":"A"},{"$f":"IF(Attendance($C6,'Daily Register'!NA$3:NA$242)=TRUE,\"P\",\"A\")","v":"A"},{"$f":"IF(Attendance($C6,'Daily Register'!NB$3:NB$242)=TRUE,\"P\",\"A\")","v":"A"}]
[0,null,4,null,{"$f":"IF(Attendance($C7,'Daily Register'!A$3:A$242)=TRUE,\"P\",\"A\")","v":"A"},{"$f":"IF(Attendance($C7,'Daily Register'!B$3:B$242)=TRUE,\"P\",\"A\")","v":"A"},{"$f":"IF(Attendance($C7,'Daily Register'!C$3:C$242)=TRUE,\"P\",\"A\")","v":"A"},{"$f":"IF(Attendance($C7,'Daily Register'!D$3:D$242)=TRUE,\"P\",\"A\")","v":"A"},{"$f":"IF(Attendance($C7,'Daily Register'!E$3:E$242)=TRUE,\"P\",\"A\")","v":"A"},{"$f":"IF(Attendance($C7,'Daily Register'!F$3:F$242)=TRUE,\"P\",\"A\")","v":"A"},{"$f":"IF(Attendance($C7,'Daily Register'!G$3:G$242)=TRUE,\"P\",\"A\")","v":"A"},{"$f":"IF(Attendance($C7,'Daily Register'!H$3:H$242)=TRUE,\"P\",\"A\")","v":"A"},{"$f":"IF(Attendance($C7,'Daily Register'!I$3:I$242)=TRUE,\"P\",\"A\")","v":"A"},{"$f":"IF(Attendance($C7,'Daily Register'!J$3:J$242)=TRUE,\"P\",\"A\")","v":"A"},{"$f":"IF(Attendance($C7,'Daily Register'!K$3:K$242)=TRUE,\"P\",\"A\")","v":"A"},{"$f":"IF(Attendance($C7,'Daily Register'!L$3:L$242)=TRUE,\"P\",\"A\")","v":"A"},{"$f":"IF(Attendance($C7,'Daily Register'!M$3:M$242)=TRUE,\"P\",\"A\")","v":"A"},{"$f":"IF(Attendance($C7,'Daily Register'!N$3:N$242)=TRUE,\"P\",\"A\")","v":"A"},{"$f":"IF(Attendance($C7,'Daily Register'!O$3:O$242)=TRUE,\"P\",\"A\")","v":"A"},{"$f":"IF(Attendance($C7,'Daily Register'!P$3:P$242)=TRUE,\"P\",\"A\")","v":"A"},{"$f":"IF(Attendance($C7,'Daily Register'!Q$3:Q$242)=TRUE,\"P\",\"A\")","v":"A"},{"$f":"IF(Attendance($C7,'Daily Register'!R$3:R$242)=TRUE,\"P\",\"A\")","v":"A"},{"$f":"IF(Attendance($C7,'Daily Register'!S$3:S$242)=TRUE,\"P\",\"A\")","v":"A"},{"$f":"IF(Attendance($C7,'Daily Register'!T$3:T$242)=TRUE,\"P\",\"A\")","v":"A"},{"$f":"IF(Attendance($C7,'Daily Register'!U$3:U$242)=TRUE,\"P\",\"A\")","v":"A"},{"$f":"IF(Attendance($C7,'Daily Register'!V$3:V$242)=TRUE,\"P\",\"A\")","v":"A"},{"$f":"IF(Attendance($C7,'Daily Register'!W$3:W$242)=TRUE,\"P\",\"A\")","v":"A"},{"$f":"IF(Attendance($C7,'Daily Register'!X$3:X$242)=TRUE,\"P\",\"A\")","v":"A"},{"$f":"IF(Attendance($C7,'Daily Register'!Y$3:Y$242)=TRUE,\"P\",\"A\")","v":"A"},{"$f":"IF(Attendance($C7,'Daily Register'!Z$3:Z$242)=TRUE,\"P\",\"A\")","v":"A"},{"$f":"IF(Attendance($C7,'Daily Register'!AA$3:AA$242)=TRUE,\"P\",\"A\")","v":"A"},{"$f":"IF(Attendance($C7,'Daily Register'!AB$3:AB$242)=TRUE,\"P\",\"A\")","v":"A"},{"$f":"IF(Attendance($C7,'Daily Register'!AC$3:AC$242)=TRUE,\"P\",\"A\")","v":"A"},{"$f":"IF(Attendance($C7,'Daily Register'!AD$3:AD$242)=TRUE,\"P\",\"A\")","v":"A"},{"$f":"IF(Attendance($C7,'Daily Register'!AE$3:AE$242)=TRUE,\"P\",\"A\")","v":"A"},{"$f":"IF(Attendance($C7,'Daily Register'!AF$3:AF$242)=TRUE,\"P\",\"A\")","v":"A"},{"$f":"IF(Attendance($C7,'Daily Register'!AG$3:AG$242)=TRUE,\"P\",\"A\")","v":"A"},{"$f":"IF(Attendance($C7,'Daily Register'!AH$3:AH$242)=TRUE,\"P\",\"A\")","v":"A"},{"$f":"IF(Attendance($C7,'Daily Register'!AI$3:AI$242)=TRUE,\"P\",\"A\")","v":"A"},{"$f":"IF(Attendance($C7,'Daily Register'!AJ$3:AJ$242)=TRUE,\"P\",\"A\")","v":"A"},{"$f":"IF(Attendance($C7,'Daily Register'!AK$3:AK$242)=TRUE,\"P\",\"A\")","v":"A"},{"$f":"IF(Attendance($C7,'Daily Register'!AL$3:AL$242)=TRUE,\"P\",\"A\")","v":"A"},{"$f":"IF(Attendance($C7,'Daily Register'!AM$3:AM$242)=TRUE,\"P\",\"A\")","v":"A"},{"$f":"IF(Attendance($C7,'Daily Register'!AN$3:AN$242)=TRUE,\"P\",\"A\")","v":"A"},{"$f":"IF(Attendance($C7,'Daily Register'!AO$3:AO$242)=TRUE,\"P\",\"A\")","v":"A"},{"$f":"IF(Attendance($C7,'Daily Register'!AP$3:AP$242)=TRUE,\"P\",\"A\")","v":"A"},{"$f":"IF(Attendance($C7,'Daily Register'!AQ$3:AQ$242)=TRUE,\"P\",\"A\")","v":"A"},{"$f":"IF(Attendance($C7,'Daily Register'!AR$3:AR$242)=TRUE,\"P\",\"A\")","v":"A"},{"$f":"IF(Attendance($C7,'Daily Register'!AS$3:AS$242)=TRUE,\"P\",\"A\")","v":"A"},{"$f":"IF(Attendance($C7,'Daily Register'!AT$3:AT$242)=TRUE,\"P\",\"A\")","v":"A"},{"$f":"IF(Attendance($C7,'Daily Register'!AU$3:AU$242)=TRUE,\"P\",\"A\")","v":"A"},{"$f":"IF(Attendance($C7,'Daily Register'!AV$3:AV$242)=TRUE,\"P\",\"A\")","v":"A"},{"$f":"IF(Attendance($C7,'Daily Register'!AW$3:AW$242)=TRUE,\"P\",\"A\")","v":"A"},{"$f":"IF(Attendance($C7,'Daily Register'!AX$3:AX$242)=TRUE,\"P\",\"A\")","v":"A"},{"$f":"IF(Attendance($C7,'Daily Register'!AY$3:AY$242)=TRUE,\"P\",\"A\")","v":"A"},{"$f":"IF(Attendance($C7,'Daily Register'!AZ$3:AZ$242)=TRUE,\"P\",\"A\")","v":"A"},{"$f":"IF(Attendance($C7,'Daily Register'!BA$3:BA$242)=TRUE,\"P\",\"A\")","v":"A"},{"$f":"IF(Attendance($C7,'Daily Register'!BB$3:BB$242)=TRUE,\"P\",\"A\")","v":"A"},{"$f":"IF(Attendance($C7,'Daily Register'!BC$3:BC$242)=TRUE,\"P\",\"A\")","v":"A"},{"$f":"IF(Attendance($C7,'Daily Register'!BD$3:BD$242)=TRUE,\"P\",\"A\")","v":"A"},{"$f":"IF(Attendance($C7,'Daily Register'!BE$3:BE$242)=TRUE,\"P\",\"A\")","v":"A"},{"$f":"IF(Attendance($C7,'Daily Register'!BF$3:BF$242)=TRUE,\"P\",\"A\")","v":"A"},{"$f":"IF(Attendance($C7,'Daily Register'!BG$3:BG$242)=TRUE,\"P\",\"A\")","v":"A"},{"$f":"IF(Attendance($C7,'Daily Register'!BH$3:BH$242)=TRUE,\"P\",\"A\")","v":"A"},{"$f":"IF(Attendance($C7,'Daily Register'!BI$3:BI$242)=TRUE,\"P\",\"A\")","v":"A"},{"$f":"IF(Attendance($C7,'Daily Register'!BJ$3:BJ$242)=TRUE,\"P\",\"A\")","v":"A"},{"$f":"IF(Attendance($C7,'Daily Register'!BK$3:BK$242)=TRUE,\"P\",\"A\")","v":"A"},{"$f":"IF(Attendance($C7,'Daily Register'!BL$3:BL$242)=TRUE,\"P\",\"A\")","v":"A"},{"$f":"IF(Attendance($C7,'Daily Register'!BM$3:BM$242)=TRUE,\"P\",\"A\")","v":"A"},{"$f":"IF(Attendance($C7,'Daily Register'!BN$3:BN$242)=TRUE,\"P\",\"A\")","v":"A"},{"$f":"IF(Attendance($C7,'Daily Register'!BO$3:BO$242)=TRUE,\"P\",\"A\")","v":"A"},{"$f":"IF(Attendance($C7,'Daily Register'!BP$3:BP$242)=TRUE,\"P\",\"A\")","v":"A"},{"$f":"IF(Attendance($C7,'Daily Register'!BQ$3:BQ$242)=TRUE,\"P\",\"A\")","v":"A"},{"$f":"IF(Attendance($C7,'Daily Register'!BR$3:BR$242)=TRUE,\"P\",\"A\")","v":"A"},{"$f":"IF(Attendance($C7,'Daily Register'!BS$3:BS$242)=TRUE,\"P\",\"A\")","v":"A"},{"$f":"IF(Attendance($C7,'Daily Register'!BT$3:BT$242)=TRUE,\"P\",\"A\")","v":"A"},{"$f":"IF(Attendance($C7,'Daily Register'!BU$3:BU$242)=TRUE,\"P\",\"A\")","v":"A"},{"$f":"IF(Attendance($C7,'Daily Register'!BV$3:BV$242)=TRUE,\"P\",\"A\")","v":"A"},{"$f":"IF(Attendance($C7,'Daily Register'!BW$3:BW$242)=TRUE,\"P\",\"A\")","v":"A"},{"$f":"IF(Attendance($C7,'Daily Register'!BX$3:BX$242)=TRUE,\"P\",\"A\")","v":"A"},{"$f":"IF(Attendance($C7,'Daily Register'!BY$3:BY$242)=TRUE,\"P\",\"A\")","v":"A"},{"$f":"IF(Attendance($C7,'Daily Register'!BZ$3:BZ$242)=TRUE,\"P\",\"A\")","v":"A"},{"$f":"IF(Attendance($C7,'Daily Register'!CA$3:CA$242)=TRUE,\"P\",\"A\")","v":"A"},{"$f":"IF(Attendance($C7,'Daily Register'!CB$3:CB$242)=TRUE,\"P\",\"A\")","v":"A"},{"$f":"IF(Attendance($C7,'Daily Register'!CC$3:CC$242)=TRUE,\"P\",\"A\")","v":"A"},{"$f":"IF(Attendance($C7,'Daily Register'!CD$3:CD$242)=TRUE,\"P\",\"A\")","v":"A"},{"$f":"IF(Attendance($C7,'Daily Register'!CE$3:CE$242)=TRUE,\"P\",\"A\")","v":"A"},{"$f":"IF(Attendance($C7,'Daily Register'!CF$3:CF$242)=TRUE,\"P\",\"A\")","v":"A"},{"$f":"IF(Attendance($C7,'Daily Register'!CG$3:CG$242)=TRUE,\"P\",\"A\")","v":"A"},{"$f":"IF(Attendance($C7,'Daily Register'!CH$3:CH$242)=TRUE,\"P\",\"A\")","v":"A"},{"$f":"IF(Attendance($C7,'Daily Register'!CI$3:CI$242)=TRUE,\"P\",\"A\")","v":"A"},{"$f":"IF(Attendance($C7,'Daily Register'!CJ$3:CJ$242)=TRUE,\"P\",\"A\")","v":"A"},{"$f":"IF(Attendance($C7,'Daily Register'!CK$3:CK$242)=TRUE,\"P\",\"A\")","v":"A"},{"$f":"IF(Attendance($C7,'Daily Register'!CL$3:CL$242)=TRUE,\"P\",\"A\")","v":"A"},{"$f":"IF(Attendance($C7,'Daily Register'!CM$3:CM$242)=TRUE,\"P\",\"A\")","v":"A"},{"$f":"IF(Attendance($C7,'Daily Register'!CN$3:CN$242)=TRUE,\"P\",\"A\")","v":"A"},{"$f":"IF(Attendance($C7,'Daily Register'!CO$3:CO$242)=TRUE,\"P\",\"A\")","v":"A"},{"$f":"IF(Attendance($C7,'Daily Register'!CP$3:CP$242)=TRUE,\"P\",\"A\")","v":"A"},{"$f":"IF(Attendance($C7,'Daily Register'!CQ$3:CQ$242)=TRUE,\"P\",\"A\")","v":"A"},{"$f":"IF(Attendance($C7,'Daily Register'!CR$3:CR$242)=TRUE,\"P\",\"A\")","v":"A"},{"$f":"IF(Attendance($C7,'Daily Register'!CS$3:CS$242)=TRUE,\"P\",\"A\")","v":"A"},{"$f":"IF(Attendance($C7,'Daily Register'!CT$3:CT$242)=TRUE,\"P\",\"A\")","v":"A"},{"$f":"IF(Attendance($C7,'Daily Register'!CU$3:CU$242)=TRUE,\"P\",\"A\")","v":"A"},{"$f":"IF(Attendance($C7,'Daily Register'!CV$3:CV$242)=TRUE,\"P\",\"A\")","v":"A"},{"$f":"IF(Attendance($C7,'Daily Register'!CW$3:CW$242)=TRUE,\"P\",\"A\")","v":"A"},{"$f":"IF(Attendance($C7,'Daily Register'!CX$3:CX$242)=TRUE,\"P\",\"A\")","v":"A"},{"$f":"IF(Attendance($C7,'Daily Register'!CY$3:CY$242)=TRUE,\"P\",\"A\")","v":"A"},{"$f":"IF(Attendance($C7,'Daily Register'!CZ$3:CZ$242)=TRUE,\"P\",\"A\")","v":"A"},{"$f":"IF(Attendance($C7,'Daily Register'!DA$3:DA$242)=TRUE,\"P\",\"A\")","v":"A"},{"$f":"IF(Attendance($C7,'Daily Register'!DB$3:DB$242)=TRUE,\"P\",\"A\")","v":"A"},{"$f":"IF(Attendance($C7,'Daily Register'!DC$3:DC$242)=TRUE,\"P\",\"A\")","v":"A"},{"$f":"IF(Attendance($C7,'Daily Register'!DD$3:DD$242)=TRUE,\"P\",\"A\")","v":"A"},{"$f":"IF(Attendance($C7,'Daily Register'!DE$3:DE$242)=TRUE,\"P\",\"A\")","v":"A"},{"$f":"IF(Attendance($C7,'Daily Register'!DF$3:DF$242)=TRUE,\"P\",\"A\")","v":"A"},{"$f":"IF(Attendance($C7,'Daily Register'!DG$3:DG$242)=TRUE,\"P\",\"A\")","v":"A"},{"$f":"IF(Attendance($C7,'Daily Register'!DH$3:DH$242)=TRUE,\"P\",\"A\")","v":"A"},{"$f":"IF(Attendance($C7,'Daily Register'!DI$3:DI$242)=TRUE,\"P\",\"A\")","v":"A"},{"$f":"IF(Attendance($C7,'Daily Register'!DJ$3:DJ$242)=TRUE,\"P\",\"A\")","v":"A"},{"$f":"IF(Attendance($C7,'Daily Register'!DK$3:DK$242)=TRUE,\"P\",\"A\")","v":"A"},{"$f":"IF(Attendance($C7,'Daily Register'!DL$3:DL$242)=TRUE,\"P\",\"A\")","v":"A"},{"$f":"IF(Attendance($C7,'Daily Register'!DM$3:DM$242)=TRUE,\"P\",\"A\")","v":"A"},{"$f":"IF(Attendance($C7,'Daily Register'!DN$3:DN$242)=TRUE,\"P\",\"A\")","v":"A"},{"$f":"IF(Attendance($C7,'Daily Register'!DO$3:DO$242)=TRUE,\"P\",\"A\")","v":"A"},{"$f":"IF(Attendance($C7,'Daily Register'!DP$3:DP$242)=TRUE,\"P\",\"A\")","v":"A"},{"$f":"IF(Attendance($C7,'Daily Register'!DQ$3:DQ$242)=TRUE,\"P\",\"A\")","v":"A"},{"$f":"IF(Attendance($C7,'Daily Register'!DR$3:DR$242)=TRUE,\"P\",\"A\")","v":"A"},{"$f":"IF(Attendance($C7,'Daily Register'!DS$3:DS$242)=TRUE,\"P\",\"A\")","v":"A"},{"$f":"IF(Attendance($C7,'Daily Register'!DT$3:DT$242)=TRUE,\"P\",\"A\")","v":"A"},{"$f":"IF(Attendance($C7,'Daily Register'!DU$3:DU$242)=TRUE,\"P\",\"A\")","v":"A"},{"$f":"IF(Attendance($C7,'Daily Register'!DV$3:DV$242)=TRUE,\"P\",\"A\")","v":"A"},{"$f":"IF(Attendance($C7,'Daily Register'!DW$3:DW$242)=TRUE,\"P\",\"A\")","v":"A"},{"$f":"IF(Attendance($C7,'Daily Register'!DX$3:DX$242)=TRUE,\"P\",\"A\")","v":"A"},{"$f":"IF(Attendance($C7,'Daily Register'!DY$3:DY$242)=TRUE,\"P\",\"A\")","v":"A"},{"$f":"IF(Attendance($C7,'Daily Register'!DZ$3:DZ$242)=TRUE,\"P\",\"A\")","v":"A"},{"$f":"IF(Attendance($C7,'Daily Register'!EA$3:EA$242)=TRUE,\"P\",\"A\")","v":"A"},{"$f":"IF(Attendance($C7,'Daily Register'!EB$3:EB$242)=TRUE,\"P\",\"A\")","v":"A"},{"$f":"IF(Attendance($C7,'Daily Register'!EC$3:EC$242)=TRUE,\"P\",\"A\")","v":"A"},{"$f":"IF(Attendance($C7,'Daily Register'!ED$3:ED$242)=TRUE,\"P\",\"A\")","v":"A"},{"$f":"IF(Attendance($C7,'Daily Register'!EE$3:EE$242)=TRUE,\"P\",\"A\")","v":"A"},{"$f":"IF(Attendance($C7,'Daily Register'!EF$3:EF$242)=TRUE,\"P\",\"A\")","v":"A"},{"$f":"IF(Attendance($C7,'Daily Register'!EG$3:EG$242)=TRUE,\"P\",\"A\")","v":"A"},{"$f":"IF(Attendance($C7,'Daily Register'!EH$3:EH$242)=TRUE,\"P\",\"A\")","v":"A"},{"$f":"IF(Attendance($C7,'Daily Register'!EI$3:EI$242)=TRUE,\"P\",\"A\")","v":"A"},{"$f":"IF(Attendance($C7,'Daily Register'!EJ$3:EJ$242)=TRUE,\"P\",\"A\")","v":"A"},{"$f":"IF(Attendance($C7,'Daily Register'!EK$3:EK$242)=TRUE,\"P\",\"A\")","v":"A"},{"$f":"IF(Attendance($C7,'Daily Register'!EL$3:EL$242)=TRUE,\"P\",\"A\")","v":"A"},{"$f":"IF(Attendance($C7,'Daily Register'!EM$22:EM$242)=TRUE,\"P\",\"A\")","v":"A"},{"$f":"IF(Attendance($C7,'Daily Register'!EN$3:EN$242)=TRUE,\"P\",\"A\")","v":"A"},{"$f":"IF(Attendance($C7,'Daily Register'!EO$3:EO$242)=TRUE,\"P\",\"A\")","v":"A"},{"$f":"IF(Attendance($C7,'Daily Register'!EP$3:EP$242)=TRUE,\"P\",\"A\")","v":"A"},{"$f":"IF(Attendance($C7,'Daily Register'!EQ$3:EQ$242)=TRUE,\"P\",\"A\")","v":"A"},{"$f":"IF(Attendance($C7,'Daily Register'!ER$3:ER$242)=TRUE,\"P\",\"A\")","v":"A"},{"$f":"IF(Attendance($C7,'Daily Register'!ES$3:ES$242)=TRUE,\"P\",\"A\")","v":"A"},{"$f":"IF(Attendance($C7,'Daily Register'!ET$3:ET$242)=TRUE,\"P\",\"A\")","v":"A"},{"$f":"IF(Attendance($C7,'Daily Register'!EU$3:EU$242)=TRUE,\"P\",\"A\")","v":"A"},{"$f":"IF(Attendance($C7,'Daily Register'!EV$3:EV$242)=TRUE,\"P\",\"A\")","v":"A"},{"$f":"IF(Attendance($C7,'Daily Register'!EW$3:EW$242)=TRUE,\"P\",\"A\")","v":"A"},{"$f":"IF(Attendance($C7,'Daily Register'!EX$3:EX$242)=TRUE,\"P\",\"A\")","v":"A"},{"$f":"IF(Attendance($C7,'Daily Register'!EY$3:EY$242)=TRUE,\"P\",\"A\")","v":"A"},{"$f":"IF(Attendance($C7,'Daily Register'!EZ$3:EZ$242)=TRUE,\"P\",\"A\")","v":"A"},{"$f":"IF(Attendance($C7,'Daily Register'!FA$3:FA$242)=TRUE,\"P\",\"A\")","v":"A"},{"$f":"IF(Attendance($C7,'Daily Register'!FB$3:FB$242)=TRUE,\"P\",\"A\")","v":"A"},{"$f":"IF(Attendance($C7,'Daily Register'!FC$3:FC$242)=TRUE,\"P\",\"A\")","v":"A"},{"$f":"IF(Attendance($C7,'Daily Register'!FD$3:FD$242)=TRUE,\"P\",\"A\")","v":"A"},{"$f":"IF(Attendance($C7,'Daily Register'!FE$3:FE$242)=TRUE,\"P\",\"A\")","v":"A"},{"$f":"IF(Attendance($C7,'Daily Register'!FF$3:FF$242)=TRUE,\"P\",\"A\")","v":"A"},{"$f":"IF(Attendance($C7,'Daily Register'!FG$3:FG$242)=TRUE,\"P\",\"A\")","v":"A"},{"$f":"IF(Attendance($C7,'Daily Register'!FH$3:FH$242)=TRUE,\"P\",\"A\")","v":"A"},{"$f":"IF(Attendance($C7,'Daily Register'!FI$3:FI$242)=TRUE,\"P\",\"A\")","v":"A"},{"$f":"IF(Attendance($C7,'Daily Register'!FJ$3:FJ$242)=TRUE,\"P\",\"A\")","v":"A"},{"$f":"IF(Attendance($C7,'Daily Register'!FK$3:FK$242)=TRUE,\"P\",\"A\")","v":"A"},{"$f":"IF(Attendance($C7,'Daily Register'!FL$3:FL$242)=TRUE,\"P\",\"A\")","v":"A"},{"$f":"IF(Attendance($C7,'Daily Register'!FM$3:FM$242)=TRUE,\"P\",\"A\")","v":"A"},{"$f":"IF(Attendance($C7,'Daily Register'!FN$3:FN$242)=TRUE,\"P\",\"A\")","v":"A"},{"$f":"IF(Attendance($C7,'Daily Register'!FO$3:FO$242)=TRUE,\"P\",\"A\")","v":"A"},{"$f":"IF(Attendance($C7,'Daily Register'!FP$3:FP$242)=TRUE,\"P\",\"A\")","v":"A"},{"$f":"IF(Attendance($C7,'Daily Register'!FQ$3:FQ$242)=TRUE,\"P\",\"A\")","v":"A"},{"$f":"IF(Attendance($C7,'Daily Register'!FR$3:FR$242)=TRUE,\"P\",\"A\")","v":"A"},{"$f":"IF(Attendance($C7,'Daily Register'!FS$3:FS$242)=TRUE,\"P\",\"A\")","v":"A"},{"$f":"IF(Attendance($C7,'Daily Register'!FT$3:FT$242)=TRUE,\"P\",\"A\")","v":"A"},{"$f":"IF(Attendance($C7,'Daily Register'!FU$3:FU$242)=TRUE,\"P\",\"A\")","v":"A"},{"$f":"IF(Attendance($C7,'Daily Register'!FV$3:FV$242)=TRUE,\"P\",\"A\")","v":"A"},{"$f":"IF(Attendance($C7,'Daily Register'!FW$3:FW$242)=TRUE,\"P\",\"A\")","v":"A"},{"$f":"IF(Attendance($C7,'Daily Register'!FX$3:FX$242)=TRUE,\"P\",\"A\")","v":"A"},{"$f":"IF(Attendance($C7,'Daily Register'!FY$3:FY$242)=TRUE,\"P\",\"A\")","v":"A"},{"$f":"IF(Attendance($C7,'Daily Register'!FZ$3:FZ$242)=TRUE,\"P\",\"A\")","v":"A"},{"$f":"IF(Attendance($C7,'Daily Register'!GA$3:GA$242)=TRUE,\"P\",\"A\")","v":"A"},{"$f":"IF(Attendance($C7,'Daily Register'!GB$3:GB$242)=TRUE,\"P\",\"A\")","v":"A"},{"$f":"IF(Attendance($C7,'Daily Register'!GC$3:GC$242)=TRUE,\"P\",\"A\")","v":"A"},{"$f":"IF(Attendance($C7,'Daily Register'!GD$3:GD$242)=TRUE,\"P\",\"A\")","v":"A"},{"$f":"IF(Attendance($C7,'Daily Register'!GE$3:GE$242)=TRUE,\"P\",\"A\")","v":"A"},{"$f":"IF(Attendance($C7,'Daily Register'!GF$3:GF$242)=TRUE,\"P\",\"A\")","v":"A"},{"$f":"IF(Attendance($C7,'Daily Register'!GG$3:GG$242)=TRUE,\"P\",\"A\")","v":"A"},{"$f":"IF(Attendance($C7,'Daily Register'!GH$3:GH$242)=TRUE,\"P\",\"A\")","v":"A"},{"$f":"IF(Attendance($C7,'Daily Register'!GI$3:GI$242)=TRUE,\"P\",\"A\")","v":"A"},{"$f":"IF(Attendance($C7,'Daily Register'!GJ$3:GJ$242)=TRUE,\"P\",\"A\")","v":"A"},{"$f":"IF(Attendance($C7,'Daily Register'!GK$3:GK$242)=TRUE,\"P\",\"A\")","v":"A"},{"$f":"IF(Attendance($C7,'Daily Register'!GL$3:GL$242)=TRUE,\"P\",\"A\")","v":"A"},{"$f":"IF(Attendance($C7,'Daily Register'!GM$3:GM$242)=TRUE,\"P\",\"A\")","v":"A"},{"$f":"IF(Attendance($C7,'Daily Register'!GN$3:GN$242)=TRUE,\"P\",\"A\")","v":"A"},{"$f":"IF(Attendance($C7,'Daily Register'!GO$3:GO$242)=TRUE,\"P\",\"A\")","v":"A"},{"$f":"IF(Attendance($C7,'Daily Register'!GP$3:GP$242)=TRUE,\"P\",\"A\")","v":"A"},{"$f":"IF(Attendance($C7,'Daily Register'!GQ$3:GQ$242)=TRUE,\"P\",\"A\")","v":"A"},{"$f":"IF(Attendance($C7,'Daily Register'!GR$3:GR$242)=TRUE,\"P\",\"A\")","v":"A"},{"$f":"IF(Attendance($C7,'Daily Register'!GS$3:GS$242)=TRUE,\"P\",\"A\")","v":"A"},{"$f":"IF(Attendance($C7,'Daily Register'!GT$3:GT$242)=TRUE,\"P\",\"A\")","v":"A"},{"$f":"IF(Attendance($C7,'Daily Register'!GU$3:GU$242)=TRUE,\"P\",\"A\")","v":"A"},{"$f":"IF(Attendance($C7,'Daily Register'!GV$3:GV$242)=TRUE,\"P\",\"A\")","v":"A"},{"$f":"IF(Attendance($C7,'Daily Register'!GW$3:GW$242)=TRUE,\"P\",\"A\")","v":"A"},{"$f":"IF(Attendance($C7,'Daily Register'!GX$3:GX$242)=TRUE,\"P\",\"A\")","v":"A"},{"$f":"IF(Attendance($C7,'Daily Register'!GY$3:GY$242)=TRUE,\"P\",\"A\")","v":"A"},{"$f":"IF(Attendance($C7,'Daily Register'!GZ$3:GZ$242)=TRUE,\"P\",\"A\")","v":"A"},{"$f":"IF(Attendance($C7,'Daily Register'!HA$3:HA$242)=TRUE,\"P\",\"A\")","v":"A"},{"$f":"IF(Attendance($C7,'Daily Register'!HB$3:HB$242)=TRUE,\"P\",\"A\")","v":"A"},{"$f":"IF(Attendance($C7,'Daily Register'!HC$3:HC$242)=TRUE,\"P\",\"A\")","v":"A"},{"$f":"IF(Attendance($C7,'Daily Register'!HD$3:HD$242)=TRUE,\"P\",\"A\")","v":"A"},{"$f":"IF(Attendance($C7,'Daily Register'!HE$3:HE$242)=TRUE,\"P\",\"A\")","v":"A"},{"$f":"IF(Attendance($C7,'Daily Register'!HF$3:HF$242)=TRUE,\"P\",\"A\")","v":"A"},{"$f":"IF(Attendance($C7,'Daily Register'!HG$3:HG$242)=TRUE,\"P\",\"A\")","v":"A"},{"$f":"IF(Attendance($C7,'Daily Register'!HH$3:HH$242)=TRUE,\"P\",\"A\")","v":"A"},{"$f":"IF(Attendance($C7,'Daily Register'!HI$3:HI$242)=TRUE,\"P\",\"A\")","v":"A"},{"$f":"IF(Attendance($C7,'Daily Register'!HJ$3:HJ$242)=TRUE,\"P\",\"A\")","v":"A"},{"$f":"IF(Attendance($C7,'Daily Register'!HK$3:HK$242)=TRUE,\"P\",\"A\")","v":"A"},{"$f":"IF(Attendance($C7,'Daily Register'!HL$3:HL$242)=TRUE,\"P\",\"A\")","v":"A"},{"$f":"IF(Attendance($C7,'Daily Register'!HM$3:HM$242)=TRUE,\"P\",\"A\")","v":"A"},{"$f":"IF(Attendance($C7,'Daily Register'!HN$3:HN$242)=TRUE,\"P\",\"A\")","v":"A"},{"$f":"IF(Attendance($C7,'Daily Register'!HO$3:HO$242)=TRUE,\"P\",\"A\")","v":"A"},{"$f":"IF(Attendance($C7,'Daily Register'!HP$3:HP$242)=TRUE,\"P\",\"A\")","v":"A"},{"$f":"IF(Attendance($C7,'Daily Register'!HQ$3:HQ$242)=TRUE,\"P\",\"A\")","v":"A"},{"$f":"IF(Attendance($C7,'Daily Register'!HR$3:HR$242)=TRUE,\"P\",\"A\")","v":"A"},{"$f":"IF(Attendance($C7,'Daily Register'!HS$3:HS$242)=TRUE,\"P\",\"A\")","v":"A"},{"$f":"IF(Attendance($C7,'Daily Register'!HT$3:HT$242)=TRUE,\"P\",\"A\")","v":"A"},{"$f":"IF(Attendance($C7,'Daily Register'!HU$3:HU$242)=TRUE,\"P\",\"A\")","v":"A"},{"$f":"IF(Attendance($C7,'Daily Register'!HV$3:HV$242)=TRUE,\"P\",\"A\")","v":"A"},{"$f":"IF(Attendance($C7,'Daily Register'!HW$3:HW$242)=TRUE,\"P\",\"A\")","v":"A"},{"$f":"IF(Attendance($C7,'Daily Register'!HX$3:HX$242)=TRUE,\"P\",\"A\")","v":"A"},{"$f":"IF(Attendance($C7,'Daily Register'!HY$3:HY$242)=TRUE,\"P\",\"A\")","v":"A"},{"$f":"IF(Attendance($C7,'Daily Register'!HZ$3:HZ$242)=TRUE,\"P\",\"A\")","v":"A"},{"$f":"IF(Attendance($C7,'Daily Register'!IA$3:IA$242)=TRUE,\"P\",\"A\")","v":"A"},{"$f":"IF(Attendance($C7,'Daily Register'!IB$3:IB$242)=TRUE,\"P\",\"A\")","v":"A"},{"$f":"IF(Attendance($C7,'Daily Register'!IC$3:IC$242)=TRUE,\"P\",\"A\")","v":"A"},{"$f":"IF(Attendance($C7,'Daily Register'!ID$3:ID$242)=TRUE,\"P\",\"A\")","v":"A"},{"$f":"IF(Attendance($C7,'Daily Register'!IE$3:IE$242)=TRUE,\"P\",\"A\")","v":"A"},{"$f":"IF(Attendance($C7,'Daily Register'!IF$3:IF$242)=TRUE,\"P\",\"A\")","v":"A"},{"$f":"IF(Attendance($C7,'Daily Register'!IG$3:IG$242)=TRUE,\"P\",\"A\")","v":"A"},{"$f":"IF(Attendance($C7,'Daily Register'!IH$3:IH$242)=TRUE,\"P\",\"A\")","v":"A"},{"$f":"IF(Attendance($C7,'Daily Register'!II$3:II$242)=TRUE,\"P\",\"A\")","v":"A"},{"$f":"IF(Attendance($C7,'Daily Register'!IJ$3:IJ$242)=TRUE,\"P\",\"A\")","v":"A"},{"$f":"IF(Attendance($C7,'Daily Register'!IK$3:IK$242)=TRUE,\"P\",\"A\")","v":"A"},{"$f":"IF(Attendance($C7,'Daily Register'!IL$3:IL$242)=TRUE,\"P\",\"A\")","v":"A"},{"$f":"IF(Attendance($C7,'Daily Register'!IM$3:IM$242)=TRUE,\"P\",\"A\")","v":"A"},{"$f":"IF(Attendance($C7,'Daily Register'!IN$3:IN$242)=TRUE,\"P\",\"A\")","v":"A"},{"$f":"IF(Attendance($C7,'Daily Register'!IO$3:IO$242)=TRUE,\"P\",\"A\")","v":"A"},{"$f":"IF(Attendance($C7,'Daily Register'!IP$3:IP$242)=TRUE,\"P\",\"A\")","v":"A"},{"$f":"IF(Attendance($C7,'Daily Register'!IQ$3:IQ$242)=TRUE,\"P\",\"A\")","v":"A"},{"$f":"IF(Attendance($C7,'Daily Register'!IR$3:IR$242)=TRUE,\"P\",\"A\")","v":"A"},{"$f":"IF(Attendance($C7,'Daily Register'!IS$3:IS$242)=TRUE,\"P\",\"A\")","v":"A"},{"$f":"IF(Attendance($C7,'Daily Register'!IT$3:IT$242)=TRUE,\"P\",\"A\")","v":"A"},{"$f":"IF(Attendance($C7,'Daily Register'!IU$3:IU$242)=TRUE,\"P\",\"A\")","v":"A"},{"$f":"IF(Attendance($C7,'Daily Register'!IV$3:IV$242)=TRUE,\"P\",\"A\")","v":"A"},{"$f":"IF(Attendance($C7,'Daily Register'!IW$3:IW$242)=TRUE,\"P\",\"A\")","v":"A"},{"$f":"IF(Attendance($C7,'Daily Register'!IX$3:IX$242)=TRUE,\"P\",\"A\")","v":"A"},{"$f":"IF(Attendance($C7,'Daily Register'!IY$3:IY$242)=TRUE,\"P\",\"A\")","v":"A"},{"$f":"IF(Attendance($C7,'Daily Register'!IZ$3:IZ$242)=TRUE,\"P\",\"A\")","v":"A"},{"$f":"IF(Attendance($C7,'Daily Register'!JA$3:JA$242)=TRUE,\"P\",\"A\")","v":"A"},{"$f":"IF(Attendance($C7,'Daily Register'!JB$3:JB$242)=TRUE,\"P\",\"A\")","v":"A"},{"$f":"IF(Attendance($C7,'Daily Register'!JC$3:JC$242)=TRUE,\"P\",\"A\")","v":"A"},{"$f":"IF(Attendance($C7,'Daily Register'!JD$3:JD$242)=TRUE,\"P\",\"A\")","v":"A"},{"$f":"IF(Attendance($C7,'Daily Register'!JE$3:JE$242)=TRUE,\"P\",\"A\")","v":"A"},{"$f":"IF(Attendance($C7,'Daily Register'!JF$3:JF$242)=TRUE,\"P\",\"A\")","v":"A"},{"$f":"IF(Attendance($C7,'Daily Register'!JG$3:JG$242)=TRUE,\"P\",\"A\")","v":"A"},{"$f":"IF(Attendance($C7,'Daily Register'!JH$3:JH$242)=TRUE,\"P\",\"A\")","v":"A"},{"$f":"IF(Attendance($C7,'Daily Register'!JI$3:JI$242)=TRUE,\"P\",\"A\")","v":"A"},{"$f":"IF(Attendance($C7,'Daily Register'!JJ$3:JJ$242)=TRUE,\"P\",\"A\")","v":"A"},{"$f":"IF(Attendance($C7,'Daily Register'!JK$3:JK$242)=TRUE,\"P\",\"A\")","v":"A"},{"$f":"IF(Attendance($C7,'Daily Register'!JL$3:JL$242)=TRUE,\"P\",\"A\")","v":"A"},{"$f":"IF(Attendance($C7,'Daily Register'!JM$3:JM$242)=TRUE,\"P\",\"A\")","v":"A"},{"$f":"IF(Attendance($C7,'Daily Register'!JN$3:JN$242)=TRUE,\"P\",\"A\")","v":"A"},{"$f":"IF(Attendance($C7,'Daily Register'!JO$3:JO$242)=TRUE,\"P\",\"A\")","v":"A"},{"$f":"IF(Attendance($C7,'Daily Register'!JP$3:JP$242)=TRUE,\"P\",\"A\")","v":"A"},{"$f":"IF(Attendance($C7,'Daily Register'!JQ$3:JQ$242)=TRUE,\"P\",\"A\")","v":"A"},{"$f":"IF(Attendance($C7,'Daily Register'!JR$3:JR$242)=TRUE,\"P\",\"A\")","v":"A"},{"$f":"IF(Attendance($C7,'Daily Register'!JS$3:JS$242)=TRUE,\"P\",\"A\")","v":"A"},{"$f":"IF(Attendance($C7,'Daily Register'!JT$3:JT$242)=TRUE,\"P\",\"A\")","v":"A"},{"$f":"IF(Attendance($C7,'Daily Register'!JU$3:JU$242)=TRUE,\"P\",\"A\")","v":"A"},{"$f":"IF(Attendance($C7,'Daily Register'!JV$3:JV$242)=TRUE,\"P\",\"A\")","v":"A"},{"$f":"IF(Attendance($C7,'Daily Register'!JW$3:JW$242)=TRUE,\"P\",\"A\")","v":"A"},{"$f":"IF(Attendance($C7,'Daily Register'!JX$3:JX$242)=TRUE,\"P\",\"A\")","v":"A"},{"$f":"IF(Attendance($C7,'Daily Register'!JY$3:JY$242)=TRUE,\"P\",\"A\")","v":"A"},{"$f":"IF(Attendance($C7,'Daily Register'!JZ$3:JZ$242)=TRUE,\"P\",\"A\")","v":"A"},{"$f":"IF(Attendance($C7,'Daily Register'!KA$3:KA$242)=TRUE,\"P\",\"A\")","v":"A"},{"$f":"IF(Attendance($C7,'Daily Register'!KB$3:KB$242)=TRUE,\"P\",\"A\")","v":"A"},{"$f":"IF(Attendance($C7,'Daily Register'!KC$3:KC$242)=TRUE,\"P\",\"A\")","v":"A"},{"$f":"IF(Attendance($C7,'Daily Register'!KD$3:KD$242)=TRUE,\"P\",\"A\")","v":"A"},{"$f":"IF(Attendance($C7,'Daily Register'!KE$3:KE$242)=TRUE,\"P\",\"A\")","v":"A"},{"$f":"IF(Attendance($C7,'Daily Register'!KF$3:KF$242)=TRUE,\"P\",\"A\")","v":"A"},{"$f":"IF(Attendance($C7,'Daily Register'!KG$3:KG$242)=TRUE,\"P\",\"A\")","v":"A"},{"$f":"IF(Attendance($C7,'Daily Register'!KH$3:KH$242)=TRUE,\"P\",\"A\")","v":"A"},{"$f":"IF(Attendance($C7,'Daily Register'!KI$3:KI$242)=TRUE,\"P\",\"A\")","v":"A"},{"$f":"IF(Attendance($C7,'Daily Register'!KJ$3:KJ$242)=TRUE,\"P\",\"A\")","v":"A"},{"$f":"IF(Attendance($C7,'Daily Register'!KK$3:KK$242)=TRUE,\"P\",\"A\")","v":"A"},{"$f":"IF(Attendance($C7,'Daily Register'!KL$3:KL$242)=TRUE,\"P\",\"A\")","v":"A"},{"$f":"IF(Attendance($C7,'Daily Register'!KM$3:KM$242)=TRUE,\"P\",\"A\")","v":"A"},{"$f":"IF(Attendance($C7,'Daily Register'!KN$3:KN$242)=TRUE,\"P\",\"A\")","v":"A"},{"$f":"IF(Attendance($C7,'Daily Register'!KO$3:KO$242)=TRUE,\"P\",\"A\")","v":"A"},{"$f":"IF(Attendance($C7,'Daily Register'!KP$3:KP$242)=TRUE,\"P\",\"A\")","v":"A"},{"$f":"IF(Attendance($C7,'Daily Register'!KQ$3:KQ$242)=TRUE,\"P\",\"A\")","v":"A"},{"$f":"IF(Attendance($C7,'Daily Register'!KR$3:KR$242)=TRUE,\"P\",\"A\")","v":"A"},{"$f":"IF(Attendance($C7,'Daily Register'!KS$3:KS$242)=TRUE,\"P\",\"A\")","v":"A"},{"$f":"IF(Attendance($C7,'Daily Register'!KT$3:KT$242)=TRUE,\"P\",\"A\")","v":"A"},{"$f":"IF(Attendance($C7,'Daily Register'!KU$3:KU$242)=TRUE,\"P\",\"A\")","v":"A"},{"$f":"IF(Attendance($C7,'Daily Register'!KV$3:KV$242)=TRUE,\"P\",\"A\")","v":"A"},{"$f":"IF(Attendance($C7,'Daily Register'!KW$3:KW$242)=TRUE,\"P\",\"A\")","v":"A"},{"$f":"IF(Attendance($C7,'Daily Register'!KX$3:KX$242)=TRUE,\"P\",\"A\")","v":"A"},{"$f":"IF(Attendance($C7,'Daily Register'!KY$3:KY$242)=TRUE,\"P\",\"A\")","v":"A"},{"$f":"IF(Attendance($C7,'Daily Register'!KZ$3:KZ$242)=TRUE,\"P\",\"A\")","v":"A"},{"$f":"IF(Attendance($C7,'Daily Register'!LA$3:LA$242)=TRUE,\"P\",\"A\")","v":"A"},{"$f":"IF(Attendance($C7,'Daily Register'!LB$3:LB$242)=TRUE,\"P\",\"A\")","v":"A"},{"$f":"IF(Attendance($C7,'Daily Register'!LC$3:LC$242)=TRUE,\"P\",\"A\")","v":"A"},{"$f":"IF(Attendance($C7,'Daily Register'!LD$3:LD$242)=TRUE,\"P\",\"A\")","v":"A"},{"$f":"IF(Attendance($C7,'Daily Register'!LE$3:LE$242)=TRUE,\"P\",\"A\")","v":"A"},{"$f":"IF(Attendance($C7,'Daily Register'!LF$3:LF$242)=TRUE,\"P\",\"A\")","v":"A"},{"$f":"IF(Attendance($C7,'Daily Register'!LG$3:LG$242)=TRUE,\"P\",\"A\")","v":"A"},{"$f":"IF(Attendance($C7,'Daily Register'!LH$3:LH$242)=TRUE,\"P\",\"A\")","v":"A"},{"$f":"IF(Attendance($C7,'Daily Register'!LI$3:LI$242)=TRUE,\"P\",\"A\")","v":"A"},{"$f":"IF(Attendance($C7,'Daily Register'!LJ$3:LJ$242)=TRUE,\"P\",\"A\")","v":"A"},{"$f":"IF(Attendance($C7,'Daily Register'!LK$3:LK$242)=TRUE,\"P\",\"A\")","v":"A"},{"$f":"IF(Attendance($C7,'Daily Register'!LL$3:LL$242)=TRUE,\"P\",\"A\")","v":"A"},{"$f":"IF(Attendance($C7,'Daily Register'!LM$3:LM$242)=TRUE,\"P\",\"A\")","v":"A"},{"$f":"IF(Attendance($C7,'Daily Register'!LN$3:LN$242)=TRUE,\"P\",\"A\")","v":"A"},{"$f":"IF(Attendance($C7,'Daily Register'!LO$3:LO$242)=TRUE,\"P\",\"A\")","v":"A"},{"$f":"IF(Attendance($C7,'Daily Register'!LP$3:LP$242)=TRUE,\"P\",\"A\")","v":"A"},{"$f":"IF(Attendance($C7,'Daily Register'!LQ$3:LQ$242)=TRUE,\"P\",\"A\")","v":"A"},{"$f":"IF(Attendance($C7,'Daily Register'!LR$3:LR$242)=TRUE,\"P\",\"A\")","v":"A"},{"$f":"IF(Attendance($C7,'Daily Register'!LS$3:LS$242)=TRUE,\"P\",\"A\")","v":"A"},{"$f":"IF(Attendance($C7,'Daily Register'!LT$3:LT$242)=TRUE,\"P\",\"A\")","v":"A"},{"$f":"IF(Attendance($C7,'Daily Register'!LU$3:LU$242)=TRUE,\"P\",\"A\")","v":"A"},{"$f":"IF(Attendance($C7,'Daily Register'!LV$3:LV$242)=TRUE,\"P\",\"A\")","v":"A"},{"$f":"IF(Attendance($C7,'Daily Register'!LW$3:LW$242)=TRUE,\"P\",\"A\")","v":"A"},{"$f":"IF(Attendance($C7,'Daily Register'!LX$3:LX$242)=TRUE,\"P\",\"A\")","v":"A"},{"$f":"IF(Attendance($C7,'Daily Register'!LY$3:LY$242)=TRUE,\"P\",\"A\")","v":"A"},{"$f":"IF(Attendance($C7,'Daily Register'!LZ$3:LZ$242)=TRUE,\"P\",\"A\")","v":"A"},{"$f":"IF(Attendance($C7,'Daily Register'!MA$3:MA$242)=TRUE,\"P\",\"A\")","v":"A"},{"$f":"IF(Attendance($C7,'Daily Register'!MB$3:MB$242)=TRUE,\"P\",\"A\")","v":"A"},{"$f":"IF(Attendance($C7,'Daily Register'!MC$3:MC$242)=TRUE,\"P\",\"A\")","v":"A"},{"$f":"IF(Attendance($C7,'Daily Register'!MD$3:MD$242)=TRUE,\"P\",\"A\")","v":"A"},{"$f":"IF(Attendance($C7,'Daily Register'!ME$3:ME$242)=TRUE,\"P\",\"A\")","v":"A"},{"$f":"IF(Attendance($C7,'Daily Register'!MF$3:MF$242)=TRUE,\"P\",\"A\")","v":"A"},{"$f":"IF(Attendance($C7,'Daily Register'!MG$3:MG$242)=TRUE,\"P\",\"A\")","v":"A"},{"$f":"IF(Attendance($C7,'Daily Register'!MH$3:MH$242)=TRUE,\"P\",\"A\")","v":"A"},{"$f":"IF(Attendance($C7,'Daily Register'!MI$3:MI$242)=TRUE,\"P\",\"A\")","v":"A"},{"$f":"IF(Attendance($C7,'Daily Register'!MJ$3:MJ$242)=TRUE,\"P\",\"A\")","v":"A"},{"$f":"IF(Attendance($C7,'Daily Register'!MK$3:MK$242)=TRUE,\"P\",\"A\")","v":"A"},{"$f":"IF(Attendance($C7,'Daily Register'!ML$3:ML$242)=TRUE,\"P\",\"A\")","v":"A"},{"$f":"IF(Attendance($C7,'Daily Register'!MM$3:MM$242)=TRUE,\"P\",\"A\")","v":"A"},{"$f":"IF(Attendance($C7,'Daily Register'!MN$3:MN$242)=TRUE,\"P\",\"A\")","v":"A"},{"$f":"IF(Attendance($C7,'Daily Register'!MO$3:MO$242)=TRUE,\"P\",\"A\")","v":"A"},{"$f":"IF(Attendance($C7,'Daily Register'!MP$3:MP$242)=TRUE,\"P\",\"A\")","v":"A"},{"$f":"IF(Attendance($C7,'Daily Register'!MQ$3:MQ$242)=TRUE,\"P\",\"A\")","v":"A"},{"$f":"IF(Attendance($C7,'Daily Register'!MR$3:MR$242)=TRUE,\"P\",\"A\")","v":"A"},{"$f":"IF(Attendance($C7,'Daily Register'!MS$3:MS$242)=TRUE,\"P\",\"A\")","v":"A"},{"$f":"IF(Attendance($C7,'Daily Register'!MT$3:MT$242)=TRUE,\"P\",\"A\")","v":"A"},{"$f":"IF(Attendance($C7,'Daily Register'!MU$3:MU$242)=TRUE,\"P\",\"A\")","v":"A"},{"$f":"IF(Attendance($C7,'Daily Register'!MV$3:MV$242)=TRUE,\"P\",\"A\")","v":"A"},{"$f":"IF(Attendance($C7,'Daily Register'!MW$3:MW$242)=TRUE,\"P\",\"A\")","v":"A"},{"$f":"IF(Attendance($C7,'Daily Register'!MX$3:MX$242)=TRUE,\"P\",\"A\")","v":"A"},{"$f":"IF(Attendance($C7,'Daily Register'!MY$3:MY$242)=TRUE,\"P\",\"A\")","v":"A"},{"$f":"IF(Attendance($C7,'Daily Register'!MZ$3:MZ$242)=TRUE,\"P\",\"A\")","v":"A"},{"$f":"IF(Attendance($C7,'Daily Register'!NA$3:NA$242)=TRUE,\"P\",\"A\")","v":"A"},{"$f":"IF(Attendance($C7,'Daily Register'!NB$3:NB$242)=TRUE,\"P\",\"A\")","v":"A"}]
[0,null,5,null,{"$f":"IF(Attendance($C8,'Daily Register'!A$3:A$242)=TRUE,\"P\",\"A\")","v":"A"},{"$f":"IF(Attendance($C8,'Daily Register'!B$3:B$242)=TRUE,\"P\",\"A\")","v":"A"},{"$f":"IF(Attendance($C8,'Daily Register'!C$3:C$242)=TRUE,\"P\",\"A\")","v":"A"},{"$f":"IF(Attendance($C8,'Daily Register'!D$3:D$242)=TRUE,\"P\",\"A\")","v":"A"},{"$f":"IF(Attendance($C8,'Daily Register'!E$3:E$242)=TRUE,\"P\",\"A\")","v":"A"},{"$f":"IF(Attendance($C8,'Daily Register'!F$3:F$242)=TRUE,\"P\",\"A\")","v":"A"},{"$f":"IF(Attendance($C8,'Daily Register'!G$3:G$242)=TRUE,\"P\",\"A\")","v":"A"},{"$f":"IF(Attendance($C8,'Daily Register'!H$3:H$242)=TRUE,\"P\",\"A\")","v":"A"},{"$f":"IF(Attendance($C8,'Daily Register'!I$3:I$242)=TRUE,\"P\",\"A\")","v":"A"},{"$f":"IF(Attendance($C8,'Daily Register'!J$3:J$242)=TRUE,\"P\",\"A\")","v":"A"},{"$f":"IF(Attendance($C8,'Daily Register'!K$3:K$242)=TRUE,\"P\",\"A\")","v":"A"},{"$f":"IF(Attendance($C8,'Daily Register'!L$3:L$242)=TRUE,\"P\",\"A\")","v":"A"},{"$f":"IF(Attendance($C8,'Daily Register'!M$3:M$242)=TRUE,\"P\",\"A\")","v":"A"},{"$f":"IF(Attendance($C8,'Daily Register'!N$3:N$242)=TRUE,\"P\",\"A\")","v":"A"},{"$f":"IF(Attendance($C8,'Daily Register'!O$3:O$242)=TRUE,\"P\",\"A\")","v":"A"},{"$f":"IF(Attendance($C8,'Daily Register'!P$3:P$242)=TRUE,\"P\",\"A\")","v":"A"},{"$f":"IF(Attendance($C8,'Daily Register'!Q$3:Q$242)=TRUE,\"P\",\"A\")","v":"A"},{"$f":"IF(Attendance($C8,'Daily Register'!R$3:R$242)=TRUE,\"P\",\"A\")","v":"A"},{"$f":"IF(Attendance($C8,'Daily Register'!S$3:S$242)=TRUE,\"P\",\"A\")","v":"A"},{"$f":"IF(Attendance($C8,'Daily Register'!T$3:T$242)=TRUE,\"P\",\"A\")","v":"A"},{"$f":"IF(Attendance($C8,'Daily Register'!U$3:U$242)=TRUE,\"P\",\"A\")","v":"A"},{"$f":"IF(Attendance($C8,'Daily Register'!V$3:V$242)=TRUE,\"P\",\"A\")","v":"A"},{"$f":"IF(Attendance($C8,'Daily Register'!W$3:W$242)=TRUE,\"P\",\"A\")","v":"A"},{"$f":"IF(Attendance($C8,'Daily Register'!X$3:X$242)=TRUE,\"P\",\"A\")","v":"A"},{"$f":"IF(Attendance($C8,'Daily Register'!Y$3:Y$242)=TRUE,\"P\",\"A\")","v":"A"},{"$f":"IF(Attendance($C8,'Daily Register'!Z$3:Z$242)=TRUE,\"P\",\"A\")","v":"A"},{"$f":"IF(Attendance($C8,'Daily Register'!AA$3:AA$242)=TRUE,\"P\",\"A\")","v":"A"},{"$f":"IF(Attendance($C8,'Daily Register'!AB$3:AB$242)=TRUE,\"P\",\"A\")","v":"A"},{"$f":"IF(Attendance($C8,'Daily Register'!AC$3:AC$242)=TRUE,\"P\",\"A\")","v":"A"},{"$f":"IF(Attendance($C8,'Daily Register'!AD$3:AD$242)=TRUE,\"P\",\"A\")","v":"A"},{"$f":"IF(Attendance($C8,'Daily Register'!AE$3:AE$242)=TRUE,\"P\",\"A\")","v":"A"},{"$f":"IF(Attendance($C8,'Daily Register'!AF$3:AF$242)=TRUE,\"P\",\"A\")","v":"A"},{"$f":"IF(Attendance($C8,'Daily Register'!AG$3:AG$242)=TRUE,\"P\",\"A\")","v":"A"},{"$f":"IF(Attendance($C8,'Daily Register'!AH$3:AH$242)=TRUE,\"P\",\"A\")","v":"A"},{"$f":"IF(Attendance($C8,'Daily Register'!AI$3:AI$242)=TRUE,\"P\",\"A\")","v":"A"},{"$f":"IF(Attendance($C8,'Daily Register'!AJ$3:AJ$242)=TRUE,\"P\",\"A\")","v":"A"},{"$f":"IF(Attendance($C8,'Daily Register'!AK$3:AK$242)=TRUE,\"P\",\"A\")","v":"A"},{"$f":"IF(Attendance($C8,'Daily Register'!AL$3:AL$242)=TRUE,\"P\",\"A\")","v":"A"},{"$f":"IF(Attendance($C8,'Daily Register'!AM$3:AM$242)=TRUE,\"P\",\"A\")","v":"A"},{"$f":"IF(Attendance($C8,'Daily Register'!AN$3:AN$242)=TRUE,\"P\",\"A\")","v":"A"},{"$f":"IF(Attendance($C8,'Daily Register'!AO$3:AO$242)=TRUE,\"P\",\"A\")","v":"A"},{"$f":"IF(Attendance($C8,'Daily Register'!AP$3:AP$242)=TRUE,\"P\",\"A\")","v":"A"},{"$f":"IF(Attendance($C8,'Daily Register'!AQ$3:AQ$242)=TRUE,\"P\",\"A\")","v":"A"},{"$f":"IF(Attendance($C8,'Daily Register'!AR$3:AR$242)=TRUE,\"P\",\"A\")","v":"A"},{"$f":"IF(Attendance($C8,'Daily Register'!AS$3:AS$242)=TRUE,\"P\",\"A\")","v":"A"},{"$f":"IF(Attendance($C8,'Daily Register'!AT$3:AT$242)=TRUE,\"P\",\"A\")","v":"A"},{"$f":"IF(Attendance($C8,'Daily Register'!AU$3:AU$242)=TRUE,\"P\",\"A\")","v":"A"},{"$f":"IF(Attendance($C8,'Daily Register'!AV$3:AV$242)=TRUE,\"P\",\"A\")","v":"A"},{"$f":"IF(Attendance($C8,'Daily Register'!AW$3:AW$242)=TRUE,\"P\",\"A\")","v":"A"},{"$f":"IF(Attendance($C8,'Daily Register'!AX$3:AX$242)=TRUE,\"P\",\"A\")","v":"A"},{"$f":"IF(Attendance($C8,'Daily Register'!AY$3:AY$242)=TRUE,\"P\",\"A\")","v":"A"},{"$f":"IF(Attendance($C8,'Daily Register'!AZ$3:AZ$242)=TRUE,\"P\",\"A\")","v":"A"},{"$f":"IF(Attendance($C8,'Daily Register'!BA$3:BA$242)=TRUE,\"P\",\"A\")","v":"A"},{"$f":"IF(Attendance($C8,'Daily Register'!BB$3:BB$242)=TRUE,\"P\",\"A\")","v":"A"},{"$f":"IF(Attendance($C8,'Daily Register'!BC$3:BC$242)=TRUE,\"P\",\"A\")","v":"A"},{"$f":"IF(Attendance($C8,'Daily Register'!BD$3:BD$242)=TRUE,\"P\",\"A\")","v":"A"},{"$f":"IF(Attendance($C8,'Daily Register'!BE$3:BE$242)=TRUE,\"P\",\"A\")","v":"A"},{"$f":"IF(Attendance($C8,'Daily Register'!BF$3:BF$242)=TRUE,\"P\",\"A\")","v":"A"},{"$f":"IF(Attendance($C8,'Daily Register'!BG$3:BG$242)=TRUE,\"P\",\"A\")","v":"A"},{"$f":"IF(Attendance($C8,'Daily Register'!BH$3:BH$242)=TRUE,\"P\",\"A\")","v":"A"},{"$f":"IF(Attendance($C8,'Daily Register'!BI$3:BI$242)=TRUE,\"P\",\"A\")","v":"A"},{"$f":"IF(Attendance($C8,'Daily Register'!BJ$3:BJ$242)=TRUE,\"P\",\"A\")","v":"A"},{"$f":"IF(Attendance($C8,'Daily Register'!BK$3:BK$242)=TRUE,\"P\",\"A\")","v":"A"},{"$f":"IF(Attendance($C8,'Daily Register'!BL$3:BL$242)=TRUE,\"P\",\"A\")","v":"A"},{"$f":"IF(Attendance($C8,'Daily Register'!BM$3:BM$242)=TRUE,\"P\",\"A\")","v":"A"},{"$f":"IF(Attendance($C8,'Daily Register'!BN$3:BN$242)=TRUE,\"P\",\"A\")","v":"A"},{"$f":"IF(Attendance($C8,'Daily Register'!BO$3:BO$242)=TRUE,\"P\",\"A\")","v":"A"},{"$f":"IF(Attendance($C8,'Daily Register'!BP$3:BP$242)=TRUE,\"P\",\"A\")","v":"A"},{"$f":"IF(Attendance($C8,'Daily Register'!BQ$3:BQ$242)=TRUE,\"P\",\"A\")","v":"A"},{"$f":"IF(Attendance($C8,'Daily Register'!BR$3:BR$242)=TRUE,\"P\",\"A\")","v":"A"},{"$f":"IF(Attendance($C8,'Daily Register'!BS$3:BS$242)=TRUE,\"P\",\"A\")","v":"A"},{"$f":"IF(Attendance($C8,'Daily Register'!BT$3:BT$242)=TRUE,\"P\",\"A\")","v":"A"},{"$f":"IF(Attendance($C8,'Daily Register'!BU$3:BU$242)=TRUE,\"P\",\"A\")","v":"A"},{"$f":"IF(Attendance($C8,'Daily Register'!BV$3:BV$242)=TRUE,\"P\",\"A\")","v":"A"},{"$f":"IF(Attendance($C8,'Daily Register'!BW$3:BW$242)=TRUE,\"P\",\"A\")","v":"A"},{"$f":"IF(Attendance($C8,'Daily Register'!BX$3:BX$242)=TRUE,\"P\",\"A\")","v":"A"},{"$f":"IF(Attendance($C8,'Daily Register'!BY$3:BY$242)=TRUE,\"P\",\"A\")","v":"A"},{"$f":"IF(Attendance($C8,'Daily Register'!BZ$3:BZ$242)=TRUE,\"P\",\"A\")","v":"A"},{"$f":"IF(Attendance($C8,'Daily Register'!CA$3:CA$242)=TRUE,\"P\",\"A\")","v":"A"},{"$f":"IF(Attendance($C8,'Daily Register'!CB$3:CB$242)=TRUE,\"P\",\"A\")","v":"A"},{"$f":"IF(Attendance($C8,'Daily Register'!CC$3:CC$242)=TRUE,\"P\",\"A\")","v":"A"},{"$f":"IF(Attendance($C8,'Daily Register'!CD$3:CD$242)=TRUE,\"P\",\"A\")","v":"A"},{"$f":"IF(Attendance($C8,'Daily Register'!CE$3:CE$242)=TRUE,\"P\",\"A\")","v":"A"},{"$f":"IF(Attendance($C8,'Daily Register'!CF$3:CF$242)=TRUE,\"P\",\"A\")","v":"A"},{"$f":"IF(Attendance($C8,'Daily Register'!CG$3:CG$242)=TRUE,\"P\",\"A\")","v":"A"},{"$f":"IF(Attendance($C8,'Daily Register'!CH$3:CH$242)=TRUE,\"P\",\"A\")","v":"A"},{"$f":"IF(Attendance($C8,'Daily Register'!CI$3:CI$242)=TRUE,\"P\",\"A\")","v":"A"},{"$f":"IF(Attendance($C8,'Daily Register'!CJ$3:CJ$242)=TRUE,\"P\",\"A\")","v":"A"},{"$f":"IF(Attendance($C8,'Daily Register'!CK$3:CK$242)=TRUE,\"P\",\"A\")","v":"A"},{"$f":"IF(Attendance($C8,'Daily Register'!CL$3:CL$242)=TRUE,\"P\",\"A\")","v":"A"},{"$f":"IF(Attendance($C8,'Daily Register'!CM$3:CM$242)=TRUE,\"P\",\"A\")","v":"A"},{"$f":"IF(Attendance($C8,'Daily Register'!CN$3:CN$242)=TRUE,\"P\",\"A\")","v":"A"},{"$f":"IF(Attendance($C8,'Daily Register'!CO$3:CO$242)=TRUE,\"P\",\"A\")","v":"A"},{"$f":"IF(Attendance($C8,'Daily Register'!CP$3:CP$242)=TRUE,\"P\",\"A\")","v":"A"},{"$f":"IF(Attendance($C8,'Daily Register'!CQ$3:CQ$242)=TRUE,\"P\",\"A\")","v":"A"},{"$f":"IF(Attendance($C8,'Daily Register'!CR$3:CR$242)=TRUE,\"P\",\"A\")","v":"A"},{"$f":"IF(Attendance($C8,'Daily Register'!CS$3:CS$242)=TRUE,\"P\",\"A\")","v":"A"},{"$f":"IF(Attendance($C8,'Daily Register'!CT$3:CT$242)=TRUE,\"P\",\"A\")","v":"A"},{"$f":"IF(Attendance($C8,'Daily Register'!CU$3:CU$242)=TRUE,\"P\",\"A\")","v":"A"},{"$f":"IF(Attendance($C8,'Daily Register'!CV$3:CV$242)=TRUE,\"P\",\"A\")","v":"A"},{"$f":"IF(Attendance($C8,'Daily Register'!CW$3:CW$242)=TRUE,\"P\",\"A\")","v":"A"},{"$f":"IF(Attendance($C8,'Daily Register'!CX$3:CX$242)=TRUE,\"P\",\"A\")","v":"A"},{"$f":"IF(Attendance($C8,'Daily Register'!CY$3:CY$242)=TRUE,\"P\",\"A\")","v":"A"},{"$f":"IF(Attendance($C8,'Daily Register'!CZ$3:CZ$242)=TRUE,\"P\",\"A\")","v":"A"},{"$f":"IF(Attendance($C8,'Daily Register'!DA$3:DA$242)=TRUE,\"P\",\"A\")","v":"A"},{"$f":"IF(Attendance($C8,'Daily Register'!DB$3:DB$242)=TRUE,\"P\",\"A\")","v":"A"},{"$f":"IF(Attendance($C8,'Daily Register'!DC$3:DC$242)=TRUE,\"P\",\"A\")","v":"A"},{"$f":"IF(Attendance($C8,'Daily Register'!DD$3:DD$242)=TRUE,\"P\",\"A\")","v":"A"},{"$f":"IF(Attendance($C8,'Daily Register'!DE$3:DE$242)=TRUE,\"P\",\"A\")","v":"A"},{"$f":"IF(Attendance($C8,'Daily Register'!DF$3:DF$242)=TRUE,\"P\",\"A\")","v":"A"},{"$f":"IF(Attendance($C8,'Daily Register'!DG$3:DG$242)=TRUE,\"P\",\"A\")","v":"A"},{"$f":"IF(Attendance($C8,'Daily Register'!DH$3:DH$242)=TRUE,\"P\",\"A\")","v":"A"},{"$f":"IF(Attendance($C8,'Daily Register'!DI$3:DI$242)=TRUE,\"P\",\"A\")","v":"A"},{"$f":"IF(Attendance($C8,'Daily Register'!DJ$3:DJ$242)=TRUE,\"P\",\"A\")","v":"A"},{"$f":"IF(Attendance($C8,'Daily Register'!DK$3:DK$242)=TRUE,\"P\",\"A\")","v":"A"},{"$f":"IF(Attendance($C8,'Daily Register'!DL$3:DL$242)=TRUE,\"P\",\"A\")","v":"A"},{"$f":"IF(Attendance($C8,'Daily Register'!DM$3:DM$242)=TRUE,\"P\",\"A\")","v":"A"},{"$f":"IF(Attendance($C8,'Daily Register'!DN$3:DN$242)=TRUE,\"P\",\"A\")","v":"A"},{"$f":"IF(Attendance($C8,'Daily Register'!DO$3:DO$242)=TRUE,\"P\",\"A\")","v":"A"},{"$f":"IF(Attendance($C8,'Daily Register'!DP$3:DP$242)=TRUE,\"P\",\"A\")","v":"A"},{"$f":"IF(Attendance($C8,'Daily Register'!DQ$3:DQ$242)=TRUE,\"P\",\"A\")","v":"A"},{"$f":"IF(Attendance($C8,'Daily Register'!DR$3:DR$242)=TRUE,\"P\",\"A\")","v":"A"},{"$f":"IF(Attendance($C8,'Daily Register'!DS$3:DS$242)=TRUE,\"P\",\"A\")","v":"A"},{"$f":"IF(Attendance($C8,'Daily Register'!DT$3:DT$242)=TRUE,\"P\",\"A\")","v":"A"},{"$f":"IF(Attendance($C8,'Daily Register'!DU$3:DU$242)=TRUE,\"P\",\"A\")","v":"A"},{"$f":"IF(Attendance($C8,'Daily Register'!DV$3:DV$242)=TRUE,\"P\",\"A\")","v":"A"},{"$f":"IF(Attendance($C8,'Daily Register'!DW$3:DW$242)=TRUE,\"P\",\"A\")","v":"A"},{"$f":"IF(Attendance($C8,'Daily Register'!DX$3:DX$242)=TRUE,\"P\",\"A\")","v":"A"},{"$f":"IF(Attendance($C8,'Daily Register'!DY$3:DY$242)=TRUE,\"P\",\"A\")","v":"A"},{"$f":"IF(Attendance($C8,'Daily Register'!DZ$3:DZ$242)=TRUE,\"P\",\"A\")","v":"A"},{"$f":"IF(Attendance($C8,'Daily Register'!EA$3:EA$242)=TRUE,\"P\",\"A\")","v":"A"},{"$f":"IF(Attendance($C8,'Daily Register'!EB$3:EB$242)=TRUE,\"P\",\"A\")","v":"A"},{"$f":"IF(Attendance($C8,'Daily Register'!EC$3:EC$242)=TRUE,\"P\",\"A\")","v":"A"},{"$f":"IF(Attendance($C8,'Daily Register'!ED$3:ED$242)=TRUE,\"P\",\"A\")","v":"A"},{"$f":"IF(Attendance($C8,'Daily Register'!EE$3:EE$242)=TRUE,\"P\",\"A\")","v":"A"},{"$f":"IF(Attendance($C8,'Daily Register'!EF$3:EF$242)=TRUE,\"P\",\"A\")","v":"A"},{"$f":"IF(Attendance($C8,'Daily Register'!EG$3:EG$242)=TRUE,\"P\",\"A\")","v":"A"},{"$f":"IF(Attendance($C8,'Daily Register'!EH$3:EH$242)=TRUE,\"P\",\"A\")","v":"A"},{"$f":"IF(Attendance($C8,'Daily Register'!EI$3:EI$242)=TRUE,\"P\",\"A\")","v":"A"},{"$f":"IF(Attendance($C8,'Daily Register'!EJ$3:EJ$242)=TRUE,\"P\",\"A\")","v":"A"},{"$f":"IF(Attendance($C8,'Daily Register'!EK$3:EK$242)=TRUE,\"P\",\"A\")","v":"A"},{"$f":"IF(Attendance($C8,'Daily Register'!EL$3:EL$242)=TRUE,\"P\",\"A\")","v":"A"},{"$f":"IF(Attendance($C8,'Daily Register'!EM$22:EM$242)=TRUE,\"P\",\"A\")","v":"A"},{"$f":"IF(Attendance($C8,'Daily Register'!EN$3:EN$242)=TRUE,\"P\",\"A\")","v":"A"},{"$f":"IF(Attendance($C8,'Daily Register'!EO$3:EO$242)=TRUE,\"P\",\"A\")","v":"A"},{"$f":"IF(Attendance($C8,'Daily Register'!EP$3:EP$242)=TRUE,\"P\",\"A\")","v":"A"},{"$f":"IF(Attendance($C8,'Daily Register'!EQ$3:EQ$242)=TRUE,\"P\",\"A\")","v":"A"},{"$f":"IF(Attendance($C8,'Daily Register'!ER$3:ER$242)=TRUE,\"P\",\"A\")","v":"A"},{"$f":"IF(Attendance($C8,'Daily Register'!ES$3:ES$242)=TRUE,\"P\",\"A\")","v":"A"},{"$f":"IF(Attendance($C8,'Daily Register'!ET$3:ET$242)=TRUE,\"P\",\"A\")","v":"A"},{"$f":"IF(Attendance($C8,'Daily Register'!EU$3:EU$242)=TRUE,\"P\",\"A\")","v":"A"},{"$f":"IF(Attendance($C8,'Daily Register'!EV$3:EV$242)=TRUE,\"P\",\"A\")","v":"A"},{"$f":"IF(Attendance($C8,'Daily Register'!EW$3:EW$242)=TRUE,\"P\",\"A\")","v":"A"},{"$f":"IF(Attendance($C8,'Daily Register'!EX$3:EX$242)=TRUE,\"P\",\"A\")","v":"A"},{"$f":"IF(Attendance($C8,'Daily Register'!EY$3:EY$242)=TRUE,\"P\",\"A\")","v":"A"},{"$f":"IF(Attendance($C8,'Daily Register'!EZ$3:EZ$242)=TRUE,\"P\",\"A\")","v":"A"},{"$f":"IF(Attendance($C8,'Daily Register'!FA$3:FA$242)=TRUE,\"P\",\"A\")","v":"A"},{"$f":"IF(Attendance($C8,'Daily Register'!FB$3:FB$242)=TRUE,\"P\",\"A\")","v":"A"},{"$f":"IF(Attendance($C8,'Daily Register'!FC$3:FC$242)=TRUE,\"P\",\"A\")","v":"A"},{"$f":"IF(Attendance($C8,'Daily Register'!FD$3:FD$242)=TRUE,\"P\",\"A\")","v":"A"},{"$f":"IF(Attendance($C8,'Daily Register'!FE$3:FE$242)=TRUE,\"P\",\"A\")","v":"A"},{"$f":"IF(Attendance($C8,'Daily Register'!FF$3:FF$242)=TRUE,\"P\",\"A\")","v":"A"},{"$f":"IF(Attendance($C8,'Daily Register'!FG$3:FG$242)=TRUE,\"P\",\"A\")","v":"A"},{"$f":"IF(Attendance($C8,'Daily Register'!FH$3:FH$242)=TRUE,\"P\",\"A\")","v":"A"},{"$f":"IF(Attendance($C8,'Daily Register'!FI$3:FI$242)=TRUE,\"P\",\"A\")","v":"A"},{"$f":"IF(Attendance($C8,'Daily Register'!FJ$3:FJ$242)=TRUE,\"P\",\"A\")","v":"A"},{"$f":"IF(Attendance($C8,'Daily Register'!FK$3:FK$242)=TRUE,\"P\",\"A\")","v":"A"},{"$f":"IF(Attendance($C8,'Daily Register'!FL$3:FL$242)=TRUE,\"P\",\"A\")","v":"A"},{"$f":"IF(Attendance($C8,'Daily Register'!FM$3:FM$242)=TRUE,\"P\",\"A\")","v":"A"},{"$f":"IF(Attendance($C8,'Daily Register'!FN$3:FN$242)=TRUE,\"P\",\"A\")","v":"A"},{"$f":"IF(Attendance($C8,'Daily Register'!FO$3:FO$242)=TRUE,\"P\",\"A\")","v":"A"},{"$f":"IF(Attendance($C8,'Daily Register'!FP$3:FP$242)=TRUE,\"P\",\"A\")","v":"A"},{"$f":"IF(Attendance($C8,'Daily Register'!FQ$3:FQ$242)=TRUE,\"P\",\"A\")","v":"A"},{"$f":"IF(Attendance($C8,'Daily Register'!FR$3:FR$242)=TRUE,\"P\",\"A\")","v":"A"},{"$f":"IF(Attendance($C8,'Daily Register'!FS$3:FS$242)=TRUE,\"P\",\"A\")","v":"A"},{"$f":"IF(Attendance($C8,'Daily Register'!FT$3:FT$242)=TRUE,\"P\",\"A\")","v":"A"},{"$f":"IF(Attendance($C8,'Daily Register'!FU$3:FU$242)=TRUE,\"P\",\"A\")","v":"A"},{"$f":"IF(Attendance($C8,'Daily Register'!FV$3:FV$242)=TRUE,\"P\",\"A\")","v":"A"},{"$f":"IF(Attendance($C8,'Daily Register'!FW$3:FW$242)=TRUE,\"P\",\"A\")","v":"A"},{"$f":"IF(Attendance($C8,'Daily Register'!FX$3:FX$242)=TRUE,\"P\",\"A\")","v":"A"},{"$f":"IF(Attendance($C8,'Daily Register'!FY$3:FY$242)=TRUE,\"P\",\"A\")","v":"A"},{"$f":"IF(Attendance($C8,'Daily Register'!FZ$3:FZ$242)=TRUE,\"P\",\"A\")","v":"A"},{"$f":"IF(Attendance($C8,'Daily Register'!GA$3:GA$242)=TRUE,\"P\",\"A\")","v":"A"},{"$f":"IF(Attendance($C8,'Daily Register'!GB$3:GB$242)=TRUE,\"P\",\"A\")","v":"A"},{"$f":"IF(Attendance($C8,'Daily Register'!GC$3:GC$242)=TRUE,\"P\",\"A\")","v":"A"},{"$f":"IF(Attendance($C8,'Daily Register'!GD$3:GD$242)=TRUE,\"P\",\"A\")","v":"A"},{"$f":"IF(Attendance($C8,'Daily Register'!GE$3:GE$242)=TRUE,\"P\",\"A\")","v":"A"},{"$f":"IF(Attendance($C8,'Daily Register'!GF$3:GF$242)=TRUE,\"P\",\"A\")","v":"A"},{"$f":"IF(Attendance($C8,'Daily Register'!GG$3:GG$242)=TRUE,\"P\",\"A\")","v":"A"},{"$f":"IF(Attendance($C8,'Daily Register'!GH$3:GH$242)=TRUE,\"P\",\"A\")","v":"A"},{"$f":"IF(Attendance($C8,'Daily Register'!GI$3:GI$242)=TRUE,\"P\",\"A\")","v":"A"},{"$f":"IF(Attendance($C8,'Daily Register'!GJ$3:GJ$242)=TRUE,\"P\",\"A\")","v":"A"},{"$f":"IF(Attendance($C8,'Daily Register'!GK$3:GK$242)=TRUE,\"P\",\"A\")","v":"A"},{"$f":"IF(Attendance($C8,'Daily Register'!GL$3:GL$242)=TRUE,\"P\",\"A\")","v":"A"},{"$f":"IF(Attendance($C8,'Daily Register'!GM$3:GM$242)=TRUE,\"P\",\"A\")","v":"A"},{"$f":"IF(Attendance($C8,'Daily Register'!GN$3:GN$242)=TRUE,\"P\",\"A\")","v":"A"},{"$f":"IF(Attendance($C8,'Daily Register'!GO$3:GO$242)=TRUE,\"P\",\"A\")","v":"A"},{"$f":"IF(Attendance($C8,'Daily Register'!GP$3:GP$242)=TRUE,\"P\",\"A\")","v":"A"},{"$f":"IF(Attendance($C8,'Daily Register'!GQ$3:GQ$242)=TRUE,\"P\",\"A\")","v":"A"},{"$f":"IF(Attendance($C8,'Daily Register'!GR$3:GR$242)=TRUE,\"P\",\"A\")","v":"A"},{"$f":"IF(Attendance($C8,'Daily Register'!GS$3:GS$242)=TRUE,\"P\",\"A\")","v":"A"},{"$f":"IF(Attendance($C8,'Daily Register'!GT$3:GT$242)=TRUE,\"P\",\"A\")","v":"A"},{"$f":"IF(Attendance($C8,'Daily Register'!GU$3:GU$242)=TRUE,\"P\",\"A\")","v":"A"},{"$f":"IF(Attendance($C8,'Daily Register'!GV$3:GV$242)=TRUE,\"P\",\"A\")","v":"A"},{"$f":"IF(Attendance($C8,'Daily Register'!GW$3:GW$242)=TRUE,\"P\",\"A\")","v":"A"},{"$f":"IF(Attendance($C8,'Daily Register'!GX$3:GX$242)=TRUE,\"P\",\"A\")","v":"A"},{"$f":"IF(Attendance($C8,'Daily Register'!GY$3:GY$242)=TRUE,\"P\",\"A\")","v":"A"},{"$f":"IF(Attendance($C8,'Daily Register'!GZ$3:GZ$242)=TRUE,\"P\",\"A\")","v":"A"},{"$f":"IF(Attendance($C8,'Daily Register'!HA$3:HA$242)=TRUE,\"P\",\"A\")","v":"A"},{"$f":"IF(Attendance($C8,'Daily Register'!HB$3:HB$242)=TRUE,\"P\",\"A\")","v":"A"},{"$f":"IF(Attendance($C8,'Daily Register'!HC$3:HC$242)=TRUE,\"P\",\"A\")","v":"A"},{"$f":"IF(Attendance($C8,'Daily Register'!HD$3:HD$242)=TRUE,\"P\",\"A\")","v":"A"},{"$f":"IF(Attendance($C8,'Daily Register'!HE$3:HE$242)=TRUE,\"P\",\"A\")","v":"A"},{"$f":"IF(Attendance($C8,'Daily Register'!HF$3:HF$242)=TRUE,\"P\",\"A\")","v":"A"},{"$f":"IF(Attendance($C8,'Daily Register'!HG$3:HG$242)=TRUE,\"P\",\"A\")","v":"A"},{"$f":"IF(Attendance($C8,'Daily Register'!HH$3:HH$242)=TRUE,\"P\",\"A\")","v":"A"},{"$f":"IF(Attendance($C8,'Daily Register'!HI$3:HI$242)=TRUE,\"P\",\"A\")","v":"A"},{"$f":"IF(Attendance($C8,'Daily Register'!HJ$3:HJ$242)=TRUE,\"P\",\"A\")","v":"A"},{"$f":"IF(Attendance($C8,'Daily Register'!HK$3:HK$242)=TRUE,\"P\",\"A\")","v":"A"},{"$f":"IF(Attendance($C8,'Daily Register'!HL$3:HL$242)=TRUE,\"P\",\"A\")","v":"A"},{"$f":"IF(Attendance($C8,'Daily Register'!HM$3:HM$242)=TRUE,\"P\",\"A\")","v":"A"},{"$f":"IF(Attendance($C8,'Daily Register'!HN$3:HN$242)=TRUE,\"P\",\"A\")","v":"A"},{"$f":"IF(Attendance($C8,'Daily Register'!HO$3:HO$242)=TRUE,\"P\",\"A\")","v":"A"},{"$f":"IF(Attendance($C8,'Daily Register'!HP$3:HP$242)=TRUE,\"P\",\"A\")","v":"A"},{"$f":"IF(Attendance($C8,'Daily Register'!HQ$3:HQ$242)=TRUE,\"P\",\"A\")","v":"A"},{"$f":"IF(Attendance($C8,'Daily Register'!HR$3:HR$242)=TRUE,\"P\",\"A\")","v":"A"},{"$f":"IF(Attendance($C8,'Daily Register'!HS$3:HS$242)=TRUE,\"P\",\"A\")","v":"A"},{"$f":"IF(Attendance($C8,'Daily Register'!HT$3:HT$242)=TRUE,\"P\",\"A\")","v":"A"},{"$f":"IF(Attendance($C8,'Daily Register'!HU$3:HU$242)=TRUE,\"P\",\"A\")","v":"A"},{"$f":"IF(Attendance($C8,'Daily Register'!HV$3:HV$242)=TRUE,\"P\",\"A\")","v":"A"},{"$f":"IF(Attendance($C8,'Daily Register'!HW$3:HW$242)=TRUE,\"P\",\"A\")","v":"A"},{"$f":"IF(Attendance($C8,'Daily Register'!HX$3:HX$242)=TRUE,\"P\",\"A\")","v":"A"},{"$f":"IF(Attendance($C8,'Daily Register'!HY$3:HY$242)=TRUE,\"P\",\"A\")","v":"A"},{"$f":"IF(Attendance($C8,'Daily Register'!HZ$3:HZ$242)=TRUE,\"P\",\"A\")","v":"A"},{"$f":"IF(Attendance($C8,'Daily Register'!IA$3:IA$242)=TRUE,\"P\",\"A\")","v":"A"},{"$f":"IF(Attendance($C8,'Daily Register'!IB$3:IB$242)=TRUE,\"P\",\"A\")","v":"A"},{"$f":"IF(Attendance($C8,'Daily Register'!IC$3:IC$242)=TRUE,\"P\",\"A\")","v":"A"},{"$f":"IF(Attendance($C8,'Daily Register'!ID$3:ID$242)=TRUE,\"P\",\"A\")","v":"A"},{"$f":"IF(Attendance($C8,'Daily Register'!IE$3:IE$242)=TRUE,\"P\",\"A\")","v":"A"},{"$f":"IF(Attendance($C8,'Daily Register'!IF$3:IF$242)=TRUE,\"P\",\"A\")","v":"A"},{"$f":"IF(Attendance($C8,'Daily Register'!IG$3:IG$242)=TRUE,\"P\",\"A\")","v":"A"},{"$f":"IF(Attendance($C8,'Daily Register'!IH$3:IH$242)=TRUE,\"P\",\"A\")","v":"A"},{"$f":"IF(Attendance($C8,'Daily Register'!II$3:II$242)=TRUE,\"P\",\"A\")","v":"A"},{"$f":"IF(Attendance($C8,'Daily Register'!IJ$3:IJ$242)=TRUE,\"P\",\"A\")","v":"A"},{"$f":"IF(Attendance($C8,'Daily Register'!IK$3:IK$242)=TRUE,\"P\",\"A\")","v":"A"},{"$f":"IF(Attendance($C8,'Daily Register'!IL$3:IL$242)=TRUE,\"P\",\"A\")","v":"A"},{"$f":"IF(Attendance($C8,'Daily Register'!IM$3:IM$242)=TRUE,\"P\",\"A\")","v":"A"},{"$f":"IF(Attendance($C8,'Daily Register'!IN$3:IN$242)=TRUE,\"P\",\"A\")","v":"A"},{"$f":"IF(Attendance($C8,'Daily Register'!IO$3:IO$242)=TRUE,\"P\",\"A\")","v":"A"},{"$f":"IF(Attendance($C8,'Daily Register'!IP$3:IP$242)=TRUE,\"P\",\"A\")","v":"A"},{"$f":"IF(Attendance($C8,'Daily Register'!IQ$3:IQ$242)=TRUE,\"P\",\"A\")","v":"A"},{"$f":"IF(Attendance($C8,'Daily Register'!IR$3:IR$242)=TRUE,\"P\",\"A\")","v":"A"},{"$f":"IF(Attendance($C8,'Daily Register'!IS$3:IS$242)=TRUE,\"P\",\"A\")","v":"A"},{"$f":"IF(Attendance($C8,'Daily Register'!IT$3:IT$242)=TRUE,\"P\",\"A\")","v":"A"},{"$f":"IF(Attendance($C8,'Daily Register'!IU$3:IU$242)=TRUE,\"P\",\"A\")","v":"A"},{"$f":"IF(Attendance($C8,'Daily Register'!IV$3:IV$242)=TRUE,\"P\",\"A\")","v":"A"},{"$f":"IF(Attendance($C8,'Daily Register'!IW$3:IW$242)=TRUE,\"P\",\"A\")","v":"A"},{"$f":"IF(Attendance($C8,'Daily Register'!IX$3:IX$242)=TRUE,\"P\",\"A\")","v":"A"},{"$f":"IF(Attendance($C8,'Daily Register'!IY$3:IY$242)=TRUE,\"P\",\"A\")","v":"A"},{"$f":"IF(Attendance($C8,'Daily Register'!IZ$3:IZ$242)=TRUE,\"P\",\"A\")","v":"A"},{"$f":"IF(Attendance($C8,'Daily Register'!JA$3:JA$242)=TRUE,\"P\",\"A\")","v":"A"},{"$f":"IF(Attendance($C8,'Daily Register'!JB$3:JB$242)=TRUE,\"P\",\"A\")","v":"A"},{"$f":"IF(Attendance($C8,'Daily Register'!JC$3:JC$242)=TRUE,\"P\",\"A\")","v":"A"},{"$f":"IF(Attendance($C8,'Daily Register'!JD$3:JD$242)=TRUE,\"P\",\"A\")","v":"A"},{"$f":"IF(Attendance($C8,'Daily Register'!JE$3:JE$242)=TRUE,\"P\",\"A\")","v":"A"},{"$f":"IF(Attendance($C8,'Daily Register'!JF$3:JF$242)=TRUE,\"P\",\"A\")","v":"A"},{"$f":"IF(Attendance($C8,'Daily Register'!JG$3:JG$242)=TRUE,\"P\",\"A\")","v":"A"},{"$f":"IF(Attendance($C8,'Daily Register'!JH$3:JH$242)=TRUE,\"P\",\"A\")","v":"A"},{"$f":"IF(Attendance($C8,'Daily Register'!JI$3:JI$242)=TRUE,\"P\",\"A\")","v":"A"},{"$f":"IF(Attendance($C8,'Daily Register'!JJ$3:JJ$242)=TRUE,\"P\",\"A\")","v":"A"},{"$f":"IF(Attendance($C8,'Daily Register'!JK$3:JK$242)=TRUE,\"P\",\"A\")","v":"A"},{"$f":"IF(Attendance($C8,'Daily Register'!JL$3:JL$242)=TRUE,\"P\",\"A\")","v":"A"},{"$f":"IF(Attendance($C8,'Daily Register'!JM$3:JM$242)=TRUE,\"P\",\"A\")","v":"A"},{"$f":"IF(Attendance($C8,'Daily Register'!JN$3:JN$242)=TRUE,\"P\",\"A\")","v":"A"},{"$f":"IF(Attendance($C8,'Daily Register'!JO$3:JO$242)=TRUE,\"P\",\"A\")","v":"A"},{"$f":"IF(Attendance($C8,'Daily Register'!JP$3:JP$242)=TRUE,\"P\",\"A\")","v":"A"},{"$f":"IF(Attendance($C8,'Daily Register'!JQ$3:JQ$242)=TRUE,\"P\",\"A\")","v":"A"},{"$f":"IF(Attendance($C8,'Daily Register'!JR$3:JR$242)=TRUE,\"P\",\"A\")","v":"A"},{"$f":"IF(Attendance($C8,'Daily Register'!JS$3:JS$242)=TRUE,\"P\",\"A\")","v":"A"},{"$f":"IF(Attendance($C8,'Daily Register'!JT$3:JT$242)=TRUE,\"P\",\"A\")","v":"A"},{"$f":"IF(Attendance($C8,'Daily Register'!JU$3:JU$242)=TRUE,\"P\",\"A\")","v":"A"},{"$f":"IF(Attendance($C8,'Daily Register'!JV$3:JV$242)=TRUE,\"P\",\"A\")","v":"A"},{"$f":"IF(Attendance($C8,'Daily Register'!JW$3:JW$242)=TRUE,\"P\",\"A\")","v":"A"},{"$f":"IF(Attendance($C8,'Daily Register'!JX$3:JX$242)=TRUE,\"P\",\"A\")","v":"A"},{"$f":"IF(Attendance($C8,'Daily Register'!JY$3:JY$242)=TRUE,\"P\",\"A\")","v":"A"},{"$f":"IF(Attendance($C8,'Daily Register'!JZ$3:JZ$242)=TRUE,\"P\",\"A\")","v":"A"},{"$f":"IF(Attendance($C8,'Daily Register'!KA$3:KA$242)=TRUE,\"P\",\"A\")","v":"A"},{"$f":"IF(Attendance($C8,'Daily Register'!KB$3:KB$242)=TRUE,\"P\",\"A\")","v":"A"},{"$f":"IF(Attendance($C8,'Daily Register'!KC$3:KC$242)=TRUE,\"P\",\"A\")","v":"A"},{"$f":"IF(Attendance($C8,'Daily Register'!KD$3:KD$242)=TRUE,\"P\",\"A\")","v":"A"},{"$f":"IF(Attendance($C8,'Daily Register'!KE$3:KE$242)=TRUE,\"P\",\"A\")","v":"A"},{"$f":"IF(Attendance($C8,'Daily Register'!KF$3:KF$242)=TRUE,\"P\",\"A\")","v":"A"},{"$f":"IF(Attendance($C8,'Daily Register'!KG$3:KG$242)=TRUE,\"P\",\"A\")","v":"A"},{"$f":"IF(Attendance($C8,'Daily Register'!KH$3:KH$242)=TRUE,\"P\",\"A\")","v":"A"},{"$f":"IF(Attendance($C8,'Daily Register'!KI$3:KI$242)=TRUE,\"P\",\"A\")","v":"A"},{"$f":"IF(Attendance($C8,'Daily Register'!KJ$3:KJ$242)=TRUE,\"P\",\"A\")","v":"A"},{"$f":"IF(Attendance($C8,'Daily Register'!KK$3:KK$242)=TRUE,\"P\",\"A\")","v":"A"},{"$f":"IF(Attendance($C8,'Daily Register'!KL$3:KL$242)=TRUE,\"P\",\"A\")","v":"A"},{"$f":"IF(Attendance($C8,'Daily Register'!KM$3:KM$242)=TRUE,\"P\",\"A\")","v":"A"},{"$f":"IF(Attendance($C8,'Daily Register'!KN$3:KN$242)=TRUE,\"P\",\"A\")","v":"A"},{"$f":"IF(Attendance($C8,'Daily Register'!KO$3:KO$242)=TRUE,\"P\",\"A\")","v":"A"},{"$f":"IF(Attendance($C8,'Daily Register'!KP$3:KP$242)=TRUE,\"P\",\"A\")","v":"A"},{"$f":"IF(Attendance($C8,'Daily Register'!KQ$3:KQ$242)=TRUE,\"P\",\"A\")","v":"A"},{"$f":"IF(Attendance($C8,'Daily Register'!KR$3:KR$242)=TRUE,\"P\",\"A\")","v":"A"},{"$f":"IF(Attendance($C8,'Daily Register'!KS$3:KS$242)=TRUE,\"P\",\"A\")","v":"A"},{"$f":"IF(Attendance($C8,'Daily Register'!KT$3:KT$242)=TRUE,\"P\",\"A\")","v":"A"},{"$f":"IF(Attendance($C8,'Daily Register'!KU$3:KU$242)=TRUE,\"P\",\"A\")","v":"A"},{"$f":"IF(Attendance($C8,'Daily Register'!KV$3:KV$242)=TRUE,\"P\",\"A\")","v":"A"},{"$f":"IF(Attendance($C8,'Daily Register'!KW$3:KW$242)=TRUE,\"P\",\"A\")","v":"A"},{"$f":"IF(Attendance($C8,'Daily Register'!KX$3:KX$242)=TRUE,\"P\",\"A\")","v":"A"},{"$f":"IF(Attendance($C8,'Daily Register'!KY$3:KY$242)=TRUE,\"P\",\"A\")","v":"A"},{"$f":"IF(Attendance($C8,'Daily Register'!KZ$3:KZ$242)=TRUE,\"P\",\"A\")","v":"A"},{"$f":"IF(Attendance($C8,'Daily Register'!LA$3:LA$242)=TRUE,\"P\",\"A\")","v":"A"},{"$f":"IF(Attendance($C8,'Daily Register'!LB$3:LB$242)=TRUE,\"P\",\"A\")","v":"A"},{"$f":"IF(Attendance($C8,'Daily Register'!LC$3:LC$242)=TRUE,\"P\",\"A\")","v":"A"},{"$f":"IF(Attendance($C8,'Daily Register'!LD$3:LD$242)=TRUE,\"P\",\"A\")","v":"A"},{"$f":"IF(Attendance($C8,'Daily Register'!LE$3:LE$242)=TRUE,\"P\",\"A\")","v":"A"},{"$f":"IF(Attendance($C8,'Daily Register'!LF$3:LF$242)=TRUE,\"P\",\"A\")","v":"A"},{"$f":"IF(Attendance($C8,'Daily Register'!LG$3:LG$242)=TRUE,\"P\",\"A\")","v":"A"},{"$f":"IF(Attendance($C8,'Daily Register'!LH$3:LH$242)=TRUE,\"P\",\"A\")","v":"A"},{"$f":"IF(Attendance($C8,'Daily Register'!LI$3:LI$242)=TRUE,\"P\",\"A\")","v":"A"},{"$f":"IF(Attendance($C8,'Daily Register'!LJ$3:LJ$242)=TRUE,\"P\",\"A\")","v":"A"},{"$f":"IF(Attendance($C8,'Daily Register'!LK$3:LK$242)=TRUE,\"P\",\"A\")","v":"A"},{"$f":"IF(Attendance($C8,'Daily Register'!LL$3:LL$242)=TRUE,\"P\",\"A\")","v":"A"},{"$f":"IF(Attendance($C8,'Daily Register'!LM$3:LM$242)=TRUE,\"P\",\"A\")","v":"A"},{"$f":"IF(Attendance($C8,'Daily Register'!LN$3:LN$242)=TRUE,\"P\",\"A\")","v":"A"},{"$f":"IF(Attendance($C8,'Daily Register'!LO$3:LO$242)=TRUE,\"P\",\"A\")","v":"A"},{"$f":"IF(Attendance($C8,'Daily Register'!LP$3:LP$242)=TRUE,\"P\",\"A\")","v":"A"},{"$f":"IF(Attendance($C8,'Daily Register'!LQ$3:LQ$242)=TRUE,\"P\",\"A\")","v":"A"},{"$f":"IF(Attendance($C8,'Daily Register'!LR$3:LR$242)=TRUE,\"P\",\"A\")","v":"A"},{"$f":"IF(Attendance($C8,'Daily Register'!LS$3:LS$242)=TRUE,\"P\",\"A\")","v":"A"},{"$f":"IF(Attendance($C8,'Daily Register'!LT$3:LT$242)=TRUE,\"P\",\"A\")","v":"A"},{"$f":"IF(Attendance($C8,'Daily Register'!LU$3:LU$242)=TRUE,\"P\",\"A\")","v":"A"},{"$f":"IF(Attendance($C8,'Daily Register'!LV$3:LV$242)=TRUE,\"P\",\"A\")","v":"A"},{"$f":"IF(Attendance($C8,'Daily Register'!LW$3:LW$242)=TRUE,\"P\",\"A\")","v":"A"},{"$f":"IF(Attendance($C8,'Daily Register'!LX$3:LX$242)=TRUE,\"P\",\"A\")","v":"A"},{"$f":"IF(Attendance($C8,'Daily Register'!LY$3:LY$242)=TRUE,\"P\",\"A\")","v":"A"},{"$f":"IF(Attendance($C8,'Daily Register'!LZ$3:LZ$242)=TRUE,\"P\",\"A\")","v":"A"},{"$f":"IF(Attendance($C8,'Daily Register'!MA$3:MA$242)=TRUE,\"P\",\"A\")","v":"A"},{"$f":"IF(Attendance($C8,'Daily Register'!MB$3:MB$242)=TRUE,\"P\",\"A\")","v":"A"},{"$f":"IF(Attendance($C8,'Daily Register'!MC$3:MC$242)=TRUE,\"P\",\"A\")","v":"A"},{"$f":"IF(Attendance($C8,'Daily Register'!MD$3:MD$242)=TRUE,\"P\",\"A\")","v":"A"},{"$f":"IF(Attendance($C8,'Daily Register'!ME$3:ME$242)=TRUE,\"P\",\"A\")","v":"A"},{"$f":"IF(Attendance($C8,'Daily Register'!MF$3:MF$242)=TRUE,\"P\",\"A\")","v":"A"},{"$f":"IF(Attendance($C8,'Daily Register'!MG$3:MG$242)=TRUE,\"P\",\"A\")","v":"A"},{"$f":"IF(Attendance($C8,'Daily Register'!MH$3:MH$242)=TRUE,\"P\",\"A\")","v":"A"},{"$f":"IF(Attendance($C8,'Daily Register'!MI$3:MI$242)=TRUE,\"P\",\"A\")","v":"A"},{"$f":"IF(Attendance($C8,'Daily Register'!MJ$3:MJ$242)=TRUE,\"P\",\"A\")","v":"A"},{"$f":"IF(Attendance($C8,'Daily Register'!MK$3:MK$242)=TRUE,\"P\",\"A\")","v":"A"},{"$f":"IF(Attendance($C8,'Daily Register'!ML$3:ML$242)=TRUE,\"P\",\"A\")","v":"A"},{"$f":"IF(Attendance($C8,'Daily Register'!MM$3:MM$242)=TRUE,\"P\",\"A\")","v":"A"},{"$f":"IF(Attendance($C8,'Daily Register'!MN$3:MN$242)=TRUE,\"P\",\"A\")","v":"A"},{"$f":"IF(Attendance($C8,'Daily Register'!MO$3:MO$242)=TRUE,\"P\",\"A\")","v":"A"},{"$f":"IF(Attendance($C8,'Daily Register'!MP$3:MP$242)=TRUE,\"P\",\"A\")","v":"A"},{"$f":"IF(Attendance($C8,'Daily Register'!MQ$3:MQ$242)=TRUE,\"P\",\"A\")","v":"A"},{"$f":"IF(Attendance($C8,'Daily Register'!MR$3:MR$242)=TRUE,\"P\",\"A\")","v":"A"},{"$f":"IF(Attendance($C8,'Daily Register'!MS$3:MS$242)=TRUE,\"P\",\"A\")","v":"A"},{"$f":"IF(Attendance($C8,'Daily Register'!MT$3:MT$242)=TRUE,\"P\",\"A\")","v":"A"},{"$f":"IF(Attendance($C8,'Daily Register'!MU$3:MU$242)=TRUE,\"P\",\"A\")","v":"A"},{"$f":"IF(Attendance($C8,'Daily Register'!MV$3:MV$242)=TRUE,\"P\",\"A\")","v":"A"},{"$f":"IF(Attendance($C8,'Daily Register'!MW$3:MW$242)=TRUE,\"P\",\"A\")","v":"A"},{"$f":"IF(Attendance($C8,'Daily Register'!MX$3:MX$242)=TRUE,\"P\",\"A\")","v":"A"},{"$f":"IF(Attendance($C8,'Daily Register'!MY$3:MY$242)=TRUE,\"P\",\"A\")","v":"A"},{"$f":"IF(Attendance($C8,'Daily Register'!MZ$3:MZ$242)=TRUE,\"P\",\"A\")","v":"A"},{"$f":"IF(Attendance($C8,'Daily Register'!NA$3:NA$242)=TRUE,\"P\",\"A\")","v":"A"},{"$f":"IF(Attendance($C8,'Daily Register'!NB$3:NB$242)=TRUE,\"P\",\"A\")","v":"A"}]
[0,null,6,null,{"$f":"IF(Attendance($C9,'Daily Register'!A$3:A$242)=TRUE,\"P\",\"A\")","v":"A"},{"$f":"IF(Attendance($C9,'Daily Register'!B$3:B$242)=TRUE,\"P\",\"A\")","v":"A"},{"$f":"IF(Attendance($C9,'Daily Register'!C$3:C$242)=TRUE,\"P\",\"A\")","v":"A"},{"$f":"IF(Attendance($C9,'Daily Register'!D$3:D$242)=TRUE,\"P\",\"A\")","v":"A"},{"$f":"IF(Attendance($C9,'Daily Register'!E$3:E$242)=TRUE,\"P\",\"A\")","v":"A"},{"$f":"IF(Attendance($C9,'Daily Register'!F$3:F$242)=TRUE,\"P\",\"A\")","v":"A"},{"$f":"IF(Attendance($C9,'Daily Register'!G$3:G$242)=TRUE,\"P\",\"A\")","v":"A"},{"$f":"IF(Attendance($C9,'Daily Register'!H$3:H$242)=TRUE,\"P\",\"A\")","v":"A"},{"$f":"IF(Attendance($C9,'Daily Register'!I$3:I$242)=TRUE,\"P\",\"A\")","v":"A"},{"$f":"IF(Attendance($C9,'Daily Register'!J$3:J$242)=TRUE,\"P\",\"A\")","v":"A"},{"$f":"IF(Attendance($C9,'Daily Register'!K$3:K$242)=TRUE,\"P\",\"A\")","v":"A"},{"$f":"IF(Attendance($C9,'Daily Register'!L$3:L$242)=TRUE,\"P\",\"A\")","v":"A"},{"$f":"IF(Attendance($C9,'Daily Register'!M$3:M$242)=TRUE,\"P\",\"A\")","v":"A"},{"$f":"IF(Attendance($C9,'Daily Register'!N$3:N$242)=TRUE,\"P\",\"A\")","v":"A"},{"$f":"IF(Attendance($C9,'Daily Register'!O$3:O$242)=TRUE,\"P\",\"A\")","v":"A"},{"$f":"IF(Attendance($C9,'Daily Register'!P$3:P$242)=TRUE,\"P\",\"A\")","v":"A"},{"$f":"IF(Attendance($C9,'Daily Register'!Q$3:Q$242)=TRUE,\"P\",\"A\")","v":"A"},{"$f":"IF(Attendance($C9,'Daily Register'!R$3:R$242)=TRUE,\"P\",\"A\")","v":"A"},{"$f":"IF(Attendance($C9,'Daily Register'!S$3:S$242)=TRUE,\"P\",\"A\")","v":"A"},{"$f":"IF(Attendance($C9,'Daily Register'!T$3:T$242)=TRUE,\"P\",\"A\")","v":"A"},{"$f":"IF(Attendance($C9,'Daily Register'!U$3:U$242)=TRUE,\"P\",\"A\")","v":"A"},{"$f":"IF(Attendance($C9,'Daily Register'!V$3:V$242)=TRUE,\"P\",\"A\")","v":"A"},{"$f":"IF(Attendance($C9,'Daily Register'!W$3:W$242)=TRUE,\"P\",\"A\")","v":"A"},{"$f":"IF(Attendance($C9,'Daily Register'!X$3:X$242)=TRUE,\"P\",\"A\")","v":"A"},{"$f":"IF(Attendance($C9,'Daily Register'!Y$3:Y$242)=TRUE,\"P\",\"A\")","v":"A"},{"$f":"IF(Attendance($C9,'Daily Register'!Z$3:Z$242)=TRUE,\"P\",\"A\")","v":"A"},{"$f":"IF(Attendance($C9,'Daily Register'!AA$3:AA$242)=TRUE,\"P\",\"A\")","v":"A"},{"$f":"IF(Attendance($C9,'Daily Register'!AB$3:AB$242)=TRUE,\"P\",\"A\")","v":"A"},{"$f":"IF(Attendance($C9,'Daily Register'!AC$3:AC$242)=TRUE,\"P\",\"A\")","v":"A"},{"$f":"IF(Attendance($C9,'Daily Register'!AD$3:AD$242)=TRUE,\"P\",\"A\")","v":"A"},{"$f":"IF(Attendance($C9,'Daily Register'!AE$3:AE$242)=TRUE,\"P\",\"A\")","v":"A"},{"$f":"IF(Attendance($C9,'Daily Register'!AF$3:AF$242)=TRUE,\"P\",\"A\")","v":"A"},{"$f":"IF(Attendance($C9,'Daily Register'!AG$3:AG$242)=TRUE,\"P\",\"A\")","v":"A"},{"$f":"IF(Attendance($C9,'Daily Register'!AH$3:AH$242)=TRUE,\"P\",\"A\")","v":"A"},{"$f":"IF(Attendance($C9,'Daily Register'!AI$3:AI$242)=TRUE,\"P\",\"A\")","v":"A"},{"$f":"IF(Attendance($C9,'Daily Register'!AJ$3:AJ$242)=TRUE,\"P\",\"A\")","v":"A"},{"$f":"IF(Attendance($C9,'Daily Register'!AK$3:AK$242)=TRUE,\"P\",\"A\")","v":"A"},{"$f":"IF(Attendance($C9,'Daily Register'!AL$3:AL$242)=TRUE,\"P\",\"A\")","v":"A"},{"$f":"IF(Attendance($C9,'Daily Register'!AM$3:AM$242)=TRUE,\"P\",\"A\")","v":"A"},{"$f":"IF(Attendance($C9,'Daily Register'!AN$3:AN$242)=TRUE,\"P\",\"A\")","v":"A"},{"$f":"IF(Attendance($C9,'Daily Register'!AO$3:AO$242)=TRUE,\"P\",\"A\")","v":"A"},{"$f":"IF(Attendance($C9,'Daily Register'!AP$3:AP$242)=TRUE,\"P\",\"A\")","v":"A"},{"$f":"IF(Attendance($C9,'Daily Register'!AQ$3:AQ$242)=TRUE,\"P\",\"A\")","v":"A"},{"$f":"IF(Attendance($C9,'Daily Register'!AR$3:AR$242)=TRUE,\"P\",\"A\")","v":"A"},{"$f":"IF(Attendance($C9,'Daily Register'!AS$3:AS$242)=TRUE,\"P\",\"A\")","v":"A"},{"$f":"IF(Attendance($C9,'Daily Register'!AT$3:AT$242)=TRUE,\"P\",\"A\")","v":"A"},{"$f":"IF(Attendance($C9,'Daily Register'!AU$3:AU$242)=TRUE,\"P\",\"A\")","v":"A"},{"$f":"IF(Attendance($C9,'Daily Register'!AV$3:AV$242)=TRUE,\"P\",\"A\")","v":"A"},{"$f":"IF(Attendance($C9,'Daily Register'!AW$3:AW$242)=TRUE,\"P\",\"A\")","v":"A"},{"$f":"IF(Attendance($C9,'Daily Register'!AX$3:AX$242)=TRUE,\"P\",\"A\")","v":"A"},{"$f":"IF(Attendance($C9,'Daily Register'!AY$3:AY$242)=TRUE,\"P\",\"A\")","v":"A"},{"$f":"IF(Attendance($C9,'Daily Register'!AZ$3:AZ$242)=TRUE,\"P\",\"A\")","v":"A"},{"$f":"IF(Attendance($C9,'Daily Register'!BA$3:BA$242)=TRUE,\"P\",\"A\")","v":"A"},{"$f":"IF(Attendance($C9,'Daily Register'!BB$3:BB$242)=TRUE,\"P\",\"A\")","v":"A"},{"$f":"IF(Attendance($C9,'Daily Register'!BC$3:BC$242)=TRUE,\"P\",\"A\")","v":"A"},{"$f":"IF(Attendance($C9,'Daily Register'!BD$3:BD$242)=TRUE,\"P\",\"A\")","v":"A"},{"$f":"IF(Attendance($C9,'Daily Register'!BE$3:BE$242)=TRUE,\"P\",\"A\")","v":"A"},{"$f":"IF(Attendance($C9,'Daily Register'!BF$3:BF$242)=TRUE,\"P\",\"A\")","v":"A"},{"$f":"IF(Attendance($C9,'Daily Register'!BG$3:BG$242)=TRUE,\"P\",\"A\")","v":"A"},{"$f":"IF(Attendance($C9,'Daily Register'!BH$3:BH$242)=TRUE,\"P\",\"A\")","v":"A"},{"$f":"IF(Attendance($C9,'Daily Register'!BI$3:BI$242)=TRUE,\"P\",\"A\")","v":"A"},{"$f":"IF(Attendance($C9,'Daily Register'!BJ$3:BJ$242)=TRUE,\"P\",\"A\")","v":"A"},{"$f":"IF(Attendance($C9,'Daily Register'!BK$3:BK$242)=TRUE,\"P\",\"A\")","v":"A"},{"$f":"IF(Attendance($C9,'Daily Register'!BL$3:BL$242)=TRUE,\"P\",\"A\")","v":"A"},{"$f":"IF(Attendance($C9,'Daily Register'!BM$3:BM$242)=TRUE,\"P\",\"A\")","v":"A"},{"$f":"IF(Attendance($C9,'Daily Register'!BN$3:BN$242)=TRUE,\"P\",\"A\")","v":"A"},{"$f":"IF(Attendance($C9,'Daily Register'!BO$3:BO$242)=TRUE,\"P\",\"A\")","v":"A"},{"$f":"IF(Attendance($C9,'Daily Register'!BP$3:BP$242)=TRUE,\"P\",\"A\")","v":"A"},{"$f":"IF(Attendance($C9,'Daily Register'!BQ$3:BQ$242)=TRUE,\"P\",\"A\")","v":"A"},{"$f":"IF(Attendance($C9,'Daily Register'!BR$3:BR$242)=TRUE,\"P\",\"A\")","v":"A"},{"$f":"IF(Attendance($C9,'Daily Register'!BS$3:BS$242)=TRUE,\"P\",\"A\")","v":"A"},{"$f":"IF(Attendance($C9,'Daily Register'!BT$3:BT$242)=TRUE,\"P\",\"A\")","v":"A"},{"$f":"IF(Attendance($C9,'Daily Register'!BU$3:BU$242)=TRUE,\"P\",\"A\")","v":"A"},{"$f":"IF(Attendance($C9,'Daily Register'!BV$3:BV$242)=TRUE,\"P\",\"A\")","v":"A"},{"$f":"IF(Attendance($C9,'Daily Register'!BW$3:BW$242)=TRUE,\"P\",\"A\")","v":"A"},{"$f":"IF(Attendance($C9,'Daily Register'!BX$3:BX$242)=TRUE,\"P\",\"A\")","v":"A"},{"$f":"IF(Attendance($C9,'Daily Register'!BY$3:BY$242)=TRUE,\"P\",\"A\")","v":"A"},{"$f":"IF(Attendance($C9,'Daily Register'!BZ$3:BZ$242)=TRUE,\"P\",\"A\")","v":"A"},{"$f":"IF(Attendance($C9,'Daily Register'!CA$3:CA$242)=TRUE,\"P\",\"A\")","v":"A"},{"$f":"IF(Attendance($C9,'Daily Register'!CB$3:CB$242)=TRUE,\"P\",\"A\")","v":"A"},{"$f":"IF(Attendance($C9,'Daily Register'!CC$3:CC$242)=TRUE,\"P\",\"A\")","v":"A"},{"$f":"IF(Attendance($C9,'Daily Register'!CD$3:CD$242)=TRUE,\"P\",\"A\")","v":"A"},{"$f":"IF(Attendance($C9,'Daily Register'!CE$3:CE$242)=TRUE,\"P\",\"A\")","v":"A"},{"$f":"IF(Attendance($C9,'Daily Register'!CF$3:CF$242)=TRUE,\"P\",\"A\")","v":"A"},{"$f":"IF(Attendance($C9,'Daily Register'!CG$3:CG$242)=TRUE,\"P\",\"A\")","v":"A"},{"$f":"IF(Attendance($C9,'Daily Register'!CH$3:CH$242)=TRUE,\"P\",\"A\")","v":"A"},{"$f":"IF(Attendance($C9,'Daily Register'!CI$3:CI$242)=TRUE,\"P\",\"A\")","v":"A"},{"$f":"IF(Attendance($C9,'Daily Register'!CJ$3:CJ$242)=TRUE,\"P\",\"A\")","v":"A"},{"$f":"IF(Attendance($C9,'Daily Register'!CK$3:CK$242)=TRUE,\"P\",\"A\")","v":"A"},{"$f":"IF(Attendance($C9,'Daily Register'!CL$3:CL$242)=TRUE,\"P\",\"A\")","v":"A"},{"$f":"IF(Attendance($C9,'Daily Register'!CM$3:CM$242)=TRUE,\"P\",\"A\")","v":"A"},{"$f":"IF(Attendance($C9,'Daily Register'!CN$3:CN$242)=TRUE,\"P\",\"A\")","v":"A"},{"$f":"IF(Attendance($C9,'Daily Register'!CO$3:CO$242)=TRUE,\"P\",\"A\")","v":"A"},{"$f":"IF(Attendance($C9,'Daily Register'!CP$3:CP$242)=TRUE,\"P\",\"A\")","v":"A"},{"$f":"IF(Attendance($C9,'Daily Register'!CQ$3:CQ$242)=TRUE,\"P\",\"A\")","v":"A"},{"$f":"IF(Attendance($C9,'Daily Register'!CR$3:CR$242)=TRUE,\"P\",\"A\")","v":"A"},{"$f":"IF(Attendance($C9,'Daily Register'!CS$3:CS$242)=TRUE,\"P\",\"A\")","v":"A"},{"$f":"IF(Attendance($C9,'Daily Register'!CT$3:CT$242)=TRUE,\"P\",\"A\")","v":"A"},{"$f":"IF(Attendance($C9,'Daily Register'!CU$3:CU$242)=TRUE,\"P\",\"A\")","v":"A"},{"$f":"IF(Attendance($C9,'Daily Register'!CV$3:CV$242)=TRUE,\"P\",\"A\")","v":"A"},{"$f":"IF(Attendance($C9,'Daily Register'!CW$3:CW$242)=TRUE,\"P\",\"A\")","v":"A"},{"$f":"IF(Attendance($C9,'Daily Register'!CX$3:CX$242)=TRUE,\"P\",\"A\")","v":"A"},{"$f":"IF(Attendance($C9,'Daily Register'!CY$3:CY$242)=TRUE,\"P\",\"A\")","v":"A"},{"$f":"IF(Attendance($C9,'Daily Register'!CZ$3:CZ$242)=TRUE,\"P\",\"A\")","v":"A"},{"$f":"IF(Attendance($C9,'Daily Register'!DA$3:DA$242)=TRUE,\"P\",\"A\")","v":"A"},{"$f":"IF(Attendance($C9,'Daily Register'!DB$3:DB$242)=TRUE,\"P\",\"A\")","v":"A"},{"$f":"IF(Attendance($C9,'Daily Register'!DC$3:DC$242)=TRUE,\"P\",\"A\")","v":"A"},{"$f":"IF(Attendance($C9,'Daily Register'!DD$3:DD$242)=TRUE,\"P\",\"A\")","v":"A"},{"$f":"IF(Attendance($C9,'Daily Register'!DE$3:DE$242)=TRUE,\"P\",\"A\")","v":"A"},{"$f":"IF(Attendance($C9,'Daily Register'!DF$3:DF$242)=TRUE,\"P\",\"A\")","v":"A"},{"$f":"IF(Attendance($C9,'Daily Register'!DG$3:DG$242)=TRUE,\"P\",\"A\")","v":"A"},{"$f":"IF(Attendance($C9,'Daily Register'!DH$3:DH$242)=TRUE,\"P\",\"A\")","v":"A"},{"$f":"IF(Attendance($C9,'Daily Register'!DI$3:DI$242)=TRUE,\"P\",\"A\")","v":"A"},{"$f":"IF(Attendance($C9,'Daily Register'!DJ$3:DJ$242)=TRUE,\"P\",\"A\")","v":"A"},{"$f":"IF(Attendance($C9,'Daily Register'!DK$3:DK$242)=TRUE,\"P\",\"A\")","v":"A"},{"$f":"IF(Attendance($C9,'Daily Register'!DL$3:DL$242)=TRUE,\"P\",\"A\")","v":"A"},{"$f":"IF(Attendance($C9,'Daily Register'!DM$3:DM$242)=TRUE,\"P\",\"A\")","v":"A"},{"$f":"IF(Attendance($C9,'Daily Register'!DN$3:DN$242)=TRUE,\"P\",\"A\")","v":"A"},{"$f":"IF(Attendance($C9,'Daily Register'!DO$3:DO$242)=TRUE,\"P\",\"A\")","v":"A"},{"$f":"IF(Attendance($C9,'Daily Register'!DP$3:DP$242)=TRUE,\"P\",\"A\")","v":"A"},{"$f":"IF(Attendance($C9,'Daily Register'!DQ$3:DQ$242)=TRUE,\"P\",\"A\")","v":"A"},{"$f":"IF(Attendance($C9,'Daily Register'!DR$3:DR$242)=TRUE,\"P\",\"A\")","v":"A"},{"$f":"IF(Attendance($C9,'Daily Register'!DS$3:DS$242)=TRUE,\"P\",\"A\")","v":"A"},{"$f":"IF(Attendance($C9,'Daily Register'!DT$3:DT$242)=TRUE,\"P\",\"A\")","v":"A"},{"$f":"IF(Attendance($C9,'Daily Register'!DU$3:DU$242)=TRUE,\"P\",\"A\")","v":"A"},{"$f":"IF(Attendance($C9,'Daily Register'!DV$3:DV$242)=TRUE,\"P\",\"A\")","v":"A"},{"$f":"IF(Attendance($C9,'Daily Register'!DW$3:DW$242)=TRUE,\"P\",\"A\")","v":"A"},{"$f":"IF(Attendance($C9,'Daily Register'!DX$3:DX$242)=TRUE,\"P\",\"A\")","v":"A"},{"$f":"IF(Attendance($C9,'Daily Register'!DY$3:DY$242)=TRUE,\"P\",\"A\")","v":"A"},{"$f":"IF(Attendance($C9,'Daily Register'!DZ$3:DZ$242)=TRUE,\"P\",\"A\")","v":"A"},{"$f":"IF(Attendance($C9,'Daily Register'!EA$3:EA$242)=TRUE,\"P\",\"A\")","v":"A"},{"$f":"IF(Attendance($C9,'Daily Register'!EB$3:EB$242)=TRUE,\"P\",\"A\")","v":"A"},{"$f":"IF(Attendance($C9,'Daily Register'!EC$3:EC$242)=TRUE,\"P\",\"A\")","v":"A"},{"$f":"IF(Attendance($C9,'Daily Register'!ED$3:ED$242)=TRUE,\"P\",\"A\")","v":"A"},{"$f":"IF(Attendance($C9,'Daily Register'!EE$3:EE$242)=TRUE,\"P\",\"A\")","v":"A"},{"$f":"IF(Attendance($C9,'Daily Register'!EF$3:EF$242)=TRUE,\"P\",\"A\")","v":"A"},{"$f":"IF(Attendance($C9,'Daily Register'!EG$3:EG$242)=TRUE,\"P\",\"A\")","v":"A"},{"$f":"IF(Attendance($C9,'Daily Register'!EH$3:EH$242)=TRUE,\"P\",\"A\")","v":"A"},{"$f":"IF(Attendance($C9,'Daily Register'!EI$3:EI$242)=TRUE,\"P\",\"A\")","v":"A"},{"$f":"IF(Attendance($C9,'Daily Register'!EJ$3:EJ$242)=TRUE,\"P\",\"A\")","v":"A"},{"$f":"IF(Attendance($C9,'Daily Register'!EK$3:EK$242)=TRUE,\"P\",\"A\")","v":"A"},{"$f":"IF(Attendance($C9,'Daily Register'!EL$3:EL$242)=TRUE,\"P\",\"A\")","v":"A"},{"$f":"IF(Attendance($C9,'Daily Register'!EM$22:EM$242)=TRUE,\"P\",\"A\")","v":"A"},{"$f":"IF(Attendance($C9,'Daily Register'!EN$3:EN$242)=TRUE,\"P\",\"A\")","v":"A"},{"$f":"IF(Attendance($C9,'Daily Register'!EO$3:EO$242)=TRUE,\"P\",\"A\")","v":"A"},{"$f":"IF(Attendance($C9,'Daily Register'!EP$3:EP$242)=TRUE,\"P\",\"A\")","v":"A"},{"$f":"IF(Attendance($C9,'Daily Register'!EQ$3:EQ$242)=TRUE,\"P\",\"A\")","v":"A"},{"$f":"IF(Attendance($C9,'Daily Register'!ER$3:ER$242)=TRUE,\"P\",\"A\")","v":"A"},{"$f":"IF(Attendance($C9,'Daily Register'!ES$3:ES$242)=TRUE,\"P\",\"A\")","v":"A"},{"$f":"IF(Attendance($C9,'Daily Register'!ET$3:ET$242)=TRUE,\"P\",\"A\")","v":"A"},{"$f":"IF(Attendance($C9,'Daily Register'!EU$3:EU$242)=TRUE,\"P\",\"A\")","v":"A"},{"$f":"IF(Attendance($C9,'Daily Register'!EV$3:EV$242)=TRUE,\"P\",\"A\")","v":"A"},{"$f":"IF(Attendance($C9,'Daily Register'!EW$3:EW$242)=TRUE,\"P\",\"A\")","v":"A"},{"$f":"IF(Attendance($C9,'Daily Register'!EX$3:EX$242)=TRUE,\"P\",\"A\")","v":"A"},{"$f":"IF(Attendance($C9,'Daily Register'!EY$3:EY$242)=TRUE,\"P\",\"A\")","v":"A"},{"$f":"IF(Attendance($C9,'Daily Register'!EZ$3:EZ$242)=TRUE,\"P\",\"A\")","v":"A"},{"$f":"IF(Attendance($C9,'Daily Register'!FA$3:FA$242)=TRUE,\"P\",\"A\")","v":"A"},{"$f":"IF(Attendance($C9,'Daily Register'!FB$3:FB$242)=TRUE,\"P\",\"A\")","v":"A"},{"$f":"IF(Attendance($C9,'Daily Register'!FC$3:FC$242)=TRUE,\"P\",\"A\")","v":"A"},{"$f":"IF(Attendance($C9,'Daily Register'!FD$3:FD$242)=TRUE,\"P\",\"A\")","v":"A"},{"$f":"IF(Attendance($C9,'Daily Register'!FE$3:FE$242)=TRUE,\"P\",\"A\")","v":"A"},{"$f":"IF(Attendance($C9,'Daily Register'!FF$3:FF$242)=TRUE,\"P\",\"A\")","v":"A"},{"$f":"IF(Attendance($C9,'Daily Register'!FG$3:FG$242)=TRUE,\"P\",\"A\")","v":"A"},{"$f":"IF(Attendance($C9,'Daily Register'!FH$3:FH$242)=TRUE,\"P\",\"A\")","v":"A"},{"$f":"IF(Attendance($C9,'Daily Register'!FI$3:FI$242)=TRUE,\"P\",\"A\")","v":"A"},{"$f":"IF(Attendance($C9,'Daily Register'!FJ$3:FJ$242)=TRUE,\"P\",\"A\")","v":"A"},{"$f":"IF(Attendance($C9,'Daily Register'!FK$3:FK$242)=TRUE,\"P\",\"A\")","v":"A"},{"$f":"IF(Attendance($C9,'Daily Register'!FL$3:FL$242)=TRUE,\"P\",\"A\")","v":"A"},{"$f":"IF(Attendance($C9,'Daily Register'!FM$3:FM$242)=TRUE,\"P\",\"A\")","v":"A"},{"$f":"IF(Attendance($C9,'Daily Register'!FN$3:FN$242)=TRUE,\"P\",\"A\")","v":"A"},{"$f":"IF(Attendance($C9,'Daily Register'!FO$3:FO$242)=TRUE,\"P\",\"A\")","v":"A"},{"$f":"IF(Attendance($C9,'Daily Register'!FP$3:FP$242)=TRUE,\"P\",\"A\")","v":"A"},{"$f":"IF(Attendance($C9,'Daily Register'!FQ$3:FQ$242)=TRUE,\"P\",\"A\")","v":"A"},{"$f":"IF(Attendance($C9,'Daily Register'!FR$3:FR$242)=TRUE,\"P\",\"A\")","v":"A"},{"$f":"IF(Attendance($C9,'Daily Register'!FS$3:FS$242)=TRUE,\"P\",\"A\")","v":"A"},{"$f":"IF(Attendance($C9,'Daily Register'!FT$3:FT$242)=TRUE,\"P\",\"A\")","v":"A"},{"$f":"IF(Attendance($C9,'Daily Register'!FU$3:FU$242)=TRUE,\"P\",\"A\")","v":"A"},{"$f":"IF(Attendance($C9,'Daily Register'!FV$3:FV$242)=TRUE,\"P\",\"A\")","v":"A"},{"$f":"IF(Attendance($C9,'Daily Register'!FW$3:FW$242)=TRUE,\"P\",\"A\")","v":"A"},{"$f":"IF(Attendance($C9,'Daily Register'!FX$3:FX$242)=TRUE,\"P\",\"A\")","v":"A"},{"$f":"IF(Attendance($C9,'Daily Register'!FY$3:FY$242)=TRUE,\"P\",\"A\")","v":"A"},{"$f":"IF(Attendance($C9,'Daily Register'!FZ$3:FZ$242)=TRUE,\"P\",\"A\")","v":"A"},{"$f":"IF(Attendance($C9,'Daily Register'!GA$3:GA$242)=TRUE,\"P\",\"A\")","v":"A"},{"$f":"IF(Attendance($C9,'Daily Register'!GB$3:GB$242)=TRUE,\"P\",\"A\")","v":"A"},{"$f":"IF(Attendance($C9,'Daily Register'!GC$3:GC$242)=TRUE,\"P\",\"A\")","v":"A"},{"$f":"IF(Attendance($C9,'Daily Register'!GD$3:GD$242)=TRUE,\"P\",\"A\")","v":"A"},{"$f":"IF(Attendance($C9,'Daily Register'!GE$3:GE$242)=TRUE,\"P\",\"A\")","v":"A"},{"$f":"IF(Attendance($C9,'Daily Register'!GF$3:GF$242)=TRUE,\"P\",\"A\")","v":"A"},{"$f":"IF(Attendance($C9,'Daily Register'!GG$3:GG$242)=TRUE,\"P\",\"A\")","v":"A"},{"$f":"IF(Attendance($C9,'Daily Register'!GH$3:GH$242)=TRUE,\"P\",\"A\")","v":"A"},{"$f":"IF(Attendance($C9,'Daily Register'!GI$3:GI$242)=TRUE,\"P\",\"A\")","v":"A"},{"$f":"IF(Attendance($C9,'Daily Register'!GJ$3:GJ$242)=TRUE,\"P\",\"A\")","v":"A"},{"$f":"IF(Attendance($C9,'Daily Register'!GK$3:GK$242)=TRUE,\"P\",\"A\")","v":"A"},{"$f":"IF(Attendance($C9,'Daily Register'!GL$3:GL$242)=TRUE,\"P\",\"A\")","v":"A"},{"$f":"IF(Attendance($C9,'Daily Register'!GM$3:GM$242)=TRUE,\"P\",\"A\")","v":"A"},{"$f":"IF(Attendance($C9,'Daily Register'!GN$3:GN$242)=TRUE,\"P\",\"A\")","v":"A"},{"$f":"IF(Attendance($C9,'Daily Register'!GO$3:GO$242)=TRUE,\"P\",\"A\")","v":"A"},{"$f":"IF(Attendance($C9,'Daily Register'!GP$3:GP$242)=TRUE,\"P\",\"A\")","v":"A"},{"$f":"IF(Attendance($C9,'Daily Register'!GQ$3:GQ$242)=TRUE,\"P\",\"A\")","v":"A"},{"$f":"IF(Attendance($C9,'Daily Register'!GR$3:GR$242)=TRUE,\"P\",\"A\")","v":"A"},{"$f":"IF(Attendance($C9,'Daily Register'!GS$3:GS$242)=TRUE,\"P\",\"A\")","v":"A"},{"$f":"IF(Attendance($C9,'Daily Register'!GT$3:GT$242)=TRUE,\"P\",\"A\")","v":"A"},{"$f":"IF(Attendance($C9,'Daily Register'!GU$3:GU$242)=TRUE,\"P\",\"A\")","v":"A"},{"$f":"IF(Attendance($C9,'Daily Register'!GV$3:GV$242)=TRUE,\"P\",\"A\")","v":"A"},{"$f":"IF(Attendance($C9,'Daily Register'!GW$3:GW$242)=TRUE,\"P\",\"A\")","v":"A"},{"$f":"IF(Attendance($C9,'Daily Register'!GX$3:GX$242)=TRUE,\"P\",\"A\")","v":"A"},{"$f":"IF(Attendance($C9,'Daily Register'!GY$3:GY$242)=TRUE,\"P\",\"A\")","v":"A"},{"$f":"IF(Attendance($C9,'Daily Register'!GZ$3:GZ$242)=TRUE,\"P\",\"A\")","v":"A"},{"$f":"IF(Attendance($C9,'Daily Register'!HA$3:HA$242)=TRUE,\"P\",\"A\")","v":"A"},{"$f":"IF(Attendance($C9,'Daily Register'!HB$3:HB$242)=TRUE,\"P\",\"A\")","v":"A"},{"$f":"IF(Attendance($C9,'Daily Register'!HC$3:HC$242)=TRUE,\"P\",\"A\")","v":"A"},{"$f":"IF(Attendance($C9,'Daily Register'!HD$3:HD$242)=TRUE,\"P\",\"A\")","v":"A"},{"$f":"IF(Attendance($C9,'Daily Register'!HE$3:HE$242)=TRUE,\"P\",\"A\")","v":"A"},{"$f":"IF(Attendance($C9,'Daily Register'!HF$3:HF$242)=TRUE,\"P\",\"A\")","v":"A"},{"$f":"IF(Attendance($C9,'Daily Register'!HG$3:HG$242)=TRUE,\"P\",\"A\")","v":"A"},{"$f":"IF(Attendance($C9,'Daily Register'!HH$3:HH$242)=TRUE,\"P\",\"A\")","v":"A"},{"$f":"IF(Attendance($C9,'Daily Register'!HI$3:HI$242)=TRUE,\"P\",\"A\")","v":"A"},{"$f":"IF(Attendance($C9,'Daily Register'!HJ$3:HJ$242)=TRUE,\"P\",\"A\")","v":"A"},{"$f":"IF(Attendance($C9,'Daily Register'!HK$3:HK$242)=TRUE,\"P\",\"A\")","v":"A"},{"$f":"IF(Attendance($C9,'Daily Register'!HL$3:HL$242)=TRUE,\"P\",\"A\")","v":"A"},{"$f":"IF(Attendance($C9,'Daily Register'!HM$3:HM$242)=TRUE,\"P\",\"A\")","v":"A"},{"$f":"IF(Attendance($C9,'Daily Register'!HN$3:HN$242)=TRUE,\"P\",\"A\")","v":"A"},{"$f":"IF(Attendance($C9,'Daily Register'!HO$3:HO$242)=TRUE,\"P\",\"A\")","v":"A"},{"$f":"IF(Attendance($C9,'Daily Register'!HP$3:HP$242)=TRUE,\"P\",\"A\")","v":"A"},{"$f":"IF(Attendance($C9,'Daily Register'!HQ$3:HQ$242)=TRUE,\"P\",\"A\")","v":"A"},{"$f":"IF(Attendance($C9,'Daily Register'!HR$3:HR$242)=TRUE,\"P\",\"A\")","v":"A"},{"$f":"IF(Attendance($C9,'Daily Register'!HS$3:HS$242)=TRUE,\"P\",\"A\")","v":"A"},{"$f":"IF(Attendance($C9,'Daily Register'!HT$3:HT$242)=TRUE,\"P\",\"A\")","v":"A"},{"$f":"IF(Attendance($C9,'Daily Register'!HU$3:HU$242)=TRUE,\"P\",\"A\")","v":"A"},{"$f":"IF(Attendance($C9,'Daily Register'!HV$3:HV$242)=TRUE,\"P\",\"A\")","v":"A"},{"$f":"IF(Attendance($C9,'Daily Register'!HW$3:HW$242)=TRUE,\"P\",\"A\")","v":"A"},{"$f":"IF(Attendance($C9,'Daily Register'!HX$3:HX$242)=TRUE,\"P\",\"A\")","v":"A"},{"$f":"IF(Attendance($C9,'Daily Register'!HY$3:HY$242)=TRUE,\"P\",\"A\")","v":"A"},{"$f":"IF(Attendance($C9,'Daily Register'!HZ$3:HZ$242)=TRUE,\"P\",\"A\")","v":"A"},{"$f":"IF(Attendance($C9,'Daily Register'!IA$3:IA$242)=TRUE,\"P\",\"A\")","v":"A"},{"$f":"IF(Attendance($C9,'Daily Register'!IB$3:IB$242)=TRUE,\"P\",\"A\")","v":"A"},{"$f":"IF(Attendance($C9,'Daily Register'!IC$3:IC$242)=TRUE,\"P\",\"A\")","v":"A"},{"$f":"IF(Attendance($C9,'Daily Register'!ID$3:ID$242)=TRUE,\"P\",\"A\")","v":"A"},{"$f":"IF(Attendance($C9,'Daily Register'!IE$3:IE$242)=TRUE,\"P\",\"A\")","v":"A"},{"$f":"IF(Attendance($C9,'Daily Register'!IF$3:IF$242)=TRUE,\"P\",\"A\")","v":"A"},{"$f":"IF(Attendance($C9,'Daily Register'!IG$3:IG$242)=TRUE,\"P\",\"A\")","v":"A"},{"$f":"IF(Attendance($C9,'Daily Register'!IH$3:IH$242)=TRUE,\"P\",\"A\")","v":"A"},{"$f":"IF(Attendance($C9,'Daily Register'!II$3:II$242)=TRUE,\"P\",\"A\")","v":"A"},{"$f":"IF(Attendance($C9,'Daily Register'!IJ$3:IJ$242)=TRUE,\"P\",\"A\")","v":"A"},{"$f":"IF(Attendance($C9,'Daily Register'!IK$3:IK$242)=TRUE,\"P\",\"A\")","v":"A"},{"$f":"IF(Attendance($C9,'Daily Register'!IL$3:IL$242)=TRUE,\"P\",\"A\")","v":"A"},{"$f":"IF(Attendance($C9,'Daily Register'!IM$3:IM$242)=TRUE,\"P\",\"A\")","v":"A"},{"$f":"IF(Attendance($C9,'Daily Register'!IN$3:IN$242)=TRUE,\"P\",\"A\")","v":"A"},{"$f":"IF(Attendance($C9,'Daily Register'!IO$3:IO$242)=TRUE,\"P\",\"A\")","v":"A"},{"$f":"IF(Attendance($C9,'Daily Register'!IP$3:IP$242)=TRUE,\"P\",\"A\")","v":"A"},{"$f":"IF(Attendance($C9,'Daily Register'!IQ$3:IQ$242)=TRUE,\"P\",\"A\")","v":"A"},{"$f":"IF(Attendance($C9,'Daily Register'!IR$3:IR$242)=TRUE,\"P\",\"A\")","v":"A"},{"$f":"IF(Attendance($C9,'Daily Register'!IS$3:IS$242)=TRUE,\"P\",\"A\")","v":"A"},{"$f":"IF(Attendance($C9,'Daily Register'!IT$3:IT$242)=TRUE,\"P\",\"A\")","v":"A"},{"$f":"IF(Attendance($C9,'Daily Register'!IU$3:IU$242)=TRUE,\"P\",\"A\")","v":"A"},{"$f":"IF(Attendance($C9,'Daily Register'!IV$3:IV$242)=TRUE,\"P\",\"A\")","v":"A"},{"$f":"IF(Attendance($C9,'Daily Register'!IW$3:IW$242)=TRUE,\"P\",\"A\")","v":"A"},{"$f":"IF(Attendance($C9,'Daily Register'!IX$3:IX$242)=TRUE,\"P\",\"A\")","v":"A"},{"$f":"IF(Attendance($C9,'Daily Register'!IY$3:IY$242)=TRUE,\"P\",\"A\")","v":"A"},{"$f":"IF(Attendance($C9,'Daily Register'!IZ$3:IZ$242)=TRUE,\"P\",\"A\")","v":"A"},{"$f":"IF(Attendance($C9,'Daily Register'!JA$3:JA$242)=TRUE,\"P\",\"A\")","v":"A"},{"$f":"IF(Attendance($C9,'Daily Register'!JB$3:JB$242)=TRUE,\"P\",\"A\")","v":"A"},{"$f":"IF(Attendance($C9,'Daily Register'!JC$3:JC$242)=TRUE,\"P\",\"A\")","v":"A"},{"$f":"IF(Attendance($C9,'Daily Register'!JD$3:JD$242)=TRUE,\"P\",\"A\")","v":"A"},{"$f":"IF(Attendance($C9,'Daily Register'!JE$3:JE$242)=TRUE,\"P\",\"A\")","v":"A"},{"$f":"IF(Attendance($C9,'Daily Register'!JF$3:JF$242)=TRUE,\"P\",\"A\")","v":"A"},{"$f":"IF(Attendance($C9,'Daily Register'!JG$3:JG$242)=TRUE,\"P\",\"A\")","v":"A"},{"$f":"IF(Attendance($C9,'Daily Register'!JH$3:JH$242)=TRUE,\"P\",\"A\")","v":"A"},{"$f":"IF(Attendance($C9,'Daily Register'!JI$3:JI$242)=TRUE,\"P\",\"A\")","v":"A"},{"$f":"IF(Attendance($C9,'Daily Register'!JJ$3:JJ$242)=TRUE,\"P\",\"A\")","v":"A"},{"$f":"IF(Attendance($C9,'Daily Register'!JK$3:JK$242)=TRUE,\"P\",\"A\")","v":"A"},{"$f":"IF(Attendance($C9,'Daily Register'!JL$3:JL$242)=TRUE,\"P\",\"A\")","v":"A"},{"$f":"IF(Attendance($C9,'Daily Register'!JM$3:JM$242)=TRUE,\"P\",\"A\")","v":"A"},{"$f":"IF(Attendance($C9,'Daily Register'!JN$3:JN$242)=TRUE,\"P\",\"A\")","v":"A"},{"$f":"IF(Attendance($C9,'Daily Register'!JO$3:JO$242)=TRUE,\"P\",\"A\")","v":"A"},{"$f":"IF(Attendance($C9,'Daily Register'!JP$3:JP$242)=TRUE,\"P\",\"A\")","v":"A"},{"$f":"IF(Attendance($C9,'Daily Register'!JQ$3:JQ$242)=TRUE,\"P\",\"A\")","v":"A"},{"$f":"IF(Attendance($C9,'Daily Register'!JR$3:JR$242)=TRUE,\"P\",\"A\")","v":"A"},{"$f":"IF(Attendance($C9,'Daily Register'!JS$3:JS$242)=TRUE,\"P\",\"A\")","v":"A"},{"$f":"IF(Attendance($C9,'Daily Register'!JT$3:JT$242)=TRUE,\"P\",\"A\")","v":"A"},{"$f":"IF(Attendance($C9,'Daily Register'!JU$3:JU$242)=TRUE,\"P\",\"A\")","v":"A"},{"$f":"IF(Attendance($C9,'Daily Register'!JV$3:JV$242)=TRUE,\"P\",\"A\")","v":"A"},{"$f":"IF(Attendance($C9,'Daily Register'!JW$3:JW$242)=TRUE,\"P\",\"A\")","v":"A"},{"$f":"IF(Attendance($C9,'Daily Register'!JX$3:JX$242)=TRUE,\"P\",\"A\")","v":"A"},{"$f":"IF(Attendance($C9,'Daily Register'!JY$3:JY$242)=TRUE,\"P\",\"A\")","v":"A"},{"$f":"IF(Attendance($C9,'Daily Register'!JZ$3:JZ$242)=TRUE,\"P\",\"A\")","v":"A"},{"$f":"IF(Attendance($C9,'Daily Register'!KA$3:KA$242)=TRUE,\"P\",\"A\")","v":"A"},{"$f":"IF(Attendance($C9,'Daily Register'!KB$3:KB$242)=TRUE,\"P\",\"A\")","v":"A"},{"$f":"IF(Attendance($C9,'Daily Register'!KC$3:KC$242)=TRUE,\"P\",\"A\")","v":"A"},{"$f":"IF(Attendance($C9,'Daily Register'!KD$3:KD$242)=TRUE,\"P\",\"A\")","v":"A"},{"$f":"IF(Attendance($C9,'Daily Register'!KE$3:KE$242)=TRUE,\"P\",\"A\")","v":"A"},{"$f":"IF(Attendance($C9,'Daily Register'!KF$3:KF$242)=TRUE,\"P\",\"A\")","v":"A"},{"$f":"IF(Attendance($C9,'Daily Register'!KG$3:KG$242)=TRUE,\"P\",\"A\")","v":"A"},{"$f":"IF(Attendance($C9,'Daily Register'!KH$3:KH$242)=TRUE,\"P\",\"A\")","v":"A"},{"$f":"IF(Attendance($C9,'Daily Register'!KI$3:KI$242)=TRUE,\"P\",\"A\")","v":"A"},{"$f":"IF(Attendance($C9,'Daily Register'!KJ$3:KJ$242)=TRUE,\"P\",\"A\")","v":"A"},{"$f":"IF(Attendance($C9,'Daily Register'!KK$3:KK$242)=TRUE,\"P\",\"A\")","v":"A"},{"$f":"IF(Attendance($C9,'Daily Register'!KL$3:KL$242)=TRUE,\"P\",\"A\")","v":"A"},{"$f":"IF(Attendance($C9,'Daily Register'!KM$3:KM$242)=TRUE,\"P\",\"A\")","v":"A"},{"$f":"IF(Attendance($C9,'Daily Register'!KN$3:KN$242)=TRUE,\"P\",\"A\")","v":"A"},{"$f":"IF(Attendance($C9,'Daily Register'!KO$3:KO$242)=TRUE,\"P\",\"A\")","v":"A"},{"$f":"IF(Attendance($C9,'Daily Register'!KP$3:KP$242)=TRUE,\"P\",\"A\")","v":"A"},{"$f":"IF(Attendance($C9,'Daily Register'!KQ$3:KQ$242)=TRUE,\"P\",\"A\")","v":"A"},{"$f":"IF(Attendance($C9,'Daily Register'!KR$3:KR$242)=TRUE,\"P\",\"A\")","v":"A"},{"$f":"IF(Attendance($C9,'Daily Register'!KS$3:KS$242)=TRUE,\"P\",\"A\")","v":"A"},{"$f":"IF(Attendance($C9,'Daily Register'!KT$3:KT$242)=TRUE,\"P\",\"A\")","v":"A"},{"$f":"IF(Attendance($C9,'Daily Register'!KU$3:KU$242)=TRUE,\"P\",\"A\")","v":"A"},{"$f":"IF(Attendance($C9,'Daily Register'!KV$3:KV$242)=TRUE,\"P\",\"A\")","v":"A"},{"$f":"IF(Attendance($C9,'Daily Register'!KW$3:KW$242)=TRUE,\"P\",\"A\")","v":"A"},{"$f":"IF(Attendance($C9,'Daily Register'!KX$3:KX$242)=TRUE,\"P\",\"A\")","v":"A"},{"$f":"IF(Attendance($C9,'Daily Register'!KY$3:KY$242)=TRUE,\"P\",\"A\")","v":"A"},{"$f":"IF(Attendance($C9,'Daily Register'!KZ$3:KZ$242)=TRUE,\"P\",\"A\")","v":"A"},{"$f":"IF(Attendance($C9,'Daily Register'!LA$3:LA$242)=TRUE,\"P\",\"A\")","v":"A"},{"$f":"IF(Attendance($C9,'Daily Register'!LB$3:LB$242)=TRUE,\"P\",\"A\")","v":"A"},{"$f":"IF(Attendance($C9,'Daily Register'!LC$3:LC$242)=TRUE,\"P\",\"A\")","v":"A"},{"$f":"IF(Attendance($C9,'Daily Register'!LD$3:LD$242)=TRUE,\"P\",\"A\")","v":"A"},{"$f":"IF(Attendance($C9,'Daily Register'!LE$3:LE$242)=TRUE,\"P\",\"A\")","v":"A"},{"$f":"IF(Attendance($C9,'Daily Register'!LF$3:LF$242)=TRUE,\"P\",\"A\")","v":"A"},{"$f":"IF(Attendance($C9,'Daily Register'!LG$3:LG$242)=TRUE,\"P\",\"A\")","v":"A"},{"$f":"IF(Attendance($C9,'Daily Register'!LH$3:LH$242)=TRUE,\"P\",\"A\")","v":"A"},{"$f":"IF(Attendance($C9,'Daily Register'!LI$3:LI$242)=TRUE,\"P\",\"A\")","v":"A"},{"$f":"IF(Attendance($C9,'Daily Register'!LJ$3:LJ$242)=TRUE,\"P\",\"A\")","v":"A"},{"$f":"IF(Attendance($C9,'Daily Register'!LK$3:LK$242)=TRUE,\"P\",\"A\")","v":"A"},{"$f":"IF(Attendance($C9,'Daily Register'!LL$3:LL$242)=TRUE,\"P\",\"A\")","v":"A"},{"$f":"IF(Attendance($C9,'Daily Register'!LM$3:LM$242)=TRUE,\"P\",\"A\")","v":"A"},{"$f":"IF(Attendance($C9,'Daily Register'!LN$3:LN$242)=TRUE,\"P\",\"A\")","v":"A"},{"$f":"IF(Attendance($C9,'Daily Register'!LO$3:LO$242)=TRUE,\"P\",\"A\")","v":"A"},{"$f":"IF(Attendance($C9,'Daily Register'!LP$3:LP$242)=TRUE,\"P\",\"A\")","v":"A"},{"$f":"IF(Attendance($C9,'Daily Register'!LQ$3:LQ$242)=TRUE,\"P\",\"A\")","v":"A"},{"$f":"IF(Attendance($C9,'Daily Register'!LR$3:LR$242)=TRUE,\"P\",\"A\")","v":"A"},{"$f":"IF(Attendance($C9,'Daily Register'!LS$3:LS$242)=TRUE,\"P\",\"A\")","v":"A"},{"$f":"IF(Attendance($C9,'Daily Register'!LT$3:LT$242)=TRUE,\"P\",\"A\")","v":"A"},{"$f":"IF(Attendance($C9,'Daily Register'!LU$3:LU$242)=TRUE,\"P\",\"A\")","v":"A"},{"$f":"IF(Attendance($C9,'Daily Register'!LV$3:LV$242)=TRUE,\"P\",\"A\")","v":"A"},{"$f":"IF(Attendance($C9,'Daily Register'!LW$3:LW$242)=TRUE,\"P\",\"A\")","v":"A"},{"$f":"IF(Attendance($C9,'Daily Register'!LX$3:LX$242)=TRUE,\"P\",\"A\")","v":"A"},{"$f":"IF(Attendance($C9,'Daily Register'!LY$3:LY$242)=TRUE,\"P\",\"A\")","v":"A"},{"$f":"IF(Attendance($C9,'Daily Register'!LZ$3:LZ$242)=TRUE,\"P\",\"A\")","v":"A"},{"$f":"IF(Attendance($C9,'Daily Register'!MA$3:MA$242)=TRUE,\"P\",\"A\")","v":"A"},{"$f":"IF(Attendance($C9,'Daily Register'!MB$3:MB$242)=TRUE,\"P\",\"A\")","v":"A"},{"$f":"IF(Attendance($C9,'Daily Register'!MC$3:MC$242)=TRUE,\"P\",\"A\")","v":"A"},{"$f":"IF(Attendance($C9,'Daily Register'!MD$3:MD$242)=TRUE,\"P\",\"A\")","v":"A"},{"$f":"IF(Attendance($C9,'Daily Register'!ME$3:ME$242)=TRUE,\"P\",\"A\")","v":"A"},{"$f":"IF(Attendance($C9,'Daily Register'!MF$3:MF$242)=TRUE,\"P\",\"A\")","v":"A"},{"$f":"IF(Attendance($C9,'Daily Register'!MG$3:MG$242)=TRUE,\"P\",\"A\")","v":"A"},{"$f":"IF(Attendance($C9,'Daily Register'!MH$3:MH$242)=TRUE,\"P\",\"A\")","v":"A"},{"$f":"IF(Attendance($C9,'Daily Register'!MI$3:MI$242)=TRUE,\"P\",\"A\")","v":"A"},{"$f":"IF(Attendance($C9,'Daily Register'!MJ$3:MJ$242)=TRUE,\"P\",\"A\")","v":"A"},{"$f":"IF(Attendance($C9,'Daily Register'!MK$3:MK$242)=TRUE,\"P\",\"A\")","v":"A"},{"$f":"IF(Attendance($C9,'Daily Register'!ML$3:ML$242)=TRUE,\"P\",\"A\")","v":"A"},{"$f":"IF(Attendance($C9,'Daily Register'!MM$3:MM$242)=TRUE,\"P\",\"A\")","v":"A"},{"$f":"IF(Attendance($C9,'Daily Register'!MN$3:MN$242)=TRUE,\"P\",\"A\")","v":"A"},{"$f":"IF(Attendance($C9,'Daily Register'!MO$3:MO$242)=TRUE,\"P\",\"A\")","v":"A"},{"$f":"IF(Attendance($C9,'Daily Register'!MP$3:MP$242)=TRUE,\"P\",\"A\")","v":"A"},{"$f":"IF(Attendance($C9,'Daily Register'!MQ$3:MQ$242)=TRUE,\"P\",\"A\")","v":"A"},{"$f":"IF(Attendance($C9,'Daily Register'!MR$3:MR$242)=TRUE,\"P\",\"A\")","v":"A"},{"$f":"IF(Attendance($C9,'Daily Register'!MS$3:MS$242)=TRUE,\"P\",\"A\")","v":"A"},{"$f":"IF(Attendance($C9,'Daily Register'!MT$3:MT$242)=TRUE,\"P\",\"A\")","v":"A"},{"$f":"IF(Attendance($C9,'Daily Register'!MU$3:MU$242)=TRUE,\"P\",\"A\")","v":"A"},{"$f":"IF(Attendance($C9,'Daily Register'!MV$3:MV$242)=TRUE,\"P\",\"A\")","v":"A"},{"$f":"IF(Attendance($C9,'Daily Register'!MW$3:MW$242)=TRUE,\"P\",\"A\")","v":"A"},{"$f":"IF(Attendance($C9,'Daily Register'!MX$3:MX$242)=TRUE,\"P\",\"A\")","v":"A"},{"$f":"IF(Attendance($C9,'Daily Register'!MY$3:MY$242)=TRUE,\"P\",\"A\")","v":"A"},{"$f":"IF(Attendance($C9,'Daily Register'!MZ$3:MZ$242)=TRUE,\"P\",\"A\")","v":"A"},{"$f":"IF(Attendance($C9,'Daily Register'!NA$3:NA$242)=TRUE,\"P\",\"A\")","v":"A"},{"$f":"IF(Attendance($C9,'Daily Register'!NB$3:NB$242)=TRUE,\"P\",\"A\")","v":"A"}]
[0,null,7,null,{"$f":"IF(Attendance($C10,'Daily Register'!A$3:A$242)=TRUE,\"P\",\"A\")","v":"A"},{"$f":"IF(Attendance($C10,'Daily Register'!B$3:B$242)=TRUE,\"P\",\"A\")","v":"A"},{"$f":"IF(Attendance($C10,'Daily Register'!C$3:C$242)=TRUE,\"P\",\"A\")","v":"A"},{"$f":"IF(Attendance($C10,'Daily Register'!D$3:D$242)=TRUE,\"P\",\"A\")","v":"A"},{"$f":"IF(Attendance($C10,'Daily Register'!E$3:E$242)=TRUE,\"P\",\"A\")","v":"A"},{"$f":"IF(Attendance($C10,'Daily Register'!F$3:F$242)=TRUE,\"P\",\"A\")","v":"A"},{"$f":"IF(Attendance($C10,'Daily Register'!G$3:G$242)=TRUE,\"P\",\"A\")","v":"A"},{"$f":"IF(Attendance($C10,'Daily Register'!H$3:H$242)=TRUE,\"P\",\"A\")","v":"A"},{"$f":"IF(Attendance($C10,'Daily Register'!I$3:I$242)=TRUE,\"P\",\"A\")","v":"A"},{"$f":"IF(Attendance($C10,'Daily Register'!J$3:J$242)=TRUE,\"P\",\"A\")","v":"A"},{"$f":"IF(Attendance($C10,'Daily Register'!K$3:K$242)=TRUE,\"P\",\"A\")","v":"A"},{"$f":"IF(Attendance($C10,'Daily Register'!L$3:L$242)=TRUE,\"P\",\"A\")","v":"A"},{"$f":"IF(Attendance($C10,'Daily Register'!M$3:M$242)=TRUE,\"P\",\"A\")","v":"A"},{"$f":"IF(Attendance($C10,'Daily Register'!N$3:N$242)=TRUE,\"P\",\"A\")","v":"A"},{"$f":"IF(Attendance($C10,'Daily Register'!O$3:O$242)=TRUE,\"P\",\"A\")","v":"A"},{"$f":"IF(Attendance($C10,'Daily Register'!P$3:P$242)=TRUE,\"P\",\"A\")","v":"A"},{"$f":"IF(Attendance($C10,'Daily Register'!Q$3:Q$242)=TRUE,\"P\",\"A\")","v":"A"},{"$f":"IF(Attendance($C10,'Daily Register'!R$3:R$242)=TRUE,\"P\",\"A\")","v":"A"},{"$f":"IF(Attendance($C10,'Daily Register'!S$3:S$242)=TRUE,\"P\",\"A\")","v":"A"},{"$f":"IF(Attendance($C10,'Daily Register'!T$3:T$242)=TRUE,\"P\",\"A\")","v":"A"},{"$f":"IF(Attendance($C10,'Daily Register'!U$3:U$242)=TRUE,\"P\",\"A\")","v":"A"},{"$f":"IF(Attendance($C10,'Daily Register'!V$3:V$242)=TRUE,\"P\",\"A\")","v":"A"},{"$f":"IF(Attendance($C10,'Daily Register'!W$3:W$242)=TRUE,\"P\",\"A\")","v":"A"},{"$f":"IF(Attendance($C10,'Daily Register'!X$3:X$242)=TRUE,\"P\",\"A\")","v":"A"},{"$f":"IF(Attendance($C10,'Daily Register'!Y$3:Y$242)=TRUE,\"P\",\"A\")","v":"A"},{"$f":"IF(Attendance($C10,'Daily Register'!Z$3:Z$242)=TRUE,\"P\",\"A\")","v":"A"},{"$f":"IF(Attendance($C10,'Daily Register'!AA$3:AA$242)=TRUE,\"P\",\"A\")","v":"A"},{"$f":"IF(Attendance($C10,'Daily Register'!AB$3:AB$242)=TRUE,\"P\",\"A\")","v":"A"},{"$f":"IF(Attendance($C10,'Daily Register'!AC$3:AC$242)=TRUE,\"P\",\"A\")","v":"A"},{"$f":"IF(Attendance($C10,'Daily Register'!AD$3:AD$242)=TRUE,\"P\",\"A\")","v":"A"},{"$f":"IF(Attendance($C10,'Daily Register'!AE$3:AE$242)=TRUE,\"P\",\"A\")","v":"A"},{"$f":"IF(Attendance($C10,'Daily Register'!AF$3:AF$242)=TRUE,\"P\",\"A\")","v":"A"},{"$f":"IF(Attendance($C10,'Daily Register'!AG$3:AG$242)=TRUE,\"P\",\"A\")","v":"A"},{"$f":"IF(Attendance($C10,'Daily Register'!AH$3:AH$242)=TRUE,\"P\",\"A\")","v":"A"},{"$f":"IF(Attendance($C10,'Daily Register'!AI$3:AI$242)=TRUE,\"P\",\"A\")","v":"A"},{"$f":"IF(Attendance($C10,'Daily Register'!AJ$3:AJ$242)=TRUE,\"P\",\"A\")","v":"A"},{"$f":"IF(Attendance($C10,'Daily Register'!AK$3:AK$242)=TRUE,\"P\",\"A\")","v":"A"},{"$f":"IF(Attendance($C10,'Daily Register'!AL$3:AL$242)=TRUE,\"P\",\"A\")","v":"A"},{"$f":"IF(Attendance($C10,'Daily Register'!AM$3:AM$242)=TRUE,\"P\",\"A\")","v":"A"},{"$f":"IF(Attendance($C10,'Daily Register'!AN$3:AN$242)=TRUE,\"P\",\"A\")","v":"A"},{"$f":"IF(Attendance($C10,'Daily Register'!AO$3:AO$242)=TRUE,\"P\",\"A\")","v":"A"},{"$f":"IF(Attendance($C10,'Daily Register'!AP$3:AP$242)=TRUE,\"P\",\"A\")","v":"A"},{"$f":"IF(Attendance($C10,'Daily Register'!AQ$3:AQ$242)=TRUE,\"P\",\"A\")","v":"A"},{"$f":"IF(Attendance($C10,'Daily Register'!AR$3:AR$242)=TRUE,\"P\",\"A\")","v":"A"},{"$f":"IF(Attendance($C10,'Daily Register'!AS$3:AS$242)=TRUE,\"P\",\"A\")","v":"A"},{"$f":"IF(Attendance($C10,'Daily Register'!AT$3:AT$242)=TRUE,\"P\",\"A\")","v":"A"},{"$f":"IF(Attendance($C10,'Daily Register'!AU$3:AU$242)=TRUE,\"P\",\"A\")","v":"A"},{"$f":"IF(Attendance($C10,'Daily Register'!AV$3:AV$242)=TRUE,\"P\",\"A\")","v":"A"},{"$f":"IF(Attendance($C10,'Daily Register'!AW$3:AW$242)=TRUE,\"P\",\"A\")","v":"A"},{"$f":"IF(Attendance($C10,'Daily Register'!AX$3:AX$242)=TRUE,\"P\",\"A\")","v":"A"},{"$f":"IF(Attendance($C10,'Daily Register'!AY$3:AY$242)=TRUE,\"P\",\"A\")","v":"A"},{"$f":"IF(Attendance($C10,'Daily Register'!AZ$3:AZ$242)=TRUE,\"P\",\"A\")","v":"A"},{"$f":"IF(Attendance($C10,'Daily Register'!BA$3:BA$242)=TRUE,\"P\",\"A\")","v":"A"},{"$f":"IF(Attendance($C10,'Daily Register'!BB$3:BB$242)=TRUE,\"P\",\"A\")","v":"A"},{"$f":"IF(Attendance($C10,'Daily Register'!BC$3:BC$242)=TRUE,\"P\",\"A\")","v":"A"},{"$f":"IF(Attendance($C10,'Daily Register'!BD$3:BD$242)=TRUE,\"P\",\"A\")","v":"A"},{"$f":"IF(Attendance($C10,'Daily Register'!BE$3:BE$242)=TRUE,\"P\",\"A\")","v":"A"},{"$f":"IF(Attendance($C10,'Daily Register'!BF$3:BF$242)=TRUE,\"P\",\"A\")","v":"A"},{"$f":"IF(Attendance($C10,'Daily Register'!BG$3:BG$242)=TRUE,\"P\",\"A\")","v":"A"},{"$f":"IF(Attendance($C10,'Daily Register'!BH$3:BH$242)=TRUE,\"P\",\"A\")","v":"A"},{"$f":"IF(Attendance($C10,'Daily Register'!BI$3:BI$242)=TRUE,\"P\",\"A\")","v":"A"},{"$f":"IF(Attendance($C10,'Daily Register'!BJ$3:BJ$242)=TRUE,\"P\",\"A\")","v":"A"},{"$f":"IF(Attendance($C10,'Daily Register'!BK$3:BK$242)=TRUE,\"P\",\"A\")","v":"A"},{"$f":"IF(Attendance($C10,'Daily Register'!BL$3:BL$242)=TRUE,\"P\",\"A\")","v":"A"},{"$f":"IF(Attendance($C10,'Daily Register'!BM$3:BM$242)=TRUE,\"P\",\"A\")","v":"A"},{"$f":"IF(Attendance($C10,'Daily Register'!BN$3:BN$242)=TRUE,\"P\",\"A\")","v":"A"},{"$f":"IF(Attendance($C10,'Daily Register'!BO$3:BO$242)=TRUE,\"P\",\"A\")","v":"A"},{"$f":"IF(Attendance($C10,'Daily Register'!BP$3:BP$242)=TRUE,\"P\",\"A\")","v":"A"},{"$f":"IF(Attendance($C10,'Daily Register'!BQ$3:BQ$242)=TRUE,\"P\",\"A\")","v":"A"},{"$f":"IF(Attendance($C10,'Daily Register'!BR$3:BR$242)=TRUE,\"P\",\"A\")","v":"A"},{"$f":"IF(Attendance($C10,'Daily Register'!BS$3:BS$242)=TRUE,\"P\",\"A\")","v":"A"},{"$f":"IF(Attendance($C10,'Daily Register'!BT$3:BT$242)=TRUE,\"P\",\"A\")","v":"A"},{"$f":"IF(Attendance($C10,'Daily Register'!BU$3:BU$242)=TRUE,\"P\",\"A\")","v":"A"},{"$f":"IF(Attendance($C10,'Daily Register'!BV$3:BV$242)=TRUE,\"P\",\"A\")","v":"A"},{"$f":"IF(Attendance($C10,'Daily Register'!BW$3:BW$242)=TRUE,\"P\",\"A\")","v":"A"},{"$f":"IF(Attendance($C10,'Daily Register'!BX$3:BX$242)=TRUE,\"P\",\"A\")","v":"A"},{"$f":"IF(Attendance($C10,'Daily Register'!BY$3:BY$242)=TRUE,\"P\",\"A\")","v":"A"},{"$f":"IF(Attendance($C10,'Daily Register'!BZ$3:BZ$242)=TRUE,\"P\",\"A\")","v":"A"},{"$f":"IF(Attendance($C10,'Daily Register'!CA$3:CA$242)=TRUE,\"P\",\"A\")","v":"A"},{"$f":"IF(Attendance($C10,'Daily Register'!CB$3:CB$242)=TRUE,\"P\",\"A\")","v":"A"},{"$f":"IF(Attendance($C10,'Daily Register'!CC$3:CC$242)=TRUE,\"P\",\"A\")","v":"A"},{"$f":"IF(Attendance($C10,'Daily Register'!CD$3:CD$242)=TRUE,\"P\",\"A\")","v":"A"},{"$f":"IF(Attendance($C10,'Daily Register'!CE$3:CE$242)=TRUE,\"P\",\"A\")","v":"A"},{"$f":"IF(Attendance($C10,'Daily Register'!CF$3:CF$242)=TRUE,\"P\",\"A\")","v":"A"},{"$f":"IF(Attendance($C10,'Daily Register'!CG$3:CG$242)=TRUE,\"P\",\"A\")","v":"A"},{"$f":"IF(Attendance($C10,'Daily Register'!CH$3:CH$242)=TRUE,\"P\",\"A\")","v":"A"},{"$f":"IF(Attendance($C10,'Daily Register'!CI$3:CI$242)=TRUE,\"P\",\"A\")","v":"A"},{"$f":"IF(Attendance($C10,'Daily Register'!CJ$3:CJ$242)=TRUE,\"P\",\"A\")","v":"A"},{"$f":"IF(Attendance($C10,'Daily Register'!CK$3:CK$242)=TRUE,\"P\",\"A\")","v":"A"},{"$f":"IF(Attendance($C10,'Daily Register'!CL$3:CL$242)=TRUE,\"P\",\"A\")","v":"A"},{"$f":"IF(Attendance($C10,'Daily Register'!CM$3:CM$242)=TRUE,\"P\",\"A\")","v":"A"},{"$f":"IF(Attendance($C10,'Daily Register'!CN$3:CN$242)=TRUE,\"P\",\"A\")","v":"A"},{"$f":"IF(Attendance($C10,'Daily Register'!CO$3:CO$242)=TRUE,\"P\",\"A\")","v":"A"},{"$f":"IF(Attendance($C10,'Daily Register'!CP$3:CP$242)=TRUE,\"P\",\"A\")","v":"A"},{"$f":"IF(Attendance($C10,'Daily Register'!CQ$3:CQ$242)=TRUE,\"P\",\"A\")","v":"A"},{"$f":"IF(Attendance($C10,'Daily Register'!CR$3:CR$242)=TRUE,\"P\",\"A\")","v":"A"},{"$f":"IF(Attendance($C10,'Daily Register'!CS$3:CS$242)=TRUE,\"P\",\"A\")","v":"A"},{"$f":"IF(Attendance($C10,'Daily Register'!CT$3:CT$242)=TRUE,\"P\",\"A\")","v":"A"},{"$f":"IF(Attendance($C10,'Daily Register'!CU$3:CU$242)=TRUE,\"P\",\"A\")","v":"A"},{"$f":"IF(Attendance($C10,'Daily Register'!CV$3:CV$242)=TRUE,\"P\",\"A\")","v":"A"},{"$f":"IF(Attendance($C10,'Daily Register'!CW$3:CW$242)=TRUE,\"P\",\"A\")","v":"A"},{"$f":"IF(Attendance($C10,'Daily Register'!CX$3:CX$242)=TRUE,\"P\",\"A\")","v":"A"},{"$f":"IF(Attendance($C10,'Daily Register'!CY$3:CY$242)=TRUE,\"P\",\"A\")","v":"A"},{"$f":"IF(Attendance($C10,'Daily Register'!CZ$3:CZ$242)=TRUE,\"P\",\"A\")","v":"A"},{"$f":"IF(Attendance($C10,'Daily Register'!DA$3:DA$242)=TRUE,\"P\",\"A\")","v":"A"},{"$f":"IF(Attendance($C10,'Daily Register'!DB$3:DB$242)=TRUE,\"P\",\"A\")","v":"A"},{"$f":"IF(Attendance($C10,'Daily Register'!DC$3:DC$242)=TRUE,\"P\",\"A\")","v":"A"},{"$f":"IF(Attendance($C10,'Daily Register'!DD$3:DD$242)=TRUE,\"P\",\"A\")","v":"A"},{"$f":"IF(Attendance($C10,'Daily Register'!DE$3:DE$242)=TRUE,\"P\",\"A\")","v":"A"},{"$f":"IF(Attendance($C10,'Daily Register'!DF$3:DF$242)=TRUE,\"P\",\"A\")","v":"A"},{"$f":"IF(Attendance($C10,'Daily Register'!DG$3:DG$242)=TRUE,\"P\",\"A\")","v":"A"},{"$f":"IF(Attendance($C10,'Daily Register'!DH$3:DH$242)=TRUE,\"P\",\"A\")","v":"A"},{"$f":"IF(Attendance($C10,'Daily Register'!DI$3:DI$242)=TRUE,\"P\",\"A\")","v":"A"},{"$f":"IF(Attendance($C10,'Daily Register'!DJ$3:DJ$242)=TRUE,\"P\",\"A\")","v":"A"},{"$f":"IF(Attendance($C10,'Daily Register'!DK$3:DK$242)=TRUE,\"P\",\"A\")","v":"A"},{"$f":"IF(Attendance($C10,'Daily Register'!DL$3:DL$242)=TRUE,\"P\",\"A\")","v":"A"},{"$f":"IF(Attendance($C10,'Daily Register'!DM$3:DM$242)=TRUE,\"P\",\"A\")","v":"A"},{"$f":"IF(Attendance($C10,'Daily Register'!DN$3:DN$242)=TRUE,\"P\",\"A\")","v":"A"},{"$f":"IF(Attendance($C10,'Daily Register'!DO$3:DO$242)=TRUE,\"P\",\"A\")","v":"A"},{"$f":"IF(Attendance($C10,'Daily Register'!DP$3:DP$242)=TRUE,\"P\",\"A\")","v":"A"},{"$f":"IF(Attendance($C10,'Daily Register'!DQ$3:DQ$242)=TRUE,\"P\",\"A\")","v":"A"},{"$f":"IF(Attendance($C10,'Daily Register'!DR$3:DR$242)=TRUE,\"P\",\"A\")","v":"A"},{"$f":"IF(Attendance($C10,'Daily Register'!DS$3:DS$242)=TRUE,\"P\",\"A\")","v":"A"},{"$f":"IF(Attendance($C10,'Daily Register'!DT$3:DT$242)=TRUE,\"P\",\"A\")","v":"A"},{"$f":"IF(Attendance($C10,'Daily Register'!DU$3:DU$242)=TRUE,\"P\",\"A\")","v":"A"},{"$f":"IF(Attendance($C10,'Daily Register'!DV$3:DV$242)=TRUE,\"P\",\"A\")","v":"A"},{"$f":"IF(Attendance($C10,'Daily Register'!DW$3:DW$242)=TRUE,\"P\",\"A\")","v":"A"},{"$f":"IF(Attendance($C10,'Daily Register'!DX$3:DX$242)=TRUE,\"P\",\"A\")","v":"A"},{"$f":"IF(Attendance($C10,'Daily Register'!DY$3:DY$242)=TRUE,\"P\",\"A\")","v":"A"},{"$f":"IF(Attendance($C10,'Daily Register'!DZ$3:DZ$242)=TRUE,\"P\",\"A\")","v":"A"},{"$f":"IF(Attendance($C10,'Daily Register'!EA$3:EA$242)=TRUE,\"P\",\"A\")","v":"A"},{"$f":"IF(Attendance($C10,'Daily Register'!EB$3:EB$242)=TRUE,\"P\",\"A\")","v":"A"},{"$f":"IF(Attendance($C10,'Daily Register'!EC$3:EC$242)=TRUE,\"P\",\"A\")","v":"A"},{"$f":"IF(Attendance($C10,'Daily Register'!ED$3:ED$242)=TRUE,\"P\",\"A\")","v":"A"},{"$f":"IF(Attendance($C10,'Daily Register'!EE$3:EE$242)=TRUE,\"P\",\"A\")","v":"A"},{"$f":"IF(Attendance($C10,'Daily Register'!EF$3:EF$242)=TRUE,\"P\",\"A\")","v":"A"},{"$f":"IF(Attendance($C10,'Daily Register'!EG$3:EG$242)=TRUE,\"P\",\"A\")","v":"A"},{"$f":"IF(Attendance($C10,'Daily Register'!EH$3:EH$242)=TRUE,\"P\",\"A\")","v":"A"},{"$f":"IF(Attendance($C10,'Daily Register'!EI$3:EI$242)=TRUE,\"P\",\"A\")","v":"A"},{"$f":"IF(Attendance($C10,'Daily Register'!EJ$3:EJ$242)=TRUE,\"P\",\"A\")","v":"A"},{"$f":"IF(Attendance($C10,'Daily Register'!EK$3:EK$242)=TRUE,\"P\",\"A\")","v":"A"},{"$f":"IF(Attendance($C10,'Daily Register'!EL$3:EL$242)=TRUE,\"P\",\"A\")","v":"A"},{"$f":"IF(Attendance($C10,'Daily Register'!EM$22:EM$242)=TRUE,\"P\",\"A\")","v":"A"},{"$f":"IF(Attendance($C10,'Daily Register'!EN$3:EN$242)=TRUE,\"P\",\"A\")","v":"A"},{"$f":"IF(Attendance($C10,'Daily Register'!EO$3:EO$242)=TRUE,\"P\",\"A\")","v":"A"},{"$f":"IF(Attendance($C10,'Daily Register'!EP$3:EP$242)=TRUE,\"P\",\"A\")","v":"A"},{"$f":"IF(Attendance($C10,'Daily Register'!EQ$3:EQ$242)=TRUE,\"P\",\"A\")","v":"A"},{"$f":"IF(Attendance($C10,'Daily Register'!ER$3:ER$242)=TRUE,\"P\",\"A\")","v":"A"},{"$f":"IF(Attendance($C10,'Daily Register'!ES$3:ES$242)=TRUE,\"P\",\"A\")","v":"A"},{"$f":"IF(Attendance($C10,'Daily Register'!ET$3:ET$242)=TRUE,\"P\",\"A\")","v":"A"},{"$f":"IF(Attendance($C10,'Daily Register'!EU$3:EU$242)=TRUE,\"P\",\"A\")","v":"A"},{"$f":"IF(Attendance($C10,'Daily Register'!EV$3:EV$242)=TRUE,\"P\",\"A\")","v":"A"},{"$f":"IF(Attendance($C10,'Daily Register'!EW$3:EW$242)=TRUE,\"P\",\"A\")","v":"A"},{"$f":"IF(Attendance($C10,'Daily Register'!EX$3:EX$242)=TRUE,\"P\",\"A\")","v":"A"},{"$f":"IF(Attendance($C10,'Daily Register'!EY$3:EY$242)=TRUE,\"P\",\"A\")","v":"A"},{"$f":"IF(Attendance($C10,'Daily Register'!EZ$3:EZ$242)=TRUE,\"P\",\"A\")","v":"A"},{"$f":"IF(Attendance($C10,'Daily Register'!FA$3:FA$242)=TRUE,\"P\",\"A\")","v":"A"},{"$f":"IF(Attendance($C10,'Daily Register'!FB$3:FB$242)=TRUE,\"P\",\"A\")","v":"A"},{"$f":"IF(Attendance($C10,'Daily Register'!FC$3:FC$242)=TRUE,\"P\",\"A\")","v":"A"},{"$f":"IF(Attendance($C10,'Daily Register'!FD$3:FD$242)=TRUE,\"P\",\"A\")","v":"A"},{"$f":"IF(Attendance($C10,'Daily Register'!FE$3:FE$242)=TRUE,\"P\",\"A\")","v":"A"},{"$f":"IF(Attendance($C10,'Daily Register'!FF$3:FF$242)=TRUE,\"P\",\"A\")","v":"A"},{"$f":"IF(Attendance($C10,'Daily Register'!FG$3:FG$242)=TRUE,\"P\",\"A\")","v":"A"},{"$f":"IF(Attendance($C10,'Daily Register'!FH$3:FH$242)=TRUE,\"P\",\"A\")","v":"A"},{"$f":"IF(Attendance($C10,'Daily Register'!FI$3:FI$242)=TRUE,\"P\",\"A\")","v":"A"},{"$f":"IF(Attendance($C10,'Daily Register'!FJ$3:FJ$242)=TRUE,\"P\",\"A\")","v":"A"},{"$f":"IF(Attendance($C10,'Daily Register'!FK$3:FK$242)=TRUE,\"P\",\"A\")","v":"A"},{"$f":"IF(Attendance($C10,'Daily Register'!FL$3:FL$242)=TRUE,\"P\",\"A\")","v":"A"},{"$f":"IF(Attendance($C10,'Daily Register'!FM$3:FM$242)=TRUE,\"P\",\"A\")","v":"A"},{"$f":"IF(Attendance($C10,'Daily Register'!FN$3:FN$242)=TRUE,\"P\",\"A\")","v":"A"},{"$f":"IF(Attendance($C10,'Daily Register'!FO$3:FO$242)=TRUE,\"P\",\"A\")","v":"A"},{"$f":"IF(Attendance($C10,'Daily Register'!FP$3:FP$242)=TRUE,\"P\",\"A\")","v":"A"},{"$f":"IF(Attendance($C10,'Daily Register'!FQ$3:FQ$242)=TRUE,\"P\",\"A\")","v":"A"},{"$f":"IF(Attendance($C10,'Daily Register'!FR$3:FR$242)=TRUE,\"P\",\"A\")","v":"A"},{"$f":"IF(Attendance($C10,'Daily Register'!FS$3:FS$242)=TRUE,\"P\",\"A\")","v":"A"},{"$f":"IF(Attendance($C10,'Daily Register'!FT$3:FT$242)=TRUE,\"P\",\"A\")","v":"A"},{"$f":"IF(Attendance($C10,'Daily Register'!FU$3:FU$242)=TRUE,\"P\",\"A\")","v":"A"},{"$f":"IF(Attendance($C10,'Daily Register'!FV$3:FV$242)=TRUE,\"P\",\"A\")","v":"A"},{"$f":"IF(Attendance($C10,'Daily Register'!FW$3:FW$242)=TRUE,\"P\",\"A\")","v":"A"},{"$f":"IF(Attendance($C10,'Daily Register'!FX$3:FX$242)=TRUE,\"P\",\"A\")","v":"A"},{"$f":"IF(Attendance($C10,'Daily Register'!FY$3:FY$242)=TRUE,\"P\",\"A\")","v":"A"},{"$f":"IF(Attendance($C10,'Daily Register'!FZ$3:FZ$242)=TRUE,\"P\",\"A\")","v":"A"},{"$f":"IF(Attendance($C10,'Daily Register'!GA$3:GA$242)=TRUE,\"P\",\"A\")","v":"A"},{"$f":"IF(Attendance($C10,'Daily Register'!GB$3:GB$242)=TRUE,\"P\",\"A\")","v":"A"},{"$f":"IF(Attendance($C10,'Daily Register'!GC$3:GC$242)=TRUE,\"P\",\"A\")","v":"A"},{"$f":"IF(Attendance($C10,'Daily Register'!GD$3:GD$242)=TRUE,\"P\",\"A\")","v":"A"},{"$f":"IF(Attendance($C10,'Daily Register'!GE$3:GE$242)=TRUE,\"P\",\"A\")","v":"A"},{"$f":"IF(Attendance($C10,'Daily Register'!GF$3:GF$242)=TRUE,\"P\",\"A\")","v":"A"},{"$f":"IF(Attendance($C10,'Daily Register'!GG$3:GG$242)=TRUE,\"P\",\"A\")","v":"A"},{"$f":"IF(Attendance($C10,'Daily Register'!GH$3:GH$242)=TRUE,\"P\",\"A\")","v":"A"},{"$f":"IF(Attendance($C10,'Daily Register'!GI$3:GI$242)=TRUE,\"P\",\"A\")","v":"A"},{"$f":"IF(Attendance($C10,'Daily Register'!GJ$3:GJ$242)=TRUE,\"P\",\"A\")","v":"A"},{"$f":"IF(Attendance($C10,'Daily Register'!GK$3:GK$242)=TRUE,\"P\",\"A\")","v":"A"},{"$f":"IF(Attendance($C10,'Daily Register'!GL$3:GL$242)=TRUE,\"P\",\"A\")","v":"A"},{"$f":"IF(Attendance($C10,'Daily Register'!GM$3:GM$242)=TRUE,\"P\",\"A\")","v":"A"},{"$f":"IF(Attendance($C10,'Daily Register'!GN$3:GN$242)=TRUE,\"P\",\"A\")","v":"A"},{"$f":"IF(Attendance($C10,'Daily Register'!GO$3:GO$242)=TRUE,\"P\",\"A\")","v":"A"},{"$f":"IF(Attendance($C10,'Daily Register'!GP$3:GP$242)=TRUE,\"P\",\"A\")","v":"A"},{"$f":"IF(Attendance($C10,'Daily Register'!GQ$3:GQ$242)=TRUE,\"P\",\"A\")","v":"A"},{"$f":"IF(Attendance($C10,'Daily Register'!GR$3:GR$242)=TRUE,\"P\",\"A\")","v":"A"},{"$f":"IF(Attendance($C10,'Daily Register'!GS$3:GS$242)=TRUE,\"P\",\"A\")","v":"A"},{"$f":"IF(Attendance($C10,'Daily Register'!GT$3:GT$242)=TRUE,\"P\",\"A\")","v":"A"},{"$f":"IF(Attendance($C10,'Daily Register'!GU$3:GU$242)=TRUE,\"P\",\"A\")","v":"A"},{"$f":"IF(Attendance($C10,'Daily Register'!GV$3:GV$242)=TRUE,\"P\",\"A\")","v":"A"},{"$f":"IF(Attendance($C10,'Daily Register'!GW$3:GW$242)=TRUE,\"P\",\"A\")","v":"A"},{"$f":"IF(Attendance($C10,'Daily Register'!GX$3:GX$242)=TRUE,\"P\",\"A\")","v":"A"},{"$f":"IF(Attendance($C10,'Daily Register'!GY$3:GY$242)=TRUE,\"P\",\"A\")","v":"A"},{"$f":"IF(Attendance($C10,'Daily Register'!GZ$3:GZ$242)=TRUE,\"P\",\"A\")","v":"A"},{"$f":"IF(Attendance($C10,'Daily Register'!HA$3:HA$242)=TRUE,\"P\",\"A\")","v":"A"},{"$f":"IF(Attendance($C10,'Daily Register'!HB$3:HB$242)=TRUE,\"P\",\"A\")","v":"A"},{"$f":"IF(Attendance($C10,'Daily Register'!HC$3:HC$242)=TRUE,\"P\",\"A\")","v":"A"},{"$f":"IF(Attendance($C10,'Daily Register'!HD$3:HD$242)=TRUE,\"P\",\"A\")","v":"A"},{"$f":"IF(Attendance($C10,'Daily Register'!HE$3:HE$242)=TRUE,\"P\",\"A\")","v":"A"},{"$f":"IF(Attendance($C10,'Daily Register'!HF$3:HF$242)=TRUE,\"P\",\"A\")","v":"A"},{"$f":"IF(Attendance($C10,'Daily Register'!HG$3:HG$242)=TRUE,\"P\",\"A\")","v":"A"},{"$f":"IF(Attendance($C10,'Daily Register'!HH$3:HH$242)=TRUE,\"P\",\"A\")","v":"A"},{"$f":"IF(Attendance($C10,'Daily Register'!HI$3:HI$242)=TRUE,\"P\",\"A\")","v":"A"},{"$f":"IF(Attendance($C10,'Daily Register'!HJ$3:HJ$242)=TRUE,\"P\",\"A\")","v":"A"},{"$f":"IF(Attendance($C10,'Daily Register'!HK$3:HK$242)=TRUE,\"P\",\"A\")","v":"A"},{"$f":"IF(Attendance($C10,'Daily Register'!HL$3:HL$242)=TRUE,\"P\",\"A\")","v":"A"},{"$f":"IF(Attendance($C10,'Daily Register'!HM$3:HM$242)=TRUE,\"P\",\"A\")","v":"A"},{"$f":"IF(Attendance($C10,'Daily Register'!HN$3:HN$242)=TRUE,\"P\",\"A\")","v":"A"},{"$f":"IF(Attendance($C10,'Daily Register'!HO$3:HO$242)=TRUE,\"P\",\"A\")","v":"A"},{"$f":"IF(Attendance($C10,'Daily Register'!HP$3:HP$242)=TRUE,\"P\",\"A\")","v":"A"},{"$f":"IF(Attendance($C10,'Daily Register'!HQ$3:HQ$242)=TRUE,\"P\",\"A\")","v":"A"},{"$f":"IF(Attendance($C10,'Daily Register'!HR$3:HR$242)=TRUE,\"P\",\"A\")","v":"A"},{"$f":"IF(Attendance($C10,'Daily Register'!HS$3:HS$242)=TRUE,\"P\",\"A\")","v":"A"},{"$f":"IF(Attendance($C10,'Daily Register'!HT$3:HT$242)=TRUE,\"P\",\"A\")","v":"A"},{"$f":"IF(Attendance($C10,'Daily Register'!HU$3:HU$242)=TRUE,\"P\",\"A\")","v":"A"},{"$f":"IF(Attendance($C10,'Daily Register'!HV$3:HV$242)=TRUE,\"P\",\"A\")","v":"A"},{"$f":"IF(Attendance($C10,'Daily Register'!HW$3:HW$242)=TRUE,\"P\",\"A\")","v":"A"},{"$f":"IF(Attendance($C10,'Daily Register'!HX$3:HX$242)=TRUE,\"P\",\"A\")","v":"A"},{"$f":"IF(Attendance($C10,'Daily Register'!HY$3:HY$242)=TRUE,\"P\",\"A\")","v":"A"},{"$f":"IF(Attendance($C10,'Daily Register'!HZ$3:HZ$242)=TRUE,\"P\",\"A\")","v":"A"},{"$f":"IF(Attendance($C10,'Daily Register'!IA$3:IA$242)=TRUE,\"P\",\"A\")","v":"A"},{"$f":"IF(Attendance($C10,'Daily Register'!IB$3:IB$242)=TRUE,\"P\",\"A\")","v":"A"},{"$f":"IF(Attendance($C10,'Daily Register'!IC$3:IC$242)=TRUE,\"P\",\"A\")","v":"A"},{"$f":"IF(Attendance($C10,'Daily Register'!ID$3:ID$242)=TRUE,\"P\",\"A\")","v":"A"},{"$f":"IF(Attendance($C10,'Daily Register'!IE$3:IE$242)=TRUE,\"P\",\"A\")","v":"A"},{"$f":"IF(Attendance($C10,'Daily Register'!IF$3:IF$242)=TRUE,\"P\",\"A\")","v":"A"},{"$f":"IF(Attendance($C10,'Daily Register'!IG$3:IG$242)=TRUE,\"P\",\"A\")","v":"A"},{"$f":"IF(Attendance($C10,'Daily Register'!IH$3:IH$242)=TRUE,\"P\",\"A\")","v":"A"},{"$f":"IF(Attendance($C10,'Daily Register'!II$3:II$242)=TRUE,\"P\",\"A\")","v":"A"},{"$f":"IF(Attendance($C10,'Daily Register'!IJ$3:IJ$242)=TRUE,\"P\",\"A\")","v":"A"},{"$f":"IF(Attendance($C10,'Daily Register'!IK$3:IK$242)=TRUE,\"P\",\"A\")","v":"A"},{"$f":"IF(Attendance($C10,'Daily Register'!IL$3:IL$242)=TRUE,\"P\",\"A\")","v":"A"},{"$f":"IF(Attendance($C10,'Daily Register'!IM$3:IM$242)=TRUE,\"P\",\"A\")","v":"A"},{"$f":"IF(Attendance($C10,'Daily Register'!IN$3:IN$242)=TRUE,\"P\",\"A\")","v":"A"},{"$f":"IF(Attendance($C10,'Daily Register'!IO$3:IO$242)=TRUE,\"P\",\"A\")","v":"A"},{"$f":"IF(Attendance($C10,'Daily Register'!IP$3:IP$242)=TRUE,\"P\",\"A\")","v":"A"},{"$f":"IF(Attendance($C10,'Daily Register'!IQ$3:IQ$242)=TRUE,\"P\",\"A\")","v":"A"},{"$f":"IF(Attendance($C10,'Daily Register'!IR$3:IR$242)=TRUE,\"P\",\"A\")","v":"A"},{"$f":"IF(Attendance($C10,'Daily Register'!IS$3:IS$242)=TRUE,\"P\",\"A\")","v":"A"},{"$f":"IF(Attendance($C10,'Daily Register'!IT$3:IT$242)=TRUE,\"P\",\"A\")","v":"A"},{"$f":"IF(Attendance($C10,'Daily Register'!IU$3:IU$242)=TRUE,\"P\",\"A\")","v":"A"},{"$f":"IF(Attendance($C10,'Daily Register'!IV$3:IV$242)=TRUE,\"P\",\"A\")","v":"A"},{"$f":"IF(Attendance($C10,'Daily Register'!IW$3:IW$242)=TRUE,\"P\",\"A\")","v":"A"},{"$f":"IF(Attendance($C10,'Daily Register'!IX$3:IX$242)=TRUE,\"P\",\"A\")","v":"A"},{"$f":"IF(Attendance($C10,'Daily Register'!IY$3:IY$242)=TRUE,\"P\",\"A\")","v":"A"},{"$f":"IF(Attendance($C10,'Daily Register'!IZ$3:IZ$242)=TRUE,\"P\",\"A\")","v":"A"},{"$f":"IF(Attendance($C10,'Daily Register'!JA$3:JA$242)=TRUE,\"P\",\"A\")","v":"A"},{"$f":"IF(Attendance($C10,'Daily Register'!JB$3:JB$242)=TRUE,\"P\",\"A\")","v":"A"},{"$f":"IF(Attendance($C10,'Daily Register'!JC$3:JC$242)=TRUE,\"P\",\"A\")","v":"A"},{"$f":"IF(Attendance($C10,'Daily Register'!JD$3:JD$242)=TRUE,\"P\",\"A\")","v":"A"},{"$f":"IF(Attendance($C10,'Daily Register'!JE$3:JE$242)=TRUE,\"P\",\"A\")","v":"A"},{"$f":"IF(Attendance($C10,'Daily Register'!JF$3:JF$242)=TRUE,\"P\",\"A\")","v":"A"},{"$f":"IF(Attendance($C10,'Daily Register'!JG$3:JG$242)=TRUE,\"P\",\"A\")","v":"A"},{"$f":"IF(Attendance($C10,'Daily Register'!JH$3:JH$242)=TRUE,\"P\",\"A\")","v":"A"},{"$f":"IF(Attendance($C10,'Daily Register'!JI$3:JI$242)=TRUE,\"P\",\"A\")","v":"A"},{"$f":"IF(Attendance($C10,'Daily Register'!JJ$3:JJ$242)=TRUE,\"P\",\"A\")","v":"A"},{"$f":"IF(Attendance($C10,'Daily Register'!JK$3:JK$242)=TRUE,\"P\",\"A\")","v":"A"},{"$f":"IF(Attendance($C10,'Daily Register'!JL$3:JL$242)=TRUE,\"P\",\"A\")","v":"A"},{"$f":"IF(Attendance($C10,'Daily Register'!JM$3:JM$242)=TRUE,\"P\",\"A\")","v":"A"},{"$f":"IF(Attendance($C10,'Daily Register'!JN$3:JN$242)=TRUE,\"P\",\"A\")","v":"A"},{"$f":"IF(Attendance($C10,'Daily Register'!JO$3:JO$242)=TRUE,\"P\",\"A\")","v":"A"},{"$f":"IF(Attendance($C10,'Daily Register'!JP$3:JP$242)=TRUE,\"P\",\"A\")","v":"A"},{"$f":"IF(Attendance($C10,'Daily Register'!JQ$3:JQ$242)=TRUE,\"P\",\"A\")","v":"A"},{"$f":"IF(Attendance($C10,'Daily Register'!JR$3:JR$242)=TRUE,\"P\",\"A\")","v":"A"},{"$f":"IF(Attendance($C10,'Daily Register'!JS$3:JS$242)=TRUE,\"P\",\"A\")","v":"A"},{"$f":"IF(Attendance($C10,'Daily Register'!JT$3:JT$242)=TRUE,\"P\",\"A\")","v":"A"},{"$f":"IF(Attendance($C10,'Daily Register'!JU$3:JU$242)=TRUE,\"P\",\"A\")","v":"A"},{"$f":"IF(Attendance($C10,'Daily Register'!JV$3:JV$242)=TRUE,\"P\",\"A\")","v":"A"},{"$f":"IF(Attendance($C10,'Daily Register'!JW$3:JW$242)=TRUE,\"P\",\"A\")","v":"A"},{"$f":"IF(Attendance($C10,'Daily Register'!JX$3:JX$242)=TRUE,\"P\",\"A\")","v":"A"},{"$f":"IF(Attendance($C10,'Daily Register'!JY$3:JY$242)=TRUE,\"P\",\"A\")","v":"A"},{"$f":"IF(Attendance($C10,'Daily Register'!JZ$3:JZ$242)=TRUE,\"P\",\"A\")","v":"A"},{"$f":"IF(Attendance($C10,'Daily Register'!KA$3:KA$242)=TRUE,\"P\",\"A\")","v":"A"},{"$f":"IF(Attendance($C10,'Daily Register'!KB$3:KB$242)=TRUE,\"P\",\"A\")","v":"A"},{"$f":"IF(Attendance($C10,'Daily Register'!KC$3:KC$242)=TRUE,\"P\",\"A\")","v":"A"},{"$f":"IF(Attendance($C10,'Daily Register'!KD$3:KD$242)=TRUE,\"P\",\"A\")","v":"A"},{"$f":"IF(Attendance($C10,'Daily Register'!KE$3:KE$242)=TRUE,\"P\",\"A\")","v":"A"},{"$f":"IF(Attendance($C10,'Daily Register'!KF$3:KF$242)=TRUE,\"P\",\"A\")","v":"A"},{"$f":"IF(Attendance($C10,'Daily Register'!KG$3:KG$242)=TRUE,\"P\",\"A\")","v":"A"},{"$f":"IF(Attendance($C10,'Daily Register'!KH$3:KH$242)=TRUE,\"P\",\"A\")","v":"A"},{"$f":"IF(Attendance($C10,'Daily Register'!KI$3:KI$242)=TRUE,\"P\",\"A\")","v":"A"},{"$f":"IF(Attendance($C10,'Daily Register'!KJ$3:KJ$242)=TRUE,\"P\",\"A\")","v":"A"},{"$f":"IF(Attendance($C10,'Daily Register'!KK$3:KK$242)=TRUE,\"P\",\"A\")","v":"A"},{"$f":"IF(Attendance($C10,'Daily Register'!KL$3:KL$242)=TRUE,\"P\",\"A\")","v":"A"},{"$f":"IF(Attendance($C10,'Daily Register'!KM$3:KM$242)=TRUE,\"P\",\"A\")","v":"A"},{"$f":"IF(Attendance($C10,'Daily Register'!KN$3:KN$242)=TRUE,\"P\",\"A\")","v":"A"},{"$f":"IF(Attendance($C10,'Daily Register'!KO$3:KO$242)=TRUE,\"P\",\"A\")","v":"A"},{"$f":"IF(Attendance($C10,'Daily Register'!KP$3:KP$242)=TRUE,\"P\",\"A\")","v":"A"},{"$f":"IF(Attendance($C10,'Daily Register'!KQ$3:KQ$242)=TRUE,\"P\",\"A\")","v":"A"},{"$f":"IF(Attendance($C10,'Daily Register'!KR$3:KR$242)=TRUE,\"P\",\"A\")","v":"A"},{"$f":"IF(Attendance($C10,'Daily Register'!KS$3:KS$242)=TRUE,\"P\",\"A\")","v":"A"},{"$f":"IF(Attendance($C10,'Daily Register'!KT$3:KT$242)=TRUE,\"P\",\"A\")","v":"A"},{"$f":"IF(Attendance($C10,'Daily Register'!KU$3:KU$242)=TRUE,\"P\",\"A\")","v":"A"},{"$f":"IF(Attendance($C10,'Daily Register'!KV$3:KV$242)=TRUE,\"P\",\"A\")","v":"A"},{"$f":"IF(Attendance($C10,'Daily Register'!KW$3:KW$242)=TRUE,\"P\",\"A\")","v":"A"},{"$f":"IF(Attendance($C10,'Daily Register'!KX$3:KX$242)=TRUE,\"P\",\"A\")","v":"A"},{"$f":"IF(Attendance($C10,'Daily Register'!KY$3:KY$242)=TRUE,\"P\",\"A\")","v":"A"},{"$f":"IF(Attendance($C10,'Daily Register'!KZ$3:KZ$242)=TRUE,\"P\",\"A\")","v":"A"},{"$f":"IF(Attendance($C10,'Daily Register'!LA$3:LA$242)=TRUE,\"P\",\"A\")","v":"A"},{"$f":"IF(Attendance($C10,'Daily Register'!LB$3:LB$242)=TRUE,\"P\",\"A\")","v":"A"},{"$f":"IF(Attendance($C10,'Daily Register'!LC$3:LC$242)=TRUE,\"P\",\"A\")","v":"A"},{"$f":"IF(Attendance($C10,'Daily Register'!LD$3:LD$242)=TRUE,\"P\",\"A\")","v":"A"},{"$f":"IF(Attendance($C10,'Daily Register'!LE$3:LE$242)=TRUE,\"P\",\"A\")","v":"A"},{"$f":"IF(Attendance($C10,'Daily Register'!LF$3:LF$242)=TRUE,\"P\",\"A\")","v":"A"},{"$f":"IF(Attendance($C10,'Daily Register'!LG$3:LG$242)=TRUE,\"P\",\"A\")","v":"A"},{"$f":"IF(Attendance($C10,'Daily Register'!LH$3:LH$242)=TRUE,\"P\",\"A\")","v":"A"},{"$f":"IF(Attendance($C10,'Daily Register'!LI$3:LI$242)=TRUE,\"P\",\"A\")","v":"A"},{"$f":"IF(Attendance($C10,'Daily Register'!LJ$3:LJ$242)=TRUE,\"P\",\"A\")","v":"A"},{"$f":"IF(Attendance($C10,'Daily Register'!LK$3:LK$242)=TRUE,\"P\",\"A\")","v":"A"},{"$f":"IF(Attendance($C10,'Daily Register'!LL$3:LL$242)=TRUE,\"P\",\"A\")","v":"A"},{"$f":"IF(Attendance($C10,'Daily Register'!LM$3:LM$242)=TRUE,\"P\",\"A\")","v":"A"},{"$f":"IF(Attendance($C10,'Daily Register'!LN$3:LN$242)=TRUE,\"P\",\"A\")","v":"A"},{"$f":"IF(Attendance($C10,'Daily Register'!LO$3:LO$242)=TRUE,\"P\",\"A\")","v":"A"},{"$f":"IF(Attendance($C10,'Daily Register'!LP$3:LP$242)=TRUE,\"P\",\"A\")","v":"A"},{"$f":"IF(Attendance($C10,'Daily Register'!LQ$3:LQ$242)=TRUE,\"P\",\"A\")","v":"A"},{"$f":"IF(Attendance($C10,'Daily Register'!LR$3:LR$242)=TRUE,\"P\",\"A\")","v":"A"},{"$f":"IF(Attendance($C10,'Daily Register'!LS$3:LS$242)=TRUE,\"P\",\"A\")","v":"A"},{"$f":"IF(Attendance($C10,'Daily Register'!LT$3:LT$242)=TRUE,\"P\",\"A\")","v":"A"},{"$f":"IF(Attendance($C10,'Daily Register'!LU$3:LU$242)=TRUE,\"P\",\"A\")","v":"A"},{"$f":"IF(Attendance($C10,'Daily Register'!LV$3:LV$242)=TRUE,\"P\",\"A\")","v":"A"},{"$f":"IF(Attendance($C10,'Daily Register'!LW$3:LW$242)=TRUE,\"P\",\"A\")","v":"A"},{"$f":"IF(Attendance($C10,'Daily Register'!LX$3:LX$242)=TRUE,\"P\",\"A\")","v":"A"},{"$f":"IF(Attendance($C10,'Daily Register'!LY$3:LY$242)=TRUE,\"P\",\"A\")","v":"A"},{"$f":"IF(Attendance($C10,'Daily Register'!LZ$3:LZ$242)=TRUE,\"P\",\"A\")","v":"A"},{"$f":"IF(Attendance($C10,'Daily Register'!MA$3:MA$242)=TRUE,\"P\",\"A\")","v":"A"},{"$f":"IF(Attendance($C10,'Daily Register'!MB$3:MB$242)=TRUE,\"P\",\"A\")","v":"A"},{"$f":"IF(Attendance($C10,'Daily Register'!MC$3:MC$242)=TRUE,\"P\",\"A\")","v":"A"},{"$f":"IF(Attendance($C10,'Daily Register'!MD$3:MD$242)=TRUE,\"P\",\"A\")","v":"A"},{"$f":"IF(Attendance($C10,'Daily Register'!ME$3:ME$242)=TRUE,\"P\",\"A\")","v":"A"},{"$f":"IF(Attendance($C10,'Daily Register'!MF$3:MF$242)=TRUE,\"P\",\"A\")","v":"A"},{"$f":"IF(Attendance($C10,'Daily Register'!MG$3:MG$242)=TRUE,\"P\",\"A\")","v":"A"},{"$f":"IF(Attendance($C10,'Daily Register'!MH$3:MH$242)=TRUE,\"P\",\"A\")","v":"A"},{"$f":"IF(Attendance($C10,'Daily Register'!MI$3:MI$242)=TRUE,\"P\",\"A\")","v":"A"},{"$f":"IF(Attendance($C10,'Daily Register'!MJ$3:MJ$242)=TRUE,\"P\",\"A\")","v":"A"},{"$f":"IF(Attendance($C10,'Daily Register'!MK$3:MK$242)=TRUE,\"P\",\"A\")","v":"A"},{"$f":"IF(Attendance($C10,'Daily Register'!ML$3:ML$242)=TRUE,\"P\",\"A\")","v":"A"},{"$f":"IF(Attendance($C10,'Daily Register'!MM$3:MM$242)=TRUE,\"P\",\"A\")","v":"A"},{"$f":"IF(Attendance($C10,'Daily Register'!MN$3:MN$242)=TRUE,\"P\",\"A\")","v":"A"},{"$f":"IF(Attendance($C10,'Daily Register'!MO$3:MO$242)=TRUE,\"P\",\"A\")","v":"A"},{"$f":"IF(Attendance($C10,'Daily Register'!MP$3:MP$242)=TRUE,\"P\",\"A\")","v":"A"},{"$f":"IF(Attendance($C10,'Daily Register'!MQ$3:MQ$242)=TRUE,\"P\",\"A\")","v":"A"},{"$f":"IF(Attendance($C10,'Daily Register'!MR$3:MR$242)=TRUE,\"P\",\"A\")","v":"A"},{"$f":"IF(Attendance($C10,'Daily Register'!MS$3:MS$242)=TRUE,\"P\",\"A\")","v":"A"},{"$f":"IF(Attendance($C10,'Daily Register'!MT$3:MT$242)=TRUE,\"P\",\"A\")","v":"A"},{"$f":"IF(Attendance($C10,'Daily Register'!MU$3:MU$242)=TRUE,\"P\",\"A\")","v":"A"},{"$f":"IF(Attendance($C10,'Daily Register'!MV$3:MV$242)=TRUE,\"P\",\"A\")","v":"A"},{"$f":"IF(Attendance($C10,'Daily Register'!MW$3:MW$242)=TRUE,\"P\",\"A\")","v":"A"},{"$f":"IF(Attendance($C10,'Daily Register'!MX$3:MX$242)=TRUE,\"P\",\"A\")","v":"A"},{"$f":"IF(Attendance($C10,'Daily Register'!MY$3:MY$242)=TRUE,\"P\",\"A\")","v":"A"},{"$f":"IF(Attendance($C10,'Daily Register'!MZ$3:MZ$242)=TRUE,\"P\",\"A\")","v":"A"},{"$f":"IF(Attendance($C10,'Daily Register'!NA$3:NA$242)=TRUE,\"P\",\"A\")","v":"A"},{"$f":"IF(Attendance($C10,'Daily Register'!NB$3:NB$242)=TRUE,\"P\",\"A\")","v":"A"}]
[0,null,8,null,{"$f":"IF(Attendance($C11,'Daily Register'!A$3:A$242)=TRUE,\"P\",\"A\")","v":"A"},{"$f":"IF(Attendance($C11,'Daily Register'!B$3:B$242)=TRUE,\"P\",\"A\")","v":"A"},{"$f":"IF(Attendance($C11,'Daily Register'!C$3:C$242)=TRUE,\"P\",\"A\")","v":"A"},{"$f":"IF(Attendance($C11,'Daily Register'!D$3:D$242)=TRUE,\"P\",\"A\")","v":"A"},{"$f":"IF(Attendance($C11,'Daily Register'!E$3:E$242)=TRUE,\"P\",\"A\")","v":"A"},{"$f":"IF(Attendance($C11,'Daily Register'!F$3:F$242)=TRUE,\"P\",\"A\")","v":"A"},{"$f":"IF(Attendance($C11,'Daily Register'!G$3:G$242)=TRUE,\"P\",\"A\")","v":"A"},{"$f":"IF(Attendance($C11,'Daily Register'!H$3:H$242)=TRUE,\"P\",\"A\")","v":"A"},{"$f":"IF(Attendance($C11,'Daily Register'!I$3:I$242)=TRUE,\"P\",\"A\")","v":"A"},{"$f":"IF(Attendance($C11,'Daily Register'!J$3:J$242)=TRUE,\"P\",\"A\")","v":"A"},{"$f":"IF(Attendance($C11,'Daily Register'!K$3:K$242)=TRUE,\"P\",\"A\")","v":"A"},{"$f":"IF(Attendance($C11,'Daily Register'!L$3:L$242)=TRUE,\"P\",\"A\")","v":"A"},{"$f":"IF(Attendance($C11,'Daily Register'!M$3:M$242)=TRUE,\"P\",\"A\")","v":"A"},{"$f":"IF(Attendance($C11,'Daily Register'!N$3:N$242)=TRUE,\"P\",\"A\")","v":"A"},{"$f":"IF(Attendance($C11,'Daily Register'!O$3:O$242)=TRUE,\"P\",\"A\")","v":"A"},{"$f":"IF(Attendance($C11,'Daily Register'!P$3:P$242)=TRUE,\"P\",\"A\")","v":"A"},{"$f":"IF(Attendance($C11,'Daily Register'!Q$3:Q$242)=TRUE,\"P\",\"A\")","v":"A"},{"$f":"IF(Attendance($C11,'Daily Register'!R$3:R$242)=TRUE,\"P\",\"A\")","v":"A"},{"$f":"IF(Attendance($C11,'Daily Register'!S$3:S$242)=TRUE,\"P\",\"A\")","v":"A"},{"$f":"IF(Attendance($C11,'Daily Register'!T$3:T$242)=TRUE,\"P\",\"A\")","v":"A"},{"$f":"IF(Attendance($C11,'Daily Register'!U$3:U$242)=TRUE,\"P\",\"A\")","v":"A"},{"$f":"IF(Attendance($C11,'Daily Register'!V$3:V$242)=TRUE,\"P\",\"A\")","v":"A"},{"$f":"IF(Attendance($C11,'Daily Register'!W$3:W$242)=TRUE,\"P\",\"A\")","v":"A"},{"$f":"IF(Attendance($C11,'Daily Register'!X$3:X$242)=TRUE,\"P\",\"A\")","v":"A"},{"$f":"IF(Attendance($C11,'Daily Register'!Y$3:Y$242)=TRUE,\"P\",\"A\")","v":"A"},{"$f":"IF(Attendance($C11,'Daily Register'!Z$3:Z$242)=TRUE,\"P\",\"A\")","v":"A"},{"$f":"IF(Attendance($C11,'Daily Register'!AA$3:AA$242)=TRUE,\"P\",\"A\")","v":"A"},{"$f":"IF(Attendance($C11,'Daily Register'!AB$3:AB$242)=TRUE,\"P\",\"A\")","v":"A"},{"$f":"IF(Attendance($C11,'Daily Register'!AC$3:AC$242)=TRUE,\"P\",\"A\")","v":"A"},{"$f":"IF(Attendance($C11,'Daily Register'!AD$3:AD$242)=TRUE,\"P\",\"A\")","v":"A"},{"$f":"IF(Attendance($C11,'Daily Register'!AE$3:AE$242)=TRUE,\"P\",\"A\")","v":"A"},{"$f":"IF(Attendance($C11,'Daily Register'!AF$3:AF$242)=TRUE,\"P\",\"A\")","v":"A"},{"$f":"IF(Attendance($C11,'Daily Register'!AG$3:AG$242)=TRUE,\"P\",\"A\")","v":"A"},{"$f":"IF(Attendance($C11,'Daily Register'!AH$3:AH$242)=TRUE,\"P\",\"A\")","v":"A"},{"$f":"IF(Attendance($C11,'Daily Register'!AI$3:AI$242)=TRUE,\"P\",\"A\")","v":"A"},{"$f":"IF(Attendance($C11,'Daily Register'!AJ$3:AJ$242)=TRUE,\"P\",\"A\")","v":"A"},{"$f":"IF(Attendance($C11,'Daily Register'!AK$3:AK$242)=TRUE,\"P\",\"A\")","v":"A"},{"$f":"IF(Attendance($C11,'Daily Register'!AL$3:AL$242)=TRUE,\"P\",\"A\")","v":"A"},{"$f":"IF(Attendance($C11,'Daily Register'!AM$3:AM$242)=TRUE,\"P\",\"A\")","v":"A"},{"$f":"IF(Attendance($C11,'Daily Register'!AN$3:AN$242)=TRUE,\"P\",\"A\")","v":"A"},{"$f":"IF(Attendance($C11,'Daily Register'!AO$3:AO$242)=TRUE,\"P\",\"A\")","v":"A"},{"$f":"IF(Attendance($C11,'Daily Register'!AP$3:AP$242)=TRUE,\"P\",\"A\")","v":"A"},{"$f":"IF(Attendance($C11,'Daily Register'!AQ$3:AQ$242)=TRUE,\"P\",\"A\")","v":"A"},{"$f":"IF(Attendance($C11,'Daily Register'!AR$3:AR$242)=TRUE,\"P\",\"A\")","v":"A"},{"$f":"IF(Attendance($C11,'Daily Register'!AS$3:AS$242)=TRUE,\"P\",\"A\")","v":"A"},{"$f":"IF(Attendance($C11,'Daily Register'!AT$3:AT$242)=TRUE,\"P\",\"A\")","v":"A"},{"$f":"IF(Attendance($C11,'Daily Register'!AU$3:AU$242)=TRUE,\"P\",\"A\")","v":"A"},{"$f":"IF(Attendance($C11,'Daily Register'!AV$3:AV$242)=TRUE,\"P\",\"A\")","v":"A"},{"$f":"IF(Attendance($C11,'Daily Register'!AW$3:AW$242)=TRUE,\"P\",\"A\")","v":"A"},{"$f":"IF(Attendance($C11,'Daily Register'!AX$3:AX$242)=TRUE,\"P\",\"A\")","v":"A"},{"$f":"IF(Attendance($C11,'Daily Register'!AY$3:AY$242)=TRUE,\"P\",\"A\")","v":"A"},{"$f":"IF(Attendance($C11,'Daily Register'!AZ$3:AZ$242)=TRUE,\"P\",\"A\")","v":"A"},{"$f":"IF(Attendance($C11,'Daily Register'!BA$3:BA$242)=TRUE,\"P\",\"A\")","v":"A"},{"$f":"IF(Attendance($C11,'Daily Register'!BB$3:BB$242)=TRUE,\"P\",\"A\")","v":"A"},{"$f":"IF(Attendance($C11,'Daily Register'!BC$3:BC$242)=TRUE,\"P\",\"A\")","v":"A"},{"$f":"IF(Attendance($C11,'Daily Register'!BD$3:BD$242)=TRUE,\"P\",\"A\")","v":"A"},{"$f":"IF(Attendance($C11,'Daily Register'!BE$3:BE$242)=TRUE,\"P\",\"A\")","v":"A"},{"$f":"IF(Attendance($C11,'Daily Register'!BF$3:BF$242)=TRUE,\"P\",\"A\")","v":"A"},{"$f":"IF(Attendance($C11,'Daily Register'!BG$3:BG$242)=TRUE,\"P\",\"A\")","v":"A"},{"$f":"IF(Attendance($C11,'Daily Register'!BH$3:BH$242)=TRUE,\"P\",\"A\")","v":"A"},{"$f":"IF(Attendance($C11,'Daily Register'!BI$3:BI$242)=TRUE,\"P\",\"A\")","v":"A"},{"$f":"IF(Attendance($C11,'Daily Register'!BJ$3:BJ$242)=TRUE,\"P\",\"A\")","v":"A"},{"$f":"IF(Attendance($C11,'Daily Register'!BK$3:BK$242)=TRUE,\"P\",\"A\")","v":"A"},{"$f":"IF(Attendance($C11,'Daily Register'!BL$3:BL$242)=TRUE,\"P\",\"A\")","v":"A"},{"$f":"IF(Attendance($C11,'Daily Register'!BM$3:BM$242)=TRUE,\"P\",\"A\")","v":"A"},{"$f":"IF(Attendance($C11,'Daily Register'!BN$3:BN$242)=TRUE,\"P\",\"A\")","v":"A"},{"$f":"IF(Attendance($C11,'Daily Register'!BO$3:BO$242)=TRUE,\"P\",\"A\")","v":"A"},{"$f":"IF(Attendance($C11,'Daily Register'!BP$3:BP$242)=TRUE,\"P\",\"A\")","v":"A"},{"$f":"IF(Attendance($C11,'Daily Register'!BQ$3:BQ$242)=TRUE,\"P\",\"A\")","v":"A"},{"$f":"IF(Attendance($C11,'Daily Register'!BR$3:BR$242)=TRUE,\"P\",\"A\")","v":"A"},{"$f":"IF(Attendance($C11,'Daily Register'!BS$3:BS$242)=TRUE,\"P\",\"A\")","v":"A"},{"$f":"IF(Attendance($C11,'Daily Register'!BT$3:BT$242)=TRUE,\"P\",\"A\")","v":"A"},{"$f":"IF(Attendance($C11,'Daily Register'!BU$3:BU$242)=TRUE,\"P\",\"A\")","v":"A"},{"$f":"IF(Attendance($C11,'Daily Register'!BV$3:BV$242)=TRUE,\"P\",\"A\")","v":"A"},{"$f":"IF(Attendance($C11,'Daily Register'!BW$3:BW$242)=TRUE,\"P\",\"A\")","v":"A"},{"$f":"IF(Attendance($C11,'Daily Register'!BX$3:BX$242)=TRUE,\"P\",\"A\")","v":"A"},{"$f":"IF(Attendance($C11,'Daily Register'!BY$3:BY$242)=TRUE,\"P\",\"A\")","v":"A"},{"$f":"IF(Attendance($C11,'Daily Register'!BZ$3:BZ$242)=TRUE,\"P\",\"A\")","v":"A"},{"$f":"IF(Attendance($C11,'Daily Register'!CA$3:CA$242)=TRUE,\"P\",\"A\")","v":"A"},{"$f":"IF(Attendance($C11,'Daily Register'!CB$3:CB$242)=TRUE,\"P\",\"A\")","v":"A"},{"$f":"IF(Attendance($C11,'Daily Register'!CC$3:CC$242)=TRUE,\"P\",\"A\")","v":"A"},{"$f":"IF(Attendance($C11,'Daily Register'!CD$3:CD$242)=TRUE,\"P\",\"A\")","v":"A"},{"$f":"IF(Attendance($C11,'Daily Register'!CE$3:CE$242)=TRUE,\"P\",\"A\")","v":"A"},{"$f":"IF(Attendance($C11,'Daily Register'!CF$3:CF$242)=TRUE,\"P\",\"A\")","v":"A"},{"$f":"IF(Attendance($C11,'Daily Register'!CG$3:CG$242)=TRUE,\"P\",\"A\")","v":"A"},{"$f":"IF(Attendance($C11,'Daily Register'!CH$3:CH$242)=TRUE,\"P\",\"A\")","v":"A"},{"$f":"IF(Attendance($C11,'Daily Register'!CI$3:CI$242)=TRUE,\"P\",\"A\")","v":"A"},{"$f":"IF(Attendance($C11,'Daily Register'!CJ$3:CJ$242)=TRUE,\"P\",\"A\")","v":"A"},{"$f":"IF(Attendance($C11,'Daily Register'!CK$3:CK$242)=TRUE,\"P\",\"A\")","v":"A"},{"$f":"IF(Attendance($C11,'Daily Register'!CL$3:CL$242)=TRUE,\"P\",\"A\")","v":"A"},{"$f":"IF(Attendance($C11,'Daily Register'!CM$3:CM$242)=TRUE,\"P\",\"A\")","v":"A"},{"$f":"IF(Attendance($C11,'Daily Register'!CN$3:CN$242)=TRUE,\"P\",\"A\")","v":"A"},{"$f":"IF(Attendance($C11,'Daily Register'!CO$3:CO$242)=TRUE,\"P\",\"A\")","v":"A"},{"$f":"IF(Attendance($C11,'Daily Register'!CP$3:CP$242)=TRUE,\"P\",\"A\")","v":"A"},{"$f":"IF(Attendance($C11,'Daily Register'!CQ$3:CQ$242)=TRUE,\"P\",\"A\")","v":"A"},{"$f":"IF(Attendance($C11,'Daily Register'!CR$3:CR$242)=TRUE,\"P\",\"A\")","v":"A"},{"$f":"IF(Attendance($C11,'Daily Register'!CS$3:CS$242)=TRUE,\"P\",\"A\")","v":"A"},{"$f":"IF(Attendance($C11,'Daily Register'!CT$3:CT$242)=TRUE,\"P\",\"A\")","v":"A"},{"$f":"IF(Attendance($C11,'Daily Register'!CU$3:CU$242)=TRUE,\"P\",\"A\")","v":"A"},{"$f":"IF(Attendance($C11,'Daily Register'!CV$3:CV$242)=TRUE,\"P\",\"A\")","v":"A"},{"$f":"IF(Attendance($C11,'Daily Register'!CW$3:CW$242)=TRUE,\"P\",\"A\")","v":"A"},{"$f":"IF(Attendance($C11,'Daily Register'!CX$3:CX$242)=TRUE,\"P\",\"A\")","v":"A"},{"$f":"IF(Attendance($C11,'Daily Register'!CY$3:CY$242)=TRUE,\"P\",\"A\")","v":"A"},{"$f":"IF(Attendance($C11,'Daily Register'!CZ$3:CZ$242)=TRUE,\"P\",\"A\")","v":"A"},{"$f":"IF(Attendance($C11,'Daily Register'!DA$3:DA$242)=TRUE,\"P\",\"A\")","v":"A"},{"$f":"IF(Attendance($C11,'Daily Register'!DB$3:DB$242)=TRUE,\"P\",\"A\")","v":"A"},{"$f":"IF(Attendance($C11,'Daily Register'!DC$3:DC$242)=TRUE,\"P\",\"A\")","v":"A"},{"$f":"IF(Attendance($C11,'Daily Register'!DD$3:DD$242)=TRUE,\"P\",\"A\")","v":"A"},{"$f":"IF(Attendance($C11,'Daily Register'!DE$3:DE$242)=TRUE,\"P\",\"A\")","v":"A"},{"$f":"IF(Attendance($C11,'Daily Register'!DF$3:DF$242)=TRUE,\"P\",\"A\")","v":"A"},{"$f":"IF(Attendance($C11,'Daily Register'!DG$3:DG$242)=TRUE,\"P\",\"A\")","v":"A"},{"$f":"IF(Attendance($C11,'Daily Register'!DH$3:DH$242)=TRUE,\"P\",\"A\")","v":"A"},{"$f":"IF(Attendance($C11,'Daily Register'!DI$3:DI$242)=TRUE,\"P\",\"A\")","v":"A"},{"$f":"IF(Attendance($C11,'Daily Register'!DJ$3:DJ$242)=TRUE,\"P\",\"A\")","v":"A"},{"$f":"IF(Attendance($C11,'Daily Register'!DK$3:DK$242)=TRUE,\"P\",\"A\")","v":"A"},{"$f":"IF(Attendance($C11,'Daily Register'!DL$3:DL$242)=TRUE,\"P\",\"A\")","v":"A"},{"$f":"IF(Attendance($C11,'Daily Register'!DM$3:DM$242)=TRUE,\"P\",\"A\")","v":"A"},{"$f":"IF(Attendance($C11,'Daily Register'!DN$3:DN$242)=TRUE,\"P\",\"A\")","v":"A"},{"$f":"IF(Attendance($C11,'Daily Register'!DO$3:DO$242)=TRUE,\"P\",\"A\")","v":"A"},{"$f":"IF(Attendance($C11,'Daily Register'!DP$3:DP$242)=TRUE,\"P\",\"A\")","v":"A"},{"$f":"IF(Attendance($C11,'Daily Register'!DQ$3:DQ$242)=TRUE,\"P\",\"A\")","v":"A"},{"$f":"IF(Attendance($C11,'Daily Register'!DR$3:DR$242)=TRUE,\"P\",\"A\")","v":"A"},{"$f":"IF(Attendance($C11,'Daily Register'!DS$3:DS$242)=TRUE,\"P\",\"A\")","v":"A"},{"$f":"IF(Attendance($C11,'Daily Register'!DT$3:DT$242)=TRUE,\"P\",\"A\")","v":"A"},{"$f":"IF(Attendance($C11,'Daily Register'!DU$3:DU$242)=TRUE,\"P\",\"A\")","v":"A"},{"$f":"IF(Attendance($C11,'Daily Register'!DV$3:DV$242)=TRUE,\"P\",\"A\")","v":"A"},{"$f":"IF(Attendance($C11,'Daily Register'!DW$3:DW$242)=TRUE,\"P\",\"A\")","v":"A"},{"$f":"IF(Attendance($C11,'Daily Register'!DX$3:DX$242)=TRUE,\"P\",\"A\")","v":"A"},{"$f":"IF(Attendance($C11,'Daily Register'!DY$3:DY$242)=TRUE,\"P\",\"A\")","v":"A"},{"$f":"IF(Attendance($C11,'Daily Register'!DZ$3:DZ$242)=TRUE,\"P\",\"A\")","v":"A"},{"$f":"IF(Attendance($C11,'Daily Register'!EA$3:EA$242)=TRUE,\"P\",\"A\")","v":"A"},{"$f":"IF(Attendance($C11,'Daily Register'!EB$3:EB$242)=TRUE,\"P\",\"A\")","v":"A"},{"$f":"IF(Attendance($C11,'Daily Register'!EC$3:EC$242)=TRUE,\"P\",\"A\")","v":"A"},{"$f":"IF(Attendance($C11,'Daily Register'!ED$3:ED$242)=TRUE,\"P\",\"A\")","v":"A"},{"$f":"IF(Attendance($C11,'Daily Register'!EE$3:EE$242)=TRUE,\"P\",\"A\")","v":"A"},{"$f":"IF(Attendance($C11,'Daily Register'!EF$3:EF$242)=TRUE,\"P\",\"A\")","v":"A"},{"$f":"IF(Attendance($C11,'Daily Register'!EG$3:EG$242)=TRUE,\"P\",\"A\")","v":"A"},{"$f":"IF(Attendance($C11,'Daily Register'!EH$3:EH$242)=TRUE,\"P\",\"A\")","v":"A"},{"$f":"IF(Attendance($C11,'Daily Register'!EI$3:EI$242)=TRUE,\"P\",\"A\")","v":"A"},{"$f":"IF(Attendance($C11,'Daily Register'!EJ$3:EJ$242)=TRUE,\"P\",\"A\")","v":"A"},{"$f":"IF(Attendance($C11,'Daily Register'!EK$3:EK$242)=TRUE,\"P\",\"A\")","v":"A"},{"$f":"IF(Attendance($C11,'Daily Register'!EL$3:EL$242)=TRUE,\"P\",\"A\")","v":"A"},{"$f":"IF(Attendance($C11,'Daily Register'!EM$22:EM$242)=TRUE,\"P\",\"A\")","v":"A"},{"$f":"IF(Attendance($C11,'Daily Register'!EN$3:EN$242)=TRUE,\"P\",\"A\")","v":"A"},{"$f":"IF(Attendance($C11,'Daily Register'!EO$3:EO$242)=TRUE,\"P\",\"A\")","v":"A"},{"$f":"IF(Attendance($C11,'Daily Register'!EP$3:EP$242)=TRUE,\"P\",\"A\")","v":"A"},{"$f":"IF(Attendance($C11,'Daily Register'!EQ$3:EQ$242)=TRUE,\"P\",\"A\")","v":"A"},{"$f":"IF(Attendance($C11,'Daily Register'!ER$3:ER$242)=TRUE,\"P\",\"A\")","v":"A"},{"$f":"IF(Attendance($C11,'Daily Register'!ES$3:ES$242)=TRUE,\"P\",\"A\")","v":"A"},{"$f":"IF(Attendance($C11,'Daily Register'!ET$3:ET$242)=TRUE,\"P\",\"A\")","v":"A"},{"$f":"IF(Attendance($C11,'Daily Register'!EU$3:EU$242)=TRUE,\"P\",\"A\")","v":"A"},{"$f":"IF(Attendance($C11,'Daily Register'!EV$3:EV$242)=TRUE,\"P\",\"A\")","v":"A"},{"$f":"IF(Attendance($C11,'Daily Register'!EW$3:EW$242)=TRUE,\"P\",\"A\")","v":"A"},{"$f":"IF(Attendance($C11,'Daily Register'!EX$3:EX$242)=TRUE,\"P\",\"A\")","v":"A"},{"$f":"IF(Attendance($C11,'Daily Register'!EY$3:EY$242)=TRUE,\"P\",\"A\")","v":"A"},{"$f":"IF(Attendance($C11,'Daily Register'!EZ$3:EZ$242)=TRUE,\"P\",\"A\")","v":"A"},{"$f":"IF(Attendance($C11,'Daily Register'!FA$3:FA$242)=TRUE,\"P\",\"A\")","v":"A"},{"$f":"IF(Attendance($C11,'Daily Register'!FB$3:FB$242)=TRUE,\"P\",\"A\")","v":"A"},{"$f":"IF(Attendance($C11,'Daily Register'!FC$3:FC$242)=TRUE,\"P\",\"A\")","v":"A"},{"$f":"IF(Attendance($C11,'Daily Register'!FD$3:FD$242)=TRUE,\"P\",\"A\")","v":"A"},{"$f":"IF(Attendance($C11,'Daily Register'!FE$3:FE$242)=TRUE,\"P\",\"A\")","v":"A"},{"$f":"IF(Attendance($C11,'Daily Register'!FF$3:FF$242)=TRUE,\"P\",\"A\")","v":"A"},{"$f":"IF(Attendance($C11,'Daily Register'!FG$3:FG$242)=TRUE,\"P\",\"A\")","v":"A"},{"$f":"IF(Attendance($C11,'Daily Register'!FH$3:FH$242)=TRUE,\"P\",\"A\")","v":"A"},{"$f":"IF(Attendance($C11,'Daily Register'!FI$3:FI$242)=TRUE,\"P\",\"A\")","v":"A"},{"$f":"IF(Attendance($C11,'Daily Register'!FJ$3:FJ$242)=TRUE,\"P\",\"A\")","v":"A"},{"$f":"IF(Attendance($C11,'Daily Register'!FK$3:FK$242)=TRUE,\"P\",\"A\")","v":"A"},{"$f":"IF(Attendance($C11,'Daily Register'!FL$3:FL$242)=TRUE,\"P\",\"A\")","v":"A"},{"$f":"IF(Attendance($C11,'Daily Register'!FM$3:FM$242)=TRUE,\"P\",\"A\")","v":"A"},{"$f":"IF(Attendance($C11,'Daily Register'!FN$3:FN$242)=TRUE,\"P\",\"A\")","v":"A"},{"$f":"IF(Attendance($C11,'Daily Register'!FO$3:FO$242)=TRUE,\"P\",\"A\")","v":"A"},{"$f":"IF(Attendance($C11,'Daily Register'!FP$3:FP$242)=TRUE,\"P\",\"A\")","v":"A"},{"$f":"IF(Attendance($C11,'Daily Register'!FQ$3:FQ$242)=TRUE,\"P\",\"A\")","v":"A"},{"$f":"IF(Attendance($C11,'Daily Register'!FR$3:FR$242)=TRUE,\"P\",\"A\")","v":"A"},{"$f":"IF(Attendance($C11,'Daily Register'!FS$3:FS$242)=TRUE,\"P\",\"A\")","v":"A"},{"$f":"IF(Attendance($C11,'Daily Register'!FT$3:FT$242)=TRUE,\"P\",\"A\")","v":"A"},{"$f":"IF(Attendance($C11,'Daily Register'!FU$3:FU$242)=TRUE,\"P\",\"A\")","v":"A"},{"$f":"IF(Attendance($C11,'Daily Register'!FV$3:FV$242)=TRUE,\"P\",\"A\")","v":"A"},{"$f":"IF(Attendance($C11,'Daily Register'!FW$3:FW$242)=TRUE,\"P\",\"A\")","v":"A"},{"$f":"IF(Attendance($C11,'Daily Register'!FX$3:FX$242)=TRUE,\"P\",\"A\")","v":"A"},{"$f":"IF(Attendance($C11,'Daily Register'!FY$3:FY$242)=TRUE,\"P\",\"A\")","v":"A"},{"$f":"IF(Attendance($C11,'Daily Register'!FZ$3:FZ$242)=TRUE,\"P\",\"A\")","v":"A"},{"$f":"IF(Attendance($C11,'Daily Register'!GA$3:GA$242)=TRUE,\"P\",\"A\")","v":"A"},{"$f":"IF(Attendance($C11,'Daily Register'!GB$3:GB$242)=TRUE,\"P\",\"A\")","v":"A"},{"$f":"IF(Attendance($C11,'Daily Register'!GC$3:GC$242)=TRUE,\"P\",\"A\")","v":"A"},{"$f":"IF(Attendance($C11,'Daily Register'!GD$3:GD$242)=TRUE,\"P\",\"A\")","v":"A"},{"$f":"IF(Attendance($C11,'Daily Register'!GE$3:GE$242)=TRUE,\"P\",\"A\")","v":"A"},{"$f":"IF(Attendance($C11,'Daily Register'!GF$3:GF$242)=TRUE,\"P\",\"A\")","v":"A"},{"$f":"IF(Attendance($C11,'Daily Register'!GG$3:GG$242)=TRUE,\"P\",\"A\")","v":"A"},{"$f":"IF(Attendance($C11,'Daily Register'!GH$3:GH$242)=TRUE,\"P\",\"A\")","v":"A"},{"$f":"IF(Attendance($C11,'Daily Register'!GI$3:GI$242)=TRUE,\"P\",\"A\")","v":"A"},{"$f":"IF(Attendance($C11,'Daily Register'!GJ$3:GJ$242)=TRUE,\"P\",\"A\")","v":"A"},{"$f":"IF(Attendance($C11,'Daily Register'!GK$3:GK$242)=TRUE,\"P\",\"A\")","v":"A"},{"$f":"IF(Attendance($C11,'Daily Register'!GL$3:GL$242)=TRUE,\"P\",\"A\")","v":"A"},{"$f":"IF(Attendance($C11,'Daily Register'!GM$3:GM$242)=TRUE,\"P\",\"A\")","v":"A"},{"$f":"IF(Attendance($C11,'Daily Register'!GN$3:GN$242)=TRUE,\"P\",\"A\")","v":"A"},{"$f":"IF(Attendance($C11,'Daily Register'!GO$3:GO$242)=TRUE,\"P\",\"A\")","v":"A"},{"$f":"IF(Attendance($C11,'Daily Register'!GP$3:GP$242)=TRUE,\"P\",\"A\")","v":"A"},{"$f":"IF(Attendance($C11,'Daily Register'!GQ$3:GQ$242)=TRUE,\"P\",\"A\")","v":"A"},{"$f":"IF(Attendance($C11,'Daily Register'!GR$3:GR$242)=TRUE,\"P\",\"A\")","v":"A"},{"$f":"IF(Attendance($C11,'Daily Register'!GS$3:GS$242)=TRUE,\"P\",\"A\")","v":"A"},{"$f":"IF(Attendance($C11,'Daily Register'!GT$3:GT$242)=TRUE,\"P\",\"A\")","v":"A"},{"$f":"IF(Attendance($C11,'Daily Register'!GU$3:GU$242)=TRUE,\"P\",\"A\")","v":"A"},{"$f":"IF(Attendance($C11,'Daily Register'!GV$3:GV$242)=TRUE,\"P\",\"A\")","v":"A"},{"$f":"IF(Attendance($C11,'Daily Register'!GW$3:GW$242)=TRUE,\"P\",\"A\")","v":"A"},{"$f":"IF(Attendance($C11,'Daily Register'!GX$3:GX$242)=TRUE,\"P\",\"A\")","v":"A"},{"$f":"IF(Attendance($C11,'Daily Register'!GY$3:GY$242)=TRUE,\"P\",\"A\")","v":"A"},{"$f":"IF(Attendance($C11,'Daily Register'!GZ$3:GZ$242)=TRUE,\"P\",\"A\")","v":"A"},{"$f":"IF(Attendance($C11,'Daily Register'!HA$3:HA$242)=TRUE,\"P\",\"A\")","v":"A"},{"$f":"IF(Attendance($C11,'Daily Register'!HB$3:HB$242)=TRUE,\"P\",\"A\")","v":"A"},{"$f":"IF(Attendance($C11,'Daily Register'!HC$3:HC$242)=TRUE,\"P\",\"A\")","v":"A"},{"$f":"IF(Attendance($C11,'Daily Register'!HD$3:HD$242)=TRUE,\"P\",\"A\")","v":"A"},{"$f":"IF(Attendance($C11,'Daily Register'!HE$3:HE$242)=TRUE,\"P\",\"A\")","v":"A"},{"$f":"IF(Attendance($C11,'Daily Register'!HF$3:HF$242)=TRUE,\"P\",\"A\")","v":"A"},{"$f":"IF(Attendance($C11,'Daily Register'!HG$3:HG$242)=TRUE,\"P\",\"A\")","v":"A"},{"$f":"IF(Attendance($C11,'Daily Register'!HH$3:HH$242)=TRUE,\"P\",\"A\")","v":"A"},{"$f":"IF(Attendance($C11,'Daily Register'!HI$3:HI$242)=TRUE,\"P\",\"A\")","v":"A"},{"$f":"IF(Attendance($C11,'Daily Register'!HJ$3:HJ$242)=TRUE,\"P\",\"A\")","v":"A"},{"$f":"IF(Attendance($C11,'Daily Register'!HK$3:HK$242)=TRUE,\"P\",\"A\")","v":"A"},{"$f":"IF(Attendance($C11,'Daily Register'!HL$3:HL$242)=TRUE,\"P\",\"A\")","v":"A"},{"$f":"IF(Attendance($C11,'Daily Register'!HM$3:HM$242)=TRUE,\"P\",\"A\")","v":"A"},{"$f":"IF(Attendance($C11,'Daily Register'!HN$3:HN$242)=TRUE,\"P\",\"A\")","v":"A"},{"$f":"IF(Attendance($C11,'Daily Register'!HO$3:HO$242)=TRUE,\"P\",\"A\")","v":"A"},{"$f":"IF(Attendance($C11,'Daily Register'!HP$3:HP$242)=TRUE,\"P\",\"A\")","v":"A"},{"$f":"IF(Attendance($C11,'Daily Register'!HQ$3:HQ$242)=TRUE,\"P\",\"A\")","v":"A"},{"$f":"IF(Attendance($C11,'Daily Register'!HR$3:HR$242)=TRUE,\"P\",\"A\")","v":"A"},{"$f":"IF(Attendance($C11,'Daily Register'!HS$3:HS$242)=TRUE,\"P\",\"A\")","v":"A"},{"$f":"IF(Attendance($C11,'Daily Register'!HT$3:HT$242)=TRUE,\"P\",\"A\")","v":"A"},{"$f":"IF(Attendance($C11,'Daily Register'!HU$3:HU$242)=TRUE,\"P\",\"A\")","v":"A"},{"$f":"IF(Attendance($C11,'Daily Register'!HV$3:HV$242)=TRUE,\"P\",\"A\")","v":"A"},{"$f":"IF(Attendance($C11,'Daily Register'!HW$3:HW$242)=TRUE,\"P\",\"A\")","v":"A"},{"$f":"IF(Attendance($C11,'Daily Register'!HX$3:HX$242)=TRUE,\"P\",\"A\")","v":"A"},{"$f":"IF(Attendance($C11,'Daily Register'!HY$3:HY$242)=TRUE,\"P\",\"A\")","v":"A"},{"$f":"IF(Attendance($C11,'Daily Register'!HZ$3:HZ$242)=TRUE,\"P\",\"A\")","v":"A"},{"$f":"IF(Attendance($C11,'Daily Register'!IA$3:IA$242)=TRUE,\"P\",\"A\")","v":"A"},{"$f":"IF(Attendance($C11,'Daily Register'!IB$3:IB$242)=TRUE,\"P\",\"A\")","v":"A"},{"$f":"IF(Attendance($C11,'Daily Register'!IC$3:IC$242)=TRUE,\"P\",\"A\")","v":"A"},{"$f":"IF(Attendance($C11,'Daily Register'!ID$3:ID$242)=TRUE,\"P\",\"A\")","v":"A"},{"$f":"IF(Attendance($C11,'Daily Register'!IE$3:IE$242)=TRUE,\"P\",\"A\")","v":"A"},{"$f":"IF(Attendance($C11,'Daily Register'!IF$3:IF$242)=TRUE,\"P\",\"A\")","v":"A"},{"$f":"IF(Attendance($C11,'Daily Register'!IG$3:IG$242)=TRUE,\"P\",\"A\")","v":"A"},{"$f":"IF(Attendance($C11,'Daily Register'!IH$3:IH$242)=TRUE,\"P\",\"A\")","v":"A"},{"$f":"IF(Attendance($C11,'Daily Register'!II$3:II$242)=TRUE,\"P\",\"A\")","v":"A"},{"$f":"IF(Attendance($C11,'Daily Register'!IJ$3:IJ$242)=TRUE,\"P\",\"A\")","v":"A"},{"$f":"IF(Attendance($C11,'Daily Register'!IK$3:IK$242)=TRUE,\"P\",\"A\")","v":"A"},{"$f":"IF(Attendance($C11,'Daily Register'!IL$3:IL$242)=TRUE,\"P\",\"A\")","v":"A"},{"$f":"IF(Attendance($C11,'Daily Register'!IM$3:IM$242)=TRUE,\"P\",\"A\")","v":"A"},{"$f":"IF(Attendance($C11,'Daily Register'!IN$3:IN$242)=TRUE,\"P\",\"A\")","v":"A"},{"$f":"IF(Attendance($C11,'Daily Register'!IO$3:IO$242)=TRUE,\"P\",\"A\")","v":"A"},{"$f":"IF(Attendance($C11,'Daily Register'!IP$3:IP$242)=TRUE,\"P\",\"A\")","v":"A"},{"$f":"IF(Attendance($C11,'Daily Register'!IQ$3:IQ$242)=TRUE,\"P\",\"A\")","v":"A"},{"$f":"IF(Attendance($C11,'Daily Register'!IR$3:IR$242)=TRUE,\"P\",\"A\")","v":"A"},{"$f":"IF(Attendance($C11,'Daily Register'!IS$3:IS$242)=TRUE,\"P\",\"A\")","v":"A"},{"$f":"IF(Attendance($C11,'Daily Register'!IT$3:IT$242)=TRUE,\"P\",\"A\")","v":"A"},{"$f":"IF(Attendance($C11,'Daily Register'!IU$3:IU$242)=TRUE,\"P\",\"A\")","v":"A"},{"$f":"IF(Attendance($C11,'Daily Register'!IV$3:IV$242)=TRUE,\"P\",\"A\")","v":"A"},{"$f":"IF(Attendance($C11,'Daily Register'!IW$3:IW$242)=TRUE,\"P\",\"A\")","v":"A"},{"$f":"IF(Attendance($C11,'Daily Register'!IX$3:IX$242)=TRUE,\"P\",\"A\")","v":"A"},{"$f":"IF(Attendance($C11,'Daily Register'!IY$3:IY$242)=TRUE,\"P\",\"A\")","v":"A"},{"$f":"IF(Attendance($C11,'Daily Register'!IZ$3:IZ$242)=TRUE,\"P\",\"A\")","v":"A"},{"$f":"IF(Attendance($C11,'Daily Register'!JA$3:JA$242)=TRUE,\"P\",\"A\")","v":"A"},{"$f":"IF(Attendance($C11,'Daily Register'!JB$3:JB$242)=TRUE,\"P\",\"A\")","v":"A"},{"$f":"IF(Attendance($C11,'Daily Register'!JC$3:JC$242)=TRUE,\"P\",\"A\")","v":"A"},{"$f":"IF(Attendance($C11,'Daily Register'!JD$3:JD$242)=TRUE,\"P\",\"A\")","v":"A"},{"$f":"IF(Attendance($C11,'Daily Register'!JE$3:JE$242)=TRUE,\"P\",\"A\")","v":"A"},{"$f":"IF(Attendance($C11,'Daily Register'!JF$3:JF$242)=TRUE,\"P\",\"A\")","v":"A"},{"$f":"IF(Attendance($C11,'Daily Register'!JG$3:JG$242)=TRUE,\"P\",\"A\")","v":"A"},{"$f":"IF(Attendance($C11,'Daily Register'!JH$3:JH$242)=TRUE,\"P\",\"A\")","v":"A"},{"$f":"IF(Attendance($C11,'Daily Register'!JI$3:JI$242)=TRUE,\"P\",\"A\")","v":"A"},{"$f":"IF(Attendance($C11,'Daily Register'!JJ$3:JJ$242)=TRUE,\"P\",\"A\")","v":"A"},{"$f":"IF(Attendance($C11,'Daily Register'!JK$3:JK$242)=TRUE,\"P\",\"A\")","v":"A"},{"$f":"IF(Attendance($C11,'Daily Register'!JL$3:JL$242)=TRUE,\"P\",\"A\")","v":"A"},{"$f":"IF(Attendance($C11,'Daily Register'!JM$3:JM$242)=TRUE,\"P\",\"A\")","v":"A"},{"$f":"IF(Attendance($C11,'Daily Register'!JN$3:JN$242)=TRUE,\"P\",\"A\")","v":"A"},{"$f":"IF(Attendance($C11,'Daily Register'!JO$3:JO$242)=TRUE,\"P\",\"A\")","v":"A"},{"$f":"IF(Attendance($C11,'Daily Register'!JP$3:JP$242)=TRUE,\"P\",\"A\")","v":"A"},{"$f":"IF(Attendance($C11,'Daily Register'!JQ$3:JQ$242)=TRUE,\"P\",\"A\")","v":"A"},{"$f":"IF(Attendance($C11,'Daily Register'!JR$3:JR$242)=TRUE,\"P\",\"A\")","v":"A"},{"$f":"IF(Attendance($C11,'Daily Register'!JS$3:JS$242)=TRUE,\"P\",\"A\")","v":"A"},{"$f":"IF(Attendance($C11,'Daily Register'!JT$3:JT$242)=TRUE,\"P\",\"A\")","v":"A"},{"$f":"IF(Attendance($C11,'Daily Register'!JU$3:JU$242)=TRUE,\"P\",\"A\")","v":"A"},{"$f":"IF(Attendance($C11,'Daily Register'!JV$3:JV$242)=TRUE,\"P\",\"A\")","v":"A"},{"$f":"IF(Attendance($C11,'Daily Register'!JW$3:JW$242)=TRUE,\"P\",\"A\")","v":"A"},{"$f":"IF(Attendance($C11,'Daily Register'!JX$3:JX$242)=TRUE,\"P\",\"A\")","v":"A"},{"$f":"IF(Attendance($C11,'Daily Register'!JY$3:JY$242)=TRUE,\"P\",\"A\")","v":"A"},{"$f":"IF(Attendance($C11,'Daily Register'!JZ$3:JZ$242)=TRUE,\"P\",\"A\")","v":"A"},{"$f":"IF(Attendance($C11,'Daily Register'!KA$3:KA$242)=TRUE,\"P\",\"A\")","v":"A"},{"$f":"IF(Attendance($C11,'Daily Register'!KB$3:KB$242)=TRUE,\"P\",\"A\")","v":"A"},{"$f":"IF(Attendance($C11,'Daily Register'!KC$3:KC$242)=TRUE,\"P\",\"A\")","v":"A"},{"$f":"IF(Attendance($C11,'Daily Register'!KD$3:KD$242)=TRUE,\"P\",\"A\")","v":"A"},{"$f":"IF(Attendance($C11,'Daily Register'!KE$3:KE$242)=TRUE,\"P\",\"A\")","v":"A"},{"$f":"IF(Attendance($C11,'Daily Register'!KF$3:KF$242)=TRUE,\"P\",\"A\")","v":"A"},{"$f":"IF(Attendance($C11,'Daily Register'!KG$3:KG$242)=TRUE,\"P\",\"A\")","v":"A"},{"$f":"IF(Attendance($C11,'Daily Register'!KH$3:KH$242)=TRUE,\"P\",\"A\")","v":"A"},{"$f":"IF(Attendance($C11,'Daily Register'!KI$3:KI$242)=TRUE,\"P\",\"A\")","v":"A"},{"$f":"IF(Attendance($C11,'Daily Register'!KJ$3:KJ$242)=TRUE,\"P\",\"A\")","v":"A"},{"$f":"IF(Attendance($C11,'Daily Register'!KK$3:KK$242)=TRUE,\"P\",\"A\")","v":"A"},{"$f":"IF(Attendance($C11,'Daily Register'!KL$3:KL$242)=TRUE,\"P\",\"A\")","v":"A"},{"$f":"IF(Attendance($C11,'Daily Register'!KM$3:KM$242)=TRUE,\"P\",\"A\")","v":"A"},{"$f":"IF(Attendance($C11,'Daily Register'!KN$3:KN$242)=TRUE,\"P\",\"A\")","v":"A"},{"$f":"IF(Attendance($C11,'Daily Register'!KO$3:KO$242)=TRUE,\"P\",\"A\")","v":"A"},{"$f":"IF(Attendance($C11,'Daily Register'!KP$3:KP$242)=TRUE,\"P\",\"A\")","v":"A"},{"$f":"IF(Attendance($C11,'Daily Register'!KQ$3:KQ$242)=TRUE,\"P\",\"A\")","v":"A"},{"$f":"IF(Attendance($C11,'Daily Register'!KR$3:KR$242)=TRUE,\"P\",\"A\")","v":"A"},{"$f":"IF(Attendance($C11,'Daily Register'!KS$3:KS$242)=TRUE,\"P\",\"A\")","v":"A"},{"$f":"IF(Attendance($C11,'Daily Register'!KT$3:KT$242)=TRUE,\"P\",\"A\")","v":"A"},{"$f":"IF(Attendance($C11,'Daily Register'!KU$3:KU$242)=TRUE,\"P\",\"A\")","v":"A"},{"$f":"IF(Attendance($C11,'Daily Register'!KV$3:KV$242)=TRUE,\"P\",\"A\")","v":"A"},{"$f":"IF(Attendance($C11,'Daily Register'!KW$3:KW$242)=TRUE,\"P\",\"A\")","v":"A"},{"$f":"IF(Attendance($C11,'Daily Register'!KX$3:KX$242)=TRUE,\"P\",\"A\")","v":"A"},{"$f":"IF(Attendance($C11,'Daily Register'!KY$3:KY$242)=TRUE,\"P\",\"A\")","v":"A"},{"$f":"IF(Attendance($C11,'Daily Register'!KZ$3:KZ$242)=TRUE,\"P\",\"A\")","v":"A"},{"$f":"IF(Attendance($C11,'Daily Register'!LA$3:LA$242)=TRUE,\"P\",\"A\")","v":"A"},{"$f":"IF(Attendance($C11,'Daily Register'!LB$3:LB$242)=TRUE,\"P\",\"A\")","v":"A"},{"$f":"IF(Attendance($C11,'Daily Register'!LC$3:LC$242)=TRUE,\"P\",\"A\")","v":"A"},{"$f":"IF(Attendance($C11,'Daily Register'!LD$3:LD$242)=TRUE,\"P\",\"A\")","v":"A"},{"$f":"IF(Attendance($C11,'Daily Register'!LE$3:LE$242)=TRUE,\"P\",\"A\")","v":"A"},{"$f":"IF(Attendance($C11,'Daily Register'!LF$3:LF$242)=TRUE,\"P\",\"A\")","v":"A"},{"$f":"IF(Attendance($C11,'Daily Register'!LG$3:LG$242)=TRUE,\"P\",\"A\")","v":"A"},{"$f":"IF(Attendance($C11,'Daily Register'!LH$3:LH$242)=TRUE,\"P\",\"A\")","v":"A"},{"$f":"IF(Attendance($C11,'Daily Register'!LI$3:LI$242)=TRUE,\"P\",\"A\")","v":"A"},{"$f":"IF(Attendance($C11,'Daily Register'!LJ$3:LJ$242)=TRUE,\"P\",\"A\")","v":"A"},{"$f":"IF(Attendance($C11,'Daily Register'!LK$3:LK$242)=TRUE,\"P\",\"A\")","v":"A"},{"$f":"IF(Attendance($C11,'Daily Register'!LL$3:LL$242)=TRUE,\"P\",\"A\")","v":"A"},{"$f":"IF(Attendance($C11,'Daily Register'!LM$3:LM$242)=TRUE,\"P\",\"A\")","v":"A"},{"$f":"IF(Attendance($C11,'Daily Register'!LN$3:LN$242)=TRUE,\"P\",\"A\")","v":"A"},{"$f":"IF(Attendance($C11,'Daily Register'!LO$3:LO$242)=TRUE,\"P\",\"A\")","v":"A"},{"$f":"IF(Attendance($C11,'Daily Register'!LP$3:LP$242)=TRUE,\"P\",\"A\")","v":"A"},{"$f":"IF(Attendance($C11,'Daily Register'!LQ$3:LQ$242)=TRUE,\"P\",\"A\")","v":"A"},{"$f":"IF(Attendance($C11,'Daily Register'!LR$3:LR$242)=TRUE,\"P\",\"A\")","v":"A"},{"$f":"IF(Attendance($C11,'Daily Register'!LS$3:LS$242)=TRUE,\"P\",\"A\")","v":"A"},{"$f":"IF(Attendance($C11,'Daily Register'!LT$3:LT$242)=TRUE,\"P\",\"A\")","v":"A"},{"$f":"IF(Attendance($C11,'Daily Register'!LU$3:LU$242)=TRUE,\"P\",\"A\")","v":"A"},{"$f":"IF(Attendance($C11,'Daily Register'!LV$3:LV$242)=TRUE,\"P\",\"A\")","v":"A"},{"$f":"IF(Attendance($C11,'Daily Register'!LW$3:LW$242)=TRUE,\"P\",\"A\")","v":"A"},{"$f":"IF(Attendance($C11,'Daily Register'!LX$3:LX$242)=TRUE,\"P\",\"A\")","v":"A"},{"$f":"IF(Attendance($C11,'Daily Register'!LY$3:LY$242)=TRUE,\"P\",\"A\")","v":"A"},{"$f":"IF(Attendance($C11,'Daily Register'!LZ$3:LZ$242)=TRUE,\"P\",\"A\")","v":"A"},{"$f":"IF(Attendance($C11,'Daily Register'!MA$3:MA$242)=TRUE,\"P\",\"A\")","v":"A"},{"$f":"IF(Attendance($C11,'Daily Register'!MB$3:MB$242)=TRUE,\"P\",\"A\")","v":"A"},{"$f":"IF(Attendance($C11,'Daily Register'!MC$3:MC$242)=TRUE,\"P\",\"A\")","v":"A"},{"$f":"IF(Attendance($C11,'Daily Register'!MD$3:MD$242)=TRUE,\"P\",\"A\")","v":"A"},{"$f":"IF(Attendance($C11,'Daily Register'!ME$3:ME$242)=TRUE,\"P\",\"A\")","v":"A"},{"$f":"IF(Attendance($C11,'Daily Register'!MF$3:MF$242)=TRUE,\"P\",\"A\")","v":"A"},{"$f":"IF(Attendance($C11,'Daily Register'!MG$3:MG$242)=TRUE,\"P\",\"A\")","v":"A"},{"$f":"IF(Attendance($C11,'Daily Register'!MH$3:MH$242)=TRUE,\"P\",\"A\")","v":"A"},{"$f":"IF(Attendance($C11,'Daily Register'!MI$3:MI$242)=TRUE,\"P\",\"A\")","v":"A"},{"$f":"IF(Attendance($C11,'Daily Register'!MJ$3:MJ$242)=TRUE,\"P\",\"A\")","v":"A"},{"$f":"IF(Attendance($C11,'Daily Register'!MK$3:MK$242)=TRUE,\"P\",\"A\")","v":"A"},{"$f":"IF(Attendance($C11,'Daily Register'!ML$3:ML$242)=TRUE,\"P\",\"A\")","v":"A"},{"$f":"IF(Attendance($C11,'Daily Register'!MM$3:MM$242)=TRUE,\"P\",\"A\")","v":"A"},{"$f":"IF(Attendance($C11,'Daily Register'!MN$3:MN$242)=TRUE,\"P\",\"A\")","v":"A"},{"$f":"IF(Attendance($C11,'Daily Register'!MO$3:MO$242)=TRUE,\"P\",\"A\")","v":"A"},{"$f":"IF(Attendance($C11,'Daily Register'!MP$3:MP$242)=TRUE,\"P\",\"A\")","v":"A"},{"$f":"IF(Attendance($C11,'Daily Register'!MQ$3:MQ$242)=TRUE,\"P\",\"A\")","v":"A"},{"$f":"IF(Attendance($C11,'Daily Register'!MR$3:MR$242)=TRUE,\"P\",\"A\")","v":"A"},{"$f":"IF(Attendance($C11,'Daily Register'!MS$3:MS$242)=TRUE,\"P\",\"A\")","v":"A"},{"$f":"IF(Attendance($C11,'Daily Register'!MT$3:MT$242)=TRUE,\"P\",\"A\")","v":"A"},{"$f":"IF(Attendance($C11,'Daily Register'!MU$3:MU$242)=TRUE,\"P\",\"A\")","v":"A"},{"$f":"IF(Attendance($C11,'Daily Register'!MV$3:MV$242)=TRUE,\"P\",\"A\")","v":"A"},{"$f":"IF(Attendance($C11,'Daily Register'!MW$3:MW$242)=TRUE,\"P\",\"A\")","v":"A"},{"$f":"IF(Attendance($C11,'Daily Register'!MX$3:MX$242)=TRUE,\"P\",\"A\")","v":"A"},{"$f":"IF(Attendance($C11,'Daily Register'!MY$3:MY$242)=TRUE,\"P\",\"A\")","v":"A"},{"$f":"IF(Attendance($C11,'Daily Register'!MZ$3:MZ$242)=TRUE,\"P\",\"A\")","v":"A"},{"$f":"IF(Attendance($C11,'Daily Register'!NA$3:NA$242)=TRUE,\"P\",\"A\")","v":"A"},{"$f":"IF(Attendance($C11,'Daily Register'!NB$3:NB$242)=TRUE,\"P\",\"A\")","v":"A"}]
[0,null,9,null,{"$f":"IF(Attendance($C12,'Daily Register'!A$3:A$242)=TRUE,\"P\",\"A\")","v":"A"},{"$f":"IF(Attendance($C12,'Daily Register'!B$3:B$242)=TRUE,\"P\",\"A\")","v":"A"},{"$f":"IF(Attendance($C12,'Daily Register'!C$3:C$242)=TRUE,\"P\",\"A\")","v":"A"},{"$f":"IF(Attendance($C12,'Daily Register'!D$3:D$242)=TRUE,\"P\",\"A\")","v":"A"},{"$f":"IF(Attendance($C12,'Daily Register'!E$3:E$242)=TRUE,\"P\",\"A\")","v":"A"},{"$f":"IF(Attendance($C12,'Daily Register'!F$3:F$242)=TRUE,\"P\",\"A\")","v":"A"},{"$f":"IF(Attendance($C12,'Daily Register'!G$3:G$242)=TRUE,\"P\",\"A\")","v":"A"},{"$f":"IF(Attendance($C12,'Daily Register'!H$3:H$242)=TRUE,\"P\",\"A\")","v":"A"},{"$f":"IF(Attendance($C12,'Daily Register'!I$3:I$242)=TRUE,\"P\",\"A\")","v":"A"},{"$f":"IF(Attendance($C12,'Daily Register'!J$3:J$242)=TRUE,\"P\",\"A\")","v":"A"},{"$f":"IF(Attendance($C12,'Daily Register'!K$3:K$242)=TRUE,\"P\",\"A\")","v":"A"},{"$f":"IF(Attendance($C12,'Daily Register'!L$3:L$242)=TRUE,\"P\",\"A\")","v":"A"},{"$f":"IF(Attendance($C12,'Daily Register'!M$3:M$242)=TRUE,\"P\",\"A\")","v":"A"},{"$f":"IF(Attendance($C12,'Daily Register'!N$3:N$242)=TRUE,\"P\",\"A\")","v":"A"},{"$f":"IF(Attendance($C12,'Daily Register'!O$3:O$242)=TRUE,\"P\",\"A\")","v":"A"},{"$f":"IF(Attendance($C12,'Daily Register'!P$3:P$242)=TRUE,\"P\",\"A\")","v":"A"},{"$f":"IF(Attendance($C12,'Daily Register'!Q$3:Q$242)=TRUE,\"P\",\"A\")","v":"A"},{"$f":"IF(Attendance($C12,'Daily Register'!R$3:R$242)=TRUE,\"P\",\"A\")","v":"A"},{"$f":"IF(Attendance($C12,'Daily Register'!S$3:S$242)=TRUE,\"P\",\"A\")","v":"A"},{"$f":"IF(Attendance($C12,'Daily Register'!T$3:T$242)=TRUE,\"P\",\"A\")","v":"A"},{"$f":"IF(Attendance($C12,'Daily Register'!U$3:U$242)=TRUE,\"P\",\"A\")","v":"A"},{"$f":"IF(Attendance($C12,'Daily Register'!V$3:V$242)=TRUE,\"P\",\"A\")","v":"A"},{"$f":"IF(Attendance($C12,'Daily Register'!W$3:W$242)=TRUE,\"P\",\"A\")","v":"A"},{"$f":"IF(Attendance($C12,'Daily Register'!X$3:X$242)=TRUE,\"P\",\"A\")","v":"A"},{"$f":"IF(Attendance($C12,'Daily Register'!Y$3:Y$242)=TRUE,\"P\",\"A\")","v":"A"},{"$f":"IF(Attendance($C12,'Daily Register'!Z$3:Z$242)=TRUE,\"P\",\"A\")","v":"A"},{"$f":"IF(Attendance($C12,'Daily Register'!AA$3:AA$242)=TRUE,\"P\",\"A\")","v":"A"},{"$f":"IF(Attendance($C12,'Daily Register'!AB$3:AB$242)=TRUE,\"P\",\"A\")","v":"A"},{"$f":"IF(Attendance($C12,'Daily Register'!AC$3:AC$242)=TRUE,\"P\",\"A\")","v":"A"},{"$f":"IF(Attendance($C12,'Daily Register'!AD$3:AD$242)=TRUE,\"P\",\"A\")","v":"A"},{"$f":"IF(Attendance($C12,'Daily Register'!AE$3:AE$242)=TRUE,\"P\",\"A\")","v":"A"},{"$f":"IF(Attendance($C12,'Daily Register'!AF$3:AF$242)=TRUE,\"P\",\"A\")","v":"A"},{"$f":"IF(Attendance($C12,'Daily Register'!AG$3:AG$242)=TRUE,\"P\",\"A\")","v":"A"},{"$f":"IF(Attendance($C12,'Daily Register'!AH$3:AH$242)=TRUE,\"P\",\"A\")","v":"A"},{"$f":"IF(Attendance($C12,'Daily Register'!AI$3:AI$242)=TRUE,\"P\",\"A\")","v":"A"},{"$f":"IF(Attendance($C12,'Daily Register'!AJ$3:AJ$242)=TRUE,\"P\",\"A\")","v":"A"},{"$f":"IF(Attendance($C12,'Daily Register'!AK$3:AK$242)=TRUE,\"P\",\"A\")","v":"A"},{"$f":"IF(Attendance($C12,'Daily Register'!AL$3:AL$242)=TRUE,\"P\",\"A\")","v":"A"},{"$f":"IF(Attendance($C12,'Daily Register'!AM$3:AM$242)=TRUE,\"P\",\"A\")","v":"A"},{"$f":"IF(Attendance($C12,'Daily Register'!AN$3:AN$242)=TRUE,\"P\",\"A\")","v":"A"},{"$f":"IF(Attendance($C12,'Daily Register'!AO$3:AO$242)=TRUE,\"P\",\"A\")","v":"A"},{"$f":"IF(Attendance($C12,'Daily Register'!AP$3:AP$242)=TRUE,\"P\",\"A\")","v":"A"},{"$f":"IF(Attendance($C12,'Daily Register'!AQ$3:AQ$242)=TRUE,\"P\",\"A\")","v":"A"},{"$f":"IF(Attendance($C12,'Daily Register'!AR$3:AR$242)=TRUE,\"P\",\"A\")","v":"A"},{"$f":"IF(Attendance($C12,'Daily Register'!AS$3:AS$242)=TRUE,\"P\",\"A\")","v":"A"},{"$f":"IF(Attendance($C12,'Daily Register'!AT$3:AT$242)=TRUE,\"P\",\"A\")","v":"A"},{"$f":"IF(Attendance($C12,'Daily Register'!AU$3:AU$242)=TRUE,\"P\",\"A\")","v":"A"},{"$f":"IF(Attendance($C12,'Daily Register'!AV$3:AV$242)=TRUE,\"P\",\"A\")","v":"A"},{"$f":"IF(Attendance($C12,'Daily Register'!AW$3:AW$242)=TRUE,\"P\",\"A\")","v":"A"},{"$f":"IF(Attendance($C12,'Daily Register'!AX$3:AX$242)=TRUE,\"P\",\"A\")","v":"A"},{"$f":"IF(Attendance($C12,'Daily Register'!AY$3:AY$242)=TRUE,\"P\",\"A\")","v":"A"},{"$f":"IF(Attendance($C12,'Daily Register'!AZ$3:AZ$242)=TRUE,\"P\",\"A\")","v":"A"},{"$f":"IF(Attendance($C12,'Daily Register'!BA$3:BA$242)=TRUE,\"P\",\"A\")","v":"A"},{"$f":"IF(Attendance($C12,'Daily Register'!BB$3:BB$242)=TRUE,\"P\",\"A\")","v":"A"},{"$f":"IF(Attendance($C12,'Daily Register'!BC$3:BC$242)=TRUE,\"P\",\"A\")","v":"A"},{"$f":"IF(Attendance($C12,'Daily Register'!BD$3:BD$242)=TRUE,\"P\",\"A\")","v":"A"},{"$f":"IF(Attendance($C12,'Daily Register'!BE$3:BE$242)=TRUE,\"P\",\"A\")","v":"A"},{"$f":"IF(Attendance($C12,'Daily Register'!BF$3:BF$242)=TRUE,\"P\",\"A\")","v":"A"},{"$f":"IF(Attendance($C12,'Daily Register'!BG$3:BG$242)=TRUE,\"P\",\"A\")","v":"A"},{"$f":"IF(Attendance($C12,'Daily Register'!BH$3:BH$242)=TRUE,\"P\",\"A\")","v":"A"},{"$f":"IF(Attendance($C12,'Daily Register'!BI$3:BI$242)=TRUE,\"P\",\"A\")","v":"A"},{"$f":"IF(Attendance($C12,'Daily Register'!BJ$3:BJ$242)=TRUE,\"P\",\"A\")","v":"A"},{"$f":"IF(Attendance($C12,'Daily Register'!BK$3:BK$242)=TRUE,\"P\",\"A\")","v":"A"},{"$f":"IF(Attendance($C12,'Daily Register'!BL$3:BL$242)=TRUE,\"P\",\"A\")","v":"A"},{"$f":"IF(Attendance($C12,'Daily Register'!BM$3:BM$242)=TRUE,\"P\",\"A\")","v":"A"},{"$f":"IF(Attendance($C12,'Daily Register'!BN$3:BN$242)=TRUE,\"P\",\"A\")","v":"A"},{"$f":"IF(Attendance($C12,'Daily Register'!BO$3:BO$242)=TRUE,\"P\",\"A\")","v":"A"},{"$f":"IF(Attendance($C12,'Daily Register'!BP$3:BP$242)=TRUE,\"P\",\"A\")","v":"A"},{"$f":"IF(Attendance($C12,'Daily Register'!BQ$3:BQ$242)=TRUE,\"P\",\"A\")","v":"A"},{"$f":"IF(Attendance($C12,'Daily Register'!BR$3:BR$242)=TRUE,\"P\",\"A\")","v":"A"},{"$f":"IF(Attendance($C12,'Daily Register'!BS$3:BS$242)=TRUE,\"P\",\"A\")","v":"A"},{"$f":"IF(Attendance($C12,'Daily Register'!BT$3:BT$242)=TRUE,\"P\",\"A\")","v":"A"},{"$f":"IF(Attendance($C12,'Daily Register'!BU$3:BU$242)=TRUE,\"P\",\"A\")","v":"A"},{"$f":"IF(Attendance($C12,'Daily Register'!BV$3:BV$242)=TRUE,\"P\",\"A\")","v":"A"},{"$f":"IF(Attendance($C12,'Daily Register'!BW$3:BW$242)=TRUE,\"P\",\"A\")","v":"A"},{"$f":"IF(Attendance($C12,'Daily Register'!BX$3:BX$242)=TRUE,\"P\",\"A\")","v":"A"},{"$f":"IF(Attendance($C12,'Daily Register'!BY$3:BY$242)=TRUE,\"P\",\"A\")","v":"A"},{"$f":"IF(Attendance($C12,'Daily Register'!BZ$3:BZ$242)=TRUE,\"P\",\"A\")","v":"A"},{"$f":"IF(Attendance($C12,'Daily Register'!CA$3:CA$242)=TRUE,\"P\",\"A\")","v":"A"},{"$f":"IF(Attendance($C12,'Daily Register'!CB$3:CB$242)=TRUE,\"P\",\"A\")","v":"A"},{"$f":"IF(Attendance($C12,'Daily Register'!CC$3:CC$242)=TRUE,\"P\",\"A\")","v":"A"},{"$f":"IF(Attendance($C12,'Daily Register'!CD$3:CD$242)=TRUE,\"P\",\"A\")","v":"A"},{"$f":"IF(Attendance($C12,'Daily Register'!CE$3:CE$242)=TRUE,\"P\",\"A\")","v":"A"},{"$f":"IF(Attendance($C12,'Daily Register'!CF$3:CF$242)=TRUE,\"P\",\"A\")","v":"A"},{"$f":"IF(Attendance($C12,'Daily Register'!CG$3:CG$242)=TRUE,\"P\",\"A\")","v":"A"},{"$f":"IF(Attendance($C12,'Daily Register'!CH$3:CH$242)=TRUE,\"P\",\"A\")","v":"A"},{"$f":"IF(Attendance($C12,'Daily Register'!CI$3:CI$242)=TRUE,\"P\",\"A\")","v":"A"},{"$f":"IF(Attendance($C12,'Daily Register'!CJ$3:CJ$242)=TRUE,\"P\",\"A\")","v":"A"},{"$f":"IF(Attendance($C12,'Daily Register'!CK$3:CK$242)=TRUE,\"P\",\"A\")","v":"A"},{"$f":"IF(Attendance($C12,'Daily Register'!CL$3:CL$242)=TRUE,\"P\",\"A\")","v":"A"},{"$f":"IF(Attendance($C12,'Daily Register'!CM$3:CM$242)=TRUE,\"P\",\"A\")","v":"A"},{"$f":"IF(Attendance($C12,'Daily Register'!CN$3:CN$242)=TRUE,\"P\",\"A\")","v":"A"},{"$f":"IF(Attendance($C12,'Daily Register'!CO$3:CO$242)=TRUE,\"P\",\"A\")","v":"A"},{"$f":"IF(Attendance($C12,'Daily Register'!CP$3:CP$242)=TRUE,\"P\",\"A\")","v":"A"},{"$f":"IF(Attendance($C12,'Daily Register'!CQ$3:CQ$242)=TRUE,\"P\",\"A\")","v":"A"},{"$f":"IF(Attendance($C12,'Daily Register'!CR$3:CR$242)=TRUE,\"P\",\"A\")","v":"A"},{"$f":"IF(Attendance($C12,'Daily Register'!CS$3:CS$242)=TRUE,\"P\",\"A\")","v":"A"},{"$f":"IF(Attendance($C12,'Daily Register'!CT$3:CT$242)=TRUE,\"P\",\"A\")","v":"A"},{"$f":"IF(Attendance($C12,'Daily Register'!CU$3:CU$242)=TRUE,\"P\",\"A\")","v":"A"},{"$f":"IF(Attendance($C12,'Daily Register'!CV$3:CV$242)=TRUE,\"P\",\"A\")","v":"A"},{"$f":"IF(Attendance($C12,'Daily Register'!CW$3:CW$242)=TRUE,\"P\",\"A\")","v":"A"},{"$f":"IF(Attendance($C12,'Daily Register'!CX$3:CX$242)=TRUE,\"P\",\"A\")","v":"A"},{"$f":"IF(Attendance($C12,'Daily Register'!CY$3:CY$242)=TRUE,\"P\",\"A\")","v":"A"},{"$f":"IF(Attendance($C12,'Daily Register'!CZ$3:CZ$242)=TRUE,\"P\",\"A\")","v":"A"},{"$f":"IF(Attendance($C12,'Daily Register'!DA$3:DA$242)=TRUE,\"P\",\"A\")","v":"A"},{"$f":"IF(Attendance($C12,'Daily Register'!DB$3:DB$242)=TRUE,\"P\",\"A\")","v":"A"},{"$f":"IF(Attendance($C12,'Daily Register'!DC$3:DC$242)=TRUE,\"P\",\"A\")","v":"A"},{"$f":"IF(Attendance($C12,'Daily Register'!DD$3:DD$242)=TRUE,\"P\",\"A\")","v":"A"},{"$f":"IF(Attendance($C12,'Daily Register'!DE$3:DE$242)=TRUE,\"P\",\"A\")","v":"A"},{"$f":"IF(Attendance($C12,'Daily Register'!DF$3:DF$242)=TRUE,\"P\",\"A\")","v":"A"},{"$f":"IF(Attendance($C12,'Daily Register'!DG$3:DG$242)=TRUE,\"P\",\"A\")","v":"A"},{"$f":"IF(Attendance($C12,'Daily Register'!DH$3:DH$242)=TRUE,\"P\",\"A\")","v":"A"},{"$f":"IF(Attendance($C12,'Daily Register'!DI$3:DI$242)=TRUE,\"P\",\"A\")","v":"A"},{"$f":"IF(Attendance($C12,'Daily Register'!DJ$3:DJ$242)=TRUE,\"P\",\"A\")","v":"A"},{"$f":"IF(Attendance($C12,'Daily Register'!DK$3:DK$242)=TRUE,\"P\",\"A\")","v":"A"},{"$f":"IF(Attendance($C12,'Daily Register'!DL$3:DL$242)=TRUE,\"P\",\"A\")","v":"A"},{"$f":"IF(Attendance($C12,'Daily Register'!DM$3:DM$242)=TRUE,\"P\",\"A\")","v":"A"},{"$f":"IF(Attendance($C12,'Daily Register'!DN$3:DN$242)=TRUE,\"P\",\"A\")","v":"A"},{"$f":"IF(Attendance($C12,'Daily Register'!DO$3:DO$242)=TRUE,\"P\",\"A\")","v":"A"},{"$f":"IF(Attendance($C12,'Daily Register'!DP$3:DP$242)=TRUE,\"P\",\"A\")","v":"A"},{"$f":"IF(Attendance($C12,'Daily Register'!DQ$3:DQ$242)=TRUE,\"P\",\"A\")","v":"A"},{"$f":"IF(Attendance($C12,'Daily Register'!DR$3:DR$242)=TRUE,\"P\",\"A\")","v":"A"},{"$f":"IF(Attendance($C12,'Daily Register'!DS$3:DS$242)=TRUE,\"P\",\"A\")","v":"A"},{"$f":"IF(Attendance($C12,'Daily Register'!DT$3:DT$242)=TRUE,\"P\",\"A\")","v":"A"},{"$f":"IF(Attendance($C12,'Daily Register'!DU$3:DU$242)=TRUE,\"P\",\"A\")","v":"A"},{"$f":"IF(Attendance($C12,'Daily Register'!DV$3:DV$242)=TRUE,\"P\",\"A\")","v":"A"},{"$f":"IF(Attendance($C12,'Daily Register'!DW$3:DW$242)=TRUE,\"P\",\"A\")","v":"A"},{"$f":"IF(Attendance($C12,'Daily Register'!DX$3:DX$242)=TRUE,\"P\",\"A\")","v":"A"},{"$f":"IF(Attendance($C12,'Daily Register'!DY$3:DY$242)=TRUE,\"P\",\"A\")","v":"A"},{"$f":"IF(Attendance($C12,'Daily Register'!DZ$3:DZ$242)=TRUE,\"P\",\"A\")","v":"A"},{"$f":"IF(Attendance($C12,'Daily Register'!EA$3:EA$242)=TRUE,\"P\",\"A\")","v":"A"},{"$f":"IF(Attendance($C12,'Daily Register'!EB$3:EB$242)=TRUE,\"P\",\"A\")","v":"A"},{"$f":"IF(Attendance($C12,'Daily Register'!EC$3:EC$242)=TRUE,\"P\",\"A\")","v":"A"},{"$f":"IF(Attendance($C12,'Daily Register'!ED$3:ED$242)=TRUE,\"P\",\"A\")","v":"A"},{"$f":"IF(Attendance($C12,'Daily Register'!EE$3:EE$242)=TRUE,\"P\",\"A\")","v":"A"},{"$f":"IF(Attendance($C12,'Daily Register'!EF$3:EF$242)=TRUE,\"P\",\"A\")","v":"A"},{"$f":"IF(Attendance($C12,'Daily Register'!EG$3:EG$242)=TRUE,\"P\",\"A\")","v":"A"},{"$f":"IF(Attendance($C12,'Daily Register'!EH$3:EH$242)=TRUE,\"P\",\"A\")","v":"A"},{"$f":"IF(Attendance($C12,'Daily Register'!EI$3:EI$242)=TRUE,\"P\",\"A\")","v":"A"},{"$f":"IF(Attendance($C12,'Daily Register'!EJ$3:EJ$242)=TRUE,\"P\",\"A\")","v":"A"},{"$f":"IF(Attendance($C12,'Daily Register'!EK$3:EK$242)=TRUE,\"P\",\"A\")","v":"A"},{"$f":"IF(Attendance($C12,'Daily Register'!EL$3:EL$242)=TRUE,\"P\",\"A\")","v":"A"},{"$f":"IF(Attendance($C12,'Daily Register'!EM$22:EM$242)=TRUE,\"P\",\"A\")","v":"A"},{"$f":"IF(Attendance($C12,'Daily Register'!EN$3:EN$242)=TRUE,\"P\",\"A\")","v":"A"},{"$f":"IF(Attendance($C12,'Daily Register'!EO$3:EO$242)=TRUE,\"P\",\"A\")","v":"A"},{"$f":"IF(Attendance($C12,'Daily Register'!EP$3:EP$242)=TRUE,\"P\",\"A\")","v":"A"},{"$f":"IF(Attendance($C12,'Daily Register'!EQ$3:EQ$242)=TRUE,\"P\",\"A\")","v":"A"},{"$f":"IF(Attendance($C12,'Daily Register'!ER$3:ER$242)=TRUE,\"P\",\"A\")","v":"A"},{"$f":"IF(Attendance($C12,'Daily Register'!ES$3:ES$242)=TRUE,\"P\",\"A\")","v":"A"},{"$f":"IF(Attendance($C12,'Daily Register'!ET$3:ET$242)=TRUE,\"P\",\"A\")","v":"A"},{"$f":"IF(Attendance($C12,'Daily Register'!EU$3:EU$242)=TRUE,\"P\",\"A\")","v":"A"},{"$f":"IF(Attendance($C12,'Daily Register'!EV$3:EV$242)=TRUE,\"P\",\"A\")","v":"A"},{"$f":"IF(Attendance($C12,'Daily Register'!EW$3:EW$242)=TRUE,\"P\",\"A\")","v":"A"},{"$f":"IF(Attendance($C12,'Daily Register'!EX$3:EX$242)=TRUE,\"P\",\"A\")","v":"A"},{"$f":"IF(Attendance($C12,'Daily Register'!EY$3:EY$242)=TRUE,\"P\",\"A\")","v":"A"},{"$f":"IF(Attendance($C12,'Daily Register'!EZ$3:EZ$242)=TRUE,\"P\",\"A\")","v":"A"},{"$f":"IF(Attendance($C12,'Daily Register'!FA$3:FA$242)=TRUE,\"P\",\"A\")","v":"A"},{"$f":"IF(Attendance($C12,'Daily Register'!FB$3:FB$242)=TRUE,\"P\",\"A\")","v":"A"},{"$f":"IF(Attendance($C12,'Daily Register'!FC$3:FC$242)=TRUE,\"P\",\"A\")","v":"A"},{"$f":"IF(Attendance($C12,'Daily Register'!FD$3:FD$242)=TRUE,\"P\",\"A\")","v":"A"},{"$f":"IF(Attendance($C12,'Daily Register'!FE$3:FE$242)=TRUE,\"P\",\"A\")","v":"A"},{"$f":"IF(Attendance($C12,'Daily Register'!FF$3:FF$242)=TRUE,\"P\",\"A\")","v":"A"},{"$f":"IF(Attendance($C12,'Daily Register'!FG$3:FG$242)=TRUE,\"P\",\"A\")","v":"A"},{"$f":"IF(Attendance($C12,'Daily Register'!FH$3:FH$242)=TRUE,\"P\",\"A\")","v":"A"},{"$f":"IF(Attendance($C12,'Daily Register'!FI$3:FI$242)=TRUE,\"P\",\"A\")","v":"A"},{"$f":"IF(Attendance($C12,'Daily Register'!FJ$3:FJ$242)=TRUE,\"P\",\"A\")","v":"A"},{"$f":"IF(Attendance($C12,'Daily Register'!FK$3:FK$242)=TRUE,\"P\",\"A\")","v":"A"},{"$f":"IF(Attendance($C12,'Daily Register'!FL$3:FL$242)=TRUE,\"P\",\"A\")","v":"A"},{"$f":"IF(Attendance($C12,'Daily Register'!FM$3:FM$242)=TRUE,\"P\",\"A\")","v":"A"},{"$f":"IF(Attendance($C12,'Daily Register'!FN$3:FN$242)=TRUE,\"P\",\"A\")","v":"A"},{"$f":"IF(Attendance($C12,'Daily Register'!FO$3:FO$242)=TRUE,\"P\",\"A\")","v":"A"},{"$f":"IF(Attendance($C12,'Daily Register'!FP$3:FP$242)=TRUE,\"P\",\"A\")","v":"A"},{"$f":"IF(Attendance($C12,'Daily Register'!FQ$3:FQ$242)=TRUE,\"P\",\"A\")","v":"A"},{"$f":"IF(Attendance($C12,'Daily Register'!FR$3:FR$242)=TRUE,\"P\",\"A\")","v":"A"},{"$f":"IF(Attendance($C12,'Daily Register'!FS$3:FS$242)=TRUE,\"P\",\"A\")","v":"A"},{"$f":"IF(Attendance($C12,'Daily Register'!FT$3:FT$242)=TRUE,\"P\",\"A\")","v":"A"},{"$f":"IF(Attendance($C12,'Daily Register'!FU$3:FU$242)=TRUE,\"P\",\"A\")","v":"A"},{"$f":"IF(Attendance($C12,'Daily Register'!FV$3:FV$242)=TRUE,\"P\",\"A\")","v":"A"},{"$f":"IF(Attendance($C12,'Daily Register'!FW$3:FW$242)=TRUE,\"P\",\"A\")","v":"A"},{"$f":"IF(Attendance($C12,'Daily Register'!FX$3:FX$242)=TRUE,\"P\",\"A\")","v":"A"},{"$f":"IF(Attendance($C12,'Daily Register'!FY$3:FY$242)=TRUE,\"P\",\"A\")","v":"A"},{"$f":"IF(Attendance($C12,'Daily Register'!FZ$3:FZ$242)=TRUE,\"P\",\"A\")","v":"A"},{"$f":"IF(Attendance($C12,'Daily Register'!GA$3:GA$242)=TRUE,\"P\",\"A\")","v":"A"},{"$f":"IF(Attendance($C12,'Daily Register'!GB$3:GB$242)=TRUE,\"P\",\"A\")","v":"A"},{"$f":"IF(Attendance($C12,'Daily Register'!GC$3:GC$242)=TRUE,\"P\",\"A\")","v":"A"},{"$f":"IF(Attendance($C12,'Daily Register'!GD$3:GD$242)=TRUE,\"P\",\"A\")","v":"A"},{"$f":"IF(Attendance($C12,'Daily Register'!GE$3:GE$242)=TRUE,\"P\",\"A\")","v":"A"},{"$f":"IF(Attendance($C12,'Daily Register'!GF$3:GF$242)=TRUE,\"P\",\"A\")","v":"A"},{"$f":"IF(Attendance($C12,'Daily Register'!GG$3:GG$242)=TRUE,\"P\",\"A\")","v":"A"},{"$f":"IF(Attendance($C12,'Daily Register'!GH$3:GH$242)=TRUE,\"P\",\"A\")","v":"A"},{"$f":"IF(Attendance($C12,'Daily Register'!GI$3:GI$242)=TRUE,\"P\",\"A\")","v":"A"},{"$f":"IF(Attendance($C12,'Daily Register'!GJ$3:GJ$242)=TRUE,\"P\",\"A\")","v":"A"},{"$f":"IF(Attendance($C12,'Daily Register'!GK$3:GK$242)=TRUE,\"P\",\"A\")","v":"A"},{"$f":"IF(Attendance($C12,'Daily Register'!GL$3:GL$242)=TRUE,\"P\",\"A\")","v":"A"},{"$f":"IF(Attendance($C12,'Daily Register'!GM$3:GM$242)=TRUE,\"P\",\"A\")","v":"A"},{"$f":"IF(Attendance($C12,'Daily Register'!GN$3:GN$242)=TRUE,\"P\",\"A\")","v":"A"},{"$f":"IF(Attendance($C12,'Daily Register'!GO$3:GO$242)=TRUE,\"P\",\"A\")","v":"A"},{"$f":"IF(Attendance($C12,'Daily Register'!GP$3:GP$242)=TRUE,\"P\",\"A\")","v":"A"},{"$f":"IF(Attendance($C12,'Daily Register'!GQ$3:GQ$242)=TRUE,\"P\",\"A\")","v":"A"},{"$f":"IF(Attendance($C12,'Daily Register'!GR$3:GR$242)=TRUE,\"P\",\"A\")","v":"A"},{"$f":"IF(Attendance($C12,'Daily Register'!GS$3:GS$242)=TRUE,\"P\",\"A\")","v":"A"},{"$f":"IF(Attendance($C12,'Daily Register'!GT$3:GT$242)=TRUE,\"P\",\"A\")","v":"A"},{"$f":"IF(Attendance($C12,'Daily Register'!GU$3:GU$242)=TRUE,\"P\",\"A\")","v":"A"},{"$f":"IF(Attendance($C12,'Daily Register'!GV$3:GV$242)=TRUE,\"P\",\"A\")","v":"A"},{"$f":"IF(Attendance($C12,'Daily Register'!GW$3:GW$242)=TRUE,\"P\",\"A\")","v":"A"},{"$f":"IF(Attendance($C12,'Daily Register'!GX$3:GX$242)=TRUE,\"P\",\"A\")","v":"A"},{"$f":"IF(Attendance($C12,'Daily Register'!GY$3:GY$242)=TRUE,\"P\",\"A\")","v":"A"},{"$f":"IF(Attendance($C12,'Daily Register'!GZ$3:GZ$242)=TRUE,\"P\",\"A\")","v":"A"},{"$f":"IF(Attendance($C12,'Daily Register'!HA$3:HA$242)=TRUE,\"P\",\"A\")","v":"A"},{"$f":"IF(Attendance($C12,'Daily Register'!HB$3:HB$242)=TRUE,\"P\",\"A\")","v":"A"},{"$f":"IF(Attendance($C12,'Daily Register'!HC$3:HC$242)=TRUE,\"P\",\"A\")","v":"A"},{"$f":"IF(Attendance($C12,'Daily Register'!HD$3:HD$242)=TRUE,\"P\",\"A\")","v":"A"},{"$f":"IF(Attendance($C12,'Daily Register'!HE$3:HE$242)=TRUE,\"P\",\"A\")","v":"A"},{"$f":"IF(Attendance($C12,'Daily Register'!HF$3:HF$242)=TRUE,\"P\",\"A\")","v":"A"},{"$f":"IF(Attendance($C12,'Daily Register'!HG$3:HG$242)=TRUE,\"P\",\"A\")","v":"A"},{"$f":"IF(Attendance($C12,'Daily Register'!HH$3:HH$242)=TRUE,\"P\",\"A\")","v":"A"},{"$f":"IF(Attendance($C12,'Daily Register'!HI$3:HI$242)=TRUE,\"P\",\"A\")","v":"A"},{"$f":"IF(Attendance($C12,'Daily Register'!HJ$3:HJ$242)=TRUE,\"P\",\"A\")","v":"A"},{"$f":"IF(Attendance($C12,'Daily Register'!HK$3:HK$242)=TRUE,\"P\",\"A\")","v":"A"},{"$f":"IF(Attendance($C12,'Daily Register'!HL$3:HL$242)=TRUE,\"P\",\"A\")","v":"A"},{"$f":"IF(Attendance($C12,'Daily Register'!HM$3:HM$242)=TRUE,\"P\",\"A\")","v":"A"},{"$f":"IF(Attendance($C12,'Daily Register'!HN$3:HN$242)=TRUE,\"P\",\"A\")","v":"A"},{"$f":"IF(Attendance($C12,'Daily Register'!HO$3:HO$242)=TRUE,\"P\",\"A\")","v":"A"},{"$f":"IF(Attendance($C12,'Daily Register'!HP$3:HP$242)=TRUE,\"P\",\"A\")","v":"A"},{"$f":"IF(Attendance($C12,'Daily Register'!HQ$3:HQ$242)=TRUE,\"P\",\"A\")","v":"A"},{"$f":"IF(Attendance($C12,'Daily Register'!HR$3:HR$242)=TRUE,\"P\",\"A\")","v":"A"},{"$f":"IF(Attendance($C12,'Daily Register'!HS$3:HS$242)=TRUE,\"P\",\"A\")","v":"A"},{"$f":"IF(Attendance($C12,'Daily Register'!HT$3:HT$242)=TRUE,\"P\",\"A\")","v":"A"},{"$f":"IF(Attendance($C12,'Daily Register'!HU$3:HU$242)=TRUE,\"P\",\"A\")","v":"A"},{"$f":"IF(Attendance($C12,'Daily Register'!HV$3:HV$242)=TRUE,\"P\",\"A\")","v":"A"},{"$f":"IF(Attendance($C12,'Daily Register'!HW$3:HW$242)=TRUE,\"P\",\"A\")","v":"A"},{"$f":"IF(Attendance($C12,'Daily Register'!HX$3:HX$242)=TRUE,\"P\",\"A\")","v":"A"},{"$f":"IF(Attendance($C12,'Daily Register'!HY$3:HY$242)=TRUE,\"P\",\"A\")","v":"A"},{"$f":"IF(Attendance($C12,'Daily Register'!HZ$3:HZ$242)=TRUE,\"P\",\"A\")","v":"A"},{"$f":"IF(Attendance($C12,'Daily Register'!IA$3:IA$242)=TRUE,\"P\",\"A\")","v":"A"},{"$f":"IF(Attendance($C12,'Daily Register'!IB$3:IB$242)=TRUE,\"P\",\"A\")","v":"A"},{"$f":"IF(Attendance($C12,'Daily Register'!IC$3:IC$242)=TRUE,\"P\",\"A\")","v":"A"},{"$f":"IF(Attendance($C12,'Daily Register'!ID$3:ID$242)=TRUE,\"P\",\"A\")","v":"A"},{"$f":"IF(Attendance($C12,'Daily Register'!IE$3:IE$242)=TRUE,\"P\",\"A\")","v":"A"},{"$f":"IF(Attendance($C12,'Daily Register'!IF$3:IF$242)=TRUE,\"P\",\"A\")","v":"A"},{"$f":"IF(Attendance($C12,'Daily Register'!IG$3:IG$242)=TRUE,\"P\",\"A\")","v":"A"},{"$f":"IF(Attendance($C12,'Daily Register'!IH$3:IH$242)=TRUE,\"P\",\"A\")","v":"A"},{"$f":"IF(Attendance($C12,'Daily Register'!II$3:II$242)=TRUE,\"P\",\"A\")","v":"A"},{"$f":"IF(Attendance($C12,'Daily Register'!IJ$3:IJ$242)=TRUE,\"P\",\"A\")","v":"A"},{"$f":"IF(Attendance($C12,'Daily Register'!IK$3:IK$242)=TRUE,\"P\",\"A\")","v":"A"},{"$f":"IF(Attendance($C12,'Daily Register'!IL$3:IL$242)=TRUE,\"P\",\"A\")","v":"A"},{"$f":"IF(Attendance($C12,'Daily Register'!IM$3:IM$242)=TRUE,\"P\",\"A\")","v":"A"},{"$f":"IF(Attendance($C12,'Daily Register'!IN$3:IN$242)=TRUE,\"P\",\"A\")","v":"A"},{"$f":"IF(Attendance($C12,'Daily Register'!IO$3:IO$242)=TRUE,\"P\",\"A\")","v":"A"},{"$f":"IF(Attendance($C12,'Daily Register'!IP$3:IP$242)=TRUE,\"P\",\"A\")","v":"A"},{"$f":"IF(Attendance($C12,'Daily Register'!IQ$3:IQ$242)=TRUE,\"P\",\"A\")","v":"A"},{"$f":"IF(Attendance($C12,'Daily Register'!IR$3:IR$242)=TRUE,\"P\",\"A\")","v":"A"},{"$f":"IF(Attendance($C12,'Daily Register'!IS$3:IS$242)=TRUE,\"P\",\"A\")","v":"A"},{"$f":"IF(Attendance($C12,'Daily Register'!IT$3:IT$242)=TRUE,\"P\",\"A\")","v":"A"},{"$f":"IF(Attendance($C12,'Daily Register'!IU$3:IU$242)=TRUE,\"P\",\"A\")","v":"A"},{"$f":"IF(Attendance($C12,'Daily Register'!IV$3:IV$242)=TRUE,\"P\",\"A\")","v":"A"},{"$f":"IF(Attendance($C12,'Daily Register'!IW$3:IW$242)=TRUE,\"P\",\"A\")","v":"A"},{"$f":"IF(Attendance($C12,'Daily Register'!IX$3:IX$242)=TRUE,\"P\",\"A\")","v":"A"},{"$f":"IF(Attendance($C12,'Daily Register'!IY$3:IY$242)=TRUE,\"P\",\"A\")","v":"A"},{"$f":"IF(Attendance($C12,'Daily Register'!IZ$3:IZ$242)=TRUE,\"P\",\"A\")","v":"A"},{"$f":"IF(Attendance($C12,'Daily Register'!JA$3:JA$242)=TRUE,\"P\",\"A\")","v":"A"},{"$f":"IF(Attendance($C12,'Daily Register'!JB$3:JB$242)=TRUE,\"P\",\"A\")","v":"A"},{"$f":"IF(Attendance($C12,'Daily Register'!JC$3:JC$242)=TRUE,\"P\",\"A\")","v":"A"},{"$f":"IF(Attendance($C12,'Daily Register'!JD$3:JD$242)=TRUE,\"P\",\"A\")","v":"A"},{"$f":"IF(Attendance($C12,'Daily Register'!JE$3:JE$242)=TRUE,\"P\",\"A\")","v":"A"},{"$f":"IF(Attendance($C12,'Daily Register'!JF$3:JF$242)=TRUE,\"P\",\"A\")","v":"A"},{"$f":"IF(Attendance($C12,'Daily Register'!JG$3:JG$242)=TRUE,\"P\",\"A\")","v":"A"},{"$f":"IF(Attendance($C12,'Daily Register'!JH$3:JH$242)=TRUE,\"P\",\"A\")","v":"A"},{"$f":"IF(Attendance($C12,'Daily Register'!JI$3:JI$242)=TRUE,\"P\",\"A\")","v":"A"},{"$f":"IF(Attendance($C12,'Daily Register'!JJ$3:JJ$242)=TRUE,\"P\",\"A\")","v":"A"},{"$f":"IF(Attendance($C12,'Daily Register'!JK$3:JK$242)=TRUE,\"P\",\"A\")","v":"A"},{"$f":"IF(Attendance($C12,'Daily Register'!JL$3:JL$242)=TRUE,\"P\",\"A\")","v":"A"},{"$f":"IF(Attendance($C12,'Daily Register'!JM$3:JM$242)=TRUE,\"P\",\"A\")","v":"A"},{"$f":"IF(Attendance($C12,'Daily Register'!JN$3:JN$242)=TRUE,\"P\",\"A\")","v":"A"},{"$f":"IF(Attendance($C12,'Daily Register'!JO$3:JO$242)=TRUE,\"P\",\"A\")","v":"A"},{"$f":"IF(Attendance($C12,'Daily Register'!JP$3:JP$242)=TRUE,\"P\",\"A\")","v":"A"},{"$f":"IF(Attendance($C12,'Daily Register'!JQ$3:JQ$242)=TRUE,\"P\",\"A\")","v":"A"},{"$f":"IF(Attendance($C12,'Daily Register'!JR$3:JR$242)=TRUE,\"P\",\"A\")","v":"A"},{"$f":"IF(Attendance($C12,'Daily Register'!JS$3:JS$242)=TRUE,\"P\",\"A\")","v":"A"},{"$f":"IF(Attendance($C12,'Daily Register'!JT$3:JT$242)=TRUE,\"P\",\"A\")","v":"A"},{"$f":"IF(Attendance($C12,'Daily Register'!JU$3:JU$242)=TRUE,\"P\",\"A\")","v":"A"},{"$f":"IF(Attendance($C12,'Daily Register'!JV$3:JV$242)=TRUE,\"P\",\"A\")","v":"A"},{"$f":"IF(Attendance($C12,'Daily Register'!JW$3:JW$242)=TRUE,\"P\",\"A\")","v":"A"},{"$f":"IF(Attendance($C12,'Daily Register'!JX$3:JX$242)=TRUE,\"P\",\"A\")","v":"A"},{"$f":"IF(Attendance($C12,'Daily Register'!JY$3:JY$242)=TRUE,\"P\",\"A\")","v":"A"},{"$f":"IF(Attendance($C12,'Daily Register'!JZ$3:JZ$242)=TRUE,\"P\",\"A\")","v":"A"},{"$f":"IF(Attendance($C12,'Daily Register'!KA$3:KA$242)=TRUE,\"P\",\"A\")","v":"A"},{"$f":"IF(Attendance($C12,'Daily Register'!KB$3:KB$242)=TRUE,\"P\",\"A\")","v":"A"},{"$f":"IF(Attendance($C12,'Daily Register'!KC$3:KC$242)=TRUE,\"P\",\"A\")","v":"A"},{"$f":"IF(Attendance($C12,'Daily Register'!KD$3:KD$242)=TRUE,\"P\",\"A\")","v":"A"},{"$f":"IF(Attendance($C12,'Daily Register'!KE$3:KE$242)=TRUE,\"P\",\"A\")","v":"A"},{"$f":"IF(Attendance($C12,'Daily Register'!KF$3:KF$242)=TRUE,\"P\",\"A\")","v":"A"},{"$f":"IF(Attendance($C12,'Daily Register'!KG$3:KG$242)=TRUE,\"P\",\"A\")","v":"A"},{"$f":"IF(Attendance($C12,'Daily Register'!KH$3:KH$242)=TRUE,\"P\",\"A\")","v":"A"},{"$f":"IF(Attendance($C12,'Daily Register'!KI$3:KI$242)=TRUE,\"P\",\"A\")","v":"A"},{"$f":"IF(Attendance($C12,'Daily Register'!KJ$3:KJ$242)=TRUE,\"P\",\"A\")","v":"A"},{"$f":"IF(Attendance($C12,'Daily Register'!KK$3:KK$242)=TRUE,\"P\",\"A\")","v":"A"},{"$f":"IF(Attendance($C12,'Daily Register'!KL$3:KL$242)=TRUE,\"P\",\"A\")","v":"A"},{"$f":"IF(Attendance($C12,'Daily Register'!KM$3:KM$242)=TRUE,\"P\",\"A\")","v":"A"},{"$f":"IF(Attendance($C12,'Daily Register'!KN$3:KN$242)=TRUE,\"P\",\"A\")","v":"A"},{"$f":"IF(Attendance($C12,'Daily Register'!KO$3:KO$242)=TRUE,\"P\",\"A\")","v":"A"},{"$f":"IF(Attendance($C12,'Daily Register'!KP$3:KP$242)=TRUE,\"P\",\"A\")","v":"A"},{"$f":"IF(Attendance($C12,'Daily Register'!KQ$3:KQ$242)=TRUE,\"P\",\"A\")","v":"A"},{"$f":"IF(Attendance($C12,'Daily Register'!KR$3:KR$242)=TRUE,\"P\",\"A\")","v":"A"},{"$f":"IF(Attendance($C12,'Daily Register'!KS$3:KS$242)=TRUE,\"P\",\"A\")","v":"A"},{"$f":"IF(Attendance($C12,'Daily Register'!KT$3:KT$242)=TRUE,\"P\",\"A\")","v":"A"},{"$f":"IF(Attendance($C12,'Daily Register'!KU$3:KU$242)=TRUE,\"P\",\"A\")","v":"A"},{"$f":"IF(Attendance($C12,'Daily Register'!KV$3:KV$242)=TRUE,\"P\",\"A\")","v":"A"},{"$f":"IF(Attendance($C12,'Daily Register'!KW$3:KW$242)=TRUE,\"P\",\"A\")","v":"A"},{"$f":"IF(Attendance($C12,'Daily Register'!KX$3:KX$242)=TRUE,\"P\",\"A\")","v":"A"},{"$f":"IF(Attendance($C12,'Daily Register'!KY$3:KY$242)=TRUE,\"P\",\"A\")","v":"A"},{"$f":"IF(Attendance($C12,'Daily Register'!KZ$3:KZ$242)=TRUE,\"P\",\"A\")","v":"A"},{"$f":"IF(Attendance($C12,'Daily Register'!LA$3:LA$242)=TRUE,\"P\",\"A\")","v":"A"},{"$f":"IF(Attendance($C12,'Daily Register'!LB$3:LB$242)=TRUE,\"P\",\"A\")","v":"A"},{"$f":"IF(Attendance($C12,'Daily Register'!LC$3:LC$242)=TRUE,\"P\",\"A\")","v":"A"},{"$f":"IF(Attendance($C12,'Daily Register'!LD$3:LD$242)=TRUE,\"P\",\"A\")","v":"A"},{"$f":"IF(Attendance($C12,'Daily Register'!LE$3:LE$242)=TRUE,\"P\",\"A\")","v":"A"},{"$f":"IF(Attendance($C12,'Daily Register'!LF$3:LF$242)=TRUE,\"P\",\"A\")","v":"A"},{"$f":"IF(Attendance($C12,'Daily Register'!LG$3:LG$242)=TRUE,\"P\",\"A\")","v":"A"},{"$f":"IF(Attendance($C12,'Daily Register'!LH$3:LH$242)=TRUE,\"P\",\"A\")","v":"A"},{"$f":"IF(Attendance($C12,'Daily Register'!LI$3:LI$242)=TRUE,\"P\",\"A\")","v":"A"},{"$f":"IF(Attendance($C12,'Daily Register'!LJ$3:LJ$242)=TRUE,\"P\",\"A\")","v":"A"},{"$f":"IF(Attendance($C12,'Daily Register'!LK$3:LK$242)=TRUE,\"P\",\"A\")","v":"A"},{"$f":"IF(Attendance($C12,'Daily Register'!LL$3:LL$242)=TRUE,\"P\",\"A\")","v":"A"},{"$f":"IF(Attendance($C12,'Daily Register'!LM$3:LM$242)=TRUE,\"P\",\"A\")","v":"A"},{"$f":"IF(Attendance($C12,'Daily Register'!LN$3:LN$242)=TRUE,\"P\",\"A\")","v":"A"},{"$f":"IF(Attendance($C12,'Daily Register'!LO$3:LO$242)=TRUE,\"P\",\"A\")","v":"A"},{"$f":"IF(Attendance($C12,'Daily Register'!LP$3:LP$242)=TRUE,\"P\",\"A\")","v":"A"},{"$f":"IF(Attendance($C12,'Daily Register'!LQ$3:LQ$242)=TRUE,\"P\",\"A\")","v":"A"},{"$f":"IF(Attendance($C12,'Daily Register'!LR$3:LR$242)=TRUE,\"P\",\"A\")","v":"A"},{"$f":"IF(Attendance($C12,'Daily Register'!LS$3:LS$242)=TRUE,\"P\",\"A\")","v":"A"},{"$f":"IF(Attendance($C12,'Daily Register'!LT$3:LT$242)=TRUE,\"P\",\"A\")","v":"A"},{"$f":"IF(Attendance($C12,'Daily Register'!LU$3:LU$242)=TRUE,\"P\",\"A\")","v":"A"},{"$f":"IF(Attendance($C12,'Daily Register'!LV$3:LV$242)=TRUE,\"P\",\"A\")","v":"A"},{"$f":"IF(Attendance($C12,'Daily Register'!LW$3:LW$242)=TRUE,\"P\",\"A\")","v":"A"},{"$f":"IF(Attendance($C12,'Daily Register'!LX$3:LX$242)=TRUE,\"P\",\"A\")","v":"A"},{"$f":"IF(Attendance($C12,'Daily Register'!LY$3:LY$242)=TRUE,\"P\",\"A\")","v":"A"},{"$f":"IF(Attendance($C12,'Daily Register'!LZ$3:LZ$242)=TRUE,\"P\",\"A\")","v":"A"},{"$f":"IF(Attendance($C12,'Daily Register'!MA$3:MA$242)=TRUE,\"P\",\"A\")","v":"A"},{"$f":"IF(Attendance($C12,'Daily Register'!MB$3:MB$242)=TRUE,\"P\",\"A\")","v":"A"},{"$f":"IF(Attendance($C12,'Daily Register'!MC$3:MC$242)=TRUE,\"P\",\"A\")","v":"A"},{"$f":"IF(Attendance($C12,'Daily Register'!MD$3:MD$242)=TRUE,\"P\",\"A\")","v":"A"},{"$f":"IF(Attendance($C12,'Daily Register'!ME$3:ME$242)=TRUE,\"P\",\"A\")","v":"A"},{"$f":"IF(Attendance($C12,'Daily Register'!MF$3:MF$242)=TRUE,\"P\",\"A\")","v":"A"},{"$f":"IF(Attendance($C12,'Daily Register'!MG$3:MG$242)=TRUE,\"P\",\"A\")","v":"A"},{"$f":"IF(Attendance($C12,'Daily Register'!MH$3:MH$242)=TRUE,\"P\",\"A\")","v":"A"},{"$f":"IF(Attendance($C12,'Daily Register'!MI$3:MI$242)=TRUE,\"P\",\"A\")","v":"A"},{"$f":"IF(Attendance($C12,'Daily Register'!MJ$3:MJ$242)=TRUE,\"P\",\"A\")","v":"A"},{"$f":"IF(Attendance($C12,'Daily Register'!MK$3:MK$242)=TRUE,\"P\",\"A\")","v":"A"},{"$f":"IF(Attendance($C12,'Daily Register'!ML$3:ML$242)=TRUE,\"P\",\"A\")","v":"A"},{"$f":"IF(Attendance($C12,'Daily Register'!MM$3:MM$242)=TRUE,\"P\",\"A\")","v":"A"},{"$f":"IF(Attendance($C12,'Daily Register'!MN$3:MN$242)=TRUE,\"P\",\"A\")","v":"A"},{"$f":"IF(Attendance($C12,'Daily Register'!MO$3:MO$242)=TRUE,\"P\",\"A\")","v":"A"},{"$f":"IF(Attendance($C12,'Daily Register'!MP$3:MP$242)=TRUE,\"P\",\"A\")","v":"A"},{"$f":"IF(Attendance($C12,'Daily Register'!MQ$3:MQ$242)=TRUE,\"P\",\"A\")","v":"A"},{"$f":"IF(Attendance($C12,'Daily Register'!MR$3:MR$242)=TRUE,\"P\",\"A\")","v":"A"},{"$f":"IF(Attendance($C12,'Daily Register'!MS$3:MS$242)=TRUE,\"P\",\"A\")","v":"A"},{"$f":"IF(Attendance($C12,'Daily Register'!MT$3:MT$242)=TRUE,\"P\",\"A\")","v":"A"},{"$f":"IF(Attendance($C12,'Daily Register'!MU$3:MU$242)=TRUE,\"P\",\"A\")","v":"A"},{"$f":"IF(Attendance($C12,'Daily Register'!MV$3:MV$242)=TRUE,\"P\",\"A\")","v":"A"},{"$f":"IF(Attendance($C12,'Daily Register'!MW$3:MW$242)=TRUE,\"P\",\"A\")","v":"A"},{"$f":"IF(Attendance($C12,'Daily Register'!MX$3:MX$242)=TRUE,\"P\",\"A\")","v":"A"},{"$f":"IF(Attendance($C12,'Daily Register'!MY$3:MY$242)=TRUE,\"P\",\"A\")","v":"A"},{"$f":"IF(Attendance($C12,'Daily Register'!MZ$3:MZ$242)=TRUE,\"P\",\"A\")","v":"A"},{"$f":"IF(Attendance($C12,'Daily Register'!NA$3:NA$242)=TRUE,\"P\",\"A\")","v":"A"},{"$f":"IF(Attendance($C12,'Daily Register'!NB$3:NB$242)=TRUE,\"P\",\"A\")","v":"A"}]
[0,null,10,null,{"$f":"IF(Attendance($C13,'Daily Register'!A$3:A$242)=TRUE,\"P\",\"A\")","v":"A"},{"$f":"IF(Attendance($C13,'Daily Register'!B$3:B$242)=TRUE,\"P\",\"A\")","v":"A"},{"$f":"IF(Attendance($C13,'Daily Register'!C$3:C$242)=TRUE,\"P\",\"A\")","v":"A"},{"$f":"IF(Attendance($C13,'Daily Register'!D$3:D$242)=TRUE,\"P\",\"A\")","v":"A"},{"$f":"IF(Attendance($C13,'Daily Register'!E$3:E$242)=TRUE,\"P\",\"A\")","v":"A"},{"$f":"IF(Attendance($C13,'Daily Register'!F$3:F$242)=TRUE,\"P\",\"A\")","v":"A"},{"$f":"IF(Attendance($C13,'Daily Register'!G$3:G$242)=TRUE,\"P\",\"A\")","v":"A"},{"$f":"IF(Attendance($C13,'Daily Register'!H$3:H$242)=TRUE,\"P\",\"A\")","v":"A"},{"$f":"IF(Attendance($C13,'Daily Register'!I$3:I$242)=TRUE,\"P\",\"A\")","v":"A"},{"$f":"IF(Attendance($C13,'Daily Register'!J$3:J$242)=TRUE,\"P\",\"A\")","v":"A"},{"$f":"IF(Attendance($C13,'Daily Register'!K$3:K$242)=TRUE,\"P\",\"A\")","v":"A"},{"$f":"IF(Attendance($C13,'Daily Register'!L$3:L$242)=TRUE,\"P\",\"A\")","v":"A"},{"$f":"IF(Attendance($C13,'Daily Register'!M$3:M$242)=TRUE,\"P\",\"A\")","v":"A"},{"$f":"IF(Attendance($C13,'Daily Register'!N$3:N$242)=TRUE,\"P\",\"A\")","v":"A"},{"$f":"IF(Attendance($C13,'Daily Register'!O$3:O$242)=TRUE,\"P\",\"A\")","v":"A"},{"$f":"IF(Attendance($C13,'Daily Register'!P$3:P$242)=TRUE,\"P\",\"A\")","v":"A"},{"$f":"IF(Attendance($C13,'Daily Register'!Q$3:Q$242)=TRUE,\"P\",\"A\")","v":"A"},{"$f":"IF(Attendance($C13,'Daily Register'!R$3:R$242)=TRUE,\"P\",\"A\")","v":"A"},{"$f":"IF(Attendance($C13,'Daily Register'!S$3:S$242)=TRUE,\"P\",\"A\")","v":"A"},{"$f":"IF(Attendance($C13,'Daily Register'!T$3:T$242)=TRUE,\"P\",\"A\")","v":"A"},{"$f":"IF(Attendance($C13,'Daily Register'!U$3:U$242)=TRUE,\"P\",\"A\")","v":"A"},{"$f":"IF(Attendance($C13,'Daily Register'!V$3:V$242)=TRUE,\"P\",\"A\")","v":"A"},{"$f":"IF(Attendance($C13,'Daily Register'!W$3:W$242)=TRUE,\"P\",\"A\")","v":"A"},{"$f":"IF(Attendance($C13,'Daily Register'!X$3:X$242)=TRUE,\"P\",\"A\")","v":"A"},{"$f":"IF(Attendance($C13,'Daily Register'!Y$3:Y$242)=TRUE,\"P\",\"A\")","v":"A"},{"$f":"IF(Attendance($C13,'Daily Register'!Z$3:Z$242)=TRUE,\"P\",\"A\")","v":"A"},{"$f":"IF(Attendance($C13,'Daily Register'!AA$3:AA$242)=TRUE,\"P\",\"A\")","v":"A"},{"$f":"IF(Attendance($C13,'Daily Register'!AB$3:AB$242)=TRUE,\"P\",\"A\")","v":"A"},{"$f":"IF(Attendance($C13,'Daily Register'!AC$3:AC$242)=TRUE,\"P\",\"A\")","v":"A"},{"$f":"IF(Attendance($C13,'Daily Register'!AD$3:AD$242)=TRUE,\"P\",\"A\")","v":"A"},{"$f":"IF(Attendance($C13,'Daily Register'!AE$3:AE$242)=TRUE,\"P\",\"A\")","v":"A"},{"$f":"IF(Attendance($C13,'Daily Register'!AF$3:AF$242)=TRUE,\"P\",\"A\")","v":"A"},{"$f":"IF(Attendance($C13,'Daily Register'!AG$3:AG$242)=TRUE,\"P\",\"A\")","v":"A"},{"$f":"IF(Attendance($C13,'Daily Register'!AH$3:AH$242)=TRUE,\"P\",\"A\")","v":"A"},{"$f":"IF(Attendance($C13,'Daily Register'!AI$3:AI$242)=TRUE,\"P\",\"A\")","v":"A"},{"$f":"IF(Attendance($C13,'Daily Register'!AJ$3:AJ$242)=TRUE,\"P\",\"A\")","v":"A"},{"$f":"IF(Attendance($C13,'Daily Register'!AK$3:AK$242)=TRUE,\"P\",\"A\")","v":"A"},{"$f":"IF(Attendance($C13,'Daily Register'!AL$3:AL$242)=TRUE,\"P\",\"A\")","v":"A"},{"$f":"IF(Attendance($C13,'Daily Register'!AM$3:AM$242)=TRUE,\"P\",\"A\")","v":"A"},{"$f":"IF(Attendance($C13,'Daily Register'!AN$3:AN$242)=TRUE,\"P\",\"A\")","v":"A"},{"$f":"IF(Attendance($C13,'Daily Register'!AO$3:AO$242)=TRUE,\"P\",\"A\")","v":"A"},{"$f":"IF(Attendance($C13,'Daily Register'!AP$3:AP$242)=TRUE,\"P\",\"A\")","v":"A"},{"$f":"IF(Attendance($C13,'Daily Register'!AQ$3:AQ$242)=TRUE,\"P\",\"A\")","v":"A"},{"$f":"IF(Attendance($C13,'Daily Register'!AR$3:AR$242)=TRUE,\"P\",\"A\")","v":"A"},{"$f":"IF(Attendance($C13,'Daily Register'!AS$3:AS$242)=TRUE,\"P\",\"A\")","v":"A"},{"$f":"IF(Attendance($C13,'Daily Register'!AT$3:AT$242)=TRUE,\"P\",\"A\")","v":"A"},{"$f":"IF(Attendance($C13,'Daily Register'!AU$3:AU$242)=TRUE,\"P\",\"A\")","v":"A"},{"$f":"IF(Attendance($C13,'Daily Register'!AV$3:AV$242)=TRUE,\"P\",\"A\")","v":"A"},{"$f":"IF(Attendance($C13,'Daily Register'!AW$3:AW$242)=TRUE,\"P\",\"A\")","v":"A"},{"$f":"IF(Attendance($C13,'Daily Register'!AX$3:AX$242)=TRUE,\"P\",\"A\")","v":"A"},{"$f":"IF(Attendance($C13,'Daily Register'!AY$3:AY$242)=TRUE,\"P\",\"A\")","v":"A"},{"$f":"IF(Attendance($C13,'Daily Register'!AZ$3:AZ$242)=TRUE,\"P\",\"A\")","v":"A"},{"$f":"IF(Attendance($C13,'Daily Register'!BA$3:BA$242)=TRUE,\"P\",\"A\")","v":"A"},{"$f":"IF(Attendance($C13,'Daily Register'!BB$3:BB$242)=TRUE,\"P\",\"A\")","v":"A"},{"$f":"IF(Attendance($C13,'Daily Register'!BC$3:BC$242)=TRUE,\"P\",\"A\")","v":"A"},{"$f":"IF(Attendance($C13,'Daily Register'!BD$3:BD$242)=TRUE,\"P\",\"A\")","v":"A"},{"$f":"IF(Attendance($C13,'Daily Register'!BE$3:BE$242)=TRUE,\"P\",\"A\")","v":"A"},{"$f":"IF(Attendance($C13,'Daily Register'!BF$3:BF$242)=TRUE,\"P\",\"A\")","v":"A"},{"$f":"IF(Attendance($C13,'Daily Register'!BG$3:BG$242)=TRUE,\"P\",\"A\")","v":"A"},{"$f":"IF(Attendance($C13,'Daily Register'!BH$3:BH$242)=TRUE,\"P\",\"A\")","v":"A"},{"$f":"IF(Attendance($C13,'Daily Register'!BI$3:BI$242)=TRUE,\"P\",\"A\")","v":"A"},{"$f":"IF(Attendance($C13,'Daily Register'!BJ$3:BJ$242)=TRUE,\"P\",\"A\")","v":"A"},{"$f":"IF(Attendance($C13,'Daily Register'!BK$3:BK$242)=TRUE,\"P\",\"A\")","v":"A"},{"$f":"IF(Attendance($C13,'Daily Register'!BL$3:BL$242)=TRUE,\"P\",\"A\")","v":"A"},{"$f":"IF(Attendance($C13,'Daily Register'!BM$3:BM$242)=TRUE,\"P\",\"A\")","v":"A"},{"$f":"IF(Attendance($C13,'Daily Register'!BN$3:BN$242)=TRUE,\"P\",\"A\")","v":"A"},{"$f":"IF(Attendance($C13,'Daily Register'!BO$3:BO$242)=TRUE,\"P\",\"A\")","v":"A"},{"$f":"IF(Attendance($C13,'Daily Register'!BP$3:BP$242)=TRUE,\"P\",\"A\")","v":"A"},{"$f":"IF(Attendance($C13,'Daily Register'!BQ$3:BQ$242)=TRUE,\"P\",\"A\")","v":"A"},{"$f":"IF(Attendance($C13,'Daily Register'!BR$3:BR$242)=TRUE,\"P\",\"A\")","v":"A"},{"$f":"IF(Attendance($C13,'Daily Register'!BS$3:BS$242)=TRUE,\"P\",\"A\")","v":"A"},{"$f":"IF(Attendance($C13,'Daily Register'!BT$3:BT$242)=TRUE,\"P\",\"A\")","v":"A"},{"$f":"IF(Attendance($C13,'Daily Register'!BU$3:BU$242)=TRUE,\"P\",\"A\")","v":"A"},{"$f":"IF(Attendance($C13,'Daily Register'!BV$3:BV$242)=TRUE,\"P\",\"A\")","v":"A"},{"$f":"IF(Attendance($C13,'Daily Register'!BW$3:BW$242)=TRUE,\"P\",\"A\")","v":"A"},{"$f":"IF(Attendance($C13,'Daily Register'!BX$3:BX$242)=TRUE,\"P\",\"A\")","v":"A"},{"$f":"IF(Attendance($C13,'Daily Register'!BY$3:BY$242)=TRUE,\"P\",\"A\")","v":"A"},{"$f":"IF(Attendance($C13,'Daily Register'!BZ$3:BZ$242)=TRUE,\"P\",\"A\")","v":"A"},{"$f":"IF(Attendance($C13,'Daily Register'!CA$3:CA$242)=TRUE,\"P\",\"A\")","v":"A"},{"$f":"IF(Attendance($C13,'Daily Register'!CB$3:CB$242)=TRUE,\"P\",\"A\")","v":"A"},{"$f":"IF(Attendance($C13,'Daily Register'!CC$3:CC$242)=TRUE,\"P\",\"A\")","v":"A"},{"$f":"IF(Attendance($C13,'Daily Register'!CD$3:CD$242)=TRUE,\"P\",\"A\")","v":"A"},{"$f":"IF(Attendance($C13,'Daily Register'!CE$3:CE$242)=TRUE,\"P\",\"A\")","v":"A"},{"$f":"IF(Attendance($C13,'Daily Register'!CF$3:CF$242)=TRUE,\"P\",\"A\")","v":"A"},{"$f":"IF(Attendance($C13,'Daily Register'!CG$3:CG$242)=TRUE,\"P\",\"A\")","v":"A"},{"$f":"IF(Attendance($C13,'Daily Register'!CH$3:CH$242)=TRUE,\"P\",\"A\")","v":"A"},{"$f":"IF(Attendance($C13,'Daily Register'!CI$3:CI$242)=TRUE,\"P\",\"A\")","v":"A"},{"$f":"IF(Attendance($C13,'Daily Register'!CJ$3:CJ$242)=TRUE,\"P\",\"A\")","v":"A"},{"$f":"IF(Attendance($C13,'Daily Register'!CK$3:CK$242)=TRUE,\"P\",\"A\")","v":"A"},{"$f":"IF(Attendance($C13,'Daily Register'!CL$3:CL$242)=TRUE,\"P\",\"A\")","v":"A"},{"$f":"IF(Attendance($C13,'Daily Register'!CM$3:CM$242)=TRUE,\"P\",\"A\")","v":"A"},{"$f":"IF(Attendance($C13,'Daily Register'!CN$3:CN$242)=TRUE,\"P\",\"A\")","v":"A"},{"$f":"IF(Attendance($C13,'Daily Register'!CO$3:CO$242)=TRUE,\"P\",\"A\")","v":"A"},{"$f":"IF(Attendance($C13,'Daily Register'!CP$3:CP$242)=TRUE,\"P\",\"A\")","v":"A"},{"$f":"IF(Attendance($C13,'Daily Register'!CQ$3:CQ$242)=TRUE,\"P\",\"A\")","v":"A"},{"$f":"IF(Attendance($C13,'Daily Register'!CR$3:CR$242)=TRUE,\"P\",\"A\")","v":"A"},{"$f":"IF(Attendance($C13,'Daily Register'!CS$3:CS$242)=TRUE,\"P\",\"A\")","v":"A"},{"$f":"IF(Attendance($C13,'Daily Register'!CT$3:CT$242)=TRUE,\"P\",\"A\")","v":"A"},{"$f":"IF(Attendance($C13,'Daily Register'!CU$3:CU$242)=TRUE,\"P\",\"A\")","v":"A"},{"$f":"IF(Attendance($C13,'Daily Register'!CV$3:CV$242)=TRUE,\"P\",\"A\")","v":"A"},{"$f":"IF(Attendance($C13,'Daily Register'!CW$3:CW$242)=TRUE,\"P\",\"A\")","v":"A"},{"$f":"IF(Attendance($C13,'Daily Register'!CX$3:CX$242)=TRUE,\"P\",\"A\")","v":"A"},{"$f":"IF(Attendance($C13,'Daily Register'!CY$3:CY$242)=TRUE,\"P\",\"A\")","v":"A"},{"$f":"IF(Attendance($C13,'Daily Register'!CZ$3:CZ$242)=TRUE,\"P\",\"A\")","v":"A"},{"$f":"IF(Attendance($C13,'Daily Register'!DA$3:DA$242)=TRUE,\"P\",\"A\")","v":"A"},{"$f":"IF(Attendance($C13,'Daily Register'!DB$3:DB$242)=TRUE,\"P\",\"A\")","v":"A"},{"$f":"IF(Attendance($C13,'Daily Register'!DC$3:DC$242)=TRUE,\"P\",\"A\")","v":"A"},{"$f":"IF(Attendance($C13,'Daily Register'!DD$3:DD$242)=TRUE,\"P\",\"A\")","v":"A"},{"$f":"IF(Attendance($C13,'Daily Register'!DE$3:DE$242)=TRUE,\"P\",\"A\")","v":"A"},{"$f":"IF(Attendance($C13,'Daily Register'!DF$3:DF$242)=TRUE,\"P\",\"A\")","v":"A"},{"$f":"IF(Attendance($C13,'Daily Register'!DG$3:DG$242)=TRUE,\"P\",\"A\")","v":"A"},{"$f":"IF(Attendance($C13,'Daily Register'!DH$3:DH$242)=TRUE,\"P\",\"A\")","v":"A"},{"$f":"IF(Attendance($C13,'Daily Register'!DI$3:DI$242)=TRUE,\"P\",\"A\")","v":"A"},{"$f":"IF(Attendance($C13,'Daily Register'!DJ$3:DJ$242)=TRUE,\"P\",\"A\")","v":"A"},{"$f":"IF(Attendance($C13,'Daily Register'!DK$3:DK$242)=TRUE,\"P\",\"A\")","v":"A"},{"$f":"IF(Attendance($C13,'Daily Register'!DL$3:DL$242)=TRUE,\"P\",\"A\")","v":"A"},{"$f":"IF(Attendance($C13,'Daily Register'!DM$3:DM$242)=TRUE,\"P\",\"A\")","v":"A"},{"$f":"IF(Attendance($C13,'Daily Register'!DN$3:DN$242)=TRUE,\"P\",\"A\")","v":"A"},{"$f":"IF(Attendance($C13,'Daily Register'!DO$3:DO$242)=TRUE,\"P\",\"A\")","v":"A"},{"$f":"IF(Attendance($C13,'Daily Register'!DP$3:DP$242)=TRUE,\"P\",\"A\")","v":"A"},{"$f":"IF(Attendance($C13,'Daily Register'!DQ$3:DQ$242)=TRUE,\"P\",\"A\")","v":"A"},{"$f":"IF(Attendance($C13,'Daily Register'!DR$3:DR$242)=TRUE,\"P\",\"A\")","v":"A"},{"$f":"IF(Attendance($C13,'Daily Register'!DS$3:DS$242)=TRUE,\"P\",\"A\")","v":"A"},{"$f":"IF(Attendance($C13,'Daily Register'!DT$3:DT$242)=TRUE,\"P\",\"A\")","v":"A"},{"$f":"IF(Attendance($C13,'Daily Register'!DU$3:DU$242)=TRUE,\"P\",\"A\")","v":"A"},{"$f":"IF(Attendance($C13,'Daily Register'!DV$3:DV$242)=TRUE,\"P\",\"A\")","v":"A"},{"$f":"IF(Attendance($C13,'Daily Register'!DW$3:DW$242)=TRUE,\"P\",\"A\")","v":"A"},{"$f":"IF(Attendance($C13,'Daily Register'!DX$3:DX$242)=TRUE,\"P\",\"A\")","v":"A"},{"$f":"IF(Attendance($C13,'Daily Register'!DY$3:DY$242)=TRUE,\"P\",\"A\")","v":"A"},{"$f":"IF(Attendance($C13,'Daily Register'!DZ$3:DZ$242)=TRUE,\"P\",\"A\")","v":"A"},{"$f":"IF(Attendance($C13,'Daily Register'!EA$3:EA$242)=TRUE,\"P\",\"A\")","v":"A"},{"$f":"IF(Attendance($C13,'Daily Register'!EB$3:EB$242)=TRUE,\"P\",\"A\")","v":"A"},{"$f":"IF(Attendance($C13,'Daily Register'!EC$3:EC$242)=TRUE,\"P\",\"A\")","v":"A"},{"$f":"IF(Attendance($C13,'Daily Register'!ED$3:ED$242)=TRUE,\"P\",\"A\")","v":"A"},{"$f":"IF(Attendance($C13,'Daily Register'!EE$3:EE$242)=TRUE,\"P\",\"A\")","v":"A"},{"$f":"IF(Attendance($C13,'Daily Register'!EF$3:EF$242)=TRUE,\"P\",\"A\")","v":"A"},{"$f":"IF(Attendance($C13,'Daily Register'!EG$3:EG$242)=TRUE,\"P\",\"A\")","v":"A"},{"$f":"IF(Attendance($C13,'Daily Register'!EH$3:EH$242)=TRUE,\"P\",\"A\")","v":"A"},{"$f":"IF(Attendance($C13,'Daily Register'!EI$3:EI$242)=TRUE,\"P\",\"A\")","v":"A"},{"$f":"IF(Attendance($C13,'Daily Register'!EJ$3:EJ$242)=TRUE,\"P\",\"A\")","v":"A"},{"$f":"IF(Attendance($C13,'Daily Register'!EK$3:EK$242)=TRUE,\"P\",\"A\")","v":"A"},{"$f":"IF(Attendance($C13,'Daily Register'!EL$3:EL$242)=TRUE,\"P\",\"A\")","v":"A"},{"$f":"IF(Attendance($C13,'Daily Register'!EM$22:EM$242)=TRUE,\"P\",\"A\")","v":"A"},{"$f":"IF(Attendance($C13,'Daily Register'!EN$3:EN$242)=TRUE,\"P\",\"A\")","v":"A"},{"$f":"IF(Attendance($C13,'Daily Register'!EO$3:EO$242)=TRUE,\"P\",\"A\")","v":"A"},{"$f":"IF(Attendance($C13,'Daily Register'!EP$3:EP$242)=TRUE,\"P\",\"A\")","v":"A"},{"$f":"IF(Attendance($C13,'Daily Register'!EQ$3:EQ$242)=TRUE,\"P\",\"A\")","v":"A"},{"$f":"IF(Attendance($C13,'Daily Register'!ER$3:ER$242)=TRUE,\"P\",\"A\")","v":"A"},{"$f":"IF(Attendance($C13,'Daily Register'!ES$3:ES$242)=TRUE,\"P\",\"A\")","v":"A"},{"$f":"IF(Attendance($C13,'Daily Register'!ET$3:ET$242)=TRUE,\"P\",\"A\")","v":"A"},{"$f":"IF(Attendance($C13,'Daily Register'!EU$3:EU$242)=TRUE,\"P\",\"A\")","v":"A"},{"$f":"IF(Attendance($C13,'Daily Register'!EV$3:EV$242)=TRUE,\"P\",\"A\")","v":"A"},{"$f":"IF(Attendance($C13,'Daily Register'!EW$3:EW$242)=TRUE,\"P\",\"A\")","v":"A"},{"$f":"IF(Attendance($C13,'Daily Register'!EX$3:EX$242)=TRUE,\"P\",\"A\")","v":"A"},{"$f":"IF(Attendance($C13,'Daily Register'!EY$3:EY$242)=TRUE,\"P\",\"A\")","v":"A"},{"$f":"IF(Attendance($C13,'Daily Register'!EZ$3:EZ$242)=TRUE,\"P\",\"A\")","v":"A"},{"$f":"IF(Attendance($C13,'Daily Register'!FA$3:FA$242)=TRUE,\"P\",\"A\")","v":"A"},{"$f":"IF(Attendance($C13,'Daily Register'!FB$3:FB$242)=TRUE,\"P\",\"A\")","v":"A"},{"$f":"IF(Attendance($C13,'Daily Register'!FC$3:FC$242)=TRUE,\"P\",\"A\")","v":"A"},{"$f":"IF(Attendance($C13,'Daily Register'!FD$3:FD$242)=TRUE,\"P\",\"A\")","v":"A"},{"$f":"IF(Attendance($C13,'Daily Register'!FE$3:FE$242)=TRUE,\"P\",\"A\")","v":"A"},{"$f":"IF(Attendance($C13,'Daily Register'!FF$3:FF$242)=TRUE,\"P\",\"A\")","v":"A"},{"$f":"IF(Attendance($C13,'Daily Register'!FG$3:FG$242)=TRUE,\"P\",\"A\")","v":"A"},{"$f":"IF(Attendance($C13,'Daily Register'!FH$3:FH$242)=TRUE,\"P\",\"A\")","v":"A"},{"$f":"IF(Attendance($C13,'Daily Register'!FI$3:FI$242)=TRUE,\"P\",\"A\")","v":"A"},{"$f":"IF(Attendance($C13,'Daily Register'!FJ$3:FJ$242)=TRUE,\"P\",\"A\")","v":"A"},{"$f":"IF(Attendance($C13,'Daily Register'!FK$3:FK$242)=TRUE,\"P\",\"A\")","v":"A"},{"$f":"IF(Attendance($C13,'Daily Register'!FL$3:FL$242)=TRUE,\"P\",\"A\")","v":"A"},{"$f":"IF(Attendance($C13,'Daily Register'!FM$3:FM$242)=TRUE,\"P\",\"A\")","v":"A"},{"$f":"IF(Attendance($C13,'Daily Register'!FN$3:FN$242)=TRUE,\"P\",\"A\")","v":"A"},{"$f":"IF(Attendance($C13,'Daily Register'!FO$3:FO$242)=TRUE,\"P\",\"A\")","v":"A"},{"$f":"IF(Attendance($C13,'Daily Register'!FP$3:FP$242)=TRUE,\"P\",\"A\")","v":"A"},{"$f":"IF(Attendance($C13,'Daily Register'!FQ$3:FQ$242)=TRUE,\"P\",\"A\")","v":"A"},{"$f":"IF(Attendance($C13,'Daily Register'!FR$3:FR$242)=TRUE,\"P\",\"A\")","v":"A"},{"$f":"IF(Attendance($C13,'Daily Register'!FS$3:FS$242)=TRUE,\"P\",\"A\")","v":"A"},{"$f":"IF(Attendance($C13,'Daily Register'!FT$3:FT$242)=TRUE,\"P\",\"A\")","v":"A"},{"$f":"IF(Attendance($C13,'Daily Register'!FU$3:FU$242)=TRUE,\"P\",\"A\")","v":"A"},{"$f":"IF(Attendance($C13,'Daily Register'!FV$3:FV$242)=TRUE,\"P\",\"A\")","v":"A"},{"$f":"IF(Attendance($C13,'Daily Register'!FW$3:FW$242)=TRUE,\"P\",\"A\")","v":"A"},{"$f":"IF(Attendance($C13,'Daily Register'!FX$3:FX$242)=TRUE,\"P\",\"A\")","v":"A"},{"$f":"IF(Attendance($C13,'Daily Register'!FY$3:FY$242)=TRUE,\"P\",\"A\")","v":"A"},{"$f":"IF(Attendance($C13,'Daily Register'!FZ$3:FZ$242)=TRUE,\"P\",\"A\")","v":"A"},{"$f":"IF(Attendance($C13,'Daily Register'!GA$3:GA$242)=TRUE,\"P\",\"A\")","v":"A"},{"$f":"IF(Attendance($C13,'Daily Register'!GB$3:GB$242)=TRUE,\"P\",\"A\")","v":"A"},{"$f":"IF(Attendance($C13,'Daily Register'!GC$3:GC$242)=TRUE,\"P\",\"A\")","v":"A"},{"$f":"IF(Attendance($C13,'Daily Register'!GD$3:GD$242)=TRUE,\"P\",\"A\")","v":"A"},{"$f":"IF(Attendance($C13,'Daily Register'!GE$3:GE$242)=TRUE,\"P\",\"A\")","v":"A"},{"$f":"IF(Attendance($C13,'Daily Register'!GF$3:GF$242)=TRUE,\"P\",\"A\")","v":"A"},{"$f":"IF(Attendance($C13,'Daily Register'!GG$3:GG$242)=TRUE,\"P\",\"A\")","v":"A"},{"$f":"IF(Attendance($C13,'Daily Register'!GH$3:GH$242)=TRUE,\"P\",\"A\")","v":"A"},{"$f":"IF(Attendance($C13,'Daily Register'!GI$3:GI$242)=TRUE,\"P\",\"A\")","v":"A"},{"$f":"IF(Attendance($C13,'Daily Register'!GJ$3:GJ$242)=TRUE,\"P\",\"A\")","v":"A"},{"$f":"IF(Attendance($C13,'Daily Register'!GK$3:GK$242)=TRUE,\"P\",\"A\")","v":"A"},{"$f":"IF(Attendance($C13,'Daily Register'!GL$3:GL$242)=TRUE,\"P\",\"A\")","v":"A"},{"$f":"IF(Attendance($C13,'Daily Register'!GM$3:GM$242)=TRUE,\"P\",\"A\")","v":"A"},{"$f":"IF(Attendance($C13,'Daily Register'!GN$3:GN$242)=TRUE,\"P\",\"A\")","v":"A"},{"$f":"IF(Attendance($C13,'Daily Register'!GO$3:GO$242)=TRUE,\"P\",\"A\")","v":"A"},{"$f":"IF(Attendance($C13,'Daily Register'!GP$3:GP$242)=TRUE,\"P\",\"A\")","v":"A"},{"$f":"IF(Attendance($C13,'Daily Register'!GQ$3:GQ$242)=TRUE,\"P\",\"A\")","v":"A"},{"$f":"IF(Attendance($C13,'Daily Register'!GR$3:GR$242)=TRUE,\"P\",\"A\")","v":"A"},{"$f":"IF(Attendance($C13,'Daily Register'!GS$3:GS$242)=TRUE,\"P\",\"A\")","v":"A"},{"$f":"IF(Attendance($C13,'Daily Register'!GT$3:GT$242)=TRUE,\"P\",\"A\")","v":"A"},{"$f":"IF(Attendance($C13,'Daily Register'!GU$3:GU$242)=TRUE,\"P\",\"A\")","v":"A"},{"$f":"IF(Attendance($C13,'Daily Register'!GV$3:GV$242)=TRUE,\"P\",\"A\")","v":"A"},{"$f":"IF(Attendance($C13,'Daily Register'!GW$3:GW$242)=TRUE,\"P\",\"A\")","v":"A"},{"$f":"IF(Attendance($C13,'Daily Register'!GX$3:GX$242)=TRUE,\"P\",\"A\")","v":"A"},{"$f":"IF(Attendance($C13,'Daily Register'!GY$3:GY$242)=TRUE,\"P\",\"A\")","v":"A"},{"$f":"IF(Attendance($C13,'Daily Register'!GZ$3:GZ$242)=TRUE,\"P\",\"A\")","v":"A"},{"$f":"IF(Attendance($C13,'Daily Register'!HA$3:HA$242)=TRUE,\"P\",\"A\")","v":"A"},{"$f":"IF(Attendance($C13,'Daily Register'!HB$3:HB$242)=TRUE,\"P\",\"A\")","v":"A"},{"$f":"IF(Attendance($C13,'Daily Register'!HC$3:HC$242)=TRUE,\"P\",\"A\")","v":"A"},{"$f":"IF(Attendance($C13,'Daily Register'!HD$3:HD$242)=TRUE,\"P\",\"A\")","v":"A"},{"$f":"IF(Attendance($C13,'Daily Register'!HE$3:HE$242)=TRUE,\"P\",\"A\")","v":"A"},{"$f":"IF(Attendance($C13,'Daily Register'!HF$3:HF$242)=TRUE,\"P\",\"A\")","v":"A"},{"$f":"IF(Attendance($C13,'Daily Register'!HG$3:HG$242)=TRUE,\"P\",\"A\")","v":"A"},{"$f":"IF(Attendance($C13,'Daily Register'!HH$3:HH$242)=TRUE,\"P\",\"A\")","v":"A"},{"$f":"IF(Attendance($C13,'Daily Register'!HI$3:HI$242)=TRUE,\"P\",\"A\")","v":"A"},{"$f":"IF(Attendance($C13,'Daily Register'!HJ$3:HJ$242)=TRUE,\"P\",\"A\")","v":"A"},{"$f":"IF(Attendance($C13,'Daily Register'!HK$3:HK$242)=TRUE,\"P\",\"A\")","v":"A"},{"$f":"IF(Attendance($C13,'Daily Register'!HL$3:HL$242)=TRUE,\"P\",\"A\")","v":"A"},{"$f":"IF(Attendance($C13,'Daily Register'!HM$3:HM$242)=TRUE,\"P\",\"A\")","v":"A"},{"$f":"IF(Attendance($C13,'Daily Register'!HN$3:HN$242)=TRUE,\"P\",\"A\")","v":"A"},{"$f":"IF(Attendance($C13,'Daily Register'!HO$3:HO$242)=TRUE,\"P\",\"A\")","v":"A"},{"$f":"IF(Attendance($C13,'Daily Register'!HP$3:HP$242)=TRUE,\"P\",\"A\")","v":"A"},{"$f":"IF(Attendance($C13,'Daily Register'!HQ$3:HQ$242)=TRUE,\"P\",\"A\")","v":"A"},{"$f":"IF(Attendance($C13,'Daily Register'!HR$3:HR$242)=TRUE,\"P\",\"A\")","v":"A"},{"$f":"IF(Attendance($C13,'Daily Register'!HS$3:HS$242)=TRUE,\"P\",\"A\")","v":"A"},{"$f":"IF(Attendance($C13,'Daily Register'!HT$3:HT$242)=TRUE,\"P\",\"A\")","v":"A"},{"$f":"IF(Attendance($C13,'Daily Register'!HU$3:HU$242)=TRUE,\"P\",\"A\")","v":"A"},{"$f":"IF(Attendance($C13,'Daily Register'!HV$3:HV$242)=TRUE,\"P\",\"A\")","v":"A"},{"$f":"IF(Attendance($C13,'Daily Register'!HW$3:HW$242)=TRUE,\"P\",\"A\")","v":"A"},{"$f":"IF(Attendance($C13,'Daily Register'!HX$3:HX$242)=TRUE,\"P\",\"A\")","v":"A"},{"$f":"IF(Attendance($C13,'Daily Register'!HY$3:HY$242)=TRUE,\"P\",\"A\")","v":"A"},{"$f":"IF(Attendance($C13,'Daily Register'!HZ$3:HZ$242)=TRUE,\"P\",\"A\")","v":"A"},{"$f":"IF(Attendance($C13,'Daily Register'!IA$3:IA$242)=TRUE,\"P\",\"A\")","v":"A"},{"$f":"IF(Attendance($C13,'Daily Register'!IB$3:IB$242)=TRUE,\"P\",\"A\")","v":"A"},{"$f":"IF(Attendance($C13,'Daily Register'!IC$3:IC$242)=TRUE,\"P\",\"A\")","v":"A"},{"$f":"IF(Attendance($C13,'Daily Register'!ID$3:ID$242)=TRUE,\"P\",\"A\")","v":"A"},{"$f":"IF(Attendance($C13,'Daily Register'!IE$3:IE$242)=TRUE,\"P\",\"A\")","v":"A"},{"$f":"IF(Attendance($C13,'Daily Register'!IF$3:IF$242)=TRUE,\"P\",\"A\")","v":"A"},{"$f":"IF(Attendance($C13,'Daily Register'!IG$3:IG$242)=TRUE,\"P\",\"A\")","v":"A"},{"$f":"IF(Attendance($C13,'Daily Register'!IH$3:IH$242)=TRUE,\"P\",\"A\")","v":"A"},{"$f":"IF(Attendance($C13,'Daily Register'!II$3:II$242)=TRUE,\"P\",\"A\")","v":"A"},{"$f":"IF(Attendance($C13,'Daily Register'!IJ$3:IJ$242)=TRUE,\"P\",\"A\")","v":"A"},{"$f":"IF(Attendance($C13,'Daily Register'!IK$3:IK$242)=TRUE,\"P\",\"A\")","v":"A"},{"$f":"IF(Attendance($C13,'Daily Register'!IL$3:IL$242)=TRUE,\"P\",\"A\")","v":"A"},{"$f":"IF(Attendance($C13,'Daily Register'!IM$3:IM$242)=TRUE,\"P\",\"A\")","v":"A"},{"$f":"IF(Attendance($C13,'Daily Register'!IN$3:IN$242)=TRUE,\"P\",\"A\")","v":"A"},{"$f":"IF(Attendance($C13,'Daily Register'!IO$3:IO$242)=TRUE,\"P\",\"A\")","v":"A"},{"$f":"IF(Attendance($C13,'Daily Register'!IP$3:IP$242)=TRUE,\"P\",\"A\")","v":"A"},{"$f":"IF(Attendance($C13,'Daily Register'!IQ$3:IQ$242)=TRUE,\"P\",\"A\")","v":"A"},{"$f":"IF(Attendance($C13,'Daily Register'!IR$3:IR$242)=TRUE,\"P\",\"A\")","v":"A"},{"$f":"IF(Attendance($C13,'Daily Register'!IS$3:IS$242)=TRUE,\"P\",\"A\")","v":"A"},{"$f":"IF(Attendance($C13,'Daily Register'!IT$3:IT$242)=TRUE,\"P\",\"A\")","v":"A"},{"$f":"IF(Attendance($C13,'Daily Register'!IU$3:IU$242)=TRUE,\"P\",\"A\")","v":"A"},{"$f":"IF(Attendance($C13,'Daily Register'!IV$3:IV$242)=TRUE,\"P\",\"A\")","v":"A"},{"$f":"IF(Attendance($C13,'Daily Register'!IW$3:IW$242)=TRUE,\"P\",\"A\")","v":"A"},{"$f":"IF(Attendance($C13,'Daily Register'!IX$3:IX$242)=TRUE,\"P\",\"A\")","v":"A"},{"$f":"IF(Attendance($C13,'Daily Register'!IY$3:IY$242)=TRUE,\"P\",\"A\")","v":"A"},{"$f":"IF(Attendance($C13,'Daily Register'!IZ$3:IZ$242)=TRUE,\"P\",\"A\")","v":"A"},{"$f":"IF(Attendance($C13,'Daily Register'!JA$3:JA$242)=TRUE,\"P\",\"A\")","v":"A"},{"$f":"IF(Attendance($C13,'Daily Register'!JB$3:JB$242)=TRUE,\"P\",\"A\")","v":"A"},{"$f":"IF(Attendance($C13,'Daily Register'!JC$3:JC$242)=TRUE,\"P\",\"A\")","v":"A"},{"$f":"IF(Attendance($C13,'Daily Register'!JD$3:JD$242)=TRUE,\"P\",\"A\")","v":"A"},{"$f":"IF(Attendance($C13,'Daily Register'!JE$3:JE$242)=TRUE,\"P\",\"A\")","v":"A"},{"$f":"IF(Attendance($C13,'Daily Register'!JF$3:JF$242)=TRUE,\"P\",\"A\")","v":"A"},{"$f":"IF(Attendance($C13,'Daily Register'!JG$3:JG$242)=TRUE,\"P\",\"A\")","v":"A"},{"$f":"IF(Attendance($C13,'Daily Register'!JH$3:JH$242)=TRUE,\"P\",\"A\")","v":"A"},{"$f":"IF(Attendance($C13,'Daily Register'!JI$3:JI$242)=TRUE,\"P\",\"A\")","v":"A"},{"$f":"IF(Attendance($C13,'Daily Register'!JJ$3:JJ$242)=TRUE,\"P\",\"A\")","v":"A"},{"$f":"IF(Attendance($C13,'Daily Register'!JK$3:JK$242)=TRUE,\"P\",\"A\")","v":"A"},{"$f":"IF(Attendance($C13,'Daily Register'!JL$3:JL$242)=TRUE,\"P\",\"A\")","v":"A"},{"$f":"IF(Attendance($C13,'Daily Register'!JM$3:JM$242)=TRUE,\"P\",\"A\")","v":"A"},{"$f":"IF(Attendance($C13,'Daily Register'!JN$3:JN$242)=TRUE,\"P\",\"A\")","v":"A"},{"$f":"IF(Attendance($C13,'Daily Register'!JO$3:JO$242)=TRUE,\"P\",\"A\")","v":"A"},{"$f":"IF(Attendance($C13,'Daily Register'!JP$3:JP$242)=TRUE,\"P\",\"A\")","v":"A"},{"$f":"IF(Attendance($C13,'Daily Register'!JQ$3:JQ$242)=TRUE,\"P\",\"A\")","v":"A"},{"$f":"IF(Attendance($C13,'Daily Register'!JR$3:JR$242)=TRUE,\"P\",\"A\")","v":"A"},{"$f":"IF(Attendance($C13,'Daily Register'!JS$3:JS$242)=TRUE,\"P\",\"A\")","v":"A"},{"$f":"IF(Attendance($C13,'Daily Register'!JT$3:JT$242)=TRUE,\"P\",\"A\")","v":"A"},{"$f":"IF(Attendance($C13,'Daily Register'!JU$3:JU$242)=TRUE,\"P\",\"A\")","v":"A"},{"$f":"IF(Attendance($C13,'Daily Register'!JV$3:JV$242)=TRUE,\"P\",\"A\")","v":"A"},{"$f":"IF(Attendance($C13,'Daily Register'!JW$3:JW$242)=TRUE,\"P\",\"A\")","v":"A"},{"$f":"IF(Attendance($C13,'Daily Register'!JX$3:JX$242)=TRUE,\"P\",\"A\")","v":"A"},{"$f":"IF(Attendance($C13,'Daily Register'!JY$3:JY$242)=TRUE,\"P\",\"A\")","v":"A"},{"$f":"IF(Attendance($C13,'Daily Register'!JZ$3:JZ$242)=TRUE,\"P\",\"A\")","v":"A"},{"$f":"IF(Attendance($C13,'Daily Register'!KA$3:KA$242)=TRUE,\"P\",\"A\")","v":"A"},{"$f":"IF(Attendance($C13,'Daily Register'!KB$3:KB$242)=TRUE,\"P\",\"A\")","v":"A"},{"$f":"IF(Attendance($C13,'Daily Register'!KC$3:KC$242)=TRUE,\"P\",\"A\")","v":"A"},{"$f":"IF(Attendance($C13,'Daily Register'!KD$3:KD$242)=TRUE,\"P\",\"A\")","v":"A"},{"$f":"IF(Attendance($C13,'Daily Register'!KE$3:KE$242)=TRUE,\"P\",\"A\")","v":"A"},{"$f":"IF(Attendance($C13,'Daily Register'!KF$3:KF$242)=TRUE,\"P\",\"A\")","v":"A"},{"$f":"IF(Attendance($C13,'Daily Register'!KG$3:KG$242)=TRUE,\"P\",\"A\")","v":"A"},{"$f":"IF(Attendance($C13,'Daily Register'!KH$3:KH$242)=TRUE,\"P\",\"A\")","v":"A"},{"$f":"IF(Attendance($C13,'Daily Register'!KI$3:KI$242)=TRUE,\"P\",\"A\")","v":"A"},{"$f":"IF(Attendance($C13,'Daily Register'!KJ$3:KJ$242)=TRUE,\"P\",\"A\")","v":"A"},{"$f":"IF(Attendance($C13,'Daily Register'!KK$3:KK$242)=TRUE,\"P\",\"A\")","v":"A"},{"$f":"IF(Attendance($C13,'Daily Register'!KL$3:KL$242)=TRUE,\"P\",\"A\")","v":"A"},{"$f":"IF(Attendance($C13,'Daily Register'!KM$3:KM$242)=TRUE,\"P\",\"A\")","v":"A"},{"$f":"IF(Attendance($C13,'Daily Register'!KN$3:KN$242)=TRUE,\"P\",\"A\")","v":"A"},{"$f":"IF(Attendance($C13,'Daily Register'!KO$3:KO$242)=TRUE,\"P\",\"A\")","v":"A"},{"$f":"IF(Attendance($C13,'Daily Register'!KP$3:KP$242)=TRUE,\"P\",\"A\")","v":"A"},{"$f":"IF(Attendance($C13,'Daily Register'!KQ$3:KQ$242)=TRUE,\"P\",\"A\")","v":"A"},{"$f":"IF(Attendance($C13,'Daily Register'!KR$3:KR$242)=TRUE,\"P\",\"A\")","v":"A"},{"$f":"IF(Attendance($C13,'Daily Register'!KS$3:KS$242)=TRUE,\"P\",\"A\")","v":"A"},{"$f":"IF(Attendance($C13,'Daily Register'!KT$3:KT$242)=TRUE,\"P\",\"A\")","v":"A"},{"$f":"IF(Attendance($C13,'Daily Register'!KU$3:KU$242)=TRUE,\"P\",\"A\")","v":"A"},{"$f":"IF(Attendance($C13,'Daily Register'!KV$3:KV$242)=TRUE,\"P\",\"A\")","v":"A"},{"$f":"IF(Attendance($C13,'Daily Register'!KW$3:KW$242)=TRUE,\"P\",\"A\")","v":"A"},{"$f":"IF(Attendance($C13,'Daily Register'!KX$3:KX$242)=TRUE,\"P\",\"A\")","v":"A"},{"$f":"IF(Attendance($C13,'Daily Register'!KY$3:KY$242)=TRUE,\"P\",\"A\")","v":"A"},{"$f":"IF(Attendance($C13,'Daily Register'!KZ$3:KZ$242)=TRUE,\"P\",\"A\")","v":"A"},{"$f":"IF(Attendance($C13,'Daily Register'!LA$3:LA$242)=TRUE,\"P\",\"A\")","v":"A"},{"$f":"IF(Attendance($C13,'Daily Register'!LB$3:LB$242)=TRUE,\"P\",\"A\")","v":"A"},{"$f":"IF(Attendance($C13,'Daily Register'!LC$3:LC$242)=TRUE,\"P\",\"A\")","v":"A"},{"$f":"IF(Attendance($C13,'Daily Register'!LD$3:LD$242)=TRUE,\"P\",\"A\")","v":"A"},{"$f":"IF(Attendance($C13,'Daily Register'!LE$3:LE$242)=TRUE,\"P\",\"A\")","v":"A"},{"$f":"IF(Attendance($C13,'Daily Register'!LF$3:LF$242)=TRUE,\"P\",\"A\")","v":"A"},{"$f":"IF(Attendance($C13,'Daily Register'!LG$3:LG$242)=TRUE,\"P\",\"A\")","v":"A"},{"$f":"IF(Attendance($C13,'Daily Register'!LH$3:LH$242)=TRUE,\"P\",\"A\")","v":"A"},{"$f":"IF(Attendance($C13,'Daily Register'!LI$3:LI$242)=TRUE,\"P\",\"A\")","v":"A"},{"$f":"IF(Attendance($C13,'Daily Register'!LJ$3:LJ$242)=TRUE,\"P\",\"A\")","v":"A"},{"$f":"IF(Attendance($C13,'Daily Register'!LK$3:LK$242)=TRUE,\"P\",\"A\")","v":"A"},{"$f":"IF(Attendance($C13,'Daily Register'!LL$3:LL$242)=TRUE,\"P\",\"A\")","v":"A"},{"$f":"IF(Attendance($C13,'Daily Register'!LM$3:LM$242)=TRUE,\"P\",\"A\")","v":"A"},{"$f":"IF(Attendance($C13,'Daily Register'!LN$3:LN$242)=TRUE,\"P\",\"A\")","v":"A"},{"$f":"IF(Attendance($C13,'Daily Register'!LO$3:LO$242)=TRUE,\"P\",\"A\")","v":"A"},{"$f":"IF(Attendance($C13,'Daily Register'!LP$3:LP$242)=TRUE,\"P\",\"A\")","v":"A"},{"$f":"IF(Attendance($C13,'Daily Register'!LQ$3:LQ$242)=TRUE,\"P\",\"A\")","v":"A"},{"$f":"IF(Attendance($C13,'Daily Register'!LR$3:LR$242)=TRUE,\"P\",\"A\")","v":"A"},{"$f":"IF(Attendance($C13,'Daily Register'!LS$3:LS$242)=TRUE,\"P\",\"A\")","v":"A"},{"$f":"IF(Attendance($C13,'Daily Register'!LT$3:LT$242)=TRUE,\"P\",\"A\")","v":"A"},{"$f":"IF(Attendance($C13,'Daily Register'!LU$3:LU$242)=TRUE,\"P\",\"A\")","v":"A"},{"$f":"IF(Attendance($C13,'Daily Register'!LV$3:LV$242)=TRUE,\"P\",\"A\")","v":"A"},{"$f":"IF(Attendance($C13,'Daily Register'!LW$3:LW$242)=TRUE,\"P\",\"A\")","v":"A"},{"$f":"IF(Attendance($C13,'Daily Register'!LX$3:LX$242)=TRUE,\"P\",\"A\")","v":"A"},{"$f":"IF(Attendance($C13,'Daily Register'!LY$3:LY$242)=TRUE,\"P\",\"A\")","v":"A"},{"$f":"IF(Attendance($C13,'Daily Register'!LZ$3:LZ$242)=TRUE,\"P\",\"A\")","v":"A"},{"$f":"IF(Attendance($C13,'Daily Register'!MA$3:MA$242)=TRUE,\"P\",\"A\")","v":"A"},{"$f":"IF(Attendance($C13,'Daily Register'!MB$3:MB$242)=TRUE,\"P\",\"A\")","v":"A"},{"$f":"IF(Attendance($C13,'Daily Register'!MC$3:MC$242)=TRUE,\"P\",\"A\")","v":"A"},{"$f":"IF(Attendance($C13,'Daily Register'!MD$3:MD$242)=TRUE,\"P\",\"A\")","v":"A"},{"$f":"IF(Attendance($C13,'Daily Register'!ME$3:ME$242)=TRUE,\"P\",\"A\")","v":"A"},{"$f":"IF(Attendance($C13,'Daily Register'!MF$3:MF$242)=TRUE,\"P\",\"A\")","v":"A"},{"$f":"IF(Attendance($C13,'Daily Register'!MG$3:MG$242)=TRUE,\"P\",\"A\")","v":"A"},{"$f":"IF(Attendance($C13,'Daily Register'!MH$3:MH$242)=TRUE,\"P\",\"A\")","v":"A"},{"$f":"IF(Attendance($C13,'Daily Register'!MI$3:MI$242)=TRUE,\"P\",\"A\")","v":"A"},{"$f":"IF(Attendance($C13,'Daily Register'!MJ$3:MJ$242)=TRUE,\"P\",\"A\")","v":"A"},{"$f":"IF(Attendance($C13,'Daily Register'!MK$3:MK$242)=TRUE,\"P\",\"A\")","v":"A"},{"$f":"IF(Attendance($C13,'Daily Register'!ML$3:ML$242)=TRUE,\"P\",\"A\")","v":"A"},{"$f":"IF(Attendance($C13,'Daily Register'!MM$3:MM$242)=TRUE,\"P\",\"A\")","v":"A"},{"$f":"IF(Attendance($C13,'Daily Register'!MN$3:MN$242)=TRUE,\"P\",\"A\")","v":"A"},{"$f":"IF(Attendance($C13,'Daily Register'!MO$3:MO$242)=TRUE,\"P\",\"A\")","v":"A"},{"$f":"IF(Attendance($C13,'Daily Register'!MP$3:MP$242)=TRUE,\"P\",\"A\")","v":"A"},{"$f":"IF(Attendance($C13,'Daily Register'!MQ$3:MQ$242)=TRUE,\"P\",\"A\")","v":"A"},{"$f":"IF(Attendance($C13,'Daily Register'!MR$3:MR$242)=TRUE,\"P\",\"A\")","v":"A"},{"$f":"IF(Attendance($C13,'Daily Register'!MS$3:MS$242)=TRUE,\"P\",\"A\")","v":"A"},{"$f":"IF(Attendance($C13,'Daily Register'!MT$3:MT$242)=TRUE,\"P\",\"A\")","v":"A"},{"$f":"IF(Attendance($C13,'Daily Register'!MU$3:MU$242)=TRUE,\"P\",\"A\")","v":"A"},{"$f":"IF(Attendance($C13,'Daily Register'!MV$3:MV$242)=TRUE,\"P\",\"A\")","v":"A"},{"$f":"IF(Attendance($C13,'Daily Register'!MW$3:MW$242)=TRUE,\"P\",\"A\")","v":"A"},{"$f":"IF(Attendance($C13,'Daily Register'!MX$3:MX$242)=TRUE,\"P\",\"A\")","v":"A"},{"$f":"IF(Attendance($C13,'Daily Register'!MY$3:MY$242)=TRUE,\"P\",\"A\")","v":"A"},{"$f":"IF(Attendance($C13,'Daily Register'!MZ$3:MZ$242)=TRUE,\"P\",\"A\")","v":"A"},{"$f":"IF(Attendance($C13,'Daily Register'!NA$3:NA$242)=TRUE,\"P\",\"A\")","v":"A"},{"$f":"IF(Attendance($C13,'Daily Register'!NB$3:NB$242)=TRUE,\"P\",\"A\")","v":"A"}]
[0,null,11,null,{"$f":"IF(Attendance($C14,'Daily Register'!A$3:A$242)=TRUE,\"P\",\"A\")","v":"A"},{"$f":"IF(Attendance($C14,'Daily Register'!B$3:B$242)=TRUE,\"P\",\"A\")","v":"A"},{"$f":"IF(Attendance($C14,'Daily Register'!C$3:C$242)=TRUE,\"P\",\"A\")","v":"A"},{"$f":"IF(Attendance($C14,'Daily Register'!D$3:D$242)=TRUE,\"P\",\"A\")","v":"A"},{"$f":"IF(Attendance($C14,'Daily Register'!E$3:E$242)=TRUE,\"P\",\"A\")","v":"A"},{"$f":"IF(Attendance($C14,'Daily Register'!F$3:F$242)=TRUE,\"P\",\"A\")","v":"A"},{"$f":"IF(Attendance($C14,'Daily Register'!G$3:G$242)=TRUE,\"P\",\"A\")","v":"A"},{"$f":"IF(Attendance($C14,'Daily Register'!H$3:H$242)=TRUE,\"P\",\"A\")","v":"A"},{"$f":"IF(Attendance($C14,'Daily Register'!I$3:I$242)=TRUE,\"P\",\"A\")","v":"A"},{"$f":"IF(Attendance($C14,'Daily Register'!J$3:J$242)=TRUE,\"P\",\"A\")","v":"A"},{"$f":"IF(Attendance($C14,'Daily Register'!K$3:K$242)=TRUE,\"P\",\"A\")","v":"A"},{"$f":"IF(Attendance($C14,'Daily Register'!L$3:L$242)=TRUE,\"P\",\"A\")","v":"A"},{"$f":"IF(Attendance($C14,'Daily Register'!M$3:M$242)=TRUE,\"P\",\"A\")","v":"A"},{"$f":"IF(Attendance($C14,'Daily Register'!N$3:N$242)=TRUE,\"P\",\"A\")","v":"A"},{"$f":"IF(Attendance($C14,'Daily Register'!O$3:O$242)=TRUE,\"P\",\"A\")","v":"A"},{"$f":"IF(Attendance($C14,'Daily Register'!P$3:P$242)=TRUE,\"P\",\"A\")","v":"A"},{"$f":"IF(Attendance($C14,'Daily Register'!Q$3:Q$242)=TRUE,\"P\",\"A\")","v":"A"},{"$f":"IF(Attendance($C14,'Daily Register'!R$3:R$242)=TRUE,\"P\",\"A\")","v":"A"},{"$f":"IF(Attendance($C14,'Daily Register'!S$3:S$242)=TRUE,\"P\",\"A\")","v":"A"},{"$f":"IF(Attendance($C14,'Daily Register'!T$3:T$242)=TRUE,\"P\",\"A\")","v":"A"},{"$f":"IF(Attendance($C14,'Daily Register'!U$3:U$242)=TRUE,\"P\",\"A\")","v":"A"},{"$f":"IF(Attendance($C14,'Daily Register'!V$3:V$242)=TRUE,\"P\",\"A\")","v":"A"},{"$f":"IF(Attendance($C14,'Daily Register'!W$3:W$242)=TRUE,\"P\",\"A\")","v":"A"},{"$f":"IF(Attendance($C14,'Daily Register'!X$3:X$242)=TRUE,\"P\",\"A\")","v":"A"},{"$f":"IF(Attendance($C14,'Daily Register'!Y$3:Y$242)=TRUE,\"P\",\"A\")","v":"A"},{"$f":"IF(Attendance($C14,'Daily Register'!Z$3:Z$242)=TRUE,\"P\",\"A\")","v":"A"},{"$f":"IF(Attendance($C14,'Daily Register'!AA$3:AA$242)=TRUE,\"P\",\"A\")","v":"A"},{"$f":"IF(Attendance($C14,'Daily Register'!AB$3:AB$242)=TRUE,\"P\",\"A\")","v":"A"},{"$f":"IF(Attendance($C14,'Daily Register'!AC$3:AC$242)=TRUE,\"P\",\"A\")","v":"A"},{"$f":"IF(Attendance($C14,'Daily Register'!AD$3:AD$242)=TRUE,\"P\",\"A\")","v":"A"},{"$f":"IF(Attendance($C14,'Daily Register'!AE$3:AE$242)=TRUE,\"P\",\"A\")","v":"A"},{"$f":"IF(Attendance($C14,'Daily Register'!AF$3:AF$242)=TRUE,\"P\",\"A\")","v":"A"},{"$f":"IF(Attendance($C14,'Daily Register'!AG$3:AG$242)=TRUE,\"P\",\"A\")","v":"A"},{"$f":"IF(Attendance($C14,'Daily Register'!AH$3:AH$242)=TRUE,\"P\",\"A\")","v":"A"},{"$f":"IF(Attendance($C14,'Daily Register'!AI$3:AI$242)=TRUE,\"P\",\"A\")","v":"A"},{"$f":"IF(Attendance($C14,'Daily Register'!AJ$3:AJ$242)=TRUE,\"P\",\"A\")","v":"A"},{"$f":"IF(Attendance($C14,'Daily Register'!AK$3:AK$242)=TRUE,\"P\",\"A\")","v":"A"},{"$f":"IF(Attendance($C14,'Daily Register'!AL$3:AL$242)=TRUE,\"P\",\"A\")","v":"A"},{"$f":"IF(Attendance($C14,'Daily Register'!AM$3:AM$242)=TRUE,\"P\",\"A\")","v":"A"},{"$f":"IF(Attendance($C14,'Daily Register'!AN$3:AN$242)=TRUE,\"P\",\"A\")","v":"A"},{"$f":"IF(Attendance($C14,'Daily Register'!AO$3:AO$242)=TRUE,\"P\",\"A\")","v":"A"},{"$f":"IF(Attendance($C14,'Daily Register'!AP$3:AP$242)=TRUE,\"P\",\"A\")","v":"A"},{"$f":"IF(Attendance($C14,'Daily Register'!AQ$3:AQ$242)=TRUE,\"P\",\"A\")","v":"A"},{"$f":"IF(Attendance($C14,'Daily Register'!AR$3:AR$242)=TRUE,\"P\",\"A\")","v":"A"},{"$f":"IF(Attendance($C14,'Daily Register'!AS$3:AS$242)=TRUE,\"P\",\"A\")","v":"A"},{"$f":"IF(Attendance($C14,'Daily Register'!AT$3:AT$242)=TRUE,\"P\",\"A\")","v":"A"},{"$f":"IF(Attendance($C14,'Daily Register'!AU$3:AU$242)=TRUE,\"P\",\"A\")","v":"A"},{"$f":"IF(Attendance($C14,'Daily Register'!AV$3:AV$242)=TRUE,\"P\",\"A\")","v":"A"},{"$f":"IF(Attendance($C14,'Daily Register'!AW$3:AW$242)=TRUE,\"P\",\"A\")","v":"A"},{"$f":"IF(Attendance($C14,'Daily Register'!AX$3:AX$242)=TRUE,\"P\",\"A\")","v":"A"},{"$f":"IF(Attendance($C14,'Daily Register'!AY$3:AY$242)=TRUE,\"P\",\"A\")","v":"A"},{"$f":"IF(Attendance($C14,'Daily Register'!AZ$3:AZ$242)=TRUE,\"P\",\"A\")","v":"A"},{"$f":"IF(Attendance($C14,'Daily Register'!BA$3:BA$242)=TRUE,\"P\",\"A\")","v":"A"},{"$f":"IF(Attendance($C14,'Daily Register'!BB$3:BB$242)=TRUE,\"P\",\"A\")","v":"A"},{"$f":"IF(Attendance($C14,'Daily Register'!BC$3:BC$242)=TRUE,\"P\",\"A\")","v":"A"},{"$f":"IF(Attendance($C14,'Daily Register'!BD$3:BD$242)=TRUE,\"P\",\"A\")","v":"A"},{"$f":"IF(Attendance($C14,'Daily Register'!BE$3:BE$242)=TRUE,\"P\",\"A\")","v":"A"},{"$f":"IF(Attendance($C14,'Daily Register'!BF$3:BF$242)=TRUE,\"P\",\"A\")","v":"A"},{"$f":"IF(Attendance($C14,'Daily Register'!BG$3:BG$242)=TRUE,\"P\",\"A\")","v":"A"},{"$f":"IF(Attendance($C14,'Daily Register'!BH$3:BH$242)=TRUE,\"P\",\"A\")","v":"A"},{"$f":"IF(Attendance($C14,'Daily Register'!BI$3:BI$242)=TRUE,\"P\",\"A\")","v":"A"},{"$f":"IF(Attendance($C14,'Daily Register'!BJ$3:BJ$242)=TRUE,\"P\",\"A\")","v":"A"},{"$f":"IF(Attendance($C14,'Daily Register'!BK$3:BK$242)=TRUE,\"P\",\"A\")","v":"A"},{"$f":"IF(Attendance($C14,'Daily Register'!BL$3:BL$242)=TRUE,\"P\",\"A\")","v":"A"},{"$f":"IF(Attendance($C14,'Daily Register'!BM$3:BM$242)=TRUE,\"P\",\"A\")","v":"A"},{"$f":"IF(Attendance($C14,'Daily Register'!BN$3:BN$242)=TRUE,\"P\",\"A\")","v":"A"},{"$f":"IF(Attendance($C14,'Daily Register'!BO$3:BO$242)=TRUE,\"P\",\"A\")","v":"A"},{"$f":"IF(Attendance($C14,'Daily Register'!BP$3:BP$242)=TRUE,\"P\",\"A\")","v":"A"},{"$f":"IF(Attendance($C14,'Daily Register'!BQ$3:BQ$242)=TRUE,\"P\",\"A\")","v":"A"},{"$f":"IF(Attendance($C14,'Daily Register'!BR$3:BR$242)=TRUE,\"P\",\"A\")","v":"A"},{"$f":"IF(Attendance($C14,'Daily Register'!BS$3:BS$242)=TRUE,\"P\",\"A\")","v":"A"},{"$f":"IF(Attendance($C14,'Daily Register'!BT$3:BT$242)=TRUE,\"P\",\"A\")","v":"A"},{"$f":"IF(Attendance($C14,'Daily Register'!BU$3:BU$242)=TRUE,\"P\",\"A\")","v":"A"},{"$f":"IF(Attendance($C14,'Daily Register'!BV$3:BV$242)=TRUE,\"P\",\"A\")","v":"A"},{"$f":"IF(Attendance($C14,'Daily Register'!BW$3:BW$242)=TRUE,\"P\",\"A\")","v":"A"},{"$f":"IF(Attendance($C14,'Daily Register'!BX$3:BX$242)=TRUE,\"P\",\"A\")","v":"A"},{"$f":"IF(Attendance($C14,'Daily Register'!BY$3:BY$242)=TRUE,\"P\",\"A\")","v":"A"},{"$f":"IF(Attendance($C14,'Daily Register'!BZ$3:BZ$242)=TRUE,\"P\",\"A\")","v":"A"},{"$f":"IF(Attendance($C14,'Daily Register'!CA$3:CA$242)=TRUE,\"P\",\"A\")","v":"A"},{"$f":"IF(Attendance($C14,'Daily Register'!CB$3:CB$242)=TRUE,\"P\",\"A\")","v":"A"},{"$f":"IF(Attendance($C14,'Daily Register'!CC$3:CC$242)=TRUE,\"P\",\"A\")","v":"A"},{"$f":"IF(Attendance($C14,'Daily Register'!CD$3:CD$242)=TRUE,\"P\",\"A\")","v":"A"},{"$f":"IF(Attendance($C14,'Daily Register'!CE$3:CE$242)=TRUE,\"P\",\"A\")","v":"A"},{"$f":"IF(Attendance($C14,'Daily Register'!CF$3:CF$242)=TRUE,\"P\",\"A\")","v":"A"},{"$f":"IF(Attendance($C14,'Daily Register'!CG$3:CG$242)=TRUE,\"P\",\"A\")","v":"A"},{"$f":"IF(Attendance($C14,'Daily Register'!CH$3:CH$242)=TRUE,\"P\",\"A\")","v":"A"},{"$f":"IF(Attendance($C14,'Daily Register'!CI$3:CI$242)=TRUE,\"P\",\"A\")","v":"A"},{"$f":"IF(Attendance($C14,'Daily Register'!CJ$3:CJ$242)=TRUE,\"P\",\"A\")","v":"A"},{"$f":"IF(Attendance($C14,'Daily Register'!CK$3:CK$242)=TRUE,\"P\",\"A\")","v":"A"},{"$f":"IF(Attendance($C14,'Daily Register'!CL$3:CL$242)=TRUE,\"P\",\"A\")","v":"A"},{"$f":"IF(Attendance($C14,'Daily Register'!CM$3:CM$242)=TRUE,\"P\",\"A\")","v":"A"},{"$f":"IF(Attendance($C14,'Daily Register'!CN$3:CN$242)=TRUE,\"P\",\"A\")","v":"A"},{"$f":"IF(Attendance($C14,'Daily Register'!CO$3:CO$242)=TRUE,\"P\",\"A\")","v":"A"},{"$f":"IF(Attendance($C14,'Daily Register'!CP$3:CP$242)=TRUE,\"P\",\"A\")","v":"A"},{"$f":"IF(Attendance($C14,'Daily Register'!CQ$3:CQ$242)=TRUE,\"P\",\"A\")","v":"A"},{"$f":"IF(Attendance($C14,'Daily Register'!CR$3:CR$242)=TRUE,\"P\",\"A\")","v":"A"},{"$f":"IF(Attendance($C14,'Daily Register'!CS$3:CS$242)=TRUE,\"P\",\"A\")","v":"A"},{"$f":"IF(Attendance($C14,'Daily Register'!CT$3:CT$242)=TRUE,\"P\",\"A\")","v":"A"},{"$f":"IF(Attendance($C14,'Daily Register'!CU$3:CU$242)=TRUE,\"P\",\"A\")","v":"A"},{"$f":"IF(Attendance($C14,'Daily Register'!CV$3:CV$242)=TRUE,\"P\",\"A\")","v":"A"},{"$f":"IF(Attendance($C14,'Daily Register'!CW$3:CW$242)=TRUE,\"P\",\"A\")","v":"A"},{"$f":"IF(Attendance($C14,'Daily Register'!CX$3:CX$242)=TRUE,\"P\",\"A\")","v":"A"},{"$f":"IF(Attendance($C14,'Daily Register'!CY$3:CY$242)=TRUE,\"P\",\"A\")","v":"A"},{"$f":"IF(Attendance($C14,'Daily Register'!CZ$3:CZ$242)=TRUE,\"P\",\"A\")","v":"A"},{"$f":"IF(Attendance($C14,'Daily Register'!DA$3:DA$242)=TRUE,\"P\",\"A\")","v":"A"},{"$f":"IF(Attendance($C14,'Daily Register'!DB$3:DB$242)=TRUE,\"P\",\"A\")","v":"A"},{"$f":"IF(Attendance($C14,'Daily Register'!DC$3:DC$242)=TRUE,\"P\",\"A\")","v":"A"},{"$f":"IF(Attendance($C14,'Daily Register'!DD$3:DD$242)=TRUE,\"P\",\"A\")","v":"A"},{"$f":"IF(Attendance($C14,'Daily Register'!DE$3:DE$242)=TRUE,\"P\",\"A\")","v":"A"},{"$f":"IF(Attendance($C14,'Daily Register'!DF$3:DF$242)=TRUE,\"P\",\"A\")","v":"A"},{"$f":"IF(Attendance($C14,'Daily Register'!DG$3:DG$242)=TRUE,\"P\",\"A\")","v":"A"},{"$f":"IF(Attendance($C14,'Daily Register'!DH$3:DH$242)=TRUE,\"P\",\"A\")","v":"A"},{"$f":"IF(Attendance($C14,'Daily Register'!DI$3:DI$242)=TRUE,\"P\",\"A\")","v":"A"},{"$f":"IF(Attendance($C14,'Daily Register'!DJ$3:DJ$242)=TRUE,\"P\",\"A\")","v":"A"},{"$f":"IF(Attendance($C14,'Daily Register'!DK$3:DK$242)=TRUE,\"P\",\"A\")","v":"A"},{"$f":"IF(Attendance($C14,'Daily Register'!DL$3:DL$242)=TRUE,\"P\",\"A\")","v":"A"},{"$f":"IF(Attendance($C14,'Daily Register'!DM$3:DM$242)=TRUE,\"P\",\"A\")","v":"A"},{"$f":"IF(Attendance($C14,'Daily Register'!DN$3:DN$242)=TRUE,\"P\",\"A\")","v":"A"},{"$f":"IF(Attendance($C14,'Daily Register'!DO$3:DO$242)=TRUE,\"P\",\"A\")","v":"A"},{"$f":"IF(Attendance($C14,'Daily Register'!DP$3:DP$242)=TRUE,\"P\",\"A\")","v":"A"},{"$f":"IF(Attendance($C14,'Daily Register'!DQ$3:DQ$242)=TRUE,\"P\",\"A\")","v":"A"},{"$f":"IF(Attendance($C14,'Daily Register'!DR$3:DR$242)=TRUE,\"P\",\"A\")","v":"A"},{"$f":"IF(Attendance($C14,'Daily Register'!DS$3:DS$242)=TRUE,\"P\",\"A\")","v":"A"},{"$f":"IF(Attendance($C14,'Daily Register'!DT$3:DT$242)=TRUE,\"P\",\"A\")","v":"A"},{"$f":"IF(Attendance($C14,'Daily Register'!DU$3:DU$242)=TRUE,\"P\",\"A\")","v":"A"},{"$f":"IF(Attendance($C14,'Daily Register'!DV$3:DV$242)=TRUE,\"P\",\"A\")","v":"A"},{"$f":"IF(Attendance($C14,'Daily Register'!DW$3:DW$242)=TRUE,\"P\",\"A\")","v":"A"},{"$f":"IF(Attendance($C14,'Daily Register'!DX$3:DX$242)=TRUE,\"P\",\"A\")","v":"A"},{"$f":"IF(Attendance($C14,'Daily Register'!DY$3:DY$242)=TRUE,\"P\",\"A\")","v":"A"},{"$f":"IF(Attendance($C14,'Daily Register'!DZ$3:DZ$242)=TRUE,\"P\",\"A\")","v":"A"},{"$f":"IF(Attendance($C14,'Daily Register'!EA$3:EA$242)=TRUE,\"P\",\"A\")","v":"A"},{"$f":"IF(Attendance($C14,'Daily Register'!EB$3:EB$242)=TRUE,\"P\",\"A\")","v":"A"},{"$f":"IF(Attendance($C14,'Daily Register'!EC$3:EC$242)=TRUE,\"P\",\"A\")","v":"A"},{"$f":"IF(Attendance($C14,'Daily Register'!ED$3:ED$242)=TRUE,\"P\",\"A\")","v":"A"},{"$f":"IF(Attendance($C14,'Daily Register'!EE$3:EE$242)=TRUE,\"P\",\"A\")","v":"A"},{"$f":"IF(Attendance($C14,'Daily Register'!EF$3:EF$242)=TRUE,\"P\",\"A\")","v":"A"},{"$f":"IF(Attendance($C14,'Daily Register'!EG$3:EG$242)=TRUE,\"P\",\"A\")","v":"A"},{"$f":"IF(Attendance($C14,'Daily Register'!EH$3:EH$242)=TRUE,\"P\",\"A\")","v":"A"},{"$f":"IF(Attendance($C14,'Daily Register'!EI$3:EI$242)=TRUE,\"P\",\"A\")","v":"A"},{"$f":"IF(Attendance($C14,'Daily Register'!EJ$3:EJ$242)=TRUE,\"P\",\"A\")","v":"A"},{"$f":"IF(Attendance($C14,'Daily Register'!EK$3:EK$242)=TRUE,\"P\",\"A\")","v":"A"},{"$f":"IF(Attendance($C14,'Daily Register'!EL$3:EL$242)=TRUE,\"P\",\"A\")","v":"A"},{"$f":"IF(Attendance($C14,'Daily Register'!EM$22:EM$242)=TRUE,\"P\",\"A\")","v":"A"},{"$f":"IF(Attendance($C14,'Daily Register'!EN$3:EN$242)=TRUE,\"P\",\"A\")","v":"A"},{"$f":"IF(Attendance($C14,'Daily Register'!EO$3:EO$242)=TRUE,\"P\",\"A\")","v":"A"},{"$f":"IF(Attendance($C14,'Daily Register'!EP$3:EP$242)=TRUE,\"P\",\"A\")","v":"A"},{"$f":"IF(Attendance($C14,'Daily Register'!EQ$3:EQ$242)=TRUE,\"P\",\"A\")","v":"A"},{"$f":"IF(Attendance($C14,'Daily Register'!ER$3:ER$242)=TRUE,\"P\",\"A\")","v":"A"},{"$f":"IF(Attendance($C14,'Daily Register'!ES$3:ES$242)=TRUE,\"P\",\"A\")","v":"A"},{"$f":"IF(Attendance($C14,'Daily Register'!ET$3:ET$242)=TRUE,\"P\",\"A\")","v":"A"},{"$f":"IF(Attendance($C14,'Daily Register'!EU$3:EU$242)=TRUE,\"P\",\"A\")","v":"A"},{"$f":"IF(Attendance($C14,'Daily Register'!EV$3:EV$242)=TRUE,\"P\",\"A\")","v":"A"},{"$f":"IF(Attendance($C14,'Daily Register'!EW$3:EW$242)=TRUE,\"P\",\"A\")","v":"A"},{"$f":"IF(Attendance($C14,'Daily Register'!EX$3:EX$242)=TRUE,\"P\",\"A\")","v":"A"},{"$f":"IF(Attendance($C14,'Daily Register'!EY$3:EY$242)=TRUE,\"P\",\"A\")","v":"A"},{"$f":"IF(Attendance($C14,'Daily Register'!EZ$3:EZ$242)=TRUE,\"P\",\"A\")","v":"A"},{"$f":"IF(Attendance($C14,'Daily Register'!FA$3:FA$242)=TRUE,\"P\",\"A\")","v":"A"},{"$f":"IF(Attendance($C14,'Daily Register'!FB$3:FB$242)=TRUE,\"P\",\"A\")","v":"A"},{"$f":"IF(Attendance($C14,'Daily Register'!FC$3:FC$242)=TRUE,\"P\",\"A\")","v":"A"},{"$f":"IF(Attendance($C14,'Daily Register'!FD$3:FD$242)=TRUE,\"P\",\"A\")","v":"A"},{"$f":"IF(Attendance($C14,'Daily Register'!FE$3:FE$242)=TRUE,\"P\",\"A\")","v":"A"},{"$f":"IF(Attendance($C14,'Daily Register'!FF$3:FF$242)=TRUE,\"P\",\"A\")","v":"A"},{"$f":"IF(Attendance($C14,'Daily Register'!FG$3:FG$242)=TRUE,\"P\",\"A\")","v":"A"},{"$f":"IF(Attendance($C14,'Daily Register'!FH$3:FH$242)=TRUE,\"P\",\"A\")","v":"A"},{"$f":"IF(Attendance($C14,'Daily Register'!FI$3:FI$242)=TRUE,\"P\",\"A\")","v":"A"},{"$f":"IF(Attendance($C14,'Daily Register'!FJ$3:FJ$242)=TRUE,\"P\",\"A\")","v":"A"},{"$f":"IF(Attendance($C14,'Daily Register'!FK$3:FK$242)=TRUE,\"P\",\"A\")","v":"A"},{"$f":"IF(Attendance($C14,'Daily Register'!FL$3:FL$242)=TRUE,\"P\",\"A\")","v":"A"},{"$f":"IF(Attendance($C14,'Daily Register'!FM$3:FM$242)=TRUE,\"P\",\"A\")","v":"A"},{"$f":"IF(Attendance($C14,'Daily Register'!FN$3:FN$242)=TRUE,\"P\",\"A\")","v":"A"},{"$f":"IF(Attendance($C14,'Daily Register'!FO$3:FO$242)=TRUE,\"P\",\"A\")","v":"A"},{"$f":"IF(Attendance($C14,'Daily Register'!FP$3:FP$242)=TRUE,\"P\",\"A\")","v":"A"},{"$f":"IF(Attendance($C14,'Daily Register'!FQ$3:FQ$242)=TRUE,\"P\",\"A\")","v":"A"},{"$f":"IF(Attendance($C14,'Daily Register'!FR$3:FR$242)=TRUE,\"P\",\"A\")","v":"A"},{"$f":"IF(Attendance($C14,'Daily Register'!FS$3:FS$242)=TRUE,\"P\",\"A\")","v":"A"},{"$f":"IF(Attendance($C14,'Daily Register'!FT$3:FT$242)=TRUE,\"P\",\"A\")","v":"A"},{"$f":"IF(Attendance($C14,'Daily Register'!FU$3:FU$242)=TRUE,\"P\",\"A\")","v":"A"},{"$f":"IF(Attendance($C14,'Daily Register'!FV$3:FV$242)=TRUE,\"P\",\"A\")","v":"A"},{"$f":"IF(Attendance($C14,'Daily Register'!FW$3:FW$242)=TRUE,\"P\",\"A\")","v":"A"},{"$f":"IF(Attendance($C14,'Daily Register'!FX$3:FX$242)=TRUE,\"P\",\"A\")","v":"A"},{"$f":"IF(Attendance($C14,'Daily Register'!FY$3:FY$242)=TRUE,\"P\",\"A\")","v":"A"},{"$f":"IF(Attendance($C14,'Daily Register'!FZ$3:FZ$242)=TRUE,\"P\",\"A\")","v":"A"},{"$f":"IF(Attendance($C14,'Daily Register'!GA$3:GA$242)=TRUE,\"P\",\"A\")","v":"A"},{"$f":"IF(Attendance($C14,'Daily Register'!GB$3:GB$242)=TRUE,\"P\",\"A\")","v":"A"},{"$f":"IF(Attendance($C14,'Daily Register'!GC$3:GC$242)=TRUE,\"P\",\"A\")","v":"A"},{"$f":"IF(Attendance($C14,'Daily Register'!GD$3:GD$242)=TRUE,\"P\",\"A\")","v":"A"},{"$f":"IF(Attendance($C14,'Daily Register'!GE$3:GE$242)=TRUE,\"P\",\"A\")","v":"A"},{"$f":"IF(Attendance($C14,'Daily Register'!GF$3:GF$242)=TRUE,\"P\",\"A\")","v":"A"},{"$f":"IF(Attendance($C14,'Daily Register'!GG$3:GG$242)=TRUE,\"P\",\"A\")","v":"A"},{"$f":"IF(Attendance($C14,'Daily Register'!GH$3:GH$242)=TRUE,\"P\",\"A\")","v":"A"},{"$f":"IF(Attendance($C14,'Daily Register'!GI$3:GI$242)=TRUE,\"P\",\"A\")","v":"A"},{"$f":"IF(Attendance($C14,'Daily Register'!GJ$3:GJ$242)=TRUE,\"P\",\"A\")","v":"A"},{"$f":"IF(Attendance($C14,'Daily Register'!GK$3:GK$242)=TRUE,\"P\",\"A\")","v":"A"},{"$f":"IF(Attendance($C14,'Daily Register'!GL$3:GL$242)=TRUE,\"P\",\"A\")","v":"A"},{"$f":"IF(Attendance($C14,'Daily Register'!GM$3:GM$242)=TRUE,\"P\",\"A\")","v":"A"},{"$f":"IF(Attendance($C14,'Daily Register'!GN$3:GN$242)=TRUE,\"P\",\"A\")","v":"A"},{"$f":"IF(Attendance($C14,'Daily Register'!GO$3:GO$242)=TRUE,\"P\",\"A\")","v":"A"},{"$f":"IF(Attendance($C14,'Daily Register'!GP$3:GP$242)=TRUE,\"P\",\"A\")","v":"A"},{"$f":"IF(Attendance($C14,'Daily Register'!GQ$3:GQ$242)=TRUE,\"P\",\"A\")","v":"A"},{"$f":"IF(Attendance($C14,'Daily Register'!GR$3:GR$242)=TRUE,\"P\",\"A\")","v":"A"},{"$f":"IF(Attendance($C14,'Daily Register'!GS$3:GS$242)=TRUE,\"P\",\"A\")","v":"A"},{"$f":"IF(Attendance($C14,'Daily Register'!GT$3:GT$242)=TRUE,\"P\",\"A\")","v":"A"},{"$f":"IF(Attendance($C14,'Daily Register'!GU$3:GU$242)=TRUE,\"P\",\"A\")","v":"A"},{"$f":"IF(Attendance($C14,'Daily Register'!GV$3:GV$242)=TRUE,\"P\",\"A\")","v":"A"},{"$f":"IF(Attendance($C14,'Daily Register'!GW$3:GW$242)=TRUE,\"P\",\"A\")","v":"A"},{"$f":"IF(Attendance($C14,'Daily Register'!GX$3:GX$242)=TRUE,\"P\",\"A\")","v":"A"},{"$f":"IF(Attendance($C14,'Daily Register'!GY$3:GY$242)=TRUE,\"P\",\"A\")","v":"A"},{"$f":"IF(Attendance($C14,'Daily Register'!GZ$3:GZ$242)=TRUE,\"P\",\"A\")","v":"A"},{"$f":"IF(Attendance($C14,'Daily Register'!HA$3:HA$242)=TRUE,\"P\",\"A\")","v":"A"},{"$f":"IF(Attendance($C14,'Daily Register'!HB$3:HB$242)=TRUE,\"P\",\"A\")","v":"A"},{"$f":"IF(Attendance($C14,'Daily Register'!HC$3:HC$242)=TRUE,\"P\",\"A\")","v":"A"},{"$f":"IF(Attendance($C14,'Daily Register'!HD$3:HD$242)=TRUE,\"P\",\"A\")","v":"A"},{"$f":"IF(Attendance($C14,'Daily Register'!HE$3:HE$242)=TRUE,\"P\",\"A\")","v":"A"},{"$f":"IF(Attendance($C14,'Daily Register'!HF$3:HF$242)=TRUE,\"P\",\"A\")","v":"A"},{"$f":"IF(Attendance($C14,'Daily Register'!HG$3:HG$242)=TRUE,\"P\",\"A\")","v":"A"},{"$f":"IF(Attendance($C14,'Daily Register'!HH$3:HH$242)=TRUE,\"P\",\"A\")","v":"A"},{"$f":"IF(Attendance($C14,'Daily Register'!HI$3:HI$242)=TRUE,\"P\",\"A\")","v":"A"},{"$f":"IF(Attendance($C14,'Daily Register'!HJ$3:HJ$242)=TRUE,\"P\",\"A\")","v":"A"},{"$f":"IF(Attendance($C14,'Daily Register'!HK$3:HK$242)=TRUE,\"P\",\"A\")","v":"A"},{"$f":"IF(Attendance($C14,'Daily Register'!HL$3:HL$242)=TRUE,\"P\",\"A\")","v":"A"},{"$f":"IF(Attendance($C14,'Daily Register'!HM$3:HM$242)=TRUE,\"P\",\"A\")","v":"A"},{"$f":"IF(Attendance($C14,'Daily Register'!HN$3:HN$242)=TRUE,\"P\",\"A\")","v":"A"},{"$f":"IF(Attendance($C14,'Daily Register'!HO$3:HO$242)=TRUE,\"P\",\"A\")","v":"A"},{"$f":"IF(Attendance($C14,'Daily Register'!HP$3:HP$242)=TRUE,\"P\",\"A\")","v":"A"},{"$f":"IF(Attendance($C14,'Daily Register'!HQ$3:HQ$242)=TRUE,\"P\",\"A\")","v":"A"},{"$f":"IF(Attendance($C14,'Daily Register'!HR$3:HR$242)=TRUE,\"P\",\"A\")","v":"A"},{"$f":"IF(Attendance($C14,'Daily Register'!HS$3:HS$242)=TRUE,\"P\",\"A\")","v":"A"},{"$f":"IF(Attendance($C14,'Daily Register'!HT$3:HT$242)=TRUE,\"P\",\"A\")","v":"A"},{"$f":"IF(Attendance($C14,'Daily Register'!HU$3:HU$242)=TRUE,\"P\",\"A\")","v":"A"},{"$f":"IF(Attendance($C14,'Daily Register'!HV$3:HV$242)=TRUE,\"P\",\"A\")","v":"A"},{"$f":"IF(Attendance($C14,'Daily Register'!HW$3:HW$242)=TRUE,\"P\",\"A\")","v":"A"},{"$f":"IF(Attendance($C14,'Daily Register'!HX$3:HX$242)=TRUE,\"P\",\"A\")","v":"A"},{"$f":"IF(Attendance($C14,'Daily Register'!HY$3:HY$242)=TRUE,\"P\",\"A\")","v":"A"},{"$f":"IF(Attendance($C14,'Daily Register'!HZ$3:HZ$242)=TRUE,\"P\",\"A\")","v":"A"},{"$f":"IF(Attendance($C14,'Daily Register'!IA$3:IA$242)=TRUE,\"P\",\"A\")","v":"A"},{"$f":"IF(Attendance($C14,'Daily Register'!IB$3:IB$242)=TRUE,\"P\",\"A\")","v":"A"},{"$f":"IF(Attendance($C14,'Daily Register'!IC$3:IC$242)=TRUE,\"P\",\"A\")","v":"A"},{"$f":"IF(Attendance($C14,'Daily Register'!ID$3:ID$242)=TRUE,\"P\",\"A\")","v":"A"},{"$f":"IF(Attendance($C14,'Daily Register'!IE$3:IE$242)=TRUE,\"P\",\"A\")","v":"A"},{"$f":"IF(Attendance($C14,'Daily Register'!IF$3:IF$242)=TRUE,\"P\",\"A\")","v":"A"},{"$f":"IF(Attendance($C14,'Daily Register'!IG$3:IG$242)=TRUE,\"P\",\"A\")","v":"A"},{"$f":"IF(Attendance($C14,'Daily Register'!IH$3:IH$242)=TRUE,\"P\",\"A\")","v":"A"},{"$f":"IF(Attendance($C14,'Daily Register'!II$3:II$242)=TRUE,\"P\",\"A\")","v":"A"},{"$f":"IF(Attendance($C14,'Daily Register'!IJ$3:IJ$242)=TRUE,\"P\",\"A\")","v":"A"},{"$f":"IF(Attendance($C14,'Daily Register'!IK$3:IK$242)=TRUE,\"P\",\"A\")","v":"A"},{"$f":"IF(Attendance($C14,'Daily Register'!IL$3:IL$242)=TRUE,\"P\",\"A\")","v":"A"},{"$f":"IF(Attendance($C14,'Daily Register'!IM$3:IM$242)=TRUE,\"P\",\"A\")","v":"A"},{"$f":"IF(Attendance($C14,'Daily Register'!IN$3:IN$242)=TRUE,\"P\",\"A\")","v":"A"},{"$f":"IF(Attendance($C14,'Daily Register'!IO$3:IO$242)=TRUE,\"P\",\"A\")","v":"A"},{"$f":"IF(Attendance($C14,'Daily Register'!IP$3:IP$242)=TRUE,\"P\",\"A\")","v":"A"},{"$f":"IF(Attendance($C14,'Daily Register'!IQ$3:IQ$242)=TRUE,\"P\",\"A\")","v":"A"},{"$f":"IF(Attendance($C14,'Daily Register'!IR$3:IR$242)=TRUE,\"P\",\"A\")","v":"A"},{"$f":"IF(Attendance($C14,'Daily Register'!IS$3:IS$242)=TRUE,\"P\",\"A\")","v":"A"},{"$f":"IF(Attendance($C14,'Daily Register'!IT$3:IT$242)=TRUE,\"P\",\"A\")","v":"A"},{"$f":"IF(Attendance($C14,'Daily Register'!IU$3:IU$242)=TRUE,\"P\",\"A\")","v":"A"},{"$f":"IF(Attendance($C14,'Daily Register'!IV$3:IV$242)=TRUE,\"P\",\"A\")","v":"A"},{"$f":"IF(Attendance($C14,'Daily Register'!IW$3:IW$242)=TRUE,\"P\",\"A\")","v":"A"},{"$f":"IF(Attendance($C14,'Daily Register'!IX$3:IX$242)=TRUE,\"P\",\"A\")","v":"A"},{"$f":"IF(Attendance($C14,'Daily Register'!IY$3:IY$242)=TRUE,\"P\",\"A\")","v":"A"},{"$f":"IF(Attendance($C14,'Daily Register'!IZ$3:IZ$242)=TRUE,\"P\",\"A\")","v":"A"},{"$f":"IF(Attendance($C14,'Daily Register'!JA$3:JA$242)=TRUE,\"P\",\"A\")","v":"A"},{"$f":"IF(Attendance($C14,'Daily Register'!JB$3:JB$242)=TRUE,\"P\",\"A\")","v":"A"},{"$f":"IF(Attendance($C14,'Daily Register'!JC$3:JC$242)=TRUE,\"P\",\"A\")","v":"A"},{"$f":"IF(Attendance($C14,'Daily Register'!JD$3:JD$242)=TRUE,\"P\",\"A\")","v":"A"},{"$f":"IF(Attendance($C14,'Daily Register'!JE$3:JE$242)=TRUE,\"P\",\"A\")","v":"A"},{"$f":"IF(Attendance($C14,'Daily Register'!JF$3:JF$242)=TRUE,\"P\",\"A\")","v":"A"},{"$f":"IF(Attendance($C14,'Daily Register'!JG$3:JG$242)=TRUE,\"P\",\"A\")","v":"A"},{"$f":"IF(Attendance($C14,'Daily Register'!JH$3:JH$242)=TRUE,\"P\",\"A\")","v":"A"},{"$f":"IF(Attendance($C14,'Daily Register'!JI$3:JI$242)=TRUE,\"P\",\"A\")","v":"A"},{"$f":"IF(Attendance($C14,'Daily Register'!JJ$3:JJ$242)=TRUE,\"P\",\"A\")","v":"A"},{"$f":"IF(Attendance($C14,'Daily Register'!JK$3:JK$242)=TRUE,\"P\",\"A\")","v":"A"},{"$f":"IF(Attendance($C14,'Daily Register'!JL$3:JL$242)=TRUE,\"P\",\"A\")","v":"A"},{"$f":"IF(Attendance($C14,'Daily Register'!JM$3:JM$242)=TRUE,\"P\",\"A\")","v":"A"},{"$f":"IF(Attendance($C14,'Daily Register'!JN$3:JN$242)=TRUE,\"P\",\"A\")","v":"A"},{"$f":"IF(Attendance($C14,'Daily Register'!JO$3:JO$242)=TRUE,\"P\",\"A\")","v":"A"},{"$f":"IF(Attendance($C14,'Daily Register'!JP$3:JP$242)=TRUE,\"P\",\"A\")","v":"A"},{"$f":"IF(Attendance($C14,'Daily Register'!JQ$3:JQ$242)=TRUE,\"P\",\"A\")","v":"A"},{"$f":"IF(Attendance($C14,'Daily Register'!JR$3:JR$242)=TRUE,\"P\",\"A\")","v":"A"},{"$f":"IF(Attendance($C14,'Daily Register'!JS$3:JS$242)=TRUE,\"P\",\"A\")","v":"A"},{"$f":"IF(Attendance($C14,'Daily Register'!JT$3:JT$242)=TRUE,\"P\",\"A\")","v":"A"},{"$f":"IF(Attendance($C14,'Daily Register'!JU$3:JU$242)=TRUE,\"P\",\"A\")","v":"A"},{"$f":"IF(Attendance($C14,'Daily Register'!JV$3:JV$242)=TRUE,\"P\",\"A\")","v":"A"},{"$f":"IF(Attendance($C14,'Daily Register'!JW$3:JW$242)=TRUE,\"P\",\"A\")","v":"A"},{"$f":"IF(Attendance($C14,'Daily Register'!JX$3:JX$242)=TRUE,\"P\",\"A\")","v":"A"},{"$f":"IF(Attendance($C14,'Daily Register'!JY$3:JY$242)=TRUE,\"P\",\"A\")","v":"A"},{"$f":"IF(Attendance($C14,'Daily Register'!JZ$3:JZ$242)=TRUE,\"P\",\"A\")","v":"A"},{"$f":"IF(Attendance($C14,'Daily Register'!KA$3:KA$242)=TRUE,\"P\",\"A\")","v":"A"},{"$f":"IF(Attendance($C14,'Daily Register'!KB$3:KB$242)=TRUE,\"P\",\"A\")","v":"A"},{"$f":"IF(Attendance($C14,'Daily Register'!KC$3:KC$242)=TRUE,\"P\",\"A\")","v":"A"},{"$f":"IF(Attendance($C14,'Daily Register'!KD$3:KD$242)=TRUE,\"P\",\"A\")","v":"A"},{"$f":"IF(Attendance($C14,'Daily Register'!KE$3:KE$242)=TRUE,\"P\",\"A\")","v":"A"},{"$f":"IF(Attendance($C14,'Daily Register'!KF$3:KF$242)=TRUE,\"P\",\"A\")","v":"A"},{"$f":"IF(Attendance($C14,'Daily Register'!KG$3:KG$242)=TRUE,\"P\",\"A\")","v":"A"},{"$f":"IF(Attendance($C14,'Daily Register'!KH$3:KH$242)=TRUE,\"P\",\"A\")","v":"A"},{"$f":"IF(Attendance($C14,'Daily Register'!KI$3:KI$242)=TRUE,\"P\",\"A\")","v":"A"},{"$f":"IF(Attendance($C14,'Daily Register'!KJ$3:KJ$242)=TRUE,\"P\",\"A\")","v":"A"},{"$f":"IF(Attendance($C14,'Daily Register'!KK$3:KK$242)=TRUE,\"P\",\"A\")","v":"A"},{"$f":"IF(Attendance($C14,'Daily Register'!KL$3:KL$242)=TRUE,\"P\",\"A\")","v":"A"},{"$f":"IF(Attendance($C14,'Daily Register'!KM$3:KM$242)=TRUE,\"P\",\"A\")","v":"A"},{"$f":"IF(Attendance($C14,'Daily Register'!KN$3:KN$242)=TRUE,\"P\",\"A\")","v":"A"},{"$f":"IF(Attendance($C14,'Daily Register'!KO$3:KO$242)=TRUE,\"P\",\"A\")","v":"A"},{"$f":"IF(Attendance($C14,'Daily Register'!KP$3:KP$242)=TRUE,\"P\",\"A\")","v":"A"},{"$f":"IF(Attendance($C14,'Daily Register'!KQ$3:KQ$242)=TRUE,\"P\",\"A\")","v":"A"},{"$f":"IF(Attendance($C14,'Daily Register'!KR$3:KR$242)=TRUE,\"P\",\"A\")","v":"A"},{"$f":"IF(Attendance($C14,'Daily Register'!KS$3:KS$242)=TRUE,\"P\",\"A\")","v":"A"},{"$f":"IF(Attendance($C14,'Daily Register'!KT$3:KT$242)=TRUE,\"P\",\"A\")","v":"A"},{"$f":"IF(Attendance($C14,'Daily Register'!KU$3:KU$242)=TRUE,\"P\",\"A\")","v":"A"},{"$f":"IF(Attendance($C14,'Daily Register'!KV$3:KV$242)=TRUE,\"P\",\"A\")","v":"A"},{"$f":"IF(Attendance($C14,'Daily Register'!KW$3:KW$242)=TRUE,\"P\",\"A\")","v":"A"},{"$f":"IF(Attendance($C14,'Daily Register'!KX$3:KX$242)=TRUE,\"P\",\"A\")","v":"A"},{"$f":"IF(Attendance($C14,'Daily Register'!KY$3:KY$242)=TRUE,\"P\",\"A\")","v":"A"},{"$f":"IF(Attendance($C14,'Daily Register'!KZ$3:KZ$242)=TRUE,\"P\",\"A\")","v":"A"},{"$f":"IF(Attendance($C14,'Daily Register'!LA$3:LA$242)=TRUE,\"P\",\"A\")","v":"A"},{"$f":"IF(Attendance($C14,'Daily Register'!LB$3:LB$242)=TRUE,\"P\",\"A\")","v":"A"},{"$f":"IF(Attendance($C14,'Daily Register'!LC$3:LC$242)=TRUE,\"P\",\"A\")","v":"A"},{"$f":"IF(Attendance($C14,'Daily Register'!LD$3:LD$242)=TRUE,\"P\",\"A\")","v":"A"},{"$f":"IF(Attendance($C14,'Daily Register'!LE$3:LE$242)=TRUE,\"P\",\"A\")","v":"A"},{"$f":"IF(Attendance($C14,'Daily Register'!LF$3:LF$242)=TRUE,\"P\",\"A\")","v":"A"},{"$f":"IF(Attendance($C14,'Daily Register'!LG$3:LG$242)=TRUE,\"P\",\"A\")","v":"A"},{"$f":"IF(Attendance($C14,'Daily Register'!LH$3:LH$242)=TRUE,\"P\",\"A\")","v":"A"},{"$f":"IF(Attendance($C14,'Daily Register'!LI$3:LI$242)=TRUE,\"P\",\"A\")","v":"A"},{"$f":"IF(Attendance($C14,'Daily Register'!LJ$3:LJ$242)=TRUE,\"P\",\"A\")","v":"A"},{"$f":"IF(Attendance($C14,'Daily Register'!LK$3:LK$242)=TRUE,\"P\",\"A\")","v":"A"},{"$f":"IF(Attendance($C14,'Daily Register'!LL$3:LL$242)=TRUE,\"P\",\"A\")","v":"A"},{"$f":"IF(Attendance($C14,'Daily Register'!LM$3:LM$242)=TRUE,\"P\",\"A\")","v":"A"},{"$f":"IF(Attendance($C14,'Daily Register'!LN$3:LN$242)=TRUE,\"P\",\"A\")","v":"A"},{"$f":"IF(Attendance($C14,'Daily Register'!LO$3:LO$242)=TRUE,\"P\",\"A\")","v":"A"},{"$f":"IF(Attendance($C14,'Daily Register'!LP$3:LP$242)=TRUE,\"P\",\"A\")","v":"A"},{"$f":"IF(Attendance($C14,'Daily Register'!LQ$3:LQ$242)=TRUE,\"P\",\"A\")","v":"A"},{"$f":"IF(Attendance($C14,'Daily Register'!LR$3:LR$242)=TRUE,\"P\",\"A\")","v":"A"},{"$f":"IF(Attendance($C14,'Daily Register'!LS$3:LS$242)=TRUE,\"P\",\"A\")","v":"A"},{"$f":"IF(Attendance($C14,'Daily Register'!LT$3:LT$242)=TRUE,\"P\",\"A\")","v":"A"},{"$f":"IF(Attendance($C14,'Daily Register'!LU$3:LU$242)=TRUE,\"P\",\"A\")","v":"A"},{"$f":"IF(Attendance($C14,'Daily Register'!LV$3:LV$242)=TRUE,\"P\",\"A\")","v":"A"},{"$f":"IF(Attendance($C14,'Daily Register'!LW$3:LW$242)=TRUE,\"P\",\"A\")","v":"A"},{"$f":"IF(Attendance($C14,'Daily Register'!LX$3:LX$242)=TRUE,\"P\",\"A\")","v":"A"},{"$f":"IF(Attendance($C14,'Daily Register'!LY$3:LY$242)=TRUE,\"P\",\"A\")","v":"A"},{"$f":"IF(Attendance($C14,'Daily Register'!LZ$3:LZ$242)=TRUE,\"P\",\"A\")","v":"A"},{"$f":"IF(Attendance($C14,'Daily Register'!MA$3:MA$242)=TRUE,\"P\",\"A\")","v":"A"},{"$f":"IF(Attendance($C14,'Daily Register'!MB$3:MB$242)=TRUE,\"P\",\"A\")","v":"A"},{"$f":"IF(Attendance($C14,'Daily Register'!MC$3:MC$242)=TRUE,\"P\",\"A\")","v":"A"},{"$f":"IF(Attendance($C14,'Daily Register'!MD$3:MD$242)=TRUE,\"P\",\"A\")","v":"A"},{"$f":"IF(Attendance($C14,'Daily Register'!ME$3:ME$242)=TRUE,\"P\",\"A\")","v":"A"},{"$f":"IF(Attendance($C14,'Daily Register'!MF$3:MF$242)=TRUE,\"P\",\"A\")","v":"A"},{"$f":"IF(Attendance($C14,'Daily Register'!MG$3:MG$242)=TRUE,\"P\",\"A\")","v":"A"},{"$f":"IF(Attendance($C14,'Daily Register'!MH$3:MH$242)=TRUE,\"P\",\"A\")","v":"A"},{"$f":"IF(Attendance($C14,'Daily Register'!MI$3:MI$242)=TRUE,\"P\",\"A\")","v":"A"},{"$f":"IF(Attendance($C14,'Daily Register'!MJ$3:MJ$242)=TRUE,\"P\",\"A\")","v":"A"},{"$f":"IF(Attendance($C14,'Daily Register'!MK$3:MK$242)=TRUE,\"P\",\"A\")","v":"A"},{"$f":"IF(Attendance($C14,'Daily Register'!ML$3:ML$242)=TRUE,\"P\",\"A\")","v":"A"},{"$f":"IF(Attendance($C14,'Daily Register'!MM$3:MM$242)=TRUE,\"P\",\"A\")","v":"A"},{"$f":"IF(Attendance($C14,'Daily Register'!MN$3:MN$242)=TRUE,\"P\",\"A\")","v":"A"},{"$f":"IF(Attendance($C14,'Daily Register'!MO$3:MO$242)=TRUE,\"P\",\"A\")","v":"A"},{"$f":"IF(Attendance($C14,'Daily Register'!MP$3:MP$242)=TRUE,\"P\",\"A\")","v":"A"},{"$f":"IF(Attendance($C14,'Daily Register'!MQ$3:MQ$242)=TRUE,\"P\",\"A\")","v":"A"},{"$f":"IF(Attendance($C14,'Daily Register'!MR$3:MR$242)=TRUE,\"P\",\"A\")","v":"A"},{"$f":"IF(Attendance($C14,'Daily Register'!MS$3:MS$242)=TRUE,\"P\",\"A\")","v":"A"},{"$f":"IF(Attendance($C14,'Daily Register'!MT$3:MT$242)=TRUE,\"P\",\"A\")","v":"A"},{"$f":"IF(Attendance($C14,'Daily Register'!MU$3:MU$242)=TRUE,\"P\",\"A\")","v":"A"},{"$f":"IF(Attendance($C14,'Daily Register'!MV$3:MV$242)=TRUE,\"P\",\"A\")","v":"A"},{"$f":"IF(Attendance($C14,'Daily Register'!MW$3:MW$242)=TRUE,\"P\",\"A\")","v":"A"},{"$f":"IF(Attendance($C14,'Daily Register'!MX$3:MX$242)=TRUE,\"P\",\"A\")","v":"A"},{"$f":"IF(Attendance($C14,'Daily Register'!MY$3:MY$242)=TRUE,\"P\",\"A\")","v":"A"},{"$f":"IF(Attendance($C14,'Daily Register'!MZ$3:MZ$242)=TRUE,\"P\",\"A\")","v":"A"},{"$f":"IF(Attendance($C14,'Daily Register'!NA$3:NA$242)=TRUE,\"P\",\"A\")","v":"A"},{"$f":"IF(Attendance($C14,'Daily Register'!NB$3:NB$242)=TRUE,\"P\",\"A\")","v":"A"}]
[0,null,12,null,{"$f":"IF(Attendance($C15,'Daily Register'!A$3:A$242)=TRUE,\"P\",\"A\")","v":"A"},{"$f":"IF(Attendance($C15,'Daily Register'!B$3:B$242)=TRUE,\"P\",\"A\")","v":"A"},{"$f":"IF(Attendance($C15,'Daily Register'!C$3:C$242)=TRUE,\"P\",\"A\")","v":"A"},{"$f":"IF(Attendance($C15,'Daily Register'!D$3:D$242)=TRUE,\"P\",\"A\")","v":"A"},{"$f":"IF(Attendance($C15,'Daily Register'!E$3:E$242)=TRUE,\"P\",\"A\")","v":"A"},{"$f":"IF(Attendance($C15,'Daily Register'!F$3:F$242)=TRUE,\"P\",\"A\")","v":"A"},{"$f":"IF(Attendance($C15,'Daily Register'!G$3:G$242)=TRUE,\"P\",\"A\")","v":"A"},{"$f":"IF(Attendance($C15,'Daily Register'!H$3:H$242)=TRUE,\"P\",\"A\")","v":"A"},{"$f":"IF(Attendance($C15,'Daily Register'!I$3:I$242)=TRUE,\"P\",\"A\")","v":"A"},{"$f":"IF(Attendance($C15,'Daily Register'!J$3:J$242)=TRUE,\"P\",\"A\")","v":"A"},{"$f":"IF(Attendance($C15,'Daily Register'!K$3:K$242)=TRUE,\"P\",\"A\")","v":"A"},{"$f":"IF(Attendance($C15,'Daily Register'!L$3:L$242)=TRUE,\"P\",\"A\")","v":"A"},{"$f":"IF(Attendance($C15,'Daily Register'!M$3:M$242)=TRUE,\"P\",\"A\")","v":"A"},{"$f":"IF(Attendance($C15,'Daily Register'!N$3:N$242)=TRUE,\"P\",\"A\")","v":"A"},{"$f":"IF(Attendance($C15,'Daily Register'!O$3:O$242)=TRUE,\"P\",\"A\")","v":"A"},{"$f":"IF(Attendance($C15,'Daily Register'!P$3:P$242)=TRUE,\"P\",\"A\")","v":"A"},{"$f":"IF(Attendance($C15,'Daily Register'!Q$3:Q$242)=TRUE,\"P\",\"A\")","v":"A"},{"$f":"IF(Attendance($C15,'Daily Register'!R$3:R$242)=TRUE,\"P\",\"A\")","v":"A"},{"$f":"IF(Attendance($C15,'Daily Register'!S$3:S$242)=TRUE,\"P\",\"A\")","v":"A"},{"$f":"IF(Attendance($C15,'Daily Register'!T$3:T$242)=TRUE,\"P\",\"A\")","v":"A"},{"$f":"IF(Attendance($C15,'Daily Register'!U$3:U$242)=TRUE,\"P\",\"A\")","v":"A"},{"$f":"IF(Attendance($C15,'Daily Register'!V$3:V$242)=TRUE,\"P\",\"A\")","v":"A"},{"$f":"IF(Attendance($C15,'Daily Register'!W$3:W$242)=TRUE,\"P\",\"A\")","v":"A"},{"$f":"IF(Attendance($C15,'Daily Register'!X$3:X$242)=TRUE,\"P\",\"A\")","v":"A"},{"$f":"IF(Attendance($C15,'Daily Register'!Y$3:Y$242)=TRUE,\"P\",\"A\")","v":"A"},{"$f":"IF(Attendance($C15,'Daily Register'!Z$3:Z$242)=TRUE,\"P\",\"A\")","v":"A"},{"$f":"IF(Attendance($C15,'Daily Register'!AA$3:AA$242)=TRUE,\"P\",\"A\")","v":"A"},{"$f":"IF(Attendance($C15,'Daily Register'!AB$3:AB$242)=TRUE,\"P\",\"A\")","v":"A"},{"$f":"IF(Attendance($C15,'Daily Register'!AC$3:AC$242)=TRUE,\"P\",\"A\")","v":"A"},{"$f":"IF(Attendance($C15,'Daily Register'!AD$3:AD$242)=TRUE,\"P\",\"A\")","v":"A"},{"$f":"IF(Attendance($C15,'Daily Register'!AE$3:AE$242)=TRUE,\"P\",\"A\")","v":"A"},{"$f":"IF(Attendance($C15,'Daily Register'!AF$3:AF$242)=TRUE,\"P\",\"A\")","v":"A"},{"$f":"IF(Attendance($C15,'Daily Register'!AG$3:AG$242)=TRUE,\"P\",\"A\")","v":"A"},{"$f":"IF(Attendance($C15,'Daily Register'!AH$3:AH$242)=TRUE,\"P\",\"A\")","v":"A"},{"$f":"IF(Attendance($C15,'Daily Register'!AI$3:AI$242)=TRUE,\"P\",\"A\")","v":"A"},{"$f":"IF(Attendance($C15,'Daily Register'!AJ$3:AJ$242)=TRUE,\"P\",\"A\")","v":"A"},{"$f":"IF(Attendance($C15,'Daily Register'!AK$3:AK$242)=TRUE,\"P\",\"A\")","v":"A"},{"$f":"IF(Attendance($C15,'Daily Register'!AL$3:AL$242)=TRUE,\"P\",\"A\")","v":"A"},{"$f":"IF(Attendance($C15,'Daily Register'!AM$3:AM$242)=TRUE,\"P\",\"A\")","v":"A"},{"$f":"IF(Attendance($C15,'Daily Register'!AN$3:AN$242)=TRUE,\"P\",\"A\")","v":"A"},{"$f":"IF(Attendance($C15,'Daily Register'!AO$3:AO$242)=TRUE,\"P\",\"A\")","v":"A"},{"$f":"IF(Attendance($C15,'Daily Register'!AP$3:AP$242)=TRUE,\"P\",\"A\")","v":"A"},{"$f":"IF(Attendance($C15,'Daily Register'!AQ$3:AQ$242)=TRUE,\"P\",\"A\")","v":"A"},{"$f":"IF(Attendance($C15,'Daily Register'!AR$3:AR$242)=TRUE,\"P\",\"A\")","v":"A"},{"$f":"IF(Attendance($C15,'Daily Register'!AS$3:AS$242)=TRUE,\"P\",\"A\")","v":"A"},{"$f":"IF(Attendance($C15,'Daily Register'!AT$3:AT$242)=TRUE,\"P\",\"A\")","v":"A"},{"$f":"IF(Attendance($C15,'Daily Register'!AU$3:AU$242)=TRUE,\"P\",\"A\")","v":"A"},{"$f":"IF(Attendance($C15,'Daily Register'!AV$3:AV$242)=TRUE,\"P\",\"A\")","v":"A"},{"$f":"IF(Attendance($C15,'Daily Register'!AW$3:AW$242)=TRUE,\"P\",\"A\")","v":"A"},{"$f":"IF(Attendance($C15,'Daily Register'!AX$3:AX$242)=TRUE,\"P\",\"A\")","v":"A"},{"$f":"IF(Attendance($C15,'Daily Register'!AY$3:AY$242)=TRUE,\"P\",\"A\")","v":"A"},{"$f":"IF(Attendance($C15,'Daily Register'!AZ$3:AZ$242)=TRUE,\"P\",\"A\")","v":"A"},{"$f":"IF(Attendance($C15,'Daily Register'!BA$3:BA$242)=TRUE,\"P\",\"A\")","v":"A"},{"$f":"IF(Attendance($C15,'Daily Register'!BB$3:BB$242)=TRUE,\"P\",\"A\")","v":"A"},{"$f":"IF(Attendance($C15,'Daily Register'!BC$3:BC$242)=TRUE,\"P\",\"A\")","v":"A"},{"$f":"IF(Attendance($C15,'Daily Register'!BD$3:BD$242)=TRUE,\"P\",\"A\")","v":"A"},{"$f":"IF(Attendance($C15,'Daily Register'!BE$3:BE$242)=TRUE,\"P\",\"A\")","v":"A"},{"$f":"IF(Attendance($C15,'Daily Register'!BF$3:BF$242)=TRUE,\"P\",\"A\")","v":"A"},{"$f":"IF(Attendance($C15,'Daily Register'!BG$3:BG$242)=TRUE,\"P\",\"A\")","v":"A"},{"$f":"IF(Attendance($C15,'Daily Register'!BH$3:BH$242)=TRUE,\"P\",\"A\")","v":"A"},{"$f":"IF(Attendance($C15,'Daily Register'!BI$3:BI$242)=TRUE,\"P\",\"A\")","v":"A"},{"$f":"IF(Attendance($C15,'Daily Register'!BJ$3:BJ$242)=TRUE,\"P\",\"A\")","v":"A"},{"$f":"IF(Attendance($C15,'Daily Register'!BK$3:BK$242)=TRUE,\"P\",\"A\")","v":"A"},{"$f":"IF(Attendance($C15,'Daily Register'!BL$3:BL$242)=TRUE,\"P\",\"A\")","v":"A"},{"$f":"IF(Attendance($C15,'Daily Register'!BM$3:BM$242)=TRUE,\"P\",\"A\")","v":"A"},{"$f":"IF(Attendance($C15,'Daily Register'!BN$3:BN$242)=TRUE,\"P\",\"A\")","v":"A"},{"$f":"IF(Attendance($C15,'Daily Register'!BO$3:BO$242)=TRUE,\"P\",\"A\")","v":"A"},{"$f":"IF(Attendance($C15,'Daily Register'!BP$3:BP$242)=TRUE,\"P\",\"A\")","v":"A"},{"$f":"IF(Attendance($C15,'Daily Register'!BQ$3:BQ$242)=TRUE,\"P\",\"A\")","v":"A"},{"$f":"IF(Attendance($C15,'Daily Register'!BR$3:BR$242)=TRUE,\"P\",\"A\")","v":"A"},{"$f":"IF(Attendance($C15,'Daily Register'!BS$3:BS$242)=TRUE,\"P\",\"A\")","v":"A"},{"$f":"IF(Attendance($C15,'Daily Register'!BT$3:BT$242)=TRUE,\"P\",\"A\")","v":"A"},{"$f":"IF(Attendance($C15,'Daily Register'!BU$3:BU$242)=TRUE,\"P\",\"A\")","v":"A"},{"$f":"IF(Attendance($C15,'Daily Register'!BV$3:BV$242)=TRUE,\"P\",\"A\")","v":"A"},{"$f":"IF(Attendance($C15,'Daily Register'!BW$3:BW$242)=TRUE,\"P\",\"A\")","v":"A"},{"$f":"IF(Attendance($C15,'Daily Register'!BX$3:BX$242)=TRUE,\"P\",\"A\")","v":"A"},{"$f":"IF(Attendance($C15,'Daily Register'!BY$3:BY$242)=TRUE,\"P\",\"A\")","v":"A"},{"$f":"IF(Attendance($C15,'Daily Register'!BZ$3:BZ$242)=TRUE,\"P\",\"A\")","v":"A"},{"$f":"IF(Attendance($C15,'Daily Register'!CA$3:CA$242)=TRUE,\"P\",\"A\")","v":"A"},{"$f":"IF(Attendance($C15,'Daily Register'!CB$3:CB$242)=TRUE,\"P\",\"A\")","v":"A"},{"$f":"IF(Attendance($C15,'Daily Register'!CC$3:CC$242)=TRUE,\"P\",\"A\")","v":"A"},{"$f":"IF(Attendance($C15,'Daily Register'!CD$3:CD$242)=TRUE,\"P\",\"A\")","v":"A"},{"$f":"IF(Attendance($C15,'Daily Register'!CE$3:CE$242)=TRUE,\"P\",\"A\")","v":"A"},{"$f":"IF(Attendance($C15,'Daily Register'!CF$3:CF$242)=TRUE,\"P\",\"A\")","v":"A"},{"$f":"IF(Attendance($C15,'Daily Register'!CG$3:CG$242)=TRUE,\"P\",\"A\")","v":"A"},{"$f":"IF(Attendance($C15,'Daily Register'!CH$3:CH$242)=TRUE,\"P\",\"A\")","v":"A"},{"$f":"IF(Attendance($C15,'Daily Register'!CI$3:CI$242)=TRUE,\"P\",\"A\")","v":"A"},{"$f":"IF(Attendance($C15,'Daily Register'!CJ$3:CJ$242)=TRUE,\"P\",\"A\")","v":"A"},{"$f":"IF(Attendance($C15,'Daily Register'!CK$3:CK$242)=TRUE,\"P\",\"A\")","v":"A"},{"$f":"IF(Attendance($C15,'Daily Register'!CL$3:CL$242)=TRUE,\"P\",\"A\")","v":"A"},{"$f":"IF(Attendance($C15,'Daily Register'!CM$3:CM$242)=TRUE,\"P\",\"A\")","v":"A"},{"$f":"IF(Attendance($C15,'Daily Register'!CN$3:CN$242)=TRUE,\"P\",\"A\")","v":"A"},{"$f":"IF(Attendance($C15,'Daily Register'!CO$3:CO$242)=TRUE,\"P\",\"A\")","v":"A"},{"$f":"IF(Attendance($C15,'Daily Register'!CP$3:CP$242)=TRUE,\"P\",\"A\")","v":"A"},{"$f":"IF(Attendance($C15,'Daily Register'!CQ$3:CQ$242)=TRUE,\"P\",\"A\")","v":"A"},{"$f":"IF(Attendance($C15,'Daily Register'!CR$3:CR$242)=TRUE,\"P\",\"A\")","v":"A"},{"$f":"IF(Attendance($C15,'Daily Register'!CS$3:CS$242)=TRUE,\"P\",\"A\")","v":"A"},{"$f":"IF(Attendance($C15,'Daily Register'!CT$3:CT$242)=TRUE,\"P\",\"A\")","v":"A"},{"$f":"IF(Attendance($C15,'Daily Register'!CU$3:CU$242)=TRUE,\"P\",\"A\")","v":"A"},{"$f":"IF(Attendance($C15,'Daily Register'!CV$3:CV$242)=TRUE,\"P\",\"A\")","v":"A"},{"$f":"IF(Attendance($C15,'Daily Register'!CW$3:CW$242)=TRUE,\"P\",\"A\")","v":"A"},{"$f":"IF(Attendance($C15,'Daily Register'!CX$3:CX$242)=TRUE,\"P\",\"A\")","v":"A"},{"$f":"IF(Attendance($C15,'Daily Register'!CY$3:CY$242)=TRUE,\"P\",\"A\")","v":"A"},{"$f":"IF(Attendance($C15,'Daily Register'!CZ$3:CZ$242)=TRUE,\"P\",\"A\")","v":"A"},{"$f":"IF(Attendance($C15,'Daily Register'!DA$3:DA$242)=TRUE,\"P\",\"A\")","v":"A"},{"$f":"IF(Attendance($C15,'Daily Register'!DB$3:DB$242)=TRUE,\"P\",\"A\")","v":"A"},{"$f":"IF(Attendance($C15,'Daily Register'!DC$3:DC$242)=TRUE,\"P\",\"A\")","v":"A"},{"$f":"IF(Attendance($C15,'Daily Register'!DD$3:DD$242)=TRUE,\"P\",\"A\")","v":"A"},{"$f":"IF(Attendance($C15,'Daily Register'!DE$3:DE$242)=TRUE,\"P\",\"A\")","v":"A"},{"$f":"IF(Attendance($C15,'Daily Register'!DF$3:DF$242)=TRUE,\"P\",\"A\")","v":"A"},{"$f":"IF(Attendance($C15,'Daily Register'!DG$3:DG$242)=TRUE,\"P\",\"A\")","v":"A"},{"$f":"IF(Attendance($C15,'Daily Register'!DH$3:DH$242)=TRUE,\"P\",\"A\")","v":"A"},{"$f":"IF(Attendance($C15,'Daily Register'!DI$3:DI$242)=TRUE,\"P\",\"A\")","v":"A"},{"$f":"IF(Attendance($C15,'Daily Register'!DJ$3:DJ$242)=TRUE,\"P\",\"A\")","v":"A"},{"$f":"IF(Attendance($C15,'Daily Register'!DK$3:DK$242)=TRUE,\"P\",\"A\")","v":"A"},{"$f":"IF(Attendance($C15,'Daily Register'!DL$3:DL$242)=TRUE,\"P\",\"A\")","v":"A"},{"$f":"IF(Attendance($C15,'Daily Register'!DM$3:DM$242)=TRUE,\"P\",\"A\")","v":"A"},{"$f":"IF(Attendance($C15,'Daily Register'!DN$3:DN$242)=TRUE,\"P\",\"A\")","v":"A"},{"$f":"IF(Attendance($C15,'Daily Register'!DO$3:DO$242)=TRUE,\"P\",\"A\")","v":"A"},{"$f":"IF(Attendance($C15,'Daily Register'!DP$3:DP$242)=TRUE,\"P\",\"A\")","v":"A"},{"$f":"IF(Attendance($C15,'Daily Register'!DQ$3:DQ$242)=TRUE,\"P\",\"A\")","v":"A"},{"$f":"IF(Attendance($C15,'Daily Register'!DR$3:DR$242)=TRUE,\"P\",\"A\")","v":"A"},{"$f":"IF(Attendance($C15,'Daily Register'!DS$3:DS$242)=TRUE,\"P\",\"A\")","v":"A"},{"$f":"IF(Attendance($C15,'Daily Register'!DT$3:DT$242)=TRUE,\"P\",\"A\")","v":"A"},{"$f":"IF(Attendance($C15,'Daily Register'!DU$3:DU$242)=TRUE,\"P\",\"A\")","v":"A"},{"$f":"IF(Attendance($C15,'Daily Register'!DV$3:DV$242)=TRUE,\"P\",\"A\")","v":"A"},{"$f":"IF(Attendance($C15,'Daily Register'!DW$3:DW$242)=TRUE,\"P\",\"A\")","v":"A"},{"$f":"IF(Attendance($C15,'Daily Register'!DX$3:DX$242)=TRUE,\"P\",\"A\")","v":"A"},{"$f":"IF(Attendance($C15,'Daily Register'!DY$3:DY$242)=TRUE,\"P\",\"A\")","v":"A"},{"$f":"IF(Attendance($C15,'Daily Register'!DZ$3:DZ$242)=TRUE,\"P\",\"A\")","v":"A"},{"$f":"IF(Attendance($C15,'Daily Register'!EA$3:EA$242)=TRUE,\"P\",\"A\")","v":"A"},{"$f":"IF(Attendance($C15,'Daily Register'!EB$3:EB$242)=TRUE,\"P\",\"A\")","v":"A"},{"$f":"IF(Attendance($C15,'Daily Register'!EC$3:EC$242)=TRUE,\"P\",\"A\")","v":"A"},{"$f":"IF(Attendance($C15,'Daily Register'!ED$3:ED$242)=TRUE,\"P\",\"A\")","v":"A"},{"$f":"IF(Attendance($C15,'Daily Register'!EE$3:EE$242)=TRUE,\"P\",\"A\")","v":"A"},{"$f":"IF(Attendance($C15,'Daily Register'!EF$3:EF$242)=TRUE,\"P\",\"A\")","v":"A"},{"$f":"IF(Attendance($C15,'Daily Register'!EG$3:EG$242)=TRUE,\"P\",\"A\")","v":"A"},{"$f":"IF(Attendance($C15,'Daily Register'!EH$3:EH$242)=TRUE,\"P\",\"A\")","v":"A"},{"$f":"IF(Attendance($C15,'Daily Register'!EI$3:EI$242)=TRUE,\"P\",\"A\")","v":"A"},{"$f":"IF(Attendance($C15,'Daily Register'!EJ$3:EJ$242)=TRUE,\"P\",\"A\")","v":"A"},{"$f":"IF(Attendance($C15,'Daily Register'!EK$3:EK$242)=TRUE,\"P\",\"A\")","v":"A"},{"$f":"IF(Attendance($C15,'Daily Register'!EL$3:EL$242)=TRUE,\"P\",\"A\")","v":"A"},{"$f":"IF(Attendance($C15,'Daily Register'!EM$22:EM$242)=TRUE,\"P\",\"A\")","v":"A"},{"$f":"IF(Attendance($C15,'Daily Register'!EN$3:EN$242)=TRUE,\"P\",\"A\")","v":"A"},{"$f":"IF(Attendance($C15,'Daily Register'!EO$3:EO$242)=TRUE,\"P\",\"A\")","v":"A"},{"$f":"IF(Attendance($C15,'Daily Register'!EP$3:EP$242)=TRUE,\"P\",\"A\")","v":"A"},{"$f":"IF(Attendance($C15,'Daily Register'!EQ$3:EQ$242)=TRUE,\"P\",\"A\")","v":"A"},{"$f":"IF(Attendance($C15,'Daily Register'!ER$3:ER$242)=TRUE,\"P\",\"A\")","v":"A"},{"$f":"IF(Attendance($C15,'Daily Register'!ES$3:ES$242)=TRUE,\"P\",\"A\")","v":"A"},{"$f":"IF(Attendance($C15,'Daily Register'!ET$3:ET$242)=TRUE,\"P\",\"A\")","v":"A"},{"$f":"IF(Attendance($C15,'Daily Register'!EU$3:EU$242)=TRUE,\"P\",\"A\")","v":"A"},{"$f":"IF(Attendance($C15,'Daily Register'!EV$3:EV$242)=TRUE,\"P\",\"A\")","v":"A"},{"$f":"IF(Attendance($C15,'Daily Register'!EW$3:EW$242)=TRUE,\"P\",\"A\")","v":"A"},{"$f":"IF(Attendance($C15,'Daily Register'!EX$3:EX$242)=TRUE,\"P\",\"A\")","v":"A"},{"$f":"IF(Attendance($C15,'Daily Register'!EY$3:EY$242)=TRUE,\"P\",\"A\")","v":"A"},{"$f":"IF(Attendance($C15,'Daily Register'!EZ$3:EZ$242)=TRUE,\"P\",\"A\")","v":"A"},{"$f":"IF(Attendance($C15,'Daily Register'!FA$3:FA$242)=TRUE,\"P\",\"A\")","v":"A"},{"$f":"IF(Attendance($C15,'Daily Register'!FB$3:FB$242)=TRUE,\"P\",\"A\")","v":"A"},{"$f":"IF(Attendance($C15,'Daily Register'!FC$3:FC$242)=TRUE,\"P\",\"A\")","v":"A"},{"$f":"IF(Attendance($C15,'Daily Register'!FD$3:FD$242)=TRUE,\"P\",\"A\")","v":"A"},{"$f":"IF(Attendance($C15,'Daily Register'!FE$3:FE$242)=TRUE,\"P\",\"A\")","v":"A"},{"$f":"IF(Attendance($C15,'Daily Register'!FF$3:FF$242)=TRUE,\"P\",\"A\")","v":"A"},{"$f":"IF(Attendance($C15,'Daily Register'!FG$3:FG$242)=TRUE,\"P\",\"A\")","v":"A"},{"$f":"IF(Attendance($C15,'Daily Register'!FH$3:FH$242)=TRUE,\"P\",\"A\")","v":"A"},{"$f":"IF(Attendance($C15,'Daily Register'!FI$3:FI$242)=TRUE,\"P\",\"A\")","v":"A"},{"$f":"IF(Attendance($C15,'Daily Register'!FJ$3:FJ$242)=TRUE,\"P\",\"A\")","v":"A"},{"$f":"IF(Attendance($C15,'Daily Register'!FK$3:FK$242)=TRUE,\"P\",\"A\")","v":"A"},{"$f":"IF(Attendance($C15,'Daily Register'!FL$3:FL$242)=TRUE,\"P\",\"A\")","v":"A"},{"$f":"IF(Attendance($C15,'Daily Register'!FM$3:FM$242)=TRUE,\"P\",\"A\")","v":"A"},{"$f":"IF(Attendance($C15,'Daily Register'!FN$3:FN$242)=TRUE,\"P\",\"A\")","v":"A"},{"$f":"IF(Attendance($C15,'Daily Register'!FO$3:FO$242)=TRUE,\"P\",\"A\")","v":"A"},{"$f":"IF(Attendance($C15,'Daily Register'!FP$3:FP$242)=TRUE,\"P\",\"A\")","v":"A"},{"$f":"IF(Attendance($C15,'Daily Register'!FQ$3:FQ$242)=TRUE,\"P\",\"A\")","v":"A"},{"$f":"IF(Attendance($C15,'Daily Register'!FR$3:FR$242)=TRUE,\"P\",\"A\")","v":"A"},{"$f":"IF(Attendance($C15,'Daily Register'!FS$3:FS$242)=TRUE,\"P\",\"A\")","v":"A"},{"$f":"IF(Attendance($C15,'Daily Register'!FT$3:FT$242)=TRUE,\"P\",\"A\")","v":"A"},{"$f":"IF(Attendance($C15,'Daily Register'!FU$3:FU$242)=TRUE,\"P\",\"A\")","v":"A"},{"$f":"IF(Attendance($C15,'Daily Register'!FV$3:FV$242)=TRUE,\"P\",\"A\")","v":"A"},{"$f":"IF(Attendance($C15,'Daily Register'!FW$3:FW$242)=TRUE,\"P\",\"A\")","v":"A"},{"$f":"IF(Attendance($C15,'Daily Register'!FX$3:FX$242)=TRUE,\"P\",\"A\")","v":"A"},{"$f":"IF(Attendance($C15,'Daily Register'!FY$3:FY$242)=TRUE,\"P\",\"A\")","v":"A"},{"$f":"IF(Attendance($C15,'Daily Register'!FZ$3:FZ$242)=TRUE,\"P\",\"A\")","v":"A"},{"$f":"IF(Attendance($C15,'Daily Register'!GA$3:GA$242)=TRUE,\"P\",\"A\")","v":"A"},{"$f":"IF(Attendance($C15,'Daily Register'!GB$3:GB$242)=TRUE,\"P\",\"A\")","v":"A"},{"$f":"IF(Attendance($C15,'Daily Register'!GC$3:GC$242)=TRUE,\"P\",\"A\")","v":"A"},{"$f":"IF(Attendance($C15,'Daily Register'!GD$3:GD$242)=TRUE,\"P\",\"A\")","v":"A"},{"$f":"IF(Attendance($C15,'Daily Register'!GE$3:GE$242)=TRUE,\"P\",\"A\")","v":"A"},{"$f":"IF(Attendance($C15,'Daily Register'!GF$3:GF$242)=TRUE,\"P\",\"A\")","v":"A"},{"$f":"IF(Attendance($C15,'Daily Register'!GG$3:GG$242)=TRUE,\"P\",\"A\")","v":"A"},{"$f":"IF(Attendance($C15,'Daily Register'!GH$3:GH$242)=TRUE,\"P\",\"A\")","v":"A"},{"$f":"IF(Attendance($C15,'Daily Register'!GI$3:GI$242)=TRUE,\"P\",\"A\")","v":"A"},{"$f":"IF(Attendance($C15,'Daily Register'!GJ$3:GJ$242)=TRUE,\"P\",\"A\")","v":"A"},{"$f":"IF(Attendance($C15,'Daily Register'!GK$3:GK$242)=TRUE,\"P\",\"A\")","v":"A"},{"$f":"IF(Attendance($C15,'Daily Register'!GL$3:GL$242)=TRUE,\"P\",\"A\")","v":"A"},{"$f":"IF(Attendance($C15,'Daily Register'!GM$3:GM$242)=TRUE,\"P\",\"A\")","v":"A"},{"$f":"IF(Attendance($C15,'Daily Register'!GN$3:GN$242)=TRUE,\"P\",\"A\")","v":"A"},{"$f":"IF(Attendance($C15,'Daily Register'!GO$3:GO$242)=TRUE,\"P\",\"A\")","v":"A"},{"$f":"IF(Attendance($C15,'Daily Register'!GP$3:GP$242)=TRUE,\"P\",\"A\")","v":"A"},{"$f":"IF(Attendance($C15,'Daily Register'!GQ$3:GQ$242)=TRUE,\"P\",\"A\")","v":"A"},{"$f":"IF(Attendance($C15,'Daily Register'!GR$3:GR$242)=TRUE,\"P\",\"A\")","v":"A"},{"$f":"IF(Attendance($C15,'Daily Register'!GS$3:GS$242)=TRUE,\"P\",\"A\")","v":"A"},{"$f":"IF(Attendance($C15,'Daily Register'!GT$3:GT$242)=TRUE,\"P\",\"A\")","v":"A"},{"$f":"IF(Attendance($C15,'Daily Register'!GU$3:GU$242)=TRUE,\"P\",\"A\")","v":"A"},{"$f":"IF(Attendance($C15,'Daily Register'!GV$3:GV$242)=TRUE,\"P\",\"A\")","v":"A"},{"$f":"IF(Attendance($C15,'Daily Register'!GW$3:GW$242)=TRUE,\"P\",\"A\")","v":"A"},{"$f":"IF(Attendance($C15,'Daily Register'!GX$3:GX$242)=TRUE,\"P\",\"A\")","v":"A"},{"$f":"IF(Attendance($C15,'Daily Register'!GY$3:GY$242)=TRUE,\"P\",\"A\")","v":"A"},{"$f":"IF(Attendance($C15,'Daily Register'!GZ$3:GZ$242)=TRUE,\"P\",\"A\")","v":"A"},{"$f":"IF(Attendance($C15,'Daily Register'!HA$3:HA$242)=TRUE,\"P\",\"A\")","v":"A"},{"$f":"IF(Attendance($C15,'Daily Register'!HB$3:HB$242)=TRUE,\"P\",\"A\")","v":"A"},{"$f":"IF(Attendance($C15,'Daily Register'!HC$3:HC$242)=TRUE,\"P\",\"A\")","v":"A"},{"$f":"IF(Attendance($C15,'Daily Register'!HD$3:HD$242)=TRUE,\"P\",\"A\")","v":"A"},{"$f":"IF(Attendance($C15,'Daily Register'!HE$3:HE$242)=TRUE,\"P\",\"A\")","v":"A"},{"$f":"IF(Attendance($C15,'Daily Register'!HF$3:HF$242)=TRUE,\"P\",\"A\")","v":"A"},{"$f":"IF(Attendance($C15,'Daily Register'!HG$3:HG$242)=TRUE,\"P\",\"A\")","v":"A"},{"$f":"IF(Attendance($C15,'Daily Register'!HH$3:HH$242)=TRUE,\"P\",\"A\")","v":"A"},{"$f":"IF(Attendance($C15,'Daily Register'!HI$3:HI$242)=TRUE,\"P\",\"A\")","v":"A"},{"$f":"IF(Attendance($C15,'Daily Register'!HJ$3:HJ$242)=TRUE,\"P\",\"A\")","v":"A"},{"$f":"IF(Attendance($C15,'Daily Register'!HK$3:HK$242)=TRUE,\"P\",\"A\")","v":"A"},{"$f":"IF(Attendance($C15,'Daily Register'!HL$3:HL$242)=TRUE,\"P\",\"A\")","v":"A"},{"$f":"IF(Attendance($C15,'Daily Register'!HM$3:HM$242)=TRUE,\"P\",\"A\")","v":"A"},{"$f":"IF(Attendance($C15,'Daily Register'!HN$3:HN$242)=TRUE,\"P\",\"A\")","v":"A"},{"$f":"IF(Attendance($C15,'Daily Register'!HO$3:HO$242)=TRUE,\"P\",\"A\")","v":"A"},{"$f":"IF(Attendance($C15,'Daily Register'!HP$3:HP$242)=TRUE,\"P\",\"A\")","v":"A"},{"$f":"IF(Attendance($C15,'Daily Register'!HQ$3:HQ$242)=TRUE,\"P\",\"A\")","v":"A"},{"$f":"IF(Attendance($C15,'Daily Register'!HR$3:HR$242)=TRUE,\"P\",\"A\")","v":"A"},{"$f":"IF(Attendance($C15,'Daily Register'!HS$3:HS$242)=TRUE,\"P\",\"A\")","v":"A"},{"$f":"IF(Attendance($C15,'Daily Register'!HT$3:HT$242)=TRUE,\"P\",\"A\")","v":"A"},{"$f":"IF(Attendance($C15,'Daily Register'!HU$3:HU$242)=TRUE,\"P\",\"A\")","v":"A"},{"$f":"IF(Attendance($C15,'Daily Register'!HV$3:HV$242)=TRUE,\"P\",\"A\")","v":"A"},{"$f":"IF(Attendance($C15,'Daily Register'!HW$3:HW$242)=TRUE,\"P\",\"A\")","v":"A"},{"$f":"IF(Attendance($C15,'Daily Register'!HX$3:HX$242)=TRUE,\"P\",\"A\")","v":"A"},{"$f":"IF(Attendance($C15,'Daily Register'!HY$3:HY$242)=TRUE,\"P\",\"A\")","v":"A"},{"$f":"IF(Attendance($C15,'Daily Register'!HZ$3:HZ$242)=TRUE,\"P\",\"A\")","v":"A"},{"$f":"IF(Attendance($C15,'Daily Register'!IA$3:IA$242)=TRUE,\"P\",\"A\")","v":"A"},{"$f":"IF(Attendance($C15,'Daily Register'!IB$3:IB$242)=TRUE,\"P\",\"A\")","v":"A"},{"$f":"IF(Attendance($C15,'Daily Register'!IC$3:IC$242)=TRUE,\"P\",\"A\")","v":"A"},{"$f":"IF(Attendance($C15,'Daily Register'!ID$3:ID$242)=TRUE,\"P\",\"A\")","v":"A"},{"$f":"IF(Attendance($C15,'Daily Register'!IE$3:IE$242)=TRUE,\"P\",\"A\")","v":"A"},{"$f":"IF(Attendance($C15,'Daily Register'!IF$3:IF$242)=TRUE,\"P\",\"A\")","v":"A"},{"$f":"IF(Attendance($C15,'Daily Register'!IG$3:IG$242)=TRUE,\"P\",\"A\")","v":"A"},{"$f":"IF(Attendance($C15,'Daily Register'!IH$3:IH$242)=TRUE,\"P\",\"A\")","v":"A"},{"$f":"IF(Attendance($C15,'Daily Register'!II$3:II$242)=TRUE,\"P\",\"A\")","v":"A"},{"$f":"IF(Attendance($C15,'Daily Register'!IJ$3:IJ$242)=TRUE,\"P\",\"A\")","v":"A"},{"$f":"IF(Attendance($C15,'Daily Register'!IK$3:IK$242)=TRUE,\"P\",\"A\")","v":"A"},{"$f":"IF(Attendance($C15,'Daily Register'!IL$3:IL$242)=TRUE,\"P\",\"A\")","v":"A"},{"$f":"IF(Attendance($C15,'Daily Register'!IM$3:IM$242)=TRUE,\"P\",\"A\")","v":"A"},{"$f":"IF(Attendance($C15,'Daily Register'!IN$3:IN$242)=TRUE,\"P\",\"A\")","v":"A"},{"$f":"IF(Attendance($C15,'Daily Register'!IO$3:IO$242)=TRUE,\"P\",\"A\")","v":"A"},{"$f":"IF(Attendance($C15,'Daily Register'!IP$3:IP$242)=TRUE,\"P\",\"A\")","v":"A"},{"$f":"IF(Attendance($C15,'Daily Register'!IQ$3:IQ$242)=TRUE,\"P\",\"A\")","v":"A"},{"$f":"IF(Attendance($C15,'Daily Register'!IR$3:IR$242)=TRUE,\"P\",\"A\")","v":"A"},{"$f":"IF(Attendance($C15,'Daily Register'!IS$3:IS$242)=TRUE,\"P\",\"A\")","v":"A"},{"$f":"IF(Attendance($C15,'Daily Register'!IT$3:IT$242)=TRUE,\"P\",\"A\")","v":"A"},{"$f":"IF(Attendance($C15,'Daily Register'!IU$3:IU$242)=TRUE,\"P\",\"A\")","v":"A"},{"$f":"IF(Attendance($C15,'Daily Register'!IV$3:IV$242)=TRUE,\"P\",\"A\")","v":"A"},{"$f":"IF(Attendance($C15,'Daily Register'!IW$3:IW$242)=TRUE,\"P\",\"A\")","v":"A"},{"$f":"IF(Attendance($C15,'Daily Register'!IX$3:IX$242)=TRUE,\"P\",\"A\")","v":"A"},{"$f":"IF(Attendance($C15,'Daily Register'!IY$3:IY$242)=TRUE,\"P\",\"A\")","v":"A"},{"$f":"IF(Attendance($C15,'Daily Register'!IZ$3:IZ$242)=TRUE,\"P\",\"A\")","v":"A"},{"$f":"IF(Attendance($C15,'Daily Register'!JA$3:JA$242)=TRUE,\"P\",\"A\")","v":"A"},{"$f":"IF(Attendance($C15,'Daily Register'!JB$3:JB$242)=TRUE,\"P\",\"A\")","v":"A"},{"$f":"IF(Attendance($C15,'Daily Register'!JC$3:JC$242)=TRUE,\"P\",\"A\")","v":"A"},{"$f":"IF(Attendance($C15,'Daily Register'!JD$3:JD$242)=TRUE,\"P\",\"A\")","v":"A"},{"$f":"IF(Attendance($C15,'Daily Register'!JE$3:JE$242)=TRUE,\"P\",\"A\")","v":"A"},{"$f":"IF(Attendance($C15,'Daily Register'!JF$3:JF$242)=TRUE,\"P\",\"A\")","v":"A"},{"$f":"IF(Attendance($C15,'Daily Register'!JG$3:JG$242)=TRUE,\"P\",\"A\")","v":"A"},{"$f":"IF(Attendance($C15,'Daily Register'!JH$3:JH$242)=TRUE,\"P\",\"A\")","v":"A"},{"$f":"IF(Attendance($C15,'Daily Register'!JI$3:JI$242)=TRUE,\"P\",\"A\")","v":"A"},{"$f":"IF(Attendance($C15,'Daily Register'!JJ$3:JJ$242)=TRUE,\"P\",\"A\")","v":"A"},{"$f":"IF(Attendance($C15,'Daily Register'!JK$3:JK$242)=TRUE,\"P\",\"A\")","v":"A"},{"$f":"IF(Attendance($C15,'Daily Register'!JL$3:JL$242)=TRUE,\"P\",\"A\")","v":"A"},{"$f":"IF(Attendance($C15,'Daily Register'!JM$3:JM$242)=TRUE,\"P\",\"A\")","v":"A"},{"$f":"IF(Attendance($C15,'Daily Register'!JN$3:JN$242)=TRUE,\"P\",\"A\")","v":"A"},{"$f":"IF(Attendance($C15,'Daily Register'!JO$3:JO$242)=TRUE,\"P\",\"A\")","v":"A"},{"$f":"IF(Attendance($C15,'Daily Register'!JP$3:JP$242)=TRUE,\"P\",\"A\")","v":"A"},{"$f":"IF(Attendance($C15,'Daily Register'!JQ$3:JQ$242)=TRUE,\"P\",\"A\")","v":"A"},{"$f":"IF(Attendance($C15,'Daily Register'!JR$3:JR$242)=TRUE,\"P\",\"A\")","v":"A"},{"$f":"IF(Attendance($C15,'Daily Register'!JS$3:JS$242)=TRUE,\"P\",\"A\")","v":"A"},{"$f":"IF(Attendance($C15,'Daily Register'!JT$3:JT$242)=TRUE,\"P\",\"A\")","v":"A"},{"$f":"IF(Attendance($C15,'Daily Register'!JU$3:JU$242)=TRUE,\"P\",\"A\")","v":"A"},{"$f":"IF(Attendance($C15,'Daily Register'!JV$3:JV$242)=TRUE,\"P\",\"A\")","v":"A"},{"$f":"IF(Attendance($C15,'Daily Register'!JW$3:JW$242)=TRUE,\"P\",\"A\")","v":"A"},{"$f":"IF(Attendance($C15,'Daily Register'!JX$3:JX$242)=TRUE,\"P\",\"A\")","v":"A"},{"$f":"IF(Attendance($C15,'Daily Register'!JY$3:JY$242)=TRUE,\"P\",\"A\")","v":"A"},{"$f":"IF(Attendance($C15,'Daily Register'!JZ$3:JZ$242)=TRUE,\"P\",\"A\")","v":"A"},{"$f":"IF(Attendance($C15,'Daily Register'!KA$3:KA$242)=TRUE,\"P\",\"A\")","v":"A"},{"$f":"IF(Attendance($C15,'Daily Register'!KB$3:KB$242)=TRUE,\"P\",\"A\")","v":"A"},{"$f":"IF(Attendance($C15,'Daily Register'!KC$3:KC$242)=TRUE,\"P\",\"A\")","v":"A"},{"$f":"IF(Attendance($C15,'Daily Register'!KD$3:KD$242)=TRUE,\"P\",\"A\")","v":"A"},{"$f":"IF(Attendance($C15,'Daily Register'!KE$3:KE$242)=TRUE,\"P\",\"A\")","v":"A"},{"$f":"IF(Attendance($C15,'Daily Register'!KF$3:KF$242)=TRUE,\"P\",\"A\")","v":"A"},{"$f":"IF(Attendance($C15,'Daily Register'!KG$3:KG$242)=TRUE,\"P\",\"A\")","v":"A"},{"$f":"IF(Attendance($C15,'Daily Register'!KH$3:KH$242)=TRUE,\"P\",\"A\")","v":"A"},{"$f":"IF(Attendance($C15,'Daily Register'!KI$3:KI$242)=TRUE,\"P\",\"A\")","v":"A"},{"$f":"IF(Attendance($C15,'Daily Register'!KJ$3:KJ$242)=TRUE,\"P\",\"A\")","v":"A"},{"$f":"IF(Attendance($C15,'Daily Register'!KK$3:KK$242)=TRUE,\"P\",\"A\")","v":"A"},{"$f":"IF(Attendance($C15,'Daily Register'!KL$3:KL$242)=TRUE,\"P\",\"A\")","v":"A"},{"$f":"IF(Attendance($C15,'Daily Register'!KM$3:KM$242)=TRUE,\"P\",\"A\")","v":"A"},{"$f":"IF(Attendance($C15,'Daily Register'!KN$3:KN$242)=TRUE,\"P\",\"A\")","v":"A"},{"$f":"IF(Attendance($C15,'Daily Register'!KO$3:KO$242)=TRUE,\"P\",\"A\")","v":"A"},{"$f":"IF(Attendance($C15,'Daily Register'!KP$3:KP$242)=TRUE,\"P\",\"A\")","v":"A"},{"$f":"IF(Attendance($C15,'Daily Register'!KQ$3:KQ$242)=TRUE,\"P\",\"A\")","v":"A"},{"$f":"IF(Attendance($C15,'Daily Register'!KR$3:KR$242)=TRUE,\"P\",\"A\")","v":"A"},{"$f":"IF(Attendance($C15,'Daily Register'!KS$3:KS$242)=TRUE,\"P\",\"A\")","v":"A"},{"$f":"IF(Attendance($C15,'Daily Register'!KT$3:KT$242)=TRUE,\"P\",\"A\")","v":"A"},{"$f":"IF(Attendance($C15,'Daily Register'!KU$3:KU$242)=TRUE,\"P\",\"A\")","v":"A"},{"$f":"IF(Attendance($C15,'Daily Register'!KV$3:KV$242)=TRUE,\"P\",\"A\")","v":"A"},{"$f":"IF(Attendance($C15,'Daily Register'!KW$3:KW$242)=TRUE,\"P\",\"A\")","v":"A"},{"$f":"IF(Attendance($C15,'Daily Register'!KX$3:KX$242)=TRUE,\"P\",\"A\")","v":"A"},{"$f":"IF(Attendance($C15,'Daily Register'!KY$3:KY$242)=TRUE,\"P\",\"A\")","v":"A"},{"$f":"IF(Attendance($C15,'Daily Register'!KZ$3:KZ$242)=TRUE,\"P\",\"A\")","v":"A"},{"$f":"IF(Attendance($C15,'Daily Register'!LA$3:LA$242)=TRUE,\"P\",\"A\")","v":"A"},{"$f":"IF(Attendance($C15,'Daily Register'!LB$3:LB$242)=TRUE,\"P\",\"A\")","v":"A"},{"$f":"IF(Attendance($C15,'Daily Register'!LC$3:LC$242)=TRUE,\"P\",\"A\")","v":"A"},{"$f":"IF(Attendance($C15,'Daily Register'!LD$3:LD$242)=TRUE,\"P\",\"A\")","v":"A"},{"$f":"IF(Attendance($C15,'Daily Register'!LE$3:LE$242)=TRUE,\"P\",\"A\")","v":"A"},{"$f":"IF(Attendance($C15,'Daily Register'!LF$3:LF$242)=TRUE,\"P\",\"A\")","v":"A"},{"$f":"IF(Attendance($C15,'Daily Register'!LG$3:LG$242)=TRUE,\"P\",\"A\")","v":"A"},{"$f":"IF(Attendance($C15,'Daily Register'!LH$3:LH$242)=TRUE,\"P\",\"A\")","v":"A"},{"$f":"IF(Attendance($C15,'Daily Register'!LI$3:LI$242)=TRUE,\"P\",\"A\")","v":"A"},{"$f":"IF(Attendance($C15,'Daily Register'!LJ$3:LJ$242)=TRUE,\"P\",\"A\")","v":"A"},{"$f":"IF(Attendance($C15,'Daily Register'!LK$3:LK$242)=TRUE,\"P\",\"A\")","v":"A"},{"$f":"IF(Attendance($C15,'Daily Register'!LL$3:LL$242)=TRUE,\"P\",\"A\")","v":"A"},{"$f":"IF(Attendance($C15,'Daily Register'!LM$3:LM$242)=TRUE,\"P\",\"A\")","v":"A"},{"$f":"IF(Attendance($C15,'Daily Register'!LN$3:LN$242)=TRUE,\"P\",\"A\")","v":"A"},{"$f":"IF(Attendance($C15,'Daily Register'!LO$3:LO$242)=TRUE,\"P\",\"A\")","v":"A"},{"$f":"IF(Attendance($C15,'Daily Register'!LP$3:LP$242)=TRUE,\"P\",\"A\")","v":"A"},{"$f":"IF(Attendance($C15,'Daily Register'!LQ$3:LQ$242)=TRUE,\"P\",\"A\")","v":"A"},{"$f":"IF(Attendance($C15,'Daily Register'!LR$3:LR$242)=TRUE,\"P\",\"A\")","v":"A"},{"$f":"IF(Attendance($C15,'Daily Register'!LS$3:LS$242)=TRUE,\"P\",\"A\")","v":"A"},{"$f":"IF(Attendance($C15,'Daily Register'!LT$3:LT$242)=TRUE,\"P\",\"A\")","v":"A"},{"$f":"IF(Attendance($C15,'Daily Register'!LU$3:LU$242)=TRUE,\"P\",\"A\")","v":"A"},{"$f":"IF(Attendance($C15,'Daily Register'!LV$3:LV$242)=TRUE,\"P\",\"A\")","v":"A"},{"$f":"IF(Attendance($C15,'Daily Register'!LW$3:LW$242)=TRUE,\"P\",\"A\")","v":"A"},{"$f":"IF(Attendance($C15,'Daily Register'!LX$3:LX$242)=TRUE,\"P\",\"A\")","v":"A"},{"$f":"IF(Attendance($C15,'Daily Register'!LY$3:LY$242)=TRUE,\"P\",\"A\")","v":"A"},{"$f":"IF(Attendance($C15,'Daily Register'!LZ$3:LZ$242)=TRUE,\"P\",\"A\")","v":"A"},{"$f":"IF(Attendance($C15,'Daily Register'!MA$3:MA$242)=TRUE,\"P\",\"A\")","v":"A"},{"$f":"IF(Attendance($C15,'Daily Register'!MB$3:MB$242)=TRUE,\"P\",\"A\")","v":"A"},{"$f":"IF(Attendance($C15,'Daily Register'!MC$3:MC$242)=TRUE,\"P\",\"A\")","v":"A"},{"$f":"IF(Attendance($C15,'Daily Register'!MD$3:MD$242)=TRUE,\"P\",\"A\")","v":"A"},{"$f":"IF(Attendance($C15,'Daily Register'!ME$3:ME$242)=TRUE,\"P\",\"A\")","v":"A"},{"$f":"IF(Attendance($C15,'Daily Register'!MF$3:MF$242)=TRUE,\"P\",\"A\")","v":"A"},{"$f":"IF(Attendance($C15,'Daily Register'!MG$3:MG$242)=TRUE,\"P\",\"A\")","v":"A"},{"$f":"IF(Attendance($C15,'Daily Register'!MH$3:MH$242)=TRUE,\"P\",\"A\")","v":"A"},{"$f":"IF(Attendance($C15,'Daily Register'!MI$3:MI$242)=TRUE,\"P\",\"A\")","v":"A"},{"$f":"IF(Attendance($C15,'Daily Register'!MJ$3:MJ$242)=TRUE,\"P\",\"A\")","v":"A"},{"$f":"IF(Attendance($C15,'Daily Register'!MK$3:MK$242)=TRUE,\"P\",\"A\")","v":"A"},{"$f":"IF(Attendance($C15,'Daily Register'!ML$3:ML$242)=TRUE,\"P\",\"A\")","v":"A"},{"$f":"IF(Attendance($C15,'Daily Register'!MM$3:MM$242)=TRUE,\"P\",\"A\")","v":"A"},{"$f":"IF(Attendance($C15,'Daily Register'!MN$3:MN$242)=TRUE,\"P\",\"A\")","v":"A"},{"$f":"IF(Attendance($C15,'Daily Register'!MO$3:MO$242)=TRUE,\"P\",\"A\")","v":"A"},{"$f":"IF(Attendance($C15,'Daily Register'!MP$3:MP$242)=TRUE,\"P\",\"A\")","v":"A"},{"$f":"IF(Attendance($C15,'Daily Register'!MQ$3:MQ$242)=TRUE,\"P\",\"A\")","v":"A"},{"$f":"IF(Attendance($C15,'Daily Register'!MR$3:MR$242)=TRUE,\"P\",\"A\")","v":"A"},{"$f":"IF(Attendance($C15,'Daily Register'!MS$3:MS$242)=TRUE,\"P\",\"A\")","v":"A"},{"$f":"IF(Attendance($C15,'Daily Register'!MT$3:MT$242)=TRUE,\"P\",\"A\")","v":"A"},{"$f":"IF(Attendance($C15,'Daily Register'!MU$3:MU$242)=TRUE,\"P\",\"A\")","v":"A"},{"$f":"IF(Attendance($C15,'Daily Register'!MV$3:MV$242)=TRUE,\"P\",\"A\")","v":"A"},{"$f":"IF(Attendance($C15,'Daily Register'!MW$3:MW$242)=TRUE,\"P\",\"A\")","v":"A"},{"$f":"IF(Attendance($C15,'Daily Register'!MX$3:MX$242)=TRUE,\"P\",\"A\")","v":"A"},{"$f":"IF(Attendance($C15,'Daily Register'!MY$3:MY$242)=TRUE,\"P\",\"A\")","v":"A"},{"$f":"IF(Attendance($C15,'Daily Register'!MZ$3:MZ$242)=TRUE,\"P\",\"A\")","v":"A"},{"$f":"IF(Attendance($C15,'Daily Register'!NA$3:NA$242)=TRUE,\"P\",\"A\")","v":"A"},{"$f":"IF(Attendance($C15,'Daily Register'!NB$3:NB$242)=TRUE,\"P\",\"A\")","v":"A"}]
[0,null,13,null,{"$f":"IF(Attendance($C16,'Daily Register'!A$3:A$242)=TRUE,\"P\",\"A\")","v":"A"},{"$f":"IF(Attendance($C16,'Daily Register'!B$3:B$242)=TRUE,\"P\",\"A\")","v":"A"},{"$f":"IF(Attendance($C16,'Daily Register'!C$3:C$242)=TRUE,\"P\",\"A\")","v":"A"},{"$f":"IF(Attendance($C16,'Daily Register'!D$3:D$242)=TRUE,\"P\",\"A\")","v":"A"},{"$f":"IF(Attendance($C16,'Daily Register'!E$3:E$242)=TRUE,\"P\",\"A\")","v":"A"},{"$f":"IF(Attendance($C16,'Daily Register'!F$3:F$242)=TRUE,\"P\",\"A\")","v":"A"},{"$f":"IF(Attendance($C16,'Daily Register'!G$3:G$242)=TRUE,\"P\",\"A\")","v":"A"},{"$f":"IF(Attendance($C16,'Daily Register'!H$3:H$242)=TRUE,\"P\",\"A\")","v":"A"},{"$f":"IF(Attendance($C16,'Daily Register'!I$3:I$242)=TRUE,\"P\",\"A\")","v":"A"},{"$f":"IF(Attendance($C16,'Daily Register'!J$3:J$242)=TRUE,\"P\",\"A\")","v":"A"},{"$f":"IF(Attendance($C16,'Daily Register'!K$3:K$242)=TRUE,\"P\",\"A\")","v":"A"},{"$f":"IF(Attendance($C16,'Daily Register'!L$3:L$242)=TRUE,\"P\",\"A\")","v":"A"},{"$f":"IF(Attendance($C16,'Daily Register'!M$3:M$242)=TRUE,\"P\",\"A\")","v":"A"},{"$f":"IF(Attendance($C16,'Daily Register'!N$3:N$242)=TRUE,\"P\",\"A\")","v":"A"},{"$f":"IF(Attendance($C16,'Daily Register'!O$3:O$242)=TRUE,\"P\",\"A\")","v":"A"},{"$f":"IF(Attendance($C16,'Daily Register'!P$3:P$242)=TRUE,\"P\",\"A\")","v":"A"},{"$f":"IF(Attendance($C16,'Daily Register'!Q$3:Q$242)=TRUE,\"P\",\"A\")","v":"A"},{"$f":"IF(Attendance($C16,'Daily Register'!R$3:R$242)=TRUE,\"P\",\"A\")","v":"A"},{"$f":"IF(Attendance($C16,'Daily Register'!S$3:S$242)=TRUE,\"P\",\"A\")","v":"A"},{"$f":"IF(Attendance($C16,'Daily Register'!T$3:T$242)=TRUE,\"P\",\"A\")","v":"A"},{"$f":"IF(Attendance($C16,'Daily Register'!U$3:U$242)=TRUE,\"P\",\"A\")","v":"A"},{"$f":"IF(Attendance($C16,'Daily Register'!V$3:V$242)=TRUE,\"P\",\"A\")","v":"A"},{"$f":"IF(Attendance($C16,'Daily Register'!W$3:W$242)=TRUE,\"P\",\"A\")","v":"A"},{"$f":"IF(Attendance($C16,'Daily Register'!X$3:X$242)=TRUE,\"P\",\"A\")","v":"A"},{"$f":"IF(Attendance($C16,'Daily Register'!Y$3:Y$242)=TRUE,\"P\",\"A\")","v":"A"},{"$f":"IF(Attendance($C16,'Daily Register'!Z$3:Z$242)=TRUE,\"P\",\"A\")","v":"A"},{"$f":"IF(Attendance($C16,'Daily Register'!AA$3:AA$242)=TRUE,\"P\",\"A\")","v":"A"},{"$f":"IF(Attendance($C16,'Daily Register'!AB$3:AB$242)=TRUE,\"P\",\"A\")","v":"A"},{"$f":"IF(Attendance($C16,'Daily Register'!AC$3:AC$242)=TRUE,\"P\",\"A\")","v":"A"},{"$f":"IF(Attendance($C16,'Daily Register'!AD$3:AD$242)=TRUE,\"P\",\"A\")","v":"A"},{"$f":"IF(Attendance($C16,'Daily Register'!AE$3:AE$242)=TRUE,\"P\",\"A\")","v":"A"},{"$f":"IF(Attendance($C16,'Daily Register'!AF$3:AF$242)=TRUE,\"P\",\"A\")","v":"A"},{"$f":"IF(Attendance($C16,'Daily Register'!AG$3:AG$242)=TRUE,\"P\",\"A\")","v":"A"},{"$f":"IF(Attendance($C16,'Daily Register'!AH$3:AH$242)=TRUE,\"P\",\"A\")","v":"A"},{"$f":"IF(Attendance($C16,'Daily Register'!AI$3:AI$242)=TRUE,\"P\",\"A\")","v":"A"},{"$f":"IF(Attendance($C16,'Daily Register'!AJ$3:AJ$242)=TRUE,\"P\",\"A\")","v":"A"},{"$f":"IF(Attendance($C16,'Daily Register'!AK$3:AK$242)=TRUE,\"P\",\"A\")","v":"A"},{"$f":"IF(Attendance($C16,'Daily Register'!AL$3:AL$242)=TRUE,\"P\",\"A\")","v":"A"},{"$f":"IF(Attendance($C16,'Daily Register'!AM$3:AM$242)=TRUE,\"P\",\"A\")","v":"A"},{"$f":"IF(Attendance($C16,'Daily Register'!AN$3:AN$242)=TRUE,\"P\",\"A\")","v":"A"},{"$f":"IF(Attendance($C16,'Daily Register'!AO$3:AO$242)=TRUE,\"P\",\"A\")","v":"A"},{"$f":"IF(Attendance($C16,'Daily Register'!AP$3:AP$242)=TRUE,\"P\",\"A\")","v":"A"},{"$f":"IF(Attendance($C16,'Daily Register'!AQ$3:AQ$242)=TRUE,\"P\",\"A\")","v":"A"},{"$f":"IF(Attendance($C16,'Daily Register'!AR$3:AR$242)=TRUE,\"P\",\"A\")","v":"A"},{"$f":"IF(Attendance($C16,'Daily Register'!AS$3:AS$242)=TRUE,\"P\",\"A\")","v":"A"},{"$f":"IF(Attendance($C16,'Daily Register'!AT$3:AT$242)=TRUE,\"P\",\"A\")","v":"A"},{"$f":"IF(Attendance($C16,'Daily Register'!AU$3:AU$242)=TRUE,\"P\",\"A\")","v":"A"},{"$f":"IF(Attendance($C16,'Daily Register'!AV$3:AV$242)=TRUE,\"P\",\"A\")","v":"A"},{"$f":"IF(Attendance($C16,'Daily Register'!AW$3:AW$242)=TRUE,\"P\",\"A\")","v":"A"},{"$f":"IF(Attendance($C16,'Daily Register'!AX$3:AX$242)=TRUE,\"P\",\"A\")","v":"A"},{"$f":"IF(Attendance($C16,'Daily Register'!AY$3:AY$242)=TRUE,\"P\",\"A\")","v":"A"},{"$f":"IF(Attendance($C16,'Daily Register'!AZ$3:AZ$242)=TRUE,\"P\",\"A\")","v":"A"},{"$f":"IF(Attendance($C16,'Daily Register'!BA$3:BA$242)=TRUE,\"P\",\"A\")","v":"A"},{"$f":"IF(Attendance($C16,'Daily Register'!BB$3:BB$242)=TRUE,\"P\",\"A\")","v":"A"},{"$f":"IF(Attendance($C16,'Daily Register'!BC$3:BC$242)=TRUE,\"P\",\"A\")","v":"A"},{"$f":"IF(Attendance($C16,'Daily Register'!BD$3:BD$242)=TRUE,\"P\",\"A\")","v":"A"},{"$f":"IF(Attendance($C16,'Daily Register'!BE$3:BE$242)=TRUE,\"P\",\"A\")","v":"A"},{"$f":"IF(Attendance($C16,'Daily Register'!BF$3:BF$242)=TRUE,\"P\",\"A\")","v":"A"},{"$f":"IF(Attendance($C16,'Daily Register'!BG$3:BG$242)=TRUE,\"P\",\"A\")","v":"A"},{"$f":"IF(Attendance($C16,'Daily Register'!BH$3:BH$242)=TRUE,\"P\",\"A\")","v":"A"},{"$f":"IF(Attendance($C16,'Daily Register'!BI$3:BI$242)=TRUE,\"P\",\"A\")","v":"A"},{"$f":"IF(Attendance($C16,'Daily Register'!BJ$3:BJ$242)=TRUE,\"P\",\"A\")","v":"A"},{"$f":"IF(Attendance($C16,'Daily Register'!BK$3:BK$242)=TRUE,\"P\",\"A\")","v":"A"},{"$f":"IF(Attendance($C16,'Daily Register'!BL$3:BL$242)=TRUE,\"P\",\"A\")","v":"A"},{"$f":"IF(Attendance($C16,'Daily Register'!BM$3:BM$242)=TRUE,\"P\",\"A\")","v":"A"},{"$f":"IF(Attendance($C16,'Daily Register'!BN$3:BN$242)=TRUE,\"P\",\"A\")","v":"A"},{"$f":"IF(Attendance($C16,'Daily Register'!BO$3:BO$242)=TRUE,\"P\",\"A\")","v":"A"},{"$f":"IF(Attendance($C16,'Daily Register'!BP$3:BP$242)=TRUE,\"P\",\"A\")","v":"A"},{"$f":"IF(Attendance($C16,'Daily Register'!BQ$3:BQ$242)=TRUE,\"P\",\"A\")","v":"A"},{"$f":"IF(Attendance($C16,'Daily Register'!BR$3:BR$242)=TRUE,\"P\",\"A\")","v":"A"},{"$f":"IF(Attendance($C16,'Daily Register'!BS$3:BS$242)=TRUE,\"P\",\"A\")","v":"A"},{"$f":"IF(Attendance($C16,'Daily Register'!BT$3:BT$242)=TRUE,\"P\",\"A\")","v":"A"},{"$f":"IF(Attendance($C16,'Daily Register'!BU$3:BU$242)=TRUE,\"P\",\"A\")","v":"A"},{"$f":"IF(Attendance($C16,'Daily Register'!BV$3:BV$242)=TRUE,\"P\",\"A\")","v":"A"},{"$f":"IF(Attendance($C16,'Daily Register'!BW$3:BW$242)=TRUE,\"P\",\"A\")","v":"A"},{"$f":"IF(Attendance($C16,'Daily Register'!BX$3:BX$242)=TRUE,\"P\",\"A\")","v":"A"},{"$f":"IF(Attendance($C16,'Daily Register'!BY$3:BY$242)=TRUE,\"P\",\"A\")","v":"A"},{"$f":"IF(Attendance($C16,'Daily Register'!BZ$3:BZ$242)=TRUE,\"P\",\"A\")","v":"A"},{"$f":"IF(Attendance($C16,'Daily Register'!CA$3:CA$242)=TRUE,\"P\",\"A\")","v":"A"},{"$f":"IF(Attendance($C16,'Daily Register'!CB$3:CB$242)=TRUE,\"P\",\"A\")","v":"A"},{"$f":"IF(Attendance($C16,'Daily Register'!CC$3:CC$242)=TRUE,\"P\",\"A\")","v":"A"},{"$f":"IF(Attendance($C16,'Daily Register'!CD$3:CD$242)=TRUE,\"P\",\"A\")","v":"A"},{"$f":"IF(Attendance($C16,'Daily Register'!CE$3:CE$242)=TRUE,\"P\",\"A\")","v":"A"},{"$f":"IF(Attendance($C16,'Daily Register'!CF$3:CF$242)=TRUE,\"P\",\"A\")","v":"A"},{"$f":"IF(Attendance($C16,'Daily Register'!CG$3:CG$242)=TRUE,\"P\",\"A\")","v":"A"},{"$f":"IF(Attendance($C16,'Daily Register'!CH$3:CH$242)=TRUE,\"P\",\"A\")","v":"A"},{"$f":"IF(Attendance($C16,'Daily Register'!CI$3:CI$242)=TRUE,\"P\",\"A\")","v":"A"},{"$f":"IF(Attendance($C16,'Daily Register'!CJ$3:CJ$242)=TRUE,\"P\",\"A\")","v":"A"},{"$f":"IF(Attendance($C16,'Daily Register'!CK$3:CK$242)=TRUE,\"P\",\"A\")","v":"A"},{"$f":"IF(Attendance($C16,'Daily Register'!CL$3:CL$242)=TRUE,\"P\",\"A\")","v":"A"},{"$f":"IF(Attendance($C16,'Daily Register'!CM$3:CM$242)=TRUE,\"P\",\"A\")","v":"A"},{"$f":"IF(Attendance($C16,'Daily Register'!CN$3:CN$242)=TRUE,\"P\",\"A\")","v":"A"},{"$f":"IF(Attendance($C16,'Daily Register'!CO$3:CO$242)=TRUE,\"P\",\"A\")","v":"A"},{"$f":"IF(Attendance($C16,'Daily Register'!CP$3:CP$242)=TRUE,\"P\",\"A\")","v":"A"},{"$f":"IF(Attendance($C16,'Daily Register'!CQ$3:CQ$242)=TRUE,\"P\",\"A\")","v":"A"},{"$f":"IF(Attendance($C16,'Daily Register'!CR$3:CR$242)=TRUE,\"P\",\"A\")","v":"A"},{"$f":"IF(Attendance($C16,'Daily Register'!CS$3:CS$242)=TRUE,\"P\",\"A\")","v":"A"},{"$f":"IF(Attendance($C16,'Daily Register'!CT$3:CT$242)=TRUE,\"P\",\"A\")","v":"A"},{"$f":"IF(Attendance($C16,'Daily Register'!CU$3:CU$242)=TRUE,\"P\",\"A\")","v":"A"},{"$f":"IF(Attendance($C16,'Daily Register'!CV$3:CV$242)=TRUE,\"P\",\"A\")","v":"A"},{"$f":"IF(Attendance($C16,'Daily Register'!CW$3:CW$242)=TRUE,\"P\",\"A\")","v":"A"},{"$f":"IF(Attendance($C16,'Daily Register'!CX$3:CX$242)=TRUE,\"P\",\"A\")","v":"A"},{"$f":"IF(Attendance($C16,'Daily Register'!CY$3:CY$242)=TRUE,\"P\",\"A\")","v":"A"},{"$f":"IF(Attendance($C16,'Daily Register'!CZ$3:CZ$242)=TRUE,\"P\",\"A\")","v":"A"},{"$f":"IF(Attendance($C16,'Daily Register'!DA$3:DA$242)=TRUE,\"P\",\"A\")","v":"A"},{"$f":"IF(Attendance($C16,'Daily Register'!DB$3:DB$242)=TRUE,\"P\",\"A\")","v":"A"},{"$f":"IF(Attendance($C16,'Daily Register'!DC$3:DC$242)=TRUE,\"P\",\"A\")","v":"A"},{"$f":"IF(Attendance($C16,'Daily Register'!DD$3:DD$242)=TRUE,\"P\",\"A\")","v":"A"},{"$f":"IF(Attendance($C16,'Daily Register'!DE$3:DE$242)=TRUE,\"P\",\"A\")","v":"A"},{"$f":"IF(Attendance($C16,'Daily Register'!DF$3:DF$242)=TRUE,\"P\",\"A\")","v":"A"},{"$f":"IF(Attendance($C16,'Daily Register'!DG$3:DG$242)=TRUE,\"P\",\"A\")","v":"A"},{"$f":"IF(Attendance($C16,'Daily Register'!DH$3:DH$242)=TRUE,\"P\",\"A\")","v":"A"},{"$f":"IF(Attendance($C16,'Daily Register'!DI$3:DI$242)=TRUE,\"P\",\"A\")","v":"A"},{"$f":"IF(Attendance($C16,'Daily Register'!DJ$3:DJ$242)=TRUE,\"P\",\"A\")","v":"A"},{"$f":"IF(Attendance($C16,'Daily Register'!DK$3:DK$242)=TRUE,\"P\",\"A\")","v":"A"},{"$f":"IF(Attendance($C16,'Daily Register'!DL$3:DL$242)=TRUE,\"P\",\"A\")","v":"A"},{"$f":"IF(Attendance($C16,'Daily Register'!DM$3:DM$242)=TRUE,\"P\",\"A\")","v":"A"},{"$f":"IF(Attendance($C16,'Daily Register'!DN$3:DN$242)=TRUE,\"P\",\"A\")","v":"A"},{"$f":"IF(Attendance($C16,'Daily Register'!DO$3:DO$242)=TRUE,\"P\",\"A\")","v":"A"},{"$f":"IF(Attendance($C16,'Daily Register'!DP$3:DP$242)=TRUE,\"P\",\"A\")","v":"A"},{"$f":"IF(Attendance($C16,'Daily Register'!DQ$3:DQ$242)=TRUE,\"P\",\"A\")","v":"A"},{"$f":"IF(Attendance($C16,'Daily Register'!DR$3:DR$242)=TRUE,\"P\",\"A\")","v":"A"},{"$f":"IF(Attendance($C16,'Daily Register'!DS$3:DS$242)=TRUE,\"P\",\"A\")","v":"A"},{"$f":"IF(Attendance($C16,'Daily Register'!DT$3:DT$242)=TRUE,\"P\",\"A\")","v":"A"},{"$f":"IF(Attendance($C16,'Daily Register'!DU$3:DU$242)=TRUE,\"P\",\"A\")","v":"A"},{"$f":"IF(Attendance($C16,'Daily Register'!DV$3:DV$242)=TRUE,\"P\",\"A\")","v":"A"},{"$f":"IF(Attendance($C16,'Daily Register'!DW$3:DW$242)=TRUE,\"P\",\"A\")","v":"A"},{"$f":"IF(Attendance($C16,'Daily Register'!DX$3:DX$242)=TRUE,\"P\",\"A\")","v":"A"},{"$f":"IF(Attendance($C16,'Daily Register'!DY$3:DY$242)=TRUE,\"P\",\"A\")","v":"A"},{"$f":"IF(Attendance($C16,'Daily Register'!DZ$3:DZ$242)=TRUE,\"P\",\"A\")","v":"A"},{"$f":"IF(Attendance($C16,'Daily Register'!EA$3:EA$242)=TRUE,\"P\",\"A\")","v":"A"},{"$f":"IF(Attendance($C16,'Daily Register'!EB$3:EB$242)=TRUE,\"P\",\"A\")","v":"A"},{"$f":"IF(Attendance($C16,'Daily Register'!EC$3:EC$242)=TRUE,\"P\",\"A\")","v":"A"},{"$f":"IF(Attendance($C16,'Daily Register'!ED$3:ED$242)=TRUE,\"P\",\"A\")","v":"A"},{"$f":"IF(Attendance($C16,'Daily Register'!EE$3:EE$242)=TRUE,\"P\",\"A\")","v":"A"},{"$f":"IF(Attendance($C16,'Daily Register'!EF$3:EF$242)=TRUE,\"P\",\"A\")","v":"A"},{"$f":"IF(Attendance($C16,'Daily Register'!EG$3:EG$242)=TRUE,\"P\",\"A\")","v":"A"},{"$f":"IF(Attendance($C16,'Daily Register'!EH$3:EH$242)=TRUE,\"P\",\"A\")","v":"A"},{"$f":"IF(Attendance($C16,'Daily Register'!EI$3:EI$242)=TRUE,\"P\",\"A\")","v":"A"},{"$f":"IF(Attendance($C16,'Daily Register'!EJ$3:EJ$242)=TRUE,\"P\",\"A\")","v":"A"},{"$f":"IF(Attendance($C16,'Daily Register'!EK$3:EK$242)=TRUE,\"P\",\"A\")","v":"A"},{"$f":"IF(Attendance($C16,'Daily Register'!EL$3:EL$242)=TRUE,\"P\",\"A\")","v":"A"},{"$f":"IF(Attendance($C16,'Daily Register'!EM$22:EM$242)=TRUE,\"P\",\"A\")","v":"A"},{"$f":"IF(Attendance($C16,'Daily Register'!EN$3:EN$242)=TRUE,\"P\",\"A\")","v":"A"},{"$f":"IF(Attendance($C16,'Daily Register'!EO$3:EO$242)=TRUE,\"P\",\"A\")","v":"A"},{"$f":"IF(Attendance($C16,'Daily Register'!EP$3:EP$242)=TRUE,\"P\",\"A\")","v":"A"},{"$f":"IF(Attendance($C16,'Daily Register'!EQ$3:EQ$242)=TRUE,\"P\",\"A\")","v":"A"},{"$f":"IF(Attendance($C16,'Daily Register'!ER$3:ER$242)=TRUE,\"P\",\"A\")","v":"A"},{"$f":"IF(Attendance($C16,'Daily Register'!ES$3:ES$242)=TRUE,\"P\",\"A\")","v":"A"},{"$f":"IF(Attendance($C16,'Daily Register'!ET$3:ET$242)=TRUE,\"P\",\"A\")","v":"A"},{"$f":"IF(Attendance($C16,'Daily Register'!EU$3:EU$242)=TRUE,\"P\",\"A\")","v":"A"},{"$f":"IF(Attendance($C16,'Daily Register'!EV$3:EV$242)=TRUE,\"P\",\"A\")","v":"A"},{"$f":"IF(Attendance($C16,'Daily Register'!EW$3:EW$242)=TRUE,\"P\",\"A\")","v":"A"},{"$f":"IF(Attendance($C16,'Daily Register'!EX$3:EX$242)=TRUE,\"P\",\"A\")","v":"A"},{"$f":"IF(Attendance($C16,'Daily Register'!EY$3:EY$242)=TRUE,\"P\",\"A\")","v":"A"},{"$f":"IF(Attendance($C16,'Daily Register'!EZ$3:EZ$242)=TRUE,\"P\",\"A\")","v":"A"},{"$f":"IF(Attendance($C16,'Daily Register'!FA$3:FA$242)=TRUE,\"P\",\"A\")","v":"A"},{"$f":"IF(Attendance($C16,'Daily Register'!FB$3:FB$242)=TRUE,\"P\",\"A\")","v":"A"},{"$f":"IF(Attendance($C16,'Daily Register'!FC$3:FC$242)=TRUE,\"P\",\"A\")","v":"A"},{"$f":"IF(Attendance($C16,'Daily Register'!FD$3:FD$242)=TRUE,\"P\",\"A\")","v":"A"},{"$f":"IF(Attendance($C16,'Daily Register'!FE$3:FE$242)=TRUE,\"P\",\"A\")","v":"A"},{"$f":"IF(Attendance($C16,'Daily Register'!FF$3:FF$242)=TRUE,\"P\",\"A\")","v":"A"},{"$f":"IF(Attendance($C16,'Daily Register'!FG$3:FG$242)=TRUE,\"P\",\"A\")","v":"A"},{"$f":"IF(Attendance($C16,'Daily Register'!FH$3:FH$242)=TRUE,\"P\",\"A\")","v":"A"},{"$f":"IF(Attendance($C16,'Daily Register'!FI$3:FI$242)=TRUE,\"P\",\"A\")","v":"A"},{"$f":"IF(Attendance($C16,'Daily Register'!FJ$3:FJ$242)=TRUE,\"P\",\"A\")","v":"A"},{"$f":"IF(Attendance($C16,'Daily Register'!FK$3:FK$242)=TRUE,\"P\",\"A\")","v":"A"},{"$f":"IF(Attendance($C16,'Daily Register'!FL$3:FL$242)=TRUE,\"P\",\"A\")","v":"A"},{"$f":"IF(Attendance($C16,'Daily Register'!FM$3:FM$242)=TRUE,\"P\",\"A\")","v":"A"},{"$f":"IF(Attendance($C16,'Daily Register'!FN$3:FN$242)=TRUE,\"P\",\"A\")","v":"A"},{"$f":"IF(Attendance($C16,'Daily Register'!FO$3:FO$242)=TRUE,\"P\",\"A\")","v":"A"},{"$f":"IF(Attendance($C16,'Daily Register'!FP$3:FP$242)=TRUE,\"P\",\"A\")","v":"A"},{"$f":"IF(Attendance($C16,'Daily Register'!FQ$3:FQ$242)=TRUE,\"P\",\"A\")","v":"A"},{"$f":"IF(Attendance($C16,'Daily Register'!FR$3:FR$242)=TRUE,\"P\",\"A\")","v":"A"},{"$f":"IF(Attendance($C16,'Daily Register'!FS$3:FS$242)=TRUE,\"P\",\"A\")","v":"A"},{"$f":"IF(Attendance($C16,'Daily Register'!FT$3:FT$242)=TRUE,\"P\",\"A\")","v":"A"},{"$f":"IF(Attendance($C16,'Daily Register'!FU$3:FU$242)=TRUE,\"P\",\"A\")","v":"A"},{"$f":"IF(Attendance($C16,'Daily Register'!FV$3:FV$242)=TRUE,\"P\",\"A\")","v":"A"},{"$f":"IF(Attendance($C16,'Daily Register'!FW$3:FW$242)=TRUE,\"P\",\"A\")","v":"A"},{"$f":"IF(Attendance($C16,'Daily Register'!FX$3:FX$242)=TRUE,\"P\",\"A\")","v":"A"},{"$f":"IF(Attendance($C16,'Daily Register'!FY$3:FY$242)=TRUE,\"P\",\"A\")","v":"A"},{"$f":"IF(Attendance($C16,'Daily Register'!FZ$3:FZ$242)=TRUE,\"P\",\"A\")","v":"A"},{"$f":"IF(Attendance($C16,'Daily Register'!GA$3:GA$242)=TRUE,\"P\",\"A\")","v":"A"},{"$f":"IF(Attendance($C16,'Daily Register'!GB$3:GB$242)=TRUE,\"P\",\"A\")","v":"A"},{"$f":"IF(Attendance($C16,'Daily Register'!GC$3:GC$242)=TRUE,\"P\",\"A\")","v":"A"},{"$f":"IF(Attendance($C16,'Daily Register'!GD$3:GD$242)=TRUE,\"P\",\"A\")","v":"A"},{"$f":"IF(Attendance($C16,'Daily Register'!GE$3:GE$242)=TRUE,\"P\",\"A\")","v":"A"},{"$f":"IF(Attendance($C16,'Daily Register'!GF$3:GF$242)=TRUE,\"P\",\"A\")","v":"A"},{"$f":"IF(Attendance($C16,'Daily Register'!GG$3:GG$242)=TRUE,\"P\",\"A\")","v":"A"},{"$f":"IF(Attendance($C16,'Daily Register'!GH$3:GH$242)=TRUE,\"P\",\"A\")","v":"A"},{"$f":"IF(Attendance($C16,'Daily Register'!GI$3:GI$242)=TRUE,\"P\",\"A\")","v":"A"},{"$f":"IF(Attendance($C16,'Daily Register'!GJ$3:GJ$242)=TRUE,\"P\",\"A\")","v":"A"},{"$f":"IF(Attendance($C16,'Daily Register'!GK$3:GK$242)=TRUE,\"P\",\"A\")","v":"A"},{"$f":"IF(Attendance($C16,'Daily Register'!GL$3:GL$242)=TRUE,\"P\",\"A\")","v":"A"},{"$f":"IF(Attendance($C16,'Daily Register'!GM$3:GM$242)=TRUE,\"P\",\"A\")","v":"A"},{"$f":"IF(Attendance($C16,'Daily Register'!GN$3:GN$242)=TRUE,\"P\",\"A\")","v":"A"},{"$f":"IF(Attendance($C16,'Daily Register'!GO$3:GO$242)=TRUE,\"P\",\"A\")","v":"A"},{"$f":"IF(Attendance($C16,'Daily Register'!GP$3:GP$242)=TRUE,\"P\",\"A\")","v":"A"},{"$f":"IF(Attendance($C16,'Daily Register'!GQ$3:GQ$242)=TRUE,\"P\",\"A\")","v":"A"},{"$f":"IF(Attendance($C16,'Daily Register'!GR$3:GR$242)=TRUE,\"P\",\"A\")","v":"A"},{"$f":"IF(Attendance($C16,'Daily Register'!GS$3:GS$242)=TRUE,\"P\",\"A\")","v":"A"},{"$f":"IF(Attendance($C16,'Daily Register'!GT$3:GT$242)=TRUE,\"P\",\"A\")","v":"A"},{"$f":"IF(Attendance($C16,'Daily Register'!GU$3:GU$242)=TRUE,\"P\",\"A\")","v":"A"},{"$f":"IF(Attendance($C16,'Daily Register'!GV$3:GV$242)=TRUE,\"P\",\"A\")","v":"A"},{"$f":"IF(Attendance($C16,'Daily Register'!GW$3:GW$242)=TRUE,\"P\",\"A\")","v":"A"},{"$f":"IF(Attendance($C16,'Daily Register'!GX$3:GX$242)=TRUE,\"P\",\"A\")","v":"A"},{"$f":"IF(Attendance($C16,'Daily Register'!GY$3:GY$242)=TRUE,\"P\",\"A\")","v":"A"},{"$f":"IF(Attendance($C16,'Daily Register'!GZ$3:GZ$242)=TRUE,\"P\",\"A\")","v":"A"},{"$f":"IF(Attendance($C16,'Daily Register'!HA$3:HA$242)=TRUE,\"P\",\"A\")","v":"A"},{"$f":"IF(Attendance($C16,'Daily Register'!HB$3:HB$242)=TRUE,\"P\",\"A\")","v":"A"},{"$f":"IF(Attendance($C16,'Daily Register'!HC$3:HC$242)=TRUE,\"P\",\"A\")","v":"A"},{"$f":"IF(Attendance($C16,'Daily Register'!HD$3:HD$242)=TRUE,\"P\",\"A\")","v":"A"},{"$f":"IF(Attendance($C16,'Daily Register'!HE$3:HE$242)=TRUE,\"P\",\"A\")","v":"A"},{"$f":"IF(Attendance($C16,'Daily Register'!HF$3:HF$242)=TRUE,\"P\",\"A\")","v":"A"},{"$f":"IF(Attendance($C16,'Daily Register'!HG$3:HG$242)=TRUE,\"P\",\"A\")","v":"A"},{"$f":"IF(Attendance($C16,'Daily Register'!HH$3:HH$242)=TRUE,\"P\",\"A\")","v":"A"},{"$f":"IF(Attendance($C16,'Daily Register'!HI$3:HI$242)=TRUE,\"P\",\"A\")","v":"A"},{"$f":"IF(Attendance($C16,'Daily Register'!HJ$3:HJ$242)=TRUE,\"P\",\"A\")","v":"A"},{"$f":"IF(Attendance($C16,'Daily Register'!HK$3:HK$242)=TRUE,\"P\",\"A\")","v":"A"},{"$f":"IF(Attendance($C16,'Daily Register'!HL$3:HL$242)=TRUE,\"P\",\"A\")","v":"A"},{"$f":"IF(Attendance($C16,'Daily Register'!HM$3:HM$242)=TRUE,\"P\",\"A\")","v":"A"},{"$f":"IF(Attendance($C16,'Daily Register'!HN$3:HN$242)=TRUE,\"P\",\"A\")","v":"A"},{"$f":"IF(Attendance($C16,'Daily Register'!HO$3:HO$242)=TRUE,\"P\",\"A\")","v":"A"},{"$f":"IF(Attendance($C16,'Daily Register'!HP$3:HP$242)=TRUE,\"P\",\"A\")","v":"A"},{"$f":"IF(Attendance($C16,'Daily Register'!HQ$3:HQ$242)=TRUE,\"P\",\"A\")","v":"A"},{"$f":"IF(Attendance($C16,'Daily Register'!HR$3:HR$242)=TRUE,\"P\",\"A\")","v":"A"},{"$f":"IF(Attendance($C16,'Daily Register'!HS$3:HS$242)=TRUE,\"P\",\"A\")","v":"A"},{"$f":"IF(Attendance($C16,'Daily Register'!HT$3:HT$242)=TRUE,\"P\",\"A\")","v":"A"},{"$f":"IF(Attendance($C16,'Daily Register'!HU$3:HU$242)=TRUE,\"P\",\"A\")","v":"A"},{"$f":"IF(Attendance($C16,'Daily Register'!HV$3:HV$242)=TRUE,\"P\",\"A\")","v":"A"},{"$f":"IF(Attendance($C16,'Daily Register'!HW$3:HW$242)=TRUE,\"P\",\"A\")","v":"A"},{"$f":"IF(Attendance($C16,'Daily Register'!HX$3:HX$242)=TRUE,\"P\",\"A\")","v":"A"},{"$f":"IF(Attendance($C16,'Daily Register'!HY$3:HY$242)=TRUE,\"P\",\"A\")","v":"A"},{"$f":"IF(Attendance($C16,'Daily Register'!HZ$3:HZ$242)=TRUE,\"P\",\"A\")","v":"A"},{"$f":"IF(Attendance($C16,'Daily Register'!IA$3:IA$242)=TRUE,\"P\",\"A\")","v":"A"},{"$f":"IF(Attendance($C16,'Daily Register'!IB$3:IB$242)=TRUE,\"P\",\"A\")","v":"A"},{"$f":"IF(Attendance($C16,'Daily Register'!IC$3:IC$242)=TRUE,\"P\",\"A\")","v":"A"},{"$f":"IF(Attendance($C16,'Daily Register'!ID$3:ID$242)=TRUE,\"P\",\"A\")","v":"A"},{"$f":"IF(Attendance($C16,'Daily Register'!IE$3:IE$242)=TRUE,\"P\",\"A\")","v":"A"},{"$f":"IF(Attendance($C16,'Daily Register'!IF$3:IF$242)=TRUE,\"P\",\"A\")","v":"A"},{"$f":"IF(Attendance($C16,'Daily Register'!IG$3:IG$242)=TRUE,\"P\",\"A\")","v":"A"},{"$f":"IF(Attendance($C16,'Daily Register'!IH$3:IH$242)=TRUE,\"P\",\"A\")","v":"A"},{"$f":"IF(Attendance($C16,'Daily Register'!II$3:II$242)=TRUE,\"P\",\"A\")","v":"A"},{"$f":"IF(Attendance($C16,'Daily Register'!IJ$3:IJ$242)=TRUE,\"P\",\"A\")","v":"A"},{"$f":"IF(Attendance($C16,'Daily Register'!IK$3:IK$242)=TRUE,\"P\",\"A\")","v":"A"},{"$f":"IF(Attendance($C16,'Daily Register'!IL$3:IL$242)=TRUE,\"P\",\"A\")","v":"A"},{"$f":"IF(Attendance($C16,'Daily Register'!IM$3:IM$242)=TRUE,\"P\",\"A\")","v":"A"},{"$f":"IF(Attendance($C16,'Daily Register'!IN$3:IN$242)=TRUE,\"P\",\"A\")","v":"A"},{"$f":"IF(Attendance($C16,'Daily Register'!IO$3:IO$242)=TRUE,\"P\",\"A\")","v":"A"},{"$f":"IF(Attendance($C16,'Daily Register'!IP$3:IP$242)=TRUE,\"P\",\"A\")","v":"A"},{"$f":"IF(Attendance($C16,'Daily Register'!IQ$3:IQ$242)=TRUE,\"P\",\"A\")","v":"A"},{"$f":"IF(Attendance($C16,'Daily Register'!IR$3:IR$242)=TRUE,\"P\",\"A\")","v":"A"},{"$f":"IF(Attendance($C16,'Daily Register'!IS$3:IS$242)=TRUE,\"P\",\"A\")","v":"A"},{"$f":"IF(Attendance($C16,'Daily Register'!IT$3:IT$242)=TRUE,\"P\",\"A\")","v":"A"},{"$f":"IF(Attendance($C16,'Daily Register'!IU$3:IU$242)=TRUE,\"P\",\"A\")","v":"A"},{"$f":"IF(Attendance($C16,'Daily Register'!IV$3:IV$242)=TRUE,\"P\",\"A\")","v":"A"},{"$f":"IF(Attendance($C16,'Daily Register'!IW$3:IW$242)=TRUE,\"P\",\"A\")","v":"A"},{"$f":"IF(Attendance($C16,'Daily Register'!IX$3:IX$242)=TRUE,\"P\",\"A\")","v":"A"},{"$f":"IF(Attendance($C16,'Daily Register'!IY$3:IY$242)=TRUE,\"P\",\"A\")","v":"A"},{"$f":"IF(Attendance($C16,'Daily Register'!IZ$3:IZ$242)=TRUE,\"P\",\"A\")","v":"A"},{"$f":"IF(Attendance($C16,'Daily Register'!JA$3:JA$242)=TRUE,\"P\",\"A\")","v":"A"},{"$f":"IF(Attendance($C16,'Daily Register'!JB$3:JB$242)=TRUE,\"P\",\"A\")","v":"A"},{"$f":"IF(Attendance($C16,'Daily Register'!JC$3:JC$242)=TRUE,\"P\",\"A\")","v":"A"},{"$f":"IF(Attendance($C16,'Daily Register'!JD$3:JD$242)=TRUE,\"P\",\"A\")","v":"A"},{"$f":"IF(Attendance($C16,'Daily Register'!JE$3:JE$242)=TRUE,\"P\",\"A\")","v":"A"},{"$f":"IF(Attendance($C16,'Daily Register'!JF$3:JF$242)=TRUE,\"P\",\"A\")","v":"A"},{"$f":"IF(Attendance($C16,'Daily Register'!JG$3:JG$242)=TRUE,\"P\",\"A\")","v":"A"},{"$f":"IF(Attendance($C16,'Daily Register'!JH$3:JH$242)=TRUE,\"P\",\"A\")","v":"A"},{"$f":"IF(Attendance($C16,'Daily Register'!JI$3:JI$242)=TRUE,\"P\",\"A\")","v":"A"},{"$f":"IF(Attendance($C16,'Daily Register'!JJ$3:JJ$242)=TRUE,\"P\",\"A\")","v":"A"},{"$f":"IF(Attendance($C16,'Daily Register'!JK$3:JK$242)=TRUE,\"P\",\"A\")","v":"A"},{"$f":"IF(Attendance($C16,'Daily Register'!JL$3:JL$242)=TRUE,\"P\",\"A\")","v":"A"},{"$f":"IF(Attendance($C16,'Daily Register'!JM$3:JM$242)=TRUE,\"P\",\"A\")","v":"A"},{"$f":"IF(Attendance($C16,'Daily Register'!JN$3:JN$242)=TRUE,\"P\",\"A\")","v":"A"},{"$f":"IF(Attendance($C16,'Daily Register'!JO$3:JO$242)=TRUE,\"P\",\"A\")","v":"A"},{"$f":"IF(Attendance($C16,'Daily Register'!JP$3:JP$242)=TRUE,\"P\",\"A\")","v":"A"},{"$f":"IF(Attendance($C16,'Daily Register'!JQ$3:JQ$242)=TRUE,\"P\",\"A\")","v":"A"},{"$f":"IF(Attendance($C16,'Daily Register'!JR$3:JR$242)=TRUE,\"P\",\"A\")","v":"A"},{"$f":"IF(Attendance($C16,'Daily Register'!JS$3:JS$242)=TRUE,\"P\",\"A\")","v":"A"},{"$f":"IF(Attendance($C16,'Daily Register'!JT$3:JT$242)=TRUE,\"P\",\"A\")","v":"A"},{"$f":"IF(Attendance($C16,'Daily Register'!JU$3:JU$242)=TRUE,\"P\",\"A\")","v":"A"},{"$f":"IF(Attendance($C16,'Daily Register'!JV$3:JV$242)=TRUE,\"P\",\"A\")","v":"A"},{"$f":"IF(Attendance($C16,'Daily Register'!JW$3:JW$242)=TRUE,\"P\",\"A\")","v":"A"},{"$f":"IF(Attendance($C16,'Daily Register'!JX$3:JX$242)=TRUE,\"P\",\"A\")","v":"A"},{"$f":"IF(Attendance($C16,'Daily Register'!JY$3:JY$242)=TRUE,\"P\",\"A\")","v":"A"},{"$f":"IF(Attendance($C16,'Daily Register'!JZ$3:JZ$242)=TRUE,\"P\",\"A\")","v":"A"},{"$f":"IF(Attendance($C16,'Daily Register'!KA$3:KA$242)=TRUE,\"P\",\"A\")","v":"A"},{"$f":"IF(Attendance($C16,'Daily Register'!KB$3:KB$242)=TRUE,\"P\",\"A\")","v":"A"},{"$f":"IF(Attendance($C16,'Daily Register'!KC$3:KC$242)=TRUE,\"P\",\"A\")","v":"A"},{"$f":"IF(Attendance($C16,'Daily Register'!KD$3:KD$242)=TRUE,\"P\",\"A\")","v":"A"},{"$f":"IF(Attendance($C16,'Daily Register'!KE$3:KE$242)=TRUE,\"P\",\"A\")","v":"A"},{"$f":"IF(Attendance($C16,'Daily Register'!KF$3:KF$242)=TRUE,\"P\",\"A\")","v":"A"},{"$f":"IF(Attendance($C16,'Daily Register'!KG$3:KG$242)=TRUE,\"P\",\"A\")","v":"A"},{"$f":"IF(Attendance($C16,'Daily Register'!KH$3:KH$242)=TRUE,\"P\",\"A\")","v":"A"},{"$f":"IF(Attendance($C16,'Daily Register'!KI$3:KI$242)=TRUE,\"P\",\"A\")","v":"A"},{"$f":"IF(Attendance($C16,'Daily Register'!KJ$3:KJ$242)=TRUE,\"P\",\"A\")","v":"A"},{"$f":"IF(Attendance($C16,'Daily Register'!KK$3:KK$242)=TRUE,\"P\",\"A\")","v":"A"},{"$f":"IF(Attendance($C16,'Daily Register'!KL$3:KL$242)=TRUE,\"P\",\"A\")","v":"A"},{"$f":"IF(Attendance($C16,'Daily Register'!KM$3:KM$242)=TRUE,\"P\",\"A\")","v":"A"},{"$f":"IF(Attendance($C16,'Daily Register'!KN$3:KN$242)=TRUE,\"P\",\"A\")","v":"A"},{"$f":"IF(Attendance($C16,'Daily Register'!KO$3:KO$242)=TRUE,\"P\",\"A\")","v":"A"},{"$f":"IF(Attendance($C16,'Daily Register'!KP$3:KP$242)=TRUE,\"P\",\"A\")","v":"A"},{"$f":"IF(Attendance($C16,'Daily Register'!KQ$3:KQ$242)=TRUE,\"P\",\"A\")","v":"A"},{"$f":"IF(Attendance($C16,'Daily Register'!KR$3:KR$242)=TRUE,\"P\",\"A\")","v":"A"},{"$f":"IF(Attendance($C16,'Daily Register'!KS$3:KS$242)=TRUE,\"P\",\"A\")","v":"A"},{"$f":"IF(Attendance($C16,'Daily Register'!KT$3:KT$242)=TRUE,\"P\",\"A\")","v":"A"},{"$f":"IF(Attendance($C16,'Daily Register'!KU$3:KU$242)=TRUE,\"P\",\"A\")","v":"A"},{"$f":"IF(Attendance($C16,'Daily Register'!KV$3:KV$242)=TRUE,\"P\",\"A\")","v":"A"},{"$f":"IF(Attendance($C16,'Daily Register'!KW$3:KW$242)=TRUE,\"P\",\"A\")","v":"A"},{"$f":"IF(Attendance($C16,'Daily Register'!KX$3:KX$242)=TRUE,\"P\",\"A\")","v":"A"},{"$f":"IF(Attendance($C16,'Daily Register'!KY$3:KY$242)=TRUE,\"P\",\"A\")","v":"A"},{"$f":"IF(Attendance($C16,'Daily Register'!KZ$3:KZ$242)=TRUE,\"P\",\"A\")","v":"A"},{"$f":"IF(Attendance($C16,'Daily Register'!LA$3:LA$242)=TRUE,\"P\",\"A\")","v":"A"},{"$f":"IF(Attendance($C16,'Daily Register'!LB$3:LB$242)=TRUE,\"P\",\"A\")","v":"A"},{"$f":"IF(Attendance($C16,'Daily Register'!LC$3:LC$242)=TRUE,\"P\",\"A\")","v":"A"},{"$f":"IF(Attendance($C16,'Daily Register'!LD$3:LD$242)=TRUE,\"P\",\"A\")","v":"A"},{"$f":"IF(Attendance($C16,'Daily Register'!LE$3:LE$242)=TRUE,\"P\",\"A\")","v":"A"},{"$f":"IF(Attendance($C16,'Daily Register'!LF$3:LF$242)=TRUE,\"P\",\"A\")","v":"A"},{"$f":"IF(Attendance($C16,'Daily Register'!LG$3:LG$242)=TRUE,\"P\",\"A\")","v":"A"},{"$f":"IF(Attendance($C16,'Daily Register'!LH$3:LH$242)=TRUE,\"P\",\"A\")","v":"A"},{"$f":"IF(Attendance($C16,'Daily Register'!LI$3:LI$242)=TRUE,\"P\",\"A\")","v":"A"},{"$f":"IF(Attendance($C16,'Daily Register'!LJ$3:LJ$242)=TRUE,\"P\",\"A\")","v":"A"},{"$f":"IF(Attendance($C16,'Daily Register'!LK$3:LK$242)=TRUE,\"P\",\"A\")","v":"A"},{"$f":"IF(Attendance($C16,'Daily Register'!LL$3:LL$242)=TRUE,\"P\",\"A\")","v":"A"},{"$f":"IF(Attendance($C16,'Daily Register'!LM$3:LM$242)=TRUE,\"P\",\"A\")","v":"A"},{"$f":"IF(Attendance($C16,'Daily Register'!LN$3:LN$242)=TRUE,\"P\",\"A\")","v":"A"},{"$f":"IF(Attendance($C16,'Daily Register'!LO$3:LO$242)=TRUE,\"P\",\"A\")","v":"A"},{"$f":"IF(Attendance($C16,'Daily Register'!LP$3:LP$242)=TRUE,\"P\",\"A\")","v":"A"},{"$f":"IF(Attendance($C16,'Daily Register'!LQ$3:LQ$242)=TRUE,\"P\",\"A\")","v":"A"},{"$f":"IF(Attendance($C16,'Daily Register'!LR$3:LR$242)=TRUE,\"P\",\"A\")","v":"A"},{"$f":"IF(Attendance($C16,'Daily Register'!LS$3:LS$242)=TRUE,\"P\",\"A\")","v":"A"},{"$f":"IF(Attendance($C16,'Daily Register'!LT$3:LT$242)=TRUE,\"P\",\"A\")","v":"A"},{"$f":"IF(Attendance($C16,'Daily Register'!LU$3:LU$242)=TRUE,\"P\",\"A\")","v":"A"},{"$f":"IF(Attendance($C16,'Daily Register'!LV$3:LV$242)=TRUE,\"P\",\"A\")","v":"A"},{"$f":"IF(Attendance($C16,'Daily Register'!LW$3:LW$242)=TRUE,\"P\",\"A\")","v":"A"},{"$f":"IF(Attendance($C16,'Daily Register'!LX$3:LX$242)=TRUE,\"P\",\"A\")","v":"A"},{"$f":"IF(Attendance($C16,'Daily Register'!LY$3:LY$242)=TRUE,\"P\",\"A\")","v":"A"},{"$f":"IF(Attendance($C16,'Daily Register'!LZ$3:LZ$242)=TRUE,\"P\",\"A\")","v":"A"},{"$f":"IF(Attendance($C16,'Daily Register'!MA$3:MA$242)=TRUE,\"P\",\"A\")","v":"A"},{"$f":"IF(Attendance($C16,'Daily Register'!MB$3:MB$242)=TRUE,\"P\",\"A\")","v":"A"},{"$f":"IF(Attendance($C16,'Daily Register'!MC$3:MC$242)=TRUE,\"P\",\"A\")","v":"A"},{"$f":"IF(Attendance($C16,'Daily Register'!MD$3:MD$242)=TRUE,\"P\",\"A\")","v":"A"},{"$f":"IF(Attendance($C16,'Daily Register'!ME$3:ME$242)=TRUE,\"P\",\"A\")","v":"A"},{"$f":"IF(Attendance($C16,'Daily Register'!MF$3:MF$242)=TRUE,\"P\",\"A\")","v":"A"},{"$f":"IF(Attendance($C16,'Daily Register'!MG$3:MG$242)=TRUE,\"P\",\"A\")","v":"A"},{"$f":"IF(Attendance($C16,'Daily Register'!MH$3:MH$242)=TRUE,\"P\",\"A\")","v":"A"},{"$f":"IF(Attendance($C16,'Daily Register'!MI$3:MI$242)=TRUE,\"P\",\"A\")","v":"A"},{"$f":"IF(Attendance($C16,'Daily Register'!MJ$3:MJ$242)=TRUE,\"P\",\"A\")","v":"A"},{"$f":"IF(Attendance($C16,'Daily Register'!MK$3:MK$242)=TRUE,\"P\",\"A\")","v":"A"},{"$f":"IF(Attendance($C16,'Daily Register'!ML$3:ML$242)=TRUE,\"P\",\"A\")","v":"A"},{"$f":"IF(Attendance($C16,'Daily Register'!MM$3:MM$242)=TRUE,\"P\",\"A\")","v":"A"},{"$f":"IF(Attendance($C16,'Daily Register'!MN$3:MN$242)=TRUE,\"P\",\"A\")","v":"A"},{"$f":"IF(Attendance($C16,'Daily Register'!MO$3:MO$242)=TRUE,\"P\",\"A\")","v":"A"},{"$f":"IF(Attendance($C16,'Daily Register'!MP$3:MP$242)=TRUE,\"P\",\"A\")","v":"A"},{"$f":"IF(Attendance($C16,'Daily Register'!MQ$3:MQ$242)=TRUE,\"P\",\"A\")","v":"A"},{"$f":"IF(Attendance($C16,'Daily Register'!MR$3:MR$242)=TRUE,\"P\",\"A\")","v":"A"},{"$f":"IF(Attendance($C16,'Daily Register'!MS$3:MS$242)=TRUE,\"P\",\"A\")","v":"A"},{"$f":"IF(Attendance($C16,'Daily Register'!MT$3:MT$242)=TRUE,\"P\",\"A\")","v":"A"},{"$f":"IF(Attendance($C16,'Daily Register'!MU$3:MU$242)=TRUE,\"P\",\"A\")","v":"A"},{"$f":"IF(Attendance($C16,'Daily Register'!MV$3:MV$242)=TRUE,\"P\",\"A\")","v":"A"},{"$f":"IF(Attendance($C16,'Daily Register'!MW$3:MW$242)=TRUE,\"P\",\"A\")","v":"A"},{"$f":"IF(Attendance($C16,'Daily Register'!MX$3:MX$242)=TRUE,\"P\",\"A\")","v":"A"},{"$f":"IF(Attendance($C16,'Daily Register'!MY$3:MY$242)=TRUE,\"P\",\"A\")","v":"A"},{"$f":"IF(Attendance($C16,'Daily Register'!MZ$3:MZ$242)=TRUE,\"P\",\"A\")","v":"A"},{"$f":"IF(Attendance($C16,'Daily Register'!NA$3:NA$242)=TRUE,\"P\",\"A\")","v":"A"},{"$f":"IF(Attendance($C16,'Daily Register'!NB$3:NB$242)=TRUE,\"P\",\"A\")","v":"A"}]
[0,null,14,null,{"$f":"IF(Attendance($C17,'Daily Register'!A$3:A$242)=TRUE,\"P\",\"A\")","v":"A"},{"$f":"IF(Attendance($C17,'Daily Register'!B$3:B$242)=TRUE,\"P\",\"A\")","v":"A"},{"$f":"IF(Attendance($C17,'Daily Register'!C$3:C$242)=TRUE,\"P\",\"A\")","v":"A"},{"$f":"IF(Attendance($C17,'Daily Register'!D$3:D$242)=TRUE,\"P\",\"A\")","v":"A"},{"$f":"IF(Attendance($C17,'Daily Register'!E$3:E$242)=TRUE,\"P\",\"A\")","v":"A"},{"$f":"IF(Attendance($C17,'Daily Register'!F$3:F$242)=TRUE,\"P\",\"A\")","v":"A"},{"$f":"IF(Attendance($C17,'Daily Register'!G$3:G$242)=TRUE,\"P\",\"A\")","v":"A"},{"$f":"IF(Attendance($C17,'Daily Register'!H$3:H$242)=TRUE,\"P\",\"A\")","v":"A"},{"$f":"IF(Attendance($C17,'Daily Register'!I$3:I$242)=TRUE,\"P\",\"A\")","v":"A"},{"$f":"IF(Attendance($C17,'Daily Register'!J$3:J$242)=TRUE,\"P\",\"A\")","v":"A"},{"$f":"IF(Attendance($C17,'Daily Register'!K$3:K$242)=TRUE,\"P\",\"A\")","v":"A"},{"$f":"IF(Attendance($C17,'Daily Register'!L$3:L$242)=TRUE,\"P\",\"A\")","v":"A"},{"$f":"IF(Attendance($C17,'Daily Register'!M$3:M$242)=TRUE,\"P\",\"A\")","v":"A"},{"$f":"IF(Attendance($C17,'Daily Register'!N$3:N$242)=TRUE,\"P\",\"A\")","v":"A"},{"$f":"IF(Attendance($C17,'Daily Register'!O$3:O$242)=TRUE,\"P\",\"A\")","v":"A"},{"$f":"IF(Attendance($C17,'Daily Register'!P$3:P$242)=TRUE,\"P\",\"A\")","v":"A"},{"$f":"IF(Attendance($C17,'Daily Register'!Q$3:Q$242)=TRUE,\"P\",\"A\")","v":"A"},{"$f":"IF(Attendance($C17,'Daily Register'!R$3:R$242)=TRUE,\"P\",\"A\")","v":"A"},{"$f":"IF(Attendance($C17,'Daily Register'!S$3:S$242)=TRUE,\"P\",\"A\")","v":"A"},{"$f":"IF(Attendance($C17,'Daily Register'!T$3:T$242)=TRUE,\"P\",\"A\")","v":"A"},{"$f":"IF(Attendance($C17,'Daily Register'!U$3:U$242)=TRUE,\"P\",\"A\")","v":"A"},{"$f":"IF(Attendance($C17,'Daily Register'!V$3:V$242)=TRUE,\"P\",\"A\")","v":"A"},{"$f":"IF(Attendance($C17,'Daily Register'!W$3:W$242)=TRUE,\"P\",\"A\")","v":"A"},{"$f":"IF(Attendance($C17,'Daily Register'!X$3:X$242)=TRUE,\"P\",\"A\")","v":"A"},{"$f":"IF(Attendance($C17,'Daily Register'!Y$3:Y$242)=TRUE,\"P\",\"A\")","v":"A"},{"$f":"IF(Attendance($C17,'Daily Register'!Z$3:Z$242)=TRUE,\"P\",\"A\")","v":"A"},{"$f":"IF(Attendance($C17,'Daily Register'!AA$3:AA$242)=TRUE,\"P\",\"A\")","v":"A"},{"$f":"IF(Attendance($C17,'Daily Register'!AB$3:AB$242)=TRUE,\"P\",\"A\")","v":"A"},{"$f":"IF(Attendance($C17,'Daily Register'!AC$3:AC$242)=TRUE,\"P\",\"A\")","v":"A"},{"$f":"IF(Attendance($C17,'Daily Register'!AD$3:AD$242)=TRUE,\"P\",\"A\")","v":"A"},{"$f":"IF(Attendance($C17,'Daily Register'!AE$3:AE$242)=TRUE,\"P\",\"A\")","v":"A"},{"$f":"IF(Attendance($C17,'Daily Register'!AF$3:AF$242)=TRUE,\"P\",\"A\")","v":"A"},{"$f":"IF(Attendance($C17,'Daily Register'!AG$3:AG$242)=TRUE,\"P\",\"A\")","v":"A"},{"$f":"IF(Attendance($C17,'Daily Register'!AH$3:AH$242)=TRUE,\"P\",\"A\")","v":"A"},{"$f":"IF(Attendance($C17,'Daily Register'!AI$3:AI$242)=TRUE,\"P\",\"A\")","v":"A"},{"$f":"IF(Attendance($C17,'Daily Register'!AJ$3:AJ$242)=TRUE,\"P\",\"A\")","v":"A"},{"$f":"IF(Attendance($C17,'Daily Register'!AK$3:AK$242)=TRUE,\"P\",\"A\")","v":"A"},{"$f":"IF(Attendance($C17,'Daily Register'!AL$3:AL$242)=TRUE,\"P\",\"A\")","v":"A"},{"$f":"IF(Attendance($C17,'Daily Register'!AM$3:AM$242)=TRUE,\"P\",\"A\")","v":"A"},{"$f":"IF(Attendance($C17,'Daily Register'!AN$3:AN$242)=TRUE,\"P\",\"A\")","v":"A"},{"$f":"IF(Attendance($C17,'Daily Register'!AO$3:AO$242)=TRUE,\"P\",\"A\")","v":"A"},{"$f":"IF(Attendance($C17,'Daily Register'!AP$3:AP$242)=TRUE,\"P\",\"A\")","v":"A"},{"$f":"IF(Attendance($C17,'Daily Register'!AQ$3:AQ$242)=TRUE,\"P\",\"A\")","v":"A"},{"$f":"IF(Attendance($C17,'Daily Register'!AR$3:AR$242)=TRUE,\"P\",\"A\")","v":"A"},{"$f":"IF(Attendance($C17,'Daily Register'!AS$3:AS$242)=TRUE,\"P\",\"A\")","v":"A"},{"$f":"IF(Attendance($C17,'Daily Register'!AT$3:AT$242)=TRUE,\"P\",\"A\")","v":"A"},{"$f":"IF(Attendance($C17,'Daily Register'!AU$3:AU$242)=TRUE,\"P\",\"A\")","v":"A"},{"$f":"IF(Attendance($C17,'Daily Register'!AV$3:AV$242)=TRUE,\"P\",\"A\")","v":"A"},{"$f":"IF(Attendance($C17,'Daily Register'!AW$3:AW$242)=TRUE,\"P\",\"A\")","v":"A"},{"$f":"IF(Attendance($C17,'Daily Register'!AX$3:AX$242)=TRUE,\"P\",\"A\")","v":"A"},{"$f":"IF(Attendance($C17,'Daily Register'!AY$3:AY$242)=TRUE,\"P\",\"A\")","v":"A"},{"$f":"IF(Attendance($C17,'Daily Register'!AZ$3:AZ$242)=TRUE,\"P\",\"A\")","v":"A"},{"$f":"IF(Attendance($C17,'Daily Register'!BA$3:BA$242)=TRUE,\"P\",\"A\")","v":"A"},{"$f":"IF(Attendance($C17,'Daily Register'!BB$3:BB$242)=TRUE,\"P\",\"A\")","v":"A"},{"$f":"IF(Attendance($C17,'Daily Register'!BC$3:BC$242)=TRUE,\"P\",\"A\")","v":"A"},{"$f":"IF(Attendance($C17,'Daily Register'!BD$3:BD$242)=TRUE,\"P\",\"A\")","v":"A"},{"$f":"IF(Attendance($C17,'Daily Register'!BE$3:BE$242)=TRUE,\"P\",\"A\")","v":"A"},{"$f":"IF(Attendance($C17,'Daily Register'!BF$3:BF$242)=TRUE,\"P\",\"A\")","v":"A"},{"$f":"IF(Attendance($C17,'Daily Register'!BG$3:BG$242)=TRUE,\"P\",\"A\")","v":"A"},{"$f":"IF(Attendance($C17,'Daily Register'!BH$3:BH$242)=TRUE,\"P\",\"A\")","v":"A"},{"$f":"IF(Attendance($C17,'Daily Register'!BI$3:BI$242)=TRUE,\"P\",\"A\")","v":"A"},{"$f":"IF(Attendance($C17,'Daily Register'!BJ$3:BJ$242)=TRUE,\"P\",\"A\")","v":"A"},{"$f":"IF(Attendance($C17,'Daily Register'!BK$3:BK$242)=TRUE,\"P\",\"A\")","v":"A"},{"$f":"IF(Attendance($C17,'Daily Register'!BL$3:BL$242)=TRUE,\"P\",\"A\")","v":"A"},{"$f":"IF(Attendance($C17,'Daily Register'!BM$3:BM$242)=TRUE,\"P\",\"A\")","v":"A"},{"$f":"IF(Attendance($C17,'Daily Register'!BN$3:BN$242)=TRUE,\"P\",\"A\")","v":"A"},{"$f":"IF(Attendance($C17,'Daily Register'!BO$3:BO$242)=TRUE,\"P\",\"A\")","v":"A"},{"$f":"IF(Attendance($C17,'Daily Register'!BP$3:BP$242)=TRUE,\"P\",\"A\")","v":"A"},{"$f":"IF(Attendance($C17,'Daily Register'!BQ$3:BQ$242)=TRUE,\"P\",\"A\")","v":"A"},{"$f":"IF(Attendance($C17,'Daily Register'!BR$3:BR$242)=TRUE,\"P\",\"A\")","v":"A"},{"$f":"IF(Attendance($C17,'Daily Register'!BS$3:BS$242)=TRUE,\"P\",\"A\")","v":"A"},{"$f":"IF(Attendance($C17,'Daily Register'!BT$3:BT$242)=TRUE,\"P\",\"A\")","v":"A"},{"$f":"IF(Attendance($C17,'Daily Register'!BU$3:BU$242)=TRUE,\"P\",\"A\")","v":"A"},{"$f":"IF(Attendance($C17,'Daily Register'!BV$3:BV$242)=TRUE,\"P\",\"A\")","v":"A"},{"$f":"IF(Attendance($C17,'Daily Register'!BW$3:BW$242)=TRUE,\"P\",\"A\")","v":"A"},{"$f":"IF(Attendance($C17,'Daily Register'!BX$3:BX$242)=TRUE,\"P\",\"A\")","v":"A"},{"$f":"IF(Attendance($C17,'Daily Register'!BY$3:BY$242)=TRUE,\"P\",\"A\")","v":"A"},{"$f":"IF(Attendance($C17,'Daily Register'!BZ$3:BZ$242)=TRUE,\"P\",\"A\")","v":"A"},{"$f":"IF(Attendance($C17,'Daily Register'!CA$3:CA$242)=TRUE,\"P\",\"A\")","v":"A"},{"$f":"IF(Attendance($C17,'Daily Register'!CB$3:CB$242)=TRUE,\"P\",\"A\")","v":"A"},{"$f":"IF(Attendance($C17,'Daily Register'!CC$3:CC$242)=TRUE,\"P\",\"A\")","v":"A"},{"$f":"IF(Attendance($C17,'Daily Register'!CD$3:CD$242)=TRUE,\"P\",\"A\")","v":"A"},{"$f":"IF(Attendance($C17,'Daily Register'!CE$3:CE$242)=TRUE,\"P\",\"A\")","v":"A"},{"$f":"IF(Attendance($C17,'Daily Register'!CF$3:CF$242)=TRUE,\"P\",\"A\")","v":"A"},{"$f":"IF(Attendance($C17,'Daily Register'!CG$3:CG$242)=TRUE,\"P\",\"A\")","v":"A"},{"$f":"IF(Attendance($C17,'Daily Register'!CH$3:CH$242)=TRUE,\"P\",\"A\")","v":"A"},{"$f":"IF(Attendance($C17,'Daily Register'!CI$3:CI$242)=TRUE,\"P\",\"A\")","v":"A"},{"$f":"IF(Attendance($C17,'Daily Register'!CJ$3:CJ$242)=TRUE,\"P\",\"A\")","v":"A"},{"$f":"IF(Attendance($C17,'Daily Register'!CK$3:CK$242)=TRUE,\"P\",\"A\")","v":"A"},{"$f":"IF(Attendance($C17,'Daily Register'!CL$3:CL$242)=TRUE,\"P\",\"A\")","v":"A"},{"$f":"IF(Attendance($C17,'Daily Register'!CM$3:CM$242)=TRUE,\"P\",\"A\")","v":"A"},{"$f":"IF(Attendance($C17,'Daily Register'!CN$3:CN$242)=TRUE,\"P\",\"A\")","v":"A"},{"$f":"IF(Attendance($C17,'Daily Register'!CO$3:CO$242)=TRUE,\"P\",\"A\")","v":"A"},{"$f":"IF(Attendance($C17,'Daily Register'!CP$3:CP$242)=TRUE,\"P\",\"A\")","v":"A"},{"$f":"IF(Attendance($C17,'Daily Register'!CQ$3:CQ$242)=TRUE,\"P\",\"A\")","v":"A"},{"$f":"IF(Attendance($C17,'Daily Register'!CR$3:CR$242)=TRUE,\"P\",\"A\")","v":"A"},{"$f":"IF(Attendance($C17,'Daily Register'!CS$3:CS$242)=TRUE,\"P\",\"A\")","v":"A"},{"$f":"IF(Attendance($C17,'Daily Register'!CT$3:CT$242)=TRUE,\"P\",\"A\")","v":"A"},{"$f":"IF(Attendance($C17,'Daily Register'!CU$3:CU$242)=TRUE,\"P\",\"A\")","v":"A"},{"$f":"IF(Attendance($C17,'Daily Register'!CV$3:CV$242)=TRUE,\"P\",\"A\")","v":"A"},{"$f":"IF(Attendance($C17,'Daily Register'!CW$3:CW$242)=TRUE,\"P\",\"A\")","v":"A"},{"$f":"IF(Attendance($C17,'Daily Register'!CX$3:CX$242)=TRUE,\"P\",\"A\")","v":"A"},{"$f":"IF(Attendance($C17,'Daily Register'!CY$3:CY$242)=TRUE,\"P\",\"A\")","v":"A"},{"$f":"IF(Attendance($C17,'Daily Register'!CZ$3:CZ$242)=TRUE,\"P\",\"A\")","v":"A"},{"$f":"IF(Attendance($C17,'Daily Register'!DA$3:DA$242)=TRUE,\"P\",\"A\")","v":"A"},{"$f":"IF(Attendance($C17,'Daily Register'!DB$3:DB$242)=TRUE,\"P\",\"A\")","v":"A"},{"$f":"IF(Attendance($C17,'Daily Register'!DC$3:DC$242)=TRUE,\"P\",\"A\")","v":"A"},{"$f":"IF(Attendance($C17,'Daily Register'!DD$3:DD$242)=TRUE,\"P\",\"A\")","v":"A"},{"$f":"IF(Attendance($C17,'Daily Register'!DE$3:DE$242)=TRUE,\"P\",\"A\")","v":"A"},{"$f":"IF(Attendance($C17,'Daily Register'!DF$3:DF$242)=TRUE,\"P\",\"A\")","v":"A"},{"$f":"IF(Attendance($C17,'Daily Register'!DG$3:DG$242)=TRUE,\"P\",\"A\")","v":"A"},{"$f":"IF(Attendance($C17,'Daily Register'!DH$3:DH$242)=TRUE,\"P\",\"A\")","v":"A"},{"$f":"IF(Attendance($C17,'Daily Register'!DI$3:DI$242)=TRUE,\"P\",\"A\")","v":"A"},{"$f":"IF(Attendance($C17,'Daily Register'!DJ$3:DJ$242)=TRUE,\"P\",\"A\")","v":"A"},{"$f":"IF(Attendance($C17,'Daily Register'!DK$3:DK$242)=TRUE,\"P\",\"A\")","v":"A"},{"$f":"IF(Attendance($C17,'Daily Register'!DL$3:DL$242)=TRUE,\"P\",\"A\")","v":"A"},{"$f":"IF(Attendance($C17,'Daily Register'!DM$3:DM$242)=TRUE,\"P\",\"A\")","v":"A"},{"$f":"IF(Attendance($C17,'Daily Register'!DN$3:DN$242)=TRUE,\"P\",\"A\")","v":"A"},{"$f":"IF(Attendance($C17,'Daily Register'!DO$3:DO$242)=TRUE,\"P\",\"A\")","v":"A"},{"$f":"IF(Attendance($C17,'Daily Register'!DP$3:DP$242)=TRUE,\"P\",\"A\")","v":"A"},{"$f":"IF(Attendance($C17,'Daily Register'!DQ$3:DQ$242)=TRUE,\"P\",\"A\")","v":"A"},{"$f":"IF(Attendance($C17,'Daily Register'!DR$3:DR$242)=TRUE,\"P\",\"A\")","v":"A"},{"$f":"IF(Attendance($C17,'Daily Register'!DS$3:DS$242)=TRUE,\"P\",\"A\")","v":"A"},{"$f":"IF(Attendance($C17,'Daily Register'!DT$3:DT$242)=TRUE,\"P\",\"A\")","v":"A"},{"$f":"IF(Attendance($C17,'Daily Register'!DU$3:DU$242)=TRUE,\"P\",\"A\")","v":"A"},{"$f":"IF(Attendance($C17,'Daily Register'!DV$3:DV$242)=TRUE,\"P\",\"A\")","v":"A"},{"$f":"IF(Attendance($C17,'Daily Register'!DW$3:DW$242)=TRUE,\"P\",\"A\")","v":"A"},{"$f":"IF(Attendance($C17,'Daily Register'!DX$3:DX$242)=TRUE,\"P\",\"A\")","v":"A"},{"$f":"IF(Attendance($C17,'Daily Register'!DY$3:DY$242)=TRUE,\"P\",\"A\")","v":"A"},{"$f":"IF(Attendance($C17,'Daily Register'!DZ$3:DZ$242)=TRUE,\"P\",\"A\")","v":"A"},{"$f":"IF(Attendance($C17,'Daily Register'!EA$3:EA$242)=TRUE,\"P\",\"A\")","v":"A"},{"$f":"IF(Attendance($C17,'Daily Register'!EB$3:EB$242)=TRUE,\"P\",\"A\")","v":"A"},{"$f":"IF(Attendance($C17,'Daily Register'!EC$3:EC$242)=TRUE,\"P\",\"A\")","v":"A"},{"$f":"IF(Attendance($C17,'Daily Register'!ED$3:ED$242)=TRUE,\"P\",\"A\")","v":"A"},{"$f":"IF(Attendance($C17,'Daily Register'!EE$3:EE$242)=TRUE,\"P\",\"A\")","v":"A"},{"$f":"IF(Attendance($C17,'Daily Register'!EF$3:EF$242)=TRUE,\"P\",\"A\")","v":"A"},{"$f":"IF(Attendance($C17,'Daily Register'!EG$3:EG$242)=TRUE,\"P\",\"A\")","v":"A"},{"$f":"IF(Attendance($C17,'Daily Register'!EH$3:EH$242)=TRUE,\"P\",\"A\")","v":"A"},{"$f":"IF(Attendance($C17,'Daily Register'!EI$3:EI$242)=TRUE,\"P\",\"A\")","v":"A"},{"$f":"IF(Attendance($C17,'Daily Register'!EJ$3:EJ$242)=TRUE,\"P\",\"A\")","v":"A"},{"$f":"IF(Attendance($C17,'Daily Register'!EK$3:EK$242)=TRUE,\"P\",\"A\")","v":"A"},{"$f":"IF(Attendance($C17,'Daily Register'!EL$3:EL$242)=TRUE,\"P\",\"A\")","v":"A"},{"$f":"IF(Attendance($C17,'Daily Register'!EM$22:EM$242)=TRUE,\"P\",\"A\")","v":"A"},{"$f":"IF(Attendance($C17,'Daily Register'!EN$3:EN$242)=TRUE,\"P\",\"A\")","v":"A"},{"$f":"IF(Attendance($C17,'Daily Register'!EO$3:EO$242)=TRUE,\"P\",\"A\")","v":"A"},{"$f":"IF(Attendance($C17,'Daily Register'!EP$3:EP$242)=TRUE,\"P\",\"A\")","v":"A"},{"$f":"IF(Attendance($C17,'Daily Register'!EQ$3:EQ$242)=TRUE,\"P\",\"A\")","v":"A"},{"$f":"IF(Attendance($C17,'Daily Register'!ER$3:ER$242)=TRUE,\"P\",\"A\")","v":"A"},{"$f":"IF(Attendance($C17,'Daily Register'!ES$3:ES$242)=TRUE,\"P\",\"A\")","v":"A"},{"$f":"IF(Attendance($C17,'Daily Register'!ET$3:ET$242)=TRUE,\"P\",\"A\")","v":"A"},{"$f":"IF(Attendance($C17,'Daily Register'!EU$3:EU$242)=TRUE,\"P\",\"A\")","v":"A"},{"$f":"IF(Attendance($C17,'Daily Register'!EV$3:EV$242)=TRUE,\"P\",\"A\")","v":"A"},{"$f":"IF(Attendance($C17,'Daily Register'!EW$3:EW$242)=TRUE,\"P\",\"A\")","v":"A"},{"$f":"IF(Attendance($C17,'Daily Register'!EX$3:EX$242)=TRUE,\"P\",\"A\")","v":"A"},{"$f":"IF(Attendance($C17,'Daily Register'!EY$3:EY$242)=TRUE,\"P\",\"A\")","v":"A"},{"$f":"IF(Attendance($C17,'Daily Register'!EZ$3:EZ$242)=TRUE,\"P\",\"A\")","v":"A"},{"$f":"IF(Attendance($C17,'Daily Register'!FA$3:FA$242)=TRUE,\"P\",\"A\")","v":"A"},{"$f":"IF(Attendance($C17,'Daily Register'!FB$3:FB$242)=TRUE,\"P\",\"A\")","v":"A"},{"$f":"IF(Attendance($C17,'Daily Register'!FC$3:FC$242)=TRUE,\"P\",\"A\")","v":"A"},{"$f":"IF(Attendance($C17,'Daily Register'!FD$3:FD$242)=TRUE,\"P\",\"A\")","v":"A"},{"$f":"IF(Attendance($C17,'Daily Register'!FE$3:FE$242)=TRUE,\"P\",\"A\")","v":"A"},{"$f":"IF(Attendance($C17,'Daily Register'!FF$3:FF$242)=TRUE,\"P\",\"A\")","v":"A"},{"$f":"IF(Attendance($C17,'Daily Register'!FG$3:FG$242)=TRUE,\"P\",\"A\")","v":"A"},{"$f":"IF(Attendance($C17,'Daily Register'!FH$3:FH$242)=TRUE,\"P\",\"A\")","v":"A"},{"$f":"IF(Attendance($C17,'Daily Register'!FI$3:FI$242)=TRUE,\"P\",\"A\")","v":"A"},{"$f":"IF(Attendance($C17,'Daily Register'!FJ$3:FJ$242)=TRUE,\"P\",\"A\")","v":"A"},{"$f":"IF(Attendance($C17,'Daily Register'!FK$3:FK$242)=TRUE,\"P\",\"A\")","v":"A"},{"$f":"IF(Attendance($C17,'Daily Register'!FL$3:FL$242)=TRUE,\"P\",\"A\")","v":"A"},{"$f":"IF(Attendance($C17,'Daily Register'!FM$3:FM$242)=TRUE,\"P\",\"A\")","v":"A"},{"$f":"IF(Attendance($C17,'Daily Register'!FN$3:FN$242)=TRUE,\"P\",\"A\")","v":"A"},{"$f":"IF(Attendance($C17,'Daily Register'!FO$3:FO$242)=TRUE,\"P\",\"A\")","v":"A"},{"$f":"IF(Attendance($C17,'Daily Register'!FP$3:FP$242)=TRUE,\"P\",\"A\")","v":"A"},{"$f":"IF(Attendance($C17,'Daily Register'!FQ$3:FQ$242)=TRUE,\"P\",\"A\")","v":"A"},{"$f":"IF(Attendance($C17,'Daily Register'!FR$3:FR$242)=TRUE,\"P\",\"A\")","v":"A"},{"$f":"IF(Attendance($C17,'Daily Register'!FS$3:FS$242)=TRUE,\"P\",\"A\")","v":"A"},{"$f":"IF(Attendance($C17,'Daily Register'!FT$3:FT$242)=TRUE,\"P\",\"A\")","v":"A"},{"$f":"IF(Attendance($C17,'Daily Register'!FU$3:FU$242)=TRUE,\"P\",\"A\")","v":"A"},{"$f":"IF(Attendance($C17,'Daily Register'!FV$3:FV$242)=TRUE,\"P\",\"A\")","v":"A"},{"$f":"IF(Attendance($C17,'Daily Register'!FW$3:FW$242)=TRUE,\"P\",\"A\")","v":"A"},{"$f":"IF(Attendance($C17,'Daily Register'!FX$3:FX$242)=TRUE,\"P\",\"A\")","v":"A"},{"$f":"IF(Attendance($C17,'Daily Register'!FY$3:FY$242)=TRUE,\"P\",\"A\")","v":"A"},{"$f":"IF(Attendance($C17,'Daily Register'!FZ$3:FZ$242)=TRUE,\"P\",\"A\")","v":"A"},{"$f":"IF(Attendance($C17,'Daily Register'!GA$3:GA$242)=TRUE,\"P\",\"A\")","v":"A"},{"$f":"IF(Attendance($C17,'Daily Register'!GB$3:GB$242)=TRUE,\"P\",\"A\")","v":"A"},{"$f":"IF(Attendance($C17,'Daily Register'!GC$3:GC$242)=TRUE,\"P\",\"A\")","v":"A"},{"$f":"IF(Attendance($C17,'Daily Register'!GD$3:GD$242)=TRUE,\"P\",\"A\")","v":"A"},{"$f":"IF(Attendance($C17,'Daily Register'!GE$3:GE$242)=TRUE,\"P\",\"A\")","v":"A"},{"$f":"IF(Attendance($C17,'Daily Register'!GF$3:GF$242)=TRUE,\"P\",\"A\")","v":"A"},{"$f":"IF(Attendance($C17,'Daily Register'!GG$3:GG$242)=TRUE,\"P\",\"A\")","v":"A"},{"$f":"IF(Attendance($C17,'Daily Register'!GH$3:GH$242)=TRUE,\"P\",\"A\")","v":"A"},{"$f":"IF(Attendance($C17,'Daily Register'!GI$3:GI$242)=TRUE,\"P\",\"A\")","v":"A"},{"$f":"IF(Attendance($C17,'Daily Register'!GJ$3:GJ$242)=TRUE,\"P\",\"A\")","v":"A"},{"$f":"IF(Attendance($C17,'Daily Register'!GK$3:GK$242)=TRUE,\"P\",\"A\")","v":"A"},{"$f":"IF(Attendance($C17,'Daily Register'!GL$3:GL$242)=TRUE,\"P\",\"A\")","v":"A"},{"$f":"IF(Attendance($C17,'Daily Register'!GM$3:GM$242)=TRUE,\"P\",\"A\")","v":"A"},{"$f":"IF(Attendance($C17,'Daily Register'!GN$3:GN$242)=TRUE,\"P\",\"A\")","v":"A"},{"$f":"IF(Attendance($C17,'Daily Register'!GO$3:GO$242)=TRUE,\"P\",\"A\")","v":"A"},{"$f":"IF(Attendance($C17,'Daily Register'!GP$3:GP$242)=TRUE,\"P\",\"A\")","v":"A"},{"$f":"IF(Attendance($C17,'Daily Register'!GQ$3:GQ$242)=TRUE,\"P\",\"A\")","v":"A"},{"$f":"IF(Attendance($C17,'Daily Register'!GR$3:GR$242)=TRUE,\"P\",\"A\")","v":"A"},{"$f":"IF(Attendance($C17,'Daily Register'!GS$3:GS$242)=TRUE,\"P\",\"A\")","v":"A"},{"$f":"IF(Attendance($C17,'Daily Register'!GT$3:GT$242)=TRUE,\"P\",\"A\")","v":"A"},{"$f":"IF(Attendance($C17,'Daily Register'!GU$3:GU$242)=TRUE,\"P\",\"A\")","v":"A"},{"$f":"IF(Attendance($C17,'Daily Register'!GV$3:GV$242)=TRUE,\"P\",\"A\")","v":"A"},{"$f":"IF(Attendance($C17,'Daily Register'!GW$3:GW$242)=TRUE,\"P\",\"A\")","v":"A"},{"$f":"IF(Attendance($C17,'Daily Register'!GX$3:GX$242)=TRUE,\"P\",\"A\")","v":"A"},{"$f":"IF(Attendance($C17,'Daily Register'!GY$3:GY$242)=TRUE,\"P\",\"A\")","v":"A"},{"$f":"IF(Attendance($C17,'Daily Register'!GZ$3:GZ$242)=TRUE,\"P\",\"A\")","v":"A"},{"$f":"IF(Attendance($C17,'Daily Register'!HA$3:HA$242)=TRUE,\"P\",\"A\")","v":"A"},{"$f":"IF(Attendance($C17,'Daily Register'!HB$3:HB$242)=TRUE,\"P\",\"A\")","v":"A"},{"$f":"IF(Attendance($C17,'Daily Register'!HC$3:HC$242)=TRUE,\"P\",\"A\")","v":"A"},{"$f":"IF(Attendance($C17,'Daily Register'!HD$3:HD$242)=TRUE,\"P\",\"A\")","v":"A"},{"$f":"IF(Attendance($C17,'Daily Register'!HE$3:HE$242)=TRUE,\"P\",\"A\")","v":"A"},{"$f":"IF(Attendance($C17,'Daily Register'!HF$3:HF$242)=TRUE,\"P\",\"A\")","v":"A"},{"$f":"IF(Attendance($C17,'Daily Register'!HG$3:HG$242)=TRUE,\"P\",\"A\")","v":"A"},{"$f":"IF(Attendance($C17,'Daily Register'!HH$3:HH$242)=TRUE,\"P\",\"A\")","v":"A"},{"$f":"IF(Attendance($C17,'Daily Register'!HI$3:HI$242)=TRUE,\"P\",\"A\")","v":"A"},{"$f":"IF(Attendance($C17,'Daily Register'!HJ$3:HJ$242)=TRUE,\"P\",\"A\")","v":"A"},{"$f":"IF(Attendance($C17,'Daily Register'!HK$3:HK$242)=TRUE,\"P\",\"A\")","v":"A"},{"$f":"IF(Attendance($C17,'Daily Register'!HL$3:HL$242)=TRUE,\"P\",\"A\")","v":"A"},{"$f":"IF(Attendance($C17,'Daily Register'!HM$3:HM$242)=TRUE,\"P\",\"A\")","v":"A"},{"$f":"IF(Attendance($C17,'Daily Register'!HN$3:HN$242)=TRUE,\"P\",\"A\")","v":"A"},{"$f":"IF(Attendance($C17,'Daily Register'!HO$3:HO$242)=TRUE,\"P\",\"A\")","v":"A"},{"$f":"IF(Attendance($C17,'Daily Register'!HP$3:HP$242)=TRUE,\"P\",\"A\")","v":"A"},{"$f":"IF(Attendance($C17,'Daily Register'!HQ$3:HQ$242)=TRUE,\"P\",\"A\")","v":"A"},{"$f":"IF(Attendance($C17,'Daily Register'!HR$3:HR$242)=TRUE,\"P\",\"A\")","v":"A"},{"$f":"IF(Attendance($C17,'Daily Register'!HS$3:HS$242)=TRUE,\"P\",\"A\")","v":"A"},{"$f":"IF(Attendance($C17,'Daily Register'!HT$3:HT$242)=TRUE,\"P\",\"A\")","v":"A"},{"$f":"IF(Attendance($C17,'Daily Register'!HU$3:HU$242)=TRUE,\"P\",\"A\")","v":"A"},{"$f":"IF(Attendance($C17,'Daily Register'!HV$3:HV$242)=TRUE,\"P\",\"A\")","v":"A"},{"$f":"IF(Attendance($C17,'Daily Register'!HW$3:HW$242)=TRUE,\"P\",\"A\")","v":"A"},{"$f":"IF(Attendance($C17,'Daily Register'!HX$3:HX$242)=TRUE,\"P\",\"A\")","v":"A"},{"$f":"IF(Attendance($C17,'Daily Register'!HY$3:HY$242)=TRUE,\"P\",\"A\")","v":"A"},{"$f":"IF(Attendance($C17,'Daily Register'!HZ$3:HZ$242)=TRUE,\"P\",\"A\")","v":"A"},{"$f":"IF(Attendance($C17,'Daily Register'!IA$3:IA$242)=TRUE,\"P\",\"A\")","v":"A"},{"$f":"IF(Attendance($C17,'Daily Register'!IB$3:IB$242)=TRUE,\"P\",\"A\")","v":"A"},{"$f":"IF(Attendance($C17,'Daily Register'!IC$3:IC$242)=TRUE,\"P\",\"A\")","v":"A"},{"$f":"IF(Attendance($C17,'Daily Register'!ID$3:ID$242)=TRUE,\"P\",\"A\")","v":"A"},{"$f":"IF(Attendance($C17,'Daily Register'!IE$3:IE$242)=TRUE,\"P\",\"A\")","v":"A"},{"$f":"IF(Attendance($C17,'Daily Register'!IF$3:IF$242)=TRUE,\"P\",\"A\")","v":"A"},{"$f":"IF(Attendance($C17,'Daily Register'!IG$3:IG$242)=TRUE,\"P\",\"A\")","v":"A"},{"$f":"IF(Attendance($C17,'Daily Register'!IH$3:IH$242)=TRUE,\"P\",\"A\")","v":"A"},{"$f":"IF(Attendance($C17,'Daily Register'!II$3:II$242)=TRUE,\"P\",\"A\")","v":"A"},{"$f":"IF(Attendance($C17,'Daily Register'!IJ$3:IJ$242)=TRUE,\"P\",\"A\")","v":"A"},{"$f":"IF(Attendance($C17,'Daily Register'!IK$3:IK$242)=TRUE,\"P\",\"A\")","v":"A"},{"$f":"IF(Attendance($C17,'Daily Register'!IL$3:IL$242)=TRUE,\"P\",\"A\")","v":"A"},{"$f":"IF(Attendance($C17,'Daily Register'!IM$3:IM$242)=TRUE,\"P\",\"A\")","v":"A"},{"$f":"IF(Attendance($C17,'Daily Register'!IN$3:IN$242)=TRUE,\"P\",\"A\")","v":"A"},{"$f":"IF(Attendance($C17,'Daily Register'!IO$3:IO$242)=TRUE,\"P\",\"A\")","v":"A"},{"$f":"IF(Attendance($C17,'Daily Register'!IP$3:IP$242)=TRUE,\"P\",\"A\")","v":"A"},{"$f":"IF(Attendance($C17,'Daily Register'!IQ$3:IQ$242)=TRUE,\"P\",\"A\")","v":"A"},{"$f":"IF(Attendance($C17,'Daily Register'!IR$3:IR$242)=TRUE,\"P\",\"A\")","v":"A"},{"$f":"IF(Attendance($C17,'Daily Register'!IS$3:IS$242)=TRUE,\"P\",\"A\")","v":"A"},{"$f":"IF(Attendance($C17,'Daily Register'!IT$3:IT$242)=TRUE,\"P\",\"A\")","v":"A"},{"$f":"IF(Attendance($C17,'Daily Register'!IU$3:IU$242)=TRUE,\"P\",\"A\")","v":"A"},{"$f":"IF(Attendance($C17,'Daily Register'!IV$3:IV$242)=TRUE,\"P\",\"A\")","v":"A"},{"$f":"IF(Attendance($C17,'Daily Register'!IW$3:IW$242)=TRUE,\"P\",\"A\")","v":"A"},{"$f":"IF(Attendance($C17,'Daily Register'!IX$3:IX$242)=TRUE,\"P\",\"A\")","v":"A"},{"$f":"IF(Attendance($C17,'Daily Register'!IY$3:IY$242)=TRUE,\"P\",\"A\")","v":"A"},{"$f":"IF(Attendance($C17,'Daily Register'!IZ$3:IZ$242)=TRUE,\"P\",\"A\")","v":"A"},{"$f":"IF(Attendance($C17,'Daily Register'!JA$3:JA$242)=TRUE,\"P\",\"A\")","v":"A"},{"$f":"IF(Attendance($C17,'Daily Register'!JB$3:JB$242)=TRUE,\"P\",\"A\")","v":"A"},{"$f":"IF(Attendance($C17,'Daily Register'!JC$3:JC$242)=TRUE,\"P\",\"A\")","v":"A"},{"$f":"IF(Attendance($C17,'Daily Register'!JD$3:JD$242)=TRUE,\"P\",\"A\")","v":"A"},{"$f":"IF(Attendance($C17,'Daily Register'!JE$3:JE$242)=TRUE,\"P\",\"A\")","v":"A"},{"$f":"IF(Attendance($C17,'Daily Register'!JF$3:JF$242)=TRUE,\"P\",\"A\")","v":"A"},{"$f":"IF(Attendance($C17,'Daily Register'!JG$3:JG$242)=TRUE,\"P\",\"A\")","v":"A"},{"$f":"IF(Attendance($C17,'Daily Register'!JH$3:JH$242)=TRUE,\"P\",\"A\")","v":"A"},{"$f":"IF(Attendance($C17,'Daily Register'!JI$3:JI$242)=TRUE,\"P\",\"A\")","v":"A"},{"$f":"IF(Attendance($C17,'Daily Register'!JJ$3:JJ$242)=TRUE,\"P\",\"A\")","v":"A"},{"$f":"IF(Attendance($C17,'Daily Register'!JK$3:JK$242)=TRUE,\"P\",\"A\")","v":"A"},{"$f":"IF(Attendance($C17,'Daily Register'!JL$3:JL$242)=TRUE,\"P\",\"A\")","v":"A"},{"$f":"IF(Attendance($C17,'Daily Register'!JM$3:JM$242)=TRUE,\"P\",\"A\")","v":"A"},{"$f":"IF(Attendance($C17,'Daily Register'!JN$3:JN$242)=TRUE,\"P\",\"A\")","v":"A"},{"$f":"IF(Attendance($C17,'Daily Register'!JO$3:JO$242)=TRUE,\"P\",\"A\")","v":"A"},{"$f":"IF(Attendance($C17,'Daily Register'!JP$3:JP$242)=TRUE,\"P\",\"A\")","v":"A"},{"$f":"IF(Attendance($C17,'Daily Register'!JQ$3:JQ$242)=TRUE,\"P\",\"A\")","v":"A"},{"$f":"IF(Attendance($C17,'Daily Register'!JR$3:JR$242)=TRUE,\"P\",\"A\")","v":"A"},{"$f":"IF(Attendance($C17,'Daily Register'!JS$3:JS$242)=TRUE,\"P\",\"A\")","v":"A"},{"$f":"IF(Attendance($C17,'Daily Register'!JT$3:JT$242)=TRUE,\"P\",\"A\")","v":"A"},{"$f":"IF(Attendance($C17,'Daily Register'!JU$3:JU$242)=TRUE,\"P\",\"A\")","v":"A"},{"$f":"IF(Attendance($C17,'Daily Register'!JV$3:JV$242)=TRUE,\"P\",\"A\")","v":"A"},{"$f":"IF(Attendance($C17,'Daily Register'!JW$3:JW$242)=TRUE,\"P\",\"A\")","v":"A"},{"$f":"IF(Attendance($C17,'Daily Register'!JX$3:JX$242)=TRUE,\"P\",\"A\")","v":"A"},{"$f":"IF(Attendance($C17,'Daily Register'!JY$3:JY$242)=TRUE,\"P\",\"A\")","v":"A"},{"$f":"IF(Attendance($C17,'Daily Register'!JZ$3:JZ$242)=TRUE,\"P\",\"A\")","v":"A"},{"$f":"IF(Attendance($C17,'Daily Register'!KA$3:KA$242)=TRUE,\"P\",\"A\")","v":"A"},{"$f":"IF(Attendance($C17,'Daily Register'!KB$3:KB$242)=TRUE,\"P\",\"A\")","v":"A"},{"$f":"IF(Attendance($C17,'Daily Register'!KC$3:KC$242)=TRUE,\"P\",\"A\")","v":"A"},{"$f":"IF(Attendance($C17,'Daily Register'!KD$3:KD$242)=TRUE,\"P\",\"A\")","v":"A"},{"$f":"IF(Attendance($C17,'Daily Register'!KE$3:KE$242)=TRUE,\"P\",\"A\")","v":"A"},{"$f":"IF(Attendance($C17,'Daily Register'!KF$3:KF$242)=TRUE,\"P\",\"A\")","v":"A"},{"$f":"IF(Attendance($C17,'Daily Register'!KG$3:KG$242)=TRUE,\"P\",\"A\")","v":"A"},{"$f":"IF(Attendance($C17,'Daily Register'!KH$3:KH$242)=TRUE,\"P\",\"A\")","v":"A"},{"$f":"IF(Attendance($C17,'Daily Register'!KI$3:KI$242)=TRUE,\"P\",\"A\")","v":"A"},{"$f":"IF(Attendance($C17,'Daily Register'!KJ$3:KJ$242)=TRUE,\"P\",\"A\")","v":"A"},{"$f":"IF(Attendance($C17,'Daily Register'!KK$3:KK$242)=TRUE,\"P\",\"A\")","v":"A"},{"$f":"IF(Attendance($C17,'Daily Register'!KL$3:KL$242)=TRUE,\"P\",\"A\")","v":"A"},{"$f":"IF(Attendance($C17,'Daily Register'!KM$3:KM$242)=TRUE,\"P\",\"A\")","v":"A"},{"$f":"IF(Attendance($C17,'Daily Register'!KN$3:KN$242)=TRUE,\"P\",\"A\")","v":"A"},{"$f":"IF(Attendance($C17,'Daily Register'!KO$3:KO$242)=TRUE,\"P\",\"A\")","v":"A"},{"$f":"IF(Attendance($C17,'Daily Register'!KP$3:KP$242)=TRUE,\"P\",\"A\")","v":"A"},{"$f":"IF(Attendance($C17,'Daily Register'!KQ$3:KQ$242)=TRUE,\"P\",\"A\")","v":"A"},{"$f":"IF(Attendance($C17,'Daily Register'!KR$3:KR$242)=TRUE,\"P\",\"A\")","v":"A"},{"$f":"IF(Attendance($C17,'Daily Register'!KS$3:KS$242)=TRUE,\"P\",\"A\")","v":"A"},{"$f":"IF(Attendance($C17,'Daily Register'!KT$3:KT$242)=TRUE,\"P\",\"A\")","v":"A"},{"$f":"IF(Attendance($C17,'Daily Register'!KU$3:KU$242)=TRUE,\"P\",\"A\")","v":"A"},{"$f":"IF(Attendance($C17,'Daily Register'!KV$3:KV$242)=TRUE,\"P\",\"A\")","v":"A"},{"$f":"IF(Attendance($C17,'Daily Register'!KW$3:KW$242)=TRUE,\"P\",\"A\")","v":"A"},{"$f":"IF(Attendance($C17,'Daily Register'!KX$3:KX$242)=TRUE,\"P\",\"A\")","v":"A"},{"$f":"IF(Attendance($C17,'Daily Register'!KY$3:KY$242)=TRUE,\"P\",\"A\")","v":"A"},{"$f":"IF(Attendance($C17,'Daily Register'!KZ$3:KZ$242)=TRUE,\"P\",\"A\")","v":"A"},{"$f":"IF(Attendance($C17,'Daily Register'!LA$3:LA$242)=TRUE,\"P\",\"A\")","v":"A"},{"$f":"IF(Attendance($C17,'Daily Register'!LB$3:LB$242)=TRUE,\"P\",\"A\")","v":"A"},{"$f":"IF(Attendance($C17,'Daily Register'!LC$3:LC$242)=TRUE,\"P\",\"A\")","v":"A"},{"$f":"IF(Attendance($C17,'Daily Register'!LD$3:LD$242)=TRUE,\"P\",\"A\")","v":"A"},{"$f":"IF(Attendance($C17,'Daily Register'!LE$3:LE$242)=TRUE,\"P\",\"A\")","v":"A"},{"$f":"IF(Attendance($C17,'Daily Register'!LF$3:LF$242)=TRUE,\"P\",\"A\")","v":"A"},{"$f":"IF(Attendance($C17,'Daily Register'!LG$3:LG$242)=TRUE,\"P\",\"A\")","v":"A"},{"$f":"IF(Attendance($C17,'Daily Register'!LH$3:LH$242)=TRUE,\"P\",\"A\")","v":"A"},{"$f":"IF(Attendance($C17,'Daily Register'!LI$3:LI$242)=TRUE,\"P\",\"A\")","v":"A"},{"$f":"IF(Attendance($C17,'Daily Register'!LJ$3:LJ$242)=TRUE,\"P\",\"A\")","v":"A"},{"$f":"IF(Attendance($C17,'Daily Register'!LK$3:LK$242)=TRUE,\"P\",\"A\")","v":"A"},{"$f":"IF(Attendance($C17,'Daily Register'!LL$3:LL$242)=TRUE,\"P\",\"A\")","v":"A"},{"$f":"IF(Attendance($C17,'Daily Register'!LM$3:LM$242)=TRUE,\"P\",\"A\")","v":"A"},{"$f":"IF(Attendance($C17,'Daily Register'!LN$3:LN$242)=TRUE,\"P\",\"A\")","v":"A"},{"$f":"IF(Attendance($C17,'Daily Register'!LO$3:LO$242)=TRUE,\"P\",\"A\")","v":"A"},{"$f":"IF(Attendance($C17,'Daily Register'!LP$3:LP$242)=TRUE,\"P\",\"A\")","v":"A"},{"$f":"IF(Attendance($C17,'Daily Register'!LQ$3:LQ$242)=TRUE,\"P\",\"A\")","v":"A"},{"$f":"IF(Attendance($C17,'Daily Register'!LR$3:LR$242)=TRUE,\"P\",\"A\")","v":"A"},{"$f":"IF(Attendance($C17,'Daily Register'!LS$3:LS$242)=TRUE,\"P\",\"A\")","v":"A"},{"$f":"IF(Attendance($C17,'Daily Register'!LT$3:LT$242)=TRUE,\"P\",\"A\")","v":"A"},{"$f":"IF(Attendance($C17,'Daily Register'!LU$3:LU$242)=TRUE,\"P\",\"A\")","v":"A"},{"$f":"IF(Attendance($C17,'Daily Register'!LV$3:LV$242)=TRUE,\"P\",\"A\")","v":"A"},{"$f":"IF(Attendance($C17,'Daily Register'!LW$3:LW$242)=TRUE,\"P\",\"A\")","v":"A"},{"$f":"IF(Attendance($C17,'Daily Register'!LX$3:LX$242)=TRUE,\"P\",\"A\")","v":"A"},{"$f":"IF(Attendance($C17,'Daily Register'!LY$3:LY$242)=TRUE,\"P\",\"A\")","v":"A"},{"$f":"IF(Attendance($C17,'Daily Register'!LZ$3:LZ$242)=TRUE,\"P\",\"A\")","v":"A"},{"$f":"IF(Attendance($C17,'Daily Register'!MA$3:MA$242)=TRUE,\"P\",\"A\")","v":"A"},{"$f":"IF(Attendance($C17,'Daily Register'!MB$3:MB$242)=TRUE,\"P\",\"A\")","v":"A"},{"$f":"IF(Attendance($C17,'Daily Register'!MC$3:MC$242)=TRUE,\"P\",\"A\")","v":"A"},{"$f":"IF(Attendance($C17,'Daily Register'!MD$3:MD$242)=TRUE,\"P\",\"A\")","v":"A"},{"$f":"IF(Attendance($C17,'Daily Register'!ME$3:ME$242)=TRUE,\"P\",\"A\")","v":"A"},{"$f":"IF(Attendance($C17,'Daily Register'!MF$3:MF$242)=TRUE,\"P\",\"A\")","v":"A"},{"$f":"IF(Attendance($C17,'Daily Register'!MG$3:MG$242)=TRUE,\"P\",\"A\")","v":"A"},{"$f":"IF(Attendance($C17,'Daily Register'!MH$3:MH$242)=TRUE,\"P\",\"A\")","v":"A"},{"$f":"IF(Attendance($C17,'Daily Register'!MI$3:MI$242)=TRUE,\"P\",\"A\")","v":"A"},{"$f":"IF(Attendance($C17,'Daily Register'!MJ$3:MJ$242)=TRUE,\"P\",\"A\")","v":"A"},{"$f":"IF(Attendance($C17,'Daily Register'!MK$3:MK$242)=TRUE,\"P\",\"A\")","v":"A"},{"$f":"IF(Attendance($C17,'Daily Register'!ML$3:ML$242)=TRUE,\"P\",\"A\")","v":"A"},{"$f":"IF(Attendance($C17,'Daily Register'!MM$3:MM$242)=TRUE,\"P\",\"A\")","v":"A"},{"$f":"IF(Attendance($C17,'Daily Register'!MN$3:MN$242)=TRUE,\"P\",\"A\")","v":"A"},{"$f":"IF(Attendance($C17,'Daily Register'!MO$3:MO$242)=TRUE,\"P\",\"A\")","v":"A"},{"$f":"IF(Attendance($C17,'Daily Register'!MP$3:MP$242)=TRUE,\"P\",\"A\")","v":"A"},{"$f":"IF(Attendance($C17,'Daily Register'!MQ$3:MQ$242)=TRUE,\"P\",\"A\")","v":"A"},{"$f":"IF(Attendance($C17,'Daily Register'!MR$3:MR$242)=TRUE,\"P\",\"A\")","v":"A"},{"$f":"IF(Attendance($C17,'Daily Register'!MS$3:MS$242)=TRUE,\"P\",\"A\")","v":"A"},{"$f":"IF(Attendance($C17,'Daily Register'!MT$3:MT$242)=TRUE,\"P\",\"A\")","v":"A"},{"$f":"IF(Attendance($C17,'Daily Register'!MU$3:MU$242)=TRUE,\"P\",\"A\")","v":"A"},{"$f":"IF(Attendance($C17,'Daily Register'!MV$3:MV$242)=TRUE,\"P\",\"A\")","v":"A"},{"$f":"IF(Attendance($C17,'Daily Register'!MW$3:MW$242)=TRUE,\"P\",\"A\")","v":"A"},{"$f":"IF(Attendance($C17,'Daily Register'!MX$3:MX$242)=TRUE,\"P\",\"A\")","v":"A"},{"$f":"IF(Attendance($C17,'Daily Register'!MY$3:MY$242)=TRUE,\"P\",\"A\")","v":"A"},{"$f":"IF(Attendance($C17,'Daily Register'!MZ$3:MZ$242)=TRUE,\"P\",\"A\")","v":"A"},{"$f":"IF(Attendance($C17,'Daily Register'!NA$3:NA$242)=TRUE,\"P\",\"A\")","v":"A"},{"$f":"IF(Attendance($C17,'Daily Register'!NB$3:NB$242)=TRUE,\"P\",\"A\")","v":"A"}]
[0,null,15,null,{"$f":"IF(Attendance($C18,'Daily Register'!A$3:A$242)=TRUE,\"P\",\"A\")","v":"A"},{"$f":"IF(Attendance($C18,'Daily Register'!B$3:B$242)=TRUE,\"P\",\"A\")","v":"A"},{"$f":"IF(Attendance($C18,'Daily Register'!C$3:C$242)=TRUE,\"P\",\"A\")","v":"A"},{"$f":"IF(Attendance($C18,'Daily Register'!D$3:D$242)=TRUE,\"P\",\"A\")","v":"A"},{"$f":"IF(Attendance($C18,'Daily Register'!E$3:E$242)=TRUE,\"P\",\"A\")","v":"A"},{"$f":"IF(Attendance($C18,'Daily Register'!F$3:F$242)=TRUE,\"P\",\"A\")","v":"A"},{"$f":"IF(Attendance($C18,'Daily Register'!G$3:G$242)=TRUE,\"P\",\"A\")","v":"A"},{"$f":"IF(Attendance($C18,'Daily Register'!H$3:H$242)=TRUE,\"P\",\"A\")","v":"A"},{"$f":"IF(Attendance($C18,'Daily Register'!I$3:I$242)=TRUE,\"P\",\"A\")","v":"A"},{"$f":"IF(Attendance($C18,'Daily Register'!J$3:J$242)=TRUE,\"P\",\"A\")","v":"A"},{"$f":"IF(Attendance($C18,'Daily Register'!K$3:K$242)=TRUE,\"P\",\"A\")","v":"A"},{"$f":"IF(Attendance($C18,'Daily Register'!L$3:L$242)=TRUE,\"P\",\"A\")","v":"A"},{"$f":"IF(Attendance($C18,'Daily Register'!M$3:M$242)=TRUE,\"P\",\"A\")","v":"A"},{"$f":"IF(Attendance($C18,'Daily Register'!N$3:N$242)=TRUE,\"P\",\"A\")","v":"A"},{"$f":"IF(Attendance($C18,'Daily Register'!O$3:O$242)=TRUE,\"P\",\"A\")","v":"A"},{"$f":"IF(Attendance($C18,'Daily Register'!P$3:P$242)=TRUE,\"P\",\"A\")","v":"A"},{"$f":"IF(Attendance($C18,'Daily Register'!Q$3:Q$242)=TRUE,\"P\",\"A\")","v":"A"},{"$f":"IF(Attendance($C18,'Daily Register'!R$3:R$242)=TRUE,\"P\",\"A\")","v":"A"},{"$f":"IF(Attendance($C18,'Daily Register'!S$3:S$242)=TRUE,\"P\",\"A\")","v":"A"},{"$f":"IF(Attendance($C18,'Daily Register'!T$3:T$242)=TRUE,\"P\",\"A\")","v":"A"},{"$f":"IF(Attendance($C18,'Daily Register'!U$3:U$242)=TRUE,\"P\",\"A\")","v":"A"},{"$f":"IF(Attendance($C18,'Daily Register'!V$3:V$242)=TRUE,\"P\",\"A\")","v":"A"},{"$f":"IF(Attendance($C18,'Daily Register'!W$3:W$242)=TRUE,\"P\",\"A\")","v":"A"},{"$f":"IF(Attendance($C18,'Daily Register'!X$3:X$242)=TRUE,\"P\",\"A\")","v":"A"},{"$f":"IF(Attendance($C18,'Daily Register'!Y$3:Y$242)=TRUE,\"P\",\"A\")","v":"A"},{"$f":"IF(Attendance($C18,'Daily Register'!Z$3:Z$242)=TRUE,\"P\",\"A\")","v":"A"},{"$f":"IF(Attendance($C18,'Daily Register'!AA$3:AA$242)=TRUE,\"P\",\"A\")","v":"A"},{"$f":"IF(Attendance($C18,'Daily Register'!AB$3:AB$242)=TRUE,\"P\",\"A\")","v":"A"},{"$f":"IF(Attendance($C18,'Daily Register'!AC$3:AC$242)=TRUE,\"P\",\"A\")","v":"A"},{"$f":"IF(Attendance($C18,'Daily Register'!AD$3:AD$242)=TRUE,\"P\",\"A\")","v":"A"},{"$f":"IF(Attendance($C18,'Daily Register'!AE$3:AE$242)=TRUE,\"P\",\"A\")","v":"A"},{"$f":"IF(Attendance($C18,'Daily Register'!AF$3:AF$242)=TRUE,\"P\",\"A\")","v":"A"},{"$f":"IF(Attendance($C18,'Daily Register'!AG$3:AG$242)=TRUE,\"P\",\"A\")","v":"A"},{"$f":"IF(Attendance($C18,'Daily Register'!AH$3:AH$242)=TRUE,\"P\",\"A\")","v":"A"},{"$f":"IF(Attendance($C18,'Daily Register'!AI$3:AI$242)=TRUE,\"P\",\"A\")","v":"A"},{"$f":"IF(Attendance($C18,'Daily Register'!AJ$3:AJ$242)=TRUE,\"P\",\"A\")","v":"A"},{"$f":"IF(Attendance($C18,'Daily Register'!AK$3:AK$242)=TRUE,\"P\",\"A\")","v":"A"},{"$f":"IF(Attendance($C18,'Daily Register'!AL$3:AL$242)=TRUE,\"P\",\"A\")","v":"A"},{"$f":"IF(Attendance($C18,'Daily Register'!AM$3:AM$242)=TRUE,\"P\",\"A\")","v":"A"},{"$f":"IF(Attendance($C18,'Daily Register'!AN$3:AN$242)=TRUE,\"P\",\"A\")","v":"A"},{"$f":"IF(Attendance($C18,'Daily Register'!AO$3:AO$242)=TRUE,\"P\",\"A\")","v":"A"},{"$f":"IF(Attendance($C18,'Daily Register'!AP$3:AP$242)=TRUE,\"P\",\"A\")","v":"A"},{"$f":"IF(Attendance($C18,'Daily Register'!AQ$3:AQ$242)=TRUE,\"P\",\"A\")","v":"A"},{"$f":"IF(Attendance($C18,'Daily Register'!AR$3:AR$242)=TRUE,\"P\",\"A\")","v":"A"},{"$f":"IF(Attendance($C18,'Daily Register'!AS$3:AS$242)=TRUE,\"P\",\"A\")","v":"A"},{"$f":"IF(Attendance($C18,'Daily Register'!AT$3:AT$242)=TRUE,\"P\",\"A\")","v":"A"},{"$f":"IF(Attendance($C18,'Daily Register'!AU$3:AU$242)=TRUE,\"P\",\"A\")","v":"A"},{"$f":"IF(Attendance($C18,'Daily Register'!AV$3:AV$242)=TRUE,\"P\",\"A\")","v":"A"},{"$f":"IF(Attendance($C18,'Daily Register'!AW$3:AW$242)=TRUE,\"P\",\"A\")","v":"A"},{"$f":"IF(Attendance($C18,'Daily Register'!AX$3:AX$242)=TRUE,\"P\",\"A\")","v":"A"},{"$f":"IF(Attendance($C18,'Daily Register'!AY$3:AY$242)=TRUE,\"P\",\"A\")","v":"A"},{"$f":"IF(Attendance($C18,'Daily Register'!AZ$3:AZ$242)=TRUE,\"P\",\"A\")","v":"A"},{"$f":"IF(Attendance($C18,'Daily Register'!BA$3:BA$242)=TRUE,\"P\",\"A\")","v":"A"},{"$f":"IF(Attendance($C18,'Daily Register'!BB$3:BB$242)=TRUE,\"P\",\"A\")","v":"A"},{"$f":"IF(Attendance($C18,'Daily Register'!BC$3:BC$242)=TRUE,\"P\",\"A\")","v":"A"},{"$f":"IF(Attendance($C18,'Daily Register'!BD$3:BD$242)=TRUE,\"P\",\"A\")","v":"A"},{"$f":"IF(Attendance($C18,'Daily Register'!BE$3:BE$242)=TRUE,\"P\",\"A\")","v":"A"},{"$f":"IF(Attendance($C18,'Daily Register'!BF$3:BF$242)=TRUE,\"P\",\"A\")","v":"A"},{"$f":"IF(Attendance($C18,'Daily Register'!BG$3:BG$242)=TRUE,\"P\",\"A\")","v":"A"},{"$f":"IF(Attendance($C18,'Daily Register'!BH$3:BH$242)=TRUE,\"P\",\"A\")","v":"A"},{"$f":"IF(Attendance($C18,'Daily Register'!BI$3:BI$242)=TRUE,\"P\",\"A\")","v":"A"},{"$f":"IF(Attendance($C18,'Daily Register'!BJ$3:BJ$242)=TRUE,\"P\",\"A\")","v":"A"},{"$f":"IF(Attendance($C18,'Daily Register'!BK$3:BK$242)=TRUE,\"P\",\"A\")","v":"A"},{"$f":"IF(Attendance($C18,'Daily Register'!BL$3:BL$242)=TRUE,\"P\",\"A\")","v":"A"},{"$f":"IF(Attendance($C18,'Daily Register'!BM$3:BM$242)=TRUE,\"P\",\"A\")","v":"A"},{"$f":"IF(Attendance($C18,'Daily Register'!BN$3:BN$242)=TRUE,\"P\",\"A\")","v":"A"},{"$f":"IF(Attendance($C18,'Daily Register'!BO$3:BO$242)=TRUE,\"P\",\"A\")","v":"A"},{"$f":"IF(Attendance($C18,'Daily Register'!BP$3:BP$242)=TRUE,\"P\",\"A\")","v":"A"},{"$f":"IF(Attendance($C18,'Daily Register'!BQ$3:BQ$242)=TRUE,\"P\",\"A\")","v":"A"},{"$f":"IF(Attendance($C18,'Daily Register'!BR$3:BR$242)=TRUE,\"P\",\"A\")","v":"A"},{"$f":"IF(Attendance($C18,'Daily Register'!BS$3:BS$242)=TRUE,\"P\",\"A\")","v":"A"},{"$f":"IF(Attendance($C18,'Daily Register'!BT$3:BT$242)=TRUE,\"P\",\"A\")","v":"A"},{"$f":"IF(Attendance($C18,'Daily Register'!BU$3:BU$242)=TRUE,\"P\",\"A\")","v":"A"},{"$f":"IF(Attendance($C18,'Daily Register'!BV$3:BV$242)=TRUE,\"P\",\"A\")","v":"A"},{"$f":"IF(Attendance($C18,'Daily Register'!BW$3:BW$242)=TRUE,\"P\",\"A\")","v":"A"},{"$f":"IF(Attendance($C18,'Daily Register'!BX$3:BX$242)=TRUE,\"P\",\"A\")","v":"A"},{"$f":"IF(Attendance($C18,'Daily Register'!BY$3:BY$242)=TRUE,\"P\",\"A\")","v":"A"},{"$f":"IF(Attendance($C18,'Daily Register'!BZ$3:BZ$242)=TRUE,\"P\",\"A\")","v":"A"},{"$f":"IF(Attendance($C18,'Daily Register'!CA$3:CA$242)=TRUE,\"P\",\"A\")","v":"A"},{"$f":"IF(Attendance($C18,'Daily Register'!CB$3:CB$242)=TRUE,\"P\",\"A\")","v":"A"},{"$f":"IF(Attendance($C18,'Daily Register'!CC$3:CC$242)=TRUE,\"P\",\"A\")","v":"A"},{"$f":"IF(Attendance($C18,'Daily Register'!CD$3:CD$242)=TRUE,\"P\",\"A\")","v":"A"},{"$f":"IF(Attendance($C18,'Daily Register'!CE$3:CE$242)=TRUE,\"P\",\"A\")","v":"A"},{"$f":"IF(Attendance($C18,'Daily Register'!CF$3:CF$242)=TRUE,\"P\",\"A\")","v":"A"},{"$f":"IF(Attendance($C18,'Daily Register'!CG$3:CG$242)=TRUE,\"P\",\"A\")","v":"A"},{"$f":"IF(Attendance($C18,'Daily Register'!CH$3:CH$242)=TRUE,\"P\",\"A\")","v":"A"},{"$f":"IF(Attendance($C18,'Daily Register'!CI$3:CI$242)=TRUE,\"P\",\"A\")","v":"A"},{"$f":"IF(Attendance($C18,'Daily Register'!CJ$3:CJ$242)=TRUE,\"P\",\"A\")","v":"A"},{"$f":"IF(Attendance($C18,'Daily Register'!CK$3:CK$242)=TRUE,\"P\",\"A\")","v":"A"},{"$f":"IF(Attendance($C18,'Daily Register'!CL$3:CL$242)=TRUE,\"P\",\"A\")","v":"A"},{"$f":"IF(Attendance($C18,'Daily Register'!CM$3:CM$242)=TRUE,\"P\",\"A\")","v":"A"},{"$f":"IF(Attendance($C18,'Daily Register'!CN$3:CN$242)=TRUE,\"P\",\"A\")","v":"A"},{"$f":"IF(Attendance($C18,'Daily Register'!CO$3:CO$242)=TRUE,\"P\",\"A\")","v":"A"},{"$f":"IF(Attendance($C18,'Daily Register'!CP$3:CP$242)=TRUE,\"P\",\"A\")","v":"A"},{"$f":"IF(Attendance($C18,'Daily Register'!CQ$3:CQ$242)=TRUE,\"P\",\"A\")","v":"A"},{"$f":"IF(Attendance($C18,'Daily Register'!CR$3:CR$242)=TRUE,\"P\",\"A\")","v":"A"},{"$f":"IF(Attendance($C18,'Daily Register'!CS$3:CS$242)=TRUE,\"P\",\"A\")","v":"A"},{"$f":"IF(Attendance($C18,'Daily Register'!CT$3:CT$242)=TRUE,\"P\",\"A\")","v":"A"},{"$f":"IF(Attendance($C18,'Daily Register'!CU$3:CU$242)=TRUE,\"P\",\"A\")","v":"A"},{"$f":"IF(Attendance($C18,'Daily Register'!CV$3:CV$242)=TRUE,\"P\",\"A\")","v":"A"},{"$f":"IF(Attendance($C18,'Daily Register'!CW$3:CW$242)=TRUE,\"P\",\"A\")","v":"A"},{"$f":"IF(Attendance($C18,'Daily Register'!CX$3:CX$242)=TRUE,\"P\",\"A\")","v":"A"},{"$f":"IF(Attendance($C18,'Daily Register'!CY$3:CY$242)=TRUE,\"P\",\"A\")","v":"A"},{"$f":"IF(Attendance($C18,'Daily Register'!CZ$3:CZ$242)=TRUE,\"P\",\"A\")","v":"A"},{"$f":"IF(Attendance($C18,'Daily Register'!DA$3:DA$242)=TRUE,\"P\",\"A\")","v":"A"},{"$f":"IF(Attendance($C18,'Daily Register'!DB$3:DB$242)=TRUE,\"P\",\"A\")","v":"A"},{"$f":"IF(Attendance($C18,'Daily Register'!DC$3:DC$242)=TRUE,\"P\",\"A\")","v":"A"},{"$f":"IF(Attendance($C18,'Daily Register'!DD$3:DD$242)=TRUE,\"P\",\"A\")","v":"A"},{"$f":"IF(Attendance($C18,'Daily Register'!DE$3:DE$242)=TRUE,\"P\",\"A\")","v":"A"},{"$f":"IF(Attendance($C18,'Daily Register'!DF$3:DF$242)=TRUE,\"P\",\"A\")","v":"A"},{"$f":"IF(Attendance($C18,'Daily Register'!DG$3:DG$242)=TRUE,\"P\",\"A\")","v":"A"},{"$f":"IF(Attendance($C18,'Daily Register'!DH$3:DH$242)=TRUE,\"P\",\"A\")","v":"A"},{"$f":"IF(Attendance($C18,'Daily Register'!DI$3:DI$242)=TRUE,\"P\",\"A\")","v":"A"},{"$f":"IF(Attendance($C18,'Daily Register'!DJ$3:DJ$242)=TRUE,\"P\",\"A\")","v":"A"},{"$f":"IF(Attendance($C18,'Daily Register'!DK$3:DK$242)=TRUE,\"P\",\"A\")","v":"A"},{"$f":"IF(Attendance($C18,'Daily Register'!DL$3:DL$242)=TRUE,\"P\",\"A\")","v":"A"},{"$f":"IF(Attendance($C18,'Daily Register'!DM$3:DM$242)=TRUE,\"P\",\"A\")","v":"A"},{"$f":"IF(Attendance($C18,'Daily Register'!DN$3:DN$242)=TRUE,\"P\",\"A\")","v":"A"},{"$f":"IF(Attendance($C18,'Daily Register'!DO$3:DO$242)=TRUE,\"P\",\"A\")","v":"A"},{"$f":"IF(Attendance($C18,'Daily Register'!DP$3:DP$242)=TRUE,\"P\",\"A\")","v":"A"},{"$f":"IF(Attendance($C18,'Daily Register'!DQ$3:DQ$242)=TRUE,\"P\",\"A\")","v":"A"},{"$f":"IF(Attendance($C18,'Daily Register'!DR$3:DR$242)=TRUE,\"P\",\"A\")","v":"A"},{"$f":"IF(Attendance($C18,'Daily Register'!DS$3:DS$242)=TRUE,\"P\",\"A\")","v":"A"},{"$f":"IF(Attendance($C18,'Daily Register'!DT$3:DT$242)=TRUE,\"P\",\"A\")","v":"A"},{"$f":"IF(Attendance($C18,'Daily Register'!DU$3:DU$242)=TRUE,\"P\",\"A\")","v":"A"},{"$f":"IF(Attendance($C18,'Daily Register'!DV$3:DV$242)=TRUE,\"P\",\"A\")","v":"A"},{"$f":"IF(Attendance($C18,'Daily Register'!DW$3:DW$242)=TRUE,\"P\",\"A\")","v":"A"},{"$f":"IF(Attendance($C18,'Daily Register'!DX$3:DX$242)=TRUE,\"P\",\"A\")","v":"A"},{"$f":"IF(Attendance($C18,'Daily Register'!DY$3:DY$242)=TRUE,\"P\",\"A\")","v":"A"},{"$f":"IF(Attendance($C18,'Daily Register'!DZ$3:DZ$242)=TRUE,\"P\",\"A\")","v":"A"},{"$f":"IF(Attendance($C18,'Daily Register'!EA$3:EA$242)=TRUE,\"P\",\"A\")","v":"A"},{"$f":"IF(Attendance($C18,'Daily Register'!EB$3:EB$242)=TRUE,\"P\",\"A\")","v":"A"},{"$f":"IF(Attendance($C18,'Daily Register'!EC$3:EC$242)=TRUE,\"P\",\"A\")","v":"A"},{"$f":"IF(Attendance($C18,'Daily Register'!ED$3:ED$242)=TRUE,\"P\",\"A\")","v":"A"},{"$f":"IF(Attendance($C18,'Daily Register'!EE$3:EE$242)=TRUE,\"P\",\"A\")","v":"A"},{"$f":"IF(Attendance($C18,'Daily Register'!EF$3:EF$242)=TRUE,\"P\",\"A\")","v":"A"},{"$f":"IF(Attendance($C18,'Daily Register'!EG$3:EG$242)=TRUE,\"P\",\"A\")","v":"A"},{"$f":"IF(Attendance($C18,'Daily Register'!EH$3:EH$242)=TRUE,\"P\",\"A\")","v":"A"},{"$f":"IF(Attendance($C18,'Daily Register'!EI$3:EI$242)=TRUE,\"P\",\"A\")","v":"A"},{"$f":"IF(Attendance($C18,'Daily Register'!EJ$3:EJ$242)=TRUE,\"P\",\"A\")","v":"A"},{"$f":"IF(Attendance($C18,'Daily Register'!EK$3:EK$242)=TRUE,\"P\",\"A\")","v":"A"},{"$f":"IF(Attendance($C18,'Daily Register'!EL$3:EL$242)=TRUE,\"P\",\"A\")","v":"A"},{"$f":"IF(Attendance($C18,'Daily Register'!EM$22:EM$242)=TRUE,\"P\",\"A\")","v":"A"},{"$f":"IF(Attendance($C18,'Daily Register'!EN$3:EN$242)=TRUE,\"P\",\"A\")","v":"A"},{"$f":"IF(Attendance($C18,'Daily Register'!EO$3:EO$242)=TRUE,\"P\",\"A\")","v":"A"},{"$f":"IF(Attendance($C18,'Daily Register'!EP$3:EP$242)=TRUE,\"P\",\"A\")","v":"A"},{"$f":"IF(Attendance($C18,'Daily Register'!EQ$3:EQ$242)=TRUE,\"P\",\"A\")","v":"A"},{"$f":"IF(Attendance($C18,'Daily Register'!ER$3:ER$242)=TRUE,\"P\",\"A\")","v":"A"},{"$f":"IF(Attendance($C18,'Daily Register'!ES$3:ES$242)=TRUE,\"P\",\"A\")","v":"A"},{"$f":"IF(Attendance($C18,'Daily Register'!ET$3:ET$242)=TRUE,\"P\",\"A\")","v":"A"},{"$f":"IF(Attendance($C18,'Daily Register'!EU$3:EU$242)=TRUE,\"P\",\"A\")","v":"A"},{"$f":"IF(Attendance($C18,'Daily Register'!EV$3:EV$242)=TRUE,\"P\",\"A\")","v":"A"},{"$f":"IF(Attendance($C18,'Daily Register'!EW$3:EW$242)=TRUE,\"P\",\"A\")","v":"A"},{"$f":"IF(Attendance($C18,'Daily Register'!EX$3:EX$242)=TRUE,\"P\",\"A\")","v":"A"},{"$f":"IF(Attendance($C18,'Daily Register'!EY$3:EY$242)=TRUE,\"P\",\"A\")","v":"A"},{"$f":"IF(Attendance($C18,'Daily Register'!EZ$3:EZ$242)=TRUE,\"P\",\"A\")","v":"A"},{"$f":"IF(Attendance($C18,'Daily Register'!FA$3:FA$242)=TRUE,\"P\",\"A\")","v":"A"},{"$f":"IF(Attendance($C18,'Daily Register'!FB$3:FB$242)=TRUE,\"P\",\"A\")","v":"A"},{"$f":"IF(Attendance($C18,'Daily Register'!FC$3:FC$242)=TRUE,\"P\",\"A\")","v":"A"},{"$f":"IF(Attendance($C18,'Daily Register'!FD$3:FD$242)=TRUE,\"P\",\"A\")","v":"A"},{"$f":"IF(Attendance($C18,'Daily Register'!FE$3:FE$242)=TRUE,\"P\",\"A\")","v":"A"},{"$f":"IF(Attendance($C18,'Daily Register'!FF$3:FF$242)=TRUE,\"P\",\"A\")","v":"A"},{"$f":"IF(Attendance($C18,'Daily Register'!FG$3:FG$242)=TRUE,\"P\",\"A\")","v":"A"},{"$f":"IF(Attendance($C18,'Daily Register'!FH$3:FH$242)=TRUE,\"P\",\"A\")","v":"A"},{"$f":"IF(Attendance($C18,'Daily Register'!FI$3:FI$242)=TRUE,\"P\",\"A\")","v":"A"},{"$f":"IF(Attendance($C18,'Daily Register'!FJ$3:FJ$242)=TRUE,\"P\",\"A\")","v":"A"},{"$f":"IF(Attendance($C18,'Daily Register'!FK$3:FK$242)=TRUE,\"P\",\"A\")","v":"A"},{"$f":"IF(Attendance($C18,'Daily Register'!FL$3:FL$242)=TRUE,\"P\",\"A\")","v":"A"},{"$f":"IF(Attendance($C18,'Daily Register'!FM$3:FM$242)=TRUE,\"P\",\"A\")","v":"A"},{"$f":"IF(Attendance($C18,'Daily Register'!FN$3:FN$242)=TRUE,\"P\",\"A\")","v":"A"},{"$f":"IF(Attendance($C18,'Daily Register'!FO$3:FO$242)=TRUE,\"P\",\"A\")","v":"A"},{"$f":"IF(Attendance($C18,'Daily Register'!FP$3:FP$242)=TRUE,\"P\",\"A\")","v":"A"},{"$f":"IF(Attendance($C18,'Daily Register'!FQ$3:FQ$242)=TRUE,\"P\",\"A\")","v":"A"},{"$f":"IF(Attendance($C18,'Daily Register'!FR$3:FR$242)=TRUE,\"P\",\"A\")","v":"A"},{"$f":"IF(Attendance($C18,'Daily Register'!FS$3:FS$242)=TRUE,\"P\",\"A\")","v":"A"},{"$f":"IF(Attendance($C18,'Daily Register'!FT$3:FT$242)=TRUE,\"P\",\"A\")","v":"A"},{"$f":"IF(Attendance($C18,'Daily Register'!FU$3:FU$242)=TRUE,\"P\",\"A\")","v":"A"},{"$f":"IF(Attendance($C18,'Daily Register'!FV$3:FV$242)=TRUE,\"P\",\"A\")","v":"A"},{"$f":"IF(Attendance($C18,'Daily Register'!FW$3:FW$242)=TRUE,\"P\",\"A\")","v":"A"},{"$f":"IF(Attendance($C18,'Daily Register'!FX$3:FX$242)=TRUE,\"P\",\"A\")","v":"A"},{"$f":"IF(Attendance($C18,'Daily Register'!FY$3:FY$242)=TRUE,\"P\",\"A\")","v":"A"},{"$f":"IF(Attendance($C18,'Daily Register'!FZ$3:FZ$242)=TRUE,\"P\",\"A\")","v":"A"},{"$f":"IF(Attendance($C18,'Daily Register'!GA$3:GA$242)=TRUE,\"P\",\"A\")","v":"A"},{"$f":"IF(Attendance($C18,'Daily Register'!GB$3:GB$242)=TRUE,\"P\",\"A\")","v":"A"},{"$f":"IF(Attendance($C18,'Daily Register'!GC$3:GC$242)=TRUE,\"P\",\"A\")","v":"A"},{"$f":"IF(Attendance($C18,'Daily Register'!GD$3:GD$242)=TRUE,\"P\",\"A\")","v":"A"},{"$f":"IF(Attendance($C18,'Daily Register'!GE$3:GE$242)=TRUE,\"P\",\"A\")","v":"A"},{"$f":"IF(Attendance($C18,'Daily Register'!GF$3:GF$242)=TRUE,\"P\",\"A\")","v":"A"},{"$f":"IF(Attendance($C18,'Daily Register'!GG$3:GG$242)=TRUE,\"P\",\"A\")","v":"A"},{"$f":"IF(Attendance($C18,'Daily Register'!GH$3:GH$242)=TRUE,\"P\",\"A\")","v":"A"},{"$f":"IF(Attendance($C18,'Daily Register'!GI$3:GI$242)=TRUE,\"P\",\"A\")","v":"A"},{"$f":"IF(Attendance($C18,'Daily Register'!GJ$3:GJ$242)=TRUE,\"P\",\"A\")","v":"A"},{"$f":"IF(Attendance($C18,'Daily Register'!GK$3:GK$242)=TRUE,\"P\",\"A\")","v":"A"},{"$f":"IF(Attendance($C18,'Daily Register'!GL$3:GL$242)=TRUE,\"P\",\"A\")","v":"A"},{"$f":"IF(Attendance($C18,'Daily Register'!GM$3:GM$242)=TRUE,\"P\",\"A\")","v":"A"},{"$f":"IF(Attendance($C18,'Daily Register'!GN$3:GN$242)=TRUE,\"P\",\"A\")","v":"A"},{"$f":"IF(Attendance($C18,'Daily Register'!GO$3:GO$242)=TRUE,\"P\",\"A\")","v":"A"},{"$f":"IF(Attendance($C18,'Daily Register'!GP$3:GP$242)=TRUE,\"P\",\"A\")","v":"A"},{"$f":"IF(Attendance($C18,'Daily Register'!GQ$3:GQ$242)=TRUE,\"P\",\"A\")","v":"A"},{"$f":"IF(Attendance($C18,'Daily Register'!GR$3:GR$242)=TRUE,\"P\",\"A\")","v":"A"},{"$f":"IF(Attendance($C18,'Daily Register'!GS$3:GS$242)=TRUE,\"P\",\"A\")","v":"A"},{"$f":"IF(Attendance($C18,'Daily Register'!GT$3:GT$242)=TRUE,\"P\",\"A\")","v":"A"},{"$f":"IF(Attendance($C18,'Daily Register'!GU$3:GU$242)=TRUE,\"P\",\"A\")","v":"A"},{"$f":"IF(Attendance($C18,'Daily Register'!GV$3:GV$242)=TRUE,\"P\",\"A\")","v":"A"},{"$f":"IF(Attendance($C18,'Daily Register'!GW$3:GW$242)=TRUE,\"P\",\"A\")","v":"A"},{"$f":"IF(Attendance($C18,'Daily Register'!GX$3:GX$242)=TRUE,\"P\",\"A\")","v":"A"},{"$f":"IF(Attendance($C18,'Daily Register'!GY$3:GY$242)=TRUE,\"P\",\"A\")","v":"A"},{"$f":"IF(Attendance($C18,'Daily Register'!GZ$3:GZ$242)=TRUE,\"P\",\"A\")","v":"A"},{"$f":"IF(Attendance($C18,'Daily Register'!HA$3:HA$242)=TRUE,\"P\",\"A\")","v":"A"},{"$f":"IF(Attendance($C18,'Daily Register'!HB$3:HB$242)=TRUE,\"P\",\"A\")","v":"A"},{"$f":"IF(Attendance($C18,'Daily Register'!HC$3:HC$242)=TRUE,\"P\",\"A\")","v":"A"},{"$f":"IF(Attendance($C18,'Daily Register'!HD$3:HD$242)=TRUE,\"P\",\"A\")","v":"A"},{"$f":"IF(Attendance($C18,'Daily Register'!HE$3:HE$242)=TRUE,\"P\",\"A\")","v":"A"},{"$f":"IF(Attendance($C18,'Daily Register'!HF$3:HF$242)=TRUE,\"P\",\"A\")","v":"A"},{"$f":"IF(Attendance($C18,'Daily Register'!HG$3:HG$242)=TRUE,\"P\",\"A\")","v":"A"},{"$f":"IF(Attendance($C18,'Daily Register'!HH$3:HH$242)=TRUE,\"P\",\"A\")","v":"A"},{"$f":"IF(Attendance($C18,'Daily Register'!HI$3:HI$242)=TRUE,\"P\",\"A\")","v":"A"},{"$f":"IF(Attendance($C18,'Daily Register'!HJ$3:HJ$242)=TRUE,\"P\",\"A\")","v":"A"},{"$f":"IF(Attendance($C18,'Daily Register'!HK$3:HK$242)=TRUE,\"P\",\"A\")","v":"A"},{"$f":"IF(Attendance($C18,'Daily Register'!HL$3:HL$242)=TRUE,\"P\",\"A\")","v":"A"},{"$f":"IF(Attendance($C18,'Daily Register'!HM$3:HM$242)=TRUE,\"P\",\"A\")","v":"A"},{"$f":"IF(Attendance($C18,'Daily Register'!HN$3:HN$242)=TRUE,\"P\",\"A\")","v":"A"},{"$f":"IF(Attendance($C18,'Daily Register'!HO$3:HO$242)=TRUE,\"P\",\"A\")","v":"A"},{"$f":"IF(Attendance($C18,'Daily Register'!HP$3:HP$242)=TRUE,\"P\",\"A\")","v":"A"},{"$f":"IF(Attendance($C18,'Daily Register'!HQ$3:HQ$242)=TRUE,\"P\",\"A\")","v":"A"},{"$f":"IF(Attendance($C18,'Daily Register'!HR$3:HR$242)=TRUE,\"P\",\"A\")","v":"A"},{"$f":"IF(Attendance($C18,'Daily Register'!HS$3:HS$242)=TRUE,\"P\",\"A\")","v":"A"},{"$f":"IF(Attendance($C18,'Daily Register'!HT$3:HT$242)=TRUE,\"P\",\"A\")","v":"A"},{"$f":"IF(Attendance($C18,'Daily Register'!HU$3:HU$242)=TRUE,\"P\",\"A\")","v":"A"},{"$f":"IF(Attendance($C18,'Daily Register'!HV$3:HV$242)=TRUE,\"P\",\"A\")","v":"A"},{"$f":"IF(Attendance($C18,'Daily Register'!HW$3:HW$242)=TRUE,\"P\",\"A\")","v":"A"},{"$f":"IF(Attendance($C18,'Daily Register'!HX$3:HX$242)=TRUE,\"P\",\"A\")","v":"A"},{"$f":"IF(Attendance($C18,'Daily Register'!HY$3:HY$242)=TRUE,\"P\",\"A\")","v":"A"},{"$f":"IF(Attendance($C18,'Daily Register'!HZ$3:HZ$242)=TRUE,\"P\",\"A\")","v":"A"},{"$f":"IF(Attendance($C18,'Daily Register'!IA$3:IA$242)=TRUE,\"P\",\"A\")","v":"A"},{"$f":"IF(Attendance($C18,'Daily Register'!IB$3:IB$242)=TRUE,\"P\",\"A\")","v":"A"},{"$f":"IF(Attendance($C18,'Daily Register'!IC$3:IC$242)=TRUE,\"P\",\"A\")","v":"A"},{"$f":"IF(Attendance($C18,'Daily Register'!ID$3:ID$242)=TRUE,\"P\",\"A\")","v":"A"},{"$f":"IF(Attendance($C18,'Daily Register'!IE$3:IE$242)=TRUE,\"P\",\"A\")","v":"A"},{"$f":"IF(Attendance($C18,'Daily Register'!IF$3:IF$242)=TRUE,\"P\",\"A\")","v":"A"},{"$f":"IF(Attendance($C18,'Daily Register'!IG$3:IG$242)=TRUE,\"P\",\"A\")","v":"A"},{"$f":"IF(Attendance($C18,'Daily Register'!IH$3:IH$242)=TRUE,\"P\",\"A\")","v":"A"},{"$f":"IF(Attendance($C18,'Daily Register'!II$3:II$242)=TRUE,\"P\",\"A\")","v":"A"},{"$f":"IF(Attendance($C18,'Daily Register'!IJ$3:IJ$242)=TRUE,\"P\",\"A\")","v":"A"},{"$f":"IF(Attendance($C18,'Daily Register'!IK$3:IK$242)=TRUE,\"P\",\"A\")","v":"A"},{"$f":"IF(Attendance($C18,'Daily Register'!IL$3:IL$242)=TRUE,\"P\",\"A\")","v":"A"},{"$f":"IF(Attendance($C18,'Daily Register'!IM$3:IM$242)=TRUE,\"P\",\"A\")","v":"A"},{"$f":"IF(Attendance($C18,'Daily Register'!IN$3:IN$242)=TRUE,\"P\",\"A\")","v":"A"},{"$f":"IF(Attendance($C18,'Daily Register'!IO$3:IO$242)=TRUE,\"P\",\"A\")","v":"A"},{"$f":"IF(Attendance($C18,'Daily Register'!IP$3:IP$242)=TRUE,\"P\",\"A\")","v":"A"},{"$f":"IF(Attendance($C18,'Daily Register'!IQ$3:IQ$242)=TRUE,\"P\",\"A\")","v":"A"},{"$f":"IF(Attendance($C18,'Daily Register'!IR$3:IR$242)=TRUE,\"P\",\"A\")","v":"A"},{"$f":"IF(Attendance($C18,'Daily Register'!IS$3:IS$242)=TRUE,\"P\",\"A\")","v":"A"},{"$f":"IF(Attendance($C18,'Daily Register'!IT$3:IT$242)=TRUE,\"P\",\"A\")","v":"A"},{"$f":"IF(Attendance($C18,'Daily Register'!IU$3:IU$242)=TRUE,\"P\",\"A\")","v":"A"},{"$f":"IF(Attendance($C18,'Daily Register'!IV$3:IV$242)=TRUE,\"P\",\"A\")","v":"A"},{"$f":"IF(Attendance($C18,'Daily Register'!IW$3:IW$242)=TRUE,\"P\",\"A\")","v":"A"},{"$f":"IF(Attendance($C18,'Daily Register'!IX$3:IX$242)=TRUE,\"P\",\"A\")","v":"A"},{"$f":"IF(Attendance($C18,'Daily Register'!IY$3:IY$242)=TRUE,\"P\",\"A\")","v":"A"},{"$f":"IF(Attendance($C18,'Daily Register'!IZ$3:IZ$242)=TRUE,\"P\",\"A\")","v":"A"},{"$f":"IF(Attendance($C18,'Daily Register'!JA$3:JA$242)=TRUE,\"P\",\"A\")","v":"A"},{"$f":"IF(Attendance($C18,'Daily Register'!JB$3:JB$242)=TRUE,\"P\",\"A\")","v":"A"},{"$f":"IF(Attendance($C18,'Daily Register'!JC$3:JC$242)=TRUE,\"P\",\"A\")","v":"A"},{"$f":"IF(Attendance($C18,'Daily Register'!JD$3:JD$242)=TRUE,\"P\",\"A\")","v":"A"},{"$f":"IF(Attendance($C18,'Daily Register'!JE$3:JE$242)=TRUE,\"P\",\"A\")","v":"A"},{"$f":"IF(Attendance($C18,'Daily Register'!JF$3:JF$242)=TRUE,\"P\",\"A\")","v":"A"},{"$f":"IF(Attendance($C18,'Daily Register'!JG$3:JG$242)=TRUE,\"P\",\"A\")","v":"A"},{"$f":"IF(Attendance($C18,'Daily Register'!JH$3:JH$242)=TRUE,\"P\",\"A\")","v":"A"},{"$f":"IF(Attendance($C18,'Daily Register'!JI$3:JI$242)=TRUE,\"P\",\"A\")","v":"A"},{"$f":"IF(Attendance($C18,'Daily Register'!JJ$3:JJ$242)=TRUE,\"P\",\"A\")","v":"A"},{"$f":"IF(Attendance($C18,'Daily Register'!JK$3:JK$242)=TRUE,\"P\",\"A\")","v":"A"},{"$f":"IF(Attendance($C18,'Daily Register'!JL$3:JL$242)=TRUE,\"P\",\"A\")","v":"A"},{"$f":"IF(Attendance($C18,'Daily Register'!JM$3:JM$242)=TRUE,\"P\",\"A\")","v":"A"},{"$f":"IF(Attendance($C18,'Daily Register'!JN$3:JN$242)=TRUE,\"P\",\"A\")","v":"A"},{"$f":"IF(Attendance($C18,'Daily Register'!JO$3:JO$242)=TRUE,\"P\",\"A\")","v":"A"},{"$f":"IF(Attendance($C18,'Daily Register'!JP$3:JP$242)=TRUE,\"P\",\"A\")","v":"A"},{"$f":"IF(Attendance($C18,'Daily Register'!JQ$3:JQ$242)=TRUE,\"P\",\"A\")","v":"A"},{"$f":"IF(Attendance($C18,'Daily Register'!JR$3:JR$242)=TRUE,\"P\",\"A\")","v":"A"},{"$f":"IF(Attendance($C18,'Daily Register'!JS$3:JS$242)=TRUE,\"P\",\"A\")","v":"A"},{"$f":"IF(Attendance($C18,'Daily Register'!JT$3:JT$242)=TRUE,\"P\",\"A\")","v":"A"},{"$f":"IF(Attendance($C18,'Daily Register'!JU$3:JU$242)=TRUE,\"P\",\"A\")","v":"A"},{"$f":"IF(Attendance($C18,'Daily Register'!JV$3:JV$242)=TRUE,\"P\",\"A\")","v":"A"},{"$f":"IF(Attendance($C18,'Daily Register'!JW$3:JW$242)=TRUE,\"P\",\"A\")","v":"A"},{"$f":"IF(Attendance($C18,'Daily Register'!JX$3:JX$242)=TRUE,\"P\",\"A\")","v":"A"},{"$f":"IF(Attendance($C18,'Daily Register'!JY$3:JY$242)=TRUE,\"P\",\"A\")","v":"A"},{"$f":"IF(Attendance($C18,'Daily Register'!JZ$3:JZ$242)=TRUE,\"P\",\"A\")","v":"A"},{"$f":"IF(Attendance($C18,'Daily Register'!KA$3:KA$242)=TRUE,\"P\",\"A\")","v":"A"},{"$f":"IF(Attendance($C18,'Daily Register'!KB$3:KB$242)=TRUE,\"P\",\"A\")","v":"A"},{"$f":"IF(Attendance($C18,'Daily Register'!KC$3:KC$242)=TRUE,\"P\",\"A\")","v":"A"},{"$f":"IF(Attendance($C18,'Daily Register'!KD$3:KD$242)=TRUE,\"P\",\"A\")","v":"A"},{"$f":"IF(Attendance($C18,'Daily Register'!KE$3:KE$242)=TRUE,\"P\",\"A\")","v":"A"},{"$f":"IF(Attendance($C18,'Daily Register'!KF$3:KF$242)=TRUE,\"P\",\"A\")","v":"A"},{"$f":"IF(Attendance($C18,'Daily Register'!KG$3:KG$242)=TRUE,\"P\",\"A\")","v":"A"},{"$f":"IF(Attendance($C18,'Daily Register'!KH$3:KH$242)=TRUE,\"P\",\"A\")","v":"A"},{"$f":"IF(Attendance($C18,'Daily Register'!KI$3:KI$242)=TRUE,\"P\",\"A\")","v":"A"},{"$f":"IF(Attendance($C18,'Daily Register'!KJ$3:KJ$242)=TRUE,\"P\",\"A\")","v":"A"},{"$f":"IF(Attendance($C18,'Daily Register'!KK$3:KK$242)=TRUE,\"P\",\"A\")","v":"A"},{"$f":"IF(Attendance($C18,'Daily Register'!KL$3:KL$242)=TRUE,\"P\",\"A\")","v":"A"},{"$f":"IF(Attendance($C18,'Daily Register'!KM$3:KM$242)=TRUE,\"P\",\"A\")","v":"A"},{"$f":"IF(Attendance($C18,'Daily Register'!KN$3:KN$242)=TRUE,\"P\",\"A\")","v":"A"},{"$f":"IF(Attendance($C18,'Daily Register'!KO$3:KO$242)=TRUE,\"P\",\"A\")","v":"A"},{"$f":"IF(Attendance($C18,'Daily Register'!KP$3:KP$242)=TRUE,\"P\",\"A\")","v":"A"},{"$f":"IF(Attendance($C18,'Daily Register'!KQ$3:KQ$242)=TRUE,\"P\",\"A\")","v":"A"},{"$f":"IF(Attendance($C18,'Daily Register'!KR$3:KR$242)=TRUE,\"P\",\"A\")","v":"A"},{"$f":"IF(Attendance($C18,'Daily Register'!KS$3:KS$242)=TRUE,\"P\",\"A\")","v":"A"},{"$f":"IF(Attendance($C18,'Daily Register'!KT$3:KT$242)=TRUE,\"P\",\"A\")","v":"A"},{"$f":"IF(Attendance($C18,'Daily Register'!KU$3:KU$242)=TRUE,\"P\",\"A\")","v":"A"},{"$f":"IF(Attendance($C18,'Daily Register'!KV$3:KV$242)=TRUE,\"P\",\"A\")","v":"A"},{"$f":"IF(Attendance($C18,'Daily Register'!KW$3:KW$242)=TRUE,\"P\",\"A\")","v":"A"},{"$f":"IF(Attendance($C18,'Daily Register'!KX$3:KX$242)=TRUE,\"P\",\"A\")","v":"A"},{"$f":"IF(Attendance($C18,'Daily Register'!KY$3:KY$242)=TRUE,\"P\",\"A\")","v":"A"},{"$f":"IF(Attendance($C18,'Daily Register'!KZ$3:KZ$242)=TRUE,\"P\",\"A\")","v":"A"},{"$f":"IF(Attendance($C18,'Daily Register'!LA$3:LA$242)=TRUE,\"P\",\"A\")","v":"A"},{"$f":"IF(Attendance($C18,'Daily Register'!LB$3:LB$242)=TRUE,\"P\",\"A\")","v":"A"},{"$f":"IF(Attendance($C18,'Daily Register'!LC$3:LC$242)=TRUE,\"P\",\"A\")","v":"A"},{"$f":"IF(Attendance($C18,'Daily Register'!LD$3:LD$242)=TRUE,\"P\",\"A\")","v":"A"},{"$f":"IF(Attendance($C18,'Daily Register'!LE$3:LE$242)=TRUE,\"P\",\"A\")","v":"A"},{"$f":"IF(Attendance($C18,'Daily Register'!LF$3:LF$242)=TRUE,\"P\",\"A\")","v":"A"},{"$f":"IF(Attendance($C18,'Daily Register'!LG$3:LG$242)=TRUE,\"P\",\"A\")","v":"A"},{"$f":"IF(Attendance($C18,'Daily Register'!LH$3:LH$242)=TRUE,\"P\",\"A\")","v":"A"},{"$f":"IF(Attendance($C18,'Daily Register'!LI$3:LI$242)=TRUE,\"P\",\"A\")","v":"A"},{"$f":"IF(Attendance($C18,'Daily Register'!LJ$3:LJ$242)=TRUE,\"P\",\"A\")","v":"A"},{"$f":"IF(Attendance($C18,'Daily Register'!LK$3:LK$242)=TRUE,\"P\",\"A\")","v":"A"},{"$f":"IF(Attendance($C18,'Daily Register'!LL$3:LL$242)=TRUE,\"P\",\"A\")","v":"A"},{"$f":"IF(Attendance($C18,'Daily Register'!LM$3:LM$242)=TRUE,\"P\",\"A\")","v":"A"},{"$f":"IF(Attendance($C18,'Daily Register'!LN$3:LN$242)=TRUE,\"P\",\"A\")","v":"A"},{"$f":"IF(Attendance($C18,'Daily Register'!LO$3:LO$242)=TRUE,\"P\",\"A\")","v":"A"},{"$f":"IF(Attendance($C18,'Daily Register'!LP$3:LP$242)=TRUE,\"P\",\"A\")","v":"A"},{"$f":"IF(Attendance($C18,'Daily Register'!LQ$3:LQ$242)=TRUE,\"P\",\"A\")","v":"A"},{"$f":"IF(Attendance($C18,'Daily Register'!LR$3:LR$242)=TRUE,\"P\",\"A\")","v":"A"},{"$f":"IF(Attendance($C18,'Daily Register'!LS$3:LS$242)=TRUE,\"P\",\"A\")","v":"A"},{"$f":"IF(Attendance($C18,'Daily Register'!LT$3:LT$242)=TRUE,\"P\",\"A\")","v":"A"},{"$f":"IF(Attendance($C18,'Daily Register'!LU$3:LU$242)=TRUE,\"P\",\"A\")","v":"A"},{"$f":"IF(Attendance($C18,'Daily Register'!LV$3:LV$242)=TRUE,\"P\",\"A\")","v":"A"},{"$f":"IF(Attendance($C18,'Daily Register'!LW$3:LW$242)=TRUE,\"P\",\"A\")","v":"A"},{"$f":"IF(Attendance($C18,'Daily Register'!LX$3:LX$242)=TRUE,\"P\",\"A\")","v":"A"},{"$f":"IF(Attendance($C18,'Daily Register'!LY$3:LY$242)=TRUE,\"P\",\"A\")","v":"A"},{"$f":"IF(Attendance($C18,'Daily Register'!LZ$3:LZ$242)=TRUE,\"P\",\"A\")","v":"A"},{"$f":"IF(Attendance($C18,'Daily Register'!MA$3:MA$242)=TRUE,\"P\",\"A\")","v":"A"},{"$f":"IF(Attendance($C18,'Daily Register'!MB$3:MB$242)=TRUE,\"P\",\"A\")","v":"A"},{"$f":"IF(Attendance($C18,'Daily Register'!MC$3:MC$242)=TRUE,\"P\",\"A\")","v":"A"},{"$f":"IF(Attendance($C18,'Daily Register'!MD$3:MD$242)=TRUE,\"P\",\"A\")","v":"A"},{"$f":"IF(Attendance($C18,'Daily Register'!ME$3:ME$242)=TRUE,\"P\",\"A\")","v":"A"},{"$f":"IF(Attendance($C18,'Daily Register'!MF$3:MF$242)=TRUE,\"P\",\"A\")","v":"A"},{"$f":"IF(Attendance($C18,'Daily Register'!MG$3:MG$242)=TRUE,\"P\",\"A\")","v":"A"},{"$f":"IF(Attendance($C18,'Daily Register'!MH$3:MH$242)=TRUE,\"P\",\"A\")","v":"A"},{"$f":"IF(Attendance($C18,'Daily Register'!MI$3:MI$242)=TRUE,\"P\",\"A\")","v":"A"},{"$f":"IF(Attendance($C18,'Daily Register'!MJ$3:MJ$242)=TRUE,\"P\",\"A\")","v":"A"},{"$f":"IF(Attendance($C18,'Daily Register'!MK$3:MK$242)=TRUE,\"P\",\"A\")","v":"A"},{"$f":"IF(Attendance($C18,'Daily Register'!ML$3:ML$242)=TRUE,\"P\",\"A\")","v":"A"},{"$f":"IF(Attendance($C18,'Daily Register'!MM$3:MM$242)=TRUE,\"P\",\"A\")","v":"A"},{"$f":"IF(Attendance($C18,'Daily Register'!MN$3:MN$242)=TRUE,\"P\",\"A\")","v":"A"},{"$f":"IF(Attendance($C18,'Daily Register'!MO$3:MO$242)=TRUE,\"P\",\"A\")","v":"A"},{"$f":"IF(Attendance($C18,'Daily Register'!MP$3:MP$242)=TRUE,\"P\",\"A\")","v":"A"},{"$f":"IF(Attendance($C18,'Daily Register'!MQ$3:MQ$242)=TRUE,\"P\",\"A\")","v":"A"},{"$f":"IF(Attendance($C18,'Daily Register'!MR$3:MR$242)=TRUE,\"P\",\"A\")","v":"A"},{"$f":"IF(Attendance($C18,'Daily Register'!MS$3:MS$242)=TRUE,\"P\",\"A\")","v":"A"},{"$f":"IF(Attendance($C18,'Daily Register'!MT$3:MT$242)=TRUE,\"P\",\"A\")","v":"A"},{"$f":"IF(Attendance($C18,'Daily Register'!MU$3:MU$242)=TRUE,\"P\",\"A\")","v":"A"},{"$f":"IF(Attendance($C18,'Daily Register'!MV$3:MV$242)=TRUE,\"P\",\"A\")","v":"A"},{"$f":"IF(Attendance($C18,'Daily Register'!MW$3:MW$242)=TRUE,\"P\",\"A\")","v":"A"},{"$f":"IF(Attendance($C18,'Daily Register'!MX$3:MX$242)=TRUE,\"P\",\"A\")","v":"A"},{"$f":"IF(Attendance($C18,'Daily Register'!MY$3:MY$242)=TRUE,\"P\",\"A\")","v":"A"},{"$f":"IF(Attendance($C18,'Daily Register'!MZ$3:MZ$242)=TRUE,\"P\",\"A\")","v":"A"},{"$f":"IF(Attendance($C18,'Daily Register'!NA$3:NA$242)=TRUE,\"P\",\"A\")","v":"A"},{"$f":"IF(Attendance($C18,'Daily Register'!NB$3:NB$242)=TRUE,\"P\",\"A\")","v":"A"}]
[0,null,16,null,{"$f":"IF(Attendance($C19,'Daily Register'!A$3:A$242)=TRUE,\"P\",\"A\")","v":"A"},{"$f":"IF(Attendance($C19,'Daily Register'!B$3:B$242)=TRUE,\"P\",\"A\")","v":"A"},{"$f":"IF(Attendance($C19,'Daily Register'!C$3:C$242)=TRUE,\"P\",\"A\")","v":"A"},{"$f":"IF(Attendance($C19,'Daily Register'!D$3:D$242)=TRUE,\"P\",\"A\")","v":"A"},{"$f":"IF(Attendance($C19,'Daily Register'!E$3:E$242)=TRUE,\"P\",\"A\")","v":"A"},{"$f":"IF(Attendance($C19,'Daily Register'!F$3:F$242)=TRUE,\"P\",\"A\")","v":"A"},{"$f":"IF(Attendance($C19,'Daily Register'!G$3:G$242)=TRUE,\"P\",\"A\")","v":"A"},{"$f":"IF(Attendance($C19,'Daily Register'!H$3:H$242)=TRUE,\"P\",\"A\")","v":"A"},{"$f":"IF(Attendance($C19,'Daily Register'!I$3:I$242)=TRUE,\"P\",\"A\")","v":"A"},{"$f":"IF(Attendance($C19,'Daily Register'!J$3:J$242)=TRUE,\"P\",\"A\")","v":"A"},{"$f":"IF(Attendance($C19,'Daily Register'!K$3:K$242)=TRUE,\"P\",\"A\")","v":"A"},{"$f":"IF(Attendance($C19,'Daily Register'!L$3:L$242)=TRUE,\"P\",\"A\")","v":"A"},{"$f":"IF(Attendance($C19,'Daily Register'!M$3:M$242)=TRUE,\"P\",\"A\")","v":"A"},{"$f":"IF(Attendance($C19,'Daily Register'!N$3:N$242)=TRUE,\"P\",\"A\")","v":"A"},{"$f":"IF(Attendance($C19,'Daily Register'!O$3:O$242)=TRUE,\"P\",\"A\")","v":"A"},{"$f":"IF(Attendance($C19,'Daily Register'!P$3:P$242)=TRUE,\"P\",\"A\")","v":"A"},{"$f":"IF(Attendance($C19,'Daily Register'!Q$3:Q$242)=TRUE,\"P\",\"A\")","v":"A"},{"$f":"IF(Attendance($C19,'Daily Register'!R$3:R$242)=TRUE,\"P\",\"A\")","v":"A"},{"$f":"IF(Attendance($C19,'Daily Register'!S$3:S$242)=TRUE,\"P\",\"A\")","v":"A"},{"$f":"IF(Attendance($C19,'Daily Register'!T$3:T$242)=TRUE,\"P\",\"A\")","v":"A"},{"$f":"IF(Attendance($C19,'Daily Register'!U$3:U$242)=TRUE,\"P\",\"A\")","v":"A"},{"$f":"IF(Attendance($C19,'Daily Register'!V$3:V$242)=TRUE,\"P\",\"A\")","v":"A"},{"$f":"IF(Attendance($C19,'Daily Register'!W$3:W$242)=TRUE,\"P\",\"A\")","v":"A"},{"$f":"IF(Attendance($C19,'Daily Register'!X$3:X$242)=TRUE,\"P\",\"A\")","v":"A"},{"$f":"IF(Attendance($C19,'Daily Register'!Y$3:Y$242)=TRUE,\"P\",\"A\")","v":"A"},{"$f":"IF(Attendance($C19,'Daily Register'!Z$3:Z$242)=TRUE,\"P\",\"A\")","v":"A"},{"$f":"IF(Attendance($C19,'Daily Register'!AA$3:AA$242)=TRUE,\"P\",\"A\")","v":"A"},{"$f":"IF(Attendance($C19,'Daily Register'!AB$3:AB$242)=TRUE,\"P\",\"A\")","v":"A"},{"$f":"IF(Attendance($C19,'Daily Register'!AC$3:AC$242)=TRUE,\"P\",\"A\")","v":"A"},{"$f":"IF(Attendance($C19,'Daily Register'!AD$3:AD$242)=TRUE,\"P\",\"A\")","v":"A"},{"$f":"IF(Attendance($C19,'Daily Register'!AE$3:AE$242)=TRUE,\"P\",\"A\")","v":"A"},{"$f":"IF(Attendance($C19,'Daily Register'!AF$3:AF$242)=TRUE,\"P\",\"A\")","v":"A"},{"$f":"IF(Attendance($C19,'Daily Register'!AG$3:AG$242)=TRUE,\"P\",\"A\")","v":"A"},{"$f":"IF(Attendance($C19,'Daily Register'!AH$3:AH$242)=TRUE,\"P\",\"A\")","v":"A"},{"$f":"IF(Attendance($C19,'Daily Register'!AI$3:AI$242)=TRUE,\"P\",\"A\")","v":"A"},{"$f":"IF(Attendance($C19,'Daily Register'!AJ$3:AJ$242)=TRUE,\"P\",\"A\")","v":"A"},{"$f":"IF(Attendance($C19,'Daily Register'!AK$3:AK$242)=TRUE,\"P\",\"A\")","v":"A"},{"$f":"IF(Attendance($C19,'Daily Register'!AL$3:AL$242)=TRUE,\"P\",\"A\")","v":"A"},{"$f":"IF(Attendance($C19,'Daily Register'!AM$3:AM$242)=TRUE,\"P\",\"A\")","v":"A"},{"$f":"IF(Attendance($C19,'Daily Register'!AN$3:AN$242)=TRUE,\"P\",\"A\")","v":"A"},{"$f":"IF(Attendance($C19,'Daily Register'!AO$3:AO$242)=TRUE,\"P\",\"A\")","v":"A"},{"$f":"IF(Attendance($C19,'Daily Register'!AP$3:AP$242)=TRUE,\"P\",\"A\")","v":"A"},{"$f":"IF(Attendance($C19,'Daily Register'!AQ$3:AQ$242)=TRUE,\"P\",\"A\")","v":"A"},{"$f":"IF(Attendance($C19,'Daily Register'!AR$3:AR$242)=TRUE,\"P\",\"A\")","v":"A"},{"$f":"IF(Attendance($C19,'Daily Register'!AS$3:AS$242)=TRUE,\"P\",\"A\")","v":"A"},{"$f":"IF(Attendance($C19,'Daily Register'!AT$3:AT$242)=TRUE,\"P\",\"A\")","v":"A"},{"$f":"IF(Attendance($C19,'Daily Register'!AU$3:AU$242)=TRUE,\"P\",\"A\")","v":"A"},{"$f":"IF(Attendance($C19,'Daily Register'!AV$3:AV$242)=TRUE,\"P\",\"A\")","v":"A"},{"$f":"IF(Attendance($C19,'Daily Register'!AW$3:AW$242)=TRUE,\"P\",\"A\")","v":"A"},{"$f":"IF(Attendance($C19,'Daily Register'!AX$3:AX$242)=TRUE,\"P\",\"A\")","v":"A"},{"$f":"IF(Attendance($C19,'Daily Register'!AY$3:AY$242)=TRUE,\"P\",\"A\")","v":"A"},{"$f":"IF(Attendance($C19,'Daily Register'!AZ$3:AZ$242)=TRUE,\"P\",\"A\")","v":"A"},{"$f":"IF(Attendance($C19,'Daily Register'!BA$3:BA$242)=TRUE,\"P\",\"A\")","v":"A"},{"$f":"IF(Attendance($C19,'Daily Register'!BB$3:BB$242)=TRUE,\"P\",\"A\")","v":"A"},{"$f":"IF(Attendance($C19,'Daily Register'!BC$3:BC$242)=TRUE,\"P\",\"A\")","v":"A"},{"$f":"IF(Attendance($C19,'Daily Register'!BD$3:BD$242)=TRUE,\"P\",\"A\")","v":"A"},{"$f":"IF(Attendance($C19,'Daily Register'!BE$3:BE$242)=TRUE,\"P\",\"A\")","v":"A"},{"$f":"IF(Attendance($C19,'Daily Register'!BF$3:BF$242)=TRUE,\"P\",\"A\")","v":"A"},{"$f":"IF(Attendance($C19,'Daily Register'!BG$3:BG$242)=TRUE,\"P\",\"A\")","v":"A"},{"$f":"IF(Attendance($C19,'Daily Register'!BH$3:BH$242)=TRUE,\"P\",\"A\")","v":"A"},{"$f":"IF(Attendance($C19,'Daily Register'!BI$3:BI$242)=TRUE,\"P\",\"A\")","v":"A"},{"$f":"IF(Attendance($C19,'Daily Register'!BJ$3:BJ$242)=TRUE,\"P\",\"A\")","v":"A"},{"$f":"IF(Attendance($C19,'Daily Register'!BK$3:BK$242)=TRUE,\"P\",\"A\")","v":"A"},{"$f":"IF(Attendance($C19,'Daily Register'!BL$3:BL$242)=TRUE,\"P\",\"A\")","v":"A"},{"$f":"IF(Attendance($C19,'Daily Register'!BM$3:BM$242)=TRUE,\"P\",\"A\")","v":"A"},{"$f":"IF(Attendance($C19,'Daily Register'!BN$3:BN$242)=TRUE,\"P\",\"A\")","v":"A"},{"$f":"IF(Attendance($C19,'Daily Register'!BO$3:BO$242)=TRUE,\"P\",\"A\")","v":"A"},{"$f":"IF(Attendance($C19,'Daily Register'!BP$3:BP$242)=TRUE,\"P\",\"A\")","v":"A"},{"$f":"IF(Attendance($C19,'Daily Register'!BQ$3:BQ$242)=TRUE,\"P\",\"A\")","v":"A"},{"$f":"IF(Attendance($C19,'Daily Register'!BR$3:BR$242)=TRUE,\"P\",\"A\")","v":"A"},{"$f":"IF(Attendance($C19,'Daily Register'!BS$3:BS$242)=TRUE,\"P\",\"A\")","v":"A"},{"$f":"IF(Attendance($C19,'Daily Register'!BT$3:BT$242)=TRUE,\"P\",\"A\")","v":"A"},{"$f":"IF(Attendance($C19,'Daily Register'!BU$3:BU$242)=TRUE,\"P\",\"A\")","v":"A"},{"$f":"IF(Attendance($C19,'Daily Register'!BV$3:BV$242)=TRUE,\"P\",\"A\")","v":"A"},{"$f":"IF(Attendance($C19,'Daily Register'!BW$3:BW$242)=TRUE,\"P\",\"A\")","v":"A"},{"$f":"IF(Attendance($C19,'Daily Register'!BX$3:BX$242)=TRUE,\"P\",\"A\")","v":"A"},{"$f":"IF(Attendance($C19,'Daily Register'!BY$3:BY$242)=TRUE,\"P\",\"A\")","v":"A"},{"$f":"IF(Attendance($C19,'Daily Register'!BZ$3:BZ$242)=TRUE,\"P\",\"A\")","v":"A"},{"$f":"IF(Attendance($C19,'Daily Register'!CA$3:CA$242)=TRUE,\"P\",\"A\")","v":"A"},{"$f":"IF(Attendance($C19,'Daily Register'!CB$3:CB$242)=TRUE,\"P\",\"A\")","v":"A"},{"$f":"IF(Attendance($C19,'Daily Register'!CC$3:CC$242)=TRUE,\"P\",\"A\")","v":"A"},{"$f":"IF(Attendance($C19,'Daily Register'!CD$3:CD$242)=TRUE,\"P\",\"A\")","v":"A"},{"$f":"IF(Attendance($C19,'Daily Register'!CE$3:CE$242)=TRUE,\"P\",\"A\")","v":"A"},{"$f":"IF(Attendance($C19,'Daily Register'!CF$3:CF$242)=TRUE,\"P\",\"A\")","v":"A"},{"$f":"IF(Attendance($C19,'Daily Register'!CG$3:CG$242)=TRUE,\"P\",\"A\")","v":"A"},{"$f":"IF(Attendance($C19,'Daily Register'!CH$3:CH$242)=TRUE,\"P\",\"A\")","v":"A"},{"$f":"IF(Attendance($C19,'Daily Register'!CI$3:CI$242)=TRUE,\"P\",\"A\")","v":"A"},{"$f":"IF(Attendance($C19,'Daily Register'!CJ$3:CJ$242)=TRUE,\"P\",\"A\")","v":"A"},{"$f":"IF(Attendance($C19,'Daily Register'!CK$3:CK$242)=TRUE,\"P\",\"A\")","v":"A"},{"$f":"IF(Attendance($C19,'Daily Register'!CL$3:CL$242)=TRUE,\"P\",\"A\")","v":"A"},{"$f":"IF(Attendance($C19,'Daily Register'!CM$3:CM$242)=TRUE,\"P\",\"A\")","v":"A"},{"$f":"IF(Attendance($C19,'Daily Register'!CN$3:CN$242)=TRUE,\"P\",\"A\")","v":"A"},{"$f":"IF(Attendance($C19,'Daily Register'!CO$3:CO$242)=TRUE,\"P\",\"A\")","v":"A"},{"$f":"IF(Attendance($C19,'Daily Register'!CP$3:CP$242)=TRUE,\"P\",\"A\")","v":"A"},{"$f":"IF(Attendance($C19,'Daily Register'!CQ$3:CQ$242)=TRUE,\"P\",\"A\")","v":"A"},{"$f":"IF(Attendance($C19,'Daily Register'!CR$3:CR$242)=TRUE,\"P\",\"A\")","v":"A"},{"$f":"IF(Attendance($C19,'Daily Register'!CS$3:CS$242)=TRUE,\"P\",\"A\")","v":"A"},{"$f":"IF(Attendance($C19,'Daily Register'!CT$3:CT$242)=TRUE,\"P\",\"A\")","v":"A"},{"$f":"IF(Attendance($C19,'Daily Register'!CU$3:CU$242)=TRUE,\"P\",\"A\")","v":"A"},{"$f":"IF(Attendance($C19,'Daily Register'!CV$3:CV$242)=TRUE,\"P\",\"A\")","v":"A"},{"$f":"IF(Attendance($C19,'Daily Register'!CW$3:CW$242)=TRUE,\"P\",\"A\")","v":"A"},{"$f":"IF(Attendance($C19,'Daily Register'!CX$3:CX$242)=TRUE,\"P\",\"A\")","v":"A"},{"$f":"IF(Attendance($C19,'Daily Register'!CY$3:CY$242)=TRUE,\"P\",\"A\")","v":"A"},{"$f":"IF(Attendance($C19,'Daily Register'!CZ$3:CZ$242)=TRUE,\"P\",\"A\")","v":"A"},{"$f":"IF(Attendance($C19,'Daily Register'!DA$3:DA$242)=TRUE,\"P\",\"A\")","v":"A"},{"$f":"IF(Attendance($C19,'Daily Register'!DB$3:DB$242)=TRUE,\"P\",\"A\")","v":"A"},{"$f":"IF(Attendance($C19,'Daily Register'!DC$3:DC$242)=TRUE,\"P\",\"A\")","v":"A"},{"$f":"IF(Attendance($C19,'Daily Register'!DD$3:DD$242)=TRUE,\"P\",\"A\")","v":"A"},{"$f":"IF(Attendance($C19,'Daily Register'!DE$3:DE$242)=TRUE,\"P\",\"A\")","v":"A"},{"$f":"IF(Attendance($C19,'Daily Register'!DF$3:DF$242)=TRUE,\"P\",\"A\")","v":"A"},{"$f":"IF(Attendance($C19,'Daily Register'!DG$3:DG$242)=TRUE,\"P\",\"A\")","v":"A"},{"$f":"IF(Attendance($C19,'Daily Register'!DH$3:DH$242)=TRUE,\"P\",\"A\")","v":"A"},{"$f":"IF(Attendance($C19,'Daily Register'!DI$3:DI$242)=TRUE,\"P\",\"A\")","v":"A"},{"$f":"IF(Attendance($C19,'Daily Register'!DJ$3:DJ$242)=TRUE,\"P\",\"A\")","v":"A"},{"$f":"IF(Attendance($C19,'Daily Register'!DK$3:DK$242)=TRUE,\"P\",\"A\")","v":"A"},{"$f":"IF(Attendance($C19,'Daily Register'!DL$3:DL$242)=TRUE,\"P\",\"A\")","v":"A"},{"$f":"IF(Attendance($C19,'Daily Register'!DM$3:DM$242)=TRUE,\"P\",\"A\")","v":"A"},{"$f":"IF(Attendance($C19,'Daily Register'!DN$3:DN$242)=TRUE,\"P\",\"A\")","v":"A"},{"$f":"IF(Attendance($C19,'Daily Register'!DO$3:DO$242)=TRUE,\"P\",\"A\")","v":"A"},{"$f":"IF(Attendance($C19,'Daily Register'!DP$3:DP$242)=TRUE,\"P\",\"A\")","v":"A"},{"$f":"IF(Attendance($C19,'Daily Register'!DQ$3:DQ$242)=TRUE,\"P\",\"A\")","v":"A"},{"$f":"IF(Attendance($C19,'Daily Register'!DR$3:DR$242)=TRUE,\"P\",\"A\")","v":"A"},{"$f":"IF(Attendance($C19,'Daily Register'!DS$3:DS$242)=TRUE,\"P\",\"A\")","v":"A"},{"$f":"IF(Attendance($C19,'Daily Register'!DT$3:DT$242)=TRUE,\"P\",\"A\")","v":"A"},{"$f":"IF(Attendance($C19,'Daily Register'!DU$3:DU$242)=TRUE,\"P\",\"A\")","v":"A"},{"$f":"IF(Attendance($C19,'Daily Register'!DV$3:DV$242)=TRUE,\"P\",\"A\")","v":"A"},{"$f":"IF(Attendance($C19,'Daily Register'!DW$3:DW$242)=TRUE,\"P\",\"A\")","v":"A"},{"$f":"IF(Attendance($C19,'Daily Register'!DX$3:DX$242)=TRUE,\"P\",\"A\")","v":"A"},{"$f":"IF(Attendance($C19,'Daily Register'!DY$3:DY$242)=TRUE,\"P\",\"A\")","v":"A"},{"$f":"IF(Attendance($C19,'Daily Register'!DZ$3:DZ$242)=TRUE,\"P\",\"A\")","v":"A"},{"$f":"IF(Attendance($C19,'Daily Register'!EA$3:EA$242)=TRUE,\"P\",\"A\")","v":"A"},{"$f":"IF(Attendance($C19,'Daily Register'!EB$3:EB$242)=TRUE,\"P\",\"A\")","v":"A"},{"$f":"IF(Attendance($C19,'Daily Register'!EC$3:EC$242)=TRUE,\"P\",\"A\")","v":"A"},{"$f":"IF(Attendance($C19,'Daily Register'!ED$3:ED$242)=TRUE,\"P\",\"A\")","v":"A"},{"$f":"IF(Attendance($C19,'Daily Register'!EE$3:EE$242)=TRUE,\"P\",\"A\")","v":"A"},{"$f":"IF(Attendance($C19,'Daily Register'!EF$3:EF$242)=TRUE,\"P\",\"A\")","v":"A"},{"$f":"IF(Attendance($C19,'Daily Register'!EG$3:EG$242)=TRUE,\"P\",\"A\")","v":"A"},{"$f":"IF(Attendance($C19,'Daily Register'!EH$3:EH$242)=TRUE,\"P\",\"A\")","v":"A"},{"$f":"IF(Attendance($C19,'Daily Register'!EI$3:EI$242)=TRUE,\"P\",\"A\")","v":"A"},{"$f":"IF(Attendance($C19,'Daily Register'!EJ$3:EJ$242)=TRUE,\"P\",\"A\")","v":"A"},{"$f":"IF(Attendance($C19,'Daily Register'!EK$3:EK$242)=TRUE,\"P\",\"A\")","v":"A"},{"$f":"IF(Attendance($C19,'Daily Register'!EL$3:EL$242)=TRUE,\"P\",\"A\")","v":"A"},{"$f":"IF(Attendance($C19,'Daily Register'!EM$22:EM$242)=TRUE,\"P\",\"A\")","v":"A"},{"$f":"IF(Attendance($C19,'Daily Register'!EN$3:EN$242)=TRUE,\"P\",\"A\")","v":"A"},{"$f":"IF(Attendance($C19,'Daily Register'!EO$3:EO$242)=TRUE,\"P\",\"A\")","v":"A"},{"$f":"IF(Attendance($C19,'Daily Register'!EP$3:EP$242)=TRUE,\"P\",\"A\")","v":"A"},{"$f":"IF(Attendance($C19,'Daily Register'!EQ$3:EQ$242)=TRUE,\"P\",\"A\")","v":"A"},{"$f":"IF(Attendance($C19,'Daily Register'!ER$3:ER$242)=TRUE,\"P\",\"A\")","v":"A"},{"$f":"IF(Attendance($C19,'Daily Register'!ES$3:ES$242)=TRUE,\"P\",\"A\")","v":"A"},{"$f":"IF(Attendance($C19,'Daily Register'!ET$3:ET$242)=TRUE,\"P\",\"A\")","v":"A"},{"$f":"IF(Attendance($C19,'Daily Register'!EU$3:EU$242)=TRUE,\"P\",\"A\")","v":"A"},{"$f":"IF(Attendance($C19,'Daily Register'!EV$3:EV$242)=TRUE,\"P\",\"A\")","v":"A"},{"$f":"IF(Attendance($C19,'Daily Register'!EW$3:EW$242)=TRUE,\"P\",\"A\")","v":"A"},{"$f":"IF(Attendance($C19,'Daily Register'!EX$3:EX$242)=TRUE,\"P\",\"A\")","v":"A"},{"$f":"IF(Attendance($C19,'Daily Register'!EY$3:EY$242)=TRUE,\"P\",\"A\")","v":"A"},{"$f":"IF(Attendance($C19,'Daily Register'!EZ$3:EZ$242)=TRUE,\"P\",\"A\")","v":"A"},{"$f":"IF(Attendance($C19,'Daily Register'!FA$3:FA$242)=TRUE,\"P\",\"A\")","v":"A"},{"$f":"IF(Attendance($C19,'Daily Register'!FB$3:FB$242)=TRUE,\"P\",\"A\")","v":"A"},{"$f":"IF(Attendance($C19,'Daily Register'!FC$3:FC$242)=TRUE,\"P\",\"A\")","v":"A"},{"$f":"IF(Attendance($C19,'Daily Register'!FD$3:FD$242)=TRUE,\"P\",\"A\")","v":"A"},{"$f":"IF(Attendance($C19,'Daily Register'!FE$3:FE$242)=TRUE,\"P\",\"A\")","v":"A"},{"$f":"IF(Attendance($C19,'Daily Register'!FF$3:FF$242)=TRUE,\"P\",\"A\")","v":"A"},{"$f":"IF(Attendance($C19,'Daily Register'!FG$3:FG$242)=TRUE,\"P\",\"A\")","v":"A"},{"$f":"IF(Attendance($C19,'Daily Register'!FH$3:FH$242)=TRUE,\"P\",\"A\")","v":"A"},{"$f":"IF(Attendance($C19,'Daily Register'!FI$3:FI$242)=TRUE,\"P\",\"A\")","v":"A"},{"$f":"IF(Attendance($C19,'Daily Register'!FJ$3:FJ$242)=TRUE,\"P\",\"A\")","v":"A"},{"$f":"IF(Attendance($C19,'Daily Register'!FK$3:FK$242)=TRUE,\"P\",\"A\")","v":"A"},{"$f":"IF(Attendance($C19,'Daily Register'!FL$3:FL$242)=TRUE,\"P\",\"A\")","v":"A"},{"$f":"IF(Attendance($C19,'Daily Register'!FM$3:FM$242)=TRUE,\"P\",\"A\")","v":"A"},{"$f":"IF(Attendance($C19,'Daily Register'!FN$3:FN$242)=TRUE,\"P\",\"A\")","v":"A"},{"$f":"IF(Attendance($C19,'Daily Register'!FO$3:FO$242)=TRUE,\"P\",\"A\")","v":"A"},{"$f":"IF(Attendance($C19,'Daily Register'!FP$3:FP$242)=TRUE,\"P\",\"A\")","v":"A"},{"$f":"IF(Attendance($C19,'Daily Register'!FQ$3:FQ$242)=TRUE,\"P\",\"A\")","v":"A"},{"$f":"IF(Attendance($C19,'Daily Register'!FR$3:FR$242)=TRUE,\"P\",\"A\")","v":"A"},{"$f":"IF(Attendance($C19,'Daily Register'!FS$3:FS$242)=TRUE,\"P\",\"A\")","v":"A"},{"$f":"IF(Attendance($C19,'Daily Register'!FT$3:FT$242)=TRUE,\"P\",\"A\")","v":"A"},{"$f":"IF(Attendance($C19,'Daily Register'!FU$3:FU$242)=TRUE,\"P\",\"A\")","v":"A"},{"$f":"IF(Attendance($C19,'Daily Register'!FV$3:FV$242)=TRUE,\"P\",\"A\")","v":"A"},{"$f":"IF(Attendance($C19,'Daily Register'!FW$3:FW$242)=TRUE,\"P\",\"A\")","v":"A"},{"$f":"IF(Attendance($C19,'Daily Register'!FX$3:FX$242)=TRUE,\"P\",\"A\")","v":"A"},{"$f":"IF(Attendance($C19,'Daily Register'!FY$3:FY$242)=TRUE,\"P\",\"A\")","v":"A"},{"$f":"IF(Attendance($C19,'Daily Register'!FZ$3:FZ$242)=TRUE,\"P\",\"A\")","v":"A"},{"$f":"IF(Attendance($C19,'Daily Register'!GA$3:GA$242)=TRUE,\"P\",\"A\")","v":"A"},{"$f":"IF(Attendance($C19,'Daily Register'!GB$3:GB$242)=TRUE,\"P\",\"A\")","v":"A"},{"$f":"IF(Attendance($C19,'Daily Register'!GC$3:GC$242)=TRUE,\"P\",\"A\")","v":"A"},{"$f":"IF(Attendance($C19,'Daily Register'!GD$3:GD$242)=TRUE,\"P\",\"A\")","v":"A"},{"$f":"IF(Attendance($C19,'Daily Register'!GE$3:GE$242)=TRUE,\"P\",\"A\")","v":"A"},{"$f":"IF(Attendance($C19,'Daily Register'!GF$3:GF$242)=TRUE,\"P\",\"A\")","v":"A"},{"$f":"IF(Attendance($C19,'Daily Register'!GG$3:GG$242)=TRUE,\"P\",\"A\")","v":"A"},{"$f":"IF(Attendance($C19,'Daily Register'!GH$3:GH$242)=TRUE,\"P\",\"A\")","v":"A"},{"$f":"IF(Attendance($C19,'Daily Register'!GI$3:GI$242)=TRUE,\"P\",\"A\")","v":"A"},{"$f":"IF(Attendance($C19,'Daily Register'!GJ$3:GJ$242)=TRUE,\"P\",\"A\")","v":"A"},{"$f":"IF(Attendance($C19,'Daily Register'!GK$3:GK$242)=TRUE,\"P\",\"A\")","v":"A"},{"$f":"IF(Attendance($C19,'Daily Register'!GL$3:GL$242)=TRUE,\"P\",\"A\")","v":"A"},{"$f":"IF(Attendance($C19,'Daily Register'!GM$3:GM$242)=TRUE,\"P\",\"A\")","v":"A"},{"$f":"IF(Attendance($C19,'Daily Register'!GN$3:GN$242)=TRUE,\"P\",\"A\")","v":"A"},{"$f":"IF(Attendance($C19,'Daily Register'!GO$3:GO$242)=TRUE,\"P\",\"A\")","v":"A"},{"$f":"IF(Attendance($C19,'Daily Register'!GP$3:GP$242)=TRUE,\"P\",\"A\")","v":"A"},{"$f":"IF(Attendance($C19,'Daily Register'!GQ$3:GQ$242)=TRUE,\"P\",\"A\")","v":"A"},{"$f":"IF(Attendance($C19,'Daily Register'!GR$3:GR$242)=TRUE,\"P\",\"A\")","v":"A"},{"$f":"IF(Attendance($C19,'Daily Register'!GS$3:GS$242)=TRUE,\"P\",\"A\")","v":"A"},{"$f":"IF(Attendance($C19,'Daily Register'!GT$3:GT$242)=TRUE,\"P\",\"A\")","v":"A"},{"$f":"IF(Attendance($C19,'Daily Register'!GU$3:GU$242)=TRUE,\"P\",\"A\")","v":"A"},{"$f":"IF(Attendance($C19,'Daily Register'!GV$3:GV$242)=TRUE,\"P\",\"A\")","v":"A"},{"$f":"IF(Attendance($C19,'Daily Register'!GW$3:GW$242)=TRUE,\"P\",\"A\")","v":"A"},{"$f":"IF(Attendance($C19,'Daily Register'!GX$3:GX$242)=TRUE,\"P\",\"A\")","v":"A"},{"$f":"IF(Attendance($C19,'Daily Register'!GY$3:GY$242)=TRUE,\"P\",\"A\")","v":"A"},{"$f":"IF(Attendance($C19,'Daily Register'!GZ$3:GZ$242)=TRUE,\"P\",\"A\")","v":"A"},{"$f":"IF(Attendance($C19,'Daily Register'!HA$3:HA$242)=TRUE,\"P\",\"A\")","v":"A"},{"$f":"IF(Attendance($C19,'Daily Register'!HB$3:HB$242)=TRUE,\"P\",\"A\")","v":"A"},{"$f":"IF(Attendance($C19,'Daily Register'!HC$3:HC$242)=TRUE,\"P\",\"A\")","v":"A"},{"$f":"IF(Attendance($C19,'Daily Register'!HD$3:HD$242)=TRUE,\"P\",\"A\")","v":"A"},{"$f":"IF(Attendance($C19,'Daily Register'!HE$3:HE$242)=TRUE,\"P\",\"A\")","v":"A"},{"$f":"IF(Attendance($C19,'Daily Register'!HF$3:HF$242)=TRUE,\"P\",\"A\")","v":"A"},{"$f":"IF(Attendance($C19,'Daily Register'!HG$3:HG$242)=TRUE,\"P\",\"A\")","v":"A"},{"$f":"IF(Attendance($C19,'Daily Register'!HH$3:HH$242)=TRUE,\"P\",\"A\")","v":"A"},{"$f":"IF(Attendance($C19,'Daily Register'!HI$3:HI$242)=TRUE,\"P\",\"A\")","v":"A"},{"$f":"IF(Attendance($C19,'Daily Register'!HJ$3:HJ$242)=TRUE,\"P\",\"A\")","v":"A"},{"$f":"IF(Attendance($C19,'Daily Register'!HK$3:HK$242)=TRUE,\"P\",\"A\")","v":"A"},{"$f":"IF(Attendance($C19,'Daily Register'!HL$3:HL$242)=TRUE,\"P\",\"A\")","v":"A"},{"$f":"IF(Attendance($C19,'Daily Register'!HM$3:HM$242)=TRUE,\"P\",\"A\")","v":"A"},{"$f":"IF(Attendance($C19,'Daily Register'!HN$3:HN$242)=TRUE,\"P\",\"A\")","v":"A"},{"$f":"IF(Attendance($C19,'Daily Register'!HO$3:HO$242)=TRUE,\"P\",\"A\")","v":"A"},{"$f":"IF(Attendance($C19,'Daily Register'!HP$3:HP$242)=TRUE,\"P\",\"A\")","v":"A"},{"$f":"IF(Attendance($C19,'Daily Register'!HQ$3:HQ$242)=TRUE,\"P\",\"A\")","v":"A"},{"$f":"IF(Attendance($C19,'Daily Register'!HR$3:HR$242)=TRUE,\"P\",\"A\")","v":"A"},{"$f":"IF(Attendance($C19,'Daily Register'!HS$3:HS$242)=TRUE,\"P\",\"A\")","v":"A"},{"$f":"IF(Attendance($C19,'Daily Register'!HT$3:HT$242)=TRUE,\"P\",\"A\")","v":"A"},{"$f":"IF(Attendance($C19,'Daily Register'!HU$3:HU$242)=TRUE,\"P\",\"A\")","v":"A"},{"$f":"IF(Attendance($C19,'Daily Register'!HV$3:HV$242)=TRUE,\"P\",\"A\")","v":"A"},{"$f":"IF(Attendance($C19,'Daily Register'!HW$3:HW$242)=TRUE,\"P\",\"A\")","v":"A"},{"$f":"IF(Attendance($C19,'Daily Register'!HX$3:HX$242)=TRUE,\"P\",\"A\")","v":"A"},{"$f":"IF(Attendance($C19,'Daily Register'!HY$3:HY$242)=TRUE,\"P\",\"A\")","v":"A"},{"$f":"IF(Attendance($C19,'Daily Register'!HZ$3:HZ$242)=TRUE,\"P\",\"A\")","v":"A"},{"$f":"IF(Attendance($C19,'Daily Register'!IA$3:IA$242)=TRUE,\"P\",\"A\")","v":"A"},{"$f":"IF(Attendance($C19,'Daily Register'!IB$3:IB$242)=TRUE,\"P\",\"A\")","v":"A"},{"$f":"IF(Attendance($C19,'Daily Register'!IC$3:IC$242)=TRUE,\"P\",\"A\")","v":"A"},{"$f":"IF(Attendance($C19,'Daily Register'!ID$3:ID$242)=TRUE,\"P\",\"A\")","v":"A"},{"$f":"IF(Attendance($C19,'Daily Register'!IE$3:IE$242)=TRUE,\"P\",\"A\")","v":"A"},{"$f":"IF(Attendance($C19,'Daily Register'!IF$3:IF$242)=TRUE,\"P\",\"A\")","v":"A"},{"$f":"IF(Attendance($C19,'Daily Register'!IG$3:IG$242)=TRUE,\"P\",\"A\")","v":"A"},{"$f":"IF(Attendance($C19,'Daily Register'!IH$3:IH$242)=TRUE,\"P\",\"A\")","v":"A"},{"$f":"IF(Attendance($C19,'Daily Register'!II$3:II$242)=TRUE,\"P\",\"A\")","v":"A"},{"$f":"IF(Attendance($C19,'Daily Register'!IJ$3:IJ$242)=TRUE,\"P\",\"A\")","v":"A"},{"$f":"IF(Attendance($C19,'Daily Register'!IK$3:IK$242)=TRUE,\"P\",\"A\")","v":"A"},{"$f":"IF(Attendance($C19,'Daily Register'!IL$3:IL$242)=TRUE,\"P\",\"A\")","v":"A"},{"$f":"IF(Attendance($C19,'Daily Register'!IM$3:IM$242)=TRUE,\"P\",\"A\")","v":"A"},{"$f":"IF(Attendance($C19,'Daily Register'!IN$3:IN$242)=TRUE,\"P\",\"A\")","v":"A"},{"$f":"IF(Attendance($C19,'Daily Register'!IO$3:IO$242)=TRUE,\"P\",\"A\")","v":"A"},{"$f":"IF(Attendance($C19,'Daily Register'!IP$3:IP$242)=TRUE,\"P\",\"A\")","v":"A"},{"$f":"IF(Attendance($C19,'Daily Register'!IQ$3:IQ$242)=TRUE,\"P\",\"A\")","v":"A"},{"$f":"IF(Attendance($C19,'Daily Register'!IR$3:IR$242)=TRUE,\"P\",\"A\")","v":"A"},{"$f":"IF(Attendance($C19,'Daily Register'!IS$3:IS$242)=TRUE,\"P\",\"A\")","v":"A"},{"$f":"IF(Attendance($C19,'Daily Register'!IT$3:IT$242)=TRUE,\"P\",\"A\")","v":"A"},{"$f":"IF(Attendance($C19,'Daily Register'!IU$3:IU$242)=TRUE,\"P\",\"A\")","v":"A"},{"$f":"IF(Attendance($C19,'Daily Register'!IV$3:IV$242)=TRUE,\"P\",\"A\")","v":"A"},{"$f":"IF(Attendance($C19,'Daily Register'!IW$3:IW$242)=TRUE,\"P\",\"A\")","v":"A"},{"$f":"IF(Attendance($C19,'Daily Register'!IX$3:IX$242)=TRUE,\"P\",\"A\")","v":"A"},{"$f":"IF(Attendance($C19,'Daily Register'!IY$3:IY$242)=TRUE,\"P\",\"A\")","v":"A"},{"$f":"IF(Attendance($C19,'Daily Register'!IZ$3:IZ$242)=TRUE,\"P\",\"A\")","v":"A"},{"$f":"IF(Attendance($C19,'Daily Register'!JA$3:JA$242)=TRUE,\"P\",\"A\")","v":"A"},{"$f":"IF(Attendance($C19,'Daily Register'!JB$3:JB$242)=TRUE,\"P\",\"A\")","v":"A"},{"$f":"IF(Attendance($C19,'Daily Register'!JC$3:JC$242)=TRUE,\"P\",\"A\")","v":"A"},{"$f":"IF(Attendance($C19,'Daily Register'!JD$3:JD$242)=TRUE,\"P\",\"A\")","v":"A"},{"$f":"IF(Attendance($C19,'Daily Register'!JE$3:JE$242)=TRUE,\"P\",\"A\")","v":"A"},{"$f":"IF(Attendance($C19,'Daily Register'!JF$3:JF$242)=TRUE,\"P\",\"A\")","v":"A"},{"$f":"IF(Attendance($C19,'Daily Register'!JG$3:JG$242)=TRUE,\"P\",\"A\")","v":"A"},{"$f":"IF(Attendance($C19,'Daily Register'!JH$3:JH$242)=TRUE,\"P\",\"A\")","v":"A"},{"$f":"IF(Attendance($C19,'Daily Register'!JI$3:JI$242)=TRUE,\"P\",\"A\")","v":"A"},{"$f":"IF(Attendance($C19,'Daily Register'!JJ$3:JJ$242)=TRUE,\"P\",\"A\")","v":"A"},{"$f":"IF(Attendance($C19,'Daily Register'!JK$3:JK$242)=TRUE,\"P\",\"A\")","v":"A"},{"$f":"IF(Attendance($C19,'Daily Register'!JL$3:JL$242)=TRUE,\"P\",\"A\")","v":"A"},{"$f":"IF(Attendance($C19,'Daily Register'!JM$3:JM$242)=TRUE,\"P\",\"A\")","v":"A"},{"$f":"IF(Attendance($C19,'Daily Register'!JN$3:JN$242)=TRUE,\"P\",\"A\")","v":"A"},{"$f":"IF(Attendance($C19,'Daily Register'!JO$3:JO$242)=TRUE,\"P\",\"A\")","v":"A"},{"$f":"IF(Attendance($C19,'Daily Register'!JP$3:JP$242)=TRUE,\"P\",\"A\")","v":"A"},{"$f":"IF(Attendance($C19,'Daily Register'!JQ$3:JQ$242)=TRUE,\"P\",\"A\")","v":"A"},{"$f":"IF(Attendance($C19,'Daily Register'!JR$3:JR$242)=TRUE,\"P\",\"A\")","v":"A"},{"$f":"IF(Attendance($C19,'Daily Register'!JS$3:JS$242)=TRUE,\"P\",\"A\")","v":"A"},{"$f":"IF(Attendance($C19,'Daily Register'!JT$3:JT$242)=TRUE,\"P\",\"A\")","v":"A"},{"$f":"IF(Attendance($C19,'Daily Register'!JU$3:JU$242)=TRUE,\"P\",\"A\")","v":"A"},{"$f":"IF(Attendance($C19,'Daily Register'!JV$3:JV$242)=TRUE,\"P\",\"A\")","v":"A"},{"$f":"IF(Attendance($C19,'Daily Register'!JW$3:JW$242)=TRUE,\"P\",\"A\")","v":"A"},{"$f":"IF(Attendance($C19,'Daily Register'!JX$3:JX$242)=TRUE,\"P\",\"A\")","v":"A"},{"$f":"IF(Attendance($C19,'Daily Register'!JY$3:JY$242)=TRUE,\"P\",\"A\")","v":"A"},{"$f":"IF(Attendance($C19,'Daily Register'!JZ$3:JZ$242)=TRUE,\"P\",\"A\")","v":"A"},{"$f":"IF(Attendance($C19,'Daily Register'!KA$3:KA$242)=TRUE,\"P\",\"A\")","v":"A"},{"$f":"IF(Attendance($C19,'Daily Register'!KB$3:KB$242)=TRUE,\"P\",\"A\")","v":"A"},{"$f":"IF(Attendance($C19,'Daily Register'!KC$3:KC$242)=TRUE,\"P\",\"A\")","v":"A"},{"$f":"IF(Attendance($C19,'Daily Register'!KD$3:KD$242)=TRUE,\"P\",\"A\")","v":"A"},{"$f":"IF(Attendance($C19,'Daily Register'!KE$3:KE$242)=TRUE,\"P\",\"A\")","v":"A"},{"$f":"IF(Attendance($C19,'Daily Register'!KF$3:KF$242)=TRUE,\"P\",\"A\")","v":"A"},{"$f":"IF(Attendance($C19,'Daily Register'!KG$3:KG$242)=TRUE,\"P\",\"A\")","v":"A"},{"$f":"IF(Attendance($C19,'Daily Register'!KH$3:KH$242)=TRUE,\"P\",\"A\")","v":"A"},{"$f":"IF(Attendance($C19,'Daily Register'!KI$3:KI$242)=TRUE,\"P\",\"A\")","v":"A"},{"$f":"IF(Attendance($C19,'Daily Register'!KJ$3:KJ$242)=TRUE,\"P\",\"A\")","v":"A"},{"$f":"IF(Attendance($C19,'Daily Register'!KK$3:KK$242)=TRUE,\"P\",\"A\")","v":"A"},{"$f":"IF(Attendance($C19,'Daily Register'!KL$3:KL$242)=TRUE,\"P\",\"A\")","v":"A"},{"$f":"IF(Attendance($C19,'Daily Register'!KM$3:KM$242)=TRUE,\"P\",\"A\")","v":"A"},{"$f":"IF(Attendance($C19,'Daily Register'!KN$3:KN$242)=TRUE,\"P\",\"A\")","v":"A"},{"$f":"IF(Attendance($C19,'Daily Register'!KO$3:KO$242)=TRUE,\"P\",\"A\")","v":"A"},{"$f":"IF(Attendance($C19,'Daily Register'!KP$3:KP$242)=TRUE,\"P\",\"A\")","v":"A"},{"$f":"IF(Attendance($C19,'Daily Register'!KQ$3:KQ$242)=TRUE,\"P\",\"A\")","v":"A"},{"$f":"IF(Attendance($C19,'Daily Register'!KR$3:KR$242)=TRUE,\"P\",\"A\")","v":"A"},{"$f":"IF(Attendance($C19,'Daily Register'!KS$3:KS$242)=TRUE,\"P\",\"A\")","v":"A"},{"$f":"IF(Attendance($C19,'Daily Register'!KT$3:KT$242)=TRUE,\"P\",\"A\")","v":"A"},{"$f":"IF(Attendance($C19,'Daily Register'!KU$3:KU$242)=TRUE,\"P\",\"A\")","v":"A"},{"$f":"IF(Attendance($C19,'Daily Register'!KV$3:KV$242)=TRUE,\"P\",\"A\")","v":"A"},{"$f":"IF(Attendance($C19,'Daily Register'!KW$3:KW$242)=TRUE,\"P\",\"A\")","v":"A"},{"$f":"IF(Attendance($C19,'Daily Register'!KX$3:KX$242)=TRUE,\"P\",\"A\")","v":"A"},{"$f":"IF(Attendance($C19,'Daily Register'!KY$3:KY$242)=TRUE,\"P\",\"A\")","v":"A"},{"$f":"IF(Attendance($C19,'Daily Register'!KZ$3:KZ$242)=TRUE,\"P\",\"A\")","v":"A"},{"$f":"IF(Attendance($C19,'Daily Register'!LA$3:LA$242)=TRUE,\"P\",\"A\")","v":"A"},{"$f":"IF(Attendance($C19,'Daily Register'!LB$3:LB$242)=TRUE,\"P\",\"A\")","v":"A"},{"$f":"IF(Attendance($C19,'Daily Register'!LC$3:LC$242)=TRUE,\"P\",\"A\")","v":"A"},{"$f":"IF(Attendance($C19,'Daily Register'!LD$3:LD$242)=TRUE,\"P\",\"A\")","v":"A"},{"$f":"IF(Attendance($C19,'Daily Register'!LE$3:LE$242)=TRUE,\"P\",\"A\")","v":"A"},{"$f":"IF(Attendance($C19,'Daily Register'!LF$3:LF$242)=TRUE,\"P\",\"A\")","v":"A"},{"$f":"IF(Attendance($C19,'Daily Register'!LG$3:LG$242)=TRUE,\"P\",\"A\")","v":"A"},{"$f":"IF(Attendance($C19,'Daily Register'!LH$3:LH$242)=TRUE,\"P\",\"A\")","v":"A"},{"$f":"IF(Attendance($C19,'Daily Register'!LI$3:LI$242)=TRUE,\"P\",\"A\")","v":"A"},{"$f":"IF(Attendance($C19,'Daily Register'!LJ$3:LJ$242)=TRUE,\"P\",\"A\")","v":"A"},{"$f":"IF(Attendance($C19,'Daily Register'!LK$3:LK$242)=TRUE,\"P\",\"A\")","v":"A"},{"$f":"IF(Attendance($C19,'Daily Register'!LL$3:LL$242)=TRUE,\"P\",\"A\")","v":"A"},{"$f":"IF(Attendance($C19,'Daily Register'!LM$3:LM$242)=TRUE,\"P\",\"A\")","v":"A"},{"$f":"IF(Attendance($C19,'Daily Register'!LN$3:LN$242)=TRUE,\"P\",\"A\")","v":"A"},{"$f":"IF(Attendance($C19,'Daily Register'!LO$3:LO$242)=TRUE,\"P\",\"A\")","v":"A"},{"$f":"IF(Attendance($C19,'Daily Register'!LP$3:LP$242)=TRUE,\"P\",\"A\")","v":"A"},{"$f":"IF(Attendance($C19,'Daily Register'!LQ$3:LQ$242)=TRUE,\"P\",\"A\")","v":"A"},{"$f":"IF(Attendance($C19,'Daily Register'!LR$3:LR$242)=TRUE,\"P\",\"A\")","v":"A"},{"$f":"IF(Attendance($C19,'Daily Register'!LS$3:LS$242)=TRUE,\"P\",\"A\")","v":"A"},{"$f":"IF(Attendance($C19,'Daily Register'!LT$3:LT$242)=TRUE,\"P\",\"A\")","v":"A"},{"$f":"IF(Attendance($C19,'Daily Register'!LU$3:LU$242)=TRUE,\"P\",\"A\")","v":"A"},{"$f":"IF(Attendance($C19,'Daily Register'!LV$3:LV$242)=TRUE,\"P\",\"A\")","v":"A"},{"$f":"IF(Attendance($C19,'Daily Register'!LW$3:LW$242)=TRUE,\"P\",\"A\")","v":"A"},{"$f":"IF(Attendance($C19,'Daily Register'!LX$3:LX$242)=TRUE,\"P\",\"A\")","v":"A"},{"$f":"IF(Attendance($C19,'Daily Register'!LY$3:LY$242)=TRUE,\"P\",\"A\")","v":"A"},{"$f":"IF(Attendance($C19,'Daily Register'!LZ$3:LZ$242)=TRUE,\"P\",\"A\")","v":"A"},{"$f":"IF(Attendance($C19,'Daily Register'!MA$3:MA$242)=TRUE,\"P\",\"A\")","v":"A"},{"$f":"IF(Attendance($C19,'Daily Register'!MB$3:MB$242)=TRUE,\"P\",\"A\")","v":"A"},{"$f":"IF(Attendance($C19,'Daily Register'!MC$3:MC$242)=TRUE,\"P\",\"A\")","v":"A"},{"$f":"IF(Attendance($C19,'Daily Register'!MD$3:MD$242)=TRUE,\"P\",\"A\")","v":"A"},{"$f":"IF(Attendance($C19,'Daily Register'!ME$3:ME$242)=TRUE,\"P\",\"A\")","v":"A"},{"$f":"IF(Attendance($C19,'Daily Register'!MF$3:MF$242)=TRUE,\"P\",\"A\")","v":"A"},{"$f":"IF(Attendance($C19,'Daily Register'!MG$3:MG$242)=TRUE,\"P\",\"A\")","v":"A"},{"$f":"IF(Attendance($C19,'Daily Register'!MH$3:MH$242)=TRUE,\"P\",\"A\")","v":"A"},{"$f":"IF(Attendance($C19,'Daily Register'!MI$3:MI$242)=TRUE,\"P\",\"A\")","v":"A"},{"$f":"IF(Attendance($C19,'Daily Register'!MJ$3:MJ$242)=TRUE,\"P\",\"A\")","v":"A"},{"$f":"IF(Attendance($C19,'Daily Register'!MK$3:MK$242)=TRUE,\"P\",\"A\")","v":"A"},{"$f":"IF(Attendance($C19,'Daily Register'!ML$3:ML$242)=TRUE,\"P\",\"A\")","v":"A"},{"$f":"IF(Attendance($C19,'Daily Register'!MM$3:MM$242)=TRUE,\"P\",\"A\")","v":"A"},{"$f":"IF(Attendance($C19,'Daily Register'!MN$3:MN$242)=TRUE,\"P\",\"A\")","v":"A"},{"$f":"IF(Attendance($C19,'Daily Register'!MO$3:MO$242)=TRUE,\"P\",\"A\")","v":"A"},{"$f":"IF(Attendance($C19,'Daily Register'!MP$3:MP$242)=TRUE,\"P\",\"A\")","v":"A"},{"$f":"IF(Attendance($C19,'Daily Register'!MQ$3:MQ$242)=TRUE,\"P\",\"A\")","v":"A"},{"$f":"IF(Attendance($C19,'Daily Register'!MR$3:MR$242)=TRUE,\"P\",\"A\")","v":"A"},{"$f":"IF(Attendance($C19,'Daily Register'!MS$3:MS$242)=TRUE,\"P\",\"A\")","v":"A"},{"$f":"IF(Attendance($C19,'Daily Register'!MT$3:MT$242)=TRUE,\"P\",\"A\")","v":"A"},{"$f":"IF(Attendance($C19,'Daily Register'!MU$3:MU$242)=TRUE,\"P\",\"A\")","v":"A"},{"$f":"IF(Attendance($C19,'Daily Register'!MV$3:MV$242)=TRUE,\"P\",\"A\")","v":"A"},{"$f":"IF(Attendance($C19,'Daily Register'!MW$3:MW$242)=TRUE,\"P\",\"A\")","v":"A"},{"$f":"IF(Attendance($C19,'Daily Register'!MX$3:MX$242)=TRUE,\"P\",\"A\")","v":"A"},{"$f":"IF(Attendance($C19,'Daily Register'!MY$3:MY$242)=TRUE,\"P\",\"A\")","v":"A"},{"$f":"IF(Attendance($C19,'Daily Register'!MZ$3:MZ$242)=TRUE,\"P\",\"A\")","v":"A"},{"$f":"IF(Attendance($C19,'Daily Register'!NA$3:NA$242)=TRUE,\"P\",\"A\")","v":"A"},{"$f":"IF(Attendance($C19,'Daily Register'!NB$3:NB$242)=TRUE,\"P\",\"A\")","v":"A"}]
[0,null,17,null,{"$f":"IF(Attendance($C20,'Daily Register'!A$3:A$242)=TRUE,\"P\",\"A\")","v":"A"},{"$f":"IF(Attendance($C20,'Daily Register'!B$3:B$242)=TRUE,\"P\",\"A\")","v":"A"},{"$f":"IF(Attendance($C20,'Daily Register'!C$3:C$242)=TRUE,\"P\",\"A\")","v":"A"},{"$f":"IF(Attendance($C20,'Daily Register'!D$3:D$242)=TRUE,\"P\",\"A\")","v":"A"},{"$f":"IF(Attendance($C20,'Daily Register'!E$3:E$242)=TRUE,\"P\",\"A\")","v":"A"},{"$f":"IF(Attendance($C20,'Daily Register'!F$3:F$242)=TRUE,\"P\",\"A\")","v":"A"},{"$f":"IF(Attendance($C20,'Daily Register'!G$3:G$242)=TRUE,\"P\",\"A\")","v":"A"},{"$f":"IF(Attendance($C20,'Daily Register'!H$3:H$242)=TRUE,\"P\",\"A\")","v":"A"},{"$f":"IF(Attendance($C20,'Daily Register'!I$3:I$242)=TRUE,\"P\",\"A\")","v":"A"},{"$f":"IF(Attendance($C20,'Daily Register'!J$3:J$242)=TRUE,\"P\",\"A\")","v":"A"},{"$f":"IF(Attendance($C20,'Daily Register'!K$3:K$242)=TRUE,\"P\",\"A\")","v":"A"},{"$f":"IF(Attendance($C20,'Daily Register'!L$3:L$242)=TRUE,\"P\",\"A\")","v":"A"},{"$f":"IF(Attendance($C20,'Daily Register'!M$3:M$242)=TRUE,\"P\",\"A\")","v":"A"},{"$f":"IF(Attendance($C20,'Daily Register'!N$3:N$242)=TRUE,\"P\",\"A\")","v":"A"},{"$f":"IF(Attendance($C20,'Daily Register'!O$3:O$242)=TRUE,\"P\",\"A\")","v":"A"},{"$f":"IF(Attendance($C20,'Daily Register'!P$3:P$242)=TRUE,\"P\",\"A\")","v":"A"},{"$f":"IF(Attendance($C20,'Daily Register'!Q$3:Q$242)=TRUE,\"P\",\"A\")","v":"A"},{"$f":"IF(Attendance($C20,'Daily Register'!R$3:R$242)=TRUE,\"P\",\"A\")","v":"A"},{"$f":"IF(Attendance($C20,'Daily Register'!S$3:S$242)=TRUE,\"P\",\"A\")","v":"A"},{"$f":"IF(Attendance($C20,'Daily Register'!T$3:T$242)=TRUE,\"P\",\"A\")","v":"A"},{"$f":"IF(Attendance($C20,'Daily Register'!U$3:U$242)=TRUE,\"P\",\"A\")","v":"A"},{"$f":"IF(Attendance($C20,'Daily Register'!V$3:V$242)=TRUE,\"P\",\"A\")","v":"A"},{"$f":"IF(Attendance($C20,'Daily Register'!W$3:W$242)=TRUE,\"P\",\"A\")","v":"A"},{"$f":"IF(Attendance($C20,'Daily Register'!X$3:X$242)=TRUE,\"P\",\"A\")","v":"A"},{"$f":"IF(Attendance($C20,'Daily Register'!Y$3:Y$242)=TRUE,\"P\",\"A\")","v":"A"},{"$f":"IF(Attendance($C20,'Daily Register'!Z$3:Z$242)=TRUE,\"P\",\"A\")","v":"A"},{"$f":"IF(Attendance($C20,'Daily Register'!AA$3:AA$242)=TRUE,\"P\",\"A\")","v":"A"},{"$f":"IF(Attendance($C20,'Daily Register'!AB$3:AB$242)=TRUE,\"P\",\"A\")","v":"A"},{"$f":"IF(Attendance($C20,'Daily Register'!AC$3:AC$242)=TRUE,\"P\",\"A\")","v":"A"},{"$f":"IF(Attendance($C20,'Daily Register'!AD$3:AD$242)=TRUE,\"P\",\"A\")","v":"A"},{"$f":"IF(Attendance($C20,'Daily Register'!AE$3:AE$242)=TRUE,\"P\",\"A\")","v":"A"},{"$f":"IF(Attendance($C20,'Daily Register'!AF$3:AF$242)=TRUE,\"P\",\"A\")","v":"A"},{"$f":"IF(Attendance($C20,'Daily Register'!AG$3:AG$242)=TRUE,\"P\",\"A\")","v":"A"},{"$f":"IF(Attendance($C20,'Daily Register'!AH$3:AH$242)=TRUE,\"P\",\"A\")","v":"A"},{"$f":"IF(Attendance($C20,'Daily Register'!AI$3:AI$242)=TRUE,\"P\",\"A\")","v":"A"},{"$f":"IF(Attendance($C20,'Daily Register'!AJ$3:AJ$242)=TRUE,\"P\",\"A\")","v":"A"},{"$f":"IF(Attendance($C20,'Daily Register'!AK$3:AK$242)=TRUE,\"P\",\"A\")","v":"A"},{"$f":"IF(Attendance($C20,'Daily Register'!AL$3:AL$242)=TRUE,\"P\",\"A\")","v":"A"},{"$f":"IF(Attendance($C20,'Daily Register'!AM$3:AM$242)=TRUE,\"P\",\"A\")","v":"A"},{"$f":"IF(Attendance($C20,'Daily Register'!AN$3:AN$242)=TRUE,\"P\",\"A\")","v":"A"},{"$f":"IF(Attendance($C20,'Daily Register'!AO$3:AO$242)=TRUE,\"P\",\"A\")","v":"A"},{"$f":"IF(Attendance($C20,'Daily Register'!AP$3:AP$242)=TRUE,\"P\",\"A\")","v":"A"},{"$f":"IF(Attendance($C20,'Daily Register'!AQ$3:AQ$242)=TRUE,\"P\",\"A\")","v":"A"},{"$f":"IF(Attendance($C20,'Daily Register'!AR$3:AR$242)=TRUE,\"P\",\"A\")","v":"A"},{"$f":"IF(Attendance($C20,'Daily Register'!AS$3:AS$242)=TRUE,\"P\",\"A\")","v":"A"},{"$f":"IF(Attendance($C20,'Daily Register'!AT$3:AT$242)=TRUE,\"P\",\"A\")","v":"A"},{"$f":"IF(Attendance($C20,'Daily Register'!AU$3:AU$242)=TRUE,\"P\",\"A\")","v":"A"},{"$f":"IF(Attendance($C20,'Daily Register'!AV$3:AV$242)=TRUE,\"P\",\"A\")","v":"A"},{"$f":"IF(Attendance($C20,'Daily Register'!AW$3:AW$242)=TRUE,\"P\",\"A\")","v":"A"},{"$f":"IF(Attendance($C20,'Daily Register'!AX$3:AX$242)=TRUE,\"P\",\"A\")","v":"A"},{"$f":"IF(Attendance($C20,'Daily Register'!AY$3:AY$242)=TRUE,\"P\",\"A\")","v":"A"},{"$f":"IF(Attendance($C20,'Daily Register'!AZ$3:AZ$242)=TRUE,\"P\",\"A\")","v":"A"},{"$f":"IF(Attendance($C20,'Daily Register'!BA$3:BA$242)=TRUE,\"P\",\"A\")","v":"A"},{"$f":"IF(Attendance($C20,'Daily Register'!BB$3:BB$242)=TRUE,\"P\",\"A\")","v":"A"},{"$f":"IF(Attendance($C20,'Daily Register'!BC$3:BC$242)=TRUE,\"P\",\"A\")","v":"A"},{"$f":"IF(Attendance($C20,'Daily Register'!BD$3:BD$242)=TRUE,\"P\",\"A\")","v":"A"},{"$f":"IF(Attendance($C20,'Daily Register'!BE$3:BE$242)=TRUE,\"P\",\"A\")","v":"A"},{"$f":"IF(Attendance($C20,'Daily Register'!BF$3:BF$242)=TRUE,\"P\",\"A\")","v":"A"},{"$f":"IF(Attendance($C20,'Daily Register'!BG$3:BG$242)=TRUE,\"P\",\"A\")","v":"A"},{"$f":"IF(Attendance($C20,'Daily Register'!BH$3:BH$242)=TRUE,\"P\",\"A\")","v":"A"},{"$f":"IF(Attendance($C20,'Daily Register'!BI$3:BI$242)=TRUE,\"P\",\"A\")","v":"A"},{"$f":"IF(Attendance($C20,'Daily Register'!BJ$3:BJ$242)=TRUE,\"P\",\"A\")","v":"A"},{"$f":"IF(Attendance($C20,'Daily Register'!BK$3:BK$242)=TRUE,\"P\",\"A\")","v":"A"},{"$f":"IF(Attendance($C20,'Daily Register'!BL$3:BL$242)=TRUE,\"P\",\"A\")","v":"A"},{"$f":"IF(Attendance($C20,'Daily Register'!BM$3:BM$242)=TRUE,\"P\",\"A\")","v":"A"},{"$f":"IF(Attendance($C20,'Daily Register'!BN$3:BN$242)=TRUE,\"P\",\"A\")","v":"A"},{"$f":"IF(Attendance($C20,'Daily Register'!BO$3:BO$242)=TRUE,\"P\",\"A\")","v":"A"},{"$f":"IF(Attendance($C20,'Daily Register'!BP$3:BP$242)=TRUE,\"P\",\"A\")","v":"A"},{"$f":"IF(Attendance($C20,'Daily Register'!BQ$3:BQ$242)=TRUE,\"P\",\"A\")","v":"A"},{"$f":"IF(Attendance($C20,'Daily Register'!BR$3:BR$242)=TRUE,\"P\",\"A\")","v":"A"},{"$f":"IF(Attendance($C20,'Daily Register'!BS$3:BS$242)=TRUE,\"P\",\"A\")","v":"A"},{"$f":"IF(Attendance($C20,'Daily Register'!BT$3:BT$242)=TRUE,\"P\",\"A\")","v":"A"},{"$f":"IF(Attendance($C20,'Daily Register'!BU$3:BU$242)=TRUE,\"P\",\"A\")","v":"A"},{"$f":"IF(Attendance($C20,'Daily Register'!BV$3:BV$242)=TRUE,\"P\",\"A\")","v":"A"},{"$f":"IF(Attendance($C20,'Daily Register'!BW$3:BW$242)=TRUE,\"P\",\"A\")","v":"A"},{"$f":"IF(Attendance($C20,'Daily Register'!BX$3:BX$242)=TRUE,\"P\",\"A\")","v":"A"},{"$f":"IF(Attendance($C20,'Daily Register'!BY$3:BY$242)=TRUE,\"P\",\"A\")","v":"A"},{"$f":"IF(Attendance($C20,'Daily Register'!BZ$3:BZ$242)=TRUE,\"P\",\"A\")","v":"A"},{"$f":"IF(Attendance($C20,'Daily Register'!CA$3:CA$242)=TRUE,\"P\",\"A\")","v":"A"},{"$f":"IF(Attendance($C20,'Daily Register'!CB$3:CB$242)=TRUE,\"P\",\"A\")","v":"A"},{"$f":"IF(Attendance($C20,'Daily Register'!CC$3:CC$242)=TRUE,\"P\",\"A\")","v":"A"},{"$f":"IF(Attendance($C20,'Daily Register'!CD$3:CD$242)=TRUE,\"P\",\"A\")","v":"A"},{"$f":"IF(Attendance($C20,'Daily Register'!CE$3:CE$242)=TRUE,\"P\",\"A\")","v":"A"},{"$f":"IF(Attendance($C20,'Daily Register'!CF$3:CF$242)=TRUE,\"P\",\"A\")","v":"A"},{"$f":"IF(Attendance($C20,'Daily Register'!CG$3:CG$242)=TRUE,\"P\",\"A\")","v":"A"},{"$f":"IF(Attendance($C20,'Daily Register'!CH$3:CH$242)=TRUE,\"P\",\"A\")","v":"A"},{"$f":"IF(Attendance($C20,'Daily Register'!CI$3:CI$242)=TRUE,\"P\",\"A\")","v":"A"},{"$f":"IF(Attendance($C20,'Daily Register'!CJ$3:CJ$242)=TRUE,\"P\",\"A\")","v":"A"},{"$f":"IF(Attendance($C20,'Daily Register'!CK$3:CK$242)=TRUE,\"P\",\"A\")","v":"A"},{"$f":"IF(Attendance($C20,'Daily Register'!CL$3:CL$242)=TRUE,\"P\",\"A\")","v":"A"},{"$f":"IF(Attendance($C20,'Daily Register'!CM$3:CM$242)=TRUE,\"P\",\"A\")","v":"A"},{"$f":"IF(Attendance($C20,'Daily Register'!CN$3:CN$242)=TRUE,\"P\",\"A\")","v":"A"},{"$f":"IF(Attendance($C20,'Daily Register'!CO$3:CO$242)=TRUE,\"P\",\"A\")","v":"A"},{"$f":"IF(Attendance($C20,'Daily Register'!CP$3:CP$242)=TRUE,\"P\",\"A\")","v":"A"},{"$f":"IF(Attendance($C20,'Daily Register'!CQ$3:CQ$242)=TRUE,\"P\",\"A\")","v":"A"},{"$f":"IF(Attendance($C20,'Daily Register'!CR$3:CR$242)=TRUE,\"P\",\"A\")","v":"A"},{"$f":"IF(Attendance($C20,'Daily Register'!CS$3:CS$242)=TRUE,\"P\",\"A\")","v":"A"},{"$f":"IF(Attendance($C20,'Daily Register'!CT$3:CT$242)=TRUE,\"P\",\"A\")","v":"A"},{"$f":"IF(Attendance($C20,'Daily Register'!CU$3:CU$242)=TRUE,\"P\",\"A\")","v":"A"},{"$f":"IF(Attendance($C20,'Daily Register'!CV$3:CV$242)=TRUE,\"P\",\"A\")","v":"A"},{"$f":"IF(Attendance($C20,'Daily Register'!CW$3:CW$242)=TRUE,\"P\",\"A\")","v":"A"},{"$f":"IF(Attendance($C20,'Daily Register'!CX$3:CX$242)=TRUE,\"P\",\"A\")","v":"A"},{"$f":"IF(Attendance($C20,'Daily Register'!CY$3:CY$242)=TRUE,\"P\",\"A\")","v":"A"},{"$f":"IF(Attendance($C20,'Daily Register'!CZ$3:CZ$242)=TRUE,\"P\",\"A\")","v":"A"},{"$f":"IF(Attendance($C20,'Daily Register'!DA$3:DA$242)=TRUE,\"P\",\"A\")","v":"A"},{"$f":"IF(Attendance($C20,'Daily Register'!DB$3:DB$242)=TRUE,\"P\",\"A\")","v":"A"},{"$f":"IF(Attendance($C20,'Daily Register'!DC$3:DC$242)=TRUE,\"P\",\"A\")","v":"A"},{"$f":"IF(Attendance($C20,'Daily Register'!DD$3:DD$242)=TRUE,\"P\",\"A\")","v":"A"},{"$f":"IF(Attendance($C20,'Daily Register'!DE$3:DE$242)=TRUE,\"P\",\"A\")","v":"A"},{"$f":"IF(Attendance($C20,'Daily Register'!DF$3:DF$242)=TRUE,\"P\",\"A\")","v":"A"},{"$f":"IF(Attendance($C20,'Daily Register'!DG$3:DG$242)=TRUE,\"P\",\"A\")","v":"A"},{"$f":"IF(Attendance($C20,'Daily Register'!DH$3:DH$242)=TRUE,\"P\",\"A\")","v":"A"},{"$f":"IF(Attendance($C20,'Daily Register'!DI$3:DI$242)=TRUE,\"P\",\"A\")","v":"A"},{"$f":"IF(Attendance($C20,'Daily Register'!DJ$3:DJ$242)=TRUE,\"P\",\"A\")","v":"A"},{"$f":"IF(Attendance($C20,'Daily Register'!DK$3:DK$242)=TRUE,\"P\",\"A\")","v":"A"},{"$f":"IF(Attendance($C20,'Daily Register'!DL$3:DL$242)=TRUE,\"P\",\"A\")","v":"A"},{"$f":"IF(Attendance($C20,'Daily Register'!DM$3:DM$242)=TRUE,\"P\",\"A\")","v":"A"},{"$f":"IF(Attendance($C20,'Daily Register'!DN$3:DN$242)=TRUE,\"P\",\"A\")","v":"A"},{"$f":"IF(Attendance($C20,'Daily Register'!DO$3:DO$242)=TRUE,\"P\",\"A\")","v":"A"},{"$f":"IF(Attendance($C20,'Daily Register'!DP$3:DP$242)=TRUE,\"P\",\"A\")","v":"A"},{"$f":"IF(Attendance($C20,'Daily Register'!DQ$3:DQ$242)=TRUE,\"P\",\"A\")","v":"A"},{"$f":"IF(Attendance($C20,'Daily Register'!DR$3:DR$242)=TRUE,\"P\",\"A\")","v":"A"},{"$f":"IF(Attendance($C20,'Daily Register'!DS$3:DS$242)=TRUE,\"P\",\"A\")","v":"A"},{"$f":"IF(Attendance($C20,'Daily Register'!DT$3:DT$242)=TRUE,\"P\",\"A\")","v":"A"},{"$f":"IF(Attendance($C20,'Daily Register'!DU$3:DU$242)=TRUE,\"P\",\"A\")","v":"A"},{"$f":"IF(Attendance($C20,'Daily Register'!DV$3:DV$242)=TRUE,\"P\",\"A\")","v":"A"},{"$f":"IF(Attendance($C20,'Daily Register'!DW$3:DW$242)=TRUE,\"P\",\"A\")","v":"A"},{"$f":"IF(Attendance($C20,'Daily Register'!DX$3:DX$242)=TRUE,\"P\",\"A\")","v":"A"},{"$f":"IF(Attendance($C20,'Daily Register'!DY$3:DY$242)=TRUE,\"P\",\"A\")","v":"A"},{"$f":"IF(Attendance($C20,'Daily Register'!DZ$3:DZ$242)=TRUE,\"P\",\"A\")","v":"A"},{"$f":"IF(Attendance($C20,'Daily Register'!EA$3:EA$242)=TRUE,\"P\",\"A\")","v":"A"},{"$f":"IF(Attendance($C20,'Daily Register'!EB$3:EB$242)=TRUE,\"P\",\"A\")","v":"A"},{"$f":"IF(Attendance($C20,'Daily Register'!EC$3:EC$242)=TRUE,\"P\",\"A\")","v":"A"},{"$f":"IF(Attendance($C20,'Daily Register'!ED$3:ED$242)=TRUE,\"P\",\"A\")","v":"A"},{"$f":"IF(Attendance($C20,'Daily Register'!EE$3:EE$242)=TRUE,\"P\",\"A\")","v":"A"},{"$f":"IF(Attendance($C20,'Daily Register'!EF$3:EF$242)=TRUE,\"P\",\"A\")","v":"A"},{"$f":"IF(Attendance($C20,'Daily Register'!EG$3:EG$242)=TRUE,\"P\",\"A\")","v":"A"},{"$f":"IF(Attendance($C20,'Daily Register'!EH$3:EH$242)=TRUE,\"P\",\"A\")","v":"A"},{"$f":"IF(Attendance($C20,'Daily Register'!EI$3:EI$242)=TRUE,\"P\",\"A\")","v":"A"},{"$f":"IF(Attendance($C20,'Daily Register'!EJ$3:EJ$242)=TRUE,\"P\",\"A\")","v":"A"},{"$f":"IF(Attendance($C20,'Daily Register'!EK$3:EK$242)=TRUE,\"P\",\"A\")","v":"A"},{"$f":"IF(Attendance($C20,'Daily Register'!EL$3:EL$242)=TRUE,\"P\",\"A\")","v":"A"},{"$f":"IF(Attendance($C20,'Daily Register'!EM$22:EM$242)=TRUE,\"P\",\"A\")","v":"A"},{"$f":"IF(Attendance($C20,'Daily Register'!EN$3:EN$242)=TRUE,\"P\",\"A\")","v":"A"},{"$f":"IF(Attendance($C20,'Daily Register'!EO$3:EO$242)=TRUE,\"P\",\"A\")","v":"A"},{"$f":"IF(Attendance($C20,'Daily Register'!EP$3:EP$242)=TRUE,\"P\",\"A\")","v":"A"},{"$f":"IF(Attendance($C20,'Daily Register'!EQ$3:EQ$242)=TRUE,\"P\",\"A\")","v":"A"},{"$f":"IF(Attendance($C20,'Daily Register'!ER$3:ER$242)=TRUE,\"P\",\"A\")","v":"A"},{"$f":"IF(Attendance($C20,'Daily Register'!ES$3:ES$242)=TRUE,\"P\",\"A\")","v":"A"},{"$f":"IF(Attendance($C20,'Daily Register'!ET$3:ET$242)=TRUE,\"P\",\"A\")","v":"A"},{"$f":"IF(Attendance($C20,'Daily Register'!EU$3:EU$242)=TRUE,\"P\",\"A\")","v":"A"},{"$f":"IF(Attendance($C20,'Daily Register'!EV$3:EV$242)=TRUE,\"P\",\"A\")","v":"A"},{"$f":"IF(Attendance($C20,'Daily Register'!EW$3:EW$242)=TRUE,\"P\",\"A\")","v":"A"},{"$f":"IF(Attendance($C20,'Daily Register'!EX$3:EX$242)=TRUE,\"P\",\"A\")","v":"A"},{"$f":"IF(Attendance($C20,'Daily Register'!EY$3:EY$242)=TRUE,\"P\",\"A\")","v":"A"},{"$f":"IF(Attendance($C20,'Daily Register'!EZ$3:EZ$242)=TRUE,\"P\",\"A\")","v":"A"},{"$f":"IF(Attendance($C20,'Daily Register'!FA$3:FA$242)=TRUE,\"P\",\"A\")","v":"A"},{"$f":"IF(Attendance($C20,'Daily Register'!FB$3:FB$242)=TRUE,\"P\",\"A\")","v":"A"},{"$f":"IF(Attendance($C20,'Daily Register'!FC$3:FC$242)=TRUE,\"P\",\"A\")","v":"A"},{"$f":"IF(Attendance($C20,'Daily Register'!FD$3:FD$242)=TRUE,\"P\",\"A\")","v":"A"},{"$f":"IF(Attendance($C20,'Daily Register'!FE$3:FE$242)=TRUE,\"P\",\"A\")","v":"A"},{"$f":"IF(Attendance($C20,'Daily Register'!FF$3:FF$242)=TRUE,\"P\",\"A\")","v":"A"},{"$f":"IF(Attendance($C20,'Daily Register'!FG$3:FG$242)=TRUE,\"P\",\"A\")","v":"A"},{"$f":"IF(Attendance($C20,'Daily Register'!FH$3:FH$242)=TRUE,\"P\",\"A\")","v":"A"},{"$f":"IF(Attendance($C20,'Daily Register'!FI$3:FI$242)=TRUE,\"P\",\"A\")","v":"A"},{"$f":"IF(Attendance($C20,'Daily Register'!FJ$3:FJ$242)=TRUE,\"P\",\"A\")","v":"A"},{"$f":"IF(Attendance($C20,'Daily Register'!FK$3:FK$242)=TRUE,\"P\",\"A\")","v":"A"},{"$f":"IF(Attendance($C20,'Daily Register'!FL$3:FL$242)=TRUE,\"P\",\"A\")","v":"A"},{"$f":"IF(Attendance($C20,'Daily Register'!FM$3:FM$242)=TRUE,\"P\",\"A\")","v":"A"},{"$f":"IF(Attendance($C20,'Daily Register'!FN$3:FN$242)=TRUE,\"P\",\"A\")","v":"A"},{"$f":"IF(Attendance($C20,'Daily Register'!FO$3:FO$242)=TRUE,\"P\",\"A\")","v":"A"},{"$f":"IF(Attendance($C20,'Daily Register'!FP$3:FP$242)=TRUE,\"P\",\"A\")","v":"A"},{"$f":"IF(Attendance($C20,'Daily Register'!FQ$3:FQ$242)=TRUE,\"P\",\"A\")","v":"A"},{"$f":"IF(Attendance($C20,'Daily Register'!FR$3:FR$242)=TRUE,\"P\",\"A\")","v":"A"},{"$f":"IF(Attendance($C20,'Daily Register'!FS$3:FS$242)=TRUE,\"P\",\"A\")","v":"A"},{"$f":"IF(Attendance($C20,'Daily Register'!FT$3:FT$242)=TRUE,\"P\",\"A\")","v":"A"},{"$f":"IF(Attendance($C20,'Daily Register'!FU$3:FU$242)=TRUE,\"P\",\"A\")","v":"A"},{"$f":"IF(Attendance($C20,'Daily Register'!FV$3:FV$242)=TRUE,\"P\",\"A\")","v":"A"},{"$f":"IF(Attendance($C20,'Daily Register'!FW$3:FW$242)=TRUE,\"P\",\"A\")","v":"A"},{"$f":"IF(Attendance($C20,'Daily Register'!FX$3:FX$242)=TRUE,\"P\",\"A\")","v":"A"},{"$f":"IF(Attendance($C20,'Daily Register'!FY$3:FY$242)=TRUE,\"P\",\"A\")","v":"A"},{"$f":"IF(Attendance($C20,'Daily Register'!FZ$3:FZ$242)=TRUE,\"P\",\"A\")","v":"A"},{"$f":"IF(Attendance($C20,'Daily Register'!GA$3:GA$242)=TRUE,\"P\",\"A\")","v":"A"},{"$f":"IF(Attendance($C20,'Daily Register'!GB$3:GB$242)=TRUE,\"P\",\"A\")","v":"A"},{"$f":"IF(Attendance($C20,'Daily Register'!GC$3:GC$242)=TRUE,\"P\",\"A\")","v":"A"},{"$f":"IF(Attendance($C20,'Daily Register'!GD$3:GD$242)=TRUE,\"P\",\"A\")","v":"A"},{"$f":"IF(Attendance($C20,'Daily Register'!GE$3:GE$242)=TRUE,\"P\",\"A\")","v":"A"},{"$f":"IF(Attendance($C20,'Daily Register'!GF$3:GF$242)=TRUE,\"P\",\"A\")","v":"A"},{"$f":"IF(Attendance($C20,'Daily Register'!GG$3:GG$242)=TRUE,\"P\",\"A\")","v":"A"},{"$f":"IF(Attendance($C20,'Daily Register'!GH$3:GH$242)=TRUE,\"P\",\"A\")","v":"A"},{"$f":"IF(Attendance($C20,'Daily Register'!GI$3:GI$242)=TRUE,\"P\",\"A\")","v":"A"},{"$f":"IF(Attendance($C20,'Daily Register'!GJ$3:GJ$242)=TRUE,\"P\",\"A\")","v":"A"},{"$f":"IF(Attendance($C20,'Daily Register'!GK$3:GK$242)=TRUE,\"P\",\"A\")","v":"A"},{"$f":"IF(Attendance($C20,'Daily Register'!GL$3:GL$242)=TRUE,\"P\",\"A\")","v":"A"},{"$f":"IF(Attendance($C20,'Daily Register'!GM$3:GM$242)=TRUE,\"P\",\"A\")","v":"A"},{"$f":"IF(Attendance($C20,'Daily Register'!GN$3:GN$242)=TRUE,\"P\",\"A\")","v":"A"},{"$f":"IF(Attendance($C20,'Daily Register'!GO$3:GO$242)=TRUE,\"P\",\"A\")","v":"A"},{"$f":"IF(Attendance($C20,'Daily Register'!GP$3:GP$242)=TRUE,\"P\",\"A\")","v":"A"},{"$f":"IF(Attendance($C20,'Daily Register'!GQ$3:GQ$242)=TRUE,\"P\",\"A\")","v":"A"},{"$f":"IF(Attendance($C20,'Daily Register'!GR$3:GR$242)=TRUE,\"P\",\"A\")","v":"A"},{"$f":"IF(Attendance($C20,'Daily Register'!GS$3:GS$242)=TRUE,\"P\",\"A\")","v":"A"},{"$f":"IF(Attendance($C20,'Daily Register'!GT$3:GT$242)=TRUE,\"P\",\"A\")","v":"A"},{"$f":"IF(Attendance($C20,'Daily Register'!GU$3:GU$242)=TRUE,\"P\",\"A\")","v":"A"},{"$f":"IF(Attendance($C20,'Daily Register'!GV$3:GV$242)=TRUE,\"P\",\"A\")","v":"A"},{"$f":"IF(Attendance($C20,'Daily Register'!GW$3:GW$242)=TRUE,\"P\",\"A\")","v":"A"},{"$f":"IF(Attendance($C20,'Daily Register'!GX$3:GX$242)=TRUE,\"P\",\"A\")","v":"A"},{"$f":"IF(Attendance($C20,'Daily Register'!GY$3:GY$242)=TRUE,\"P\",\"A\")","v":"A"},{"$f":"IF(Attendance($C20,'Daily Register'!GZ$3:GZ$242)=TRUE,\"P\",\"A\")","v":"A"},{"$f":"IF(Attendance($C20,'Daily Register'!HA$3:HA$242)=TRUE,\"P\",\"A\")","v":"A"},{"$f":"IF(Attendance($C20,'Daily Register'!HB$3:HB$242)=TRUE,\"P\",\"A\")","v":"A"},{"$f":"IF(Attendance($C20,'Daily Register'!HC$3:HC$242)=TRUE,\"P\",\"A\")","v":"A"},{"$f":"IF(Attendance($C20,'Daily Register'!HD$3:HD$242)=TRUE,\"P\",\"A\")","v":"A"},{"$f":"IF(Attendance($C20,'Daily Register'!HE$3:HE$242)=TRUE,\"P\",\"A\")","v":"A"},{"$f":"IF(Attendance($C20,'Daily Register'!HF$3:HF$242)=TRUE,\"P\",\"A\")","v":"A"},{"$f":"IF(Attendance($C20,'Daily Register'!HG$3:HG$242)=TRUE,\"P\",\"A\")","v":"A"},{"$f":"IF(Attendance($C20,'Daily Register'!HH$3:HH$242)=TRUE,\"P\",\"A\")","v":"A"},{"$f":"IF(Attendance($C20,'Daily Register'!HI$3:HI$242)=TRUE,\"P\",\"A\")","v":"A"},{"$f":"IF(Attendance($C20,'Daily Register'!HJ$3:HJ$242)=TRUE,\"P\",\"A\")","v":"A"},{"$f":"IF(Attendance($C20,'Daily Register'!HK$3:HK$242)=TRUE,\"P\",\"A\")","v":"A"},{"$f":"IF(Attendance($C20,'Daily Register'!HL$3:HL$242)=TRUE,\"P\",\"A\")","v":"A"},{"$f":"IF(Attendance($C20,'Daily Register'!HM$3:HM$242)=TRUE,\"P\",\"A\")","v":"A"},{"$f":"IF(Attendance($C20,'Daily Register'!HN$3:HN$242)=TRUE,\"P\",\"A\")","v":"A"},{"$f":"IF(Attendance($C20,'Daily Register'!HO$3:HO$242)=TRUE,\"P\",\"A\")","v":"A"},{"$f":"IF(Attendance($C20,'Daily Register'!HP$3:HP$242)=TRUE,\"P\",\"A\")","v":"A"},{"$f":"IF(Attendance($C20,'Daily Register'!HQ$3:HQ$242)=TRUE,\"P\",\"A\")","v":"A"},{"$f":"IF(Attendance($C20,'Daily Register'!HR$3:HR$242)=TRUE,\"P\",\"A\")","v":"A"},{"$f":"IF(Attendance($C20,'Daily Register'!HS$3:HS$242)=TRUE,\"P\",\"A\")","v":"A"},{"$f":"IF(Attendance($C20,'Daily Register'!HT$3:HT$242)=TRUE,\"P\",\"A\")","v":"A"},{"$f":"IF(Attendance($C20,'Daily Register'!HU$3:HU$242)=TRUE,\"P\",\"A\")","v":"A"},{"$f":"IF(Attendance($C20,'Daily Register'!HV$3:HV$242)=TRUE,\"P\",\"A\")","v":"A"},{"$f":"IF(Attendance($C20,'Daily Register'!HW$3:HW$242)=TRUE,\"P\",\"A\")","v":"A"},{"$f":"IF(Attendance($C20,'Daily Register'!HX$3:HX$242)=TRUE,\"P\",\"A\")","v":"A"},{"$f":"IF(Attendance($C20,'Daily Register'!HY$3:HY$242)=TRUE,\"P\",\"A\")","v":"A"},{"$f":"IF(Attendance($C20,'Daily Register'!HZ$3:HZ$242)=TRUE,\"P\",\"A\")","v":"A"},{"$f":"IF(Attendance($C20,'Daily Register'!IA$3:IA$242)=TRUE,\"P\",\"A\")","v":"A"},{"$f":"IF(Attendance($C20,'Daily Register'!IB$3:IB$242)=TRUE,\"P\",\"A\")","v":"A"},{"$f":"IF(Attendance($C20,'Daily Register'!IC$3:IC$242)=TRUE,\"P\",\"A\")","v":"A"},{"$f":"IF(Attendance($C20,'Daily Register'!ID$3:ID$242)=TRUE,\"P\",\"A\")","v":"A"},{"$f":"IF(Attendance($C20,'Daily Register'!IE$3:IE$242)=TRUE,\"P\",\"A\")","v":"A"},{"$f":"IF(Attendance($C20,'Daily Register'!IF$3:IF$242)=TRUE,\"P\",\"A\")","v":"A"},{"$f":"IF(Attendance($C20,'Daily Register'!IG$3:IG$242)=TRUE,\"P\",\"A\")","v":"A"},{"$f":"IF(Attendance($C20,'Daily Register'!IH$3:IH$242)=TRUE,\"P\",\"A\")","v":"A"},{"$f":"IF(Attendance($C20,'Daily Register'!II$3:II$242)=TRUE,\"P\",\"A\")","v":"A"},{"$f":"IF(Attendance($C20,'Daily Register'!IJ$3:IJ$242)=TRUE,\"P\",\"A\")","v":"A"},{"$f":"IF(Attendance($C20,'Daily Register'!IK$3:IK$242)=TRUE,\"P\",\"A\")","v":"A"},{"$f":"IF(Attendance($C20,'Daily Register'!IL$3:IL$242)=TRUE,\"P\",\"A\")","v":"A"},{"$f":"IF(Attendance($C20,'Daily Register'!IM$3:IM$242)=TRUE,\"P\",\"A\")","v":"A"},{"$f":"IF(Attendance($C20,'Daily Register'!IN$3:IN$242)=TRUE,\"P\",\"A\")","v":"A"},{"$f":"IF(Attendance($C20,'Daily Register'!IO$3:IO$242)=TRUE,\"P\",\"A\")","v":"A"},{"$f":"IF(Attendance($C20,'Daily Register'!IP$3:IP$242)=TRUE,\"P\",\"A\")","v":"A"},{"$f":"IF(Attendance($C20,'Daily Register'!IQ$3:IQ$242)=TRUE,\"P\",\"A\")","v":"A"},{"$f":"IF(Attendance($C20,'Daily Register'!IR$3:IR$242)=TRUE,\"P\",\"A\")","v":"A"},{"$f":"IF(Attendance($C20,'Daily Register'!IS$3:IS$242)=TRUE,\"P\",\"A\")","v":"A"},{"$f":"IF(Attendance($C20,'Daily Register'!IT$3:IT$242)=TRUE,\"P\",\"A\")","v":"A"},{"$f":"IF(Attendance($C20,'Daily Register'!IU$3:IU$242)=TRUE,\"P\",\"A\")","v":"A"},{"$f":"IF(Attendance($C20,'Daily Register'!IV$3:IV$242)=TRUE,\"P\",\"A\")","v":"A"},{"$f":"IF(Attendance($C20,'Daily Register'!IW$3:IW$242)=TRUE,\"P\",\"A\")","v":"A"},{"$f":"IF(Attendance($C20,'Daily Register'!IX$3:IX$242)=TRUE,\"P\",\"A\")","v":"A"},{"$f":"IF(Attendance($C20,'Daily Register'!IY$3:IY$242)=TRUE,\"P\",\"A\")","v":"A"},{"$f":"IF(Attendance($C20,'Daily Register'!IZ$3:IZ$242)=TRUE,\"P\",\"A\")","v":"A"},{"$f":"IF(Attendance($C20,'Daily Register'!JA$3:JA$242)=TRUE,\"P\",\"A\")","v":"A"},{"$f":"IF(Attendance($C20,'Daily Register'!JB$3:JB$242)=TRUE,\"P\",\"A\")","v":"A"},{"$f":"IF(Attendance($C20,'Daily Register'!JC$3:JC$242)=TRUE,\"P\",\"A\")","v":"A"},{"$f":"IF(Attendance($C20,'Daily Register'!JD$3:JD$242)=TRUE,\"P\",\"A\")","v":"A"},{"$f":"IF(Attendance($C20,'Daily Register'!JE$3:JE$242)=TRUE,\"P\",\"A\")","v":"A"},{"$f":"IF(Attendance($C20,'Daily Register'!JF$3:JF$242)=TRUE,\"P\",\"A\")","v":"A"},{"$f":"IF(Attendance($C20,'Daily Register'!JG$3:JG$242)=TRUE,\"P\",\"A\")","v":"A"},{"$f":"IF(Attendance($C20,'Daily Register'!JH$3:JH$242)=TRUE,\"P\",\"A\")","v":"A"},{"$f":"IF(Attendance($C20,'Daily Register'!JI$3:JI$242)=TRUE,\"P\",\"A\")","v":"A"},{"$f":"IF(Attendance($C20,'Daily Register'!JJ$3:JJ$242)=TRUE,\"P\",\"A\")","v":"A"},{"$f":"IF(Attendance($C20,'Daily Register'!JK$3:JK$242)=TRUE,\"P\",\"A\")","v":"A"},{"$f":"IF(Attendance($C20,'Daily Register'!JL$3:JL$242)=TRUE,\"P\",\"A\")","v":"A"},{"$f":"IF(Attendance($C20,'Daily Register'!JM$3:JM$242)=TRUE,\"P\",\"A\")","v":"A"},{"$f":"IF(Attendance($C20,'Daily Register'!JN$3:JN$242)=TRUE,\"P\",\"A\")","v":"A"},{"$f":"IF(Attendance($C20,'Daily Register'!JO$3:JO$242)=TRUE,\"P\",\"A\")","v":"A"},{"$f":"IF(Attendance($C20,'Daily Register'!JP$3:JP$242)=TRUE,\"P\",\"A\")","v":"A"},{"$f":"IF(Attendance($C20,'Daily Register'!JQ$3:JQ$242)=TRUE,\"P\",\"A\")","v":"A"},{"$f":"IF(Attendance($C20,'Daily Register'!JR$3:JR$242)=TRUE,\"P\",\"A\")","v":"A"},{"$f":"IF(Attendance($C20,'Daily Register'!JS$3:JS$242)=TRUE,\"P\",\"A\")","v":"A"},{"$f":"IF(Attendance($C20,'Daily Register'!JT$3:JT$242)=TRUE,\"P\",\"A\")","v":"A"},{"$f":"IF(Attendance($C20,'Daily Register'!JU$3:JU$242)=TRUE,\"P\",\"A\")","v":"A"},{"$f":"IF(Attendance($C20,'Daily Register'!JV$3:JV$242)=TRUE,\"P\",\"A\")","v":"A"},{"$f":"IF(Attendance($C20,'Daily Register'!JW$3:JW$242)=TRUE,\"P\",\"A\")","v":"A"},{"$f":"IF(Attendance($C20,'Daily Register'!JX$3:JX$242)=TRUE,\"P\",\"A\")","v":"A"},{"$f":"IF(Attendance($C20,'Daily Register'!JY$3:JY$242)=TRUE,\"P\",\"A\")","v":"A"},{"$f":"IF(Attendance($C20,'Daily Register'!JZ$3:JZ$242)=TRUE,\"P\",\"A\")","v":"A"},{"$f":"IF(Attendance($C20,'Daily Register'!KA$3:KA$242)=TRUE,\"P\",\"A\")","v":"A"},{"$f":"IF(Attendance($C20,'Daily Register'!KB$3:KB$242)=TRUE,\"P\",\"A\")","v":"A"},{"$f":"IF(Attendance($C20,'Daily Register'!KC$3:KC$242)=TRUE,\"P\",\"A\")","v":"A"},{"$f":"IF(Attendance($C20,'Daily Register'!KD$3:KD$242)=TRUE,\"P\",\"A\")","v":"A"},{"$f":"IF(Attendance($C20,'Daily Register'!KE$3:KE$242)=TRUE,\"P\",\"A\")","v":"A"},{"$f":"IF(Attendance($C20,'Daily Register'!KF$3:KF$242)=TRUE,\"P\",\"A\")","v":"A"},{"$f":"IF(Attendance($C20,'Daily Register'!KG$3:KG$242)=TRUE,\"P\",\"A\")","v":"A"},{"$f":"IF(Attendance($C20,'Daily Register'!KH$3:KH$242)=TRUE,\"P\",\"A\")","v":"A"},{"$f":"IF(Attendance($C20,'Daily Register'!KI$3:KI$242)=TRUE,\"P\",\"A\")","v":"A"},{"$f":"IF(Attendance($C20,'Daily Register'!KJ$3:KJ$242)=TRUE,\"P\",\"A\")","v":"A"},{"$f":"IF(Attendance($C20,'Daily Register'!KK$3:KK$242)=TRUE,\"P\",\"A\")","v":"A"},{"$f":"IF(Attendance($C20,'Daily Register'!KL$3:KL$242)=TRUE,\"P\",\"A\")","v":"A"},{"$f":"IF(Attendance($C20,'Daily Register'!KM$3:KM$242)=TRUE,\"P\",\"A\")","v":"A"},{"$f":"IF(Attendance($C20,'Daily Register'!KN$3:KN$242)=TRUE,\"P\",\"A\")","v":"A"},{"$f":"IF(Attendance($C20,'Daily Register'!KO$3:KO$242)=TRUE,\"P\",\"A\")","v":"A"},{"$f":"IF(Attendance($C20,'Daily Register'!KP$3:KP$242)=TRUE,\"P\",\"A\")","v":"A"},{"$f":"IF(Attendance($C20,'Daily Register'!KQ$3:KQ$242)=TRUE,\"P\",\"A\")","v":"A"},{"$f":"IF(Attendance($C20,'Daily Register'!KR$3:KR$242)=TRUE,\"P\",\"A\")","v":"A"},{"$f":"IF(Attendance($C20,'Daily Register'!KS$3:KS$242)=TRUE,\"P\",\"A\")","v":"A"},{"$f":"IF(Attendance($C20,'Daily Register'!KT$3:KT$242)=TRUE,\"P\",\"A\")","v":"A"},{"$f":"IF(Attendance($C20,'Daily Register'!KU$3:KU$242)=TRUE,\"P\",\"A\")","v":"A"},{"$f":"IF(Attendance($C20,'Daily Register'!KV$3:KV$242)=TRUE,\"P\",\"A\")","v":"A"},{"$f":"IF(Attendance($C20,'Daily Register'!KW$3:KW$242)=TRUE,\"P\",\"A\")","v":"A"},{"$f":"IF(Attendance($C20,'Daily Register'!KX$3:KX$242)=TRUE,\"P\",\"A\")","v":"A"},{"$f":"IF(Attendance($C20,'Daily Register'!KY$3:KY$242)=TRUE,\"P\",\"A\")","v":"A"},{"$f":"IF(Attendance($C20,'Daily Register'!KZ$3:KZ$242)=TRUE,\"P\",\"A\")","v":"A"},{"$f":"IF(Attendance($C20,'Daily Register'!LA$3:LA$242)=TRUE,\"P\",\"A\")","v":"A"},{"$f":"IF(Attendance($C20,'Daily Register'!LB$3:LB$242)=TRUE,\"P\",\"A\")","v":"A"},{"$f":"IF(Attendance($C20,'Daily Register'!LC$3:LC$242)=TRUE,\"P\",\"A\")","v":"A"},{"$f":"IF(Attendance($C20,'Daily Register'!LD$3:LD$242)=TRUE,\"P\",\"A\")","v":"A"},{"$f":"IF(Attendance($C20,'Daily Register'!LE$3:LE$242)=TRUE,\"P\",\"A\")","v":"A"},{"$f":"IF(Attendance($C20,'Daily Register'!LF$3:LF$242)=TRUE,\"P\",\"A\")","v":"A"},{"$f":"IF(Attendance($C20,'Daily Register'!LG$3:LG$242)=TRUE,\"P\",\"A\")","v":"A"},{"$f":"IF(Attendance($C20,'Daily Register'!LH$3:LH$242)=TRUE,\"P\",\"A\")","v":"A"},{"$f":"IF(Attendance($C20,'Daily Register'!LI$3:LI$242)=TRUE,\"P\",\"A\")","v":"A"},{"$f":"IF(Attendance($C20,'Daily Register'!LJ$3:LJ$242)=TRUE,\"P\",\"A\")","v":"A"},{"$f":"IF(Attendance($C20,'Daily Register'!LK$3:LK$242)=TRUE,\"P\",\"A\")","v":"A"},{"$f":"IF(Attendance($C20,'Daily Register'!LL$3:LL$242)=TRUE,\"P\",\"A\")","v":"A"},{"$f":"IF(Attendance($C20,'Daily Register'!LM$3:LM$242)=TRUE,\"P\",\"A\")","v":"A"},{"$f":"IF(Attendance($C20,'Daily Register'!LN$3:LN$242)=TRUE,\"P\",\"A\")","v":"A"},{"$f":"IF(Attendance($C20,'Daily Register'!LO$3:LO$242)=TRUE,\"P\",\"A\")","v":"A"},{"$f":"IF(Attendance($C20,'Daily Register'!LP$3:LP$242)=TRUE,\"P\",\"A\")","v":"A"},{"$f":"IF(Attendance($C20,'Daily Register'!LQ$3:LQ$242)=TRUE,\"P\",\"A\")","v":"A"},{"$f":"IF(Attendance($C20,'Daily Register'!LR$3:LR$242)=TRUE,\"P\",\"A\")","v":"A"},{"$f":"IF(Attendance($C20,'Daily Register'!LS$3:LS$242)=TRUE,\"P\",\"A\")","v":"A"},{"$f":"IF(Attendance($C20,'Daily Register'!LT$3:LT$242)=TRUE,\"P\",\"A\")","v":"A"},{"$f":"IF(Attendance($C20,'Daily Register'!LU$3:LU$242)=TRUE,\"P\",\"A\")","v":"A"},{"$f":"IF(Attendance($C20,'Daily Register'!LV$3:LV$242)=TRUE,\"P\",\"A\")","v":"A"},{"$f":"IF(Attendance($C20,'Daily Register'!LW$3:LW$242)=TRUE,\"P\",\"A\")","v":"A"},{"$f":"IF(Attendance($C20,'Daily Register'!LX$3:LX$242)=TRUE,\"P\",\"A\")","v":"A"},{"$f":"IF(Attendance($C20,'Daily Register'!LY$3:LY$242)=TRUE,\"P\",\"A\")","v":"A"},{"$f":"IF(Attendance($C20,'Daily Register'!LZ$3:LZ$242)=TRUE,\"P\",\"A\")","v":"A"},{"$f":"IF(Attendance($C20,'Daily Register'!MA$3:MA$242)=TRUE,\"P\",\"A\")","v":"A"},{"$f":"IF(Attendance($C20,'Daily Register'!MB$3:MB$242)=TRUE,\"P\",\"A\")","v":"A"},{"$f":"IF(Attendance($C20,'Daily Register'!MC$3:MC$242)=TRUE,\"P\",\"A\")","v":"A"},{"$f":"IF(Attendance($C20,'Daily Register'!MD$3:MD$242)=TRUE,\"P\",\"A\")","v":"A"},{"$f":"IF(Attendance($C20,'Daily Register'!ME$3:ME$242)=TRUE,\"P\",\"A\")","v":"A"},{"$f":"IF(Attendance($C20,'Daily Register'!MF$3:MF$242)=TRUE,\"P\",\"A\")","v":"A"},{"$f":"IF(Attendance($C20,'Daily Register'!MG$3:MG$242)=TRUE,\"P\",\"A\")","v":"A"},{"$f":"IF(Attendance($C20,'Daily Register'!MH$3:MH$242)=TRUE,\"P\",\"A\")","v":"A"},{"$f":"IF(Attendance($C20,'Daily Register'!MI$3:MI$242)=TRUE,\"P\",\"A\")","v":"A"},{"$f":"IF(Attendance($C20,'Daily Register'!MJ$3:MJ$242)=TRUE,\"P\",\"A\")","v":"A"},{"$f":"IF(Attendance($C20,'Daily Register'!MK$3:MK$242)=TRUE,\"P\",\"A\")","v":"A"},{"$f":"IF(Attendance($C20,'Daily Register'!ML$3:ML$242)=TRUE,\"P\",\"A\")","v":"A"},{"$f":"IF(Attendance($C20,'Daily Register'!MM$3:MM$242)=TRUE,\"P\",\"A\")","v":"A"},{"$f":"IF(Attendance($C20,'Daily Register'!MN$3:MN$242)=TRUE,\"P\",\"A\")","v":"A"},{"$f":"IF(Attendance($C20,'Daily Register'!MO$3:MO$242)=TRUE,\"P\",\"A\")","v":"A"},{"$f":"IF(Attendance($C20,'Daily Register'!MP$3:MP$242)=TRUE,\"P\",\"A\")","v":"A"},{"$f":"IF(Attendance($C20,'Daily Register'!MQ$3:MQ$242)=TRUE,\"P\",\"A\")","v":"A"},{"$f":"IF(Attendance($C20,'Daily Register'!MR$3:MR$242)=TRUE,\"P\",\"A\")","v":"A"},{"$f":"IF(Attendance($C20,'Daily Register'!MS$3:MS$242)=TRUE,\"P\",\"A\")","v":"A"},{"$f":"IF(Attendance($C20,'Daily Register'!MT$3:MT$242)=TRUE,\"P\",\"A\")","v":"A"},{"$f":"IF(Attendance($C20,'Daily Register'!MU$3:MU$242)=TRUE,\"P\",\"A\")","v":"A"},{"$f":"IF(Attendance($C20,'Daily Register'!MV$3:MV$242)=TRUE,\"P\",\"A\")","v":"A"},{"$f":"IF(Attendance($C20,'Daily Register'!MW$3:MW$242)=TRUE,\"P\",\"A\")","v":"A"},{"$f":"IF(Attendance($C20,'Daily Register'!MX$3:MX$242)=TRUE,\"P\",\"A\")","v":"A"},{"$f":"IF(Attendance($C20,'Daily Register'!MY$3:MY$242)=TRUE,\"P\",\"A\")","v":"A"},{"$f":"IF(Attendance($C20,'Daily Register'!MZ$3:MZ$242)=TRUE,\"P\",\"A\")","v":"A"},{"$f":"IF(Attendance($C20,'Daily Register'!NA$3:NA$242)=TRUE,\"P\",\"A\")","v":"A"},{"$f":"IF(Attendance($C20,'Daily Register'!NB$3:NB$242)=TRUE,\"P\",\"A\")","v":"A"}]
[0,null,18,null,{"$f":"IF(Attendance($C21,'Daily Register'!A$3:A$242)=TRUE,\"P\",\"A\")","v":"A"},{"$f":"IF(Attendance($C21,'Daily Register'!B$3:B$242)=TRUE,\"P\",\"A\")","v":"A"},{"$f":"IF(Attendance($C21,'Daily Register'!C$3:C$242)=TRUE,\"P\",\"A\")","v":"A"},{"$f":"IF(Attendance($C21,'Daily Register'!D$3:D$242)=TRUE,\"P\",\"A\")","v":"A"},{"$f":"IF(Attendance($C21,'Daily Register'!E$3:E$242)=TRUE,\"P\",\"A\")","v":"A"},{"$f":"IF(Attendance($C21,'Daily Register'!F$3:F$242)=TRUE,\"P\",\"A\")","v":"A"},{"$f":"IF(Attendance($C21,'Daily Register'!G$3:G$242)=TRUE,\"P\",\"A\")","v":"A"},{"$f":"IF(Attendance($C21,'Daily Register'!H$3:H$242)=TRUE,\"P\",\"A\")","v":"A"},{"$f":"IF(Attendance($C21,'Daily Register'!I$3:I$242)=TRUE,\"P\",\"A\")","v":"A"},{"$f":"IF(Attendance($C21,'Daily Register'!J$3:J$242)=TRUE,\"P\",\"A\")","v":"A"},{"$f":"IF(Attendance($C21,'Daily Register'!K$3:K$242)=TRUE,\"P\",\"A\")","v":"A"},{"$f":"IF(Attendance($C21,'Daily Register'!L$3:L$242)=TRUE,\"P\",\"A\")","v":"A"},{"$f":"IF(Attendance($C21,'Daily Register'!M$3:M$242)=TRUE,\"P\",\"A\")","v":"A"},{"$f":"IF(Attendance($C21,'Daily Register'!N$3:N$242)=TRUE,\"P\",\"A\")","v":"A"},{"$f":"IF(Attendance($C21,'Daily Register'!O$3:O$242)=TRUE,\"P\",\"A\")","v":"A"},{"$f":"IF(Attendance($C21,'Daily Register'!P$3:P$242)=TRUE,\"P\",\"A\")","v":"A"},{"$f":"IF(Attendance($C21,'Daily Register'!Q$3:Q$242)=TRUE,\"P\",\"A\")","v":"A"},{"$f":"IF(Attendance($C21,'Daily Register'!R$3:R$242)=TRUE,\"P\",\"A\")","v":"A"},{"$f":"IF(Attendance($C21,'Daily Register'!S$3:S$242)=TRUE,\"P\",\"A\")","v":"A"},{"$f":"IF(Attendance($C21,'Daily Register'!T$3:T$242)=TRUE,\"P\",\"A\")","v":"A"},{"$f":"IF(Attendance($C21,'Daily Register'!U$3:U$242)=TRUE,\"P\",\"A\")","v":"A"},{"$f":"IF(Attendance($C21,'Daily Register'!V$3:V$242)=TRUE,\"P\",\"A\")","v":"A"},{"$f":"IF(Attendance($C21,'Daily Register'!W$3:W$242)=TRUE,\"P\",\"A\")","v":"A"},{"$f":"IF(Attendance($C21,'Daily Register'!X$3:X$242)=TRUE,\"P\",\"A\")","v":"A"},{"$f":"IF(Attendance($C21,'Daily Register'!Y$3:Y$242)=TRUE,\"P\",\"A\")","v":"A"},{"$f":"IF(Attendance($C21,'Daily Register'!Z$3:Z$242)=TRUE,\"P\",\"A\")","v":"A"},{"$f":"IF(Attendance($C21,'Daily Register'!AA$3:AA$242)=TRUE,\"P\",\"A\")","v":"A"},{"$f":"IF(Attendance($C21,'Daily Register'!AB$3:AB$242)=TRUE,\"P\",\"A\")","v":"A"},{"$f":"IF(Attendance($C21,'Daily Register'!AC$3:AC$242)=TRUE,\"P\",\"A\")","v":"A"},{"$f":"IF(Attendance($C21,'Daily Register'!AD$3:AD$242)=TRUE,\"P\",\"A\")","v":"A"},{"$f":"IF(Attendance($C21,'Daily Register'!AE$3:AE$242)=TRUE,\"P\",\"A\")","v":"A"},{"$f":"IF(Attendance($C21,'Daily Register'!AF$3:AF$242)=TRUE,\"P\",\"A\")","v":"A"},{"$f":"IF(Attendance($C21,'Daily Register'!AG$3:AG$242)=TRUE,\"P\",\"A\")","v":"A"},{"$f":"IF(Attendance($C21,'Daily Register'!AH$3:AH$242)=TRUE,\"P\",\"A\")","v":"A"},{"$f":"IF(Attendance($C21,'Daily Register'!AI$3:AI$242)=TRUE,\"P\",\"A\")","v":"A"},{"$f":"IF(Attendance($C21,'Daily Register'!AJ$3:AJ$242)=TRUE,\"P\",\"A\")","v":"A"},{"$f":"IF(Attendance($C21,'Daily Register'!AK$3:AK$242)=TRUE,\"P\",\"A\")","v":"A"},{"$f":"IF(Attendance($C21,'Daily Register'!AL$3:AL$242)=TRUE,\"P\",\"A\")","v":"A"},{"$f":"IF(Attendance($C21,'Daily Register'!AM$3:AM$242)=TRUE,\"P\",\"A\")","v":"A"},{"$f":"IF(Attendance($C21,'Daily Register'!AN$3:AN$242)=TRUE,\"P\",\"A\")","v":"A"},{"$f":"IF(Attendance($C21,'Daily Register'!AO$3:AO$242)=TRUE,\"P\",\"A\")","v":"A"},{"$f":"IF(Attendance($C21,'Daily Register'!AP$3:AP$242)=TRUE,\"P\",\"A\")","v":"A"},{"$f":"IF(Attendance($C21,'Daily Register'!AQ$3:AQ$242)=TRUE,\"P\",\"A\")","v":"A"},{"$f":"IF(Attendance($C21,'Daily Register'!AR$3:AR$242)=TRUE,\"P\",\"A\")","v":"A"},{"$f":"IF(Attendance($C21,'Daily Register'!AS$3:AS$242)=TRUE,\"P\",\"A\")","v":"A"},{"$f":"IF(Attendance($C21,'Daily Register'!AT$3:AT$242)=TRUE,\"P\",\"A\")","v":"A"},{"$f":"IF(Attendance($C21,'Daily Register'!AU$3:AU$242)=TRUE,\"P\",\"A\")","v":"A"},{"$f":"IF(Attendance($C21,'Daily Register'!AV$3:AV$242)=TRUE,\"P\",\"A\")","v":"A"},{"$f":"IF(Attendance($C21,'Daily Register'!AW$3:AW$242)=TRUE,\"P\",\"A\")","v":"A"},{"$f":"IF(Attendance($C21,'Daily Register'!AX$3:AX$242)=TRUE,\"P\",\"A\")","v":"A"},{"$f":"IF(Attendance($C21,'Daily Register'!AY$3:AY$242)=TRUE,\"P\",\"A\")","v":"A"},{"$f":"IF(Attendance($C21,'Daily Register'!AZ$3:AZ$242)=TRUE,\"P\",\"A\")","v":"A"},{"$f":"IF(Attendance($C21,'Daily Register'!BA$3:BA$242)=TRUE,\"P\",\"A\")","v":"A"},{"$f":"IF(Attendance($C21,'Daily Register'!BB$3:BB$242)=TRUE,\"P\",\"A\")","v":"A"},{"$f":"IF(Attendance($C21,'Daily Register'!BC$3:BC$242)=TRUE,\"P\",\"A\")","v":"A"},{"$f":"IF(Attendance($C21,'Daily Register'!BD$3:BD$242)=TRUE,\"P\",\"A\")","v":"A"},{"$f":"IF(Attendance($C21,'Daily Register'!BE$3:BE$242)=TRUE,\"P\",\"A\")","v":"A"},{"$f":"IF(Attendance($C21,'Daily Register'!BF$3:BF$242)=TRUE,\"P\",\"A\")","v":"A"},{"$f":"IF(Attendance($C21,'Daily Register'!BG$3:BG$242)=TRUE,\"P\",\"A\")","v":"A"},{"$f":"IF(Attendance($C21,'Daily Register'!BH$3:BH$242)=TRUE,\"P\",\"A\")","v":"A"},{"$f":"IF(Attendance($C21,'Daily Register'!BI$3:BI$242)=TRUE,\"P\",\"A\")","v":"A"},{"$f":"IF(Attendance($C21,'Daily Register'!BJ$3:BJ$242)=TRUE,\"P\",\"A\")","v":"A"},{"$f":"IF(Attendance($C21,'Daily Register'!BK$3:BK$242)=TRUE,\"P\",\"A\")","v":"A"},{"$f":"IF(Attendance($C21,'Daily Register'!BL$3:BL$242)=TRUE,\"P\",\"A\")","v":"A"},{"$f":"IF(Attendance($C21,'Daily Register'!BM$3:BM$242)=TRUE,\"P\",\"A\")","v":"A"},{"$f":"IF(Attendance($C21,'Daily Register'!BN$3:BN$242)=TRUE,\"P\",\"A\")","v":"A"},{"$f":"IF(Attendance($C21,'Daily Register'!BO$3:BO$242)=TRUE,\"P\",\"A\")","v":"A"},{"$f":"IF(Attendance($C21,'Daily Register'!BP$3:BP$242)=TRUE,\"P\",\"A\")","v":"A"},{"$f":"IF(Attendance($C21,'Daily Register'!BQ$3:BQ$242)=TRUE,\"P\",\"A\")","v":"A"},{"$f":"IF(Attendance($C21,'Daily Register'!BR$3:BR$242)=TRUE,\"P\",\"A\")","v":"A"},{"$f":"IF(Attendance($C21,'Daily Register'!BS$3:BS$242)=TRUE,\"P\",\"A\")","v":"A"},{"$f":"IF(Attendance($C21,'Daily Register'!BT$3:BT$242)=TRUE,\"P\",\"A\")","v":"A"},{"$f":"IF(Attendance($C21,'Daily Register'!BU$3:BU$242)=TRUE,\"P\",\"A\")","v":"A"},{"$f":"IF(Attendance($C21,'Daily Register'!BV$3:BV$242)=TRUE,\"P\",\"A\")","v":"A"},{"$f":"IF(Attendance($C21,'Daily Register'!BW$3:BW$242)=TRUE,\"P\",\"A\")","v":"A"},{"$f":"IF(Attendance($C21,'Daily Register'!BX$3:BX$242)=TRUE,\"P\",\"A\")","v":"A"},{"$f":"IF(Attendance($C21,'Daily Register'!BY$3:BY$242)=TRUE,\"P\",\"A\")","v":"A"},{"$f":"IF(Attendance($C21,'Daily Register'!BZ$3:BZ$242)=TRUE,\"P\",\"A\")","v":"A"},{"$f":"IF(Attendance($C21,'Daily Register'!CA$3:CA$242)=TRUE,\"P\",\"A\")","v":"A"},{"$f":"IF(Attendance($C21,'Daily Register'!CB$3:CB$242)=TRUE,\"P\",\"A\")","v":"A"},{"$f":"IF(Attendance($C21,'Daily Register'!CC$3:CC$242)=TRUE,\"P\",\"A\")","v":"A"},{"$f":"IF(Attendance($C21,'Daily Register'!CD$3:CD$242)=TRUE,\"P\",\"A\")","v":"A"},{"$f":"IF(Attendance($C21,'Daily Register'!CE$3:CE$242)=TRUE,\"P\",\"A\")","v":"A"},{"$f":"IF(Attendance($C21,'Daily Register'!CF$3:CF$242)=TRUE,\"P\",\"A\")","v":"A"},{"$f":"IF(Attendance($C21,'Daily Register'!CG$3:CG$242)=TRUE,\"P\",\"A\")","v":"A"},{"$f":"IF(Attendance($C21,'Daily Register'!CH$3:CH$242)=TRUE,\"P\",\"A\")","v":"A"},{"$f":"IF(Attendance($C21,'Daily Register'!CI$3:CI$242)=TRUE,\"P\",\"A\")","v":"A"},{"$f":"IF(Attendance($C21,'Daily Register'!CJ$3:CJ$242)=TRUE,\"P\",\"A\")","v":"A"},{"$f":"IF(Attendance($C21,'Daily Register'!CK$3:CK$242)=TRUE,\"P\",\"A\")","v":"A"},{"$f":"IF(Attendance($C21,'Daily Register'!CL$3:CL$242)=TRUE,\"P\",\"A\")","v":"A"},{"$f":"IF(Attendance($C21,'Daily Register'!CM$3:CM$242)=TRUE,\"P\",\"A\")","v":"A"},{"$f":"IF(Attendance($C21,'Daily Register'!CN$3:CN$242)=TRUE,\"P\",\"A\")","v":"A"},{"$f":"IF(Attendance($C21,'Daily Register'!CO$3:CO$242)=TRUE,\"P\",\"A\")","v":"A"},{"$f":"IF(Attendance($C21,'Daily Register'!CP$3:CP$242)=TRUE,\"P\",\"A\")","v":"A"},{"$f":"IF(Attendance($C21,'Daily Register'!CQ$3:CQ$242)=TRUE,\"P\",\"A\")","v":"A"},{"$f":"IF(Attendance($C21,'Daily Register'!CR$3:CR$242)=TRUE,\"P\",\"A\")","v":"A"},{"$f":"IF(Attendance($C21,'Daily Register'!CS$3:CS$242)=TRUE,\"P\",\"A\")","v":"A"},{"$f":"IF(Attendance($C21,'Daily Register'!CT$3:CT$242)=TRUE,\"P\",\"A\")","v":"A"},{"$f":"IF(Attendance($C21,'Daily Register'!CU$3:CU$242)=TRUE,\"P\",\"A\")","v":"A"},{"$f":"IF(Attendance($C21,'Daily Register'!CV$3:CV$242)=TRUE,\"P\",\"A\")","v":"A"},{"$f":"IF(Attendance($C21,'Daily Register'!CW$3:CW$242)=TRUE,\"P\",\"A\")","v":"A"},{"$f":"IF(Attendance($C21,'Daily Register'!CX$3:CX$242)=TRUE,\"P\",\"A\")","v":"A"},{"$f":"IF(Attendance($C21,'Daily Register'!CY$3:CY$242)=TRUE,\"P\",\"A\")","v":"A"},{"$f":"IF(Attendance($C21,'Daily Register'!CZ$3:CZ$242)=TRUE,\"P\",\"A\")","v":"A"},{"$f":"IF(Attendance($C21,'Daily Register'!DA$3:DA$242)=TRUE,\"P\",\"A\")","v":"A"},{"$f":"IF(Attendance($C21,'Daily Register'!DB$3:DB$242)=TRUE,\"P\",\"A\")","v":"A"},{"$f":"IF(Attendance($C21,'Daily Register'!DC$3:DC$242)=TRUE,\"P\",\"A\")","v":"A"},{"$f":"IF(Attendance($C21,'Daily Register'!DD$3:DD$242)=TRUE,\"P\",\"A\")","v":"A"},{"$f":"IF(Attendance($C21,'Daily Register'!DE$3:DE$242)=TRUE,\"P\",\"A\")","v":"A"},{"$f":"IF(Attendance($C21,'Daily Register'!DF$3:DF$242)=TRUE,\"P\",\"A\")","v":"A"},{"$f":"IF(Attendance($C21,'Daily Register'!DG$3:DG$242)=TRUE,\"P\",\"A\")","v":"A"},{"$f":"IF(Attendance($C21,'Daily Register'!DH$3:DH$242)=TRUE,\"P\",\"A\")","v":"A"},{"$f":"IF(Attendance($C21,'Daily Register'!DI$3:DI$242)=TRUE,\"P\",\"A\")","v":"A"},{"$f":"IF(Attendance($C21,'Daily Register'!DJ$3:DJ$242)=TRUE,\"P\",\"A\")","v":"A"},{"$f":"IF(Attendance($C21,'Daily Register'!DK$3:DK$242)=TRUE,\"P\",\"A\")","v":"A"},{"$f":"IF(Attendance($C21,'Daily Register'!DL$3:DL$242)=TRUE,\"P\",\"A\")","v":"A"},{"$f":"IF(Attendance($C21,'Daily Register'!DM$3:DM$242)=TRUE,\"P\",\"A\")","v":"A"},{"$f":"IF(Attendance($C21,'Daily Register'!DN$3:DN$242)=TRUE,\"P\",\"A\")","v":"A"},{"$f":"IF(Attendance($C21,'Daily Register'!DO$3:DO$242)=TRUE,\"P\",\"A\")","v":"A"},{"$f":"IF(Attendance($C21,'Daily Register'!DP$3:DP$242)=TRUE,\"P\",\"A\")","v":"A"},{"$f":"IF(Attendance($C21,'Daily Register'!DQ$3:DQ$242)=TRUE,\"P\",\"A\")","v":"A"},{"$f":"IF(Attendance($C21,'Daily Register'!DR$3:DR$242)=TRUE,\"P\",\"A\")","v":"A"},{"$f":"IF(Attendance($C21,'Daily Register'!DS$3:DS$242)=TRUE,\"P\",\"A\")","v":"A"},{"$f":"IF(Attendance($C21,'Daily Register'!DT$3:DT$242)=TRUE,\"P\",\"A\")","v":"A"},{"$f":"IF(Attendance($C21,'Daily Register'!DU$3:DU$242)=TRUE,\"P\",\"A\")","v":"A"},{"$f":"IF(Attendance($C21,'Daily Register'!DV$3:DV$242)=TRUE,\"P\",\"A\")","v":"A"},{"$f":"IF(Attendance($C21,'Daily Register'!DW$3:DW$242)=TRUE,\"P\",\"A\")","v":"A"},{"$f":"IF(Attendance($C21,'Daily Register'!DX$3:DX$242)=TRUE,\"P\",\"A\")","v":"A"},{"$f":"IF(Attendance($C21,'Daily Register'!DY$3:DY$242)=TRUE,\"P\",\"A\")","v":"A"},{"$f":"IF(Attendance($C21,'Daily Register'!DZ$3:DZ$242)=TRUE,\"P\",\"A\")","v":"A"},{"$f":"IF(Attendance($C21,'Daily Register'!EA$3:EA$242)=TRUE,\"P\",\"A\")","v":"A"},{"$f":"IF(Attendance($C21,'Daily Register'!EB$3:EB$242)=TRUE,\"P\",\"A\")","v":"A"},{"$f":"IF(Attendance($C21,'Daily Register'!EC$3:EC$242)=TRUE,\"P\",\"A\")","v":"A"},{"$f":"IF(Attendance($C21,'Daily Register'!ED$3:ED$242)=TRUE,\"P\",\"A\")","v":"A"},{"$f":"IF(Attendance($C21,'Daily Register'!EE$3:EE$242)=TRUE,\"P\",\"A\")","v":"A"},{"$f":"IF(Attendance($C21,'Daily Register'!EF$3:EF$242)=TRUE,\"P\",\"A\")","v":"A"},{"$f":"IF(Attendance($C21,'Daily Register'!EG$3:EG$242)=TRUE,\"P\",\"A\")","v":"A"},{"$f":"IF(Attendance($C21,'Daily Register'!EH$3:EH$242)=TRUE,\"P\",\"A\")","v":"A"},{"$f":"IF(Attendance($C21,'Daily Register'!EI$3:EI$242)=TRUE,\"P\",\"A\")","v":"A"},{"$f":"IF(Attendance($C21,'Daily Register'!EJ$3:EJ$242)=TRUE,\"P\",\"A\")","v":"A"},{"$f":"IF(Attendance($C21,'Daily Register'!EK$3:EK$242)=TRUE,\"P\",\"A\")","v":"A"},{"$f":"IF(Attendance($C21,'Daily Register'!EL$3:EL$242)=TRUE,\"P\",\"A\")","v":"A"},{"$f":"IF(Attendance($C21,'Daily Register'!EM$22:EM$242)=TRUE,\"P\",\"A\")","v":"A"},{"$f":"IF(Attendance($C21,'Daily Register'!EN$3:EN$242)=TRUE,\"P\",\"A\")","v":"A"},{"$f":"IF(Attendance($C21,'Daily Register'!EO$3:EO$242)=TRUE,\"P\",\"A\")","v":"A"},{"$f":"IF(Attendance($C21,'Daily Register'!EP$3:EP$242)=TRUE,\"P\",\"A\")","v":"A"},{"$f":"IF(Attendance($C21,'Daily Register'!EQ$3:EQ$242)=TRUE,\"P\",\"A\")","v":"A"},{"$f":"IF(Attendance($C21,'Daily Register'!ER$3:ER$242)=TRUE,\"P\",\"A\")","v":"A"},{"$f":"IF(Attendance($C21,'Daily Register'!ES$3:ES$242)=TRUE,\"P\",\"A\")","v":"A"},{"$f":"IF(Attendance($C21,'Daily Register'!ET$3:ET$242)=TRUE,\"P\",\"A\")","v":"A"},{"$f":"IF(Attendance($C21,'Daily Register'!EU$3:EU$242)=TRUE,\"P\",\"A\")","v":"A"},{"$f":"IF(Attendance($C21,'Daily Register'!EV$3:EV$242)=TRUE,\"P\",\"A\")","v":"A"},{"$f":"IF(Attendance($C21,'Daily Register'!EW$3:EW$242)=TRUE,\"P\",\"A\")","v":"A"},{"$f":"IF(Attendance($C21,'Daily Register'!EX$3:EX$242)=TRUE,\"P\",\"A\")","v":"A"},{"$f":"IF(Attendance($C21,'Daily Register'!EY$3:EY$242)=TRUE,\"P\",\"A\")","v":"A"},{"$f":"IF(Attendance($C21,'Daily Register'!EZ$3:EZ$242)=TRUE,\"P\",\"A\")","v":"A"},{"$f":"IF(Attendance($C21,'Daily Register'!FA$3:FA$242)=TRUE,\"P\",\"A\")","v":"A"},{"$f":"IF(Attendance($C21,'Daily Register'!FB$3:FB$242)=TRUE,\"P\",\"A\")","v":"A"},{"$f":"IF(Attendance($C21,'Daily Register'!FC$3:FC$242)=TRUE,\"P\",\"A\")","v":"A"},{"$f":"IF(Attendance($C21,'Daily Register'!FD$3:FD$242)=TRUE,\"P\",\"A\")","v":"A"},{"$f":"IF(Attendance($C21,'Daily Register'!FE$3:FE$242)=TRUE,\"P\",\"A\")","v":"A"},{"$f":"IF(Attendance($C21,'Daily Register'!FF$3:FF$242)=TRUE,\"P\",\"A\")","v":"A"},{"$f":"IF(Attendance($C21,'Daily Register'!FG$3:FG$242)=TRUE,\"P\",\"A\")","v":"A"},{"$f":"IF(Attendance($C21,'Daily Register'!FH$3:FH$242)=TRUE,\"P\",\"A\")","v":"A"},{"$f":"IF(Attendance($C21,'Daily Register'!FI$3:FI$242)=TRUE,\"P\",\"A\")","v":"A"},{"$f":"IF(Attendance($C21,'Daily Register'!FJ$3:FJ$242)=TRUE,\"P\",\"A\")","v":"A"},{"$f":"IF(Attendance($C21,'Daily Register'!FK$3:FK$242)=TRUE,\"P\",\"A\")","v":"A"},{"$f":"IF(Attendance($C21,'Daily Register'!FL$3:FL$242)=TRUE,\"P\",\"A\")","v":"A"},{"$f":"IF(Attendance($C21,'Daily Register'!FM$3:FM$242)=TRUE,\"P\",\"A\")","v":"A"},{"$f":"IF(Attendance($C21,'Daily Register'!FN$3:FN$242)=TRUE,\"P\",\"A\")","v":"A"},{"$f":"IF(Attendance($C21,'Daily Register'!FO$3:FO$242)=TRUE,\"P\",\"A\")","v":"A"},{"$f":"IF(Attendance($C21,'Daily Register'!FP$3:FP$242)=TRUE,\"P\",\"A\")","v":"A"},{"$f":"IF(Attendance($C21,'Daily Register'!FQ$3:FQ$242)=TRUE,\"P\",\"A\")","v":"A"},{"$f":"IF(Attendance($C21,'Daily Register'!FR$3:FR$242)=TRUE,\"P\",\"A\")","v":"A"},{"$f":"IF(Attendance($C21,'Daily Register'!FS$3:FS$242)=TRUE,\"P\",\"A\")","v":"A"},{"$f":"IF(Attendance($C21,'Daily Register'!FT$3:FT$242)=TRUE,\"P\",\"A\")","v":"A"},{"$f":"IF(Attendance($C21,'Daily Register'!FU$3:FU$242)=TRUE,\"P\",\"A\")","v":"A"},{"$f":"IF(Attendance($C21,'Daily Register'!FV$3:FV$242)=TRUE,\"P\",\"A\")","v":"A"},{"$f":"IF(Attendance($C21,'Daily Register'!FW$3:FW$242)=TRUE,\"P\",\"A\")","v":"A"},{"$f":"IF(Attendance($C21,'Daily Register'!FX$3:FX$242)=TRUE,\"P\",\"A\")","v":"A"},{"$f":"IF(Attendance($C21,'Daily Register'!FY$3:FY$242)=TRUE,\"P\",\"A\")","v":"A"},{"$f":"IF(Attendance($C21,'Daily Register'!FZ$3:FZ$242)=TRUE,\"P\",\"A\")","v":"A"},{"$f":"IF(Attendance($C21,'Daily Register'!GA$3:GA$242)=TRUE,\"P\",\"A\")","v":"A"},{"$f":"IF(Attendance($C21,'Daily Register'!GB$3:GB$242)=TRUE,\"P\",\"A\")","v":"A"},{"$f":"IF(Attendance($C21,'Daily Register'!GC$3:GC$242)=TRUE,\"P\",\"A\")","v":"A"},{"$f":"IF(Attendance($C21,'Daily Register'!GD$3:GD$242)=TRUE,\"P\",\"A\")","v":"A"},{"$f":"IF(Attendance($C21,'Daily Register'!GE$3:GE$242)=TRUE,\"P\",\"A\")","v":"A"},{"$f":"IF(Attendance($C21,'Daily Register'!GF$3:GF$242)=TRUE,\"P\",\"A\")","v":"A"},{"$f":"IF(Attendance($C21,'Daily Register'!GG$3:GG$242)=TRUE,\"P\",\"A\")","v":"A"},{"$f":"IF(Attendance($C21,'Daily Register'!GH$3:GH$242)=TRUE,\"P\",\"A\")","v":"A"},{"$f":"IF(Attendance($C21,'Daily Register'!GI$3:GI$242)=TRUE,\"P\",\"A\")","v":"A"},{"$f":"IF(Attendance($C21,'Daily Register'!GJ$3:GJ$242)=TRUE,\"P\",\"A\")","v":"A"},{"$f":"IF(Attendance($C21,'Daily Register'!GK$3:GK$242)=TRUE,\"P\",\"A\")","v":"A"},{"$f":"IF(Attendance($C21,'Daily Register'!GL$3:GL$242)=TRUE,\"P\",\"A\")","v":"A"},{"$f":"IF(Attendance($C21,'Daily Register'!GM$3:GM$242)=TRUE,\"P\",\"A\")","v":"A"},{"$f":"IF(Attendance($C21,'Daily Register'!GN$3:GN$242)=TRUE,\"P\",\"A\")","v":"A"},{"$f":"IF(Attendance($C21,'Daily Register'!GO$3:GO$242)=TRUE,\"P\",\"A\")","v":"A"},{"$f":"IF(Attendance($C21,'Daily Register'!GP$3:GP$242)=TRUE,\"P\",\"A\")","v":"A"},{"$f":"IF(Attendance($C21,'Daily Register'!GQ$3:GQ$242)=TRUE,\"P\",\"A\")","v":"A"},{"$f":"IF(Attendance($C21,'Daily Register'!GR$3:GR$242)=TRUE,\"P\",\"A\")","v":"A"},{"$f":"IF(Attendance($C21,'Daily Register'!GS$3:GS$242)=TRUE,\"P\",\"A\")","v":"A"},{"$f":"IF(Attendance($C21,'Daily Register'!GT$3:GT$242)=TRUE,\"P\",\"A\")","v":"A"},{"$f":"IF(Attendance($C21,'Daily Register'!GU$3:GU$242)=TRUE,\"P\",\"A\")","v":"A"},{"$f":"IF(Attendance($C21,'Daily Register'!GV$3:GV$242)=TRUE,\"P\",\"A\")","v":"A"},{"$f":"IF(Attendance($C21,'Daily Register'!GW$3:GW$242)=TRUE,\"P\",\"A\")","v":"A"},{"$f":"IF(Attendance($C21,'Daily Register'!GX$3:GX$242)=TRUE,\"P\",\"A\")","v":"A"},{"$f":"IF(Attendance($C21,'Daily Register'!GY$3:GY$242)=TRUE,\"P\",\"A\")","v":"A"},{"$f":"IF(Attendance($C21,'Daily Register'!GZ$3:GZ$242)=TRUE,\"P\",\"A\")","v":"A"},{"$f":"IF(Attendance($C21,'Daily Register'!HA$3:HA$242)=TRUE,\"P\",\"A\")","v":"A"},{"$f":"IF(Attendance($C21,'Daily Register'!HB$3:HB$242)=TRUE,\"P\",\"A\")","v":"A"},{"$f":"IF(Attendance($C21,'Daily Register'!HC$3:HC$242)=TRUE,\"P\",\"A\")","v":"A"},{"$f":"IF(Attendance($C21,'Daily Register'!HD$3:HD$242)=TRUE,\"P\",\"A\")","v":"A"},{"$f":"IF(Attendance($C21,'Daily Register'!HE$3:HE$242)=TRUE,\"P\",\"A\")","v":"A"},{"$f":"IF(Attendance($C21,'Daily Register'!HF$3:HF$242)=TRUE,\"P\",\"A\")","v":"A"},{"$f":"IF(Attendance($C21,'Daily Register'!HG$3:HG$242)=TRUE,\"P\",\"A\")","v":"A"},{"$f":"IF(Attendance($C21,'Daily Register'!HH$3:HH$242)=TRUE,\"P\",\"A\")","v":"A"},{"$f":"IF(Attendance($C21,'Daily Register'!HI$3:HI$242)=TRUE,\"P\",\"A\")","v":"A"},{"$f":"IF(Attendance($C21,'Daily Register'!HJ$3:HJ$242)=TRUE,\"P\",\"A\")","v":"A"},{"$f":"IF(Attendance($C21,'Daily Register'!HK$3:HK$242)=TRUE,\"P\",\"A\")","v":"A"},{"$f":"IF(Attendance($C21,'Daily Register'!HL$3:HL$242)=TRUE,\"P\",\"A\")","v":"A"},{"$f":"IF(Attendance($C21,'Daily Register'!HM$3:HM$242)=TRUE,\"P\",\"A\")","v":"A"},{"$f":"IF(Attendance($C21,'Daily Register'!HN$3:HN$242)=TRUE,\"P\",\"A\")","v":"A"},{"$f":"IF(Attendance($C21,'Daily Register'!HO$3:HO$242)=TRUE,\"P\",\"A\")","v":"A"},{"$f":"IF(Attendance($C21,'Daily Register'!HP$3:HP$242)=TRUE,\"P\",\"A\")","v":"A"},{"$f":"IF(Attendance($C21,'Daily Register'!HQ$3:HQ$242)=TRUE,\"P\",\"A\")","v":"A"},{"$f":"IF(Attendance($C21,'Daily Register'!HR$3:HR$242)=TRUE,\"P\",\"A\")","v":"A"},{"$f":"IF(Attendance($C21,'Daily Register'!HS$3:HS$242)=TRUE,\"P\",\"A\")","v":"A"},{"$f":"IF(Attendance($C21,'Daily Register'!HT$3:HT$242)=TRUE,\"P\",\"A\")","v":"A"},{"$f":"IF(Attendance($C21,'Daily Register'!HU$3:HU$242)=TRUE,\"P\",\"A\")","v":"A"},{"$f":"IF(Attendance($C21,'Daily Register'!HV$3:HV$242)=TRUE,\"P\",\"A\")","v":"A"},{"$f":"IF(Attendance($C21,'Daily Register'!HW$3:HW$242)=TRUE,\"P\",\"A\")","v":"A"},{"$f":"IF(Attendance($C21,'Daily Register'!HX$3:HX$242)=TRUE,\"P\",\"A\")","v":"A"},{"$f":"IF(Attendance($C21,'Daily Register'!HY$3:HY$242)=TRUE,\"P\",\"A\")","v":"A"},{"$f":"IF(Attendance($C21,'Daily Register'!HZ$3:HZ$242)=TRUE,\"P\",\"A\")","v":"A"},{"$f":"IF(Attendance($C21,'Daily Register'!IA$3:IA$242)=TRUE,\"P\",\"A\")","v":"A"},{"$f":"IF(Attendance($C21,'Daily Register'!IB$3:IB$242)=TRUE,\"P\",\"A\")","v":"A"},{"$f":"IF(Attendance($C21,'Daily Register'!IC$3:IC$242)=TRUE,\"P\",\"A\")","v":"A"},{"$f":"IF(Attendance($C21,'Daily Register'!ID$3:ID$242)=TRUE,\"P\",\"A\")","v":"A"},{"$f":"IF(Attendance($C21,'Daily Register'!IE$3:IE$242)=TRUE,\"P\",\"A\")","v":"A"},{"$f":"IF(Attendance($C21,'Daily Register'!IF$3:IF$242)=TRUE,\"P\",\"A\")","v":"A"},{"$f":"IF(Attendance($C21,'Daily Register'!IG$3:IG$242)=TRUE,\"P\",\"A\")","v":"A"},{"$f":"IF(Attendance($C21,'Daily Register'!IH$3:IH$242)=TRUE,\"P\",\"A\")","v":"A"},{"$f":"IF(Attendance($C21,'Daily Register'!II$3:II$242)=TRUE,\"P\",\"A\")","v":"A"},{"$f":"IF(Attendance($C21,'Daily Register'!IJ$3:IJ$242)=TRUE,\"P\",\"A\")","v":"A"},{"$f":"IF(Attendance($C21,'Daily Register'!IK$3:IK$242)=TRUE,\"P\",\"A\")","v":"A"},{"$f":"IF(Attendance($C21,'Daily Register'!IL$3:IL$242)=TRUE,\"P\",\"A\")","v":"A"},{"$f":"IF(Attendance($C21,'Daily Register'!IM$3:IM$242)=TRUE,\"P\",\"A\")","v":"A"},{"$f":"IF(Attendance($C21,'Daily Register'!IN$3:IN$242)=TRUE,\"P\",\"A\")","v":"A"},{"$f":"IF(Attendance($C21,'Daily Register'!IO$3:IO$242)=TRUE,\"P\",\"A\")","v":"A"},{"$f":"IF(Attendance($C21,'Daily Register'!IP$3:IP$242)=TRUE,\"P\",\"A\")","v":"A"},{"$f":"IF(Attendance($C21,'Daily Register'!IQ$3:IQ$242)=TRUE,\"P\",\"A\")","v":"A"},{"$f":"IF(Attendance($C21,'Daily Register'!IR$3:IR$242)=TRUE,\"P\",\"A\")","v":"A"},{"$f":"IF(Attendance($C21,'Daily Register'!IS$3:IS$242)=TRUE,\"P\",\"A\")","v":"A"},{"$f":"IF(Attendance($C21,'Daily Register'!IT$3:IT$242)=TRUE,\"P\",\"A\")","v":"A"},{"$f":"IF(Attendance($C21,'Daily Register'!IU$3:IU$242)=TRUE,\"P\",\"A\")","v":"A"},{"$f":"IF(Attendance($C21,'Daily Register'!IV$3:IV$242)=TRUE,\"P\",\"A\")","v":"A"},{"$f":"IF(Attendance($C21,'Daily Register'!IW$3:IW$242)=TRUE,\"P\",\"A\")","v":"A"},{"$f":"IF(Attendance($C21,'Daily Register'!IX$3:IX$242)=TRUE,\"P\",\"A\")","v":"A"},{"$f":"IF(Attendance($C21,'Daily Register'!IY$3:IY$242)=TRUE,\"P\",\"A\")","v":"A"},{"$f":"IF(Attendance($C21,'Daily Register'!IZ$3:IZ$242)=TRUE,\"P\",\"A\")","v":"A"},{"$f":"IF(Attendance($C21,'Daily Register'!JA$3:JA$242)=TRUE,\"P\",\"A\")","v":"A"},{"$f":"IF(Attendance($C21,'Daily Register'!JB$3:JB$242)=TRUE,\"P\",\"A\")","v":"A"},{"$f":"IF(Attendance($C21,'Daily Register'!JC$3:JC$242)=TRUE,\"P\",\"A\")","v":"A"},{"$f":"IF(Attendance($C21,'Daily Register'!JD$3:JD$242)=TRUE,\"P\",\"A\")","v":"A"},{"$f":"IF(Attendance($C21,'Daily Register'!JE$3:JE$242)=TRUE,\"P\",\"A\")","v":"A"},{"$f":"IF(Attendance($C21,'Daily Register'!JF$3:JF$242)=TRUE,\"P\",\"A\")","v":"A"},{"$f":"IF(Attendance($C21,'Daily Register'!JG$3:JG$242)=TRUE,\"P\",\"A\")","v":"A"},{"$f":"IF(Attendance($C21,'Daily Register'!JH$3:JH$242)=TRUE,\"P\",\"A\")","v":"A"},{"$f":"IF(Attendance($C21,'Daily Register'!JI$3:JI$242)=TRUE,\"P\",\"A\")","v":"A"},{"$f":"IF(Attendance($C21,'Daily Register'!JJ$3:JJ$242)=TRUE,\"P\",\"A\")","v":"A"},{"$f":"IF(Attendance($C21,'Daily Register'!JK$3:JK$242)=TRUE,\"P\",\"A\")","v":"A"},{"$f":"IF(Attendance($C21,'Daily Register'!JL$3:JL$242)=TRUE,\"P\",\"A\")","v":"A"},{"$f":"IF(Attendance($C21,'Daily Register'!JM$3:JM$242)=TRUE,\"P\",\"A\")","v":"A"},{"$f":"IF(Attendance($C21,'Daily Register'!JN$3:JN$242)=TRUE,\"P\",\"A\")","v":"A"},{"$f":"IF(Attendance($C21,'Daily Register'!JO$3:JO$242)=TRUE,\"P\",\"A\")","v":"A"},{"$f":"IF(Attendance($C21,'Daily Register'!JP$3:JP$242)=TRUE,\"P\",\"A\")","v":"A"},{"$f":"IF(Attendance($C21,'Daily Register'!JQ$3:JQ$242)=TRUE,\"P\",\"A\")","v":"A"},{"$f":"IF(Attendance($C21,'Daily Register'!JR$3:JR$242)=TRUE,\"P\",\"A\")","v":"A"},{"$f":"IF(Attendance($C21,'Daily Register'!JS$3:JS$242)=TRUE,\"P\",\"A\")","v":"A"},{"$f":"IF(Attendance($C21,'Daily Register'!JT$3:JT$242)=TRUE,\"P\",\"A\")","v":"A"},{"$f":"IF(Attendance($C21,'Daily Register'!JU$3:JU$242)=TRUE,\"P\",\"A\")","v":"A"},{"$f":"IF(Attendance($C21,'Daily Register'!JV$3:JV$242)=TRUE,\"P\",\"A\")","v":"A"},{"$f":"IF(Attendance($C21,'Daily Register'!JW$3:JW$242)=TRUE,\"P\",\"A\")","v":"A"},{"$f":"IF(Attendance($C21,'Daily Register'!JX$3:JX$242)=TRUE,\"P\",\"A\")","v":"A"},{"$f":"IF(Attendance($C21,'Daily Register'!JY$3:JY$242)=TRUE,\"P\",\"A\")","v":"A"},{"$f":"IF(Attendance($C21,'Daily Register'!JZ$3:JZ$242)=TRUE,\"P\",\"A\")","v":"A"},{"$f":"IF(Attendance($C21,'Daily Register'!KA$3:KA$242)=TRUE,\"P\",\"A\")","v":"A"},{"$f":"IF(Attendance($C21,'Daily Register'!KB$3:KB$242)=TRUE,\"P\",\"A\")","v":"A"},{"$f":"IF(Attendance($C21,'Daily Register'!KC$3:KC$242)=TRUE,\"P\",\"A\")","v":"A"},{"$f":"IF(Attendance($C21,'Daily Register'!KD$3:KD$242)=TRUE,\"P\",\"A\")","v":"A"},{"$f":"IF(Attendance($C21,'Daily Register'!KE$3:KE$242)=TRUE,\"P\",\"A\")","v":"A"},{"$f":"IF(Attendance($C21,'Daily Register'!KF$3:KF$242)=TRUE,\"P\",\"A\")","v":"A"},{"$f":"IF(Attendance($C21,'Daily Register'!KG$3:KG$242)=TRUE,\"P\",\"A\")","v":"A"},{"$f":"IF(Attendance($C21,'Daily Register'!KH$3:KH$242)=TRUE,\"P\",\"A\")","v":"A"},{"$f":"IF(Attendance($C21,'Daily Register'!KI$3:KI$242)=TRUE,\"P\",\"A\")","v":"A"},{"$f":"IF(Attendance($C21,'Daily Register'!KJ$3:KJ$242)=TRUE,\"P\",\"A\")","v":"A"},{"$f":"IF(Attendance($C21,'Daily Register'!KK$3:KK$242)=TRUE,\"P\",\"A\")","v":"A"},{"$f":"IF(Attendance($C21,'Daily Register'!KL$3:KL$242)=TRUE,\"P\",\"A\")","v":"A"},{"$f":"IF(Attendance($C21,'Daily Register'!KM$3:KM$242)=TRUE,\"P\",\"A\")","v":"A"},{"$f":"IF(Attendance($C21,'Daily Register'!KN$3:KN$242)=TRUE,\"P\",\"A\")","v":"A"},{"$f":"IF(Attendance($C21,'Daily Register'!KO$3:KO$242)=TRUE,\"P\",\"A\")","v":"A"},{"$f":"IF(Attendance($C21,'Daily Register'!KP$3:KP$242)=TRUE,\"P\",\"A\")","v":"A"},{"$f":"IF(Attendance($C21,'Daily Register'!KQ$3:KQ$242)=TRUE,\"P\",\"A\")","v":"A"},{"$f":"IF(Attendance($C21,'Daily Register'!KR$3:KR$242)=TRUE,\"P\",\"A\")","v":"A"},{"$f":"IF(Attendance($C21,'Daily Register'!KS$3:KS$242)=TRUE,\"P\",\"A\")","v":"A"},{"$f":"IF(Attendance($C21,'Daily Register'!KT$3:KT$242)=TRUE,\"P\",\"A\")","v":"A"},{"$f":"IF(Attendance($C21,'Daily Register'!KU$3:KU$242)=TRUE,\"P\",\"A\")","v":"A"},{"$f":"IF(Attendance($C21,'Daily Register'!KV$3:KV$242)=TRUE,\"P\",\"A\")","v":"A"},{"$f":"IF(Attendance($C21,'Daily Register'!KW$3:KW$242)=TRUE,\"P\",\"A\")","v":"A"},{"$f":"IF(Attendance($C21,'Daily Register'!KX$3:KX$242)=TRUE,\"P\",\"A\")","v":"A"},{"$f":"IF(Attendance($C21,'Daily Register'!KY$3:KY$242)=TRUE,\"P\",\"A\")","v":"A"},{"$f":"IF(Attendance($C21,'Daily Register'!KZ$3:KZ$242)=TRUE,\"P\",\"A\")","v":"A"},{"$f":"IF(Attendance($C21,'Daily Register'!LA$3:LA$242)=TRUE,\"P\",\"A\")","v":"A"},{"$f":"IF(Attendance($C21,'Daily Register'!LB$3:LB$242)=TRUE,\"P\",\"A\")","v":"A"},{"$f":"IF(Attendance($C21,'Daily Register'!LC$3:LC$242)=TRUE,\"P\",\"A\")","v":"A"},{"$f":"IF(Attendance($C21,'Daily Register'!LD$3:LD$242)=TRUE,\"P\",\"A\")","v":"A"},{"$f":"IF(Attendance($C21,'Daily Register'!LE$3:LE$242)=TRUE,\"P\",\"A\")","v":"A"},{"$f":"IF(Attendance($C21,'Daily Register'!LF$3:LF$242)=TRUE,\"P\",\"A\")","v":"A"},{"$f":"IF(Attendance($C21,'Daily Register'!LG$3:LG$242)=TRUE,\"P\",\"A\")","v":"A"},{"$f":"IF(Attendance($C21,'Daily Register'!LH$3:LH$242)=TRUE,\"P\",\"A\")","v":"A"},{"$f":"IF(Attendance($C21,'Daily Register'!LI$3:LI$242)=TRUE,\"P\",\"A\")","v":"A"},{"$f":"IF(Attendance($C21,'Daily Register'!LJ$3:LJ$242)=TRUE,\"P\",\"A\")","v":"A"},{"$f":"IF(Attendance($C21,'Daily Register'!LK$3:LK$242)=TRUE,\"P\",\"A\")","v":"A"},{"$f":"IF(Attendance($C21,'Daily Register'!LL$3:LL$242)=TRUE,\"P\",\"A\")","v":"A"},{"$f":"IF(Attendance($C21,'Daily Register'!LM$3:LM$242)=TRUE,\"P\",\"A\")","v":"A"},{"$f":"IF(Attendance($C21,'Daily Register'!LN$3:LN$242)=TRUE,\"P\",\"A\")","v":"A"},{"$f":"IF(Attendance($C21,'Daily Register'!LO$3:LO$242)=TRUE,\"P\",\"A\")","v":"A"},{"$f":"IF(Attendance($C21,'Daily Register'!LP$3:LP$242)=TRUE,\"P\",\"A\")","v":"A"},{"$f":"IF(Attendance($C21,'Daily Register'!LQ$3:LQ$242)=TRUE,\"P\",\"A\")","v":"A"},{"$f":"IF(Attendance($C21,'Daily Register'!LR$3:LR$242)=TRUE,\"P\",\"A\")","v":"A"},{"$f":"IF(Attendance($C21,'Daily Register'!LS$3:LS$242)=TRUE,\"P\",\"A\")","v":"A"},{"$f":"IF(Attendance($C21,'Daily Register'!LT$3:LT$242)=TRUE,\"P\",\"A\")","v":"A"},{"$f":"IF(Attendance($C21,'Daily Register'!LU$3:LU$242)=TRUE,\"P\",\"A\")","v":"A"},{"$f":"IF(Attendance($C21,'Daily Register'!LV$3:LV$242)=TRUE,\"P\",\"A\")","v":"A"},{"$f":"IF(Attendance($C21,'Daily Register'!LW$3:LW$242)=TRUE,\"P\",\"A\")","v":"A"},{"$f":"IF(Attendance($C21,'Daily Register'!LX$3:LX$242)=TRUE,\"P\",\"A\")","v":"A"},{"$f":"IF(Attendance($C21,'Daily Register'!LY$3:LY$242)=TRUE,\"P\",\"A\")","v":"A"},{"$f":"IF(Attendance($C21,'Daily Register'!LZ$3:LZ$242)=TRUE,\"P\",\"A\")","v":"A"},{"$f":"IF(Attendance($C21,'Daily Register'!MA$3:MA$242)=TRUE,\"P\",\"A\")","v":"A"},{"$f":"IF(Attendance($C21,'Daily Register'!MB$3:MB$242)=TRUE,\"P\",\"A\")","v":"A"},{"$f":"IF(Attendance($C21,'Daily Register'!MC$3:MC$242)=TRUE,\"P\",\"A\")","v":"A"},{"$f":"IF(Attendance($C21,'Daily Register'!MD$3:MD$242)=TRUE,\"P\",\"A\")","v":"A"},{"$f":"IF(Attendance($C21,'Daily Register'!ME$3:ME$242)=TRUE,\"P\",\"A\")","v":"A"},{"$f":"IF(Attendance($C21,'Daily Register'!MF$3:MF$242)=TRUE,\"P\",\"A\")","v":"A"},{"$f":"IF(Attendance($C21,'Daily Register'!MG$3:MG$242)=TRUE,\"P\",\"A\")","v":"A"},{"$f":"IF(Attendance($C21,'Daily Register'!MH$3:MH$242)=TRUE,\"P\",\"A\")","v":"A"},{"$f":"IF(Attendance($C21,'Daily Register'!MI$3:MI$242)=TRUE,\"P\",\"A\")","v":"A"},{"$f":"IF(Attendance($C21,'Daily Register'!MJ$3:MJ$242)=TRUE,\"P\",\"A\")","v":"A"},{"$f":"IF(Attendance($C21,'Daily Register'!MK$3:MK$242)=TRUE,\"P\",\"A\")","v":"A"},{"$f":"IF(Attendance($C21,'Daily Register'!ML$3:ML$242)=TRUE,\"P\",\"A\")","v":"A"},{"$f":"IF(Attendance($C21,'Daily Register'!MM$3:MM$242)=TRUE,\"P\",\"A\")","v":"A"},{"$f":"IF(Attendance($C21,'Daily Register'!MN$3:MN$242)=TRUE,\"P\",\"A\")","v":"A"},{"$f":"IF(Attendance($C21,'Daily Register'!MO$3:MO$242)=TRUE,\"P\",\"A\")","v":"A"},{"$f":"IF(Attendance($C21,'Daily Register'!MP$3:MP$242)=TRUE,\"P\",\"A\")","v":"A"},{"$f":"IF(Attendance($C21,'Daily Register'!MQ$3:MQ$242)=TRUE,\"P\",\"A\")","v":"A"},{"$f":"IF(Attendance($C21,'Daily Register'!MR$3:MR$242)=TRUE,\"P\",\"A\")","v":"A"},{"$f":"IF(Attendance($C21,'Daily Register'!MS$3:MS$242)=TRUE,\"P\",\"A\")","v":"A"},{"$f":"IF(Attendance($C21,'Daily Register'!MT$3:MT$242)=TRUE,\"P\",\"A\")","v":"A"},{"$f":"IF(Attendance($C21,'Daily Register'!MU$3:MU$242)=TRUE,\"P\",\"A\")","v":"A"},{"$f":"IF(Attendance($C21,'Daily Register'!MV$3:MV$242)=TRUE,\"P\",\"A\")","v":"A"},{"$f":"IF(Attendance($C21,'Daily Register'!MW$3:MW$242)=TRUE,\"P\",\"A\")","v":"A"},{"$f":"IF(Attendance($C21,'Daily Register'!MX$3:MX$242)=TRUE,\"P\",\"A\")","v":"A"},{"$f":"IF(Attendance($C21,'Daily Register'!MY$3:MY$242)=TRUE,\"P\",\"A\")","v":"A"},{"$f":"IF(Attendance($C21,'Daily Register'!MZ$3:MZ$242)=TRUE,\"P\",\"A\")","v":"A"},{"$f":"IF(Attendance($C21,'Daily Register'!NA$3:NA$242)=TRUE,\"P\",\"A\")","v":"A"},{"$f":"IF(Attendance($C21,'Daily Register'!NB$3:NB$242)=TRUE,\"P\",\"A\")","v":"A"}]
[0,null,19,null,{"$f":"IF(Attendance($C22,'Daily Register'!A$3:A$242)=TRUE,\"P\",\"A\")","v":"A"},{"$f":"IF(Attendance($C22,'Daily Register'!B$3:B$242)=TRUE,\"P\",\"A\")","v":"A"},{"$f":"IF(Attendance($C22,'Daily Register'!C$3:C$242)=TRUE,\"P\",\"A\")","v":"A"},{"$f":"IF(Attendance($C22,'Daily Register'!D$3:D$242)=TRUE,\"P\",\"A\")","v":"A"},{"$f":"IF(Attendance($C22,'Daily Register'!E$3:E$242)=TRUE,\"P\",\"A\")","v":"A"},{"$f":"IF(Attendance($C22,'Daily Register'!F$3:F$242)=TRUE,\"P\",\"A\")","v":"A"},{"$f":"IF(Attendance($C22,'Daily Register'!G$3:G$242)=TRUE,\"P\",\"A\")","v":"A"},{"$f":"IF(Attendance($C22,'Daily Register'!H$3:H$242)=TRUE,\"P\",\"A\")","v":"A"},{"$f":"IF(Attendance($C22,'Daily Register'!I$3:I$242)=TRUE,\"P\",\"A\")","v":"A"},{"$f":"IF(Attendance($C22,'Daily Register'!J$3:J$242)=TRUE,\"P\",\"A\")","v":"A"},{"$f":"IF(Attendance($C22,'Daily Register'!K$3:K$242)=TRUE,\"P\",\"A\")","v":"A"},{"$f":"IF(Attendance($C22,'Daily Register'!L$3:L$242)=TRUE,\"P\",\"A\")","v":"A"},{"$f":"IF(Attendance($C22,'Daily Register'!M$3:M$242)=TRUE,\"P\",\"A\")","v":"A"},{"$f":"IF(Attendance($C22,'Daily Register'!N$3:N$242)=TRUE,\"P\",\"A\")","v":"A"},{"$f":"IF(Attendance($C22,'Daily Register'!O$3:O$242)=TRUE,\"P\",\"A\")","v":"A"},{"$f":"IF(Attendance($C22,'Daily Register'!P$3:P$242)=TRUE,\"P\",\"A\")","v":"A"},{"$f":"IF(Attendance($C22,'Daily Register'!Q$3:Q$242)=TRUE,\"P\",\"A\")","v":"A"},{"$f":"IF(Attendance($C22,'Daily Register'!R$3:R$242)=TRUE,\"P\",\"A\")","v":"A"},{"$f":"IF(Attendance($C22,'Daily Register'!S$3:S$242)=TRUE,\"P\",\"A\")","v":"A"},{"$f":"IF(Attendance($C22,'Daily Register'!T$3:T$242)=TRUE,\"P\",\"A\")","v":"A"},{"$f":"IF(Attendance($C22,'Daily Register'!U$3:U$242)=TRUE,\"P\",\"A\")","v":"A"},{"$f":"IF(Attendance($C22,'Daily Register'!V$3:V$242)=TRUE,\"P\",\"A\")","v":"A"},{"$f":"IF(Attendance($C22,'Daily Register'!W$3:W$242)=TRUE,\"P\",\"A\")","v":"A"},{"$f":"IF(Attendance($C22,'Daily Register'!X$3:X$242)=TRUE,\"P\",\"A\")","v":"A"},{"$f":"IF(Attendance($C22,'Daily Register'!Y$3:Y$242)=TRUE,\"P\",\"A\")","v":"A"},{"$f":"IF(Attendance($C22,'Daily Register'!Z$3:Z$242)=TRUE,\"P\",\"A\")","v":"A"},{"$f":"IF(Attendance($C22,'Daily Register'!AA$3:AA$242)=TRUE,\"P\",\"A\")","v":"A"},{"$f":"IF(Attendance($C22,'Daily Register'!AB$3:AB$242)=TRUE,\"P\",\"A\")","v":"A"},{"$f":"IF(Attendance($C22,'Daily Register'!AC$3:AC$242)=TRUE,\"P\",\"A\")","v":"A"},{"$f":"IF(Attendance($C22,'Daily Register'!AD$3:AD$242)=TRUE,\"P\",\"A\")","v":"A"},{"$f":"IF(Attendance($C22,'Daily Register'!AE$3:AE$242)=TRUE,\"P\",\"A\")","v":"A"},{"$f":"IF(Attendance($C22,'Daily Register'!AF$3:AF$242)=TRUE,\"P\",\"A\")","v":"A"},{"$f":"IF(Attendance($C22,'Daily Register'!AG$3:AG$242)=TRUE,\"P\",\"A\")","v":"A"},{"$f":"IF(Attendance($C22,'Daily Register'!AH$3:AH$242)=TRUE,\"P\",\"A\")","v":"A"},{"$f":"IF(Attendance($C22,'Daily Register'!AI$3:AI$242)=TRUE,\"P\",\"A\")","v":"A"},{"$f":"IF(Attendance($C22,'Daily Register'!AJ$3:AJ$242)=TRUE,\"P\",\"A\")","v":"A"},{"$f":"IF(Attendance($C22,'Daily Register'!AK$3:AK$242)=TRUE,\"P\",\"A\")","v":"A"},{"$f":"IF(Attendance($C22,'Daily Register'!AL$3:AL$242)=TRUE,\"P\",\"A\")","v":"A"},{"$f":"IF(Attendance($C22,'Daily Register'!AM$3:AM$242)=TRUE,\"P\",\"A\")","v":"A"},{"$f":"IF(Attendance($C22,'Daily Register'!AN$3:AN$242)=TRUE,\"P\",\"A\")","v":"A"},{"$f":"IF(Attendance($C22,'Daily Register'!AO$3:AO$242)=TRUE,\"P\",\"A\")","v":"A"},{"$f":"IF(Attendance($C22,'Daily Register'!AP$3:AP$242)=TRUE,\"P\",\"A\")","v":"A"},{"$f":"IF(Attendance($C22,'Daily Register'!AQ$3:AQ$242)=TRUE,\"P\",\"A\")","v":"A"},{"$f":"IF(Attendance($C22,'Daily Register'!AR$3:AR$242)=TRUE,\"P\",\"A\")","v":"A"},{"$f":"IF(Attendance($C22,'Daily Register'!AS$3:AS$242)=TRUE,\"P\",\"A\")","v":"A"},{"$f":"IF(Attendance($C22,'Daily Register'!AT$3:AT$242)=TRUE,\"P\",\"A\")","v":"A"},{"$f":"IF(Attendance($C22,'Daily Register'!AU$3:AU$242)=TRUE,\"P\",\"A\")","v":"A"},{"$f":"IF(Attendance($C22,'Daily Register'!AV$3:AV$242)=TRUE,\"P\",\"A\")","v":"A"},{"$f":"IF(Attendance($C22,'Daily Register'!AW$3:AW$242)=TRUE,\"P\",\"A\")","v":"A"},{"$f":"IF(Attendance($C22,'Daily Register'!AX$3:AX$242)=TRUE,\"P\",\"A\")","v":"A"},{"$f":"IF(Attendance($C22,'Daily Register'!AY$3:AY$242)=TRUE,\"P\",\"A\")","v":"A"},{"$f":"IF(Attendance($C22,'Daily Register'!AZ$3:AZ$242)=TRUE,\"P\",\"A\")","v":"A"},{"$f":"IF(Attendance($C22,'Daily Register'!BA$3:BA$242)=TRUE,\"P\",\"A\")","v":"A"},{"$f":"IF(Attendance($C22,'Daily Register'!BB$3:BB$242)=TRUE,\"P\",\"A\")","v":"A"},{"$f":"IF(Attendance($C22,'Daily Register'!BC$3:BC$242)=TRUE,\"P\",\"A\")","v":"A"},{"$f":"IF(Attendance($C22,'Daily Register'!BD$3:BD$242)=TRUE,\"P\",\"A\")","v":"A"},{"$f":"IF(Attendance($C22,'Daily Register'!BE$3:BE$242)=TRUE,\"P\",\"A\")","v":"A"},{"$f":"IF(Attendance($C22,'Daily Register'!BF$3:BF$242)=TRUE,\"P\",\"A\")","v":"A"},{"$f":"IF(Attendance($C22,'Daily Register'!BG$3:BG$242)=TRUE,\"P\",\"A\")","v":"A"},{"$f":"IF(Attendance($C22,'Daily Register'!BH$3:BH$242)=TRUE,\"P\",\"A\")","v":"A"},{"$f":"IF(Attendance($C22,'Daily Register'!BI$3:BI$242)=TRUE,\"P\",\"A\")","v":"A"},{"$f":"IF(Attendance($C22,'Daily Register'!BJ$3:BJ$242)=TRUE,\"P\",\"A\")","v":"A"},{"$f":"IF(Attendance($C22,'Daily Register'!BK$3:BK$242)=TRUE,\"P\",\"A\")","v":"A"},{"$f":"IF(Attendance($C22,'Daily Register'!BL$3:BL$242)=TRUE,\"P\",\"A\")","v":"A"},{"$f":"IF(Attendance($C22,'Daily Register'!BM$3:BM$242)=TRUE,\"P\",\"A\")","v":"A"},{"$f":"IF(Attendance($C22,'Daily Register'!BN$3:BN$242)=TRUE,\"P\",\"A\")","v":"A"},{"$f":"IF(Attendance($C22,'Daily Register'!BO$3:BO$242)=TRUE,\"P\",\"A\")","v":"A"},{"$f":"IF(Attendance($C22,'Daily Register'!BP$3:BP$242)=TRUE,\"P\",\"A\")","v":"A"},{"$f":"IF(Attendance($C22,'Daily Register'!BQ$3:BQ$242)=TRUE,\"P\",\"A\")","v":"A"},{"$f":"IF(Attendance($C22,'Daily Register'!BR$3:BR$242)=TRUE,\"P\",\"A\")","v":"A"},{"$f":"IF(Attendance($C22,'Daily Register'!BS$3:BS$242)=TRUE,\"P\",\"A\")","v":"A"},{"$f":"IF(Attendance($C22,'Daily Register'!BT$3:BT$242)=TRUE,\"P\",\"A\")","v":"A"},{"$f":"IF(Attendance($C22,'Daily Register'!BU$3:BU$242)=TRUE,\"P\",\"A\")","v":"A"},{"$f":"IF(Attendance($C22,'Daily Register'!BV$3:BV$242)=TRUE,\"P\",\"A\")","v":"A"},{"$f":"IF(Attendance($C22,'Daily Register'!BW$3:BW$242)=TRUE,\"P\",\"A\")","v":"A"},{"$f":"IF(Attendance($C22,'Daily Register'!BX$3:BX$242)=TRUE,\"P\",\"A\")","v":"A"},{"$f":"IF(Attendance($C22,'Daily Register'!BY$3:BY$242)=TRUE,\"P\",\"A\")","v":"A"},{"$f":"IF(Attendance($C22,'Daily Register'!BZ$3:BZ$242)=TRUE,\"P\",\"A\")","v":"A"},{"$f":"IF(Attendance($C22,'Daily Register'!CA$3:CA$242)=TRUE,\"P\",\"A\")","v":"A"},{"$f":"IF(Attendance($C22,'Daily Register'!CB$3:CB$242)=TRUE,\"P\",\"A\")","v":"A"},{"$f":"IF(Attendance($C22,'Daily Register'!CC$3:CC$242)=TRUE,\"P\",\"A\")","v":"A"},{"$f":"IF(Attendance($C22,'Daily Register'!CD$3:CD$242)=TRUE,\"P\",\"A\")","v":"A"},{"$f":"IF(Attendance($C22,'Daily Register'!CE$3:CE$242)=TRUE,\"P\",\"A\")","v":"A"},{"$f":"IF(Attendance($C22,'Daily Register'!CF$3:CF$242)=TRUE,\"P\",\"A\")","v":"A"},{"$f":"IF(Attendance($C22,'Daily Register'!CG$3:CG$242)=TRUE,\"P\",\"A\")","v":"A"},{"$f":"IF(Attendance($C22,'Daily Register'!CH$3:CH$242)=TRUE,\"P\",\"A\")","v":"A"},{"$f":"IF(Attendance($C22,'Daily Register'!CI$3:CI$242)=TRUE,\"P\",\"A\")","v":"A"},{"$f":"IF(Attendance($C22,'Daily Register'!CJ$3:CJ$242)=TRUE,\"P\",\"A\")","v":"A"},{"$f":"IF(Attendance($C22,'Daily Register'!CK$3:CK$242)=TRUE,\"P\",\"A\")","v":"A"},{"$f":"IF(Attendance($C22,'Daily Register'!CL$3:CL$242)=TRUE,\"P\",\"A\")","v":"A"},{"$f":"IF(Attendance($C22,'Daily Register'!CM$3:CM$242)=TRUE,\"P\",\"A\")","v":"A"},{"$f":"IF(Attendance($C22,'Daily Register'!CN$3:CN$242)=TRUE,\"P\",\"A\")","v":"A"},{"$f":"IF(Attendance($C22,'Daily Register'!CO$3:CO$242)=TRUE,\"P\",\"A\")","v":"A"},{"$f":"IF(Attendance($C22,'Daily Register'!CP$3:CP$242)=TRUE,\"P\",\"A\")","v":"A"},{"$f":"IF(Attendance($C22,'Daily Register'!CQ$3:CQ$242)=TRUE,\"P\",\"A\")","v":"A"},{"$f":"IF(Attendance($C22,'Daily Register'!CR$3:CR$242)=TRUE,\"P\",\"A\")","v":"A"},{"$f":"IF(Attendance($C22,'Daily Register'!CS$3:CS$242)=TRUE,\"P\",\"A\")","v":"A"},{"$f":"IF(Attendance($C22,'Daily Register'!CT$3:CT$242)=TRUE,\"P\",\"A\")","v":"A"},{"$f":"IF(Attendance($C22,'Daily Register'!CU$3:CU$242)=TRUE,\"P\",\"A\")","v":"A"},{"$f":"IF(Attendance($C22,'Daily Register'!CV$3:CV$242)=TRUE,\"P\",\"A\")","v":"A"},{"$f":"IF(Attendance($C22,'Daily Register'!CW$3:CW$242)=TRUE,\"P\",\"A\")","v":"A"},{"$f":"IF(Attendance($C22,'Daily Register'!CX$3:CX$242)=TRUE,\"P\",\"A\")","v":"A"},{"$f":"IF(Attendance($C22,'Daily Register'!CY$3:CY$242)=TRUE,\"P\",\"A\")","v":"A"},{"$f":"IF(Attendance($C22,'Daily Register'!CZ$3:CZ$242)=TRUE,\"P\",\"A\")","v":"A"},{"$f":"IF(Attendance($C22,'Daily Register'!DA$3:DA$242)=TRUE,\"P\",\"A\")","v":"A"},{"$f":"IF(Attendance($C22,'Daily Register'!DB$3:DB$242)=TRUE,\"P\",\"A\")","v":"A"},{"$f":"IF(Attendance($C22,'Daily Register'!DC$3:DC$242)=TRUE,\"P\",\"A\")","v":"A"},{"$f":"IF(Attendance($C22,'Daily Register'!DD$3:DD$242)=TRUE,\"P\",\"A\")","v":"A"},{"$f":"IF(Attendance($C22,'Daily Register'!DE$3:DE$242)=TRUE,\"P\",\"A\")","v":"A"},{"$f":"IF(Attendance($C22,'Daily Register'!DF$3:DF$242)=TRUE,\"P\",\"A\")","v":"A"},{"$f":"IF(Attendance($C22,'Daily Register'!DG$3:DG$242)=TRUE,\"P\",\"A\")","v":"A"},{"$f":"IF(Attendance($C22,'Daily Register'!DH$3:DH$242)=TRUE,\"P\",\"A\")","v":"A"},{"$f":"IF(Attendance($C22,'Daily Register'!DI$3:DI$242)=TRUE,\"P\",\"A\")","v":"A"},{"$f":"IF(Attendance($C22,'Daily Register'!DJ$3:DJ$242)=TRUE,\"P\",\"A\")","v":"A"},{"$f":"IF(Attendance($C22,'Daily Register'!DK$3:DK$242)=TRUE,\"P\",\"A\")","v":"A"},{"$f":"IF(Attendance($C22,'Daily Register'!DL$3:DL$242)=TRUE,\"P\",\"A\")","v":"A"},{"$f":"IF(Attendance($C22,'Daily Register'!DM$3:DM$242)=TRUE,\"P\",\"A\")","v":"A"},{"$f":"IF(Attendance($C22,'Daily Register'!DN$3:DN$242)=TRUE,\"P\",\"A\")","v":"A"},{"$f":"IF(Attendance($C22,'Daily Register'!DO$3:DO$242)=TRUE,\"P\",\"A\")","v":"A"},{"$f":"IF(Attendance($C22,'Daily Register'!DP$3:DP$242)=TRUE,\"P\",\"A\")","v":"A"},{"$f":"IF(Attendance($C22,'Daily Register'!DQ$3:DQ$242)=TRUE,\"P\",\"A\")","v":"A"},{"$f":"IF(Attendance($C22,'Daily Register'!DR$3:DR$242)=TRUE,\"P\",\"A\")","v":"A"},{"$f":"IF(Attendance($C22,'Daily Register'!DS$3:DS$242)=TRUE,\"P\",\"A\")","v":"A"},{"$f":"IF(Attendance($C22,'Daily Register'!DT$3:DT$242)=TRUE,\"P\",\"A\")","v":"A"},{"$f":"IF(Attendance($C22,'Daily Register'!DU$3:DU$242)=TRUE,\"P\",\"A\")","v":"A"},{"$f":"IF(Attendance($C22,'Daily Register'!DV$3:DV$242)=TRUE,\"P\",\"A\")","v":"A"},{"$f":"IF(Attendance($C22,'Daily Register'!DW$3:DW$242)=TRUE,\"P\",\"A\")","v":"A"},{"$f":"IF(Attendance($C22,'Daily Register'!DX$3:DX$242)=TRUE,\"P\",\"A\")","v":"A"},{"$f":"IF(Attendance($C22,'Daily Register'!DY$3:DY$242)=TRUE,\"P\",\"A\")","v":"A"},{"$f":"IF(Attendance($C22,'Daily Register'!DZ$3:DZ$242)=TRUE,\"P\",\"A\")","v":"A"},{"$f":"IF(Attendance($C22,'Daily Register'!EA$3:EA$242)=TRUE,\"P\",\"A\")","v":"A"},{"$f":"IF(Attendance($C22,'Daily Register'!EB$3:EB$242)=TRUE,\"P\",\"A\")","v":"A"},{"$f":"IF(Attendance($C22,'Daily Register'!EC$3:EC$242)=TRUE,\"P\",\"A\")","v":"A"},{"$f":"IF(Attendance($C22,'Daily Register'!ED$3:ED$242)=TRUE,\"P\",\"A\")","v":"A"},{"$f":"IF(Attendance($C22,'Daily Register'!EE$3:EE$242)=TRUE,\"P\",\"A\")","v":"A"},{"$f":"IF(Attendance($C22,'Daily Register'!EF$3:EF$242)=TRUE,\"P\",\"A\")","v":"A"},{"$f":"IF(Attendance($C22,'Daily Register'!EG$3:EG$242)=TRUE,\"P\",\"A\")","v":"A"},{"$f":"IF(Attendance($C22,'Daily Register'!EH$3:EH$242)=TRUE,\"P\",\"A\")","v":"A"},{"$f":"IF(Attendance($C22,'Daily Register'!EI$3:EI$242)=TRUE,\"P\",\"A\")","v":"A"},{"$f":"IF(Attendance($C22,'Daily Register'!EJ$3:EJ$242)=TRUE,\"P\",\"A\")","v":"A"},{"$f":"IF(Attendance($C22,'Daily Register'!EK$3:EK$242)=TRUE,\"P\",\"A\")","v":"A"},{"$f":"IF(Attendance($C22,'Daily Register'!EL$3:EL$242)=TRUE,\"P\",\"A\")","v":"A"},{"$f":"IF(Attendance($C22,'Daily Register'!EM$22:EM$242)=TRUE,\"P\",\"A\")","v":"A"},{"$f":"IF(Attendance($C22,'Daily Register'!EN$3:EN$242)=TRUE,\"P\",\"A\")","v":"A"},{"$f":"IF(Attendance($C22,'Daily Register'!EO$3:EO$242)=TRUE,\"P\",\"A\")","v":"A"},{"$f":"IF(Attendance($C22,'Daily Register'!EP$3:EP$242)=TRUE,\"P\",\"A\")","v":"A"},{"$f":"IF(Attendance($C22,'Daily Register'!EQ$3:EQ$242)=TRUE,\"P\",\"A\")","v":"A"},{"$f":"IF(Attendance($C22,'Daily Register'!ER$3:ER$242)=TRUE,\"P\",\"A\")","v":"A"},{"$f":"IF(Attendance($C22,'Daily Register'!ES$3:ES$242)=TRUE,\"P\",\"A\")","v":"A"},{"$f":"IF(Attendance($C22,'Daily Register'!ET$3:ET$242)=TRUE,\"P\",\"A\")","v":"A"},{"$f":"IF(Attendance($C22,'Daily Register'!EU$3:EU$242)=TRUE,\"P\",\"A\")","v":"A"},{"$f":"IF(Attendance($C22,'Daily Register'!EV$3:EV$242)=TRUE,\"P\",\"A\")","v":"A"},{"$f":"IF(Attendance($C22,'Daily Register'!EW$3:EW$242)=TRUE,\"P\",\"A\")","v":"A"},{"$f":"IF(Attendance($C22,'Daily Register'!EX$3:EX$242)=TRUE,\"P\",\"A\")","v":"A"},{"$f":"IF(Attendance($C22,'Daily Register'!EY$3:EY$242)=TRUE,\"P\",\"A\")","v":"A"},{"$f":"IF(Attendance($C22,'Daily Register'!EZ$3:EZ$242)=TRUE,\"P\",\"A\")","v":"A"},{"$f":"IF(Attendance($C22,'Daily Register'!FA$3:FA$242)=TRUE,\"P\",\"A\")","v":"A"},{"$f":"IF(Attendance($C22,'Daily Register'!FB$3:FB$242)=TRUE,\"P\",\"A\")","v":"A"},{"$f":"IF(Attendance($C22,'Daily Register'!FC$3:FC$242)=TRUE,\"P\",\"A\")","v":"A"},{"$f":"IF(Attendance($C22,'Daily Register'!FD$3:FD$242)=TRUE,\"P\",\"A\")","v":"A"},{"$f":"IF(Attendance($C22,'Daily Register'!FE$3:FE$242)=TRUE,\"P\",\"A\")","v":"A"},{"$f":"IF(Attendance($C22,'Daily Register'!FF$3:FF$242)=TRUE,\"P\",\"A\")","v":"A"},{"$f":"IF(Attendance($C22,'Daily Register'!FG$3:FG$242)=TRUE,\"P\",\"A\")","v":"A"},{"$f":"IF(Attendance($C22,'Daily Register'!FH$3:FH$242)=TRUE,\"P\",\"A\")","v":"A"},{"$f":"IF(Attendance($C22,'Daily Register'!FI$3:FI$242)=TRUE,\"P\",\"A\")","v":"A"},{"$f":"IF(Attendance($C22,'Daily Register'!FJ$3:FJ$242)=TRUE,\"P\",\"A\")","v":"A"},{"$f":"IF(Attendance($C22,'Daily Register'!FK$3:FK$242)=TRUE,\"P\",\"A\")","v":"A"},{"$f":"IF(Attendance($C22,'Daily Register'!FL$3:FL$242)=TRUE,\"P\",\"A\")","v":"A"},{"$f":"IF(Attendance($C22,'Daily Register'!FM$3:FM$242)=TRUE,\"P\",\"A\")","v":"A"},{"$f":"IF(Attendance($C22,'Daily Register'!FN$3:FN$242)=TRUE,\"P\",\"A\")","v":"A"},{"$f":"IF(Attendance($C22,'Daily Register'!FO$3:FO$242)=TRUE,\"P\",\"A\")","v":"A"},{"$f":"IF(Attendance($C22,'Daily Register'!FP$3:FP$242)=TRUE,\"P\",\"A\")","v":"A"},{"$f":"IF(Attendance($C22,'Daily Register'!FQ$3:FQ$242)=TRUE,\"P\",\"A\")","v":"A"},{"$f":"IF(Attendance($C22,'Daily Register'!FR$3:FR$242)=TRUE,\"P\",\"A\")","v":"A"},{"$f":"IF(Attendance($C22,'Daily Register'!FS$3:FS$242)=TRUE,\"P\",\"A\")","v":"A"},{"$f":"IF(Attendance($C22,'Daily Register'!FT$3:FT$242)=TRUE,\"P\",\"A\")","v":"A"},{"$f":"IF(Attendance($C22,'Daily Register'!FU$3:FU$242)=TRUE,\"P\",\"A\")","v":"A"},{"$f":"IF(Attendance($C22,'Daily Register'!FV$3:FV$242)=TRUE,\"P\",\"A\")","v":"A"},{"$f":"IF(Attendance($C22,'Daily Register'!FW$3:FW$242)=TRUE,\"P\",\"A\")","v":"A"},{"$f":"IF(Attendance($C22,'Daily Register'!FX$3:FX$242)=TRUE,\"P\",\"A\")","v":"A"},{"$f":"IF(Attendance($C22,'Daily Register'!FY$3:FY$242)=TRUE,\"P\",\"A\")","v":"A"},{"$f":"IF(Attendance($C22,'Daily Register'!FZ$3:FZ$242)=TRUE,\"P\",\"A\")","v":"A"},{"$f":"IF(Attendance($C22,'Daily Register'!GA$3:GA$242)=TRUE,\"P\",\"A\")","v":"A"},{"$f":"IF(Attendance($C22,'Daily Register'!GB$3:GB$242)=TRUE,\"P\",\"A\")","v":"A"},{"$f":"IF(Attendance($C22,'Daily Register'!GC$3:GC$242)=TRUE,\"P\",\"A\")","v":"A"},{"$f":"IF(Attendance($C22,'Daily Register'!GD$3:GD$242)=TRUE,\"P\",\"A\")","v":"A"},{"$f":"IF(Attendance($C22,'Daily Register'!GE$3:GE$242)=TRUE,\"P\",\"A\")","v":"A"},{"$f":"IF(Attendance($C22,'Daily Register'!GF$3:GF$242)=TRUE,\"P\",\"A\")","v":"A"},{"$f":"IF(Attendance($C22,'Daily Register'!GG$3:GG$242)=TRUE,\"P\",\"A\")","v":"A"},{"$f":"IF(Attendance($C22,'Daily Register'!GH$3:GH$242)=TRUE,\"P\",\"A\")","v":"A"},{"$f":"IF(Attendance($C22,'Daily Register'!GI$3:GI$242)=TRUE,\"P\",\"A\")","v":"A"},{"$f":"IF(Attendance($C22,'Daily Register'!GJ$3:GJ$242)=TRUE,\"P\",\"A\")","v":"A"},{"$f":"IF(Attendance($C22,'Daily Register'!GK$3:GK$242)=TRUE,\"P\",\"A\")","v":"A"},{"$f":"IF(Attendance($C22,'Daily Register'!GL$3:GL$242)=TRUE,\"P\",\"A\")","v":"A"},{"$f":"IF(Attendance($C22,'Daily Register'!GM$3:GM$242)=TRUE,\"P\",\"A\")","v":"A"},{"$f":"IF(Attendance($C22,'Daily Register'!GN$3:GN$242)=TRUE,\"P\",\"A\")","v":"A"},{"$f":"IF(Attendance($C22,'Daily Register'!GO$3:GO$242)=TRUE,\"P\",\"A\")","v":"A"},{"$f":"IF(Attendance($C22,'Daily Register'!GP$3:GP$242)=TRUE,\"P\",\"A\")","v":"A"},{"$f":"IF(Attendance($C22,'Daily Register'!GQ$3:GQ$242)=TRUE,\"P\",\"A\")","v":"A"},{"$f":"IF(Attendance($C22,'Daily Register'!GR$3:GR$242)=TRUE,\"P\",\"A\")","v":"A"},{"$f":"IF(Attendance($C22,'Daily Register'!GS$3:GS$242)=TRUE,\"P\",\"A\")","v":"A"},{"$f":"IF(Attendance($C22,'Daily Register'!GT$3:GT$242)=TRUE,\"P\",\"A\")","v":"A"},{"$f":"IF(Attendance($C22,'Daily Register'!GU$3:GU$242)=TRUE,\"P\",\"A\")","v":"A"},{"$f":"IF(Attendance($C22,'Daily Register'!GV$3:GV$242)=TRUE,\"P\",\"A\")","v":"A"},{"$f":"IF(Attendance($C22,'Daily Register'!GW$3:GW$242)=TRUE,\"P\",\"A\")","v":"A"},{"$f":"IF(Attendance($C22,'Daily Register'!GX$3:GX$242)=TRUE,\"P\",\"A\")","v":"A"},{"$f":"IF(Attendance($C22,'Daily Register'!GY$3:GY$242)=TRUE,\"P\",\"A\")","v":"A"},{"$f":"IF(Attendance($C22,'Daily Register'!GZ$3:GZ$242)=TRUE,\"P\",\"A\")","v":"A"},{"$f":"IF(Attendance($C22,'Daily Register'!HA$3:HA$242)=TRUE,\"P\",\"A\")","v":"A"},{"$f":"IF(Attendance($C22,'Daily Register'!HB$3:HB$242)=TRUE,\"P\",\"A\")","v":"A"},{"$f":"IF(Attendance($C22,'Daily Register'!HC$3:HC$242)=TRUE,\"P\",\"A\")","v":"A"},{"$f":"IF(Attendance($C22,'Daily Register'!HD$3:HD$242)=TRUE,\"P\",\"A\")","v":"A"},{"$f":"IF(Attendance($C22,'Daily Register'!HE$3:HE$242)=TRUE,\"P\",\"A\")","v":"A"},{"$f":"IF(Attendance($C22,'Daily Register'!HF$3:HF$242)=TRUE,\"P\",\"A\")","v":"A"},{"$f":"IF(Attendance($C22,'Daily Register'!HG$3:HG$242)=TRUE,\"P\",\"A\")","v":"A"},{"$f":"IF(Attendance($C22,'Daily Register'!HH$3:HH$242)=TRUE,\"P\",\"A\")","v":"A"},{"$f":"IF(Attendance($C22,'Daily Register'!HI$3:HI$242)=TRUE,\"P\",\"A\")","v":"A"},{"$f":"IF(Attendance($C22,'Daily Register'!HJ$3:HJ$242)=TRUE,\"P\",\"A\")","v":"A"},{"$f":"IF(Attendance($C22,'Daily Register'!HK$3:HK$242)=TRUE,\"P\",\"A\")","v":"A"},{"$f":"IF(Attendance($C22,'Daily Register'!HL$3:HL$242)=TRUE,\"P\",\"A\")","v":"A"},{"$f":"IF(Attendance($C22,'Daily Register'!HM$3:HM$242)=TRUE,\"P\",\"A\")","v":"A"},{"$f":"IF(Attendance($C22,'Daily Register'!HN$3:HN$242)=TRUE,\"P\",\"A\")","v":"A"},{"$f":"IF(Attendance($C22,'Daily Register'!HO$3:HO$242)=TRUE,\"P\",\"A\")","v":"A"},{"$f":"IF(Attendance($C22,'Daily Register'!HP$3:HP$242)=TRUE,\"P\",\"A\")","v":"A"},{"$f":"IF(Attendance($C22,'Daily Register'!HQ$3:HQ$242)=TRUE,\"P\",\"A\")","v":"A"},{"$f":"IF(Attendance($C22,'Daily Register'!HR$3:HR$242)=TRUE,\"P\",\"A\")","v":"A"},{"$f":"IF(Attendance($C22,'Daily Register'!HS$3:HS$242)=TRUE,\"P\",\"A\")","v":"A"},{"$f":"IF(Attendance($C22,'Daily Register'!HT$3:HT$242)=TRUE,\"P\",\"A\")","v":"A"},{"$f":"IF(Attendance($C22,'Daily Register'!HU$3:HU$242)=TRUE,\"P\",\"A\")","v":"A"},{"$f":"IF(Attendance($C22,'Daily Register'!HV$3:HV$242)=TRUE,\"P\",\"A\")","v":"A"},{"$f":"IF(Attendance($C22,'Daily Register'!HW$3:HW$242)=TRUE,\"P\",\"A\")","v":"A"},{"$f":"IF(Attendance($C22,'Daily Register'!HX$3:HX$242)=TRUE,\"P\",\"A\")","v":"A"},{"$f":"IF(Attendance($C22,'Daily Register'!HY$3:HY$242)=TRUE,\"P\",\"A\")","v":"A"},{"$f":"IF(Attendance($C22,'Daily Register'!HZ$3:HZ$242)=TRUE,\"P\",\"A\")","v":"A"},{"$f":"IF(Attendance($C22,'Daily Register'!IA$3:IA$242)=TRUE,\"P\",\"A\")","v":"A"},{"$f":"IF(Attendance($C22,'Daily Register'!IB$3:IB$242)=TRUE,\"P\",\"A\")","v":"A"},{"$f":"IF(Attendance($C22,'Daily Register'!IC$3:IC$242)=TRUE,\"P\",\"A\")","v":"A"},{"$f":"IF(Attendance($C22,'Daily Register'!ID$3:ID$242)=TRUE,\"P\",\"A\")","v":"A"},{"$f":"IF(Attendance($C22,'Daily Register'!IE$3:IE$242)=TRUE,\"P\",\"A\")","v":"A"},{"$f":"IF(Attendance($C22,'Daily Register'!IF$3:IF$242)=TRUE,\"P\",\"A\")","v":"A"},{"$f":"IF(Attendance($C22,'Daily Register'!IG$3:IG$242)=TRUE,\"P\",\"A\")","v":"A"},{"$f":"IF(Attendance($C22,'Daily Register'!IH$3:IH$242)=TRUE,\"P\",\"A\")","v":"A"},{"$f":"IF(Attendance($C22,'Daily Register'!II$3:II$242)=TRUE,\"P\",\"A\")","v":"A"},{"$f":"IF(Attendance($C22,'Daily Register'!IJ$3:IJ$242)=TRUE,\"P\",\"A\")","v":"A"},{"$f":"IF(Attendance($C22,'Daily Register'!IK$3:IK$242)=TRUE,\"P\",\"A\")","v":"A"},{"$f":"IF(Attendance($C22,'Daily Register'!IL$3:IL$242)=TRUE,\"P\",\"A\")","v":"A"},{"$f":"IF(Attendance($C22,'Daily Register'!IM$3:IM$242)=TRUE,\"P\",\"A\")","v":"A"},{"$f":"IF(Attendance($C22,'Daily Register'!IN$3:IN$242)=TRUE,\"P\",\"A\")","v":"A"},{"$f":"IF(Attendance($C22,'Daily Register'!IO$3:IO$242)=TRUE,\"P\",\"A\")","v":"A"},{"$f":"IF(Attendance($C22,'Daily Register'!IP$3:IP$242)=TRUE,\"P\",\"A\")","v":"A"},{"$f":"IF(Attendance($C22,'Daily Register'!IQ$3:IQ$242)=TRUE,\"P\",\"A\")","v":"A"},{"$f":"IF(Attendance($C22,'Daily Register'!IR$3:IR$242)=TRUE,\"P\",\"A\")","v":"A"},{"$f":"IF(Attendance($C22,'Daily Register'!IS$3:IS$242)=TRUE,\"P\",\"A\")","v":"A"},{"$f":"IF(Attendance($C22,'Daily Register'!IT$3:IT$242)=TRUE,\"P\",\"A\")","v":"A"},{"$f":"IF(Attendance($C22,'Daily Register'!IU$3:IU$242)=TRUE,\"P\",\"A\")","v":"A"},{"$f":"IF(Attendance($C22,'Daily Register'!IV$3:IV$242)=TRUE,\"P\",\"A\")","v":"A"},{"$f":"IF(Attendance($C22,'Daily Register'!IW$3:IW$242)=TRUE,\"P\",\"A\")","v":"A"},{"$f":"IF(Attendance($C22,'Daily Register'!IX$3:IX$242)=TRUE,\"P\",\"A\")","v":"A"},{"$f":"IF(Attendance($C22,'Daily Register'!IY$3:IY$242)=TRUE,\"P\",\"A\")","v":"A"},{"$f":"IF(Attendance($C22,'Daily Register'!IZ$3:IZ$242)=TRUE,\"P\",\"A\")","v":"A"},{"$f":"IF(Attendance($C22,'Daily Register'!JA$3:JA$242)=TRUE,\"P\",\"A\")","v":"A"},{"$f":"IF(Attendance($C22,'Daily Register'!JB$3:JB$242)=TRUE,\"P\",\"A\")","v":"A"},{"$f":"IF(Attendance($C22,'Daily Register'!JC$3:JC$242)=TRUE,\"P\",\"A\")","v":"A"},{"$f":"IF(Attendance($C22,'Daily Register'!JD$3:JD$242)=TRUE,\"P\",\"A\")","v":"A"},{"$f":"IF(Attendance($C22,'Daily Register'!JE$3:JE$242)=TRUE,\"P\",\"A\")","v":"A"},{"$f":"IF(Attendance($C22,'Daily Register'!JF$3:JF$242)=TRUE,\"P\",\"A\")","v":"A"},{"$f":"IF(Attendance($C22,'Daily Register'!JG$3:JG$242)=TRUE,\"P\",\"A\")","v":"A"},{"$f":"IF(Attendance($C22,'Daily Register'!JH$3:JH$242)=TRUE,\"P\",\"A\")","v":"A"},{"$f":"IF(Attendance($C22,'Daily Register'!JI$3:JI$242)=TRUE,\"P\",\"A\")","v":"A"},{"$f":"IF(Attendance($C22,'Daily Register'!JJ$3:JJ$242)=TRUE,\"P\",\"A\")","v":"A"},{"$f":"IF(Attendance($C22,'Daily Register'!JK$3:JK$242)=TRUE,\"P\",\"A\")","v":"A"},{"$f":"IF(Attendance($C22,'Daily Register'!JL$3:JL$242)=TRUE,\"P\",\"A\")","v":"A"},{"$f":"IF(Attendance($C22,'Daily Register'!JM$3:JM$242)=TRUE,\"P\",\"A\")","v":"A"},{"$f":"IF(Attendance($C22,'Daily Register'!JN$3:JN$242)=TRUE,\"P\",\"A\")","v":"A"},{"$f":"IF(Attendance($C22,'Daily Register'!JO$3:JO$242)=TRUE,\"P\",\"A\")","v":"A"},{"$f":"IF(Attendance($C22,'Daily Register'!JP$3:JP$242)=TRUE,\"P\",\"A\")","v":"A"},{"$f":"IF(Attendance($C22,'Daily Register'!JQ$3:JQ$242)=TRUE,\"P\",\"A\")","v":"A"},{"$f":"IF(Attendance($C22,'Daily Register'!JR$3:JR$242)=TRUE,\"P\",\"A\")","v":"A"},{"$f":"IF(Attendance($C22,'Daily Register'!JS$3:JS$242)=TRUE,\"P\",\"A\")","v":"A"},{"$f":"IF(Attendance($C22,'Daily Register'!JT$3:JT$242)=TRUE,\"P\",\"A\")","v":"A"},{"$f":"IF(Attendance($C22,'Daily Register'!JU$3:JU$242)=TRUE,\"P\",\"A\")","v":"A"},{"$f":"IF(Attendance($C22,'Daily Register'!JV$3:JV$242)=TRUE,\"P\",\"A\")","v":"A"},{"$f":"IF(Attendance($C22,'Daily Register'!JW$3:JW$242)=TRUE,\"P\",\"A\")","v":"A"},{"$f":"IF(Attendance($C22,'Daily Register'!JX$3:JX$242)=TRUE,\"P\",\"A\")","v":"A"},{"$f":"IF(Attendance($C22,'Daily Register'!JY$3:JY$242)=TRUE,\"P\",\"A\")","v":"A"},{"$f":"IF(Attendance($C22,'Daily Register'!JZ$3:JZ$242)=TRUE,\"P\",\"A\")","v":"A"},{"$f":"IF(Attendance($C22,'Daily Register'!KA$3:KA$242)=TRUE,\"P\",\"A\")","v":"A"},{"$f":"IF(Attendance($C22,'Daily Register'!KB$3:KB$242)=TRUE,\"P\",\"A\")","v":"A"},{"$f":"IF(Attendance($C22,'Daily Register'!KC$3:KC$242)=TRUE,\"P\",\"A\")","v":"A"},{"$f":"IF(Attendance($C22,'Daily Register'!KD$3:KD$242)=TRUE,\"P\",\"A\")","v":"A"},{"$f":"IF(Attendance($C22,'Daily Register'!KE$3:KE$242)=TRUE,\"P\",\"A\")","v":"A"},{"$f":"IF(Attendance($C22,'Daily Register'!KF$3:KF$242)=TRUE,\"P\",\"A\")","v":"A"},{"$f":"IF(Attendance($C22,'Daily Register'!KG$3:KG$242)=TRUE,\"P\",\"A\")","v":"A"},{"$f":"IF(Attendance($C22,'Daily Register'!KH$3:KH$242)=TRUE,\"P\",\"A\")","v":"A"},{"$f":"IF(Attendance($C22,'Daily Register'!KI$3:KI$242)=TRUE,\"P\",\"A\")","v":"A"},{"$f":"IF(Attendance($C22,'Daily Register'!KJ$3:KJ$242)=TRUE,\"P\",\"A\")","v":"A"},{"$f":"IF(Attendance($C22,'Daily Register'!KK$3:KK$242)=TRUE,\"P\",\"A\")","v":"A"},{"$f":"IF(Attendance($C22,'Daily Register'!KL$3:KL$242)=TRUE,\"P\",\"A\")","v":"A"},{"$f":"IF(Attendance($C22,'Daily Register'!KM$3:KM$242)=TRUE,\"P\",\"A\")","v":"A"},{"$f":"IF(Attendance($C22,'Daily Register'!KN$3:KN$242)=TRUE,\"P\",\"A\")","v":"A"},{"$f":"IF(Attendance($C22,'Daily Register'!KO$3:KO$242)=TRUE,\"P\",\"A\")","v":"A"},{"$f":"IF(Attendance($C22,'Daily Register'!KP$3:KP$242)=TRUE,\"P\",\"A\")","v":"A"},{"$f":"IF(Attendance($C22,'Daily Register'!KQ$3:KQ$242)=TRUE,\"P\",\"A\")","v":"A"},{"$f":"IF(Attendance($C22,'Daily Register'!KR$3:KR$242)=TRUE,\"P\",\"A\")","v":"A"},{"$f":"IF(Attendance($C22,'Daily Register'!KS$3:KS$242)=TRUE,\"P\",\"A\")","v":"A"},{"$f":"IF(Attendance($C22,'Daily Register'!KT$3:KT$242)=TRUE,\"P\",\"A\")","v":"A"},{"$f":"IF(Attendance($C22,'Daily Register'!KU$3:KU$242)=TRUE,\"P\",\"A\")","v":"A"},{"$f":"IF(Attendance($C22,'Daily Register'!KV$3:KV$242)=TRUE,\"P\",\"A\")","v":"A"},{"$f":"IF(Attendance($C22,'Daily Register'!KW$3:KW$242)=TRUE,\"P\",\"A\")","v":"A"},{"$f":"IF(Attendance($C22,'Daily Register'!KX$3:KX$242)=TRUE,\"P\",\"A\")","v":"A"},{"$f":"IF(Attendance($C22,'Daily Register'!KY$3:KY$242)=TRUE,\"P\",\"A\")","v":"A"},{"$f":"IF(Attendance($C22,'Daily Register'!KZ$3:KZ$242)=TRUE,\"P\",\"A\")","v":"A"},{"$f":"IF(Attendance($C22,'Daily Register'!LA$3:LA$242)=TRUE,\"P\",\"A\")","v":"A"},{"$f":"IF(Attendance($C22,'Daily Register'!LB$3:LB$242)=TRUE,\"P\",\"A\")","v":"A"},{"$f":"IF(Attendance($C22,'Daily Register'!LC$3:LC$242)=TRUE,\"P\",\"A\")","v":"A"},{"$f":"IF(Attendance($C22,'Daily Register'!LD$3:LD$242)=TRUE,\"P\",\"A\")","v":"A"},{"$f":"IF(Attendance($C22,'Daily Register'!LE$3:LE$242)=TRUE,\"P\",\"A\")","v":"A"},{"$f":"IF(Attendance($C22,'Daily Register'!LF$3:LF$242)=TRUE,\"P\",\"A\")","v":"A"},{"$f":"IF(Attendance($C22,'Daily Register'!LG$3:LG$242)=TRUE,\"P\",\"A\")","v":"A"},{"$f":"IF(Attendance($C22,'Daily Register'!LH$3:LH$242)=TRUE,\"P\",\"A\")","v":"A"},{"$f":"IF(Attendance($C22,'Daily Register'!LI$3:LI$242)=TRUE,\"P\",\"A\")","v":"A"},{"$f":"IF(Attendance($C22,'Daily Register'!LJ$3:LJ$242)=TRUE,\"P\",\"A\")","v":"A"},{"$f":"IF(Attendance($C22,'Daily Register'!LK$3:LK$242)=TRUE,\"P\",\"A\")","v":"A"},{"$f":"IF(Attendance($C22,'Daily Register'!LL$3:LL$242)=TRUE,\"P\",\"A\")","v":"A"},{"$f":"IF(Attendance($C22,'Daily Register'!LM$3:LM$242)=TRUE,\"P\",\"A\")","v":"A"},{"$f":"IF(Attendance($C22,'Daily Register'!LN$3:LN$242)=TRUE,\"P\",\"A\")","v":"A"},{"$f":"IF(Attendance($C22,'Daily Register'!LO$3:LO$242)=TRUE,\"P\",\"A\")","v":"A"},{"$f":"IF(Attendance($C22,'Daily Register'!LP$3:LP$242)=TRUE,\"P\",\"A\")","v":"A"},{"$f":"IF(Attendance($C22,'Daily Register'!LQ$3:LQ$242)=TRUE,\"P\",\"A\")","v":"A"},{"$f":"IF(Attendance($C22,'Daily Register'!LR$3:LR$242)=TRUE,\"P\",\"A\")","v":"A"},{"$f":"IF(Attendance($C22,'Daily Register'!LS$3:LS$242)=TRUE,\"P\",\"A\")","v":"A"},{"$f":"IF(Attendance($C22,'Daily Register'!LT$3:LT$242)=TRUE,\"P\",\"A\")","v":"A"},{"$f":"IF(Attendance($C22,'Daily Register'!LU$3:LU$242)=TRUE,\"P\",\"A\")","v":"A"},{"$f":"IF(Attendance($C22,'Daily Register'!LV$3:LV$242)=TRUE,\"P\",\"A\")","v":"A"},{"$f":"IF(Attendance($C22,'Daily Register'!LW$3:LW$242)=TRUE,\"P\",\"A\")","v":"A"},{"$f":"IF(Attendance($C22,'Daily Register'!LX$3:LX$242)=TRUE,\"P\",\"A\")","v":"A"},{"$f":"IF(Attendance($C22,'Daily Register'!LY$3:LY$242)=TRUE,\"P\",\"A\")","v":"A"},{"$f":"IF(Attendance($C22,'Daily Register'!LZ$3:LZ$242)=TRUE,\"P\",\"A\")","v":"A"},{"$f":"IF(Attendance($C22,'Daily Register'!MA$3:MA$242)=TRUE,\"P\",\"A\")","v":"A"},{"$f":"IF(Attendance($C22,'Daily Register'!MB$3:MB$242)=TRUE,\"P\",\"A\")","v":"A"},{"$f":"IF(Attendance($C22,'Daily Register'!MC$3:MC$242)=TRUE,\"P\",\"A\")","v":"A"},{"$f":"IF(Attendance($C22,'Daily Register'!MD$3:MD$242)=TRUE,\"P\",\"A\")","v":"A"},{"$f":"IF(Attendance($C22,'Daily Register'!ME$3:ME$242)=TRUE,\"P\",\"A\")","v":"A"},{"$f":"IF(Attendance($C22,'Daily Register'!MF$3:MF$242)=TRUE,\"P\",\"A\")","v":"A"},{"$f":"IF(Attendance($C22,'Daily Register'!MG$3:MG$242)=TRUE,\"P\",\"A\")","v":"A"},{"$f":"IF(Attendance($C22,'Daily Register'!MH$3:MH$242)=TRUE,\"P\",\"A\")","v":"A"},{"$f":"IF(Attendance($C22,'Daily Register'!MI$3:MI$242)=TRUE,\"P\",\"A\")","v":"A"},{"$f":"IF(Attendance($C22,'Daily Register'!MJ$3:MJ$242)=TRUE,\"P\",\"A\")","v":"A"},{"$f":"IF(Attendance($C22,'Daily Register'!MK$3:MK$242)=TRUE,\"P\",\"A\")","v":"A"},{"$f":"IF(Attendance($C22,'Daily Register'!ML$3:ML$242)=TRUE,\"P\",\"A\")","v":"A"},{"$f":"IF(Attendance($C22,'Daily Register'!MM$3:MM$242)=TRUE,\"P\",\"A\")","v":"A"},{"$f":"IF(Attendance($C22,'Daily Register'!MN$3:MN$242)=TRUE,\"P\",\"A\")","v":"A"},{"$f":"IF(Attendance($C22,'Daily Register'!MO$3:MO$242)=TRUE,\"P\",\"A\")","v":"A"},{"$f":"IF(Attendance($C22,'Daily Register'!MP$3:MP$242)=TRUE,\"P\",\"A\")","v":"A"},{"$f":"IF(Attendance($C22,'Daily Register'!MQ$3:MQ$242)=TRUE,\"P\",\"A\")","v":"A"},{"$f":"IF(Attendance($C22,'Daily Register'!MR$3:MR$242)=TRUE,\"P\",\"A\")","v":"A"},{"$f":"IF(Attendance($C22,'Daily Register'!MS$3:MS$242)=TRUE,\"P\",\"A\")","v":"A"},{"$f":"IF(Attendance($C22,'Daily Register'!MT$3:MT$242)=TRUE,\"P\",\"A\")","v":"A"},{"$f":"IF(Attendance($C22,'Daily Register'!MU$3:MU$242)=TRUE,\"P\",\"A\")","v":"A"},{"$f":"IF(Attendance($C22,'Daily Register'!MV$3:MV$242)=TRUE,\"P\",\"A\")","v":"A"},{"$f":"IF(Attendance($C22,'Daily Register'!MW$3:MW$242)=TRUE,\"P\",\"A\")","v":"A"},{"$f":"IF(Attendance($C22,'Daily Register'!MX$3:MX$242)=TRUE,\"P\",\"A\")","v":"A"},{"$f":"IF(Attendance($C22,'Daily Register'!MY$3:MY$242)=TRUE,\"P\",\"A\")","v":"A"},{"$f":"IF(Attendance($C22,'Daily Register'!MZ$3:MZ$242)=TRUE,\"P\",\"A\")","v":"A"},{"$f":"IF(Attendance($C22,'Daily Register'!NA$3:NA$242)=TRUE,\"P\",\"A\")","v":"A"},{"$f":"IF(Attendance($C22,'Daily Register'!NB$3:NB$242)=TRUE,\"P\",\"A\")","v":"A"}]
[0,null,20,null,{"$f":"IF(Attendance($C23,'Daily Register'!A$3:A$242)=TRUE,\"P\",\"A\")","v":"A"},{"$f":"IF(Attendance($C23,'Daily Register'!B$3:B$242)=TRUE,\"P\",\"A\")","v":"A"},{"$f":"IF(Attendance($C23,'Daily Register'!C$3:C$242)=TRUE,\"P\",\"A\")","v":"A"},{"$f":"IF(Attendance($C23,'Daily Register'!D$3:D$242)=TRUE,\"P\",\"A\")","v":"A"},{"$f":"IF(Attendance($C23,'Daily Register'!E$3:E$242)=TRUE,\"P\",\"A\")","v":"A"},{"$f":"IF(Attendance($C23,'Daily Register'!F$3:F$242)=TRUE,\"P\",\"A\")","v":"A"},{"$f":"IF(Attendance($C23,'Daily Register'!G$3:G$242)=TRUE,\"P\",\"A\")","v":"A"},{"$f":"IF(Attendance($C23,'Daily Register'!H$3:H$242)=TRUE,\"P\",\"A\")","v":"A"},{"$f":"IF(Attendance($C23,'Daily Register'!I$3:I$242)=TRUE,\"P\",\"A\")","v":"A"},{"$f":"IF(Attendance($C23,'Daily Register'!J$3:J$242)=TRUE,\"P\",\"A\")","v":"A"},{"$f":"IF(Attendance($C23,'Daily Register'!K$3:K$242)=TRUE,\"P\",\"A\")","v":"A"},{"$f":"IF(Attendance($C23,'Daily Register'!L$3:L$242)=TRUE,\"P\",\"A\")","v":"A"},{"$f":"IF(Attendance($C23,'Daily Register'!M$3:M$242)=TRUE,\"P\",\"A\")","v":"A"},{"$f":"IF(Attendance($C23,'Daily Register'!N$3:N$242)=TRUE,\"P\",\"A\")","v":"A"},{"$f":"IF(Attendance($C23,'Daily Register'!O$3:O$242)=TRUE,\"P\",\"A\")","v":"A"},{"$f":"IF(Attendance($C23,'Daily Register'!P$3:P$242)=TRUE,\"P\",\"A\")","v":"A"},{"$f":"IF(Attendance($C23,'Daily Register'!Q$3:Q$242)=TRUE,\"P\",\"A\")","v":"A"},{"$f":"IF(Attendance($C23,'Daily Register'!R$3:R$242)=TRUE,\"P\",\"A\")","v":"A"},{"$f":"IF(Attendance($C23,'Daily Register'!S$3:S$242)=TRUE,\"P\",\"A\")","v":"A"},{"$f":"IF(Attendance($C23,'Daily Register'!T$3:T$242)=TRUE,\"P\",\"A\")","v":"A"},{"$f":"IF(Attendance($C23,'Daily Register'!U$3:U$242)=TRUE,\"P\",\"A\")","v":"A"},{"$f":"IF(Attendance($C23,'Daily Register'!V$3:V$242)=TRUE,\"P\",\"A\")","v":"A"},{"$f":"IF(Attendance($C23,'Daily Register'!W$3:W$242)=TRUE,\"P\",\"A\")","v":"A"},{"$f":"IF(Attendance($C23,'Daily Register'!X$3:X$242)=TRUE,\"P\",\"A\")","v":"A"},{"$f":"IF(Attendance($C23,'Daily Register'!Y$3:Y$242)=TRUE,\"P\",\"A\")","v":"A"},{"$f":"IF(Attendance($C23,'Daily Register'!Z$3:Z$242)=TRUE,\"P\",\"A\")","v":"A"},{"$f":"IF(Attendance($C23,'Daily Register'!AA$3:AA$242)=TRUE,\"P\",\"A\")","v":"A"},{"$f":"IF(Attendance($C23,'Daily Register'!AB$3:AB$242)=TRUE,\"P\",\"A\")","v":"A"},{"$f":"IF(Attendance($C23,'Daily Register'!AC$3:AC$242)=TRUE,\"P\",\"A\")","v":"A"},{"$f":"IF(Attendance($C23,'Daily Register'!AD$3:AD$242)=TRUE,\"P\",\"A\")","v":"A"},{"$f":"IF(Attendance($C23,'Daily Register'!AE$3:AE$242)=TRUE,\"P\",\"A\")","v":"A"},{"$f":"IF(Attendance($C23,'Daily Register'!AF$3:AF$242)=TRUE,\"P\",\"A\")","v":"A"},{"$f":"IF(Attendance($C23,'Daily Register'!AG$3:AG$242)=TRUE,\"P\",\"A\")","v":"A"},{"$f":"IF(Attendance($C23,'Daily Register'!AH$3:AH$242)=TRUE,\"P\",\"A\")","v":"A"},{"$f":"IF(Attendance($C23,'Daily Register'!AI$3:AI$242)=TRUE,\"P\",\"A\")","v":"A"},{"$f":"IF(Attendance($C23,'Daily Register'!AJ$3:AJ$242)=TRUE,\"P\",\"A\")","v":"A"},{"$f":"IF(Attendance($C23,'Daily Register'!AK$3:AK$242)=TRUE,\"P\",\"A\")","v":"A"},{"$f":"IF(Attendance($C23,'Daily Register'!AL$3:AL$242)=TRUE,\"P\",\"A\")","v":"A"},{"$f":"IF(Attendance($C23,'Daily Register'!AM$3:AM$242)=TRUE,\"P\",\"A\")","v":"A"},{"$f":"IF(Attendance($C23,'Daily Register'!AN$3:AN$242)=TRUE,\"P\",\"A\")","v":"A"},{"$f":"IF(Attendance($C23,'Daily Register'!AO$3:AO$242)=TRUE,\"P\",\"A\")","v":"A"},{"$f":"IF(Attendance($C23,'Daily Register'!AP$3:AP$242)=TRUE,\"P\",\"A\")","v":"A"},{"$f":"IF(Attendance($C23,'Daily Register'!AQ$3:AQ$242)=TRUE,\"P\",\"A\")","v":"A"},{"$f":"IF(Attendance($C23,'Daily Register'!AR$3:AR$242)=TRUE,\"P\",\"A\")","v":"A"},{"$f":"IF(Attendance($C23,'Daily Register'!AS$3:AS$242)=TRUE,\"P\",\"A\")","v":"A"},{"$f":"IF(Attendance($C23,'Daily Register'!AT$3:AT$242)=TRUE,\"P\",\"A\")","v":"A"},{"$f":"IF(Attendance($C23,'Daily Register'!AU$3:AU$242)=TRUE,\"P\",\"A\")","v":"A"},{"$f":"IF(Attendance($C23,'Daily Register'!AV$3:AV$242)=TRUE,\"P\",\"A\")","v":"A"},{"$f":"IF(Attendance($C23,'Daily Register'!AW$3:AW$242)=TRUE,\"P\",\"A\")","v":"A"},{"$f":"IF(Attendance($C23,'Daily Register'!AX$3:AX$242)=TRUE,\"P\",\"A\")","v":"A"},{"$f":"IF(Attendance($C23,'Daily Register'!AY$3:AY$242)=TRUE,\"P\",\"A\")","v":"A"},{"$f":"IF(Attendance($C23,'Daily Register'!AZ$3:AZ$242)=TRUE,\"P\",\"A\")","v":"A"},{"$f":"IF(Attendance($C23,'Daily Register'!BA$3:BA$242)=TRUE,\"P\",\"A\")","v":"A"},{"$f":"IF(Attendance($C23,'Daily Register'!BB$3:BB$242)=TRUE,\"P\",\"A\")","v":"A"},{"$f":"IF(Attendance($C23,'Daily Register'!BC$3:BC$242)=TRUE,\"P\",\"A\")","v":"A"},{"$f":"IF(Attendance($C23,'Daily Register'!BD$3:BD$242)=TRUE,\"P\",\"A\")","v":"A"},{"$f":"IF(Attendance($C23,'Daily Register'!BE$3:BE$242)=TRUE,\"P\",\"A\")","v":"A"},{"$f":"IF(Attendance($C23,'Daily Register'!BF$3:BF$242)=TRUE,\"P\",\"A\")","v":"A"},{"$f":"IF(Attendance($C23,'Daily Register'!BG$3:BG$242)=TRUE,\"P\",\"A\")","v":"A"},{"$f":"IF(Attendance($C23,'Daily Register'!BH$3:BH$242)=TRUE,\"P\",\"A\")","v":"A"},{"$f":"IF(Attendance($C23,'Daily Register'!BI$3:BI$242)=TRUE,\"P\",\"A\")","v":"A"},{"$f":"IF(Attendance($C23,'Daily Register'!BJ$3:BJ$242)=TRUE,\"P\",\"A\")","v":"A"},{"$f":"IF(Attendance($C23,'Daily Register'!BK$3:BK$242)=TRUE,\"P\",\"A\")","v":"A"},{"$f":"IF(Attendance($C23,'Daily Register'!BL$3:BL$242)=TRUE,\"P\",\"A\")","v":"A"},{"$f":"IF(Attendance($C23,'Daily Register'!BM$3:BM$242)=TRUE,\"P\",\"A\")","v":"A"},{"$f":"IF(Attendance($C23,'Daily Register'!BN$3:BN$242)=TRUE,\"P\",\"A\")","v":"A"},{"$f":"IF(Attendance($C23,'Daily Register'!BO$3:BO$242)=TRUE,\"P\",\"A\")","v":"A"},{"$f":"IF(Attendance($C23,'Daily Register'!BP$3:BP$242)=TRUE,\"P\",\"A\")","v":"A"},{"$f":"IF(Attendance($C23,'Daily Register'!BQ$3:BQ$242)=TRUE,\"P\",\"A\")","v":"A"},{"$f":"IF(Attendance($C23,'Daily Register'!BR$3:BR$242)=TRUE,\"P\",\"A\")","v":"A"},{"$f":"IF(Attendance($C23,'Daily Register'!BS$3:BS$242)=TRUE,\"P\",\"A\")","v":"A"},{"$f":"IF(Attendance($C23,'Daily Register'!BT$3:BT$242)=TRUE,\"P\",\"A\")","v":"A"},{"$f":"IF(Attendance($C23,'Daily Register'!BU$3:BU$242)=TRUE,\"P\",\"A\")","v":"A"},{"$f":"IF(Attendance($C23,'Daily Register'!BV$3:BV$242)=TRUE,\"P\",\"A\")","v":"A"},{"$f":"IF(Attendance($C23,'Daily Register'!BW$3:BW$242)=TRUE,\"P\",\"A\")","v":"A"},{"$f":"IF(Attendance($C23,'Daily Register'!BX$3:BX$242)=TRUE,\"P\",\"A\")","v":"A"},{"$f":"IF(Attendance($C23,'Daily Register'!BY$3:BY$242)=TRUE,\"P\",\"A\")","v":"A"},{"$f":"IF(Attendance($C23,'Daily Register'!BZ$3:BZ$242)=TRUE,\"P\",\"A\")","v":"A"},{"$f":"IF(Attendance($C23,'Daily Register'!CA$3:CA$242)=TRUE,\"P\",\"A\")","v":"A"},{"$f":"IF(Attendance($C23,'Daily Register'!CB$3:CB$242)=TRUE,\"P\",\"A\")","v":"A"},{"$f":"IF(Attendance($C23,'Daily Register'!CC$3:CC$242)=TRUE,\"P\",\"A\")","v":"A"},{"$f":"IF(Attendance($C23,'Daily Register'!CD$3:CD$242)=TRUE,\"P\",\"A\")","v":"A"},{"$f":"IF(Attendance($C23,'Daily Register'!CE$3:CE$242)=TRUE,\"P\",\"A\")","v":"A"},{"$f":"IF(Attendance($C23,'Daily Register'!CF$3:CF$242)=TRUE,\"P\",\"A\")","v":"A"},{"$f":"IF(Attendance($C23,'Daily Register'!CG$3:CG$242)=TRUE,\"P\",\"A\")","v":"A"},{"$f":"IF(Attendance($C23,'Daily Register'!CH$3:CH$242)=TRUE,\"P\",\"A\")","v":"A"},{"$f":"IF(Attendance($C23,'Daily Register'!CI$3:CI$242)=TRUE,\"P\",\"A\")","v":"A"},{"$f":"IF(Attendance($C23,'Daily Register'!CJ$3:CJ$242)=TRUE,\"P\",\"A\")","v":"A"},{"$f":"IF(Attendance($C23,'Daily Register'!CK$3:CK$242)=TRUE,\"P\",\"A\")","v":"A"},{"$f":"IF(Attendance($C23,'Daily Register'!CL$3:CL$242)=TRUE,\"P\",\"A\")","v":"A"},{"$f":"IF(Attendance($C23,'Daily Register'!CM$3:CM$242)=TRUE,\"P\",\"A\")","v":"A"},{"$f":"IF(Attendance($C23,'Daily Register'!CN$3:CN$242)=TRUE,\"P\",\"A\")","v":"A"},{"$f":"IF(Attendance($C23,'Daily Register'!CO$3:CO$242)=TRUE,\"P\",\"A\")","v":"A"},{"$f":"IF(Attendance($C23,'Daily Register'!CP$3:CP$242)=TRUE,\"P\",\"A\")","v":"A"},{"$f":"IF(Attendance($C23,'Daily Register'!CQ$3:CQ$242)=TRUE,\"P\",\"A\")","v":"A"},{"$f":"IF(Attendance($C23,'Daily Register'!CR$3:CR$242)=TRUE,\"P\",\"A\")","v":"A"},{"$f":"IF(Attendance($C23,'Daily Register'!CS$3:CS$242)=TRUE,\"P\",\"A\")","v":"A"},{"$f":"IF(Attendance($C23,'Daily Register'!CT$3:CT$242)=TRUE,\"P\",\"A\")","v":"A"},{"$f":"IF(Attendance($C23,'Daily Register'!CU$3:CU$242)=TRUE,\"P\",\"A\")","v":"A"},{"$f":"IF(Attendance($C23,'Daily Register'!CV$3:CV$242)=TRUE,\"P\",\"A\")","v":"A"},{"$f":"IF(Attendance($C23,'Daily Register'!CW$3:CW$242)=TRUE,\"P\",\"A\")","v":"A"},{"$f":"IF(Attendance($C23,'Daily Register'!CX$3:CX$242)=TRUE,\"P\",\"A\")","v":"A"},{"$f":"IF(Attendance($C23,'Daily Register'!CY$3:CY$242)=TRUE,\"P\",\"A\")","v":"A"},{"$f":"IF(Attendance($C23,'Daily Register'!CZ$3:CZ$242)=TRUE,\"P\",\"A\")","v":"A"},{"$f":"IF(Attendance($C23,'Daily Register'!DA$3:DA$242)=TRUE,\"P\",\"A\")","v":"A"},{"$f":"IF(Attendance($C23,'Daily Register'!DB$3:DB$242)=TRUE,\"P\",\"A\")","v":"A"},{"$f":"IF(Attendance($C23,'Daily Register'!DC$3:DC$242)=TRUE,\"P\",\"A\")","v":"A"},{"$f":"IF(Attendance($C23,'Daily Register'!DD$3:DD$242)=TRUE,\"P\",\"A\")","v":"A"},{"$f":"IF(Attendance($C23,'Daily Register'!DE$3:DE$242)=TRUE,\"P\",\"A\")","v":"A"},{"$f":"IF(Attendance($C23,'Daily Register'!DF$3:DF$242)=TRUE,\"P\",\"A\")","v":"A"},{"$f":"IF(Attendance($C23,'Daily Register'!DG$3:DG$242)=TRUE,\"P\",\"A\")","v":"A"},{"$f":"IF(Attendance($C23,'Daily Register'!DH$3:DH$242)=TRUE,\"P\",\"A\")","v":"A"},{"$f":"IF(Attendance($C23,'Daily Register'!DI$3:DI$242)=TRUE,\"P\",\"A\")","v":"A"},{"$f":"IF(Attendance($C23,'Daily Register'!DJ$3:DJ$242)=TRUE,\"P\",\"A\")","v":"A"},{"$f":"IF(Attendance($C23,'Daily Register'!DK$3:DK$242)=TRUE,\"P\",\"A\")","v":"A"},{"$f":"IF(Attendance($C23,'Daily Register'!DL$3:DL$242)=TRUE,\"P\",\"A\")","v":"A"},{"$f":"IF(Attendance($C23,'Daily Register'!DM$3:DM$242)=TRUE,\"P\",\"A\")","v":"A"},{"$f":"IF(Attendance($C23,'Daily Register'!DN$3:DN$242)=TRUE,\"P\",\"A\")","v":"A"},{"$f":"IF(Attendance($C23,'Daily Register'!DO$3:DO$242)=TRUE,\"P\",\"A\")","v":"A"},{"$f":"IF(Attendance($C23,'Daily Register'!DP$3:DP$242)=TRUE,\"P\",\"A\")","v":"A"},{"$f":"IF(Attendance($C23,'Daily Register'!DQ$3:DQ$242)=TRUE,\"P\",\"A\")","v":"A"},{"$f":"IF(Attendance($C23,'Daily Register'!DR$3:DR$242)=TRUE,\"P\",\"A\")","v":"A"},{"$f":"IF(Attendance($C23,'Daily Register'!DS$3:DS$242)=TRUE,\"P\",\"A\")","v":"A"},{"$f":"IF(Attendance($C23,'Daily Register'!DT$3:DT$242)=TRUE,\"P\",\"A\")","v":"A"},{"$f":"IF(Attendance($C23,'Daily Register'!DU$3:DU$242)=TRUE,\"P\",\"A\")","v":"A"},{"$f":"IF(Attendance($C23,'Daily Register'!DV$3:DV$242)=TRUE,\"P\",\"A\")","v":"A"},{"$f":"IF(Attendance($C23,'Daily Register'!DW$3:DW$242)=TRUE,\"P\",\"A\")","v":"A"},{"$f":"IF(Attendance($C23,'Daily Register'!DX$3:DX$242)=TRUE,\"P\",\"A\")","v":"A"},{"$f":"IF(Attendance($C23,'Daily Register'!DY$3:DY$242)=TRUE,\"P\",\"A\")","v":"A"},{"$f":"IF(Attendance($C23,'Daily Register'!DZ$3:DZ$242)=TRUE,\"P\",\"A\")","v":"A"},{"$f":"IF(Attendance($C23,'Daily Register'!EA$3:EA$242)=TRUE,\"P\",\"A\")","v":"A"},{"$f":"IF(Attendance($C23,'Daily Register'!EB$3:EB$242)=TRUE,\"P\",\"A\")","v":"A"},{"$f":"IF(Attendance($C23,'Daily Register'!EC$3:EC$242)=TRUE,\"P\",\"A\")","v":"A"},{"$f":"IF(Attendance($C23,'Daily Register'!ED$3:ED$242)=TRUE,\"P\",\"A\")","v":"A"},{"$f":"IF(Attendance($C23,'Daily Register'!EE$3:EE$242)=TRUE,\"P\",\"A\")","v":"A"},{"$f":"IF(Attendance($C23,'Daily Register'!EF$3:EF$242)=TRUE,\"P\",\"A\")","v":"A"},{"$f":"IF(Attendance($C23,'Daily Register'!EG$3:EG$242)=TRUE,\"P\",\"A\")","v":"A"},{"$f":"IF(Attendance($C23,'Daily Register'!EH$3:EH$242)=TRUE,\"P\",\"A\")","v":"A"},{"$f":"IF(Attendance($C23,'Daily Register'!EI$3:EI$242)=TRUE,\"P\",\"A\")","v":"A"},{"$f":"IF(Attendance($C23,'Daily Register'!EJ$3:EJ$242)=TRUE,\"P\",\"A\")","v":"A"},{"$f":"IF(Attendance($C23,'Daily Register'!EK$3:EK$242)=TRUE,\"P\",\"A\")","v":"A"},{"$f":"IF(Attendance($C23,'Daily Register'!EL$3:EL$242)=TRUE,\"P\",\"A\")","v":"A"},{"$f":"IF(Attendance($C23,'Daily Register'!EM$22:EM$242)=TRUE,\"P\",\"A\")","v":"A"},{"$f":"IF(Attendance($C23,'Daily Register'!EN$3:EN$242)=TRUE,\"P\",\"A\")","v":"A"},{"$f":"IF(Attendance($C23,'Daily Register'!EO$3:EO$242)=TRUE,\"P\",\"A\")","v":"A"},{"$f":"IF(Attendance($C23,'Daily Register'!EP$3:EP$242)=TRUE,\"P\",\"A\")","v":"A"},{"$f":"IF(Attendance($C23,'Daily Register'!EQ$3:EQ$242)=TRUE,\"P\",\"A\")","v":"A"},{"$f":"IF(Attendance($C23,'Daily Register'!ER$3:ER$242)=TRUE,\"P\",\"A\")","v":"A"},{"$f":"IF(Attendance($C23,'Daily Register'!ES$3:ES$242)=TRUE,\"P\",\"A\")","v":"A"},{"$f":"IF(Attendance($C23,'Daily Register'!ET$3:ET$242)=TRUE,\"P\",\"A\")","v":"A"},{"$f":"IF(Attendance($C23,'Daily Register'!EU$3:EU$242)=TRUE,\"P\",\"A\")","v":"A"},{"$f":"IF(Attendance($C23,'Daily Register'!EV$3:EV$242)=TRUE,\"P\",\"A\")","v":"A"},{"$f":"IF(Attendance($C23,'Daily Register'!EW$3:EW$242)=TRUE,\"P\",\"A\")","v":"A"},{"$f":"IF(Attendance($C23,'Daily Register'!EX$3:EX$242)=TRUE,\"P\",\"A\")","v":"A"},{"$f":"IF(Attendance($C23,'Daily Register'!EY$3:EY$242)=TRUE,\"P\",\"A\")","v":"A"},{"$f":"IF(Attendance($C23,'Daily Register'!EZ$3:EZ$242)=TRUE,\"P\",\"A\")","v":"A"},{"$f":"IF(Attendance($C23,'Daily Register'!FA$3:FA$242)=TRUE,\"P\",\"A\")","v":"A"},{"$f":"IF(Attendance($C23,'Daily Register'!FB$3:FB$242)=TRUE,\"P\",\"A\")","v":"A"},{"$f":"IF(Attendance($C23,'Daily Register'!FC$3:FC$242)=TRUE,\"P\",\"A\")","v":"A"},{"$f":"IF(Attendance($C23,'Daily Register'!FD$3:FD$242)=TRUE,\"P\",\"A\")","v":"A"},{"$f":"IF(Attendance($C23,'Daily Register'!FE$3:FE$242)=TRUE,\"P\",\"A\")","v":"A"},{"$f":"IF(Attendance($C23,'Daily Register'!FF$3:FF$242)=TRUE,\"P\",\"A\")","v":"A"},{"$f":"IF(Attendance($C23,'Daily Register'!FG$3:FG$242)=TRUE,\"P\",\"A\")","v":"A"},{"$f":"IF(Attendance($C23,'Daily Register'!FH$3:FH$242)=TRUE,\"P\",\"A\")","v":"A"},{"$f":"IF(Attendance($C23,'Daily Register'!FI$3:FI$242)=TRUE,\"P\",\"A\")","v":"A"},{"$f":"IF(Attendance($C23,'Daily Register'!FJ$3:FJ$242)=TRUE,\"P\",\"A\")","v":"A"},{"$f":"IF(Attendance($C23,'Daily Register'!FK$3:FK$242)=TRUE,\"P\",\"A\")","v":"A"},{"$f":"IF(Attendance($C23,'Daily Register'!FL$3:FL$242)=TRUE,\"P\",\"A\")","v":"A"},{"$f":"IF(Attendance($C23,'Daily Register'!FM$3:FM$242)=TRUE,\"P\",\"A\")","v":"A"},{"$f":"IF(Attendance($C23,'Daily Register'!FN$3:FN$242)=TRUE,\"P\",\"A\")","v":"A"},{"$f":"IF(Attendance($C23,'Daily Register'!FO$3:FO$242)=TRUE,\"P\",\"A\")","v":"A"},{"$f":"IF(Attendance($C23,'Daily Register'!FP$3:FP$242)=TRUE,\"P\",\"A\")","v":"A"},{"$f":"IF(Attendance($C23,'Daily Register'!FQ$3:FQ$242)=TRUE,\"P\",\"A\")","v":"A"},{"$f":"IF(Attendance($C23,'Daily Register'!FR$3:FR$242)=TRUE,\"P\",\"A\")","v":"A"},{"$f":"IF(Attendance($C23,'Daily Register'!FS$3:FS$242)=TRUE,\"P\",\"A\")","v":"A"},{"$f":"IF(Attendance($C23,'Daily Register'!FT$3:FT$242)=TRUE,\"P\",\"A\")","v":"A"},{"$f":"IF(Attendance($C23,'Daily Register'!FU$3:FU$242)=TRUE,\"P\",\"A\")","v":"A"},{"$f":"IF(Attendance($C23,'Daily Register'!FV$3:FV$242)=TRUE,\"P\",\"A\")","v":"A"},{"$f":"IF(Attendance($C23,'Daily Register'!FW$3:FW$242)=TRUE,\"P\",\"A\")","v":"A"},{"$f":"IF(Attendance($C23,'Daily Register'!FX$3:FX$242)=TRUE,\"P\",\"A\")","v":"A"},{"$f":"IF(Attendance($C23,'Daily Register'!FY$3:FY$242)=TRUE,\"P\",\"A\")","v":"A"},{"$f":"IF(Attendance($C23,'Daily Register'!FZ$3:FZ$242)=TRUE,\"P\",\"A\")","v":"A"},{"$f":"IF(Attendance($C23,'Daily Register'!GA$3:GA$242)=TRUE,\"P\",\"A\")","v":"A"},{"$f":"IF(Attendance($C23,'Daily Register'!GB$3:GB$242)=TRUE,\"P\",\"A\")","v":"A"},{"$f":"IF(Attendance($C23,'Daily Register'!GC$3:GC$242)=TRUE,\"P\",\"A\")","v":"A"},{"$f":"IF(Attendance($C23,'Daily Register'!GD$3:GD$242)=TRUE,\"P\",\"A\")","v":"A"},{"$f":"IF(Attendance($C23,'Daily Register'!GE$3:GE$242)=TRUE,\"P\",\"A\")","v":"A"},{"$f":"IF(Attendance($C23,'Daily Register'!GF$3:GF$242)=TRUE,\"P\",\"A\")","v":"A"},{"$f":"IF(Attendance($C23,'Daily Register'!GG$3:GG$242)=TRUE,\"P\",\"A\")","v":"A"},{"$f":"IF(Attendance($C23,'Daily Register'!GH$3:GH$242)=TRUE,\"P\",\"A\")","v":"A"},{"$f":"IF(Attendance($C23,'Daily Register'!GI$3:GI$242)=TRUE,\"P\",\"A\")","v":"A"},{"$f":"IF(Attendance($C23,'Daily Register'!GJ$3:GJ$242)=TRUE,\"P\",\"A\")","v":"A"},{"$f":"IF(Attendance($C23,'Daily Register'!GK$3:GK$242)=TRUE,\"P\",\"A\")","v":"A"},{"$f":"IF(Attendance($C23,'Daily Register'!GL$3:GL$242)=TRUE,\"P\",\"A\")","v":"A"},{"$f":"IF(Attendance($C23,'Daily Register'!GM$3:GM$242)=TRUE,\"P\",\"A\")","v":"A"},{"$f":"IF(Attendance($C23,'Daily Register'!GN$3:GN$242)=TRUE,\"P\",\"A\")","v":"A"},{"$f":"IF(Attendance($C23,'Daily Register'!GO$3:GO$242)=TRUE,\"P\",\"A\")","v":"A"},{"$f":"IF(Attendance($C23,'Daily Register'!GP$3:GP$242)=TRUE,\"P\",\"A\")","v":"A"},{"$f":"IF(Attendance($C23,'Daily Register'!GQ$3:GQ$242)=TRUE,\"P\",\"A\")","v":"A"},{"$f":"IF(Attendance($C23,'Daily Register'!GR$3:GR$242)=TRUE,\"P\",\"A\")","v":"A"},{"$f":"IF(Attendance($C23,'Daily Register'!GS$3:GS$242)=TRUE,\"P\",\"A\")","v":"A"},{"$f":"IF(Attendance($C23,'Daily Register'!GT$3:GT$242)=TRUE,\"P\",\"A\")","v":"A"},{"$f":"IF(Attendance($C23,'Daily Register'!GU$3:GU$242)=TRUE,\"P\",\"A\")","v":"A"},{"$f":"IF(Attendance($C23,'Daily Register'!GV$3:GV$242)=TRUE,\"P\",\"A\")","v":"A"},{"$f":"IF(Attendance($C23,'Daily Register'!GW$3:GW$242)=TRUE,\"P\",\"A\")","v":"A"},{"$f":"IF(Attendance($C23,'Daily Register'!GX$3:GX$242)=TRUE,\"P\",\"A\")","v":"A"},{"$f":"IF(Attendance($C23,'Daily Register'!GY$3:GY$242)=TRUE,\"P\",\"A\")","v":"A"},{"$f":"IF(Attendance($C23,'Daily Register'!GZ$3:GZ$242)=TRUE,\"P\",\"A\")","v":"A"},{"$f":"IF(Attendance($C23,'Daily Register'!HA$3:HA$242)=TRUE,\"P\",\"A\")","v":"A"},{"$f":"IF(Attendance($C23,'Daily Register'!HB$3:HB$242)=TRUE,\"P\",\"A\")","v":"A"},{"$f":"IF(Attendance($C23,'Daily Register'!HC$3:HC$242)=TRUE,\"P\",\"A\")","v":"A"},{"$f":"IF(Attendance($C23,'Daily Register'!HD$3:HD$242)=TRUE,\"P\",\"A\")","v":"A"},{"$f":"IF(Attendance($C23,'Daily Register'!HE$3:HE$242)=TRUE,\"P\",\"A\")","v":"A"},{"$f":"IF(Attendance($C23,'Daily Register'!HF$3:HF$242)=TRUE,\"P\",\"A\")","v":"A"},{"$f":"IF(Attendance($C23,'Daily Register'!HG$3:HG$242)=TRUE,\"P\",\"A\")","v":"A"},{"$f":"IF(Attendance($C23,'Daily Register'!HH$3:HH$242)=TRUE,\"P\",\"A\")","v":"A"},{"$f":"IF(Attendance($C23,'Daily Register'!HI$3:HI$242)=TRUE,\"P\",\"A\")","v":"A"},{"$f":"IF(Attendance($C23,'Daily Register'!HJ$3:HJ$242)=TRUE,\"P\",\"A\")","v":"A"},{"$f":"IF(Attendance($C23,'Daily Register'!HK$3:HK$242)=TRUE,\"P\",\"A\")","v":"A"},{"$f":"IF(Attendance($C23,'Daily Register'!HL$3:HL$242)=TRUE,\"P\",\"A\")","v":"A"},{"$f":"IF(Attendance($C23,'Daily Register'!HM$3:HM$242)=TRUE,\"P\",\"A\")","v":"A"},{"$f":"IF(Attendance($C23,'Daily Register'!HN$3:HN$242)=TRUE,\"P\",\"A\")","v":"A"},{"$f":"IF(Attendance($C23,'Daily Register'!HO$3:HO$242)=TRUE,\"P\",\"A\")","v":"A"},{"$f":"IF(Attendance($C23,'Daily Register'!HP$3:HP$242)=TRUE,\"P\",\"A\")","v":"A"},{"$f":"IF(Attendance($C23,'Daily Register'!HQ$3:HQ$242)=TRUE,\"P\",\"A\")","v":"A"},{"$f":"IF(Attendance($C23,'Daily Register'!HR$3:HR$242)=TRUE,\"P\",\"A\")","v":"A"},{"$f":"IF(Attendance($C23,'Daily Register'!HS$3:HS$242)=TRUE,\"P\",\"A\")","v":"A"},{"$f":"IF(Attendance($C23,'Daily Register'!HT$3:HT$242)=TRUE,\"P\",\"A\")","v":"A"},{"$f":"IF(Attendance($C23,'Daily Register'!HU$3:HU$242)=TRUE,\"P\",\"A\")","v":"A"},{"$f":"IF(Attendance($C23,'Daily Register'!HV$3:HV$242)=TRUE,\"P\",\"A\")","v":"A"},{"$f":"IF(Attendance($C23,'Daily Register'!HW$3:HW$242)=TRUE,\"P\",\"A\")","v":"A"},{"$f":"IF(Attendance($C23,'Daily Register'!HX$3:HX$242)=TRUE,\"P\",\"A\")","v":"A"},{"$f":"IF(Attendance($C23,'Daily Register'!HY$3:HY$242)=TRUE,\"P\",\"A\")","v":"A"},{"$f":"IF(Attendance($C23,'Daily Register'!HZ$3:HZ$242)=TRUE,\"P\",\"A\")","v":"A"},{"$f":"IF(Attendance($C23,'Daily Register'!IA$3:IA$242)=TRUE,\"P\",\"A\")","v":"A"},{"$f":"IF(Attendance($C23,'Daily Register'!IB$3:IB$242)=TRUE,\"P\",\"A\")","v":"A"},{"$f":"IF(Attendance($C23,'Daily Register'!IC$3:IC$242)=TRUE,\"P\",\"A\")","v":"A"},{"$f":"IF(Attendance($C23,'Daily Register'!ID$3:ID$242)=TRUE,\"P\",\"A\")","v":"A"},{"$f":"IF(Attendance($C23,'Daily Register'!IE$3:IE$242)=TRUE,\"P\",\"A\")","v":"A"},{"$f":"IF(Attendance($C23,'Daily Register'!IF$3:IF$242)=TRUE,\"P\",\"A\")","v":"A"},{"$f":"IF(Attendance($C23,'Daily Register'!IG$3:IG$242)=TRUE,\"P\",\"A\")","v":"A"},{"$f":"IF(Attendance($C23,'Daily Register'!IH$3:IH$242)=TRUE,\"P\",\"A\")","v":"A"},{"$f":"IF(Attendance($C23,'Daily Register'!II$3:II$242)=TRUE,\"P\",\"A\")","v":"A"},{"$f":"IF(Attendance($C23,'Daily Register'!IJ$3:IJ$242)=TRUE,\"P\",\"A\")","v":"A"},{"$f":"IF(Attendance($C23,'Daily Register'!IK$3:IK$242)=TRUE,\"P\",\"A\")","v":"A"},{"$f":"IF(Attendance($C23,'Daily Register'!IL$3:IL$242)=TRUE,\"P\",\"A\")","v":"A"},{"$f":"IF(Attendance($C23,'Daily Register'!IM$3:IM$242)=TRUE,\"P\",\"A\")","v":"A"},{"$f":"IF(Attendance($C23,'Daily Register'!IN$3:IN$242)=TRUE,\"P\",\"A\")","v":"A"},{"$f":"IF(Attendance($C23,'Daily Register'!IO$3:IO$242)=TRUE,\"P\",\"A\")","v":"A"},{"$f":"IF(Attendance($C23,'Daily Register'!IP$3:IP$242)=TRUE,\"P\",\"A\")","v":"A"},{"$f":"IF(Attendance($C23,'Daily Register'!IQ$3:IQ$242)=TRUE,\"P\",\"A\")","v":"A"},{"$f":"IF(Attendance($C23,'Daily Register'!IR$3:IR$242)=TRUE,\"P\",\"A\")","v":"A"},{"$f":"IF(Attendance($C23,'Daily Register'!IS$3:IS$242)=TRUE,\"P\",\"A\")","v":"A"},{"$f":"IF(Attendance($C23,'Daily Register'!IT$3:IT$242)=TRUE,\"P\",\"A\")","v":"A"},{"$f":"IF(Attendance($C23,'Daily Register'!IU$3:IU$242)=TRUE,\"P\",\"A\")","v":"A"},{"$f":"IF(Attendance($C23,'Daily Register'!IV$3:IV$242)=TRUE,\"P\",\"A\")","v":"A"},{"$f":"IF(Attendance($C23,'Daily Register'!IW$3:IW$242)=TRUE,\"P\",\"A\")","v":"A"},{"$f":"IF(Attendance($C23,'Daily Register'!IX$3:IX$242)=TRUE,\"P\",\"A\")","v":"A"},{"$f":"IF(Attendance($C23,'Daily Register'!IY$3:IY$242)=TRUE,\"P\",\"A\")","v":"A"},{"$f":"IF(Attendance($C23,'Daily Register'!IZ$3:IZ$242)=TRUE,\"P\",\"A\")","v":"A"},{"$f":"IF(Attendance($C23,'Daily Register'!JA$3:JA$242)=TRUE,\"P\",\"A\")","v":"A"},{"$f":"IF(Attendance($C23,'Daily Register'!JB$3:JB$242)=TRUE,\"P\",\"A\")","v":"A"},{"$f":"IF(Attendance($C23,'Daily Register'!JC$3:JC$242)=TRUE,\"P\",\"A\")","v":"A"},{"$f":"IF(Attendance($C23,'Daily Register'!JD$3:JD$242)=TRUE,\"P\",\"A\")","v":"A"},{"$f":"IF(Attendance($C23,'Daily Register'!JE$3:JE$242)=TRUE,\"P\",\"A\")","v":"A"},{"$f":"IF(Attendance($C23,'Daily Register'!JF$3:JF$242)=TRUE,\"P\",\"A\")","v":"A"},{"$f":"IF(Attendance($C23,'Daily Register'!JG$3:JG$242)=TRUE,\"P\",\"A\")","v":"A"},{"$f":"IF(Attendance($C23,'Daily Register'!JH$3:JH$242)=TRUE,\"P\",\"A\")","v":"A"},{"$f":"IF(Attendance($C23,'Daily Register'!JI$3:JI$242)=TRUE,\"P\",\"A\")","v":"A"},{"$f":"IF(Attendance($C23,'Daily Register'!JJ$3:JJ$242)=TRUE,\"P\",\"A\")","v":"A"},{"$f":"IF(Attendance($C23,'Daily Register'!JK$3:JK$242)=TRUE,\"P\",\"A\")","v":"A"},{"$f":"IF(Attendance($C23,'Daily Register'!JL$3:JL$242)=TRUE,\"P\",\"A\")","v":"A"},{"$f":"IF(Attendance($C23,'Daily Register'!JM$3:JM$242)=TRUE,\"P\",\"A\")","v":"A"},{"$f":"IF(Attendance($C23,'Daily Register'!JN$3:JN$242)=TRUE,\"P\",\"A\")","v":"A"},{"$f":"IF(Attendance($C23,'Daily Register'!JO$3:JO$242)=TRUE,\"P\",\"A\")","v":"A"},{"$f":"IF(Attendance($C23,'Daily Register'!JP$3:JP$242)=TRUE,\"P\",\"A\")","v":"A"},{"$f":"IF(Attendance($C23,'Daily Register'!JQ$3:JQ$242)=TRUE,\"P\",\"A\")","v":"A"},{"$f":"IF(Attendance($C23,'Daily Register'!JR$3:JR$242)=TRUE,\"P\",\"A\")","v":"A"},{"$f":"IF(Attendance($C23,'Daily Register'!JS$3:JS$242)=TRUE,\"P\",\"A\")","v":"A"},{"$f":"IF(Attendance($C23,'Daily Register'!JT$3:JT$242)=TRUE,\"P\",\"A\")","v":"A"},{"$f":"IF(Attendance($C23,'Daily Register'!JU$3:JU$242)=TRUE,\"P\",\"A\")","v":"A"},{"$f":"IF(Attendance($C23,'Daily Register'!JV$3:JV$242)=TRUE,\"P\",\"A\")","v":"A"},{"$f":"IF(Attendance($C23,'Daily Register'!JW$3:JW$242)=TRUE,\"P\",\"A\")","v":"A"},{"$f":"IF(Attendance($C23,'Daily Register'!JX$3:JX$242)=TRUE,\"P\",\"A\")","v":"A"},{"$f":"IF(Attendance($C23,'Daily Register'!JY$3:JY$242)=TRUE,\"P\",\"A\")","v":"A"},{"$f":"IF(Attendance($C23,'Daily Register'!JZ$3:JZ$242)=TRUE,\"P\",\"A\")","v":"A"},{"$f":"IF(Attendance($C23,'Daily Register'!KA$3:KA$242)=TRUE,\"P\",\"A\")","v":"A"},{"$f":"IF(Attendance($C23,'Daily Register'!KB$3:KB$242)=TRUE,\"P\",\"A\")","v":"A"},{"$f":"IF(Attendance($C23,'Daily Register'!KC$3:KC$242)=TRUE,\"P\",\"A\")","v":"A"},{"$f":"IF(Attendance($C23,'Daily Register'!KD$3:KD$242)=TRUE,\"P\",\"A\")","v":"A"},{"$f":"IF(Attendance($C23,'Daily Register'!KE$3:KE$242)=TRUE,\"P\",\"A\")","v":"A"},{"$f":"IF(Attendance($C23,'Daily Register'!KF$3:KF$242)=TRUE,\"P\",\"A\")","v":"A"},{"$f":"IF(Attendance($C23,'Daily Register'!KG$3:KG$242)=TRUE,\"P\",\"A\")","v":"A"},{"$f":"IF(Attendance($C23,'Daily Register'!KH$3:KH$242)=TRUE,\"P\",\"A\")","v":"A"},{"$f":"IF(Attendance($C23,'Daily Register'!KI$3:KI$242)=TRUE,\"P\",\"A\")","v":"A"},{"$f":"IF(Attendance($C23,'Daily Register'!KJ$3:KJ$242)=TRUE,\"P\",\"A\")","v":"A"},{"$f":"IF(Attendance($C23,'Daily Register'!KK$3:KK$242)=TRUE,\"P\",\"A\")","v":"A"},{"$f":"IF(Attendance($C23,'Daily Register'!KL$3:KL$242)=TRUE,\"P\",\"A\")","v":"A"},{"$f":"IF(Attendance($C23,'Daily Register'!KM$3:KM$242)=TRUE,\"P\",\"A\")","v":"A"},{"$f":"IF(Attendance($C23,'Daily Register'!KN$3:KN$242)=TRUE,\"P\",\"A\")","v":"A"},{"$f":"IF(Attendance($C23,'Daily Register'!KO$3:KO$242)=TRUE,\"P\",\"A\")","v":"A"},{"$f":"IF(Attendance($C23,'Daily Register'!KP$3:KP$242)=TRUE,\"P\",\"A\")","v":"A"},{"$f":"IF(Attendance($C23,'Daily Register'!KQ$3:KQ$242)=TRUE,\"P\",\"A\")","v":"A"},{"$f":"IF(Attendance($C23,'Daily Register'!KR$3:KR$242)=TRUE,\"P\",\"A\")","v":"A"},{"$f":"IF(Attendance($C23,'Daily Register'!KS$3:KS$242)=TRUE,\"P\",\"A\")","v":"A"},{"$f":"IF(Attendance($C23,'Daily Register'!KT$3:KT$242)=TRUE,\"P\",\"A\")","v":"A"},{"$f":"IF(Attendance($C23,'Daily Register'!KU$3:KU$242)=TRUE,\"P\",\"A\")","v":"A"},{"$f":"IF(Attendance($C23,'Daily Register'!KV$3:KV$242)=TRUE,\"P\",\"A\")","v":"A"},{"$f":"IF(Attendance($C23,'Daily Register'!KW$3:KW$242)=TRUE,\"P\",\"A\")","v":"A"},{"$f":"IF(Attendance($C23,'Daily Register'!KX$3:KX$242)=TRUE,\"P\",\"A\")","v":"A"},{"$f":"IF(Attendance($C23,'Daily Register'!KY$3:KY$242)=TRUE,\"P\",\"A\")","v":"A"},{"$f":"IF(Attendance($C23,'Daily Register'!KZ$3:KZ$242)=TRUE,\"P\",\"A\")","v":"A"},{"$f":"IF(Attendance($C23,'Daily Register'!LA$3:LA$242)=TRUE,\"P\",\"A\")","v":"A"},{"$f":"IF(Attendance($C23,'Daily Register'!LB$3:LB$242)=TRUE,\"P\",\"A\")","v":"A"},{"$f":"IF(Attendance($C23,'Daily Register'!LC$3:LC$242)=TRUE,\"P\",\"A\")","v":"A"},{"$f":"IF(Attendance($C23,'Daily Register'!LD$3:LD$242)=TRUE,\"P\",\"A\")","v":"A"},{"$f":"IF(Attendance($C23,'Daily Register'!LE$3:LE$242)=TRUE,\"P\",\"A\")","v":"A"},{"$f":"IF(Attendance($C23,'Daily Register'!LF$3:LF$242)=TRUE,\"P\",\"A\")","v":"A"},{"$f":"IF(Attendance($C23,'Daily Register'!LG$3:LG$242)=TRUE,\"P\",\"A\")","v":"A"},{"$f":"IF(Attendance($C23,'Daily Register'!LH$3:LH$242)=TRUE,\"P\",\"A\")","v":"A"},{"$f":"IF(Attendance($C23,'Daily Register'!LI$3:LI$242)=TRUE,\"P\",\"A\")","v":"A"},{"$f":"IF(Attendance($C23,'Daily Register'!LJ$3:LJ$242)=TRUE,\"P\",\"A\")","v":"A"},{"$f":"IF(Attendance($C23,'Daily Register'!LK$3:LK$242)=TRUE,\"P\",\"A\")","v":"A"},{"$f":"IF(Attendance($C23,'Daily Register'!LL$3:LL$242)=TRUE,\"P\",\"A\")","v":"A"},{"$f":"IF(Attendance($C23,'Daily Register'!LM$3:LM$242)=TRUE,\"P\",\"A\")","v":"A"},{"$f":"IF(Attendance($C23,'Daily Register'!LN$3:LN$242)=TRUE,\"P\",\"A\")","v":"A"},{"$f":"IF(Attendance($C23,'Daily Register'!LO$3:LO$242)=TRUE,\"P\",\"A\")","v":"A"},{"$f":"IF(Attendance($C23,'Daily Register'!LP$3:LP$242)=TRUE,\"P\",\"A\")","v":"A"},{"$f":"IF(Attendance($C23,'Daily Register'!LQ$3:LQ$242)=TRUE,\"P\",\"A\")","v":"A"},{"$f":"IF(Attendance($C23,'Daily Register'!LR$3:LR$242)=TRUE,\"P\",\"A\")","v":"A"},{"$f":"IF(Attendance($C23,'Daily Register'!LS$3:LS$242)=TRUE,\"P\",\"A\")","v":"A"},{"$f":"IF(Attendance($C23,'Daily Register'!LT$3:LT$242)=TRUE,\"P\",\"A\")","v":"A"},{"$f":"IF(Attendance($C23,'Daily Register'!LU$3:LU$242)=TRUE,\"P\",\"A\")","v":"A"},{"$f":"IF(Attendance($C23,'Daily Register'!LV$3:LV$242)=TRUE,\"P\",\"A\")","v":"A"},{"$f":"IF(Attendance($C23,'Daily Register'!LW$3:LW$242)=TRUE,\"P\",\"A\")","v":"A"},{"$f":"IF(Attendance($C23,'Daily Register'!LX$3:LX$242)=TRUE,\"P\",\"A\")","v":"A"},{"$f":"IF(Attendance($C23,'Daily Register'!LY$3:LY$242)=TRUE,\"P\",\"A\")","v":"A"},{"$f":"IF(Attendance($C23,'Daily Register'!LZ$3:LZ$242)=TRUE,\"P\",\"A\")","v":"A"},{"$f":"IF(Attendance($C23,'Daily Register'!MA$3:MA$242)=TRUE,\"P\",\"A\")","v":"A"},{"$f":"IF(Attendance($C23,'Daily Register'!MB$3:MB$242)=TRUE,\"P\",\"A\")","v":"A"},{"$f":"IF(Attendance($C23,'Daily Register'!MC$3:MC$242)=TRUE,\"P\",\"A\")","v":"A"},{"$f":"IF(Attendance($C23,'Daily Register'!MD$3:MD$242)=TRUE,\"P\",\"A\")","v":"A"},{"$f":"IF(Attendance($C23,'Daily Register'!ME$3:ME$242)=TRUE,\"P\",\"A\")","v":"A"},{"$f":"IF(Attendance($C23,'Daily Register'!MF$3:MF$242)=TRUE,\"P\",\"A\")","v":"A"},{"$f":"IF(Attendance($C23,'Daily Register'!MG$3:MG$242)=TRUE,\"P\",\"A\")","v":"A"},{"$f":"IF(Attendance($C23,'Daily Register'!MH$3:MH$242)=TRUE,\"P\",\"A\")","v":"A"},{"$f":"IF(Attendance($C23,'Daily Register'!MI$3:MI$242)=TRUE,\"P\",\"A\")","v":"A"},{"$f":"IF(Attendance($C23,'Daily Register'!MJ$3:MJ$242)=TRUE,\"P\",\"A\")","v":"A"},{"$f":"IF(Attendance($C23,'Daily Register'!MK$3:MK$242)=TRUE,\"P\",\"A\")","v":"A"},{"$f":"IF(Attendance($C23,'Daily Register'!ML$3:ML$242)=TRUE,\"P\",\"A\")","v":"A"},{"$f":"IF(Attendance($C23,'Daily Register'!MM$3:MM$242)=TRUE,\"P\",\"A\")","v":"A"},{"$f":"IF(Attendance($C23,'Daily Register'!MN$3:MN$242)=TRUE,\"P\",\"A\")","v":"A"},{"$f":"IF(Attendance($C23,'Daily Register'!MO$3:MO$242)=TRUE,\"P\",\"A\")","v":"A"},{"$f":"IF(Attendance($C23,'Daily Register'!MP$3:MP$242)=TRUE,\"P\",\"A\")","v":"A"},{"$f":"IF(Attendance($C23,'Daily Register'!MQ$3:MQ$242)=TRUE,\"P\",\"A\")","v":"A"},{"$f":"IF(Attendance($C23,'Daily Register'!MR$3:MR$242)=TRUE,\"P\",\"A\")","v":"A"},{"$f":"IF(Attendance($C23,'Daily Register'!MS$3:MS$242)=TRUE,\"P\",\"A\")","v":"A"},{"$f":"IF(Attendance($C23,'Daily Register'!MT$3:MT$242)=TRUE,\"P\",\"A\")","v":"A"},{"$f":"IF(Attendance($C23,'Daily Register'!MU$3:MU$242)=TRUE,\"P\",\"A\")","v":"A"},{"$f":"IF(Attendance($C23,'Daily Register'!MV$3:MV$242)=TRUE,\"P\",\"A\")","v":"A"},{"$f":"IF(Attendance($C23,'Daily Register'!MW$3:MW$242)=TRUE,\"P\",\"A\")","v":"A"},{"$f":"IF(Attendance($C23,'Daily Register'!MX$3:MX$242)=TRUE,\"P\",\"A\")","v":"A"},{"$f":"IF(Attendance($C23,'Daily Register'!MY$3:MY$242)=TRUE,\"P\",\"A\")","v":"A"},{"$f":"IF(Attendance($C23,'Daily Register'!MZ$3:MZ$242)=TRUE,\"P\",\"A\")","v":"A"},{"$f":"IF(Attendance($C23,'Daily Register'!NA$3:NA$242)=TRUE,\"P\",\"A\")","v":"A"},{"$f":"IF(Attendance($C23,'Daily Register'!NB$3:NB$242)=TRUE,\"P\",\"A\")","v":"A"}]
[0,null,21,null,{"$f":"IF(Attendance($C24,'Daily Register'!A$3:A$242)=TRUE,\"P\",\"A\")","v":"A"},{"$f":"IF(Attendance($C24,'Daily Register'!B$3:B$242)=TRUE,\"P\",\"A\")","v":"A"},{"$f":"IF(Attendance($C24,'Daily Register'!C$3:C$242)=TRUE,\"P\",\"A\")","v":"A"},{"$f":"IF(Attendance($C24,'Daily Register'!D$3:D$242)=TRUE,\"P\",\"A\")","v":"A"},{"$f":"IF(Attendance($C24,'Daily Register'!E$3:E$242)=TRUE,\"P\",\"A\")","v":"A"},{"$f":"IF(Attendance($C24,'Daily Register'!F$3:F$242)=TRUE,\"P\",\"A\")","v":"A"},{"$f":"IF(Attendance($C24,'Daily Register'!G$3:G$242)=TRUE,\"P\",\"A\")","v":"A"},{"$f":"IF(Attendance($C24,'Daily Register'!H$3:H$242)=TRUE,\"P\",\"A\")","v":"A"},{"$f":"IF(Attendance($C24,'Daily Register'!I$3:I$242)=TRUE,\"P\",\"A\")","v":"A"},{"$f":"IF(Attendance($C24,'Daily Register'!J$3:J$242)=TRUE,\"P\",\"A\")","v":"A"},{"$f":"IF(Attendance($C24,'Daily Register'!K$3:K$242)=TRUE,\"P\",\"A\")","v":"A"},{"$f":"IF(Attendance($C24,'Daily Register'!L$3:L$242)=TRUE,\"P\",\"A\")","v":"A"},{"$f":"IF(Attendance($C24,'Daily Register'!M$3:M$242)=TRUE,\"P\",\"A\")","v":"A"},{"$f":"IF(Attendance($C24,'Daily Register'!N$3:N$242)=TRUE,\"P\",\"A\")","v":"A"},{"$f":"IF(Attendance($C24,'Daily Register'!O$3:O$242)=TRUE,\"P\",\"A\")","v":"A"},{"$f":"IF(Attendance($C24,'Daily Register'!P$3:P$242)=TRUE,\"P\",\"A\")","v":"A"},{"$f":"IF(Attendance($C24,'Daily Register'!Q$3:Q$242)=TRUE,\"P\",\"A\")","v":"A"},{"$f":"IF(Attendance($C24,'Daily Register'!R$3:R$242)=TRUE,\"P\",\"A\")","v":"A"},{"$f":"IF(Attendance($C24,'Daily Register'!S$3:S$242)=TRUE,\"P\",\"A\")","v":"A"},{"$f":"IF(Attendance($C24,'Daily Register'!T$3:T$242)=TRUE,\"P\",\"A\")","v":"A"},{"$f":"IF(Attendance($C24,'Daily Register'!U$3:U$242)=TRUE,\"P\",\"A\")","v":"A"},{"$f":"IF(Attendance($C24,'Daily Register'!V$3:V$242)=TRUE,\"P\",\"A\")","v":"A"},{"$f":"IF(Attendance($C24,'Daily Register'!W$3:W$242)=TRUE,\"P\",\"A\")","v":"A"},{"$f":"IF(Attendance($C24,'Daily Register'!X$3:X$242)=TRUE,\"P\",\"A\")","v":"A"},{"$f":"IF(Attendance($C24,'Daily Register'!Y$3:Y$242)=TRUE,\"P\",\"A\")","v":"A"},{"$f":"IF(Attendance($C24,'Daily Register'!Z$3:Z$242)=TRUE,\"P\",\"A\")","v":"A"},{"$f":"IF(Attendance($C24,'Daily Register'!AA$3:AA$242)=TRUE,\"P\",\"A\")","v":"A"},{"$f":"IF(Attendance($C24,'Daily Register'!AB$3:AB$242)=TRUE,\"P\",\"A\")","v":"A"},{"$f":"IF(Attendance($C24,'Daily Register'!AC$3:AC$242)=TRUE,\"P\",\"A\")","v":"A"},{"$f":"IF(Attendance($C24,'Daily Register'!AD$3:AD$242)=TRUE,\"P\",\"A\")","v":"A"},{"$f":"IF(Attendance($C24,'Daily Register'!AE$3:AE$242)=TRUE,\"P\",\"A\")","v":"A"},{"$f":"IF(Attendance($C24,'Daily Register'!AF$3:AF$242)=TRUE,\"P\",\"A\")","v":"A"},{"$f":"IF(Attendance($C24,'Daily Register'!AG$3:AG$242)=TRUE,\"P\",\"A\")","v":"A"},{"$f":"IF(Attendance($C24,'Daily Register'!AH$3:AH$242)=TRUE,\"P\",\"A\")","v":"A"},{"$f":"IF(Attendance($C24,'Daily Register'!AI$3:AI$242)=TRUE,\"P\",\"A\")","v":"A"},{"$f":"IF(Attendance($C24,'Daily Register'!AJ$3:AJ$242)=TRUE,\"P\",\"A\")","v":"A"},{"$f":"IF(Attendance($C24,'Daily Register'!AK$3:AK$242)=TRUE,\"P\",\"A\")","v":"A"},{"$f":"IF(Attendance($C24,'Daily Register'!AL$3:AL$242)=TRUE,\"P\",\"A\")","v":"A"},{"$f":"IF(Attendance($C24,'Daily Register'!AM$3:AM$242)=TRUE,\"P\",\"A\")","v":"A"},{"$f":"IF(Attendance($C24,'Daily Register'!AN$3:AN$242)=TRUE,\"P\",\"A\")","v":"A"},{"$f":"IF(Attendance($C24,'Daily Register'!AO$3:AO$242)=TRUE,\"P\",\"A\")","v":"A"},{"$f":"IF(Attendance($C24,'Daily Register'!AP$3:AP$242)=TRUE,\"P\",\"A\")","v":"A"},{"$f":"IF(Attendance($C24,'Daily Register'!AQ$3:AQ$242)=TRUE,\"P\",\"A\")","v":"A"},{"$f":"IF(Attendance($C24,'Daily Register'!AR$3:AR$242)=TRUE,\"P\",\"A\")","v":"A"},{"$f":"IF(Attendance($C24,'Daily Register'!AS$3:AS$242)=TRUE,\"P\",\"A\")","v":"A"},{"$f":"IF(Attendance($C24,'Daily Register'!AT$3:AT$242)=TRUE,\"P\",\"A\")","v":"A"},{"$f":"IF(Attendance($C24,'Daily Register'!AU$3:AU$242)=TRUE,\"P\",\"A\")","v":"A"},{"$f":"IF(Attendance($C24,'Daily Register'!AV$3:AV$242)=TRUE,\"P\",\"A\")","v":"A"},{"$f":"IF(Attendance($C24,'Daily Register'!AW$3:AW$242)=TRUE,\"P\",\"A\")","v":"A"},{"$f":"IF(Attendance($C24,'Daily Register'!AX$3:AX$242)=TRUE,\"P\",\"A\")","v":"A"},{"$f":"IF(Attendance($C24,'Daily Register'!AY$3:AY$242)=TRUE,\"P\",\"A\")","v":"A"},{"$f":"IF(Attendance($C24,'Daily Register'!AZ$3:AZ$242)=TRUE,\"P\",\"A\")","v":"A"},{"$f":"IF(Attendance($C24,'Daily Register'!BA$3:BA$242)=TRUE,\"P\",\"A\")","v":"A"},{"$f":"IF(Attendance($C24,'Daily Register'!BB$3:BB$242)=TRUE,\"P\",\"A\")","v":"A"},{"$f":"IF(Attendance($C24,'Daily Register'!BC$3:BC$242)=TRUE,\"P\",\"A\")","v":"A"},{"$f":"IF(Attendance($C24,'Daily Register'!BD$3:BD$242)=TRUE,\"P\",\"A\")","v":"A"},{"$f":"IF(Attendance($C24,'Daily Register'!BE$3:BE$242)=TRUE,\"P\",\"A\")","v":"A"},{"$f":"IF(Attendance($C24,'Daily Register'!BF$3:BF$242)=TRUE,\"P\",\"A\")","v":"A"},{"$f":"IF(Attendance($C24,'Daily Register'!BG$3:BG$242)=TRUE,\"P\",\"A\")","v":"A"},{"$f":"IF(Attendance($C24,'Daily Register'!BH$3:BH$242)=TRUE,\"P\",\"A\")","v":"A"},{"$f":"IF(Attendance($C24,'Daily Register'!BI$3:BI$242)=TRUE,\"P\",\"A\")","v":"A"},{"$f":"IF(Attendance($C24,'Daily Register'!BJ$3:BJ$242)=TRUE,\"P\",\"A\")","v":"A"},{"$f":"IF(Attendance($C24,'Daily Register'!BK$3:BK$242)=TRUE,\"P\",\"A\")","v":"A"},{"$f":"IF(Attendance($C24,'Daily Register'!BL$3:BL$242)=TRUE,\"P\",\"A\")","v":"A"},{"$f":"IF(Attendance($C24,'Daily Register'!BM$3:BM$242)=TRUE,\"P\",\"A\")","v":"A"},{"$f":"IF(Attendance($C24,'Daily Register'!BN$3:BN$242)=TRUE,\"P\",\"A\")","v":"A"},{"$f":"IF(Attendance($C24,'Daily Register'!BO$3:BO$242)=TRUE,\"P\",\"A\")","v":"A"},{"$f":"IF(Attendance($C24,'Daily Register'!BP$3:BP$242)=TRUE,\"P\",\"A\")","v":"A"},{"$f":"IF(Attendance($C24,'Daily Register'!BQ$3:BQ$242)=TRUE,\"P\",\"A\")","v":"A"},{"$f":"IF(Attendance($C24,'Daily Register'!BR$3:BR$242)=TRUE,\"P\",\"A\")","v":"A"},{"$f":"IF(Attendance($C24,'Daily Register'!BS$3:BS$242)=TRUE,\"P\",\"A\")","v":"A"},{"$f":"IF(Attendance($C24,'Daily Register'!BT$3:BT$242)=TRUE,\"P\",\"A\")","v":"A"},{"$f":"IF(Attendance($C24,'Daily Register'!BU$3:BU$242)=TRUE,\"P\",\"A\")","v":"A"},{"$f":"IF(Attendance($C24,'Daily Register'!BV$3:BV$242)=TRUE,\"P\",\"A\")","v":"A"},{"$f":"IF(Attendance($C24,'Daily Register'!BW$3:BW$242)=TRUE,\"P\",\"A\")","v":"A"},{"$f":"IF(Attendance($C24,'Daily Register'!BX$3:BX$242)=TRUE,\"P\",\"A\")","v":"A"},{"$f":"IF(Attendance($C24,'Daily Register'!BY$3:BY$242)=TRUE,\"P\",\"A\")","v":"A"},{"$f":"IF(Attendance($C24,'Daily Register'!BZ$3:BZ$242)=TRUE,\"P\",\"A\")","v":"A"},{"$f":"IF(Attendance($C24,'Daily Register'!CA$3:CA$242)=TRUE,\"P\",\"A\")","v":"A"},{"$f":"IF(Attendance($C24,'Daily Register'!CB$3:CB$242)=TRUE,\"P\",\"A\")","v":"A"},{"$f":"IF(Attendance($C24,'Daily Register'!CC$3:CC$242)=TRUE,\"P\",\"A\")","v":"A"},{"$f":"IF(Attendance($C24,'Daily Register'!CD$3:CD$242)=TRUE,\"P\",\"A\")","v":"A"},{"$f":"IF(Attendance($C24,'Daily Register'!CE$3:CE$242)=TRUE,\"P\",\"A\")","v":"A"},{"$f":"IF(Attendance($C24,'Daily Register'!CF$3:CF$242)=TRUE,\"P\",\"A\")","v":"A"},{"$f":"IF(Attendance($C24,'Daily Register'!CG$3:CG$242)=TRUE,\"P\",\"A\")","v":"A"},{"$f":"IF(Attendance($C24,'Daily Register'!CH$3:CH$242)=TRUE,\"P\",\"A\")","v":"A"},{"$f":"IF(Attendance($C24,'Daily Register'!CI$3:CI$242)=TRUE,\"P\",\"A\")","v":"A"},{"$f":"IF(Attendance($C24,'Daily Register'!CJ$3:CJ$242)=TRUE,\"P\",\"A\")","v":"A"},{"$f":"IF(Attendance($C24,'Daily Register'!CK$3:CK$242)=TRUE,\"P\",\"A\")","v":"A"},{"$f":"IF(Attendance($C24,'Daily Register'!CL$3:CL$242)=TRUE,\"P\",\"A\")","v":"A"},{"$f":"IF(Attendance($C24,'Daily Register'!CM$3:CM$242)=TRUE,\"P\",\"A\")","v":"A"},{"$f":"IF(Attendance($C24,'Daily Register'!CN$3:CN$242)=TRUE,\"P\",\"A\")","v":"A"},{"$f":"IF(Attendance($C24,'Daily Register'!CO$3:CO$242)=TRUE,\"P\",\"A\")","v":"A"},{"$f":"IF(Attendance($C24,'Daily Register'!CP$3:CP$242)=TRUE,\"P\",\"A\")","v":"A"},{"$f":"IF(Attendance($C24,'Daily Register'!CQ$3:CQ$242)=TRUE,\"P\",\"A\")","v":"A"},{"$f":"IF(Attendance($C24,'Daily Register'!CR$3:CR$242)=TRUE,\"P\",\"A\")","v":"A"},{"$f":"IF(Attendance($C24,'Daily Register'!CS$3:CS$242)=TRUE,\"P\",\"A\")","v":"A"},{"$f":"IF(Attendance($C24,'Daily Register'!CT$3:CT$242)=TRUE,\"P\",\"A\")","v":"A"},{"$f":"IF(Attendance($C24,'Daily Register'!CU$3:CU$242)=TRUE,\"P\",\"A\")","v":"A"},{"$f":"IF(Attendance($C24,'Daily Register'!CV$3:CV$242)=TRUE,\"P\",\"A\")","v":"A"},{"$f":"IF(Attendance($C24,'Daily Register'!CW$3:CW$242)=TRUE,\"P\",\"A\")","v":"A"},{"$f":"IF(Attendance($C24,'Daily Register'!CX$3:CX$242)=TRUE,\"P\",\"A\")","v":"A"},{"$f":"IF(Attendance($C24,'Daily Register'!CY$3:CY$242)=TRUE,\"P\",\"A\")","v":"A"},{"$f":"IF(Attendance($C24,'Daily Register'!CZ$3:CZ$242)=TRUE,\"P\",\"A\")","v":"A"},{"$f":"IF(Attendance($C24,'Daily Register'!DA$3:DA$242)=TRUE,\"P\",\"A\")","v":"A"},{"$f":"IF(Attendance($C24,'Daily Register'!DB$3:DB$242)=TRUE,\"P\",\"A\")","v":"A"},{"$f":"IF(Attendance($C24,'Daily Register'!DC$3:DC$242)=TRUE,\"P\",\"A\")","v":"A"},{"$f":"IF(Attendance($C24,'Daily Register'!DD$3:DD$242)=TRUE,\"P\",\"A\")","v":"A"},{"$f":"IF(Attendance($C24,'Daily Register'!DE$3:DE$242)=TRUE,\"P\",\"A\")","v":"A"},{"$f":"IF(Attendance($C24,'Daily Register'!DF$3:DF$242)=TRUE,\"P\",\"A\")","v":"A"},{"$f":"IF(Attendance($C24,'Daily Register'!DG$3:DG$242)=TRUE,\"P\",\"A\")","v":"A"},{"$f":"IF(Attendance($C24,'Daily Register'!DH$3:DH$242)=TRUE,\"P\",\"A\")","v":"A"},{"$f":"IF(Attendance($C24,'Daily Register'!DI$3:DI$242)=TRUE,\"P\",\"A\")","v":"A"},{"$f":"IF(Attendance($C24,'Daily Register'!DJ$3:DJ$242)=TRUE,\"P\",\"A\")","v":"A"},{"$f":"IF(Attendance($C24,'Daily Register'!DK$3:DK$242)=TRUE,\"P\",\"A\")","v":"A"},{"$f":"IF(Attendance($C24,'Daily Register'!DL$3:DL$242)=TRUE,\"P\",\"A\")","v":"A"},{"$f":"IF(Attendance($C24,'Daily Register'!DM$3:DM$242)=TRUE,\"P\",\"A\")","v":"A"},{"$f":"IF(Attendance($C24,'Daily Register'!DN$3:DN$242)=TRUE,\"P\",\"A\")","v":"A"},{"$f":"IF(Attendance($C24,'Daily Register'!DO$3:DO$242)=TRUE,\"P\",\"A\")","v":"A"},{"$f":"IF(Attendance($C24,'Daily Register'!DP$3:DP$242)=TRUE,\"P\",\"A\")","v":"A"},{"$f":"IF(Attendance($C24,'Daily Register'!DQ$3:DQ$242)=TRUE,\"P\",\"A\")","v":"A"},{"$f":"IF(Attendance($C24,'Daily Register'!DR$3:DR$242)=TRUE,\"P\",\"A\")","v":"A"},{"$f":"IF(Attendance($C24,'Daily Register'!DS$3:DS$242)=TRUE,\"P\",\"A\")","v":"A"},{"$f":"IF(Attendance($C24,'Daily Register'!DT$3:DT$242)=TRUE,\"P\",\"A\")","v":"A"},{"$f":"IF(Attendance($C24,'Daily Register'!DU$3:DU$242)=TRUE,\"P\",\"A\")","v":"A"},{"$f":"IF(Attendance($C24,'Daily Register'!DV$3:DV$242)=TRUE,\"P\",\"A\")","v":"A"},{"$f":"IF(Attendance($C24,'Daily Register'!DW$3:DW$242)=TRUE,\"P\",\"A\")","v":"A"},{"$f":"IF(Attendance($C24,'Daily Register'!DX$3:DX$242)=TRUE,\"P\",\"A\")","v":"A"},{"$f":"IF(Attendance($C24,'Daily Register'!DY$3:DY$242)=TRUE,\"P\",\"A\")","v":"A"},{"$f":"IF(Attendance($C24,'Daily Register'!DZ$3:DZ$242)=TRUE,\"P\",\"A\")","v":"A"},{"$f":"IF(Attendance($C24,'Daily Register'!EA$3:EA$242)=TRUE,\"P\",\"A\")","v":"A"},{"$f":"IF(Attendance($C24,'Daily Register'!EB$3:EB$242)=TRUE,\"P\",\"A\")","v":"A"},{"$f":"IF(Attendance($C24,'Daily Register'!EC$3:EC$242)=TRUE,\"P\",\"A\")","v":"A"},{"$f":"IF(Attendance($C24,'Daily Register'!ED$3:ED$242)=TRUE,\"P\",\"A\")","v":"A"},{"$f":"IF(Attendance($C24,'Daily Register'!EE$3:EE$242)=TRUE,\"P\",\"A\")","v":"A"},{"$f":"IF(Attendance($C24,'Daily Register'!EF$3:EF$242)=TRUE,\"P\",\"A\")","v":"A"},{"$f":"IF(Attendance($C24,'Daily Register'!EG$3:EG$242)=TRUE,\"P\",\"A\")","v":"A"},{"$f":"IF(Attendance($C24,'Daily Register'!EH$3:EH$242)=TRUE,\"P\",\"A\")","v":"A"},{"$f":"IF(Attendance($C24,'Daily Register'!EI$3:EI$242)=TRUE,\"P\",\"A\")","v":"A"},{"$f":"IF(Attendance($C24,'Daily Register'!EJ$3:EJ$242)=TRUE,\"P\",\"A\")","v":"A"},{"$f":"IF(Attendance($C24,'Daily Register'!EK$3:EK$242)=TRUE,\"P\",\"A\")","v":"A"},{"$f":"IF(Attendance($C24,'Daily Register'!EL$3:EL$242)=TRUE,\"P\",\"A\")","v":"A"},{"$f":"IF(Attendance($C24,'Daily Register'!EM$22:EM$242)=TRUE,\"P\",\"A\")","v":"A"},{"$f":"IF(Attendance($C24,'Daily Register'!EN$3:EN$242)=TRUE,\"P\",\"A\")","v":"A"},{"$f":"IF(Attendance($C24,'Daily Register'!EO$3:EO$242)=TRUE,\"P\",\"A\")","v":"A"},{"$f":"IF(Attendance($C24,'Daily Register'!EP$3:EP$242)=TRUE,\"P\",\"A\")","v":"A"},{"$f":"IF(Attendance($C24,'Daily Register'!EQ$3:EQ$242)=TRUE,\"P\",\"A\")","v":"A"},{"$f":"IF(Attendance($C24,'Daily Register'!ER$3:ER$242)=TRUE,\"P\",\"A\")","v":"A"},{"$f":"IF(Attendance($C24,'Daily Register'!ES$3:ES$242)=TRUE,\"P\",\"A\")","v":"A"},{"$f":"IF(Attendance($C24,'Daily Register'!ET$3:ET$242)=TRUE,\"P\",\"A\")","v":"A"},{"$f":"IF(Attendance($C24,'Daily Register'!EU$3:EU$242)=TRUE,\"P\",\"A\")","v":"A"},{"$f":"IF(Attendance($C24,'Daily Register'!EV$3:EV$242)=TRUE,\"P\",\"A\")","v":"A"},{"$f":"IF(Attendance($C24,'Daily Register'!EW$3:EW$242)=TRUE,\"P\",\"A\")","v":"A"},{"$f":"IF(Attendance($C24,'Daily Register'!EX$3:EX$242)=TRUE,\"P\",\"A\")","v":"A"},{"$f":"IF(Attendance($C24,'Daily Register'!EY$3:EY$242)=TRUE,\"P\",\"A\")","v":"A"},{"$f":"IF(Attendance($C24,'Daily Register'!EZ$3:EZ$242)=TRUE,\"P\",\"A\")","v":"A"},{"$f":"IF(Attendance($C24,'Daily Register'!FA$3:FA$242)=TRUE,\"P\",\"A\")","v":"A"},{"$f":"IF(Attendance($C24,'Daily Register'!FB$3:FB$242)=TRUE,\"P\",\"A\")","v":"A"},{"$f":"IF(Attendance($C24,'Daily Register'!FC$3:FC$242)=TRUE,\"P\",\"A\")","v":"A"},{"$f":"IF(Attendance($C24,'Daily Register'!FD$3:FD$242)=TRUE,\"P\",\"A\")","v":"A"},{"$f":"IF(Attendance($C24,'Daily Register'!FE$3:FE$242)=TRUE,\"P\",\"A\")","v":"A"},{"$f":"IF(Attendance($C24,'Daily Register'!FF$3:FF$242)=TRUE,\"P\",\"A\")","v":"A"},{"$f":"IF(Attendance($C24,'Daily Register'!FG$3:FG$242)=TRUE,\"P\",\"A\")","v":"A"},{"$f":"IF(Attendance($C24,'Daily Register'!FH$3:FH$242)=TRUE,\"P\",\"A\")","v":"A"},{"$f":"IF(Attendance($C24,'Daily Register'!FI$3:FI$242)=TRUE,\"P\",\"A\")","v":"A"},{"$f":"IF(Attendance($C24,'Daily Register'!FJ$3:FJ$242)=TRUE,\"P\",\"A\")","v":"A"},{"$f":"IF(Attendance($C24,'Daily Register'!FK$3:FK$242)=TRUE,\"P\",\"A\")","v":"A"},{"$f":"IF(Attendance($C24,'Daily Register'!FL$3:FL$242)=TRUE,\"P\",\"A\")","v":"A"},{"$f":"IF(Attendance($C24,'Daily Register'!FM$3:FM$242)=TRUE,\"P\",\"A\")","v":"A"},{"$f":"IF(Attendance($C24,'Daily Register'!FN$3:FN$242)=TRUE,\"P\",\"A\")","v":"A"},{"$f":"IF(Attendance($C24,'Daily Register'!FO$3:FO$242)=TRUE,\"P\",\"A\")","v":"A"},{"$f":"IF(Attendance($C24,'Daily Register'!FP$3:FP$242)=TRUE,\"P\",\"A\")","v":"A"},{"$f":"IF(Attendance($C24,'Daily Register'!FQ$3:FQ$242)=TRUE,\"P\",\"A\")","v":"A"},{"$f":"IF(Attendance($C24,'Daily Register'!FR$3:FR$242)=TRUE,\"P\",\"A\")","v":"A"},{"$f":"IF(Attendance($C24,'Daily Register'!FS$3:FS$242)=TRUE,\"P\",\"A\")","v":"A"},{"$f":"IF(Attendance($C24,'Daily Register'!FT$3:FT$242)=TRUE,\"P\",\"A\")","v":"A"},{"$f":"IF(Attendance($C24,'Daily Register'!FU$3:FU$242)=TRUE,\"P\",\"A\")","v":"A"},{"$f":"IF(Attendance($C24,'Daily Register'!FV$3:FV$242)=TRUE,\"P\",\"A\")","v":"A"},{"$f":"IF(Attendance($C24,'Daily Register'!FW$3:FW$242)=TRUE,\"P\",\"A\")","v":"A"},{"$f":"IF(Attendance($C24,'Daily Register'!FX$3:FX$242)=TRUE,\"P\",\"A\")","v":"A"},{"$f":"IF(Attendance($C24,'Daily Register'!FY$3:FY$242)=TRUE,\"P\",\"A\")","v":"A"},{"$f":"IF(Attendance($C24,'Daily Register'!FZ$3:FZ$242)=TRUE,\"P\",\"A\")","v":"A"},{"$f":"IF(Attendance($C24,'Daily Register'!GA$3:GA$242)=TRUE,\"P\",\"A\")","v":"A"},{"$f":"IF(Attendance($C24,'Daily Register'!GB$3:GB$242)=TRUE,\"P\",\"A\")","v":"A"},{"$f":"IF(Attendance($C24,'Daily Register'!GC$3:GC$242)=TRUE,\"P\",\"A\")","v":"A"},{"$f":"IF(Attendance($C24,'Daily Register'!GD$3:GD$242)=TRUE,\"P\",\"A\")","v":"A"},{"$f":"IF(Attendance($C24,'Daily Register'!GE$3:GE$242)=TRUE,\"P\",\"A\")","v":"A"},{"$f":"IF(Attendance($C24,'Daily Register'!GF$3:GF$242)=TRUE,\"P\",\"A\")","v":"A"},{"$f":"IF(Attendance($C24,'Daily Register'!GG$3:GG$242)=TRUE,\"P\",\"A\")","v":"A"},{"$f":"IF(Attendance($C24,'Daily Register'!GH$3:GH$242)=TRUE,\"P\",\"A\")","v":"A"},{"$f":"IF(Attendance($C24,'Daily Register'!GI$3:GI$242)=TRUE,\"P\",\"A\")","v":"A"},{"$f":"IF(Attendance($C24,'Daily Register'!GJ$3:GJ$242)=TRUE,\"P\",\"A\")","v":"A"},{"$f":"IF(Attendance($C24,'Daily Register'!GK$3:GK$242)=TRUE,\"P\",\"A\")","v":"A"},{"$f":"IF(Attendance($C24,'Daily Register'!GL$3:GL$242)=TRUE,\"P\",\"A\")","v":"A"},{"$f":"IF(Attendance($C24,'Daily Register'!GM$3:GM$242)=TRUE,\"P\",\"A\")","v":"A"},{"$f":"IF(Attendance($C24,'Daily Register'!GN$3:GN$242)=TRUE,\"P\",\"A\")","v":"A"},{"$f":"IF(Attendance($C24,'Daily Register'!GO$3:GO$242)=TRUE,\"P\",\"A\")","v":"A"},{"$f":"IF(Attendance($C24,'Daily Register'!GP$3:GP$242)=TRUE,\"P\",\"A\")","v":"A"},{"$f":"IF(Attendance($C24,'Daily Register'!GQ$3:GQ$242)=TRUE,\"P\",\"A\")","v":"A"},{"$f":"IF(Attendance($C24,'Daily Register'!GR$3:GR$242)=TRUE,\"P\",\"A\")","v":"A"},{"$f":"IF(Attendance($C24,'Daily Register'!GS$3:GS$242)=TRUE,\"P\",\"A\")","v":"A"},{"$f":"IF(Attendance($C24,'Daily Register'!GT$3:GT$242)=TRUE,\"P\",\"A\")","v":"A"},{"$f":"IF(Attendance($C24,'Daily Register'!GU$3:GU$242)=TRUE,\"P\",\"A\")","v":"A"},{"$f":"IF(Attendance($C24,'Daily Register'!GV$3:GV$242)=TRUE,\"P\",\"A\")","v":"A"},{"$f":"IF(Attendance($C24,'Daily Register'!GW$3:GW$242)=TRUE,\"P\",\"A\")","v":"A"},{"$f":"IF(Attendance($C24,'Daily Register'!GX$3:GX$242)=TRUE,\"P\",\"A\")","v":"A"},{"$f":"IF(Attendance($C24,'Daily Register'!GY$3:GY$242)=TRUE,\"P\",\"A\")","v":"A"},{"$f":"IF(Attendance($C24,'Daily Register'!GZ$3:GZ$242)=TRUE,\"P\",\"A\")","v":"A"},{"$f":"IF(Attendance($C24,'Daily Register'!HA$3:HA$242)=TRUE,\"P\",\"A\")","v":"A"},{"$f":"IF(Attendance($C24,'Daily Register'!HB$3:HB$242)=TRUE,\"P\",\"A\")","v":"A"},{"$f":"IF(Attendance($C24,'Daily Register'!HC$3:HC$242)=TRUE,\"P\",\"A\")","v":"A"},{"$f":"IF(Attendance($C24,'Daily Register'!HD$3:HD$242)=TRUE,\"P\",\"A\")","v":"A"},{"$f":"IF(Attendance($C24,'Daily Register'!HE$3:HE$242)=TRUE,\"P\",\"A\")","v":"A"},{"$f":"IF(Attendance($C24,'Daily Register'!HF$3:HF$242)=TRUE,\"P\",\"A\")","v":"A"},{"$f":"IF(Attendance($C24,'Daily Register'!HG$3:HG$242)=TRUE,\"P\",\"A\")","v":"A"},{"$f":"IF(Attendance($C24,'Daily Register'!HH$3:HH$242)=TRUE,\"P\",\"A\")","v":"A"},{"$f":"IF(Attendance($C24,'Daily Register'!HI$3:HI$242)=TRUE,\"P\",\"A\")","v":"A"},{"$f":"IF(Attendance($C24,'Daily Register'!HJ$3:HJ$242)=TRUE,\"P\",\"A\")","v":"A"},{"$f":"IF(Attendance($C24,'Daily Register'!HK$3:HK$242)=TRUE,\"P\",\"A\")","v":"A"},{"$f":"IF(Attendance($C24,'Daily Register'!HL$3:HL$242)=TRUE,\"P\",\"A\")","v":"A"},{"$f":"IF(Attendance($C24,'Daily Register'!HM$3:HM$242)=TRUE,\"P\",\"A\")","v":"A"},{"$f":"IF(Attendance($C24,'Daily Register'!HN$3:HN$242)=TRUE,\"P\",\"A\")","v":"A"},{"$f":"IF(Attendance($C24,'Daily Register'!HO$3:HO$242)=TRUE,\"P\",\"A\")","v":"A"},{"$f":"IF(Attendance($C24,'Daily Register'!HP$3:HP$242)=TRUE,\"P\",\"A\")","v":"A"},{"$f":"IF(Attendance($C24,'Daily Register'!HQ$3:HQ$242)=TRUE,\"P\",\"A\")","v":"A"},{"$f":"IF(Attendance($C24,'Daily Register'!HR$3:HR$242)=TRUE,\"P\",\"A\")","v":"A"},{"$f":"IF(Attendance($C24,'Daily Register'!HS$3:HS$242)=TRUE,\"P\",\"A\")","v":"A"},{"$f":"IF(Attendance($C24,'Daily Register'!HT$3:HT$242)=TRUE,\"P\",\"A\")","v":"A"},{"$f":"IF(Attendance($C24,'Daily Register'!HU$3:HU$242)=TRUE,\"P\",\"A\")","v":"A"},{"$f":"IF(Attendance($C24,'Daily Register'!HV$3:HV$242)=TRUE,\"P\",\"A\")","v":"A"},{"$f":"IF(Attendance($C24,'Daily Register'!HW$3:HW$242)=TRUE,\"P\",\"A\")","v":"A"},{"$f":"IF(Attendance($C24,'Daily Register'!HX$3:HX$242)=TRUE,\"P\",\"A\")","v":"A"},{"$f":"IF(Attendance($C24,'Daily Register'!HY$3:HY$242)=TRUE,\"P\",\"A\")","v":"A"},{"$f":"IF(Attendance($C24,'Daily Register'!HZ$3:HZ$242)=TRUE,\"P\",\"A\")","v":"A"},{"$f":"IF(Attendance($C24,'Daily Register'!IA$3:IA$242)=TRUE,\"P\",\"A\")","v":"A"},{"$f":"IF(Attendance($C24,'Daily Register'!IB$3:IB$242)=TRUE,\"P\",\"A\")","v":"A"},{"$f":"IF(Attendance($C24,'Daily Register'!IC$3:IC$242)=TRUE,\"P\",\"A\")","v":"A"},{"$f":"IF(Attendance($C24,'Daily Register'!ID$3:ID$242)=TRUE,\"P\",\"A\")","v":"A"},{"$f":"IF(Attendance($C24,'Daily Register'!IE$3:IE$242)=TRUE,\"P\",\"A\")","v":"A"},{"$f":"IF(Attendance($C24,'Daily Register'!IF$3:IF$242)=TRUE,\"P\",\"A\")","v":"A"},{"$f":"IF(Attendance($C24,'Daily Register'!IG$3:IG$242)=TRUE,\"P\",\"A\")","v":"A"},{"$f":"IF(Attendance($C24,'Daily Register'!IH$3:IH$242)=TRUE,\"P\",\"A\")","v":"A"},{"$f":"IF(Attendance($C24,'Daily Register'!II$3:II$242)=TRUE,\"P\",\"A\")","v":"A"},{"$f":"IF(Attendance($C24,'Daily Register'!IJ$3:IJ$242)=TRUE,\"P\",\"A\")","v":"A"},{"$f":"IF(Attendance($C24,'Daily Register'!IK$3:IK$242)=TRUE,\"P\",\"A\")","v":"A"},{"$f":"IF(Attendance($C24,'Daily Register'!IL$3:IL$242)=TRUE,\"P\",\"A\")","v":"A"},{"$f":"IF(Attendance($C24,'Daily Register'!IM$3:IM$242)=TRUE,\"P\",\"A\")","v":"A"},{"$f":"IF(Attendance($C24,'Daily Register'!IN$3:IN$242)=TRUE,\"P\",\"A\")","v":"A"},{"$f":"IF(Attendance($C24,'Daily Register'!IO$3:IO$242)=TRUE,\"P\",\"A\")","v":"A"},{"$f":"IF(Attendance($C24,'Daily Register'!IP$3:IP$242)=TRUE,\"P\",\"A\")","v":"A"},{"$f":"IF(Attendance($C24,'Daily Register'!IQ$3:IQ$242)=TRUE,\"P\",\"A\")","v":"A"},{"$f":"IF(Attendance($C24,'Daily Register'!IR$3:IR$242)=TRUE,\"P\",\"A\")","v":"A"},{"$f":"IF(Attendance($C24,'Daily Register'!IS$3:IS$242)=TRUE,\"P\",\"A\")","v":"A"},{"$f":"IF(Attendance($C24,'Daily Register'!IT$3:IT$242)=TRUE,\"P\",\"A\")","v":"A"},{"$f":"IF(Attendance($C24,'Daily Register'!IU$3:IU$242)=TRUE,\"P\",\"A\")","v":"A"},{"$f":"IF(Attendance($C24,'Daily Register'!IV$3:IV$242)=TRUE,\"P\",\"A\")","v":"A"},{"$f":"IF(Attendance($C24,'Daily Register'!IW$3:IW$242)=TRUE,\"P\",\"A\")","v":"A"},{"$f":"IF(Attendance($C24,'Daily Register'!IX$3:IX$242)=TRUE,\"P\",\"A\")","v":"A"},{"$f":"IF(Attendance($C24,'Daily Register'!IY$3:IY$242)=TRUE,\"P\",\"A\")","v":"A"},{"$f":"IF(Attendance($C24,'Daily Register'!IZ$3:IZ$242)=TRUE,\"P\",\"A\")","v":"A"},{"$f":"IF(Attendance($C24,'Daily Register'!JA$3:JA$242)=TRUE,\"P\",\"A\")","v":"A"},{"$f":"IF(Attendance($C24,'Daily Register'!JB$3:JB$242)=TRUE,\"P\",\"A\")","v":"A"},{"$f":"IF(Attendance($C24,'Daily Register'!JC$3:JC$242)=TRUE,\"P\",\"A\")","v":"A"},{"$f":"IF(Attendance($C24,'Daily Register'!JD$3:JD$242)=TRUE,\"P\",\"A\")","v":"A"},{"$f":"IF(Attendance($C24,'Daily Register'!JE$3:JE$242)=TRUE,\"P\",\"A\")","v":"A"},{"$f":"IF(Attendance($C24,'Daily Register'!JF$3:JF$242)=TRUE,\"P\",\"A\")","v":"A"},{"$f":"IF(Attendance($C24,'Daily Register'!JG$3:JG$242)=TRUE,\"P\",\"A\")","v":"A"},{"$f":"IF(Attendance($C24,'Daily Register'!JH$3:JH$242)=TRUE,\"P\",\"A\")","v":"A"},{"$f":"IF(Attendance($C24,'Daily Register'!JI$3:JI$242)=TRUE,\"P\",\"A\")","v":"A"},{"$f":"IF(Attendance($C24,'Daily Register'!JJ$3:JJ$242)=TRUE,\"P\",\"A\")","v":"A"},{"$f":"IF(Attendance($C24,'Daily Register'!JK$3:JK$242)=TRUE,\"P\",\"A\")","v":"A"},{"$f":"IF(Attendance($C24,'Daily Register'!JL$3:JL$242)=TRUE,\"P\",\"A\")","v":"A"},{"$f":"IF(Attendance($C24,'Daily Register'!JM$3:JM$242)=TRUE,\"P\",\"A\")","v":"A"},{"$f":"IF(Attendance($C24,'Daily Register'!JN$3:JN$242)=TRUE,\"P\",\"A\")","v":"A"},{"$f":"IF(Attendance($C24,'Daily Register'!JO$3:JO$242)=TRUE,\"P\",\"A\")","v":"A"},{"$f":"IF(Attendance($C24,'Daily Register'!JP$3:JP$242)=TRUE,\"P\",\"A\")","v":"A"},{"$f":"IF(Attendance($C24,'Daily Register'!JQ$3:JQ$242)=TRUE,\"P\",\"A\")","v":"A"},{"$f":"IF(Attendance($C24,'Daily Register'!JR$3:JR$242)=TRUE,\"P\",\"A\")","v":"A"},{"$f":"IF(Attendance($C24,'Daily Register'!JS$3:JS$242)=TRUE,\"P\",\"A\")","v":"A"},{"$f":"IF(Attendance($C24,'Daily Register'!JT$3:JT$242)=TRUE,\"P\",\"A\")","v":"A"},{"$f":"IF(Attendance($C24,'Daily Register'!JU$3:JU$242)=TRUE,\"P\",\"A\")","v":"A"},{"$f":"IF(Attendance($C24,'Daily Register'!JV$3:JV$242)=TRUE,\"P\",\"A\")","v":"A"},{"$f":"IF(Attendance($C24,'Daily Register'!JW$3:JW$242)=TRUE,\"P\",\"A\")","v":"A"},{"$f":"IF(Attendance($C24,'Daily Register'!JX$3:JX$242)=TRUE,\"P\",\"A\")","v":"A"},{"$f":"IF(Attendance($C24,'Daily Register'!JY$3:JY$242)=TRUE,\"P\",\"A\")","v":"A"},{"$f":"IF(Attendance($C24,'Daily Register'!JZ$3:JZ$242)=TRUE,\"P\",\"A\")","v":"A"},{"$f":"IF(Attendance($C24,'Daily Register'!KA$3:KA$242)=TRUE,\"P\",\"A\")","v":"A"},{"$f":"IF(Attendance($C24,'Daily Register'!KB$3:KB$242)=TRUE,\"P\",\"A\")","v":"A"},{"$f":"IF(Attendance($C24,'Daily Register'!KC$3:KC$242)=TRUE,\"P\",\"A\")","v":"A"},{"$f":"IF(Attendance($C24,'Daily Register'!KD$3:KD$242)=TRUE,\"P\",\"A\")","v":"A"},{"$f":"IF(Attendance($C24,'Daily Register'!KE$3:KE$242)=TRUE,\"P\",\"A\")","v":"A"},{"$f":"IF(Attendance($C24,'Daily Register'!KF$3:KF$242)=TRUE,\"P\",\"A\")","v":"A"},{"$f":"IF(Attendance($C24,'Daily Register'!KG$3:KG$242)=TRUE,\"P\",\"A\")","v":"A"},{"$f":"IF(Attendance($C24,'Daily Register'!KH$3:KH$242)=TRUE,\"P\",\"A\")","v":"A"},{"$f":"IF(Attendance($C24,'Daily Register'!KI$3:KI$242)=TRUE,\"P\",\"A\")","v":"A"},{"$f":"IF(Attendance($C24,'Daily Register'!KJ$3:KJ$242)=TRUE,\"P\",\"A\")","v":"A"},{"$f":"IF(Attendance($C24,'Daily Register'!KK$3:KK$242)=TRUE,\"P\",\"A\")","v":"A"},{"$f":"IF(Attendance($C24,'Daily Register'!KL$3:KL$242)=TRUE,\"P\",\"A\")","v":"A"},{"$f":"IF(Attendance($C24,'Daily Register'!KM$3:KM$242)=TRUE,\"P\",\"A\")","v":"A"},{"$f":"IF(Attendance($C24,'Daily Register'!KN$3:KN$242)=TRUE,\"P\",\"A\")","v":"A"},{"$f":"IF(Attendance($C24,'Daily Register'!KO$3:KO$242)=TRUE,\"P\",\"A\")","v":"A"},{"$f":"IF(Attendance($C24,'Daily Register'!KP$3:KP$242)=TRUE,\"P\",\"A\")","v":"A"},{"$f":"IF(Attendance($C24,'Daily Register'!KQ$3:KQ$242)=TRUE,\"P\",\"A\")","v":"A"},{"$f":"IF(Attendance($C24,'Daily Register'!KR$3:KR$242)=TRUE,\"P\",\"A\")","v":"A"},{"$f":"IF(Attendance($C24,'Daily Register'!KS$3:KS$242)=TRUE,\"P\",\"A\")","v":"A"},{"$f":"IF(Attendance($C24,'Daily Register'!KT$3:KT$242)=TRUE,\"P\",\"A\")","v":"A"},{"$f":"IF(Attendance($C24,'Daily Register'!KU$3:KU$242)=TRUE,\"P\",\"A\")","v":"A"},{"$f":"IF(Attendance($C24,'Daily Register'!KV$3:KV$242)=TRUE,\"P\",\"A\")","v":"A"},{"$f":"IF(Attendance($C24,'Daily Register'!KW$3:KW$242)=TRUE,\"P\",\"A\")","v":"A"},{"$f":"IF(Attendance($C24,'Daily Register'!KX$3:KX$242)=TRUE,\"P\",\"A\")","v":"A"},{"$f":"IF(Attendance($C24,'Daily Register'!KY$3:KY$242)=TRUE,\"P\",\"A\")","v":"A"},{"$f":"IF(Attendance($C24,'Daily Register'!KZ$3:KZ$242)=TRUE,\"P\",\"A\")","v":"A"},{"$f":"IF(Attendance($C24,'Daily Register'!LA$3:LA$242)=TRUE,\"P\",\"A\")","v":"A"},{"$f":"IF(Attendance($C24,'Daily Register'!LB$3:LB$242)=TRUE,\"P\",\"A\")","v":"A"},{"$f":"IF(Attendance($C24,'Daily Register'!LC$3:LC$242)=TRUE,\"P\",\"A\")","v":"A"},{"$f":"IF(Attendance($C24,'Daily Register'!LD$3:LD$242)=TRUE,\"P\",\"A\")","v":"A"},{"$f":"IF(Attendance($C24,'Daily Register'!LE$3:LE$242)=TRUE,\"P\",\"A\")","v":"A"},{"$f":"IF(Attendance($C24,'Daily Register'!LF$3:LF$242)=TRUE,\"P\",\"A\")","v":"A"},{"$f":"IF(Attendance($C24,'Daily Register'!LG$3:LG$242)=TRUE,\"P\",\"A\")","v":"A"},{"$f":"IF(Attendance($C24,'Daily Register'!LH$3:LH$242)=TRUE,\"P\",\"A\")","v":"A"},{"$f":"IF(Attendance($C24,'Daily Register'!LI$3:LI$242)=TRUE,\"P\",\"A\")","v":"A"},{"$f":"IF(Attendance($C24,'Daily Register'!LJ$3:LJ$242)=TRUE,\"P\",\"A\")","v":"A"},{"$f":"IF(Attendance($C24,'Daily Register'!LK$3:LK$242)=TRUE,\"P\",\"A\")","v":"A"},{"$f":"IF(Attendance($C24,'Daily Register'!LL$3:LL$242)=TRUE,\"P\",\"A\")","v":"A"},{"$f":"IF(Attendance($C24,'Daily Register'!LM$3:LM$242)=TRUE,\"P\",\"A\")","v":"A"},{"$f":"IF(Attendance($C24,'Daily Register'!LN$3:LN$242)=TRUE,\"P\",\"A\")","v":"A"},{"$f":"IF(Attendance($C24,'Daily Register'!LO$3:LO$242)=TRUE,\"P\",\"A\")","v":"A"},{"$f":"IF(Attendance($C24,'Daily Register'!LP$3:LP$242)=TRUE,\"P\",\"A\")","v":"A"},{"$f":"IF(Attendance($C24,'Daily Register'!LQ$3:LQ$242)=TRUE,\"P\",\"A\")","v":"A"},{"$f":"IF(Attendance($C24,'Daily Register'!LR$3:LR$242)=TRUE,\"P\",\"A\")","v":"A"},{"$f":"IF(Attendance($C24,'Daily Register'!LS$3:LS$242)=TRUE,\"P\",\"A\")","v":"A"},{"$f":"IF(Attendance($C24,'Daily Register'!LT$3:LT$242)=TRUE,\"P\",\"A\")","v":"A"},{"$f":"IF(Attendance($C24,'Daily Register'!LU$3:LU$242)=TRUE,\"P\",\"A\")","v":"A"},{"$f":"IF(Attendance($C24,'Daily Register'!LV$3:LV$242)=TRUE,\"P\",\"A\")","v":"A"},{"$f":"IF(Attendance($C24,'Daily Register'!LW$3:LW$242)=TRUE,\"P\",\"A\")","v":"A"},{"$f":"IF(Attendance($C24,'Daily Register'!LX$3:LX$242)=TRUE,\"P\",\"A\")","v":"A"},{"$f":"IF(Attendance($C24,'Daily Register'!LY$3:LY$242)=TRUE,\"P\",\"A\")","v":"A"},{"$f":"IF(Attendance($C24,'Daily Register'!LZ$3:LZ$242)=TRUE,\"P\",\"A\")","v":"A"},{"$f":"IF(Attendance($C24,'Daily Register'!MA$3:MA$242)=TRUE,\"P\",\"A\")","v":"A"},{"$f":"IF(Attendance($C24,'Daily Register'!MB$3:MB$242)=TRUE,\"P\",\"A\")","v":"A"},{"$f":"IF(Attendance($C24,'Daily Register'!MC$3:MC$242)=TRUE,\"P\",\"A\")","v":"A"},{"$f":"IF(Attendance($C24,'Daily Register'!MD$3:MD$242)=TRUE,\"P\",\"A\")","v":"A"},{"$f":"IF(Attendance($C24,'Daily Register'!ME$3:ME$242)=TRUE,\"P\",\"A\")","v":"A"},{"$f":"IF(Attendance($C24,'Daily Register'!MF$3:MF$242)=TRUE,\"P\",\"A\")","v":"A"},{"$f":"IF(Attendance($C24,'Daily Register'!MG$3:MG$242)=TRUE,\"P\",\"A\")","v":"A"},{"$f":"IF(Attendance($C24,'Daily Register'!MH$3:MH$242)=TRUE,\"P\",\"A\")","v":"A"},{"$f":"IF(Attendance($C24,'Daily Register'!MI$3:MI$242)=TRUE,\"P\",\"A\")","v":"A"},{"$f":"IF(Attendance($C24,'Daily Register'!MJ$3:MJ$242)=TRUE,\"P\",\"A\")","v":"A"},{"$f":"IF(Attendance($C24,'Daily Register'!MK$3:MK$242)=TRUE,\"P\",\"A\")","v":"A"},{"$f":"IF(Attendance($C24,'Daily Register'!ML$3:ML$242)=TRUE,\"P\",\"A\")","v":"A"},{"$f":"IF(Attendance($C24,'Daily Register'!MM$3:MM$242)=TRUE,\"P\",\"A\")","v":"A"},{"$f":"IF(Attendance($C24,'Daily Register'!MN$3:MN$242)=TRUE,\"P\",\"A\")","v":"A"},{"$f":"IF(Attendance($C24,'Daily Register'!MO$3:MO$242)=TRUE,\"P\",\"A\")","v":"A"},{"$f":"IF(Attendance($C24,'Daily Register'!MP$3:MP$242)=TRUE,\"P\",\"A\")","v":"A"},{"$f":"IF(Attendance($C24,'Daily Register'!MQ$3:MQ$242)=TRUE,\"P\",\"A\")","v":"A"},{"$f":"IF(Attendance($C24,'Daily Register'!MR$3:MR$242)=TRUE,\"P\",\"A\")","v":"A"},{"$f":"IF(Attendance($C24,'Daily Register'!MS$3:MS$242)=TRUE,\"P\",\"A\")","v":"A"},{"$f":"IF(Attendance($C24,'Daily Register'!MT$3:MT$242)=TRUE,\"P\",\"A\")","v":"A"},{"$f":"IF(Attendance($C24,'Daily Register'!MU$3:MU$242)=TRUE,\"P\",\"A\")","v":"A"},{"$f":"IF(Attendance($C24,'Daily Register'!MV$3:MV$242)=TRUE,\"P\",\"A\")","v":"A"},{"$f":"IF(Attendance($C24,'Daily Register'!MW$3:MW$242)=TRUE,\"P\",\"A\")","v":"A"},{"$f":"IF(Attendance($C24,'Daily Register'!MX$3:MX$242)=TRUE,\"P\",\"A\")","v":"A"},{"$f":"IF(Attendance($C24,'Daily Register'!MY$3:MY$242)=TRUE,\"P\",\"A\")","v":"A"},{"$f":"IF(Attendance($C24,'Daily Register'!MZ$3:MZ$242)=TRUE,\"P\",\"A\")","v":"A"},{"$f":"IF(Attendance($C24,'Daily Register'!NA$3:NA$242)=TRUE,\"P\",\"A\")","v":"A"},{"$f":"IF(Attendance($C24,'Daily Register'!NB$3:NB$242)=TRUE,\"P\",\"A\")","v":"A"}]
[0,null,22,null,{"$f":"IF(Attendance($C25,'Daily Register'!A$3:A$242)=TRUE,\"P\",\"A\")","v":"A"},{"$f":"IF(Attendance($C25,'Daily Register'!B$3:B$242)=TRUE,\"P\",\"A\")","v":"A"},{"$f":"IF(Attendance($C25,'Daily Register'!C$3:C$242)=TRUE,\"P\",\"A\")","v":"A"},{"$f":"IF(Attendance($C25,'Daily Register'!D$3:D$242)=TRUE,\"P\",\"A\")","v":"A"},{"$f":"IF(Attendance($C25,'Daily Register'!E$3:E$242)=TRUE,\"P\",\"A\")","v":"A"},{"$f":"IF(Attendance($C25,'Daily Register'!F$3:F$242)=TRUE,\"P\",\"A\")","v":"A"},{"$f":"IF(Attendance($C25,'Daily Register'!G$3:G$242)=TRUE,\"P\",\"A\")","v":"A"},{"$f":"IF(Attendance($C25,'Daily Register'!H$3:H$242)=TRUE,\"P\",\"A\")","v":"A"},{"$f":"IF(Attendance($C25,'Daily Register'!I$3:I$242)=TRUE,\"P\",\"A\")","v":"A"},{"$f":"IF(Attendance($C25,'Daily Register'!J$3:J$242)=TRUE,\"P\",\"A\")","v":"A"},{"$f":"IF(Attendance($C25,'Daily Register'!K$3:K$242)=TRUE,\"P\",\"A\")","v":"A"},{"$f":"IF(Attendance($C25,'Daily Register'!L$3:L$242)=TRUE,\"P\",\"A\")","v":"A"},{"$f":"IF(Attendance($C25,'Daily Register'!M$3:M$242)=TRUE,\"P\",\"A\")","v":"A"},{"$f":"IF(Attendance($C25,'Daily Register'!N$3:N$242)=TRUE,\"P\",\"A\")","v":"A"},{"$f":"IF(Attendance($C25,'Daily Register'!O$3:O$242)=TRUE,\"P\",\"A\")","v":"A"},{"$f":"IF(Attendance($C25,'Daily Register'!P$3:P$242)=TRUE,\"P\",\"A\")","v":"A"},{"$f":"IF(Attendance($C25,'Daily Register'!Q$3:Q$242)=TRUE,\"P\",\"A\")","v":"A"},{"$f":"IF(Attendance($C25,'Daily Register'!R$3:R$242)=TRUE,\"P\",\"A\")","v":"A"},{"$f":"IF(Attendance($C25,'Daily Register'!S$3:S$242)=TRUE,\"P\",\"A\")","v":"A"},{"$f":"IF(Attendance($C25,'Daily Register'!T$3:T$242)=TRUE,\"P\",\"A\")","v":"A"},{"$f":"IF(Attendance($C25,'Daily Register'!U$3:U$242)=TRUE,\"P\",\"A\")","v":"A"},{"$f":"IF(Attendance($C25,'Daily Register'!V$3:V$242)=TRUE,\"P\",\"A\")","v":"A"},{"$f":"IF(Attendance($C25,'Daily Register'!W$3:W$242)=TRUE,\"P\",\"A\")","v":"A"},{"$f":"IF(Attendance($C25,'Daily Register'!X$3:X$242)=TRUE,\"P\",\"A\")","v":"A"},{"$f":"IF(Attendance($C25,'Daily Register'!Y$3:Y$242)=TRUE,\"P\",\"A\")","v":"A"},{"$f":"IF(Attendance($C25,'Daily Register'!Z$3:Z$242)=TRUE,\"P\",\"A\")","v":"A"},{"$f":"IF(Attendance($C25,'Daily Register'!AA$3:AA$242)=TRUE,\"P\",\"A\")","v":"A"},{"$f":"IF(Attendance($C25,'Daily Register'!AB$3:AB$242)=TRUE,\"P\",\"A\")","v":"A"},{"$f":"IF(Attendance($C25,'Daily Register'!AC$3:AC$242)=TRUE,\"P\",\"A\")","v":"A"},{"$f":"IF(Attendance($C25,'Daily Register'!AD$3:AD$242)=TRUE,\"P\",\"A\")","v":"A"},{"$f":"IF(Attendance($C25,'Daily Register'!AE$3:AE$242)=TRUE,\"P\",\"A\")","v":"A"},{"$f":"IF(Attendance($C25,'Daily Register'!AF$3:AF$242)=TRUE,\"P\",\"A\")","v":"A"},{"$f":"IF(Attendance($C25,'Daily Register'!AG$3:AG$242)=TRUE,\"P\",\"A\")","v":"A"},{"$f":"IF(Attendance($C25,'Daily Register'!AH$3:AH$242)=TRUE,\"P\",\"A\")","v":"A"},{"$f":"IF(Attendance($C25,'Daily Register'!AI$3:AI$242)=TRUE,\"P\",\"A\")","v":"A"},{"$f":"IF(Attendance($C25,'Daily Register'!AJ$3:AJ$242)=TRUE,\"P\",\"A\")","v":"A"},{"$f":"IF(Attendance($C25,'Daily Register'!AK$3:AK$242)=TRUE,\"P\",\"A\")","v":"A"},{"$f":"IF(Attendance($C25,'Daily Register'!AL$3:AL$242)=TRUE,\"P\",\"A\")","v":"A"},{"$f":"IF(Attendance($C25,'Daily Register'!AM$3:AM$242)=TRUE,\"P\",\"A\")","v":"A"},{"$f":"IF(Attendance($C25,'Daily Register'!AN$3:AN$242)=TRUE,\"P\",\"A\")","v":"A"},{"$f":"IF(Attendance($C25,'Daily Register'!AO$3:AO$242)=TRUE,\"P\",\"A\")","v":"A"},{"$f":"IF(Attendance($C25,'Daily Register'!AP$3:AP$242)=TRUE,\"P\",\"A\")","v":"A"},{"$f":"IF(Attendance($C25,'Daily Register'!AQ$3:AQ$242)=TRUE,\"P\",\"A\")","v":"A"},{"$f":"IF(Attendance($C25,'Daily Register'!AR$3:AR$242)=TRUE,\"P\",\"A\")","v":"A"},{"$f":"IF(Attendance($C25,'Daily Register'!AS$3:AS$242)=TRUE,\"P\",\"A\")","v":"A"},{"$f":"IF(Attendance($C25,'Daily Register'!AT$3:AT$242)=TRUE,\"P\",\"A\")","v":"A"},{"$f":"IF(Attendance($C25,'Daily Register'!AU$3:AU$242)=TRUE,\"P\",\"A\")","v":"A"},{"$f":"IF(Attendance($C25,'Daily Register'!AV$3:AV$242)=TRUE,\"P\",\"A\")","v":"A"},{"$f":"IF(Attendance($C25,'Daily Register'!AW$3:AW$242)=TRUE,\"P\",\"A\")","v":"A"},{"$f":"IF(Attendance($C25,'Daily Register'!AX$3:AX$242)=TRUE,\"P\",\"A\")","v":"A"},{"$f":"IF(Attendance($C25,'Daily Register'!AY$3:AY$242)=TRUE,\"P\",\"A\")","v":"A"},{"$f":"IF(Attendance($C25,'Daily Register'!AZ$3:AZ$242)=TRUE,\"P\",\"A\")","v":"A"},{"$f":"IF(Attendance($C25,'Daily Register'!BA$3:BA$242)=TRUE,\"P\",\"A\")","v":"A"},{"$f":"IF(Attendance($C25,'Daily Register'!BB$3:BB$242)=TRUE,\"P\",\"A\")","v":"A"},{"$f":"IF(Attendance($C25,'Daily Register'!BC$3:BC$242)=TRUE,\"P\",\"A\")","v":"A"},{"$f":"IF(Attendance($C25,'Daily Register'!BD$3:BD$242)=TRUE,\"P\",\"A\")","v":"A"},{"$f":"IF(Attendance($C25,'Daily Register'!BE$3:BE$242)=TRUE,\"P\",\"A\")","v":"A"},{"$f":"IF(Attendance($C25,'Daily Register'!BF$3:BF$242)=TRUE,\"P\",\"A\")","v":"A"},{"$f":"IF(Attendance($C25,'Daily Register'!BG$3:BG$242)=TRUE,\"P\",\"A\")","v":"A"},{"$f":"IF(Attendance($C25,'Daily Register'!BH$3:BH$242)=TRUE,\"P\",\"A\")","v":"A"},{"$f":"IF(Attendance($C25,'Daily Register'!BI$3:BI$242)=TRUE,\"P\",\"A\")","v":"A"},{"$f":"IF(Attendance($C25,'Daily Register'!BJ$3:BJ$242)=TRUE,\"P\",\"A\")","v":"A"},{"$f":"IF(Attendance($C25,'Daily Register'!BK$3:BK$242)=TRUE,\"P\",\"A\")","v":"A"},{"$f":"IF(Attendance($C25,'Daily Register'!BL$3:BL$242)=TRUE,\"P\",\"A\")","v":"A"},{"$f":"IF(Attendance($C25,'Daily Register'!BM$3:BM$242)=TRUE,\"P\",\"A\")","v":"A"},{"$f":"IF(Attendance($C25,'Daily Register'!BN$3:BN$242)=TRUE,\"P\",\"A\")","v":"A"},{"$f":"IF(Attendance($C25,'Daily Register'!BO$3:BO$242)=TRUE,\"P\",\"A\")","v":"A"},{"$f":"IF(Attendance($C25,'Daily Register'!BP$3:BP$242)=TRUE,\"P\",\"A\")","v":"A"},{"$f":"IF(Attendance($C25,'Daily Register'!BQ$3:BQ$242)=TRUE,\"P\",\"A\")","v":"A"},{"$f":"IF(Attendance($C25,'Daily Register'!BR$3:BR$242)=TRUE,\"P\",\"A\")","v":"A"},{"$f":"IF(Attendance($C25,'Daily Register'!BS$3:BS$242)=TRUE,\"P\",\"A\")","v":"A"},{"$f":"IF(Attendance($C25,'Daily Register'!BT$3:BT$242)=TRUE,\"P\",\"A\")","v":"A"},{"$f":"IF(Attendance($C25,'Daily Register'!BU$3:BU$242)=TRUE,\"P\",\"A\")","v":"A"},{"$f":"IF(Attendance($C25,'Daily Register'!BV$3:BV$242)=TRUE,\"P\",\"A\")","v":"A"},{"$f":"IF(Attendance($C25,'Daily Register'!BW$3:BW$242)=TRUE,\"P\",\"A\")","v":"A"},{"$f":"IF(Attendance($C25,'Daily Register'!BX$3:BX$242)=TRUE,\"P\",\"A\")","v":"A"},{"$f":"IF(Attendance($C25,'Daily Register'!BY$3:BY$242)=TRUE,\"P\",\"A\")","v":"A"},{"$f":"IF(Attendance($C25,'Daily Register'!BZ$3:BZ$242)=TRUE,\"P\",\"A\")","v":"A"},{"$f":"IF(Attendance($C25,'Daily Register'!CA$3:CA$242)=TRUE,\"P\",\"A\")","v":"A"},{"$f":"IF(Attendance($C25,'Daily Register'!CB$3:CB$242)=TRUE,\"P\",\"A\")","v":"A"},{"$f":"IF(Attendance($C25,'Daily Register'!CC$3:CC$242)=TRUE,\"P\",\"A\")","v":"A"},{"$f":"IF(Attendance($C25,'Daily Register'!CD$3:CD$242)=TRUE,\"P\",\"A\")","v":"A"},{"$f":"IF(Attendance($C25,'Daily Register'!CE$3:CE$242)=TRUE,\"P\",\"A\")","v":"A"},{"$f":"IF(Attendance($C25,'Daily Register'!CF$3:CF$242)=TRUE,\"P\",\"A\")","v":"A"},{"$f":"IF(Attendance($C25,'Daily Register'!CG$3:CG$242)=TRUE,\"P\",\"A\")","v":"A"},{"$f":"IF(Attendance($C25,'Daily Register'!CH$3:CH$242)=TRUE,\"P\",\"A\")","v":"A"},{"$f":"IF(Attendance($C25,'Daily Register'!CI$3:CI$242)=TRUE,\"P\",\"A\")","v":"A"},{"$f":"IF(Attendance($C25,'Daily Register'!CJ$3:CJ$242)=TRUE,\"P\",\"A\")","v":"A"},{"$f":"IF(Attendance($C25,'Daily Register'!CK$3:CK$242)=TRUE,\"P\",\"A\")","v":"A"},{"$f":"IF(Attendance($C25,'Daily Register'!CL$3:CL$242)=TRUE,\"P\",\"A\")","v":"A"},{"$f":"IF(Attendance($C25,'Daily Register'!CM$3:CM$242)=TRUE,\"P\",\"A\")","v":"A"},{"$f":"IF(Attendance($C25,'Daily Register'!CN$3:CN$242)=TRUE,\"P\",\"A\")","v":"A"},{"$f":"IF(Attendance($C25,'Daily Register'!CO$3:CO$242)=TRUE,\"P\",\"A\")","v":"A"},{"$f":"IF(Attendance($C25,'Daily Register'!CP$3:CP$242)=TRUE,\"P\",\"A\")","v":"A"},{"$f":"IF(Attendance($C25,'Daily Register'!CQ$3:CQ$242)=TRUE,\"P\",\"A\")","v":"A"},{"$f":"IF(Attendance($C25,'Daily Register'!CR$3:CR$242)=TRUE,\"P\",\"A\")","v":"A"},{"$f":"IF(Attendance($C25,'Daily Register'!CS$3:CS$242)=TRUE,\"P\",\"A\")","v":"A"},{"$f":"IF(Attendance($C25,'Daily Register'!CT$3:CT$242)=TRUE,\"P\",\"A\")","v":"A"},{"$f":"IF(Attendance($C25,'Daily Register'!CU$3:CU$242)=TRUE,\"P\",\"A\")","v":"A"},{"$f":"IF(Attendance($C25,'Daily Register'!CV$3:CV$242)=TRUE,\"P\",\"A\")","v":"A"},{"$f":"IF(Attendance($C25,'Daily Register'!CW$3:CW$242)=TRUE,\"P\",\"A\")","v":"A"},{"$f":"IF(Attendance($C25,'Daily Register'!CX$3:CX$242)=TRUE,\"P\",\"A\")","v":"A"},{"$f":"IF(Attendance($C25,'Daily Register'!CY$3:CY$242)=TRUE,\"P\",\"A\")","v":"A"},{"$f":"IF(Attendance($C25,'Daily Register'!CZ$3:CZ$242)=TRUE,\"P\",\"A\")","v":"A"},{"$f":"IF(Attendance($C25,'Daily Register'!DA$3:DA$242)=TRUE,\"P\",\"A\")","v":"A"},{"$f":"IF(Attendance($C25,'Daily Register'!DB$3:DB$242)=TRUE,\"P\",\"A\")","v":"A"},{"$f":"IF(Attendance($C25,'Daily Register'!DC$3:DC$242)=TRUE,\"P\",\"A\")","v":"A"},{"$f":"IF(Attendance($C25,'Daily Register'!DD$3:DD$242)=TRUE,\"P\",\"A\")","v":"A"},{"$f":"IF(Attendance($C25,'Daily Register'!DE$3:DE$242)=TRUE,\"P\",\"A\")","v":"A"},{"$f":"IF(Attendance($C25,'Daily Register'!DF$3:DF$242)=TRUE,\"P\",\"A\")","v":"A"},{"$f":"IF(Attendance($C25,'Daily Register'!DG$3:DG$242)=TRUE,\"P\",\"A\")","v":"A"},{"$f":"IF(Attendance($C25,'Daily Register'!DH$3:DH$242)=TRUE,\"P\",\"A\")","v":"A"},{"$f":"IF(Attendance($C25,'Daily Register'!DI$3:DI$242)=TRUE,\"P\",\"A\")","v":"A"},{"$f":"IF(Attendance($C25,'Daily Register'!DJ$3:DJ$242)=TRUE,\"P\",\"A\")","v":"A"},{"$f":"IF(Attendance($C25,'Daily Register'!DK$3:DK$242)=TRUE,\"P\",\"A\")","v":"A"},{"$f":"IF(Attendance($C25,'Daily Register'!DL$3:DL$242)=TRUE,\"P\",\"A\")","v":"A"},{"$f":"IF(Attendance($C25,'Daily Register'!DM$3:DM$242)=TRUE,\"P\",\"A\")","v":"A"},{"$f":"IF(Attendance($C25,'Daily Register'!DN$3:DN$242)=TRUE,\"P\",\"A\")","v":"A"},{"$f":"IF(Attendance($C25,'Daily Register'!DO$3:DO$242)=TRUE,\"P\",\"A\")","v":"A"},{"$f":"IF(Attendance($C25,'Daily Register'!DP$3:DP$242)=TRUE,\"P\",\"A\")","v":"A"},{"$f":"IF(Attendance($C25,'Daily Register'!DQ$3:DQ$242)=TRUE,\"P\",\"A\")","v":"A"},{"$f":"IF(Attendance($C25,'Daily Register'!DR$3:DR$242)=TRUE,\"P\",\"A\")","v":"A"},{"$f":"IF(Attendance($C25,'Daily Register'!DS$3:DS$242)=TRUE,\"P\",\"A\")","v":"A"},{"$f":"IF(Attendance($C25,'Daily Register'!DT$3:DT$242)=TRUE,\"P\",\"A\")","v":"A"},{"$f":"IF(Attendance($C25,'Daily Register'!DU$3:DU$242)=TRUE,\"P\",\"A\")","v":"A"},{"$f":"IF(Attendance($C25,'Daily Register'!DV$3:DV$242)=TRUE,\"P\",\"A\")","v":"A"},{"$f":"IF(Attendance($C25,'Daily Register'!DW$3:DW$242)=TRUE,\"P\",\"A\")","v":"A"},{"$f":"IF(Attendance($C25,'Daily Register'!DX$3:DX$242)=TRUE,\"P\",\"A\")","v":"A"},{"$f":"IF(Attendance($C25,'Daily Register'!DY$3:DY$242)=TRUE,\"P\",\"A\")","v":"A"},{"$f":"IF(Attendance($C25,'Daily Register'!DZ$3:DZ$242)=TRUE,\"P\",\"A\")","v":"A"},{"$f":"IF(Attendance($C25,'Daily Register'!EA$3:EA$242)=TRUE,\"P\",\"A\")","v":"A"},{"$f":"IF(Attendance($C25,'Daily Register'!EB$3:EB$242)=TRUE,\"P\",\"A\")","v":"A"},{"$f":"IF(Attendance($C25,'Daily Register'!EC$3:EC$242)=TRUE,\"P\",\"A\")","v":"A"},{"$f":"IF(Attendance($C25,'Daily Register'!ED$3:ED$242)=TRUE,\"P\",\"A\")","v":"A"},{"$f":"IF(Attendance($C25,'Daily Register'!EE$3:EE$242)=TRUE,\"P\",\"A\")","v":"A"},{"$f":"IF(Attendance($C25,'Daily Register'!EF$3:EF$242)=TRUE,\"P\",\"A\")","v":"A"},{"$f":"IF(Attendance($C25,'Daily Register'!EG$3:EG$242)=TRUE,\"P\",\"A\")","v":"A"},{"$f":"IF(Attendance($C25,'Daily Register'!EH$3:EH$242)=TRUE,\"P\",\"A\")","v":"A"},{"$f":"IF(Attendance($C25,'Daily Register'!EI$3:EI$242)=TRUE,\"P\",\"A\")","v":"A"},{"$f":"IF(Attendance($C25,'Daily Register'!EJ$3:EJ$242)=TRUE,\"P\",\"A\")","v":"A"},{"$f":"IF(Attendance($C25,'Daily Register'!EK$3:EK$242)=TRUE,\"P\",\"A\")","v":"A"},{"$f":"IF(Attendance($C25,'Daily Register'!EL$3:EL$242)=TRUE,\"P\",\"A\")","v":"A"},{"$f":"IF(Attendance($C25,'Daily Register'!EM$22:EM$242)=TRUE,\"P\",\"A\")","v":"A"},{"$f":"IF(Attendance($C25,'Daily Register'!EN$3:EN$242)=TRUE,\"P\",\"A\")","v":"A"},{"$f":"IF(Attendance($C25,'Daily Register'!EO$3:EO$242)=TRUE,\"P\",\"A\")","v":"A"},{"$f":"IF(Attendance($C25,'Daily Register'!EP$3:EP$242)=TRUE,\"P\",\"A\")","v":"A"},{"$f":"IF(Attendance($C25,'Daily Register'!EQ$3:EQ$242)=TRUE,\"P\",\"A\")","v":"A"},{"$f":"IF(Attendance($C25,'Daily Register'!ER$3:ER$242)=TRUE,\"P\",\"A\")","v":"A"},{"$f":"IF(Attendance($C25,'Daily Register'!ES$3:ES$242)=TRUE,\"P\",\"A\")","v":"A"},{"$f":"IF(Attendance($C25,'Daily Register'!ET$3:ET$242)=TRUE,\"P\",\"A\")","v":"A"},{"$f":"IF(Attendance($C25,'Daily Register'!EU$3:EU$242)=TRUE,\"P\",\"A\")","v":"A"},{"$f":"IF(Attendance($C25,'Daily Register'!EV$3:EV$242)=TRUE,\"P\",\"A\")","v":"A"},{"$f":"IF(Attendance($C25,'Daily Register'!EW$3:EW$242)=TRUE,\"P\",\"A\")","v":"A"},{"$f":"IF(Attendance($C25,'Daily Register'!EX$3:EX$242)=TRUE,\"P\",\"A\")","v":"A"},{"$f":"IF(Attendance($C25,'Daily Register'!EY$3:EY$242)=TRUE,\"P\",\"A\")","v":"A"},{"$f":"IF(Attendance($C25,'Daily Register'!EZ$3:EZ$242)=TRUE,\"P\",\"A\")","v":"A"},{"$f":"IF(Attendance($C25,'Daily Register'!FA$3:FA$242)=TRUE,\"P\",\"A\")","v":"A"},{"$f":"IF(Attendance($C25,'Daily Register'!FB$3:FB$242)=TRUE,\"P\",\"A\")","v":"A"},{"$f":"IF(Attendance($C25,'Daily Register'!FC$3:FC$242)=TRUE,\"P\",\"A\")","v":"A"},{"$f":"IF(Attendance($C25,'Daily Register'!FD$3:FD$242)=TRUE,\"P\",\"A\")","v":"A"},{"$f":"IF(Attendance($C25,'Daily Register'!FE$3:FE$242)=TRUE,\"P\",\"A\")","v":"A"},{"$f":"IF(Attendance($C25,'Daily Register'!FF$3:FF$242)=TRUE,\"P\",\"A\")","v":"A"},{"$f":"IF(Attendance($C25,'Daily Register'!FG$3:FG$242)=TRUE,\"P\",\"A\")","v":"A"},{"$f":"IF(Attendance($C25,'Daily Register'!FH$3:FH$242)=TRUE,\"P\",\"A\")","v":"A"},{"$f":"IF(Attendance($C25,'Daily Register'!FI$3:FI$242)=TRUE,\"P\",\"A\")","v":"A"},{"$f":"IF(Attendance($C25,'Daily Register'!FJ$3:FJ$242)=TRUE,\"P\",\"A\")","v":"A"},{"$f":"IF(Attendance($C25,'Daily Register'!FK$3:FK$242)=TRUE,\"P\",\"A\")","v":"A"},{"$f":"IF(Attendance($C25,'Daily Register'!FL$3:FL$242)=TRUE,\"P\",\"A\")","v":"A"},{"$f":"IF(Attendance($C25,'Daily Register'!FM$3:FM$242)=TRUE,\"P\",\"A\")","v":"A"},{"$f":"IF(Attendance($C25,'Daily Register'!FN$3:FN$242)=TRUE,\"P\",\"A\")","v":"A"},{"$f":"IF(Attendance($C25,'Daily Register'!FO$3:FO$242)=TRUE,\"P\",\"A\")","v":"A"},{"$f":"IF(Attendance($C25,'Daily Register'!FP$3:FP$242)=TRUE,\"P\",\"A\")","v":"A"},{"$f":"IF(Attendance($C25,'Daily Register'!FQ$3:FQ$242)=TRUE,\"P\",\"A\")","v":"A"},{"$f":"IF(Attendance($C25,'Daily Register'!FR$3:FR$242)=TRUE,\"P\",\"A\")","v":"A"},{"$f":"IF(Attendance($C25,'Daily Register'!FS$3:FS$242)=TRUE,\"P\",\"A\")","v":"A"},{"$f":"IF(Attendance($C25,'Daily Register'!FT$3:FT$242)=TRUE,\"P\",\"A\")","v":"A"},{"$f":"IF(Attendance($C25,'Daily Register'!FU$3:FU$242)=TRUE,\"P\",\"A\")","v":"A"},{"$f":"IF(Attendance($C25,'Daily Register'!FV$3:FV$242)=TRUE,\"P\",\"A\")","v":"A"},{"$f":"IF(Attendance($C25,'Daily Register'!FW$3:FW$242)=TRUE,\"P\",\"A\")","v":"A"},{"$f":"IF(Attendance($C25,'Daily Register'!FX$3:FX$242)=TRUE,\"P\",\"A\")","v":"A"},{"$f":"IF(Attendance($C25,'Daily Register'!FY$3:FY$242)=TRUE,\"P\",\"A\")","v":"A"},{"$f":"IF(Attendance($C25,'Daily Register'!FZ$3:FZ$242)=TRUE,\"P\",\"A\")","v":"A"},{"$f":"IF(Attendance($C25,'Daily Register'!GA$3:GA$242)=TRUE,\"P\",\"A\")","v":"A"},{"$f":"IF(Attendance($C25,'Daily Register'!GB$3:GB$242)=TRUE,\"P\",\"A\")","v":"A"},{"$f":"IF(Attendance($C25,'Daily Register'!GC$3:GC$242)=TRUE,\"P\",\"A\")","v":"A"},{"$f":"IF(Attendance($C25,'Daily Register'!GD$3:GD$242)=TRUE,\"P\",\"A\")","v":"A"},{"$f":"IF(Attendance($C25,'Daily Register'!GE$3:GE$242)=TRUE,\"P\",\"A\")","v":"A"},{"$f":"IF(Attendance($C25,'Daily Register'!GF$3:GF$242)=TRUE,\"P\",\"A\")","v":"A"},{"$f":"IF(Attendance($C25,'Daily Register'!GG$3:GG$242)=TRUE,\"P\",\"A\")","v":"A"},{"$f":"IF(Attendance($C25,'Daily Register'!GH$3:GH$242)=TRUE,\"P\",\"A\")","v":"A"},{"$f":"IF(Attendance($C25,'Daily Register'!GI$3:GI$242)=TRUE,\"P\",\"A\")","v":"A"},{"$f":"IF(Attendance($C25,'Daily Register'!GJ$3:GJ$242)=TRUE,\"P\",\"A\")","v":"A"},{"$f":"IF(Attendance($C25,'Daily Register'!GK$3:GK$242)=TRUE,\"P\",\"A\")","v":"A"},{"$f":"IF(Attendance($C25,'Daily Register'!GL$3:GL$242)=TRUE,\"P\",\"A\")","v":"A"},{"$f":"IF(Attendance($C25,'Daily Register'!GM$3:GM$242)=TRUE,\"P\",\"A\")","v":"A"},{"$f":"IF(Attendance($C25,'Daily Register'!GN$3:GN$242)=TRUE,\"P\",\"A\")","v":"A"},{"$f":"IF(Attendance($C25,'Daily Register'!GO$3:GO$242)=TRUE,\"P\",\"A\")","v":"A"},{"$f":"IF(Attendance($C25,'Daily Register'!GP$3:GP$242)=TRUE,\"P\",\"A\")","v":"A"},{"$f":"IF(Attendance($C25,'Daily Register'!GQ$3:GQ$242)=TRUE,\"P\",\"A\")","v":"A"},{"$f":"IF(Attendance($C25,'Daily Register'!GR$3:GR$242)=TRUE,\"P\",\"A\")","v":"A"},{"$f":"IF(Attendance($C25,'Daily Register'!GS$3:GS$242)=TRUE,\"P\",\"A\")","v":"A"},{"$f":"IF(Attendance($C25,'Daily Register'!GT$3:GT$242)=TRUE,\"P\",\"A\")","v":"A"},{"$f":"IF(Attendance($C25,'Daily Register'!GU$3:GU$242)=TRUE,\"P\",\"A\")","v":"A"},{"$f":"IF(Attendance($C25,'Daily Register'!GV$3:GV$242)=TRUE,\"P\",\"A\")","v":"A"},{"$f":"IF(Attendance($C25,'Daily Register'!GW$3:GW$242)=TRUE,\"P\",\"A\")","v":"A"},{"$f":"IF(Attendance($C25,'Daily Register'!GX$3:GX$242)=TRUE,\"P\",\"A\")","v":"A"},{"$f":"IF(Attendance($C25,'Daily Register'!GY$3:GY$242)=TRUE,\"P\",\"A\")","v":"A"},{"$f":"IF(Attendance($C25,'Daily Register'!GZ$3:GZ$242)=TRUE,\"P\",\"A\")","v":"A"},{"$f":"IF(Attendance($C25,'Daily Register'!HA$3:HA$242)=TRUE,\"P\",\"A\")","v":"A"},{"$f":"IF(Attendance($C25,'Daily Register'!HB$3:HB$242)=TRUE,\"P\",\"A\")","v":"A"},{"$f":"IF(Attendance($C25,'Daily Register'!HC$3:HC$242)=TRUE,\"P\",\"A\")","v":"A"},{"$f":"IF(Attendance($C25,'Daily Register'!HD$3:HD$242)=TRUE,\"P\",\"A\")","v":"A"},{"$f":"IF(Attendance($C25,'Daily Register'!HE$3:HE$242)=TRUE,\"P\",\"A\")","v":"A"},{"$f":"IF(Attendance($C25,'Daily Register'!HF$3:HF$242)=TRUE,\"P\",\"A\")","v":"A"},{"$f":"IF(Attendance($C25,'Daily Register'!HG$3:HG$242)=TRUE,\"P\",\"A\")","v":"A"},{"$f":"IF(Attendance($C25,'Daily Register'!HH$3:HH$242)=TRUE,\"P\",\"A\")","v":"A"},{"$f":"IF(Attendance($C25,'Daily Register'!HI$3:HI$242)=TRUE,\"P\",\"A\")","v":"A"},{"$f":"IF(Attendance($C25,'Daily Register'!HJ$3:HJ$242)=TRUE,\"P\",\"A\")","v":"A"},{"$f":"IF(Attendance($C25,'Daily Register'!HK$3:HK$242)=TRUE,\"P\",\"A\")","v":"A"},{"$f":"IF(Attendance($C25,'Daily Register'!HL$3:HL$242)=TRUE,\"P\",\"A\")","v":"A"},{"$f":"IF(Attendance($C25,'Daily Register'!HM$3:HM$242)=TRUE,\"P\",\"A\")","v":"A"},{"$f":"IF(Attendance($C25,'Daily Register'!HN$3:HN$242)=TRUE,\"P\",\"A\")","v":"A"},{"$f":"IF(Attendance($C25,'Daily Register'!HO$3:HO$242)=TRUE,\"P\",\"A\")","v":"A"},{"$f":"IF(Attendance($C25,'Daily Register'!HP$3:HP$242)=TRUE,\"P\",\"A\")","v":"A"},{"$f":"IF(Attendance($C25,'Daily Register'!HQ$3:HQ$242)=TRUE,\"P\",\"A\")","v":"A"},{"$f":"IF(Attendance($C25,'Daily Register'!HR$3:HR$242)=TRUE,\"P\",\"A\")","v":"A"},{"$f":"IF(Attendance($C25,'Daily Register'!HS$3:HS$242)=TRUE,\"P\",\"A\")","v":"A"},{"$f":"IF(Attendance($C25,'Daily Register'!HT$3:HT$242)=TRUE,\"P\",\"A\")","v":"A"},{"$f":"IF(Attendance($C25,'Daily Register'!HU$3:HU$242)=TRUE,\"P\",\"A\")","v":"A"},{"$f":"IF(Attendance($C25,'Daily Register'!HV$3:HV$242)=TRUE,\"P\",\"A\")","v":"A"},{"$f":"IF(Attendance($C25,'Daily Register'!HW$3:HW$242)=TRUE,\"P\",\"A\")","v":"A"},{"$f":"IF(Attendance($C25,'Daily Register'!HX$3:HX$242)=TRUE,\"P\",\"A\")","v":"A"},{"$f":"IF(Attendance($C25,'Daily Register'!HY$3:HY$242)=TRUE,\"P\",\"A\")","v":"A"},{"$f":"IF(Attendance($C25,'Daily Register'!HZ$3:HZ$242)=TRUE,\"P\",\"A\")","v":"A"},{"$f":"IF(Attendance($C25,'Daily Register'!IA$3:IA$242)=TRUE,\"P\",\"A\")","v":"A"},{"$f":"IF(Attendance($C25,'Daily Register'!IB$3:IB$242)=TRUE,\"P\",\"A\")","v":"A"},{"$f":"IF(Attendance($C25,'Daily Register'!IC$3:IC$242)=TRUE,\"P\",\"A\")","v":"A"},{"$f":"IF(Attendance($C25,'Daily Register'!ID$3:ID$242)=TRUE,\"P\",\"A\")","v":"A"},{"$f":"IF(Attendance($C25,'Daily Register'!IE$3:IE$242)=TRUE,\"P\",\"A\")","v":"A"},{"$f":"IF(Attendance($C25,'Daily Register'!IF$3:IF$242)=TRUE,\"P\",\"A\")","v":"A"},{"$f":"IF(Attendance($C25,'Daily Register'!IG$3:IG$242)=TRUE,\"P\",\"A\")","v":"A"},{"$f":"IF(Attendance($C25,'Daily Register'!IH$3:IH$242)=TRUE,\"P\",\"A\")","v":"A"},{"$f":"IF(Attendance($C25,'Daily Register'!II$3:II$242)=TRUE,\"P\",\"A\")","v":"A"},{"$f":"IF(Attendance($C25,'Daily Register'!IJ$3:IJ$242)=TRUE,\"P\",\"A\")","v":"A"},{"$f":"IF(Attendance($C25,'Daily Register'!IK$3:IK$242)=TRUE,\"P\",\"A\")","v":"A"},{"$f":"IF(Attendance($C25,'Daily Register'!IL$3:IL$242)=TRUE,\"P\",\"A\")","v":"A"},{"$f":"IF(Attendance($C25,'Daily Register'!IM$3:IM$242)=TRUE,\"P\",\"A\")","v":"A"},{"$f":"IF(Attendance($C25,'Daily Register'!IN$3:IN$242)=TRUE,\"P\",\"A\")","v":"A"},{"$f":"IF(Attendance($C25,'Daily Register'!IO$3:IO$242)=TRUE,\"P\",\"A\")","v":"A"},{"$f":"IF(Attendance($C25,'Daily Register'!IP$3:IP$242)=TRUE,\"P\",\"A\")","v":"A"},{"$f":"IF(Attendance($C25,'Daily Register'!IQ$3:IQ$242)=TRUE,\"P\",\"A\")","v":"A"},{"$f":"IF(Attendance($C25,'Daily Register'!IR$3:IR$242)=TRUE,\"P\",\"A\")","v":"A"},{"$f":"IF(Attendance($C25,'Daily Register'!IS$3:IS$242)=TRUE,\"P\",\"A\")","v":"A"},{"$f":"IF(Attendance($C25,'Daily Register'!IT$3:IT$242)=TRUE,\"P\",\"A\")","v":"A"},{"$f":"IF(Attendance($C25,'Daily Register'!IU$3:IU$242)=TRUE,\"P\",\"A\")","v":"A"},{"$f":"IF(Attendance($C25,'Daily Register'!IV$3:IV$242)=TRUE,\"P\",\"A\")","v":"A"},{"$f":"IF(Attendance($C25,'Daily Register'!IW$3:IW$242)=TRUE,\"P\",\"A\")","v":"A"},{"$f":"IF(Attendance($C25,'Daily Register'!IX$3:IX$242)=TRUE,\"P\",\"A\")","v":"A"},{"$f":"IF(Attendance($C25,'Daily Register'!IY$3:IY$242)=TRUE,\"P\",\"A\")","v":"A"},{"$f":"IF(Attendance($C25,'Daily Register'!IZ$3:IZ$242)=TRUE,\"P\",\"A\")","v":"A"},{"$f":"IF(Attendance($C25,'Daily Register'!JA$3:JA$242)=TRUE,\"P\",\"A\")","v":"A"},{"$f":"IF(Attendance($C25,'Daily Register'!JB$3:JB$242)=TRUE,\"P\",\"A\")","v":"A"},{"$f":"IF(Attendance($C25,'Daily Register'!JC$3:JC$242)=TRUE,\"P\",\"A\")","v":"A"},{"$f":"IF(Attendance($C25,'Daily Register'!JD$3:JD$242)=TRUE,\"P\",\"A\")","v":"A"},{"$f":"IF(Attendance($C25,'Daily Register'!JE$3:JE$242)=TRUE,\"P\",\"A\")","v":"A"},{"$f":"IF(Attendance($C25,'Daily Register'!JF$3:JF$242)=TRUE,\"P\",\"A\")","v":"A"},{"$f":"IF(Attendance($C25,'Daily Register'!JG$3:JG$242)=TRUE,\"P\",\"A\")","v":"A"},{"$f":"IF(Attendance($C25,'Daily Register'!JH$3:JH$242)=TRUE,\"P\",\"A\")","v":"A"},{"$f":"IF(Attendance($C25,'Daily Register'!JI$3:JI$242)=TRUE,\"P\",\"A\")","v":"A"},{"$f":"IF(Attendance($C25,'Daily Register'!JJ$3:JJ$242)=TRUE,\"P\",\"A\")","v":"A"},{"$f":"IF(Attendance($C25,'Daily Register'!JK$3:JK$242)=TRUE,\"P\",\"A\")","v":"A"},{"$f":"IF(Attendance($C25,'Daily Register'!JL$3:JL$242)=TRUE,\"P\",\"A\")","v":"A"},{"$f":"IF(Attendance($C25,'Daily Register'!JM$3:JM$242)=TRUE,\"P\",\"A\")","v":"A"},{"$f":"IF(Attendance($C25,'Daily Register'!JN$3:JN$242)=TRUE,\"P\",\"A\")","v":"A"},{"$f":"IF(Attendance($C25,'Daily Register'!JO$3:JO$242)=TRUE,\"P\",\"A\")","v":"A"},{"$f":"IF(Attendance($C25,'Daily Register'!JP$3:JP$242)=TRUE,\"P\",\"A\")","v":"A"},{"$f":"IF(Attendance($C25,'Daily Register'!JQ$3:JQ$242)=TRUE,\"P\",\"A\")","v":"A"},{"$f":"IF(Attendance($C25,'Daily Register'!JR$3:JR$242)=TRUE,\"P\",\"A\")","v":"A"},{"$f":"IF(Attendance($C25,'Daily Register'!JS$3:JS$242)=TRUE,\"P\",\"A\")","v":"A"},{"$f":"IF(Attendance($C25,'Daily Register'!JT$3:JT$242)=TRUE,\"P\",\"A\")","v":"A"},{"$f":"IF(Attendance($C25,'Daily Register'!JU$3:JU$242)=TRUE,\"P\",\"A\")","v":"A"},{"$f":"IF(Attendance($C25,'Daily Register'!JV$3:JV$242)=TRUE,\"P\",\"A\")","v":"A"},{"$f":"IF(Attendance($C25,'Daily Register'!JW$3:JW$242)=TRUE,\"P\",\"A\")","v":"A"},{"$f":"IF(Attendance($C25,'Daily Register'!JX$3:JX$242)=TRUE,\"P\",\"A\")","v":"A"},{"$f":"IF(Attendance($C25,'Daily Register'!JY$3:JY$242)=TRUE,\"P\",\"A\")","v":"A"},{"$f":"IF(Attendance($C25,'Daily Register'!JZ$3:JZ$242)=TRUE,\"P\",\"A\")","v":"A"},{"$f":"IF(Attendance($C25,'Daily Register'!KA$3:KA$242)=TRUE,\"P\",\"A\")","v":"A"},{"$f":"IF(Attendance($C25,'Daily Register'!KB$3:KB$242)=TRUE,\"P\",\"A\")","v":"A"},{"$f":"IF(Attendance($C25,'Daily Register'!KC$3:KC$242)=TRUE,\"P\",\"A\")","v":"A"},{"$f":"IF(Attendance($C25,'Daily Register'!KD$3:KD$242)=TRUE,\"P\",\"A\")","v":"A"},{"$f":"IF(Attendance($C25,'Daily Register'!KE$3:KE$242)=TRUE,\"P\",\"A\")","v":"A"},{"$f":"IF(Attendance($C25,'Daily Register'!KF$3:KF$242)=TRUE,\"P\",\"A\")","v":"A"},{"$f":"IF(Attendance($C25,'Daily Register'!KG$3:KG$242)=TRUE,\"P\",\"A\")","v":"A"},{"$f":"IF(Attendance($C25,'Daily Register'!KH$3:KH$242)=TRUE,\"P\",\"A\")","v":"A"},{"$f":"IF(Attendance($C25,'Daily Register'!KI$3:KI$242)=TRUE,\"P\",\"A\")","v":"A"},{"$f":"IF(Attendance($C25,'Daily Register'!KJ$3:KJ$242)=TRUE,\"P\",\"A\")","v":"A"},{"$f":"IF(Attendance($C25,'Daily Register'!KK$3:KK$242)=TRUE,\"P\",\"A\")","v":"A"},{"$f":"IF(Attendance($C25,'Daily Register'!KL$3:KL$242)=TRUE,\"P\",\"A\")","v":"A"},{"$f":"IF(Attendance($C25,'Daily Register'!KM$3:KM$242)=TRUE,\"P\",\"A\")","v":"A"},{"$f":"IF(Attendance($C25,'Daily Register'!KN$3:KN$242)=TRUE,\"P\",\"A\")","v":"A"},{"$f":"IF(Attendance($C25,'Daily Register'!KO$3:KO$242)=TRUE,\"P\",\"A\")","v":"A"},{"$f":"IF(Attendance($C25,'Daily Register'!KP$3:KP$242)=TRUE,\"P\",\"A\")","v":"A"},{"$f":"IF(Attendance($C25,'Daily Register'!KQ$3:KQ$242)=TRUE,\"P\",\"A\")","v":"A"},{"$f":"IF(Attendance($C25,'Daily Register'!KR$3:KR$242)=TRUE,\"P\",\"A\")","v":"A"},{"$f":"IF(Attendance($C25,'Daily Register'!KS$3:KS$242)=TRUE,\"P\",\"A\")","v":"A"},{"$f":"IF(Attendance($C25,'Daily Register'!KT$3:KT$242)=TRUE,\"P\",\"A\")","v":"A"},{"$f":"IF(Attendance($C25,'Daily Register'!KU$3:KU$242)=TRUE,\"P\",\"A\")","v":"A"},{"$f":"IF(Attendance($C25,'Daily Register'!KV$3:KV$242)=TRUE,\"P\",\"A\")","v":"A"},{"$f":"IF(Attendance($C25,'Daily Register'!KW$3:KW$242)=TRUE,\"P\",\"A\")","v":"A"},{"$f":"IF(Attendance($C25,'Daily Register'!KX$3:KX$242)=TRUE,\"P\",\"A\")","v":"A"},{"$f":"IF(Attendance($C25,'Daily Register'!KY$3:KY$242)=TRUE,\"P\",\"A\")","v":"A"},{"$f":"IF(Attendance($C25,'Daily Register'!KZ$3:KZ$242)=TRUE,\"P\",\"A\")","v":"A"},{"$f":"IF(Attendance($C25,'Daily Register'!LA$3:LA$242)=TRUE,\"P\",\"A\")","v":"A"},{"$f":"IF(Attendance($C25,'Daily Register'!LB$3:LB$242)=TRUE,\"P\",\"A\")","v":"A"},{"$f":"IF(Attendance($C25,'Daily Register'!LC$3:LC$242)=TRUE,\"P\",\"A\")","v":"A"},{"$f":"IF(Attendance($C25,'Daily Register'!LD$3:LD$242)=TRUE,\"P\",\"A\")","v":"A"},{"$f":"IF(Attendance($C25,'Daily Register'!LE$3:LE$242)=TRUE,\"P\",\"A\")","v":"A"},{"$f":"IF(Attendance($C25,'Daily Register'!LF$3:LF$242)=TRUE,\"P\",\"A\")","v":"A"},{"$f":"IF(Attendance($C25,'Daily Register'!LG$3:LG$242)=TRUE,\"P\",\"A\")","v":"A"},{"$f":"IF(Attendance($C25,'Daily Register'!LH$3:LH$242)=TRUE,\"P\",\"A\")","v":"A"},{"$f":"IF(Attendance($C25,'Daily Register'!LI$3:LI$242)=TRUE,\"P\",\"A\")","v":"A"},{"$f":"IF(Attendance($C25,'Daily Register'!LJ$3:LJ$242)=TRUE,\"P\",\"A\")","v":"A"},{"$f":"IF(Attendance($C25,'Daily Register'!LK$3:LK$242)=TRUE,\"P\",\"A\")","v":"A"},{"$f":"IF(Attendance($C25,'Daily Register'!LL$3:LL$242)=TRUE,\"P\",\"A\")","v":"A"},{"$f":"IF(Attendance($C25,'Daily Register'!LM$3:LM$242)=TRUE,\"P\",\"A\")","v":"A"},{"$f":"IF(Attendance($C25,'Daily Register'!LN$3:LN$242)=TRUE,\"P\",\"A\")","v":"A"},{"$f":"IF(Attendance($C25,'Daily Register'!LO$3:LO$242)=TRUE,\"P\",\"A\")","v":"A"},{"$f":"IF(Attendance($C25,'Daily Register'!LP$3:LP$242)=TRUE,\"P\",\"A\")","v":"A"},{"$f":"IF(Attendance($C25,'Daily Register'!LQ$3:LQ$242)=TRUE,\"P\",\"A\")","v":"A"},{"$f":"IF(Attendance($C25,'Daily Register'!LR$3:LR$242)=TRUE,\"P\",\"A\")","v":"A"},{"$f":"IF(Attendance($C25,'Daily Register'!LS$3:LS$242)=TRUE,\"P\",\"A\")","v":"A"},{"$f":"IF(Attendance($C25,'Daily Register'!LT$3:LT$242)=TRUE,\"P\",\"A\")","v":"A"},{"$f":"IF(Attendance($C25,'Daily Register'!LU$3:LU$242)=TRUE,\"P\",\"A\")","v":"A"},{"$f":"IF(Attendance($C25,'Daily Register'!LV$3:LV$242)=TRUE,\"P\",\"A\")","v":"A"},{"$f":"IF(Attendance($C25,'Daily Register'!LW$3:LW$242)=TRUE,\"P\",\"A\")","v":"A"},{"$f":"IF(Attendance($C25,'Daily Register'!LX$3:LX$242)=TRUE,\"P\",\"A\")","v":"A"},{"$f":"IF(Attendance($C25,'Daily Register'!LY$3:LY$242)=TRUE,\"P\",\"A\")","v":"A"},{"$f":"IF(Attendance($C25,'Daily Register'!LZ$3:LZ$242)=TRUE,\"P\",\"A\")","v":"A"},{"$f":"IF(Attendance($C25,'Daily Register'!MA$3:MA$242)=TRUE,\"P\",\"A\")","v":"A"},{"$f":"IF(Attendance($C25,'Daily Register'!MB$3:MB$242)=TRUE,\"P\",\"A\")","v":"A"},{"$f":"IF(Attendance($C25,'Daily Register'!MC$3:MC$242)=TRUE,\"P\",\"A\")","v":"A"},{"$f":"IF(Attendance($C25,'Daily Register'!MD$3:MD$242)=TRUE,\"P\",\"A\")","v":"A"},{"$f":"IF(Attendance($C25,'Daily Register'!ME$3:ME$242)=TRUE,\"P\",\"A\")","v":"A"},{"$f":"IF(Attendance($C25,'Daily Register'!MF$3:MF$242)=TRUE,\"P\",\"A\")","v":"A"},{"$f":"IF(Attendance($C25,'Daily Register'!MG$3:MG$242)=TRUE,\"P\",\"A\")","v":"A"},{"$f":"IF(Attendance($C25,'Daily Register'!MH$3:MH$242)=TRUE,\"P\",\"A\")","v":"A"},{"$f":"IF(Attendance($C25,'Daily Register'!MI$3:MI$242)=TRUE,\"P\",\"A\")","v":"A"},{"$f":"IF(Attendance($C25,'Daily Register'!MJ$3:MJ$242)=TRUE,\"P\",\"A\")","v":"A"},{"$f":"IF(Attendance($C25,'Daily Register'!MK$3:MK$242)=TRUE,\"P\",\"A\")","v":"A"},{"$f":"IF(Attendance($C25,'Daily Register'!ML$3:ML$242)=TRUE,\"P\",\"A\")","v":"A"},{"$f":"IF(Attendance($C25,'Daily Register'!MM$3:MM$242)=TRUE,\"P\",\"A\")","v":"A"},{"$f":"IF(Attendance($C25,'Daily Register'!MN$3:MN$242)=TRUE,\"P\",\"A\")","v":"A"},{"$f":"IF(Attendance($C25,'Daily Register'!MO$3:MO$242)=TRUE,\"P\",\"A\")","v":"A"},{"$f":"IF(Attendance($C25,'Daily Register'!MP$3:MP$242)=TRUE,\"P\",\"A\")","v":"A"},{"$f":"IF(Attendance($C25,'Daily Register'!MQ$3:MQ$242)=TRUE,\"P\",\"A\")","v":"A"},{"$f":"IF(Attendance($C25,'Daily Register'!MR$3:MR$242)=TRUE,\"P\",\"A\")","v":"A"},{"$f":"IF(Attendance($C25,'Daily Register'!MS$3:MS$242)=TRUE,\"P\",\"A\")","v":"A"},{"$f":"IF(Attendance($C25,'Daily Register'!MT$3:MT$242)=TRUE,\"P\",\"A\")","v":"A"},{"$f":"IF(Attendance($C25,'Daily Register'!MU$3:MU$242)=TRUE,\"P\",\"A\")","v":"A"},{"$f":"IF(Attendance($C25,'Daily Register'!MV$3:MV$242)=TRUE,\"P\",\"A\")","v":"A"},{"$f":"IF(Attendance($C25,'Daily Register'!MW$3:MW$242)=TRUE,\"P\",\"A\")","v":"A"},{"$f":"IF(Attendance($C25,'Daily Register'!MX$3:MX$242)=TRUE,\"P\",\"A\")","v":"A"},{"$f":"IF(Attendance($C25,'Daily Register'!MY$3:MY$242)=TRUE,\"P\",\"A\")","v":"A"},{"$f":"IF(Attendance($C25,'Daily Register'!MZ$3:MZ$242)=TRUE,\"P\",\"A\")","v":"A"},{"$f":"IF(Attendance($C25,'Daily Register'!NA$3:NA$242)=TRUE,\"P\",\"A\")","v":"A"},{"$f":"IF(Attendance($C25,'Daily Register'!NB$3:NB$242)=TRUE,\"P\",\"A\")","v":"A"}]
[0,null,23,null,{"$f":"IF(Attendance($C26,'Daily Register'!A$3:A$242)=TRUE,\"P\",\"A\")","v":"A"},{"$f":"IF(Attendance($C26,'Daily Register'!B$3:B$242)=TRUE,\"P\",\"A\")","v":"A"},{"$f":"IF(Attendance($C26,'Daily Register'!C$3:C$242)=TRUE,\"P\",\"A\")","v":"A"},{"$f":"IF(Attendance($C26,'Daily Register'!D$3:D$242)=TRUE,\"P\",\"A\")","v":"A"},{"$f":"IF(Attendance($C26,'Daily Register'!E$3:E$242)=TRUE,\"P\",\"A\")","v":"A"},{"$f":"IF(Attendance($C26,'Daily Register'!F$3:F$242)=TRUE,\"P\",\"A\")","v":"A"},{"$f":"IF(Attendance($C26,'Daily Register'!G$3:G$242)=TRUE,\"P\",\"A\")","v":"A"},{"$f":"IF(Attendance($C26,'Daily Register'!H$3:H$242)=TRUE,\"P\",\"A\")","v":"A"},{"$f":"IF(Attendance($C26,'Daily Register'!I$3:I$242)=TRUE,\"P\",\"A\")","v":"A"},{"$f":"IF(Attendance($C26,'Daily Register'!J$3:J$242)=TRUE,\"P\",\"A\")","v":"A"},{"$f":"IF(Attendance($C26,'Daily Register'!K$3:K$242)=TRUE,\"P\",\"A\")","v":"A"},{"$f":"IF(Attendance($C26,'Daily Register'!L$3:L$242)=TRUE,\"P\",\"A\")","v":"A"},{"$f":"IF(Attendance($C26,'Daily Register'!M$3:M$242)=TRUE,\"P\",\"A\")","v":"A"},{"$f":"IF(Attendance($C26,'Daily Register'!N$3:N$242)=TRUE,\"P\",\"A\")","v":"A"},{"$f":"IF(Attendance($C26,'Daily Register'!O$3:O$242)=TRUE,\"P\",\"A\")","v":"A"},{"$f":"IF(Attendance($C26,'Daily Register'!P$3:P$242)=TRUE,\"P\",\"A\")","v":"A"},{"$f":"IF(Attendance($C26,'Daily Register'!Q$3:Q$242)=TRUE,\"P\",\"A\")","v":"A"},{"$f":"IF(Attendance($C26,'Daily Register'!R$3:R$242)=TRUE,\"P\",\"A\")","v":"A"},{"$f":"IF(Attendance($C26,'Daily Register'!S$3:S$242)=TRUE,\"P\",\"A\")","v":"A"},{"$f":"IF(Attendance($C26,'Daily Register'!T$3:T$242)=TRUE,\"P\",\"A\")","v":"A"},{"$f":"IF(Attendance($C26,'Daily Register'!U$3:U$242)=TRUE,\"P\",\"A\")","v":"A"},{"$f":"IF(Attendance($C26,'Daily Register'!V$3:V$242)=TRUE,\"P\",\"A\")","v":"A"},{"$f":"IF(Attendance($C26,'Daily Register'!W$3:W$242)=TRUE,\"P\",\"A\")","v":"A"},{"$f":"IF(Attendance($C26,'Daily Register'!X$3:X$242)=TRUE,\"P\",\"A\")","v":"A"},{"$f":"IF(Attendance($C26,'Daily Register'!Y$3:Y$242)=TRUE,\"P\",\"A\")","v":"A"},{"$f":"IF(Attendance($C26,'Daily Register'!Z$3:Z$242)=TRUE,\"P\",\"A\")","v":"A"},{"$f":"IF(Attendance($C26,'Daily Register'!AA$3:AA$242)=TRUE,\"P\",\"A\")","v":"A"},{"$f":"IF(Attendance($C26,'Daily Register'!AB$3:AB$242)=TRUE,\"P\",\"A\")","v":"A"},{"$f":"IF(Attendance($C26,'Daily Register'!AC$3:AC$242)=TRUE,\"P\",\"A\")","v":"A"},{"$f":"IF(Attendance($C26,'Daily Register'!AD$3:AD$242)=TRUE,\"P\",\"A\")","v":"A"},{"$f":"IF(Attendance($C26,'Daily Register'!AE$3:AE$242)=TRUE,\"P\",\"A\")","v":"A"},{"$f":"IF(Attendance($C26,'Daily Register'!AF$3:AF$242)=TRUE,\"P\",\"A\")","v":"A"},{"$f":"IF(Attendance($C26,'Daily Register'!AG$3:AG$242)=TRUE,\"P\",\"A\")","v":"A"},{"$f":"IF(Attendance($C26,'Daily Register'!AH$3:AH$242)=TRUE,\"P\",\"A\")","v":"A"},{"$f":"IF(Attendance($C26,'Daily Register'!AI$3:AI$242)=TRUE,\"P\",\"A\")","v":"A"},{"$f":"IF(Attendance($C26,'Daily Register'!AJ$3:AJ$242)=TRUE,\"P\",\"A\")","v":"A"},{"$f":"IF(Attendance($C26,'Daily Register'!AK$3:AK$242)=TRUE,\"P\",\"A\")","v":"A"},{"$f":"IF(Attendance($C26,'Daily Register'!AL$3:AL$242)=TRUE,\"P\",\"A\")","v":"A"},{"$f":"IF(Attendance($C26,'Daily Register'!AM$3:AM$242)=TRUE,\"P\",\"A\")","v":"A"},{"$f":"IF(Attendance($C26,'Daily Register'!AN$3:AN$242)=TRUE,\"P\",\"A\")","v":"A"},{"$f":"IF(Attendance($C26,'Daily Register'!AO$3:AO$242)=TRUE,\"P\",\"A\")","v":"A"},{"$f":"IF(Attendance($C26,'Daily Register'!AP$3:AP$242)=TRUE,\"P\",\"A\")","v":"A"},{"$f":"IF(Attendance($C26,'Daily Register'!AQ$3:AQ$242)=TRUE,\"P\",\"A\")","v":"A"},{"$f":"IF(Attendance($C26,'Daily Register'!AR$3:AR$242)=TRUE,\"P\",\"A\")","v":"A"},{"$f":"IF(Attendance($C26,'Daily Register'!AS$3:AS$242)=TRUE,\"P\",\"A\")","v":"A"},{"$f":"IF(Attendance($C26,'Daily Register'!AT$3:AT$242)=TRUE,\"P\",\"A\")","v":"A"},{"$f":"IF(Attendance($C26,'Daily Register'!AU$3:AU$242)=TRUE,\"P\",\"A\")","v":"A"},{"$f":"IF(Attendance($C26,'Daily Register'!AV$3:AV$242)=TRUE,\"P\",\"A\")","v":"A"},{"$f":"IF(Attendance($C26,'Daily Register'!AW$3:AW$242)=TRUE,\"P\",\"A\")","v":"A"},{"$f":"IF(Attendance($C26,'Daily Register'!AX$3:AX$242)=TRUE,\"P\",\"A\")","v":"A"},{"$f":"IF(Attendance($C26,'Daily Register'!AY$3:AY$242)=TRUE,\"P\",\"A\")","v":"A"},{"$f":"IF(Attendance($C26,'Daily Register'!AZ$3:AZ$242)=TRUE,\"P\",\"A\")","v":"A"},{"$f":"IF(Attendance($C26,'Daily Register'!BA$3:BA$242)=TRUE,\"P\",\"A\")","v":"A"},{"$f":"IF(Attendance($C26,'Daily Register'!BB$3:BB$242)=TRUE,\"P\",\"A\")","v":"A"},{"$f":"IF(Attendance($C26,'Daily Register'!BC$3:BC$242)=TRUE,\"P\",\"A\")","v":"A"},{"$f":"IF(Attendance($C26,'Daily Register'!BD$3:BD$242)=TRUE,\"P\",\"A\")","v":"A"},{"$f":"IF(Attendance($C26,'Daily Register'!BE$3:BE$242)=TRUE,\"P\",\"A\")","v":"A"},{"$f":"IF(Attendance($C26,'Daily Register'!BF$3:BF$242)=TRUE,\"P\",\"A\")","v":"A"},{"$f":"IF(Attendance($C26,'Daily Register'!BG$3:BG$242)=TRUE,\"P\",\"A\")","v":"A"},{"$f":"IF(Attendance($C26,'Daily Register'!BH$3:BH$242)=TRUE,\"P\",\"A\")","v":"A"},{"$f":"IF(Attendance($C26,'Daily Register'!BI$3:BI$242)=TRUE,\"P\",\"A\")","v":"A"},{"$f":"IF(Attendance($C26,'Daily Register'!BJ$3:BJ$242)=TRUE,\"P\",\"A\")","v":"A"},{"$f":"IF(Attendance($C26,'Daily Register'!BK$3:BK$242)=TRUE,\"P\",\"A\")","v":"A"},{"$f":"IF(Attendance($C26,'Daily Register'!BL$3:BL$242)=TRUE,\"P\",\"A\")","v":"A"},{"$f":"IF(Attendance($C26,'Daily Register'!BM$3:BM$242)=TRUE,\"P\",\"A\")","v":"A"},{"$f":"IF(Attendance($C26,'Daily Register'!BN$3:BN$242)=TRUE,\"P\",\"A\")","v":"A"},{"$f":"IF(Attendance($C26,'Daily Register'!BO$3:BO$242)=TRUE,\"P\",\"A\")","v":"A"},{"$f":"IF(Attendance($C26,'Daily Register'!BP$3:BP$242)=TRUE,\"P\",\"A\")","v":"A"},{"$f":"IF(Attendance($C26,'Daily Register'!BQ$3:BQ$242)=TRUE,\"P\",\"A\")","v":"A"},{"$f":"IF(Attendance($C26,'Daily Register'!BR$3:BR$242)=TRUE,\"P\",\"A\")","v":"A"},{"$f":"IF(Attendance($C26,'Daily Register'!BS$3:BS$242)=TRUE,\"P\",\"A\")","v":"A"},{"$f":"IF(Attendance($C26,'Daily Register'!BT$3:BT$242)=TRUE,\"P\",\"A\")","v":"A"},{"$f":"IF(Attendance($C26,'Daily Register'!BU$3:BU$242)=TRUE,\"P\",\"A\")","v":"A"},{"$f":"IF(Attendance($C26,'Daily Register'!BV$3:BV$242)=TRUE,\"P\",\"A\")","v":"A"},{"$f":"IF(Attendance($C26,'Daily Register'!BW$3:BW$242)=TRUE,\"P\",\"A\")","v":"A"},{"$f":"IF(Attendance($C26,'Daily Register'!BX$3:BX$242)=TRUE,\"P\",\"A\")","v":"A"},{"$f":"IF(Attendance($C26,'Daily Register'!BY$3:BY$242)=TRUE,\"P\",\"A\")","v":"A"},{"$f":"IF(Attendance($C26,'Daily Register'!BZ$3:BZ$242)=TRUE,\"P\",\"A\")","v":"A"},{"$f":"IF(Attendance($C26,'Daily Register'!CA$3:CA$242)=TRUE,\"P\",\"A\")","v":"A"},{"$f":"IF(Attendance($C26,'Daily Register'!CB$3:CB$242)=TRUE,\"P\",\"A\")","v":"A"},{"$f":"IF(Attendance($C26,'Daily Register'!CC$3:CC$242)=TRUE,\"P\",\"A\")","v":"A"},{"$f":"IF(Attendance($C26,'Daily Register'!CD$3:CD$242)=TRUE,\"P\",\"A\")","v":"A"},{"$f":"IF(Attendance($C26,'Daily Register'!CE$3:CE$242)=TRUE,\"P\",\"A\")","v":"A"},{"$f":"IF(Attendance($C26,'Daily Register'!CF$3:CF$242)=TRUE,\"P\",\"A\")","v":"A"},{"$f":"IF(Attendance($C26,'Daily Register'!CG$3:CG$242)=TRUE,\"P\",\"A\")","v":"A"},{"$f":"IF(Attendance($C26,'Daily Register'!CH$3:CH$242)=TRUE,\"P\",\"A\")","v":"A"},{"$f":"IF(Attendance($C26,'Daily Register'!CI$3:CI$242)=TRUE,\"P\",\"A\")","v":"A"},{"$f":"IF(Attendance($C26,'Daily Register'!CJ$3:CJ$242)=TRUE,\"P\",\"A\")","v":"A"},{"$f":"IF(Attendance($C26,'Daily Register'!CK$3:CK$242)=TRUE,\"P\",\"A\")","v":"A"},{"$f":"IF(Attendance($C26,'Daily Register'!CL$3:CL$242)=TRUE,\"P\",\"A\")","v":"A"},{"$f":"IF(Attendance($C26,'Daily Register'!CM$3:CM$242)=TRUE,\"P\",\"A\")","v":"A"},{"$f":"IF(Attendance($C26,'Daily Register'!CN$3:CN$242)=TRUE,\"P\",\"A\")","v":"A"},{"$f":"IF(Attendance($C26,'Daily Register'!CO$3:CO$242)=TRUE,\"P\",\"A\")","v":"A"},{"$f":"IF(Attendance($C26,'Daily Register'!CP$3:CP$242)=TRUE,\"P\",\"A\")","v":"A"},{"$f":"IF(Attendance($C26,'Daily Register'!CQ$3:CQ$242)=TRUE,\"P\",\"A\")","v":"A"},{"$f":"IF(Attendance($C26,'Daily Register'!CR$3:CR$242)=TRUE,\"P\",\"A\")","v":"A"},{"$f":"IF(Attendance($C26,'Daily Register'!CS$3:CS$242)=TRUE,\"P\",\"A\")","v":"A"},{"$f":"IF(Attendance($C26,'Daily Register'!CT$3:CT$242)=TRUE,\"P\",\"A\")","v":"A"},{"$f":"IF(Attendance($C26,'Daily Register'!CU$3:CU$242)=TRUE,\"P\",\"A\")","v":"A"},{"$f":"IF(Attendance($C26,'Daily Register'!CV$3:CV$242)=TRUE,\"P\",\"A\")","v":"A"},{"$f":"IF(Attendance($C26,'Daily Register'!CW$3:CW$242)=TRUE,\"P\",\"A\")","v":"A"},{"$f":"IF(Attendance($C26,'Daily Register'!CX$3:CX$242)=TRUE,\"P\",\"A\")","v":"A"},{"$f":"IF(Attendance($C26,'Daily Register'!CY$3:CY$242)=TRUE,\"P\",\"A\")","v":"A"},{"$f":"IF(Attendance($C26,'Daily Register'!CZ$3:CZ$242)=TRUE,\"P\",\"A\")","v":"A"},{"$f":"IF(Attendance($C26,'Daily Register'!DA$3:DA$242)=TRUE,\"P\",\"A\")","v":"A"},{"$f":"IF(Attendance($C26,'Daily Register'!DB$3:DB$242)=TRUE,\"P\",\"A\")","v":"A"},{"$f":"IF(Attendance($C26,'Daily Register'!DC$3:DC$242)=TRUE,\"P\",\"A\")","v":"A"},{"$f":"IF(Attendance($C26,'Daily Register'!DD$3:DD$242)=TRUE,\"P\",\"A\")","v":"A"},{"$f":"IF(Attendance($C26,'Daily Register'!DE$3:DE$242)=TRUE,\"P\",\"A\")","v":"A"},{"$f":"IF(Attendance($C26,'Daily Register'!DF$3:DF$242)=TRUE,\"P\",\"A\")","v":"A"},{"$f":"IF(Attendance($C26,'Daily Register'!DG$3:DG$242)=TRUE,\"P\",\"A\")","v":"A"},{"$f":"IF(Attendance($C26,'Daily Register'!DH$3:DH$242)=TRUE,\"P\",\"A\")","v":"A"},{"$f":"IF(Attendance($C26,'Daily Register'!DI$3:DI$242)=TRUE,\"P\",\"A\")","v":"A"},{"$f":"IF(Attendance($C26,'Daily Register'!DJ$3:DJ$242)=TRUE,\"P\",\"A\")","v":"A"},{"$f":"IF(Attendance($C26,'Daily Register'!DK$3:DK$242)=TRUE,\"P\",\"A\")","v":"A"},{"$f":"IF(Attendance($C26,'Daily Register'!DL$3:DL$242)=TRUE,\"P\",\"A\")","v":"A"},{"$f":"IF(Attendance($C26,'Daily Register'!DM$3:DM$242)=TRUE,\"P\",\"A\")","v":"A"},{"$f":"IF(Attendance($C26,'Daily Register'!DN$3:DN$242)=TRUE,\"P\",\"A\")","v":"A"},{"$f":"IF(Attendance($C26,'Daily Register'!DO$3:DO$242)=TRUE,\"P\",\"A\")","v":"A"},{"$f":"IF(Attendance($C26,'Daily Register'!DP$3:DP$242)=TRUE,\"P\",\"A\")","v":"A"},{"$f":"IF(Attendance($C26,'Daily Register'!DQ$3:DQ$242)=TRUE,\"P\",\"A\")","v":"A"},{"$f":"IF(Attendance($C26,'Daily Register'!DR$3:DR$242)=TRUE,\"P\",\"A\")","v":"A"},{"$f":"IF(Attendance($C26,'Daily Register'!DS$3:DS$242)=TRUE,\"P\",\"A\")","v":"A"},{"$f":"IF(Attendance($C26,'Daily Register'!DT$3:DT$242)=TRUE,\"P\",\"A\")","v":"A"},{"$f":"IF(Attendance($C26,'Daily Register'!DU$3:DU$242)=TRUE,\"P\",\"A\")","v":"A"},{"$f":"IF(Attendance($C26,'Daily Register'!DV$3:DV$242)=TRUE,\"P\",\"A\")","v":"A"},{"$f":"IF(Attendance($C26,'Daily Register'!DW$3:DW$242)=TRUE,\"P\",\"A\")","v":"A"},{"$f":"IF(Attendance($C26,'Daily Register'!DX$3:DX$242)=TRUE,\"P\",\"A\")","v":"A"},{"$f":"IF(Attendance($C26,'Daily Register'!DY$3:DY$242)=TRUE,\"P\",\"A\")","v":"A"},{"$f":"IF(Attendance($C26,'Daily Register'!DZ$3:DZ$242)=TRUE,\"P\",\"A\")","v":"A"},{"$f":"IF(Attendance($C26,'Daily Register'!EA$3:EA$242)=TRUE,\"P\",\"A\")","v":"A"},{"$f":"IF(Attendance($C26,'Daily Register'!EB$3:EB$242)=TRUE,\"P\",\"A\")","v":"A"},{"$f":"IF(Attendance($C26,'Daily Register'!EC$3:EC$242)=TRUE,\"P\",\"A\")","v":"A"},{"$f":"IF(Attendance($C26,'Daily Register'!ED$3:ED$242)=TRUE,\"P\",\"A\")","v":"A"},{"$f":"IF(Attendance($C26,'Daily Register'!EE$3:EE$242)=TRUE,\"P\",\"A\")","v":"A"},{"$f":"IF(Attendance($C26,'Daily Register'!EF$3:EF$242)=TRUE,\"P\",\"A\")","v":"A"},{"$f":"IF(Attendance($C26,'Daily Register'!EG$3:EG$242)=TRUE,\"P\",\"A\")","v":"A"},{"$f":"IF(Attendance($C26,'Daily Register'!EH$3:EH$242)=TRUE,\"P\",\"A\")","v":"A"},{"$f":"IF(Attendance($C26,'Daily Register'!EI$3:EI$242)=TRUE,\"P\",\"A\")","v":"A"},{"$f":"IF(Attendance($C26,'Daily Register'!EJ$3:EJ$242)=TRUE,\"P\",\"A\")","v":"A"},{"$f":"IF(Attendance($C26,'Daily Register'!EK$3:EK$242)=TRUE,\"P\",\"A\")","v":"A"},{"$f":"IF(Attendance($C26,'Daily Register'!EL$3:EL$242)=TRUE,\"P\",\"A\")","v":"A"},{"$f":"IF(Attendance($C26,'Daily Register'!EM$22:EM$242)=TRUE,\"P\",\"A\")","v":"A"},{"$f":"IF(Attendance($C26,'Daily Register'!EN$3:EN$242)=TRUE,\"P\",\"A\")","v":"A"},{"$f":"IF(Attendance($C26,'Daily Register'!EO$3:EO$242)=TRUE,\"P\",\"A\")","v":"A"},{"$f":"IF(Attendance($C26,'Daily Register'!EP$3:EP$242)=TRUE,\"P\",\"A\")","v":"A"},{"$f":"IF(Attendance($C26,'Daily Register'!EQ$3:EQ$242)=TRUE,\"P\",\"A\")","v":"A"},{"$f":"IF(Attendance($C26,'Daily Register'!ER$3:ER$242)=TRUE,\"P\",\"A\")","v":"A"},{"$f":"IF(Attendance($C26,'Daily Register'!ES$3:ES$242)=TRUE,\"P\",\"A\")","v":"A"},{"$f":"IF(Attendance($C26,'Daily Register'!ET$3:ET$242)=TRUE,\"P\",\"A\")","v":"A"},{"$f":"IF(Attendance($C26,'Daily Register'!EU$3:EU$242)=TRUE,\"P\",\"A\")","v":"A"},{"$f":"IF(Attendance($C26,'Daily Register'!EV$3:EV$242)=TRUE,\"P\",\"A\")","v":"A"},{"$f":"IF(Attendance($C26,'Daily Register'!EW$3:EW$242)=TRUE,\"P\",\"A\")","v":"A"},{"$f":"IF(Attendance($C26,'Daily Register'!EX$3:EX$242)=TRUE,\"P\",\"A\")","v":"A"},{"$f":"IF(Attendance($C26,'Daily Register'!EY$3:EY$242)=TRUE,\"P\",\"A\")","v":"A"},{"$f":"IF(Attendance($C26,'Daily Register'!EZ$3:EZ$242)=TRUE,\"P\",\"A\")","v":"A"},{"$f":"IF(Attendance($C26,'Daily Register'!FA$3:FA$242)=TRUE,\"P\",\"A\")","v":"A"},{"$f":"IF(Attendance($C26,'Daily Register'!FB$3:FB$242)=TRUE,\"P\",\"A\")","v":"A"},{"$f":"IF(Attendance($C26,'Daily Register'!FC$3:FC$242)=TRUE,\"P\",\"A\")","v":"A"},{"$f":"IF(Attendance($C26,'Daily Register'!FD$3:FD$242)=TRUE,\"P\",\"A\")","v":"A"},{"$f":"IF(Attendance($C26,'Daily Register'!FE$3:FE$242)=TRUE,\"P\",\"A\")","v":"A"},{"$f":"IF(Attendance($C26,'Daily Register'!FF$3:FF$242)=TRUE,\"P\",\"A\")","v":"A"},{"$f":"IF(Attendance($C26,'Daily Register'!FG$3:FG$242)=TRUE,\"P\",\"A\")","v":"A"},{"$f":"IF(Attendance($C26,'Daily Register'!FH$3:FH$242)=TRUE,\"P\",\"A\")","v":"A"},{"$f":"IF(Attendance($C26,'Daily Register'!FI$3:FI$242)=TRUE,\"P\",\"A\")","v":"A"},{"$f":"IF(Attendance($C26,'Daily Register'!FJ$3:FJ$242)=TRUE,\"P\",\"A\")","v":"A"},{"$f":"IF(Attendance($C26,'Daily Register'!FK$3:FK$242)=TRUE,\"P\",\"A\")","v":"A"},{"$f":"IF(Attendance($C26,'Daily Register'!FL$3:FL$242)=TRUE,\"P\",\"A\")","v":"A"},{"$f":"IF(Attendance($C26,'Daily Register'!FM$3:FM$242)=TRUE,\"P\",\"A\")","v":"A"},{"$f":"IF(Attendance($C26,'Daily Register'!FN$3:FN$242)=TRUE,\"P\",\"A\")","v":"A"},{"$f":"IF(Attendance($C26,'Daily Register'!FO$3:FO$242)=TRUE,\"P\",\"A\")","v":"A"},{"$f":"IF(Attendance($C26,'Daily Register'!FP$3:FP$242)=TRUE,\"P\",\"A\")","v":"A"},{"$f":"IF(Attendance($C26,'Daily Register'!FQ$3:FQ$242)=TRUE,\"P\",\"A\")","v":"A"},{"$f":"IF(Attendance($C26,'Daily Register'!FR$3:FR$242)=TRUE,\"P\",\"A\")","v":"A"},{"$f":"IF(Attendance($C26,'Daily Register'!FS$3:FS$242)=TRUE,\"P\",\"A\")","v":"A"},{"$f":"IF(Attendance($C26,'Daily Register'!FT$3:FT$242)=TRUE,\"P\",\"A\")","v":"A"},{"$f":"IF(Attendance($C26,'Daily Register'!FU$3:FU$242)=TRUE,\"P\",\"A\")","v":"A"},{"$f":"IF(Attendance($C26,'Daily Register'!FV$3:FV$242)=TRUE,\"P\",\"A\")","v":"A"},{"$f":"IF(Attendance($C26,'Daily Register'!FW$3:FW$242)=TRUE,\"P\",\"A\")","v":"A"},{"$f":"IF(Attendance($C26,'Daily Register'!FX$3:FX$242)=TRUE,\"P\",\"A\")","v":"A"},{"$f":"IF(Attendance($C26,'Daily Register'!FY$3:FY$242)=TRUE,\"P\",\"A\")","v":"A"},{"$f":"IF(Attendance($C26,'Daily Register'!FZ$3:FZ$242)=TRUE,\"P\",\"A\")","v":"A"},{"$f":"IF(Attendance($C26,'Daily Register'!GA$3:GA$242)=TRUE,\"P\",\"A\")","v":"A"},{"$f":"IF(Attendance($C26,'Daily Register'!GB$3:GB$242)=TRUE,\"P\",\"A\")","v":"A"},{"$f":"IF(Attendance($C26,'Daily Register'!GC$3:GC$242)=TRUE,\"P\",\"A\")","v":"A"},{"$f":"IF(Attendance($C26,'Daily Register'!GD$3:GD$242)=TRUE,\"P\",\"A\")","v":"A"},{"$f":"IF(Attendance($C26,'Daily Register'!GE$3:GE$242)=TRUE,\"P\",\"A\")","v":"A"},{"$f":"IF(Attendance($C26,'Daily Register'!GF$3:GF$242)=TRUE,\"P\",\"A\")","v":"A"},{"$f":"IF(Attendance($C26,'Daily Register'!GG$3:GG$242)=TRUE,\"P\",\"A\")","v":"A"},{"$f":"IF(Attendance($C26,'Daily Register'!GH$3:GH$242)=TRUE,\"P\",\"A\")","v":"A"},{"$f":"IF(Attendance($C26,'Daily Register'!GI$3:GI$242)=TRUE,\"P\",\"A\")","v":"A"},{"$f":"IF(Attendance($C26,'Daily Register'!GJ$3:GJ$242)=TRUE,\"P\",\"A\")","v":"A"},{"$f":"IF(Attendance($C26,'Daily Register'!GK$3:GK$242)=TRUE,\"P\",\"A\")","v":"A"},{"$f":"IF(Attendance($C26,'Daily Register'!GL$3:GL$242)=TRUE,\"P\",\"A\")","v":"A"},{"$f":"IF(Attendance($C26,'Daily Register'!GM$3:GM$242)=TRUE,\"P\",\"A\")","v":"A"},{"$f":"IF(Attendance($C26,'Daily Register'!GN$3:GN$242)=TRUE,\"P\",\"A\")","v":"A"},{"$f":"IF(Attendance($C26,'Daily Register'!GO$3:GO$242)=TRUE,\"P\",\"A\")","v":"A"},{"$f":"IF(Attendance($C26,'Daily Register'!GP$3:GP$242)=TRUE,\"P\",\"A\")","v":"A"},{"$f":"IF(Attendance($C26,'Daily Register'!GQ$3:GQ$242)=TRUE,\"P\",\"A\")","v":"A"},{"$f":"IF(Attendance($C26,'Daily Register'!GR$3:GR$242)=TRUE,\"P\",\"A\")","v":"A"},{"$f":"IF(Attendance($C26,'Daily Register'!GS$3:GS$242)=TRUE,\"P\",\"A\")","v":"A"},{"$f":"IF(Attendance($C26,'Daily Register'!GT$3:GT$242)=TRUE,\"P\",\"A\")","v":"A"},{"$f":"IF(Attendance($C26,'Daily Register'!GU$3:GU$242)=TRUE,\"P\",\"A\")","v":"A"},{"$f":"IF(Attendance($C26,'Daily Register'!GV$3:GV$242)=TRUE,\"P\",\"A\")","v":"A"},{"$f":"IF(Attendance($C26,'Daily Register'!GW$3:GW$242)=TRUE,\"P\",\"A\")","v":"A"},{"$f":"IF(Attendance($C26,'Daily Register'!GX$3:GX$242)=TRUE,\"P\",\"A\")","v":"A"},{"$f":"IF(Attendance($C26,'Daily Register'!GY$3:GY$242)=TRUE,\"P\",\"A\")","v":"A"},{"$f":"IF(Attendance($C26,'Daily Register'!GZ$3:GZ$242)=TRUE,\"P\",\"A\")","v":"A"},{"$f":"IF(Attendance($C26,'Daily Register'!HA$3:HA$242)=TRUE,\"P\",\"A\")","v":"A"},{"$f":"IF(Attendance($C26,'Daily Register'!HB$3:HB$242)=TRUE,\"P\",\"A\")","v":"A"},{"$f":"IF(Attendance($C26,'Daily Register'!HC$3:HC$242)=TRUE,\"P\",\"A\")","v":"A"},{"$f":"IF(Attendance($C26,'Daily Register'!HD$3:HD$242)=TRUE,\"P\",\"A\")","v":"A"},{"$f":"IF(Attendance($C26,'Daily Register'!HE$3:HE$242)=TRUE,\"P\",\"A\")","v":"A"},{"$f":"IF(Attendance($C26,'Daily Register'!HF$3:HF$242)=TRUE,\"P\",\"A\")","v":"A"},{"$f":"IF(Attendance($C26,'Daily Register'!HG$3:HG$242)=TRUE,\"P\",\"A\")","v":"A"},{"$f":"IF(Attendance($C26,'Daily Register'!HH$3:HH$242)=TRUE,\"P\",\"A\")","v":"A"},{"$f":"IF(Attendance($C26,'Daily Register'!HI$3:HI$242)=TRUE,\"P\",\"A\")","v":"A"},{"$f":"IF(Attendance($C26,'Daily Register'!HJ$3:HJ$242)=TRUE,\"P\",\"A\")","v":"A"},{"$f":"IF(Attendance($C26,'Daily Register'!HK$3:HK$242)=TRUE,\"P\",\"A\")","v":"A"},{"$f":"IF(Attendance($C26,'Daily Register'!HL$3:HL$242)=TRUE,\"P\",\"A\")","v":"A"},{"$f":"IF(Attendance($C26,'Daily Register'!HM$3:HM$242)=TRUE,\"P\",\"A\")","v":"A"},{"$f":"IF(Attendance($C26,'Daily Register'!HN$3:HN$242)=TRUE,\"P\",\"A\")","v":"A"},{"$f":"IF(Attendance($C26,'Daily Register'!HO$3:HO$242)=TRUE,\"P\",\"A\")","v":"A"},{"$f":"IF(Attendance($C26,'Daily Register'!HP$3:HP$242)=TRUE,\"P\",\"A\")","v":"A"},{"$f":"IF(Attendance($C26,'Daily Register'!HQ$3:HQ$242)=TRUE,\"P\",\"A\")","v":"A"},{"$f":"IF(Attendance($C26,'Daily Register'!HR$3:HR$242)=TRUE,\"P\",\"A\")","v":"A"},{"$f":"IF(Attendance($C26,'Daily Register'!HS$3:HS$242)=TRUE,\"P\",\"A\")","v":"A"},{"$f":"IF(Attendance($C26,'Daily Register'!HT$3:HT$242)=TRUE,\"P\",\"A\")","v":"A"},{"$f":"IF(Attendance($C26,'Daily Register'!HU$3:HU$242)=TRUE,\"P\",\"A\")","v":"A"},{"$f":"IF(Attendance($C26,'Daily Register'!HV$3:HV$242)=TRUE,\"P\",\"A\")","v":"A"},{"$f":"IF(Attendance($C26,'Daily Register'!HW$3:HW$242)=TRUE,\"P\",\"A\")","v":"A"},{"$f":"IF(Attendance($C26,'Daily Register'!HX$3:HX$242)=TRUE,\"P\",\"A\")","v":"A"},{"$f":"IF(Attendance($C26,'Daily Register'!HY$3:HY$242)=TRUE,\"P\",\"A\")","v":"A"},{"$f":"IF(Attendance($C26,'Daily Register'!HZ$3:HZ$242)=TRUE,\"P\",\"A\")","v":"A"},{"$f":"IF(Attendance($C26,'Daily Register'!IA$3:IA$242)=TRUE,\"P\",\"A\")","v":"A"},{"$f":"IF(Attendance($C26,'Daily Register'!IB$3:IB$242)=TRUE,\"P\",\"A\")","v":"A"},{"$f":"IF(Attendance($C26,'Daily Register'!IC$3:IC$242)=TRUE,\"P\",\"A\")","v":"A"},{"$f":"IF(Attendance($C26,'Daily Register'!ID$3:ID$242)=TRUE,\"P\",\"A\")","v":"A"},{"$f":"IF(Attendance($C26,'Daily Register'!IE$3:IE$242)=TRUE,\"P\",\"A\")","v":"A"},{"$f":"IF(Attendance($C26,'Daily Register'!IF$3:IF$242)=TRUE,\"P\",\"A\")","v":"A"},{"$f":"IF(Attendance($C26,'Daily Register'!IG$3:IG$242)=TRUE,\"P\",\"A\")","v":"A"},{"$f":"IF(Attendance($C26,'Daily Register'!IH$3:IH$242)=TRUE,\"P\",\"A\")","v":"A"},{"$f":"IF(Attendance($C26,'Daily Register'!II$3:II$242)=TRUE,\"P\",\"A\")","v":"A"},{"$f":"IF(Attendance($C26,'Daily Register'!IJ$3:IJ$242)=TRUE,\"P\",\"A\")","v":"A"},{"$f":"IF(Attendance($C26,'Daily Register'!IK$3:IK$242)=TRUE,\"P\",\"A\")","v":"A"},{"$f":"IF(Attendance($C26,'Daily Register'!IL$3:IL$242)=TRUE,\"P\",\"A\")","v":"A"},{"$f":"IF(Attendance($C26,'Daily Register'!IM$3:IM$242)=TRUE,\"P\",\"A\")","v":"A"},{"$f":"IF(Attendance($C26,'Daily Register'!IN$3:IN$242)=TRUE,\"P\",\"A\")","v":"A"},{"$f":"IF(Attendance($C26,'Daily Register'!IO$3:IO$242)=TRUE,\"P\",\"A\")","v":"A"},{"$f":"IF(Attendance($C26,'Daily Register'!IP$3:IP$242)=TRUE,\"P\",\"A\")","v":"A"},{"$f":"IF(Attendance($C26,'Daily Register'!IQ$3:IQ$242)=TRUE,\"P\",\"A\")","v":"A"},{"$f":"IF(Attendance($C26,'Daily Register'!IR$3:IR$242)=TRUE,\"P\",\"A\")","v":"A"},{"$f":"IF(Attendance($C26,'Daily Register'!IS$3:IS$242)=TRUE,\"P\",\"A\")","v":"A"},{"$f":"IF(Attendance($C26,'Daily Register'!IT$3:IT$242)=TRUE,\"P\",\"A\")","v":"A"},{"$f":"IF(Attendance($C26,'Daily Register'!IU$3:IU$242)=TRUE,\"P\",\"A\")","v":"A"},{"$f":"IF(Attendance($C26,'Daily Register'!IV$3:IV$242)=TRUE,\"P\",\"A\")","v":"A"},{"$f":"IF(Attendance($C26,'Daily Register'!IW$3:IW$242)=TRUE,\"P\",\"A\")","v":"A"},{"$f":"IF(Attendance($C26,'Daily Register'!IX$3:IX$242)=TRUE,\"P\",\"A\")","v":"A"},{"$f":"IF(Attendance($C26,'Daily Register'!IY$3:IY$242)=TRUE,\"P\",\"A\")","v":"A"},{"$f":"IF(Attendance($C26,'Daily Register'!IZ$3:IZ$242)=TRUE,\"P\",\"A\")","v":"A"},{"$f":"IF(Attendance($C26,'Daily Register'!JA$3:JA$242)=TRUE,\"P\",\"A\")","v":"A"},{"$f":"IF(Attendance($C26,'Daily Register'!JB$3:JB$242)=TRUE,\"P\",\"A\")","v":"A"},{"$f":"IF(Attendance($C26,'Daily Register'!JC$3:JC$242)=TRUE,\"P\",\"A\")","v":"A"},{"$f":"IF(Attendance($C26,'Daily Register'!JD$3:JD$242)=TRUE,\"P\",\"A\")","v":"A"},{"$f":"IF(Attendance($C26,'Daily Register'!JE$3:JE$242)=TRUE,\"P\",\"A\")","v":"A"},{"$f":"IF(Attendance($C26,'Daily Register'!JF$3:JF$242)=TRUE,\"P\",\"A\")","v":"A"},{"$f":"IF(Attendance($C26,'Daily Register'!JG$3:JG$242)=TRUE,\"P\",\"A\")","v":"A"},{"$f":"IF(Attendance($C26,'Daily Register'!JH$3:JH$242)=TRUE,\"P\",\"A\")","v":"A"},{"$f":"IF(Attendance($C26,'Daily Register'!JI$3:JI$242)=TRUE,\"P\",\"A\")","v":"A"},{"$f":"IF(Attendance($C26,'Daily Register'!JJ$3:JJ$242)=TRUE,\"P\",\"A\")","v":"A"},{"$f":"IF(Attendance($C26,'Daily Register'!JK$3:JK$242)=TRUE,\"P\",\"A\")","v":"A"},{"$f":"IF(Attendance($C26,'Daily Register'!JL$3:JL$242)=TRUE,\"P\",\"A\")","v":"A"},{"$f":"IF(Attendance($C26,'Daily Register'!JM$3:JM$242)=TRUE,\"P\",\"A\")","v":"A"},{"$f":"IF(Attendance($C26,'Daily Register'!JN$3:JN$242)=TRUE,\"P\",\"A\")","v":"A"},{"$f":"IF(Attendance($C26,'Daily Register'!JO$3:JO$242)=TRUE,\"P\",\"A\")","v":"A"},{"$f":"IF(Attendance($C26,'Daily Register'!JP$3:JP$242)=TRUE,\"P\",\"A\")","v":"A"},{"$f":"IF(Attendance($C26,'Daily Register'!JQ$3:JQ$242)=TRUE,\"P\",\"A\")","v":"A"},{"$f":"IF(Attendance($C26,'Daily Register'!JR$3:JR$242)=TRUE,\"P\",\"A\")","v":"A"},{"$f":"IF(Attendance($C26,'Daily Register'!JS$3:JS$242)=TRUE,\"P\",\"A\")","v":"A"},{"$f":"IF(Attendance($C26,'Daily Register'!JT$3:JT$242)=TRUE,\"P\",\"A\")","v":"A"},{"$f":"IF(Attendance($C26,'Daily Register'!JU$3:JU$242)=TRUE,\"P\",\"A\")","v":"A"},{"$f":"IF(Attendance($C26,'Daily Register'!JV$3:JV$242)=TRUE,\"P\",\"A\")","v":"A"},{"$f":"IF(Attendance($C26,'Daily Register'!JW$3:JW$242)=TRUE,\"P\",\"A\")","v":"A"},{"$f":"IF(Attendance($C26,'Daily Register'!JX$3:JX$242)=TRUE,\"P\",\"A\")","v":"A"},{"$f":"IF(Attendance($C26,'Daily Register'!JY$3:JY$242)=TRUE,\"P\",\"A\")","v":"A"},{"$f":"IF(Attendance($C26,'Daily Register'!JZ$3:JZ$242)=TRUE,\"P\",\"A\")","v":"A"},{"$f":"IF(Attendance($C26,'Daily Register'!KA$3:KA$242)=TRUE,\"P\",\"A\")","v":"A"},{"$f":"IF(Attendance($C26,'Daily Register'!KB$3:KB$242)=TRUE,\"P\",\"A\")","v":"A"},{"$f":"IF(Attendance($C26,'Daily Register'!KC$3:KC$242)=TRUE,\"P\",\"A\")","v":"A"},{"$f":"IF(Attendance($C26,'Daily Register'!KD$3:KD$242)=TRUE,\"P\",\"A\")","v":"A"},{"$f":"IF(Attendance($C26,'Daily Register'!KE$3:KE$242)=TRUE,\"P\",\"A\")","v":"A"},{"$f":"IF(Attendance($C26,'Daily Register'!KF$3:KF$242)=TRUE,\"P\",\"A\")","v":"A"},{"$f":"IF(Attendance($C26,'Daily Register'!KG$3:KG$242)=TRUE,\"P\",\"A\")","v":"A"},{"$f":"IF(Attendance($C26,'Daily Register'!KH$3:KH$242)=TRUE,\"P\",\"A\")","v":"A"},{"$f":"IF(Attendance($C26,'Daily Register'!KI$3:KI$242)=TRUE,\"P\",\"A\")","v":"A"},{"$f":"IF(Attendance($C26,'Daily Register'!KJ$3:KJ$242)=TRUE,\"P\",\"A\")","v":"A"},{"$f":"IF(Attendance($C26,'Daily Register'!KK$3:KK$242)=TRUE,\"P\",\"A\")","v":"A"},{"$f":"IF(Attendance($C26,'Daily Register'!KL$3:KL$242)=TRUE,\"P\",\"A\")","v":"A"},{"$f":"IF(Attendance($C26,'Daily Register'!KM$3:KM$242)=TRUE,\"P\",\"A\")","v":"A"},{"$f":"IF(Attendance($C26,'Daily Register'!KN$3:KN$242)=TRUE,\"P\",\"A\")","v":"A"},{"$f":"IF(Attendance($C26,'Daily Register'!KO$3:KO$242)=TRUE,\"P\",\"A\")","v":"A"},{"$f":"IF(Attendance($C26,'Daily Register'!KP$3:KP$242)=TRUE,\"P\",\"A\")","v":"A"},{"$f":"IF(Attendance($C26,'Daily Register'!KQ$3:KQ$242)=TRUE,\"P\",\"A\")","v":"A"},{"$f":"IF(Attendance($C26,'Daily Register'!KR$3:KR$242)=TRUE,\"P\",\"A\")","v":"A"},{"$f":"IF(Attendance($C26,'Daily Register'!KS$3:KS$242)=TRUE,\"P\",\"A\")","v":"A"},{"$f":"IF(Attendance($C26,'Daily Register'!KT$3:KT$242)=TRUE,\"P\",\"A\")","v":"A"},{"$f":"IF(Attendance($C26,'Daily Register'!KU$3:KU$242)=TRUE,\"P\",\"A\")","v":"A"},{"$f":"IF(Attendance($C26,'Daily Register'!KV$3:KV$242)=TRUE,\"P\",\"A\")","v":"A"},{"$f":"IF(Attendance($C26,'Daily Register'!KW$3:KW$242)=TRUE,\"P\",\"A\")","v":"A"},{"$f":"IF(Attendance($C26,'Daily Register'!KX$3:KX$242)=TRUE,\"P\",\"A\")","v":"A"},{"$f":"IF(Attendance($C26,'Daily Register'!KY$3:KY$242)=TRUE,\"P\",\"A\")","v":"A"},{"$f":"IF(Attendance($C26,'Daily Register'!KZ$3:KZ$242)=TRUE,\"P\",\"A\")","v":"A"},{"$f":"IF(Attendance($C26,'Daily Register'!LA$3:LA$242)=TRUE,\"P\",\"A\")","v":"A"},{"$f":"IF(Attendance($C26,'Daily Register'!LB$3:LB$242)=TRUE,\"P\",\"A\")","v":"A"},{"$f":"IF(Attendance($C26,'Daily Register'!LC$3:LC$242)=TRUE,\"P\",\"A\")","v":"A"},{"$f":"IF(Attendance($C26,'Daily Register'!LD$3:LD$242)=TRUE,\"P\",\"A\")","v":"A"},{"$f":"IF(Attendance($C26,'Daily Register'!LE$3:LE$242)=TRUE,\"P\",\"A\")","v":"A"},{"$f":"IF(Attendance($C26,'Daily Register'!LF$3:LF$242)=TRUE,\"P\",\"A\")","v":"A"},{"$f":"IF(Attendance($C26,'Daily Register'!LG$3:LG$242)=TRUE,\"P\",\"A\")","v":"A"},{"$f":"IF(Attendance($C26,'Daily Register'!LH$3:LH$242)=TRUE,\"P\",\"A\")","v":"A"},{"$f":"IF(Attendance($C26,'Daily Register'!LI$3:LI$242)=TRUE,\"P\",\"A\")","v":"A"},{"$f":"IF(Attendance($C26,'Daily Register'!LJ$3:LJ$242)=TRUE,\"P\",\"A\")","v":"A"},{"$f":"IF(Attendance($C26,'Daily Register'!LK$3:LK$242)=TRUE,\"P\",\"A\")","v":"A"},{"$f":"IF(Attendance($C26,'Daily Register'!LL$3:LL$242)=TRUE,\"P\",\"A\")","v":"A"},{"$f":"IF(Attendance($C26,'Daily Register'!LM$3:LM$242)=TRUE,\"P\",\"A\")","v":"A"},{"$f":"IF(Attendance($C26,'Daily Register'!LN$3:LN$242)=TRUE,\"P\",\"A\")","v":"A"},{"$f":"IF(Attendance($C26,'Daily Register'!LO$3:LO$242)=TRUE,\"P\",\"A\")","v":"A"},{"$f":"IF(Attendance($C26,'Daily Register'!LP$3:LP$242)=TRUE,\"P\",\"A\")","v":"A"},{"$f":"IF(Attendance($C26,'Daily Register'!LQ$3:LQ$242)=TRUE,\"P\",\"A\")","v":"A"},{"$f":"IF(Attendance($C26,'Daily Register'!LR$3:LR$242)=TRUE,\"P\",\"A\")","v":"A"},{"$f":"IF(Attendance($C26,'Daily Register'!LS$3:LS$242)=TRUE,\"P\",\"A\")","v":"A"},{"$f":"IF(Attendance($C26,'Daily Register'!LT$3:LT$242)=TRUE,\"P\",\"A\")","v":"A"},{"$f":"IF(Attendance($C26,'Daily Register'!LU$3:LU$242)=TRUE,\"P\",\"A\")","v":"A"},{"$f":"IF(Attendance($C26,'Daily Register'!LV$3:LV$242)=TRUE,\"P\",\"A\")","v":"A"},{"$f":"IF(Attendance($C26,'Daily Register'!LW$3:LW$242)=TRUE,\"P\",\"A\")","v":"A"},{"$f":"IF(Attendance($C26,'Daily Register'!LX$3:LX$242)=TRUE,\"P\",\"A\")","v":"A"},{"$f":"IF(Attendance($C26,'Daily Register'!LY$3:LY$242)=TRUE,\"P\",\"A\")","v":"A"},{"$f":"IF(Attendance($C26,'Daily Register'!LZ$3:LZ$242)=TRUE,\"P\",\"A\")","v":"A"},{"$f":"IF(Attendance($C26,'Daily Register'!MA$3:MA$242)=TRUE,\"P\",\"A\")","v":"A"},{"$f":"IF(Attendance($C26,'Daily Register'!MB$3:MB$242)=TRUE,\"P\",\"A\")","v":"A"},{"$f":"IF(Attendance($C26,'Daily Register'!MC$3:MC$242)=TRUE,\"P\",\"A\")","v":"A"},{"$f":"IF(Attendance($C26,'Daily Register'!MD$3:MD$242)=TRUE,\"P\",\"A\")","v":"A"},{"$f":"IF(Attendance($C26,'Daily Register'!ME$3:ME$242)=TRUE,\"P\",\"A\")","v":"A"},{"$f":"IF(Attendance($C26,'Daily Register'!MF$3:MF$242)=TRUE,\"P\",\"A\")","v":"A"},{"$f":"IF(Attendance($C26,'Daily Register'!MG$3:MG$242)=TRUE,\"P\",\"A\")","v":"A"},{"$f":"IF(Attendance($C26,'Daily Register'!MH$3:MH$242)=TRUE,\"P\",\"A\")","v":"A"},{"$f":"IF(Attendance($C26,'Daily Register'!MI$3:MI$242)=TRUE,\"P\",\"A\")","v":"A"},{"$f":"IF(Attendance($C26,'Daily Register'!MJ$3:MJ$242)=TRUE,\"P\",\"A\")","v":"A"},{"$f":"IF(Attendance($C26,'Daily Register'!MK$3:MK$242)=TRUE,\"P\",\"A\")","v":"A"},{"$f":"IF(Attendance($C26,'Daily Register'!ML$3:ML$242)=TRUE,\"P\",\"A\")","v":"A"},{"$f":"IF(Attendance($C26,'Daily Register'!MM$3:MM$242)=TRUE,\"P\",\"A\")","v":"A"},{"$f":"IF(Attendance($C26,'Daily Register'!MN$3:MN$242)=TRUE,\"P\",\"A\")","v":"A"},{"$f":"IF(Attendance($C26,'Daily Register'!MO$3:MO$242)=TRUE,\"P\",\"A\")","v":"A"},{"$f":"IF(Attendance($C26,'Daily Register'!MP$3:MP$242)=TRUE,\"P\",\"A\")","v":"A"},{"$f":"IF(Attendance($C26,'Daily Register'!MQ$3:MQ$242)=TRUE,\"P\",\"A\")","v":"A"},{"$f":"IF(Attendance($C26,'Daily Register'!MR$3:MR$242)=TRUE,\"P\",\"A\")","v":"A"},{"$f":"IF(Attendance($C26,'Daily Register'!MS$3:MS$242)=TRUE,\"P\",\"A\")","v":"A"},{"$f":"IF(Attendance($C26,'Daily Register'!MT$3:MT$242)=TRUE,\"P\",\"A\")","v":"A"},{"$f":"IF(Attendance($C26,'Daily Register'!MU$3:MU$242)=TRUE,\"P\",\"A\")","v":"A"},{"$f":"IF(Attendance($C26,'Daily Register'!MV$3:MV$242)=TRUE,\"P\",\"A\")","v":"A"},{"$f":"IF(Attendance($C26,'Daily Register'!MW$3:MW$242)=TRUE,\"P\",\"A\")","v":"A"},{"$f":"IF(Attendance($C26,'Daily Register'!MX$3:MX$242)=TRUE,\"P\",\"A\")","v":"A"},{"$f":"IF(Attendance($C26,'Daily Register'!MY$3:MY$242)=TRUE,\"P\",\"A\")","v":"A"},{"$f":"IF(Attendance($C26,'Daily Register'!MZ$3:MZ$242)=TRUE,\"P\",\"A\")","v":"A"},{"$f":"IF(Attendance($C26,'Daily Register'!NA$3:NA$242)=TRUE,\"P\",\"A\")","v":"A"},{"$f":"IF(Attendance($C26,'Daily Register'!NB$3:NB$242)=TRUE,\"P\",\"A\")","v":"A"}]
[0,null,24,null,{"$f":"IF(Attendance($C27,'Daily Register'!A$3:A$242)=TRUE,\"P\",\"A\")","v":"A"},{"$f":"IF(Attendance($C27,'Daily Register'!B$3:B$242)=TRUE,\"P\",\"A\")","v":"A"},{"$f":"IF(Attendance($C27,'Daily Register'!C$3:C$242)=TRUE,\"P\",\"A\")","v":"A"},{"$f":"IF(Attendance($C27,'Daily Register'!D$3:D$242)=TRUE,\"P\",\"A\")","v":"A"},{"$f":"IF(Attendance($C27,'Daily Register'!E$3:E$242)=TRUE,\"P\",\"A\")","v":"A"},{"$f":"IF(Attendance($C27,'Daily Register'!F$3:F$242)=TRUE,\"P\",\"A\")","v":"A"},{"$f":"IF(Attendance($C27,'Daily Register'!G$3:G$242)=TRUE,\"P\",\"A\")","v":"A"},{"$f":"IF(Attendance($C27,'Daily Register'!H$3:H$242)=TRUE,\"P\",\"A\")","v":"A"},{"$f":"IF(Attendance($C27,'Daily Register'!I$3:I$242)=TRUE,\"P\",\"A\")","v":"A"},{"$f":"IF(Attendance($C27,'Daily Register'!J$3:J$242)=TRUE,\"P\",\"A\")","v":"A"},{"$f":"IF(Attendance($C27,'Daily Register'!K$3:K$242)=TRUE,\"P\",\"A\")","v":"A"},{"$f":"IF(Attendance($C27,'Daily Register'!L$3:L$242)=TRUE,\"P\",\"A\")","v":"A"},{"$f":"IF(Attendance($C27,'Daily Register'!M$3:M$242)=TRUE,\"P\",\"A\")","v":"A"},{"$f":"IF(Attendance($C27,'Daily Register'!N$3:N$242)=TRUE,\"P\",\"A\")","v":"A"},{"$f":"IF(Attendance($C27,'Daily Register'!O$3:O$242)=TRUE,\"P\",\"A\")","v":"A"},{"$f":"IF(Attendance($C27,'Daily Register'!P$3:P$242)=TRUE,\"P\",\"A\")","v":"A"},{"$f":"IF(Attendance($C27,'Daily Register'!Q$3:Q$242)=TRUE,\"P\",\"A\")","v":"A"},{"$f":"IF(Attendance($C27,'Daily Register'!R$3:R$242)=TRUE,\"P\",\"A\")","v":"A"},{"$f":"IF(Attendance($C27,'Daily Register'!S$3:S$242)=TRUE,\"P\",\"A\")","v":"A"},{"$f":"IF(Attendance($C27,'Daily Register'!T$3:T$242)=TRUE,\"P\",\"A\")","v":"A"},{"$f":"IF(Attendance($C27,'Daily Register'!U$3:U$242)=TRUE,\"P\",\"A\")","v":"A"},{"$f":"IF(Attendance($C27,'Daily Register'!V$3:V$242)=TRUE,\"P\",\"A\")","v":"A"},{"$f":"IF(Attendance($C27,'Daily Register'!W$3:W$242)=TRUE,\"P\",\"A\")","v":"A"},{"$f":"IF(Attendance($C27,'Daily Register'!X$3:X$242)=TRUE,\"P\",\"A\")","v":"A"},{"$f":"IF(Attendance($C27,'Daily Register'!Y$3:Y$242)=TRUE,\"P\",\"A\")","v":"A"},{"$f":"IF(Attendance($C27,'Daily Register'!Z$3:Z$242)=TRUE,\"P\",\"A\")","v":"A"},{"$f":"IF(Attendance($C27,'Daily Register'!AA$3:AA$242)=TRUE,\"P\",\"A\")","v":"A"},{"$f":"IF(Attendance($C27,'Daily Register'!AB$3:AB$242)=TRUE,\"P\",\"A\")","v":"A"},{"$f":"IF(Attendance($C27,'Daily Register'!AC$3:AC$242)=TRUE,\"P\",\"A\")","v":"A"},{"$f":"IF(Attendance($C27,'Daily Register'!AD$3:AD$242)=TRUE,\"P\",\"A\")","v":"A"},{"$f":"IF(Attendance($C27,'Daily Register'!AE$3:AE$242)=TRUE,\"P\",\"A\")","v":"A"},{"$f":"IF(Attendance($C27,'Daily Register'!AF$3:AF$242)=TRUE,\"P\",\"A\")","v":"A"},{"$f":"IF(Attendance($C27,'Daily Register'!AG$3:AG$242)=TRUE,\"P\",\"A\")","v":"A"},{"$f":"IF(Attendance($C27,'Daily Register'!AH$3:AH$242)=TRUE,\"P\",\"A\")","v":"A"},{"$f":"IF(Attendance($C27,'Daily Register'!AI$3:AI$242)=TRUE,\"P\",\"A\")","v":"A"},{"$f":"IF(Attendance($C27,'Daily Register'!AJ$3:AJ$242)=TRUE,\"P\",\"A\")","v":"A"},{"$f":"IF(Attendance($C27,'Daily Register'!AK$3:AK$242)=TRUE,\"P\",\"A\")","v":"A"},{"$f":"IF(Attendance($C27,'Daily Register'!AL$3:AL$242)=TRUE,\"P\",\"A\")","v":"A"},{"$f":"IF(Attendance($C27,'Daily Register'!AM$3:AM$242)=TRUE,\"P\",\"A\")","v":"A"},{"$f":"IF(Attendance($C27,'Daily Register'!AN$3:AN$242)=TRUE,\"P\",\"A\")","v":"A"},{"$f":"IF(Attendance($C27,'Daily Register'!AO$3:AO$242)=TRUE,\"P\",\"A\")","v":"A"},{"$f":"IF(Attendance($C27,'Daily Register'!AP$3:AP$242)=TRUE,\"P\",\"A\")","v":"A"},{"$f":"IF(Attendance($C27,'Daily Register'!AQ$3:AQ$242)=TRUE,\"P\",\"A\")","v":"A"},{"$f":"IF(Attendance($C27,'Daily Register'!AR$3:AR$242)=TRUE,\"P\",\"A\")","v":"A"},{"$f":"IF(Attendance($C27,'Daily Register'!AS$3:AS$242)=TRUE,\"P\",\"A\")","v":"A"},{"$f":"IF(Attendance($C27,'Daily Register'!AT$3:AT$242)=TRUE,\"P\",\"A\")","v":"A"},{"$f":"IF(Attendance($C27,'Daily Register'!AU$3:AU$242)=TRUE,\"P\",\"A\")","v":"A"},{"$f":"IF(Attendance($C27,'Daily Register'!AV$3:AV$242)=TRUE,\"P\",\"A\")","v":"A"},{"$f":"IF(Attendance($C27,'Daily Register'!AW$3:AW$242)=TRUE,\"P\",\"A\")","v":"A"},{"$f":"IF(Attendance($C27,'Daily Register'!AX$3:AX$242)=TRUE,\"P\",\"A\")","v":"A"},{"$f":"IF(Attendance($C27,'Daily Register'!AY$3:AY$242)=TRUE,\"P\",\"A\")","v":"A"},{"$f":"IF(Attendance($C27,'Daily Register'!AZ$3:AZ$242)=TRUE,\"P\",\"A\")","v":"A"},{"$f":"IF(Attendance($C27,'Daily Register'!BA$3:BA$242)=TRUE,\"P\",\"A\")","v":"A"},{"$f":"IF(Attendance($C27,'Daily Register'!BB$3:BB$242)=TRUE,\"P\",\"A\")","v":"A"},{"$f":"IF(Attendance($C27,'Daily Register'!BC$3:BC$242)=TRUE,\"P\",\"A\")","v":"A"},{"$f":"IF(Attendance($C27,'Daily Register'!BD$3:BD$242)=TRUE,\"P\",\"A\")","v":"A"},{"$f":"IF(Attendance($C27,'Daily Register'!BE$3:BE$242)=TRUE,\"P\",\"A\")","v":"A"},{"$f":"IF(Attendance($C27,'Daily Register'!BF$3:BF$242)=TRUE,\"P\",\"A\")","v":"A"},{"$f":"IF(Attendance($C27,'Daily Register'!BG$3:BG$242)=TRUE,\"P\",\"A\")","v":"A"},{"$f":"IF(Attendance($C27,'Daily Register'!BH$3:BH$242)=TRUE,\"P\",\"A\")","v":"A"},{"$f":"IF(Attendance($C27,'Daily Register'!BI$3:BI$242)=TRUE,\"P\",\"A\")","v":"A"},{"$f":"IF(Attendance($C27,'Daily Register'!BJ$3:BJ$242)=TRUE,\"P\",\"A\")","v":"A"},{"$f":"IF(Attendance($C27,'Daily Register'!BK$3:BK$242)=TRUE,\"P\",\"A\")","v":"A"},{"$f":"IF(Attendance($C27,'Daily Register'!BL$3:BL$242)=TRUE,\"P\",\"A\")","v":"A"},{"$f":"IF(Attendance($C27,'Daily Register'!BM$3:BM$242)=TRUE,\"P\",\"A\")","v":"A"},{"$f":"IF(Attendance($C27,'Daily Register'!BN$3:BN$242)=TRUE,\"P\",\"A\")","v":"A"},{"$f":"IF(Attendance($C27,'Daily Register'!BO$3:BO$242)=TRUE,\"P\",\"A\")","v":"A"},{"$f":"IF(Attendance($C27,'Daily Register'!BP$3:BP$242)=TRUE,\"P\",\"A\")","v":"A"},{"$f":"IF(Attendance($C27,'Daily Register'!BQ$3:BQ$242)=TRUE,\"P\",\"A\")","v":"A"},{"$f":"IF(Attendance($C27,'Daily Register'!BR$3:BR$242)=TRUE,\"P\",\"A\")","v":"A"},{"$f":"IF(Attendance($C27,'Daily Register'!BS$3:BS$242)=TRUE,\"P\",\"A\")","v":"A"},{"$f":"IF(Attendance($C27,'Daily Register'!BT$3:BT$242)=TRUE,\"P\",\"A\")","v":"A"},{"$f":"IF(Attendance($C27,'Daily Register'!BU$3:BU$242)=TRUE,\"P\",\"A\")","v":"A"},{"$f":"IF(Attendance($C27,'Daily Register'!BV$3:BV$242)=TRUE,\"P\",\"A\")","v":"A"},{"$f":"IF(Attendance($C27,'Daily Register'!BW$3:BW$242)=TRUE,\"P\",\"A\")","v":"A"},{"$f":"IF(Attendance($C27,'Daily Register'!BX$3:BX$242)=TRUE,\"P\",\"A\")","v":"A"},{"$f":"IF(Attendance($C27,'Daily Register'!BY$3:BY$242)=TRUE,\"P\",\"A\")","v":"A"},{"$f":"IF(Attendance($C27,'Daily Register'!BZ$3:BZ$242)=TRUE,\"P\",\"A\")","v":"A"},{"$f":"IF(Attendance($C27,'Daily Register'!CA$3:CA$242)=TRUE,\"P\",\"A\")","v":"A"},{"$f":"IF(Attendance($C27,'Daily Register'!CB$3:CB$242)=TRUE,\"P\",\"A\")","v":"A"},{"$f":"IF(Attendance($C27,'Daily Register'!CC$3:CC$242)=TRUE,\"P\",\"A\")","v":"A"},{"$f":"IF(Attendance($C27,'Daily Register'!CD$3:CD$242)=TRUE,\"P\",\"A\")","v":"A"},{"$f":"IF(Attendance($C27,'Daily Register'!CE$3:CE$242)=TRUE,\"P\",\"A\")","v":"A"},{"$f":"IF(Attendance($C27,'Daily Register'!CF$3:CF$242)=TRUE,\"P\",\"A\")","v":"A"},{"$f":"IF(Attendance($C27,'Daily Register'!CG$3:CG$242)=TRUE,\"P\",\"A\")","v":"A"},{"$f":"IF(Attendance($C27,'Daily Register'!CH$3:CH$242)=TRUE,\"P\",\"A\")","v":"A"},{"$f":"IF(Attendance($C27,'Daily Register'!CI$3:CI$242)=TRUE,\"P\",\"A\")","v":"A"},{"$f":"IF(Attendance($C27,'Daily Register'!CJ$3:CJ$242)=TRUE,\"P\",\"A\")","v":"A"},{"$f":"IF(Attendance($C27,'Daily Register'!CK$3:CK$242)=TRUE,\"P\",\"A\")","v":"A"},{"$f":"IF(Attendance($C27,'Daily Register'!CL$3:CL$242)=TRUE,\"P\",\"A\")","v":"A"},{"$f":"IF(Attendance($C27,'Daily Register'!CM$3:CM$242)=TRUE,\"P\",\"A\")","v":"A"},{"$f":"IF(Attendance($C27,'Daily Register'!CN$3:CN$242)=TRUE,\"P\",\"A\")","v":"A"},{"$f":"IF(Attendance($C27,'Daily Register'!CO$3:CO$242)=TRUE,\"P\",\"A\")","v":"A"},{"$f":"IF(Attendance($C27,'Daily Register'!CP$3:CP$242)=TRUE,\"P\",\"A\")","v":"A"},{"$f":"IF(Attendance($C27,'Daily Register'!CQ$3:CQ$242)=TRUE,\"P\",\"A\")","v":"A"},{"$f":"IF(Attendance($C27,'Daily Register'!CR$3:CR$242)=TRUE,\"P\",\"A\")","v":"A"},{"$f":"IF(Attendance($C27,'Daily Register'!CS$3:CS$242)=TRUE,\"P\",\"A\")","v":"A"},{"$f":"IF(Attendance($C27,'Daily Register'!CT$3:CT$242)=TRUE,\"P\",\"A\")","v":"A"},{"$f":"IF(Attendance($C27,'Daily Register'!CU$3:CU$242)=TRUE,\"P\",\"A\")","v":"A"},{"$f":"IF(Attendance($C27,'Daily Register'!CV$3:CV$242)=TRUE,\"P\",\"A\")","v":"A"},{"$f":"IF(Attendance($C27,'Daily Register'!CW$3:CW$242)=TRUE,\"P\",\"A\")","v":"A"},{"$f":"IF(Attendance($C27,'Daily Register'!CX$3:CX$242)=TRUE,\"P\",\"A\")","v":"A"},{"$f":"IF(Attendance($C27,'Daily Register'!CY$3:CY$242)=TRUE,\"P\",\"A\")","v":"A"},{"$f":"IF(Attendance($C27,'Daily Register'!CZ$3:CZ$242)=TRUE,\"P\",\"A\")","v":"A"},{"$f":"IF(Attendance($C27,'Daily Register'!DA$3:DA$242)=TRUE,\"P\",\"A\")","v":"A"},{"$f":"IF(Attendance($C27,'Daily Register'!DB$3:DB$242)=TRUE,\"P\",\"A\")","v":"A"},{"$f":"IF(Attendance($C27,'Daily Register'!DC$3:DC$242)=TRUE,\"P\",\"A\")","v":"A"},{"$f":"IF(Attendance($C27,'Daily Register'!DD$3:DD$242)=TRUE,\"P\",\"A\")","v":"A"},{"$f":"IF(Attendance($C27,'Daily Register'!DE$3:DE$242)=TRUE,\"P\",\"A\")","v":"A"},{"$f":"IF(Attendance($C27,'Daily Register'!DF$3:DF$242)=TRUE,\"P\",\"A\")","v":"A"},{"$f":"IF(Attendance($C27,'Daily Register'!DG$3:DG$242)=TRUE,\"P\",\"A\")","v":"A"},{"$f":"IF(Attendance($C27,'Daily Register'!DH$3:DH$242)=TRUE,\"P\",\"A\")","v":"A"},{"$f":"IF(Attendance($C27,'Daily Register'!DI$3:DI$242)=TRUE,\"P\",\"A\")","v":"A"},{"$f":"IF(Attendance($C27,'Daily Register'!DJ$3:DJ$242)=TRUE,\"P\",\"A\")","v":"A"},{"$f":"IF(Attendance($C27,'Daily Register'!DK$3:DK$242)=TRUE,\"P\",\"A\")","v":"A"},{"$f":"IF(Attendance($C27,'Daily Register'!DL$3:DL$242)=TRUE,\"P\",\"A\")","v":"A"},{"$f":"IF(Attendance($C27,'Daily Register'!DM$3:DM$242)=TRUE,\"P\",\"A\")","v":"A"},{"$f":"IF(Attendance($C27,'Daily Register'!DN$3:DN$242)=TRUE,\"P\",\"A\")","v":"A"},{"$f":"IF(Attendance($C27,'Daily Register'!DO$3:DO$242)=TRUE,\"P\",\"A\")","v":"A"},{"$f":"IF(Attendance($C27,'Daily Register'!DP$3:DP$242)=TRUE,\"P\",\"A\")","v":"A"},{"$f":"IF(Attendance($C27,'Daily Register'!DQ$3:DQ$242)=TRUE,\"P\",\"A\")","v":"A"},{"$f":"IF(Attendance($C27,'Daily Register'!DR$3:DR$242)=TRUE,\"P\",\"A\")","v":"A"},{"$f":"IF(Attendance($C27,'Daily Register'!DS$3:DS$242)=TRUE,\"P\",\"A\")","v":"A"},{"$f":"IF(Attendance($C27,'Daily Register'!DT$3:DT$242)=TRUE,\"P\",\"A\")","v":"A"},{"$f":"IF(Attendance($C27,'Daily Register'!DU$3:DU$242)=TRUE,\"P\",\"A\")","v":"A"},{"$f":"IF(Attendance($C27,'Daily Register'!DV$3:DV$242)=TRUE,\"P\",\"A\")","v":"A"},{"$f":"IF(Attendance($C27,'Daily Register'!DW$3:DW$242)=TRUE,\"P\",\"A\")","v":"A"},{"$f":"IF(Attendance($C27,'Daily Register'!DX$3:DX$242)=TRUE,\"P\",\"A\")","v":"A"},{"$f":"IF(Attendance($C27,'Daily Register'!DY$3:DY$242)=TRUE,\"P\",\"A\")","v":"A"},{"$f":"IF(Attendance($C27,'Daily Register'!DZ$3:DZ$242)=TRUE,\"P\",\"A\")","v":"A"},{"$f":"IF(Attendance($C27,'Daily Register'!EA$3:EA$242)=TRUE,\"P\",\"A\")","v":"A"},{"$f":"IF(Attendance($C27,'Daily Register'!EB$3:EB$242)=TRUE,\"P\",\"A\")","v":"A"},{"$f":"IF(Attendance($C27,'Daily Register'!EC$3:EC$242)=TRUE,\"P\",\"A\")","v":"A"},{"$f":"IF(Attendance($C27,'Daily Register'!ED$3:ED$242)=TRUE,\"P\",\"A\")","v":"A"},{"$f":"IF(Attendance($C27,'Daily Register'!EE$3:EE$242)=TRUE,\"P\",\"A\")","v":"A"},{"$f":"IF(Attendance($C27,'Daily Register'!EF$3:EF$242)=TRUE,\"P\",\"A\")","v":"A"},{"$f":"IF(Attendance($C27,'Daily Register'!EG$3:EG$242)=TRUE,\"P\",\"A\")","v":"A"},{"$f":"IF(Attendance($C27,'Daily Register'!EH$3:EH$242)=TRUE,\"P\",\"A\")","v":"A"},{"$f":"IF(Attendance($C27,'Daily Register'!EI$3:EI$242)=TRUE,\"P\",\"A\")","v":"A"},{"$f":"IF(Attendance($C27,'Daily Register'!EJ$3:EJ$242)=TRUE,\"P\",\"A\")","v":"A"},{"$f":"IF(Attendance($C27,'Daily Register'!EK$3:EK$242)=TRUE,\"P\",\"A\")","v":"A"},{"$f":"IF(Attendance($C27,'Daily Register'!EL$3:EL$242)=TRUE,\"P\",\"A\")","v":"A"},{"$f":"IF(Attendance($C27,'Daily Register'!EM$22:EM$242)=TRUE,\"P\",\"A\")","v":"A"},{"$f":"IF(Attendance($C27,'Daily Register'!EN$3:EN$242)=TRUE,\"P\",\"A\")","v":"A"},{"$f":"IF(Attendance($C27,'Daily Register'!EO$3:EO$242)=TRUE,\"P\",\"A\")","v":"A"},{"$f":"IF(Attendance($C27,'Daily Register'!EP$3:EP$242)=TRUE,\"P\",\"A\")","v":"A"},{"$f":"IF(Attendance($C27,'Daily Register'!EQ$3:EQ$242)=TRUE,\"P\",\"A\")","v":"A"},{"$f":"IF(Attendance($C27,'Daily Register'!ER$3:ER$242)=TRUE,\"P\",\"A\")","v":"A"},{"$f":"IF(Attendance($C27,'Daily Register'!ES$3:ES$242)=TRUE,\"P\",\"A\")","v":"A"},{"$f":"IF(Attendance($C27,'Daily Register'!ET$3:ET$242)=TRUE,\"P\",\"A\")","v":"A"},{"$f":"IF(Attendance($C27,'Daily Register'!EU$3:EU$242)=TRUE,\"P\",\"A\")","v":"A"},{"$f":"IF(Attendance($C27,'Daily Register'!EV$3:EV$242)=TRUE,\"P\",\"A\")","v":"A"},{"$f":"IF(Attendance($C27,'Daily Register'!EW$3:EW$242)=TRUE,\"P\",\"A\")","v":"A"},{"$f":"IF(Attendance($C27,'Daily Register'!EX$3:EX$242)=TRUE,\"P\",\"A\")","v":"A"},{"$f":"IF(Attendance($C27,'Daily Register'!EY$3:EY$242)=TRUE,\"P\",\"A\")","v":"A"},{"$f":"IF(Attendance($C27,'Daily Register'!EZ$3:EZ$242)=TRUE,\"P\",\"A\")","v":"A"},{"$f":"IF(Attendance($C27,'Daily Register'!FA$3:FA$242)=TRUE,\"P\",\"A\")","v":"A"},{"$f":"IF(Attendance($C27,'Daily Register'!FB$3:FB$242)=TRUE,\"P\",\"A\")","v":"A"},{"$f":"IF(Attendance($C27,'Daily Register'!FC$3:FC$242)=TRUE,\"P\",\"A\")","v":"A"},{"$f":"IF(Attendance($C27,'Daily Register'!FD$3:FD$242)=TRUE,\"P\",\"A\")","v":"A"},{"$f":"IF(Attendance($C27,'Daily Register'!FE$3:FE$242)=TRUE,\"P\",\"A\")","v":"A"},{"$f":"IF(Attendance($C27,'Daily Register'!FF$3:FF$242)=TRUE,\"P\",\"A\")","v":"A"},{"$f":"IF(Attendance($C27,'Daily Register'!FG$3:FG$242)=TRUE,\"P\",\"A\")","v":"A"},{"$f":"IF(Attendance($C27,'Daily Register'!FH$3:FH$242)=TRUE,\"P\",\"A\")","v":"A"},{"$f":"IF(Attendance($C27,'Daily Register'!FI$3:FI$242)=TRUE,\"P\",\"A\")","v":"A"},{"$f":"IF(Attendance($C27,'Daily Register'!FJ$3:FJ$242)=TRUE,\"P\",\"A\")","v":"A"},{"$f":"IF(Attendance($C27,'Daily Register'!FK$3:FK$242)=TRUE,\"P\",\"A\")","v":"A"},{"$f":"IF(Attendance($C27,'Daily Register'!FL$3:FL$242)=TRUE,\"P\",\"A\")","v":"A"},{"$f":"IF(Attendance($C27,'Daily Register'!FM$3:FM$242)=TRUE,\"P\",\"A\")","v":"A"},{"$f":"IF(Attendance($C27,'Daily Register'!FN$3:FN$242)=TRUE,\"P\",\"A\")","v":"A"},{"$f":"IF(Attendance($C27,'Daily Register'!FO$3:FO$242)=TRUE,\"P\",\"A\")","v":"A"},{"$f":"IF(Attendance($C27,'Daily Register'!FP$3:FP$242)=TRUE,\"P\",\"A\")","v":"A"},{"$f":"IF(Attendance($C27,'Daily Register'!FQ$3:FQ$242)=TRUE,\"P\",\"A\")","v":"A"},{"$f":"IF(Attendance($C27,'Daily Register'!FR$3:FR$242)=TRUE,\"P\",\"A\")","v":"A"},{"$f":"IF(Attendance($C27,'Daily Register'!FS$3:FS$242)=TRUE,\"P\",\"A\")","v":"A"},{"$f":"IF(Attendance($C27,'Daily Register'!FT$3:FT$242)=TRUE,\"P\",\"A\")","v":"A"},{"$f":"IF(Attendance($C27,'Daily Register'!FU$3:FU$242)=TRUE,\"P\",\"A\")","v":"A"},{"$f":"IF(Attendance($C27,'Daily Register'!FV$3:FV$242)=TRUE,\"P\",\"A\")","v":"A"},{"$f":"IF(Attendance($C27,'Daily Register'!FW$3:FW$242)=TRUE,\"P\",\"A\")","v":"A"},{"$f":"IF(Attendance($C27,'Daily Register'!FX$3:FX$242)=TRUE,\"P\",\"A\")","v":"A"},{"$f":"IF(Attendance($C27,'Daily Register'!FY$3:FY$242)=TRUE,\"P\",\"A\")","v":"A"},{"$f":"IF(Attendance($C27,'Daily Register'!FZ$3:FZ$242)=TRUE,\"P\",\"A\")","v":"A"},{"$f":"IF(Attendance($C27,'Daily Register'!GA$3:GA$242)=TRUE,\"P\",\"A\")","v":"A"},{"$f":"IF(Attendance($C27,'Daily Register'!GB$3:GB$242)=TRUE,\"P\",\"A\")","v":"A"},{"$f":"IF(Attendance($C27,'Daily Register'!GC$3:GC$242)=TRUE,\"P\",\"A\")","v":"A"},{"$f":"IF(Attendance($C27,'Daily Register'!GD$3:GD$242)=TRUE,\"P\",\"A\")","v":"A"},{"$f":"IF(Attendance($C27,'Daily Register'!GE$3:GE$242)=TRUE,\"P\",\"A\")","v":"A"},{"$f":"IF(Attendance($C27,'Daily Register'!GF$3:GF$242)=TRUE,\"P\",\"A\")","v":"A"},{"$f":"IF(Attendance($C27,'Daily Register'!GG$3:GG$242)=TRUE,\"P\",\"A\")","v":"A"},{"$f":"IF(Attendance($C27,'Daily Register'!GH$3:GH$242)=TRUE,\"P\",\"A\")","v":"A"},{"$f":"IF(Attendance($C27,'Daily Register'!GI$3:GI$242)=TRUE,\"P\",\"A\")","v":"A"},{"$f":"IF(Attendance($C27,'Daily Register'!GJ$3:GJ$242)=TRUE,\"P\",\"A\")","v":"A"},{"$f":"IF(Attendance($C27,'Daily Register'!GK$3:GK$242)=TRUE,\"P\",\"A\")","v":"A"},{"$f":"IF(Attendance($C27,'Daily Register'!GL$3:GL$242)=TRUE,\"P\",\"A\")","v":"A"},{"$f":"IF(Attendance($C27,'Daily Register'!GM$3:GM$242)=TRUE,\"P\",\"A\")","v":"A"},{"$f":"IF(Attendance($C27,'Daily Register'!GN$3:GN$242)=TRUE,\"P\",\"A\")","v":"A"},{"$f":"IF(Attendance($C27,'Daily Register'!GO$3:GO$242)=TRUE,\"P\",\"A\")","v":"A"},{"$f":"IF(Attendance($C27,'Daily Register'!GP$3:GP$242)=TRUE,\"P\",\"A\")","v":"A"},{"$f":"IF(Attendance($C27,'Daily Register'!GQ$3:GQ$242)=TRUE,\"P\",\"A\")","v":"A"},{"$f":"IF(Attendance($C27,'Daily Register'!GR$3:GR$242)=TRUE,\"P\",\"A\")","v":"A"},{"$f":"IF(Attendance($C27,'Daily Register'!GS$3:GS$242)=TRUE,\"P\",\"A\")","v":"A"},{"$f":"IF(Attendance($C27,'Daily Register'!GT$3:GT$242)=TRUE,\"P\",\"A\")","v":"A"},{"$f":"IF(Attendance($C27,'Daily Register'!GU$3:GU$242)=TRUE,\"P\",\"A\")","v":"A"},{"$f":"IF(Attendance($C27,'Daily Register'!GV$3:GV$242)=TRUE,\"P\",\"A\")","v":"A"},{"$f":"IF(Attendance($C27,'Daily Register'!GW$3:GW$242)=TRUE,\"P\",\"A\")","v":"A"},{"$f":"IF(Attendance($C27,'Daily Register'!GX$3:GX$242)=TRUE,\"P\",\"A\")","v":"A"},{"$f":"IF(Attendance($C27,'Daily Register'!GY$3:GY$242)=TRUE,\"P\",\"A\")","v":"A"},{"$f":"IF(Attendance($C27,'Daily Register'!GZ$3:GZ$242)=TRUE,\"P\",\"A\")","v":"A"},{"$f":"IF(Attendance($C27,'Daily Register'!HA$3:HA$242)=TRUE,\"P\",\"A\")","v":"A"},{"$f":"IF(Attendance($C27,'Daily Register'!HB$3:HB$242)=TRUE,\"P\",\"A\")","v":"A"},{"$f":"IF(Attendance($C27,'Daily Register'!HC$3:HC$242)=TRUE,\"P\",\"A\")","v":"A"},{"$f":"IF(Attendance($C27,'Daily Register'!HD$3:HD$242)=TRUE,\"P\",\"A\")","v":"A"},{"$f":"IF(Attendance($C27,'Daily Register'!HE$3:HE$242)=TRUE,\"P\",\"A\")","v":"A"},{"$f":"IF(Attendance($C27,'Daily Register'!HF$3:HF$242)=TRUE,\"P\",\"A\")","v":"A"},{"$f":"IF(Attendance($C27,'Daily Register'!HG$3:HG$242)=TRUE,\"P\",\"A\")","v":"A"},{"$f":"IF(Attendance($C27,'Daily Register'!HH$3:HH$242)=TRUE,\"P\",\"A\")","v":"A"},{"$f":"IF(Attendance($C27,'Daily Register'!HI$3:HI$242)=TRUE,\"P\",\"A\")","v":"A"},{"$f":"IF(Attendance($C27,'Daily Register'!HJ$3:HJ$242)=TRUE,\"P\",\"A\")","v":"A"},{"$f":"IF(Attendance($C27,'Daily Register'!HK$3:HK$242)=TRUE,\"P\",\"A\")","v":"A"},{"$f":"IF(Attendance($C27,'Daily Register'!HL$3:HL$242)=TRUE,\"P\",\"A\")","v":"A"},{"$f":"IF(Attendance($C27,'Daily Register'!HM$3:HM$242)=TRUE,\"P\",\"A\")","v":"A"},{"$f":"IF(Attendance($C27,'Daily Register'!HN$3:HN$242)=TRUE,\"P\",\"A\")","v":"A"},{"$f":"IF(Attendance($C27,'Daily Register'!HO$3:HO$242)=TRUE,\"P\",\"A\")","v":"A"},{"$f":"IF(Attendance($C27,'Daily Register'!HP$3:HP$242)=TRUE,\"P\",\"A\")","v":"A"},{"$f":"IF(Attendance($C27,'Daily Register'!HQ$3:HQ$242)=TRUE,\"P\",\"A\")","v":"A"},{"$f":"IF(Attendance($C27,'Daily Register'!HR$3:HR$242)=TRUE,\"P\",\"A\")","v":"A"},{"$f":"IF(Attendance($C27,'Daily Register'!HS$3:HS$242)=TRUE,\"P\",\"A\")","v":"A"},{"$f":"IF(Attendance($C27,'Daily Register'!HT$3:HT$242)=TRUE,\"P\",\"A\")","v":"A"},{"$f":"IF(Attendance($C27,'Daily Register'!HU$3:HU$242)=TRUE,\"P\",\"A\")","v":"A"},{"$f":"IF(Attendance($C27,'Daily Register'!HV$3:HV$242)=TRUE,\"P\",\"A\")","v":"A"},{"$f":"IF(Attendance($C27,'Daily Register'!HW$3:HW$242)=TRUE,\"P\",\"A\")","v":"A"},{"$f":"IF(Attendance($C27,'Daily Register'!HX$3:HX$242)=TRUE,\"P\",\"A\")","v":"A"},{"$f":"IF(Attendance($C27,'Daily Register'!HY$3:HY$242)=TRUE,\"P\",\"A\")","v":"A"},{"$f":"IF(Attendance($C27,'Daily Register'!HZ$3:HZ$242)=TRUE,\"P\",\"A\")","v":"A"},{"$f":"IF(Attendance($C27,'Daily Register'!IA$3:IA$242)=TRUE,\"P\",\"A\")","v":"A"},{"$f":"IF(Attendance($C27,'Daily Register'!IB$3:IB$242)=TRUE,\"P\",\"A\")","v":"A"},{"$f":"IF(Attendance($C27,'Daily Register'!IC$3:IC$242)=TRUE,\"P\",\"A\")","v":"A"},{"$f":"IF(Attendance($C27,'Daily Register'!ID$3:ID$242)=TRUE,\"P\",\"A\")","v":"A"},{"$f":"IF(Attendance($C27,'Daily Register'!IE$3:IE$242)=TRUE,\"P\",\"A\")","v":"A"},{"$f":"IF(Attendance($C27,'Daily Register'!IF$3:IF$242)=TRUE,\"P\",\"A\")","v":"A"},{"$f":"IF(Attendance($C27,'Daily Register'!IG$3:IG$242)=TRUE,\"P\",\"A\")","v":"A"},{"$f":"IF(Attendance($C27,'Daily Register'!IH$3:IH$242)=TRUE,\"P\",\"A\")","v":"A"},{"$f":"IF(Attendance($C27,'Daily Register'!II$3:II$242)=TRUE,\"P\",\"A\")","v":"A"},{"$f":"IF(Attendance($C27,'Daily Register'!IJ$3:IJ$242)=TRUE,\"P\",\"A\")","v":"A"},{"$f":"IF(Attendance($C27,'Daily Register'!IK$3:IK$242)=TRUE,\"P\",\"A\")","v":"A"},{"$f":"IF(Attendance($C27,'Daily Register'!IL$3:IL$242)=TRUE,\"P\",\"A\")","v":"A"},{"$f":"IF(Attendance($C27,'Daily Register'!IM$3:IM$242)=TRUE,\"P\",\"A\")","v":"A"},{"$f":"IF(Attendance($C27,'Daily Register'!IN$3:IN$242)=TRUE,\"P\",\"A\")","v":"A"},{"$f":"IF(Attendance($C27,'Daily Register'!IO$3:IO$242)=TRUE,\"P\",\"A\")","v":"A"},{"$f":"IF(Attendance($C27,'Daily Register'!IP$3:IP$242)=TRUE,\"P\",\"A\")","v":"A"},{"$f":"IF(Attendance($C27,'Daily Register'!IQ$3:IQ$242)=TRUE,\"P\",\"A\")","v":"A"},{"$f":"IF(Attendance($C27,'Daily Register'!IR$3:IR$242)=TRUE,\"P\",\"A\")","v":"A"},{"$f":"IF(Attendance($C27,'Daily Register'!IS$3:IS$242)=TRUE,\"P\",\"A\")","v":"A"},{"$f":"IF(Attendance($C27,'Daily Register'!IT$3:IT$242)=TRUE,\"P\",\"A\")","v":"A"},{"$f":"IF(Attendance($C27,'Daily Register'!IU$3:IU$242)=TRUE,\"P\",\"A\")","v":"A"},{"$f":"IF(Attendance($C27,'Daily Register'!IV$3:IV$242)=TRUE,\"P\",\"A\")","v":"A"},{"$f":"IF(Attendance($C27,'Daily Register'!IW$3:IW$242)=TRUE,\"P\",\"A\")","v":"A"},{"$f":"IF(Attendance($C27,'Daily Register'!IX$3:IX$242)=TRUE,\"P\",\"A\")","v":"A"},{"$f":"IF(Attendance($C27,'Daily Register'!IY$3:IY$242)=TRUE,\"P\",\"A\")","v":"A"},{"$f":"IF(Attendance($C27,'Daily Register'!IZ$3:IZ$242)=TRUE,\"P\",\"A\")","v":"A"},{"$f":"IF(Attendance($C27,'Daily Register'!JA$3:JA$242)=TRUE,\"P\",\"A\")","v":"A"},{"$f":"IF(Attendance($C27,'Daily Register'!JB$3:JB$242)=TRUE,\"P\",\"A\")","v":"A"},{"$f":"IF(Attendance($C27,'Daily Register'!JC$3:JC$242)=TRUE,\"P\",\"A\")","v":"A"},{"$f":"IF(Attendance($C27,'Daily Register'!JD$3:JD$242)=TRUE,\"P\",\"A\")","v":"A"},{"$f":"IF(Attendance($C27,'Daily Register'!JE$3:JE$242)=TRUE,\"P\",\"A\")","v":"A"},{"$f":"IF(Attendance($C27,'Daily Register'!JF$3:JF$242)=TRUE,\"P\",\"A\")","v":"A"},{"$f":"IF(Attendance($C27,'Daily Register'!JG$3:JG$242)=TRUE,\"P\",\"A\")","v":"A"},{"$f":"IF(Attendance($C27,'Daily Register'!JH$3:JH$242)=TRUE,\"P\",\"A\")","v":"A"},{"$f":"IF(Attendance($C27,'Daily Register'!JI$3:JI$242)=TRUE,\"P\",\"A\")","v":"A"},{"$f":"IF(Attendance($C27,'Daily Register'!JJ$3:JJ$242)=TRUE,\"P\",\"A\")","v":"A"},{"$f":"IF(Attendance($C27,'Daily Register'!JK$3:JK$242)=TRUE,\"P\",\"A\")","v":"A"},{"$f":"IF(Attendance($C27,'Daily Register'!JL$3:JL$242)=TRUE,\"P\",\"A\")","v":"A"},{"$f":"IF(Attendance($C27,'Daily Register'!JM$3:JM$242)=TRUE,\"P\",\"A\")","v":"A"},{"$f":"IF(Attendance($C27,'Daily Register'!JN$3:JN$242)=TRUE,\"P\",\"A\")","v":"A"},{"$f":"IF(Attendance($C27,'Daily Register'!JO$3:JO$242)=TRUE,\"P\",\"A\")","v":"A"},{"$f":"IF(Attendance($C27,'Daily Register'!JP$3:JP$242)=TRUE,\"P\",\"A\")","v":"A"},{"$f":"IF(Attendance($C27,'Daily Register'!JQ$3:JQ$242)=TRUE,\"P\",\"A\")","v":"A"},{"$f":"IF(Attendance($C27,'Daily Register'!JR$3:JR$242)=TRUE,\"P\",\"A\")","v":"A"},{"$f":"IF(Attendance($C27,'Daily Register'!JS$3:JS$242)=TRUE,\"P\",\"A\")","v":"A"},{"$f":"IF(Attendance($C27,'Daily Register'!JT$3:JT$242)=TRUE,\"P\",\"A\")","v":"A"},{"$f":"IF(Attendance($C27,'Daily Register'!JU$3:JU$242)=TRUE,\"P\",\"A\")","v":"A"},{"$f":"IF(Attendance($C27,'Daily Register'!JV$3:JV$242)=TRUE,\"P\",\"A\")","v":"A"},{"$f":"IF(Attendance($C27,'Daily Register'!JW$3:JW$242)=TRUE,\"P\",\"A\")","v":"A"},{"$f":"IF(Attendance($C27,'Daily Register'!JX$3:JX$242)=TRUE,\"P\",\"A\")","v":"A"},{"$f":"IF(Attendance($C27,'Daily Register'!JY$3:JY$242)=TRUE,\"P\",\"A\")","v":"A"},{"$f":"IF(Attendance($C27,'Daily Register'!JZ$3:JZ$242)=TRUE,\"P\",\"A\")","v":"A"},{"$f":"IF(Attendance($C27,'Daily Register'!KA$3:KA$242)=TRUE,\"P\",\"A\")","v":"A"},{"$f":"IF(Attendance($C27,'Daily Register'!KB$3:KB$242)=TRUE,\"P\",\"A\")","v":"A"},{"$f":"IF(Attendance($C27,'Daily Register'!KC$3:KC$242)=TRUE,\"P\",\"A\")","v":"A"},{"$f":"IF(Attendance($C27,'Daily Register'!KD$3:KD$242)=TRUE,\"P\",\"A\")","v":"A"},{"$f":"IF(Attendance($C27,'Daily Register'!KE$3:KE$242)=TRUE,\"P\",\"A\")","v":"A"},{"$f":"IF(Attendance($C27,'Daily Register'!KF$3:KF$242)=TRUE,\"P\",\"A\")","v":"A"},{"$f":"IF(Attendance($C27,'Daily Register'!KG$3:KG$242)=TRUE,\"P\",\"A\")","v":"A"},{"$f":"IF(Attendance($C27,'Daily Register'!KH$3:KH$242)=TRUE,\"P\",\"A\")","v":"A"},{"$f":"IF(Attendance($C27,'Daily Register'!KI$3:KI$242)=TRUE,\"P\",\"A\")","v":"A"},{"$f":"IF(Attendance($C27,'Daily Register'!KJ$3:KJ$242)=TRUE,\"P\",\"A\")","v":"A"},{"$f":"IF(Attendance($C27,'Daily Register'!KK$3:KK$242)=TRUE,\"P\",\"A\")","v":"A"},{"$f":"IF(Attendance($C27,'Daily Register'!KL$3:KL$242)=TRUE,\"P\",\"A\")","v":"A"},{"$f":"IF(Attendance($C27,'Daily Register'!KM$3:KM$242)=TRUE,\"P\",\"A\")","v":"A"},{"$f":"IF(Attendance($C27,'Daily Register'!KN$3:KN$242)=TRUE,\"P\",\"A\")","v":"A"},{"$f":"IF(Attendance($C27,'Daily Register'!KO$3:KO$242)=TRUE,\"P\",\"A\")","v":"A"},{"$f":"IF(Attendance($C27,'Daily Register'!KP$3:KP$242)=TRUE,\"P\",\"A\")","v":"A"},{"$f":"IF(Attendance($C27,'Daily Register'!KQ$3:KQ$242)=TRUE,\"P\",\"A\")","v":"A"},{"$f":"IF(Attendance($C27,'Daily Register'!KR$3:KR$242)=TRUE,\"P\",\"A\")","v":"A"},{"$f":"IF(Attendance($C27,'Daily Register'!KS$3:KS$242)=TRUE,\"P\",\"A\")","v":"A"},{"$f":"IF(Attendance($C27,'Daily Register'!KT$3:KT$242)=TRUE,\"P\",\"A\")","v":"A"},{"$f":"IF(Attendance($C27,'Daily Register'!KU$3:KU$242)=TRUE,\"P\",\"A\")","v":"A"},{"$f":"IF(Attendance($C27,'Daily Register'!KV$3:KV$242)=TRUE,\"P\",\"A\")","v":"A"},{"$f":"IF(Attendance($C27,'Daily Register'!KW$3:KW$242)=TRUE,\"P\",\"A\")","v":"A"},{"$f":"IF(Attendance($C27,'Daily Register'!KX$3:KX$242)=TRUE,\"P\",\"A\")","v":"A"},{"$f":"IF(Attendance($C27,'Daily Register'!KY$3:KY$242)=TRUE,\"P\",\"A\")","v":"A"},{"$f":"IF(Attendance($C27,'Daily Register'!KZ$3:KZ$242)=TRUE,\"P\",\"A\")","v":"A"},{"$f":"IF(Attendance($C27,'Daily Register'!LA$3:LA$242)=TRUE,\"P\",\"A\")","v":"A"},{"$f":"IF(Attendance($C27,'Daily Register'!LB$3:LB$242)=TRUE,\"P\",\"A\")","v":"A"},{"$f":"IF(Attendance($C27,'Daily Register'!LC$3:LC$242)=TRUE,\"P\",\"A\")","v":"A"},{"$f":"IF(Attendance($C27,'Daily Register'!LD$3:LD$242)=TRUE,\"P\",\"A\")","v":"A"},{"$f":"IF(Attendance($C27,'Daily Register'!LE$3:LE$242)=TRUE,\"P\",\"A\")","v":"A"},{"$f":"IF(Attendance($C27,'Daily Register'!LF$3:LF$242)=TRUE,\"P\",\"A\")","v":"A"},{"$f":"IF(Attendance($C27,'Daily Register'!LG$3:LG$242)=TRUE,\"P\",\"A\")","v":"A"},{"$f":"IF(Attendance($C27,'Daily Register'!LH$3:LH$242)=TRUE,\"P\",\"A\")","v":"A"},{"$f":"IF(Attendance($C27,'Daily Register'!LI$3:LI$242)=TRUE,\"P\",\"A\")","v":"A"},{"$f":"IF(Attendance($C27,'Daily Register'!LJ$3:LJ$242)=TRUE,\"P\",\"A\")","v":"A"},{"$f":"IF(Attendance($C27,'Daily Register'!LK$3:LK$242)=TRUE,\"P\",\"A\")","v":"A"},{"$f":"IF(Attendance($C27,'Daily Register'!LL$3:LL$242)=TRUE,\"P\",\"A\")","v":"A"},{"$f":"IF(Attendance($C27,'Daily Register'!LM$3:LM$242)=TRUE,\"P\",\"A\")","v":"A"},{"$f":"IF(Attendance($C27,'Daily Register'!LN$3:LN$242)=TRUE,\"P\",\"A\")","v":"A"},{"$f":"IF(Attendance($C27,'Daily Register'!LO$3:LO$242)=TRUE,\"P\",\"A\")","v":"A"},{"$f":"IF(Attendance($C27,'Daily Register'!LP$3:LP$242)=TRUE,\"P\",\"A\")","v":"A"},{"$f":"IF(Attendance($C27,'Daily Register'!LQ$3:LQ$242)=TRUE,\"P\",\"A\")","v":"A"},{"$f":"IF(Attendance($C27,'Daily Register'!LR$3:LR$242)=TRUE,\"P\",\"A\")","v":"A"},{"$f":"IF(Attendance($C27,'Daily Register'!LS$3:LS$242)=TRUE,\"P\",\"A\")","v":"A"},{"$f":"IF(Attendance($C27,'Daily Register'!LT$3:LT$242)=TRUE,\"P\",\"A\")","v":"A"},{"$f":"IF(Attendance($C27,'Daily Register'!LU$3:LU$242)=TRUE,\"P\",\"A\")","v":"A"},{"$f":"IF(Attendance($C27,'Daily Register'!LV$3:LV$242)=TRUE,\"P\",\"A\")","v":"A"},{"$f":"IF(Attendance($C27,'Daily Register'!LW$3:LW$242)=TRUE,\"P\",\"A\")","v":"A"},{"$f":"IF(Attendance($C27,'Daily Register'!LX$3:LX$242)=TRUE,\"P\",\"A\")","v":"A"},{"$f":"IF(Attendance($C27,'Daily Register'!LY$3:LY$242)=TRUE,\"P\",\"A\")","v":"A"},{"$f":"IF(Attendance($C27,'Daily Register'!LZ$3:LZ$242)=TRUE,\"P\",\"A\")","v":"A"},{"$f":"IF(Attendance($C27,'Daily Register'!MA$3:MA$242)=TRUE,\"P\",\"A\")","v":"A"},{"$f":"IF(Attendance($C27,'Daily Register'!MB$3:MB$242)=TRUE,\"P\",\"A\")","v":"A"},{"$f":"IF(Attendance($C27,'Daily Register'!MC$3:MC$242)=TRUE,\"P\",\"A\")","v":"A"},{"$f":"IF(Attendance($C27,'Daily Register'!MD$3:MD$242)=TRUE,\"P\",\"A\")","v":"A"},{"$f":"IF(Attendance($C27,'Daily Register'!ME$3:ME$242)=TRUE,\"P\",\"A\")","v":"A"},{"$f":"IF(Attendance($C27,'Daily Register'!MF$3:MF$242)=TRUE,\"P\",\"A\")","v":"A"},{"$f":"IF(Attendance($C27,'Daily Register'!MG$3:MG$242)=TRUE,\"P\",\"A\")","v":"A"},{"$f":"IF(Attendance($C27,'Daily Register'!MH$3:MH$242)=TRUE,\"P\",\"A\")","v":"A"},{"$f":"IF(Attendance($C27,'Daily Register'!MI$3:MI$242)=TRUE,\"P\",\"A\")","v":"A"},{"$f":"IF(Attendance($C27,'Daily Register'!MJ$3:MJ$242)=TRUE,\"P\",\"A\")","v":"A"},{"$f":"IF(Attendance($C27,'Daily Register'!MK$3:MK$242)=TRUE,\"P\",\"A\")","v":"A"},{"$f":"IF(Attendance($C27,'Daily Register'!ML$3:ML$242)=TRUE,\"P\",\"A\")","v":"A"},{"$f":"IF(Attendance($C27,'Daily Register'!MM$3:MM$242)=TRUE,\"P\",\"A\")","v":"A"},{"$f":"IF(Attendance($C27,'Daily Register'!MN$3:MN$242)=TRUE,\"P\",\"A\")","v":"A"},{"$f":"IF(Attendance($C27,'Daily Register'!MO$3:MO$242)=TRUE,\"P\",\"A\")","v":"A"},{"$f":"IF(Attendance($C27,'Daily Register'!MP$3:MP$242)=TRUE,\"P\",\"A\")","v":"A"},{"$f":"IF(Attendance($C27,'Daily Register'!MQ$3:MQ$242)=TRUE,\"P\",\"A\")","v":"A"},{"$f":"IF(Attendance($C27,'Daily Register'!MR$3:MR$242)=TRUE,\"P\",\"A\")","v":"A"},{"$f":"IF(Attendance($C27,'Daily Register'!MS$3:MS$242)=TRUE,\"P\",\"A\")","v":"A"},{"$f":"IF(Attendance($C27,'Daily Register'!MT$3:MT$242)=TRUE,\"P\",\"A\")","v":"A"},{"$f":"IF(Attendance($C27,'Daily Register'!MU$3:MU$242)=TRUE,\"P\",\"A\")","v":"A"},{"$f":"IF(Attendance($C27,'Daily Register'!MV$3:MV$242)=TRUE,\"P\",\"A\")","v":"A"},{"$f":"IF(Attendance($C27,'Daily Register'!MW$3:MW$242)=TRUE,\"P\",\"A\")","v":"A"},{"$f":"IF(Attendance($C27,'Daily Register'!MX$3:MX$242)=TRUE,\"P\",\"A\")","v":"A"},{"$f":"IF(Attendance($C27,'Daily Register'!MY$3:MY$242)=TRUE,\"P\",\"A\")","v":"A"},{"$f":"IF(Attendance($C27,'Daily Register'!MZ$3:MZ$242)=TRUE,\"P\",\"A\")","v":"A"},{"$f":"IF(Attendance($C27,'Daily Register'!NA$3:NA$242)=TRUE,\"P\",\"A\")","v":"A"},{"$f":"IF(Attendance($C27,'Daily Register'!NB$3:NB$242)=TRUE,\"P\",\"A\")","v":"A"}]
[0,null,25,null,{"$f":"IF(Attendance($C28,'Daily Register'!A$3:A$242)=TRUE,\"P\",\"A\")","v":"A"},{"$f":"IF(Attendance($C28,'Daily Register'!B$3:B$242)=TRUE,\"P\",\"A\")","v":"A"},{"$f":"IF(Attendance($C28,'Daily Register'!C$3:C$242)=TRUE,\"P\",\"A\")","v":"A"},{"$f":"IF(Attendance($C28,'Daily Register'!D$3:D$242)=TRUE,\"P\",\"A\")","v":"A"},{"$f":"IF(Attendance($C28,'Daily Register'!E$3:E$242)=TRUE,\"P\",\"A\")","v":"A"},{"$f":"IF(Attendance($C28,'Daily Register'!F$3:F$242)=TRUE,\"P\",\"A\")","v":"A"},{"$f":"IF(Attendance($C28,'Daily Register'!G$3:G$242)=TRUE,\"P\",\"A\")","v":"A"},{"$f":"IF(Attendance($C28,'Daily Register'!H$3:H$242)=TRUE,\"P\",\"A\")","v":"A"},{"$f":"IF(Attendance($C28,'Daily Register'!I$3:I$242)=TRUE,\"P\",\"A\")","v":"A"},{"$f":"IF(Attendance($C28,'Daily Register'!J$3:J$242)=TRUE,\"P\",\"A\")","v":"A"},{"$f":"IF(Attendance($C28,'Daily Register'!K$3:K$242)=TRUE,\"P\",\"A\")","v":"A"},{"$f":"IF(Attendance($C28,'Daily Register'!L$3:L$242)=TRUE,\"P\",\"A\")","v":"A"},{"$f":"IF(Attendance($C28,'Daily Register'!M$3:M$242)=TRUE,\"P\",\"A\")","v":"A"},{"$f":"IF(Attendance($C28,'Daily Register'!N$3:N$242)=TRUE,\"P\",\"A\")","v":"A"},{"$f":"IF(Attendance($C28,'Daily Register'!O$3:O$242)=TRUE,\"P\",\"A\")","v":"A"},{"$f":"IF(Attendance($C28,'Daily Register'!P$3:P$242)=TRUE,\"P\",\"A\")","v":"A"},{"$f":"IF(Attendance($C28,'Daily Register'!Q$3:Q$242)=TRUE,\"P\",\"A\")","v":"A"},{"$f":"IF(Attendance($C28,'Daily Register'!R$3:R$242)=TRUE,\"P\",\"A\")","v":"A"},{"$f":"IF(Attendance($C28,'Daily Register'!S$3:S$242)=TRUE,\"P\",\"A\")","v":"A"},{"$f":"IF(Attendance($C28,'Daily Register'!T$3:T$242)=TRUE,\"P\",\"A\")","v":"A"},{"$f":"IF(Attendance($C28,'Daily Register'!U$3:U$242)=TRUE,\"P\",\"A\")","v":"A"},{"$f":"IF(Attendance($C28,'Daily Register'!V$3:V$242)=TRUE,\"P\",\"A\")","v":"A"},{"$f":"IF(Attendance($C28,'Daily Register'!W$3:W$242)=TRUE,\"P\",\"A\")","v":"A"},{"$f":"IF(Attendance($C28,'Daily Register'!X$3:X$242)=TRUE,\"P\",\"A\")","v":"A"},{"$f":"IF(Attendance($C28,'Daily Register'!Y$3:Y$242)=TRUE,\"P\",\"A\")","v":"A"},{"$f":"IF(Attendance($C28,'Daily Register'!Z$3:Z$242)=TRUE,\"P\",\"A\")","v":"A"},{"$f":"IF(Attendance($C28,'Daily Register'!AA$3:AA$242)=TRUE,\"P\",\"A\")","v":"A"},{"$f":"IF(Attendance($C28,'Daily Register'!AB$3:AB$242)=TRUE,\"P\",\"A\")","v":"A"},{"$f":"IF(Attendance($C28,'Daily Register'!AC$3:AC$242)=TRUE,\"P\",\"A\")","v":"A"},{"$f":"IF(Attendance($C28,'Daily Register'!AD$3:AD$242)=TRUE,\"P\",\"A\")","v":"A"},{"$f":"IF(Attendance($C28,'Daily Register'!AE$3:AE$242)=TRUE,\"P\",\"A\")","v":"A"},{"$f":"IF(Attendance($C28,'Daily Register'!AF$3:AF$242)=TRUE,\"P\",\"A\")","v":"A"},{"$f":"IF(Attendance($C28,'Daily Register'!AG$3:AG$242)=TRUE,\"P\",\"A\")","v":"A"},{"$f":"IF(Attendance($C28,'Daily Register'!AH$3:AH$242)=TRUE,\"P\",\"A\")","v":"A"},{"$f":"IF(Attendance($C28,'Daily Register'!AI$3:AI$242)=TRUE,\"P\",\"A\")","v":"A"},{"$f":"IF(Attendance($C28,'Daily Register'!AJ$3:AJ$242)=TRUE,\"P\",\"A\")","v":"A"},{"$f":"IF(Attendance($C28,'Daily Register'!AK$3:AK$242)=TRUE,\"P\",\"A\")","v":"A"},{"$f":"IF(Attendance($C28,'Daily Register'!AL$3:AL$242)=TRUE,\"P\",\"A\")","v":"A"},{"$f":"IF(Attendance($C28,'Daily Register'!AM$3:AM$242)=TRUE,\"P\",\"A\")","v":"A"},{"$f":"IF(Attendance($C28,'Daily Register'!AN$3:AN$242)=TRUE,\"P\",\"A\")","v":"A"},{"$f":"IF(Attendance($C28,'Daily Register'!AO$3:AO$242)=TRUE,\"P\",\"A\")","v":"A"},{"$f":"IF(Attendance($C28,'Daily Register'!AP$3:AP$242)=TRUE,\"P\",\"A\")","v":"A"},{"$f":"IF(Attendance($C28,'Daily Register'!AQ$3:AQ$242)=TRUE,\"P\",\"A\")","v":"A"},{"$f":"IF(Attendance($C28,'Daily Register'!AR$3:AR$242)=TRUE,\"P\",\"A\")","v":"A"},{"$f":"IF(Attendance($C28,'Daily Register'!AS$3:AS$242)=TRUE,\"P\",\"A\")","v":"A"},{"$f":"IF(Attendance($C28,'Daily Register'!AT$3:AT$242)=TRUE,\"P\",\"A\")","v":"A"},{"$f":"IF(Attendance($C28,'Daily Register'!AU$3:AU$242)=TRUE,\"P\",\"A\")","v":"A"},{"$f":"IF(Attendance($C28,'Daily Register'!AV$3:AV$242)=TRUE,\"P\",\"A\")","v":"A"},{"$f":"IF(Attendance($C28,'Daily Register'!AW$3:AW$242)=TRUE,\"P\",\"A\")","v":"A"},{"$f":"IF(Attendance($C28,'Daily Register'!AX$3:AX$242)=TRUE,\"P\",\"A\")","v":"A"},{"$f":"IF(Attendance($C28,'Daily Register'!AY$3:AY$242)=TRUE,\"P\",\"A\")","v":"A"},{"$f":"IF(Attendance($C28,'Daily Register'!AZ$3:AZ$242)=TRUE,\"P\",\"A\")","v":"A"},{"$f":"IF(Attendance($C28,'Daily Register'!BA$3:BA$242)=TRUE,\"P\",\"A\")","v":"A"},{"$f":"IF(Attendance($C28,'Daily Register'!BB$3:BB$242)=TRUE,\"P\",\"A\")","v":"A"},{"$f":"IF(Attendance($C28,'Daily Register'!BC$3:BC$242)=TRUE,\"P\",\"A\")","v":"A"},{"$f":"IF(Attendance($C28,'Daily Register'!BD$3:BD$242)=TRUE,\"P\",\"A\")","v":"A"},{"$f":"IF(Attendance($C28,'Daily Register'!BE$3:BE$242)=TRUE,\"P\",\"A\")","v":"A"},{"$f":"IF(Attendance($C28,'Daily Register'!BF$3:BF$242)=TRUE,\"P\",\"A\")","v":"A"},{"$f":"IF(Attendance($C28,'Daily Register'!BG$3:BG$242)=TRUE,\"P\",\"A\")","v":"A"},{"$f":"IF(Attendance($C28,'Daily Register'!BH$3:BH$242)=TRUE,\"P\",\"A\")","v":"A"},{"$f":"IF(Attendance($C28,'Daily Register'!BI$3:BI$242)=TRUE,\"P\",\"A\")","v":"A"},{"$f":"IF(Attendance($C28,'Daily Register'!BJ$3:BJ$242)=TRUE,\"P\",\"A\")","v":"A"},{"$f":"IF(Attendance($C28,'Daily Register'!BK$3:BK$242)=TRUE,\"P\",\"A\")","v":"A"},{"$f":"IF(Attendance($C28,'Daily Register'!BL$3:BL$242)=TRUE,\"P\",\"A\")","v":"A"},{"$f":"IF(Attendance($C28,'Daily Register'!BM$3:BM$242)=TRUE,\"P\",\"A\")","v":"A"},{"$f":"IF(Attendance($C28,'Daily Register'!BN$3:BN$242)=TRUE,\"P\",\"A\")","v":"A"},{"$f":"IF(Attendance($C28,'Daily Register'!BO$3:BO$242)=TRUE,\"P\",\"A\")","v":"A"},{"$f":"IF(Attendance($C28,'Daily Register'!BP$3:BP$242)=TRUE,\"P\",\"A\")","v":"A"},{"$f":"IF(Attendance($C28,'Daily Register'!BQ$3:BQ$242)=TRUE,\"P\",\"A\")","v":"A"},{"$f":"IF(Attendance($C28,'Daily Register'!BR$3:BR$242)=TRUE,\"P\",\"A\")","v":"A"},{"$f":"IF(Attendance($C28,'Daily Register'!BS$3:BS$242)=TRUE,\"P\",\"A\")","v":"A"},{"$f":"IF(Attendance($C28,'Daily Register'!BT$3:BT$242)=TRUE,\"P\",\"A\")","v":"A"},{"$f":"IF(Attendance($C28,'Daily Register'!BU$3:BU$242)=TRUE,\"P\",\"A\")","v":"A"},{"$f":"IF(Attendance($C28,'Daily Register'!BV$3:BV$242)=TRUE,\"P\",\"A\")","v":"A"},{"$f":"IF(Attendance($C28,'Daily Register'!BW$3:BW$242)=TRUE,\"P\",\"A\")","v":"A"},{"$f":"IF(Attendance($C28,'Daily Register'!BX$3:BX$242)=TRUE,\"P\",\"A\")","v":"A"},{"$f":"IF(Attendance($C28,'Daily Register'!BY$3:BY$242)=TRUE,\"P\",\"A\")","v":"A"},{"$f":"IF(Attendance($C28,'Daily Register'!BZ$3:BZ$242)=TRUE,\"P\",\"A\")","v":"A"},{"$f":"IF(Attendance($C28,'Daily Register'!CA$3:CA$242)=TRUE,\"P\",\"A\")","v":"A"},{"$f":"IF(Attendance($C28,'Daily Register'!CB$3:CB$242)=TRUE,\"P\",\"A\")","v":"A"},{"$f":"IF(Attendance($C28,'Daily Register'!CC$3:CC$242)=TRUE,\"P\",\"A\")","v":"A"},{"$f":"IF(Attendance($C28,'Daily Register'!CD$3:CD$242)=TRUE,\"P\",\"A\")","v":"A"},{"$f":"IF(Attendance($C28,'Daily Register'!CE$3:CE$242)=TRUE,\"P\",\"A\")","v":"A"},{"$f":"IF(Attendance($C28,'Daily Register'!CF$3:CF$242)=TRUE,\"P\",\"A\")","v":"A"},{"$f":"IF(Attendance($C28,'Daily Register'!CG$3:CG$242)=TRUE,\"P\",\"A\")","v":"A"},{"$f":"IF(Attendance($C28,'Daily Register'!CH$3:CH$242)=TRUE,\"P\",\"A\")","v":"A"},{"$f":"IF(Attendance($C28,'Daily Register'!CI$3:CI$242)=TRUE,\"P\",\"A\")","v":"A"},{"$f":"IF(Attendance($C28,'Daily Register'!CJ$3:CJ$242)=TRUE,\"P\",\"A\")","v":"A"},{"$f":"IF(Attendance($C28,'Daily Register'!CK$3:CK$242)=TRUE,\"P\",\"A\")","v":"A"},{"$f":"IF(Attendance($C28,'Daily Register'!CL$3:CL$242)=TRUE,\"P\",\"A\")","v":"A"},{"$f":"IF(Attendance($C28,'Daily Register'!CM$3:CM$242)=TRUE,\"P\",\"A\")","v":"A"},{"$f":"IF(Attendance($C28,'Daily Register'!CN$3:CN$242)=TRUE,\"P\",\"A\")","v":"A"},{"$f":"IF(Attendance($C28,'Daily Register'!CO$3:CO$242)=TRUE,\"P\",\"A\")","v":"A"},{"$f":"IF(Attendance($C28,'Daily Register'!CP$3:CP$242)=TRUE,\"P\",\"A\")","v":"A"},{"$f":"IF(Attendance($C28,'Daily Register'!CQ$3:CQ$242)=TRUE,\"P\",\"A\")","v":"A"},{"$f":"IF(Attendance($C28,'Daily Register'!CR$3:CR$242)=TRUE,\"P\",\"A\")","v":"A"},{"$f":"IF(Attendance($C28,'Daily Register'!CS$3:CS$242)=TRUE,\"P\",\"A\")","v":"A"},{"$f":"IF(Attendance($C28,'Daily Register'!CT$3:CT$242)=TRUE,\"P\",\"A\")","v":"A"},{"$f":"IF(Attendance($C28,'Daily Register'!CU$3:CU$242)=TRUE,\"P\",\"A\")","v":"A"},{"$f":"IF(Attendance($C28,'Daily Register'!CV$3:CV$242)=TRUE,\"P\",\"A\")","v":"A"},{"$f":"IF(Attendance($C28,'Daily Register'!CW$3:CW$242)=TRUE,\"P\",\"A\")","v":"A"},{"$f":"IF(Attendance($C28,'Daily Register'!CX$3:CX$242)=TRUE,\"P\",\"A\")","v":"A"},{"$f":"IF(Attendance($C28,'Daily Register'!CY$3:CY$242)=TRUE,\"P\",\"A\")","v":"A"},{"$f":"IF(Attendance($C28,'Daily Register'!CZ$3:CZ$242)=TRUE,\"P\",\"A\")","v":"A"},{"$f":"IF(Attendance($C28,'Daily Register'!DA$3:DA$242)=TRUE,\"P\",\"A\")","v":"A"},{"$f":"IF(Attendance($C28,'Daily Register'!DB$3:DB$242)=TRUE,\"P\",\"A\")","v":"A"},{"$f":"IF(Attendance($C28,'Daily Register'!DC$3:DC$242)=TRUE,\"P\",\"A\")","v":"A"},{"$f":"IF(Attendance($C28,'Daily Register'!DD$3:DD$242)=TRUE,\"P\",\"A\")","v":"A"},{"$f":"IF(Attendance($C28,'Daily Register'!DE$3:DE$242)=TRUE,\"P\",\"A\")","v":"A"},{"$f":"IF(Attendance($C28,'Daily Register'!DF$3:DF$242)=TRUE,\"P\",\"A\")","v":"A"},{"$f":"IF(Attendance($C28,'Daily Register'!DG$3:DG$242)=TRUE,\"P\",\"A\")","v":"A"},{"$f":"IF(Attendance($C28,'Daily Register'!DH$3:DH$242)=TRUE,\"P\",\"A\")","v":"A"},{"$f":"IF(Attendance($C28,'Daily Register'!DI$3:DI$242)=TRUE,\"P\",\"A\")","v":"A"},{"$f":"IF(Attendance($C28,'Daily Register'!DJ$3:DJ$242)=TRUE,\"P\",\"A\")","v":"A"},{"$f":"IF(Attendance($C28,'Daily Register'!DK$3:DK$242)=TRUE,\"P\",\"A\")","v":"A"},{"$f":"IF(Attendance($C28,'Daily Register'!DL$3:DL$242)=TRUE,\"P\",\"A\")","v":"A"},{"$f":"IF(Attendance($C28,'Daily Register'!DM$3:DM$242)=TRUE,\"P\",\"A\")","v":"A"},{"$f":"IF(Attendance($C28,'Daily Register'!DN$3:DN$242)=TRUE,\"P\",\"A\")","v":"A"},{"$f":"IF(Attendance($C28,'Daily Register'!DO$3:DO$242)=TRUE,\"P\",\"A\")","v":"A"},{"$f":"IF(Attendance($C28,'Daily Register'!DP$3:DP$242)=TRUE,\"P\",\"A\")","v":"A"},{"$f":"IF(Attendance($C28,'Daily Register'!DQ$3:DQ$242)=TRUE,\"P\",\"A\")","v":"A"},{"$f":"IF(Attendance($C28,'Daily Register'!DR$3:DR$242)=TRUE,\"P\",\"A\")","v":"A"},{"$f":"IF(Attendance($C28,'Daily Register'!DS$3:DS$242)=TRUE,\"P\",\"A\")","v":"A"},{"$f":"IF(Attendance($C28,'Daily Register'!DT$3:DT$242)=TRUE,\"P\",\"A\")","v":"A"},{"$f":"IF(Attendance($C28,'Daily Register'!DU$3:DU$242)=TRUE,\"P\",\"A\")","v":"A"},{"$f":"IF(Attendance($C28,'Daily Register'!DV$3:DV$242)=TRUE,\"P\",\"A\")","v":"A"},{"$f":"IF(Attendance($C28,'Daily Register'!DW$3:DW$242)=TRUE,\"P\",\"A\")","v":"A"},{"$f":"IF(Attendance($C28,'Daily Register'!DX$3:DX$242)=TRUE,\"P\",\"A\")","v":"A"},{"$f":"IF(Attendance($C28,'Daily Register'!DY$3:DY$242)=TRUE,\"P\",\"A\")","v":"A"},{"$f":"IF(Attendance($C28,'Daily Register'!DZ$3:DZ$242)=TRUE,\"P\",\"A\")","v":"A"},{"$f":"IF(Attendance($C28,'Daily Register'!EA$3:EA$242)=TRUE,\"P\",\"A\")","v":"A"},{"$f":"IF(Attendance($C28,'Daily Register'!EB$3:EB$242)=TRUE,\"P\",\"A\")","v":"A"},{"$f":"IF(Attendance($C28,'Daily Register'!EC$3:EC$242)=TRUE,\"P\",\"A\")","v":"A"},{"$f":"IF(Attendance($C28,'Daily Register'!ED$3:ED$242)=TRUE,\"P\",\"A\")","v":"A"},{"$f":"IF(Attendance($C28,'Daily Register'!EE$3:EE$242)=TRUE,\"P\",\"A\")","v":"A"},{"$f":"IF(Attendance($C28,'Daily Register'!EF$3:EF$242)=TRUE,\"P\",\"A\")","v":"A"},{"$f":"IF(Attendance($C28,'Daily Register'!EG$3:EG$242)=TRUE,\"P\",\"A\")","v":"A"},{"$f":"IF(Attendance($C28,'Daily Register'!EH$3:EH$242)=TRUE,\"P\",\"A\")","v":"A"},{"$f":"IF(Attendance($C28,'Daily Register'!EI$3:EI$242)=TRUE,\"P\",\"A\")","v":"A"},{"$f":"IF(Attendance($C28,'Daily Register'!EJ$3:EJ$242)=TRUE,\"P\",\"A\")","v":"A"},{"$f":"IF(Attendance($C28,'Daily Register'!EK$3:EK$242)=TRUE,\"P\",\"A\")","v":"A"},{"$f":"IF(Attendance($C28,'Daily Register'!EL$3:EL$242)=TRUE,\"P\",\"A\")","v":"A"},{"$f":"IF(Attendance($C28,'Daily Register'!EM$22:EM$242)=TRUE,\"P\",\"A\")","v":"A"},{"$f":"IF(Attendance($C28,'Daily Register'!EN$3:EN$242)=TRUE,\"P\",\"A\")","v":"A"},{"$f":"IF(Attendance($C28,'Daily Register'!EO$3:EO$242)=TRUE,\"P\",\"A\")","v":"A"},{"$f":"IF(Attendance($C28,'Daily Register'!EP$3:EP$242)=TRUE,\"P\",\"A\")","v":"A"},{"$f":"IF(Attendance($C28,'Daily Register'!EQ$3:EQ$242)=TRUE,\"P\",\"A\")","v":"A"},{"$f":"IF(Attendance($C28,'Daily Register'!ER$3:ER$242)=TRUE,\"P\",\"A\")","v":"A"},{"$f":"IF(Attendance($C28,'Daily Register'!ES$3:ES$242)=TRUE,\"P\",\"A\")","v":"A"},{"$f":"IF(Attendance($C28,'Daily Register'!ET$3:ET$242)=TRUE,\"P\",\"A\")","v":"A"},{"$f":"IF(Attendance($C28,'Daily Register'!EU$3:EU$242)=TRUE,\"P\",\"A\")","v":"A"},{"$f":"IF(Attendance($C28,'Daily Register'!EV$3:EV$242)=TRUE,\"P\",\"A\")","v":"A"},{"$f":"IF(Attendance($C28,'Daily Register'!EW$3:EW$242)=TRUE,\"P\",\"A\")","v":"A"},{"$f":"IF(Attendance($C28,'Daily Register'!EX$3:EX$242)=TRUE,\"P\",\"A\")","v":"A"},{"$f":"IF(Attendance($C28,'Daily Register'!EY$3:EY$242)=TRUE,\"P\",\"A\")","v":"A"},{"$f":"IF(Attendance($C28,'Daily Register'!EZ$3:EZ$242)=TRUE,\"P\",\"A\")","v":"A"},{"$f":"IF(Attendance($C28,'Daily Register'!FA$3:FA$242)=TRUE,\"P\",\"A\")","v":"A"},{"$f":"IF(Attendance($C28,'Daily Register'!FB$3:FB$242)=TRUE,\"P\",\"A\")","v":"A"},{"$f":"IF(Attendance($C28,'Daily Register'!FC$3:FC$242)=TRUE,\"P\",\"A\")","v":"A"},{"$f":"IF(Attendance($C28,'Daily Register'!FD$3:FD$242)=TRUE,\"P\",\"A\")","v":"A"},{"$f":"IF(Attendance($C28,'Daily Register'!FE$3:FE$242)=TRUE,\"P\",\"A\")","v":"A"},{"$f":"IF(Attendance($C28,'Daily Register'!FF$3:FF$242)=TRUE,\"P\",\"A\")","v":"A"},{"$f":"IF(Attendance($C28,'Daily Register'!FG$3:FG$242)=TRUE,\"P\",\"A\")","v":"A"},{"$f":"IF(Attendance($C28,'Daily Register'!FH$3:FH$242)=TRUE,\"P\",\"A\")","v":"A"},{"$f":"IF(Attendance($C28,'Daily Register'!FI$3:FI$242)=TRUE,\"P\",\"A\")","v":"A"},{"$f":"IF(Attendance($C28,'Daily Register'!FJ$3:FJ$242)=TRUE,\"P\",\"A\")","v":"A"},{"$f":"IF(Attendance($C28,'Daily Register'!FK$3:FK$242)=TRUE,\"P\",\"A\")","v":"A"},{"$f":"IF(Attendance($C28,'Daily Register'!FL$3:FL$242)=TRUE,\"P\",\"A\")","v":"A"},{"$f":"IF(Attendance($C28,'Daily Register'!FM$3:FM$242)=TRUE,\"P\",\"A\")","v":"A"},{"$f":"IF(Attendance($C28,'Daily Register'!FN$3:FN$242)=TRUE,\"P\",\"A\")","v":"A"},{"$f":"IF(Attendance($C28,'Daily Register'!FO$3:FO$242)=TRUE,\"P\",\"A\")","v":"A"},{"$f":"IF(Attendance($C28,'Daily Register'!FP$3:FP$242)=TRUE,\"P\",\"A\")","v":"A"},{"$f":"IF(Attendance($C28,'Daily Register'!FQ$3:FQ$242)=TRUE,\"P\",\"A\")","v":"A"},{"$f":"IF(Attendance($C28,'Daily Register'!FR$3:FR$242)=TRUE,\"P\",\"A\")","v":"A"},{"$f":"IF(Attendance($C28,'Daily Register'!FS$3:FS$242)=TRUE,\"P\",\"A\")","v":"A"},{"$f":"IF(Attendance($C28,'Daily Register'!FT$3:FT$242)=TRUE,\"P\",\"A\")","v":"A"},{"$f":"IF(Attendance($C28,'Daily Register'!FU$3:FU$242)=TRUE,\"P\",\"A\")","v":"A"},{"$f":"IF(Attendance($C28,'Daily Register'!FV$3:FV$242)=TRUE,\"P\",\"A\")","v":"A"},{"$f":"IF(Attendance($C28,'Daily Register'!FW$3:FW$242)=TRUE,\"P\",\"A\")","v":"A"},{"$f":"IF(Attendance($C28,'Daily Register'!FX$3:FX$242)=TRUE,\"P\",\"A\")","v":"A"},{"$f":"IF(Attendance($C28,'Daily Register'!FY$3:FY$242)=TRUE,\"P\",\"A\")","v":"A"},{"$f":"IF(Attendance($C28,'Daily Register'!FZ$3:FZ$242)=TRUE,\"P\",\"A\")","v":"A"},{"$f":"IF(Attendance($C28,'Daily Register'!GA$3:GA$242)=TRUE,\"P\",\"A\")","v":"A"},{"$f":"IF(Attendance($C28,'Daily Register'!GB$3:GB$242)=TRUE,\"P\",\"A\")","v":"A"},{"$f":"IF(Attendance($C28,'Daily Register'!GC$3:GC$242)=TRUE,\"P\",\"A\")","v":"A"},{"$f":"IF(Attendance($C28,'Daily Register'!GD$3:GD$242)=TRUE,\"P\",\"A\")","v":"A"},{"$f":"IF(Attendance($C28,'Daily Register'!GE$3:GE$242)=TRUE,\"P\",\"A\")","v":"A"},{"$f":"IF(Attendance($C28,'Daily Register'!GF$3:GF$242)=TRUE,\"P\",\"A\")","v":"A"},{"$f":"IF(Attendance($C28,'Daily Register'!GG$3:GG$242)=TRUE,\"P\",\"A\")","v":"A"},{"$f":"IF(Attendance($C28,'Daily Register'!GH$3:GH$242)=TRUE,\"P\",\"A\")","v":"A"},{"$f":"IF(Attendance($C28,'Daily Register'!GI$3:GI$242)=TRUE,\"P\",\"A\")","v":"A"},{"$f":"IF(Attendance($C28,'Daily Register'!GJ$3:GJ$242)=TRUE,\"P\",\"A\")","v":"A"},{"$f":"IF(Attendance($C28,'Daily Register'!GK$3:GK$242)=TRUE,\"P\",\"A\")","v":"A"},{"$f":"IF(Attendance($C28,'Daily Register'!GL$3:GL$242)=TRUE,\"P\",\"A\")","v":"A"},{"$f":"IF(Attendance($C28,'Daily Register'!GM$3:GM$242)=TRUE,\"P\",\"A\")","v":"A"},{"$f":"IF(Attendance($C28,'Daily Register'!GN$3:GN$242)=TRUE,\"P\",\"A\")","v":"A"},{"$f":"IF(Attendance($C28,'Daily Register'!GO$3:GO$242)=TRUE,\"P\",\"A\")","v":"A"},{"$f":"IF(Attendance($C28,'Daily Register'!GP$3:GP$242)=TRUE,\"P\",\"A\")","v":"A"},{"$f":"IF(Attendance($C28,'Daily Register'!GQ$3:GQ$242)=TRUE,\"P\",\"A\")","v":"A"},{"$f":"IF(Attendance($C28,'Daily Register'!GR$3:GR$242)=TRUE,\"P\",\"A\")","v":"A"},{"$f":"IF(Attendance($C28,'Daily Register'!GS$3:GS$242)=TRUE,\"P\",\"A\")","v":"A"},{"$f":"IF(Attendance($C28,'Daily Register'!GT$3:GT$242)=TRUE,\"P\",\"A\")","v":"A"},{"$f":"IF(Attendance($C28,'Daily Register'!GU$3:GU$242)=TRUE,\"P\",\"A\")","v":"A"},{"$f":"IF(Attendance($C28,'Daily Register'!GV$3:GV$242)=TRUE,\"P\",\"A\")","v":"A"},{"$f":"IF(Attendance($C28,'Daily Register'!GW$3:GW$242)=TRUE,\"P\",\"A\")","v":"A"},{"$f":"IF(Attendance($C28,'Daily Register'!GX$3:GX$242)=TRUE,\"P\",\"A\")","v":"A"},{"$f":"IF(Attendance($C28,'Daily Register'!GY$3:GY$242)=TRUE,\"P\",\"A\")","v":"A"},{"$f":"IF(Attendance($C28,'Daily Register'!GZ$3:GZ$242)=TRUE,\"P\",\"A\")","v":"A"},{"$f":"IF(Attendance($C28,'Daily Register'!HA$3:HA$242)=TRUE,\"P\",\"A\")","v":"A"},{"$f":"IF(Attendance($C28,'Daily Register'!HB$3:HB$242)=TRUE,\"P\",\"A\")","v":"A"},{"$f":"IF(Attendance($C28,'Daily Register'!HC$3:HC$242)=TRUE,\"P\",\"A\")","v":"A"},{"$f":"IF(Attendance($C28,'Daily Register'!HD$3:HD$242)=TRUE,\"P\",\"A\")","v":"A"},{"$f":"IF(Attendance($C28,'Daily Register'!HE$3:HE$242)=TRUE,\"P\",\"A\")","v":"A"},{"$f":"IF(Attendance($C28,'Daily Register'!HF$3:HF$242)=TRUE,\"P\",\"A\")","v":"A"},{"$f":"IF(Attendance($C28,'Daily Register'!HG$3:HG$242)=TRUE,\"P\",\"A\")","v":"A"},{"$f":"IF(Attendance($C28,'Daily Register'!HH$3:HH$242)=TRUE,\"P\",\"A\")","v":"A"},{"$f":"IF(Attendance($C28,'Daily Register'!HI$3:HI$242)=TRUE,\"P\",\"A\")","v":"A"},{"$f":"IF(Attendance($C28,'Daily Register'!HJ$3:HJ$242)=TRUE,\"P\",\"A\")","v":"A"},{"$f":"IF(Attendance($C28,'Daily Register'!HK$3:HK$242)=TRUE,\"P\",\"A\")","v":"A"},{"$f":"IF(Attendance($C28,'Daily Register'!HL$3:HL$242)=TRUE,\"P\",\"A\")","v":"A"},{"$f":"IF(Attendance($C28,'Daily Register'!HM$3:HM$242)=TRUE,\"P\",\"A\")","v":"A"},{"$f":"IF(Attendance($C28,'Daily Register'!HN$3:HN$242)=TRUE,\"P\",\"A\")","v":"A"},{"$f":"IF(Attendance($C28,'Daily Register'!HO$3:HO$242)=TRUE,\"P\",\"A\")","v":"A"},{"$f":"IF(Attendance($C28,'Daily Register'!HP$3:HP$242)=TRUE,\"P\",\"A\")","v":"A"},{"$f":"IF(Attendance($C28,'Daily Register'!HQ$3:HQ$242)=TRUE,\"P\",\"A\")","v":"A"},{"$f":"IF(Attendance($C28,'Daily Register'!HR$3:HR$242)=TRUE,\"P\",\"A\")","v":"A"},{"$f":"IF(Attendance($C28,'Daily Register'!HS$3:HS$242)=TRUE,\"P\",\"A\")","v":"A"},{"$f":"IF(Attendance($C28,'Daily Register'!HT$3:HT$242)=TRUE,\"P\",\"A\")","v":"A"},{"$f":"IF(Attendance($C28,'Daily Register'!HU$3:HU$242)=TRUE,\"P\",\"A\")","v":"A"},{"$f":"IF(Attendance($C28,'Daily Register'!HV$3:HV$242)=TRUE,\"P\",\"A\")","v":"A"},{"$f":"IF(Attendance($C28,'Daily Register'!HW$3:HW$242)=TRUE,\"P\",\"A\")","v":"A"},{"$f":"IF(Attendance($C28,'Daily Register'!HX$3:HX$242)=TRUE,\"P\",\"A\")","v":"A"},{"$f":"IF(Attendance($C28,'Daily Register'!HY$3:HY$242)=TRUE,\"P\",\"A\")","v":"A"},{"$f":"IF(Attendance($C28,'Daily Register'!HZ$3:HZ$242)=TRUE,\"P\",\"A\")","v":"A"},{"$f":"IF(Attendance($C28,'Daily Register'!IA$3:IA$242)=TRUE,\"P\",\"A\")","v":"A"},{"$f":"IF(Attendance($C28,'Daily Register'!IB$3:IB$242)=TRUE,\"P\",\"A\")","v":"A"},{"$f":"IF(Attendance($C28,'Daily Register'!IC$3:IC$242)=TRUE,\"P\",\"A\")","v":"A"},{"$f":"IF(Attendance($C28,'Daily Register'!ID$3:ID$242)=TRUE,\"P\",\"A\")","v":"A"},{"$f":"IF(Attendance($C28,'Daily Register'!IE$3:IE$242)=TRUE,\"P\",\"A\")","v":"A"},{"$f":"IF(Attendance($C28,'Daily Register'!IF$3:IF$242)=TRUE,\"P\",\"A\")","v":"A"},{"$f":"IF(Attendance($C28,'Daily Register'!IG$3:IG$242)=TRUE,\"P\",\"A\")","v":"A"},{"$f":"IF(Attendance($C28,'Daily Register'!IH$3:IH$242)=TRUE,\"P\",\"A\")","v":"A"},{"$f":"IF(Attendance($C28,'Daily Register'!II$3:II$242)=TRUE,\"P\",\"A\")","v":"A"},{"$f":"IF(Attendance($C28,'Daily Register'!IJ$3:IJ$242)=TRUE,\"P\",\"A\")","v":"A"},{"$f":"IF(Attendance($C28,'Daily Register'!IK$3:IK$242)=TRUE,\"P\",\"A\")","v":"A"},{"$f":"IF(Attendance($C28,'Daily Register'!IL$3:IL$242)=TRUE,\"P\",\"A\")","v":"A"},{"$f":"IF(Attendance($C28,'Daily Register'!IM$3:IM$242)=TRUE,\"P\",\"A\")","v":"A"},{"$f":"IF(Attendance($C28,'Daily Register'!IN$3:IN$242)=TRUE,\"P\",\"A\")","v":"A"},{"$f":"IF(Attendance($C28,'Daily Register'!IO$3:IO$242)=TRUE,\"P\",\"A\")","v":"A"},{"$f":"IF(Attendance($C28,'Daily Register'!IP$3:IP$242)=TRUE,\"P\",\"A\")","v":"A"},{"$f":"IF(Attendance($C28,'Daily Register'!IQ$3:IQ$242)=TRUE,\"P\",\"A\")","v":"A"},{"$f":"IF(Attendance($C28,'Daily Register'!IR$3:IR$242)=TRUE,\"P\",\"A\")","v":"A"},{"$f":"IF(Attendance($C28,'Daily Register'!IS$3:IS$242)=TRUE,\"P\",\"A\")","v":"A"},{"$f":"IF(Attendance($C28,'Daily Register'!IT$3:IT$242)=TRUE,\"P\",\"A\")","v":"A"},{"$f":"IF(Attendance($C28,'Daily Register'!IU$3:IU$242)=TRUE,\"P\",\"A\")","v":"A"},{"$f":"IF(Attendance($C28,'Daily Register'!IV$3:IV$242)=TRUE,\"P\",\"A\")","v":"A"},{"$f":"IF(Attendance($C28,'Daily Register'!IW$3:IW$242)=TRUE,\"P\",\"A\")","v":"A"},{"$f":"IF(Attendance($C28,'Daily Register'!IX$3:IX$242)=TRUE,\"P\",\"A\")","v":"A"},{"$f":"IF(Attendance($C28,'Daily Register'!IY$3:IY$242)=TRUE,\"P\",\"A\")","v":"A"},{"$f":"IF(Attendance($C28,'Daily Register'!IZ$3:IZ$242)=TRUE,\"P\",\"A\")","v":"A"},{"$f":"IF(Attendance($C28,'Daily Register'!JA$3:JA$242)=TRUE,\"P\",\"A\")","v":"A"},{"$f":"IF(Attendance($C28,'Daily Register'!JB$3:JB$242)=TRUE,\"P\",\"A\")","v":"A"},{"$f":"IF(Attendance($C28,'Daily Register'!JC$3:JC$242)=TRUE,\"P\",\"A\")","v":"A"},{"$f":"IF(Attendance($C28,'Daily Register'!JD$3:JD$242)=TRUE,\"P\",\"A\")","v":"A"},{"$f":"IF(Attendance($C28,'Daily Register'!JE$3:JE$242)=TRUE,\"P\",\"A\")","v":"A"},{"$f":"IF(Attendance($C28,'Daily Register'!JF$3:JF$242)=TRUE,\"P\",\"A\")","v":"A"},{"$f":"IF(Attendance($C28,'Daily Register'!JG$3:JG$242)=TRUE,\"P\",\"A\")","v":"A"},{"$f":"IF(Attendance($C28,'Daily Register'!JH$3:JH$242)=TRUE,\"P\",\"A\")","v":"A"},{"$f":"IF(Attendance($C28,'Daily Register'!JI$3:JI$242)=TRUE,\"P\",\"A\")","v":"A"},{"$f":"IF(Attendance($C28,'Daily Register'!JJ$3:JJ$242)=TRUE,\"P\",\"A\")","v":"A"},{"$f":"IF(Attendance($C28,'Daily Register'!JK$3:JK$242)=TRUE,\"P\",\"A\")","v":"A"},{"$f":"IF(Attendance($C28,'Daily Register'!JL$3:JL$242)=TRUE,\"P\",\"A\")","v":"A"},{"$f":"IF(Attendance($C28,'Daily Register'!JM$3:JM$242)=TRUE,\"P\",\"A\")","v":"A"},{"$f":"IF(Attendance($C28,'Daily Register'!JN$3:JN$242)=TRUE,\"P\",\"A\")","v":"A"},{"$f":"IF(Attendance($C28,'Daily Register'!JO$3:JO$242)=TRUE,\"P\",\"A\")","v":"A"},{"$f":"IF(Attendance($C28,'Daily Register'!JP$3:JP$242)=TRUE,\"P\",\"A\")","v":"A"},{"$f":"IF(Attendance($C28,'Daily Register'!JQ$3:JQ$242)=TRUE,\"P\",\"A\")","v":"A"},{"$f":"IF(Attendance($C28,'Daily Register'!JR$3:JR$242)=TRUE,\"P\",\"A\")","v":"A"},{"$f":"IF(Attendance($C28,'Daily Register'!JS$3:JS$242)=TRUE,\"P\",\"A\")","v":"A"},{"$f":"IF(Attendance($C28,'Daily Register'!JT$3:JT$242)=TRUE,\"P\",\"A\")","v":"A"},{"$f":"IF(Attendance($C28,'Daily Register'!JU$3:JU$242)=TRUE,\"P\",\"A\")","v":"A"},{"$f":"IF(Attendance($C28,'Daily Register'!JV$3:JV$242)=TRUE,\"P\",\"A\")","v":"A"},{"$f":"IF(Attendance($C28,'Daily Register'!JW$3:JW$242)=TRUE,\"P\",\"A\")","v":"A"},{"$f":"IF(Attendance($C28,'Daily Register'!JX$3:JX$242)=TRUE,\"P\",\"A\")","v":"A"},{"$f":"IF(Attendance($C28,'Daily Register'!JY$3:JY$242)=TRUE,\"P\",\"A\")","v":"A"},{"$f":"IF(Attendance($C28,'Daily Register'!JZ$3:JZ$242)=TRUE,\"P\",\"A\")","v":"A"},{"$f":"IF(Attendance($C28,'Daily Register'!KA$3:KA$242)=TRUE,\"P\",\"A\")","v":"A"},{"$f":"IF(Attendance($C28,'Daily Register'!KB$3:KB$242)=TRUE,\"P\",\"A\")","v":"A"},{"$f":"IF(Attendance($C28,'Daily Register'!KC$3:KC$242)=TRUE,\"P\",\"A\")","v":"A"},{"$f":"IF(Attendance($C28,'Daily Register'!KD$3:KD$242)=TRUE,\"P\",\"A\")","v":"A"},{"$f":"IF(Attendance($C28,'Daily Register'!KE$3:KE$242)=TRUE,\"P\",\"A\")","v":"A"},{"$f":"IF(Attendance($C28,'Daily Register'!KF$3:KF$242)=TRUE,\"P\",\"A\")","v":"A"},{"$f":"IF(Attendance($C28,'Daily Register'!KG$3:KG$242)=TRUE,\"P\",\"A\")","v":"A"},{"$f":"IF(Attendance($C28,'Daily Register'!KH$3:KH$242)=TRUE,\"P\",\"A\")","v":"A"},{"$f":"IF(Attendance($C28,'Daily Register'!KI$3:KI$242)=TRUE,\"P\",\"A\")","v":"A"},{"$f":"IF(Attendance($C28,'Daily Register'!KJ$3:KJ$242)=TRUE,\"P\",\"A\")","v":"A"},{"$f":"IF(Attendance($C28,'Daily Register'!KK$3:KK$242)=TRUE,\"P\",\"A\")","v":"A"},{"$f":"IF(Attendance($C28,'Daily Register'!KL$3:KL$242)=TRUE,\"P\",\"A\")","v":"A"},{"$f":"IF(Attendance($C28,'Daily Register'!KM$3:KM$242)=TRUE,\"P\",\"A\")","v":"A"},{"$f":"IF(Attendance($C28,'Daily Register'!KN$3:KN$242)=TRUE,\"P\",\"A\")","v":"A"},{"$f":"IF(Attendance($C28,'Daily Register'!KO$3:KO$242)=TRUE,\"P\",\"A\")","v":"A"},{"$f":"IF(Attendance($C28,'Daily Register'!KP$3:KP$242)=TRUE,\"P\",\"A\")","v":"A"},{"$f":"IF(Attendance($C28,'Daily Register'!KQ$3:KQ$242)=TRUE,\"P\",\"A\")","v":"A"},{"$f":"IF(Attendance($C28,'Daily Register'!KR$3:KR$242)=TRUE,\"P\",\"A\")","v":"A"},{"$f":"IF(Attendance($C28,'Daily Register'!KS$3:KS$242)=TRUE,\"P\",\"A\")","v":"A"},{"$f":"IF(Attendance($C28,'Daily Register'!KT$3:KT$242)=TRUE,\"P\",\"A\")","v":"A"},{"$f":"IF(Attendance($C28,'Daily Register'!KU$3:KU$242)=TRUE,\"P\",\"A\")","v":"A"},{"$f":"IF(Attendance($C28,'Daily Register'!KV$3:KV$242)=TRUE,\"P\",\"A\")","v":"A"},{"$f":"IF(Attendance($C28,'Daily Register'!KW$3:KW$242)=TRUE,\"P\",\"A\")","v":"A"},{"$f":"IF(Attendance($C28,'Daily Register'!KX$3:KX$242)=TRUE,\"P\",\"A\")","v":"A"},{"$f":"IF(Attendance($C28,'Daily Register'!KY$3:KY$242)=TRUE,\"P\",\"A\")","v":"A"},{"$f":"IF(Attendance($C28,'Daily Register'!KZ$3:KZ$242)=TRUE,\"P\",\"A\")","v":"A"},{"$f":"IF(Attendance($C28,'Daily Register'!LA$3:LA$242)=TRUE,\"P\",\"A\")","v":"A"},{"$f":"IF(Attendance($C28,'Daily Register'!LB$3:LB$242)=TRUE,\"P\",\"A\")","v":"A"},{"$f":"IF(Attendance($C28,'Daily Register'!LC$3:LC$242)=TRUE,\"P\",\"A\")","v":"A"},{"$f":"IF(Attendance($C28,'Daily Register'!LD$3:LD$242)=TRUE,\"P\",\"A\")","v":"A"},{"$f":"IF(Attendance($C28,'Daily Register'!LE$3:LE$242)=TRUE,\"P\",\"A\")","v":"A"},{"$f":"IF(Attendance($C28,'Daily Register'!LF$3:LF$242)=TRUE,\"P\",\"A\")","v":"A"},{"$f":"IF(Attendance($C28,'Daily Register'!LG$3:LG$242)=TRUE,\"P\",\"A\")","v":"A"},{"$f":"IF(Attendance($C28,'Daily Register'!LH$3:LH$242)=TRUE,\"P\",\"A\")","v":"A"},{"$f":"IF(Attendance($C28,'Daily Register'!LI$3:LI$242)=TRUE,\"P\",\"A\")","v":"A"},{"$f":"IF(Attendance($C28,'Daily Register'!LJ$3:LJ$242)=TRUE,\"P\",\"A\")","v":"A"},{"$f":"IF(Attendance($C28,'Daily Register'!LK$3:LK$242)=TRUE,\"P\",\"A\")","v":"A"},{"$f":"IF(Attendance($C28,'Daily Register'!LL$3:LL$242)=TRUE,\"P\",\"A\")","v":"A"},{"$f":"IF(Attendance($C28,'Daily Register'!LM$3:LM$242)=TRUE,\"P\",\"A\")","v":"A"},{"$f":"IF(Attendance($C28,'Daily Register'!LN$3:LN$242)=TRUE,\"P\",\"A\")","v":"A"},{"$f":"IF(Attendance($C28,'Daily Register'!LO$3:LO$242)=TRUE,\"P\",\"A\")","v":"A"},{"$f":"IF(Attendance($C28,'Daily Register'!LP$3:LP$242)=TRUE,\"P\",\"A\")","v":"A"},{"$f":"IF(Attendance($C28,'Daily Register'!LQ$3:LQ$242)=TRUE,\"P\",\"A\")","v":"A"},{"$f":"IF(Attendance($C28,'Daily Register'!LR$3:LR$242)=TRUE,\"P\",\"A\")","v":"A"},{"$f":"IF(Attendance($C28,'Daily Register'!LS$3:LS$242)=TRUE,\"P\",\"A\")","v":"A"},{"$f":"IF(Attendance($C28,'Daily Register'!LT$3:LT$242)=TRUE,\"P\",\"A\")","v":"A"},{"$f":"IF(Attendance($C28,'Daily Register'!LU$3:LU$242)=TRUE,\"P\",\"A\")","v":"A"},{"$f":"IF(Attendance($C28,'Daily Register'!LV$3:LV$242)=TRUE,\"P\",\"A\")","v":"A"},{"$f":"IF(Attendance($C28,'Daily Register'!LW$3:LW$242)=TRUE,\"P\",\"A\")","v":"A"},{"$f":"IF(Attendance($C28,'Daily Register'!LX$3:LX$242)=TRUE,\"P\",\"A\")","v":"A"},{"$f":"IF(Attendance($C28,'Daily Register'!LY$3:LY$242)=TRUE,\"P\",\"A\")","v":"A"},{"$f":"IF(Attendance($C28,'Daily Register'!LZ$3:LZ$242)=TRUE,\"P\",\"A\")","v":"A"},{"$f":"IF(Attendance($C28,'Daily Register'!MA$3:MA$242)=TRUE,\"P\",\"A\")","v":"A"},{"$f":"IF(Attendance($C28,'Daily Register'!MB$3:MB$242)=TRUE,\"P\",\"A\")","v":"A"},{"$f":"IF(Attendance($C28,'Daily Register'!MC$3:MC$242)=TRUE,\"P\",\"A\")","v":"A"},{"$f":"IF(Attendance($C28,'Daily Register'!MD$3:MD$242)=TRUE,\"P\",\"A\")","v":"A"},{"$f":"IF(Attendance($C28,'Daily Register'!ME$3:ME$242)=TRUE,\"P\",\"A\")","v":"A"},{"$f":"IF(Attendance($C28,'Daily Register'!MF$3:MF$242)=TRUE,\"P\",\"A\")","v":"A"},{"$f":"IF(Attendance($C28,'Daily Register'!MG$3:MG$242)=TRUE,\"P\",\"A\")","v":"A"},{"$f":"IF(Attendance($C28,'Daily Register'!MH$3:MH$242)=TRUE,\"P\",\"A\")","v":"A"},{"$f":"IF(Attendance($C28,'Daily Register'!MI$3:MI$242)=TRUE,\"P\",\"A\")","v":"A"},{"$f":"IF(Attendance($C28,'Daily Register'!MJ$3:MJ$242)=TRUE,\"P\",\"A\")","v":"A"},{"$f":"IF(Attendance($C28,'Daily Register'!MK$3:MK$242)=TRUE,\"P\",\"A\")","v":"A"},{"$f":"IF(Attendance($C28,'Daily Register'!ML$3:ML$242)=TRUE,\"P\",\"A\")","v":"A"},{"$f":"IF(Attendance($C28,'Daily Register'!MM$3:MM$242)=TRUE,\"P\",\"A\")","v":"A"},{"$f":"IF(Attendance($C28,'Daily Register'!MN$3:MN$242)=TRUE,\"P\",\"A\")","v":"A"},{"$f":"IF(Attendance($C28,'Daily Register'!MO$3:MO$242)=TRUE,\"P\",\"A\")","v":"A"},{"$f":"IF(Attendance($C28,'Daily Register'!MP$3:MP$242)=TRUE,\"P\",\"A\")","v":"A"},{"$f":"IF(Attendance($C28,'Daily Register'!MQ$3:MQ$242)=TRUE,\"P\",\"A\")","v":"A"},{"$f":"IF(Attendance($C28,'Daily Register'!MR$3:MR$242)=TRUE,\"P\",\"A\")","v":"A"},{"$f":"IF(Attendance($C28,'Daily Register'!MS$3:MS$242)=TRUE,\"P\",\"A\")","v":"A"},{"$f":"IF(Attendance($C28,'Daily Register'!MT$3:MT$242)=TRUE,\"P\",\"A\")","v":"A"},{"$f":"IF(Attendance($C28,'Daily Register'!MU$3:MU$242)=TRUE,\"P\",\"A\")","v":"A"},{"$f":"IF(Attendance($C28,'Daily Register'!MV$3:MV$242)=TRUE,\"P\",\"A\")","v":"A"},{"$f":"IF(Attendance($C28,'Daily Register'!MW$3:MW$242)=TRUE,\"P\",\"A\")","v":"A"},{"$f":"IF(Attendance($C28,'Daily Register'!MX$3:MX$242)=TRUE,\"P\",\"A\")","v":"A"},{"$f":"IF(Attendance($C28,'Daily Register'!MY$3:MY$242)=TRUE,\"P\",\"A\")","v":"A"},{"$f":"IF(Attendance($C28,'Daily Register'!MZ$3:MZ$242)=TRUE,\"P\",\"A\")","v":"A"},{"$f":"IF(Attendance($C28,'Daily Register'!NA$3:NA$242)=TRUE,\"P\",\"A\")","v":"A"},{"$f":"IF(Attendance($C28,'Daily Register'!NB$3:NB$242)=TRUE,\"P\",\"A\")","v":"A"}]
[0,null,26,null,{"$f":"IF(Attendance($C29,'Daily Register'!A$3:A$242)=TRUE,\"P\",\"A\")","v":"A"},{"$f":"IF(Attendance($C29,'Daily Register'!B$3:B$242)=TRUE,\"P\",\"A\")","v":"A"},{"$f":"IF(Attendance($C29,'Daily Register'!C$3:C$242)=TRUE,\"P\",\"A\")","v":"A"},{"$f":"IF(Attendance($C29,'Daily Register'!D$3:D$242)=TRUE,\"P\",\"A\")","v":"A"},{"$f":"IF(Attendance($C29,'Daily Register'!E$3:E$242)=TRUE,\"P\",\"A\")","v":"A"},{"$f":"IF(Attendance($C29,'Daily Register'!F$3:F$242)=TRUE,\"P\",\"A\")","v":"A"},{"$f":"IF(Attendance($C29,'Daily Register'!G$3:G$242)=TRUE,\"P\",\"A\")","v":"A"},{"$f":"IF(Attendance($C29,'Daily Register'!H$3:H$242)=TRUE,\"P\",\"A\")","v":"A"},{"$f":"IF(Attendance($C29,'Daily Register'!I$3:I$242)=TRUE,\"P\",\"A\")","v":"A"},{"$f":"IF(Attendance($C29,'Daily Register'!J$3:J$242)=TRUE,\"P\",\"A\")","v":"A"},{"$f":"IF(Attendance($C29,'Daily Register'!K$3:K$242)=TRUE,\"P\",\"A\")","v":"A"},{"$f":"IF(Attendance($C29,'Daily Register'!L$3:L$242)=TRUE,\"P\",\"A\")","v":"A"},{"$f":"IF(Attendance($C29,'Daily Register'!M$3:M$242)=TRUE,\"P\",\"A\")","v":"A"},{"$f":"IF(Attendance($C29,'Daily Register'!N$3:N$242)=TRUE,\"P\",\"A\")","v":"A"},{"$f":"IF(Attendance($C29,'Daily Register'!O$3:O$242)=TRUE,\"P\",\"A\")","v":"A"},{"$f":"IF(Attendance($C29,'Daily Register'!P$3:P$242)=TRUE,\"P\",\"A\")","v":"A"},{"$f":"IF(Attendance($C29,'Daily Register'!Q$3:Q$242)=TRUE,\"P\",\"A\")","v":"A"},{"$f":"IF(Attendance($C29,'Daily Register'!R$3:R$242)=TRUE,\"P\",\"A\")","v":"A"},{"$f":"IF(Attendance($C29,'Daily Register'!S$3:S$242)=TRUE,\"P\",\"A\")","v":"A"},{"$f":"IF(Attendance($C29,'Daily Register'!T$3:T$242)=TRUE,\"P\",\"A\")","v":"A"},{"$f":"IF(Attendance($C29,'Daily Register'!U$3:U$242)=TRUE,\"P\",\"A\")","v":"A"},{"$f":"IF(Attendance($C29,'Daily Register'!V$3:V$242)=TRUE,\"P\",\"A\")","v":"A"},{"$f":"IF(Attendance($C29,'Daily Register'!W$3:W$242)=TRUE,\"P\",\"A\")","v":"A"},{"$f":"IF(Attendance($C29,'Daily Register'!X$3:X$242)=TRUE,\"P\",\"A\")","v":"A"},{"$f":"IF(Attendance($C29,'Daily Register'!Y$3:Y$242)=TRUE,\"P\",\"A\")","v":"A"},{"$f":"IF(Attendance($C29,'Daily Register'!Z$3:Z$242)=TRUE,\"P\",\"A\")","v":"A"},{"$f":"IF(Attendance($C29,'Daily Register'!AA$3:AA$242)=TRUE,\"P\",\"A\")","v":"A"},{"$f":"IF(Attendance($C29,'Daily Register'!AB$3:AB$242)=TRUE,\"P\",\"A\")","v":"A"},{"$f":"IF(Attendance($C29,'Daily Register'!AC$3:AC$242)=TRUE,\"P\",\"A\")","v":"A"},{"$f":"IF(Attendance($C29,'Daily Register'!AD$3:AD$242)=TRUE,\"P\",\"A\")","v":"A"},{"$f":"IF(Attendance($C29,'Daily Register'!AE$3:AE$242)=TRUE,\"P\",\"A\")","v":"A"},{"$f":"IF(Attendance($C29,'Daily Register'!AF$3:AF$242)=TRUE,\"P\",\"A\")","v":"A"},{"$f":"IF(Attendance($C29,'Daily Register'!AG$3:AG$242)=TRUE,\"P\",\"A\")","v":"A"},{"$f":"IF(Attendance($C29,'Daily Register'!AH$3:AH$242)=TRUE,\"P\",\"A\")","v":"A"},{"$f":"IF(Attendance($C29,'Daily Register'!AI$3:AI$242)=TRUE,\"P\",\"A\")","v":"A"},{"$f":"IF(Attendance($C29,'Daily Register'!AJ$3:AJ$242)=TRUE,\"P\",\"A\")","v":"A"},{"$f":"IF(Attendance($C29,'Daily Register'!AK$3:AK$242)=TRUE,\"P\",\"A\")","v":"A"},{"$f":"IF(Attendance($C29,'Daily Register'!AL$3:AL$242)=TRUE,\"P\",\"A\")","v":"A"},{"$f":"IF(Attendance($C29,'Daily Register'!AM$3:AM$242)=TRUE,\"P\",\"A\")","v":"A"},{"$f":"IF(Attendance($C29,'Daily Register'!AN$3:AN$242)=TRUE,\"P\",\"A\")","v":"A"},{"$f":"IF(Attendance($C29,'Daily Register'!AO$3:AO$242)=TRUE,\"P\",\"A\")","v":"A"},{"$f":"IF(Attendance($C29,'Daily Register'!AP$3:AP$242)=TRUE,\"P\",\"A\")","v":"A"},{"$f":"IF(Attendance($C29,'Daily Register'!AQ$3:AQ$242)=TRUE,\"P\",\"A\")","v":"A"},{"$f":"IF(Attendance($C29,'Daily Register'!AR$3:AR$242)=TRUE,\"P\",\"A\")","v":"A"},{"$f":"IF(Attendance($C29,'Daily Register'!AS$3:AS$242)=TRUE,\"P\",\"A\")","v":"A"},{"$f":"IF(Attendance($C29,'Daily Register'!AT$3:AT$242)=TRUE,\"P\",\"A\")","v":"A"},{"$f":"IF(Attendance($C29,'Daily Register'!AU$3:AU$242)=TRUE,\"P\",\"A\")","v":"A"},{"$f":"IF(Attendance($C29,'Daily Register'!AV$3:AV$242)=TRUE,\"P\",\"A\")","v":"A"},{"$f":"IF(Attendance($C29,'Daily Register'!AW$3:AW$242)=TRUE,\"P\",\"A\")","v":"A"},{"$f":"IF(Attendance($C29,'Daily Register'!AX$3:AX$242)=TRUE,\"P\",\"A\")","v":"A"},{"$f":"IF(Attendance($C29,'Daily Register'!AY$3:AY$242)=TRUE,\"P\",\"A\")","v":"A"},{"$f":"IF(Attendance($C29,'Daily Register'!AZ$3:AZ$242)=TRUE,\"P\",\"A\")","v":"A"},{"$f":"IF(Attendance($C29,'Daily Register'!BA$3:BA$242)=TRUE,\"P\",\"A\")","v":"A"},{"$f":"IF(Attendance($C29,'Daily Register'!BB$3:BB$242)=TRUE,\"P\",\"A\")","v":"A"},{"$f":"IF(Attendance($C29,'Daily Register'!BC$3:BC$242)=TRUE,\"P\",\"A\")","v":"A"},{"$f":"IF(Attendance($C29,'Daily Register'!BD$3:BD$242)=TRUE,\"P\",\"A\")","v":"A"},{"$f":"IF(Attendance($C29,'Daily Register'!BE$3:BE$242)=TRUE,\"P\",\"A\")","v":"A"},{"$f":"IF(Attendance($C29,'Daily Register'!BF$3:BF$242)=TRUE,\"P\",\"A\")","v":"A"},{"$f":"IF(Attendance($C29,'Daily Register'!BG$3:BG$242)=TRUE,\"P\",\"A\")","v":"A"},{"$f":"IF(Attendance($C29,'Daily Register'!BH$3:BH$242)=TRUE,\"P\",\"A\")","v":"A"},{"$f":"IF(Attendance($C29,'Daily Register'!BI$3:BI$242)=TRUE,\"P\",\"A\")","v":"A"},{"$f":"IF(Attendance($C29,'Daily Register'!BJ$3:BJ$242)=TRUE,\"P\",\"A\")","v":"A"},{"$f":"IF(Attendance($C29,'Daily Register'!BK$3:BK$242)=TRUE,\"P\",\"A\")","v":"A"},{"$f":"IF(Attendance($C29,'Daily Register'!BL$3:BL$242)=TRUE,\"P\",\"A\")","v":"A"},{"$f":"IF(Attendance($C29,'Daily Register'!BM$3:BM$242)=TRUE,\"P\",\"A\")","v":"A"},{"$f":"IF(Attendance($C29,'Daily Register'!BN$3:BN$242)=TRUE,\"P\",\"A\")","v":"A"},{"$f":"IF(Attendance($C29,'Daily Register'!BO$3:BO$242)=TRUE,\"P\",\"A\")","v":"A"},{"$f":"IF(Attendance($C29,'Daily Register'!BP$3:BP$242)=TRUE,\"P\",\"A\")","v":"A"},{"$f":"IF(Attendance($C29,'Daily Register'!BQ$3:BQ$242)=TRUE,\"P\",\"A\")","v":"A"},{"$f":"IF(Attendance($C29,'Daily Register'!BR$3:BR$242)=TRUE,\"P\",\"A\")","v":"A"},{"$f":"IF(Attendance($C29,'Daily Register'!BS$3:BS$242)=TRUE,\"P\",\"A\")","v":"A"},{"$f":"IF(Attendance($C29,'Daily Register'!BT$3:BT$242)=TRUE,\"P\",\"A\")","v":"A"},{"$f":"IF(Attendance($C29,'Daily Register'!BU$3:BU$242)=TRUE,\"P\",\"A\")","v":"A"},{"$f":"IF(Attendance($C29,'Daily Register'!BV$3:BV$242)=TRUE,\"P\",\"A\")","v":"A"},{"$f":"IF(Attendance($C29,'Daily Register'!BW$3:BW$242)=TRUE,\"P\",\"A\")","v":"A"},{"$f":"IF(Attendance($C29,'Daily Register'!BX$3:BX$242)=TRUE,\"P\",\"A\")","v":"A"},{"$f":"IF(Attendance($C29,'Daily Register'!BY$3:BY$242)=TRUE,\"P\",\"A\")","v":"A"},{"$f":"IF(Attendance($C29,'Daily Register'!BZ$3:BZ$242)=TRUE,\"P\",\"A\")","v":"A"},{"$f":"IF(Attendance($C29,'Daily Register'!CA$3:CA$242)=TRUE,\"P\",\"A\")","v":"A"},{"$f":"IF(Attendance($C29,'Daily Register'!CB$3:CB$242)=TRUE,\"P\",\"A\")","v":"A"},{"$f":"IF(Attendance($C29,'Daily Register'!CC$3:CC$242)=TRUE,\"P\",\"A\")","v":"A"},{"$f":"IF(Attendance($C29,'Daily Register'!CD$3:CD$242)=TRUE,\"P\",\"A\")","v":"A"},{"$f":"IF(Attendance($C29,'Daily Register'!CE$3:CE$242)=TRUE,\"P\",\"A\")","v":"A"},{"$f":"IF(Attendance($C29,'Daily Register'!CF$3:CF$242)=TRUE,\"P\",\"A\")","v":"A"},{"$f":"IF(Attendance($C29,'Daily Register'!CG$3:CG$242)=TRUE,\"P\",\"A\")","v":"A"},{"$f":"IF(Attendance($C29,'Daily Register'!CH$3:CH$242)=TRUE,\"P\",\"A\")","v":"A"},{"$f":"IF(Attendance($C29,'Daily Register'!CI$3:CI$242)=TRUE,\"P\",\"A\")","v":"A"},{"$f":"IF(Attendance($C29,'Daily Register'!CJ$3:CJ$242)=TRUE,\"P\",\"A\")","v":"A"},{"$f":"IF(Attendance($C29,'Daily Register'!CK$3:CK$242)=TRUE,\"P\",\"A\")","v":"A"},{"$f":"IF(Attendance($C29,'Daily Register'!CL$3:CL$242)=TRUE,\"P\",\"A\")","v":"A"},{"$f":"IF(Attendance($C29,'Daily Register'!CM$3:CM$242)=TRUE,\"P\",\"A\")","v":"A"},{"$f":"IF(Attendance($C29,'Daily Register'!CN$3:CN$242)=TRUE,\"P\",\"A\")","v":"A"},{"$f":"IF(Attendance($C29,'Daily Register'!CO$3:CO$242)=TRUE,\"P\",\"A\")","v":"A"},{"$f":"IF(Attendance($C29,'Daily Register'!CP$3:CP$242)=TRUE,\"P\",\"A\")","v":"A"},{"$f":"IF(Attendance($C29,'Daily Register'!CQ$3:CQ$242)=TRUE,\"P\",\"A\")","v":"A"},{"$f":"IF(Attendance($C29,'Daily Register'!CR$3:CR$242)=TRUE,\"P\",\"A\")","v":"A"},{"$f":"IF(Attendance($C29,'Daily Register'!CS$3:CS$242)=TRUE,\"P\",\"A\")","v":"A"},{"$f":"IF(Attendance($C29,'Daily Register'!CT$3:CT$242)=TRUE,\"P\",\"A\")","v":"A"},{"$f":"IF(Attendance($C29,'Daily Register'!CU$3:CU$242)=TRUE,\"P\",\"A\")","v":"A"},{"$f":"IF(Attendance($C29,'Daily Register'!CV$3:CV$242)=TRUE,\"P\",\"A\")","v":"A"},{"$f":"IF(Attendance($C29,'Daily Register'!CW$3:CW$242)=TRUE,\"P\",\"A\")","v":"A"},{"$f":"IF(Attendance($C29,'Daily Register'!CX$3:CX$242)=TRUE,\"P\",\"A\")","v":"A"},{"$f":"IF(Attendance($C29,'Daily Register'!CY$3:CY$242)=TRUE,\"P\",\"A\")","v":"A"},{"$f":"IF(Attendance($C29,'Daily Register'!CZ$3:CZ$242)=TRUE,\"P\",\"A\")","v":"A"},{"$f":"IF(Attendance($C29,'Daily Register'!DA$3:DA$242)=TRUE,\"P\",\"A\")","v":"A"},{"$f":"IF(Attendance($C29,'Daily Register'!DB$3:DB$242)=TRUE,\"P\",\"A\")","v":"A"},{"$f":"IF(Attendance($C29,'Daily Register'!DC$3:DC$242)=TRUE,\"P\",\"A\")","v":"A"},{"$f":"IF(Attendance($C29,'Daily Register'!DD$3:DD$242)=TRUE,\"P\",\"A\")","v":"A"},{"$f":"IF(Attendance($C29,'Daily Register'!DE$3:DE$242)=TRUE,\"P\",\"A\")","v":"A"},{"$f":"IF(Attendance($C29,'Daily Register'!DF$3:DF$242)=TRUE,\"P\",\"A\")","v":"A"},{"$f":"IF(Attendance($C29,'Daily Register'!DG$3:DG$242)=TRUE,\"P\",\"A\")","v":"A"},{"$f":"IF(Attendance($C29,'Daily Register'!DH$3:DH$242)=TRUE,\"P\",\"A\")","v":"A"},{"$f":"IF(Attendance($C29,'Daily Register'!DI$3:DI$242)=TRUE,\"P\",\"A\")","v":"A"},{"$f":"IF(Attendance($C29,'Daily Register'!DJ$3:DJ$242)=TRUE,\"P\",\"A\")","v":"A"},{"$f":"IF(Attendance($C29,'Daily Register'!DK$3:DK$242)=TRUE,\"P\",\"A\")","v":"A"},{"$f":"IF(Attendance($C29,'Daily Register'!DL$3:DL$242)=TRUE,\"P\",\"A\")","v":"A"},{"$f":"IF(Attendance($C29,'Daily Register'!DM$3:DM$242)=TRUE,\"P\",\"A\")","v":"A"},{"$f":"IF(Attendance($C29,'Daily Register'!DN$3:DN$242)=TRUE,\"P\",\"A\")","v":"A"},{"$f":"IF(Attendance($C29,'Daily Register'!DO$3:DO$242)=TRUE,\"P\",\"A\")","v":"A"},{"$f":"IF(Attendance($C29,'Daily Register'!DP$3:DP$242)=TRUE,\"P\",\"A\")","v":"A"},{"$f":"IF(Attendance($C29,'Daily Register'!DQ$3:DQ$242)=TRUE,\"P\",\"A\")","v":"A"},{"$f":"IF(Attendance($C29,'Daily Register'!DR$3:DR$242)=TRUE,\"P\",\"A\")","v":"A"},{"$f":"IF(Attendance($C29,'Daily Register'!DS$3:DS$242)=TRUE,\"P\",\"A\")","v":"A"},{"$f":"IF(Attendance($C29,'Daily Register'!DT$3:DT$242)=TRUE,\"P\",\"A\")","v":"A"},{"$f":"IF(Attendance($C29,'Daily Register'!DU$3:DU$242)=TRUE,\"P\",\"A\")","v":"A"},{"$f":"IF(Attendance($C29,'Daily Register'!DV$3:DV$242)=TRUE,\"P\",\"A\")","v":"A"},{"$f":"IF(Attendance($C29,'Daily Register'!DW$3:DW$242)=TRUE,\"P\",\"A\")","v":"A"},{"$f":"IF(Attendance($C29,'Daily Register'!DX$3:DX$242)=TRUE,\"P\",\"A\")","v":"A"},{"$f":"IF(Attendance($C29,'Daily Register'!DY$3:DY$242)=TRUE,\"P\",\"A\")","v":"A"},{"$f":"IF(Attendance($C29,'Daily Register'!DZ$3:DZ$242)=TRUE,\"P\",\"A\")","v":"A"},{"$f":"IF(Attendance($C29,'Daily Register'!EA$3:EA$242)=TRUE,\"P\",\"A\")","v":"A"},{"$f":"IF(Attendance($C29,'Daily Register'!EB$3:EB$242)=TRUE,\"P\",\"A\")","v":"A"},{"$f":"IF(Attendance($C29,'Daily Register'!EC$3:EC$242)=TRUE,\"P\",\"A\")","v":"A"},{"$f":"IF(Attendance($C29,'Daily Register'!ED$3:ED$242)=TRUE,\"P\",\"A\")","v":"A"},{"$f":"IF(Attendance($C29,'Daily Register'!EE$3:EE$242)=TRUE,\"P\",\"A\")","v":"A"},{"$f":"IF(Attendance($C29,'Daily Register'!EF$3:EF$242)=TRUE,\"P\",\"A\")","v":"A"},{"$f":"IF(Attendance($C29,'Daily Register'!EG$3:EG$242)=TRUE,\"P\",\"A\")","v":"A"},{"$f":"IF(Attendance($C29,'Daily Register'!EH$3:EH$242)=TRUE,\"P\",\"A\")","v":"A"},{"$f":"IF(Attendance($C29,'Daily Register'!EI$3:EI$242)=TRUE,\"P\",\"A\")","v":"A"},{"$f":"IF(Attendance($C29,'Daily Register'!EJ$3:EJ$242)=TRUE,\"P\",\"A\")","v":"A"},{"$f":"IF(Attendance($C29,'Daily Register'!EK$3:EK$242)=TRUE,\"P\",\"A\")","v":"A"},{"$f":"IF(Attendance($C29,'Daily Register'!EL$3:EL$242)=TRUE,\"P\",\"A\")","v":"A"},{"$f":"IF(Attendance($C29,'Daily Register'!EM$22:EM$242)=TRUE,\"P\",\"A\")","v":"A"},{"$f":"IF(Attendance($C29,'Daily Register'!EN$3:EN$242)=TRUE,\"P\",\"A\")","v":"A"},{"$f":"IF(Attendance($C29,'Daily Register'!EO$3:EO$242)=TRUE,\"P\",\"A\")","v":"A"},{"$f":"IF(Attendance($C29,'Daily Register'!EP$3:EP$242)=TRUE,\"P\",\"A\")","v":"A"},{"$f":"IF(Attendance($C29,'Daily Register'!EQ$3:EQ$242)=TRUE,\"P\",\"A\")","v":"A"},{"$f":"IF(Attendance($C29,'Daily Register'!ER$3:ER$242)=TRUE,\"P\",\"A\")","v":"A"},{"$f":"IF(Attendance($C29,'Daily Register'!ES$3:ES$242)=TRUE,\"P\",\"A\")","v":"A"},{"$f":"IF(Attendance($C29,'Daily Register'!ET$3:ET$242)=TRUE,\"P\",\"A\")","v":"A"},{"$f":"IF(Attendance($C29,'Daily Register'!EU$3:EU$242)=TRUE,\"P\",\"A\")","v":"A"},{"$f":"IF(Attendance($C29,'Daily Register'!EV$3:EV$242)=TRUE,\"P\",\"A\")","v":"A"},{"$f":"IF(Attendance($C29,'Daily Register'!EW$3:EW$242)=TRUE,\"P\",\"A\")","v":"A"},{"$f":"IF(Attendance($C29,'Daily Register'!EX$3:EX$242)=TRUE,\"P\",\"A\")","v":"A"},{"$f":"IF(Attendance($C29,'Daily Register'!EY$3:EY$242)=TRUE,\"P\",\"A\")","v":"A"},{"$f":"IF(Attendance($C29,'Daily Register'!EZ$3:EZ$242)=TRUE,\"P\",\"A\")","v":"A"},{"$f":"IF(Attendance($C29,'Daily Register'!FA$3:FA$242)=TRUE,\"P\",\"A\")","v":"A"},{"$f":"IF(Attendance($C29,'Daily Register'!FB$3:FB$242)=TRUE,\"P\",\"A\")","v":"A"},{"$f":"IF(Attendance($C29,'Daily Register'!FC$3:FC$242)=TRUE,\"P\",\"A\")","v":"A"},{"$f":"IF(Attendance($C29,'Daily Register'!FD$3:FD$242)=TRUE,\"P\",\"A\")","v":"A"},{"$f":"IF(Attendance($C29,'Daily Register'!FE$3:FE$242)=TRUE,\"P\",\"A\")","v":"A"},{"$f":"IF(Attendance($C29,'Daily Register'!FF$3:FF$242)=TRUE,\"P\",\"A\")","v":"A"},{"$f":"IF(Attendance($C29,'Daily Register'!FG$3:FG$242)=TRUE,\"P\",\"A\")","v":"A"},{"$f":"IF(Attendance($C29,'Daily Register'!FH$3:FH$242)=TRUE,\"P\",\"A\")","v":"A"},{"$f":"IF(Attendance($C29,'Daily Register'!FI$3:FI$242)=TRUE,\"P\",\"A\")","v":"A"},{"$f":"IF(Attendance($C29,'Daily Register'!FJ$3:FJ$242)=TRUE,\"P\",\"A\")","v":"A"},{"$f":"IF(Attendance($C29,'Daily Register'!FK$3:FK$242)=TRUE,\"P\",\"A\")","v":"A"},{"$f":"IF(Attendance($C29,'Daily Register'!FL$3:FL$242)=TRUE,\"P\",\"A\")","v":"A"},{"$f":"IF(Attendance($C29,'Daily Register'!FM$3:FM$242)=TRUE,\"P\",\"A\")","v":"A"},{"$f":"IF(Attendance($C29,'Daily Register'!FN$3:FN$242)=TRUE,\"P\",\"A\")","v":"A"},{"$f":"IF(Attendance($C29,'Daily Register'!FO$3:FO$242)=TRUE,\"P\",\"A\")","v":"A"},{"$f":"IF(Attendance($C29,'Daily Register'!FP$3:FP$242)=TRUE,\"P\",\"A\")","v":"A"},{"$f":"IF(Attendance($C29,'Daily Register'!FQ$3:FQ$242)=TRUE,\"P\",\"A\")","v":"A"},{"$f":"IF(Attendance($C29,'Daily Register'!FR$3:FR$242)=TRUE,\"P\",\"A\")","v":"A"},{"$f":"IF(Attendance($C29,'Daily Register'!FS$3:FS$242)=TRUE,\"P\",\"A\")","v":"A"},{"$f":"IF(Attendance($C29,'Daily Register'!FT$3:FT$242)=TRUE,\"P\",\"A\")","v":"A"},{"$f":"IF(Attendance($C29,'Daily Register'!FU$3:FU$242)=TRUE,\"P\",\"A\")","v":"A"},{"$f":"IF(Attendance($C29,'Daily Register'!FV$3:FV$242)=TRUE,\"P\",\"A\")","v":"A"},{"$f":"IF(Attendance($C29,'Daily Register'!FW$3:FW$242)=TRUE,\"P\",\"A\")","v":"A"},{"$f":"IF(Attendance($C29,'Daily Register'!FX$3:FX$242)=TRUE,\"P\",\"A\")","v":"A"},{"$f":"IF(Attendance($C29,'Daily Register'!FY$3:FY$242)=TRUE,\"P\",\"A\")","v":"A"},{"$f":"IF(Attendance($C29,'Daily Register'!FZ$3:FZ$242)=TRUE,\"P\",\"A\")","v":"A"},{"$f":"IF(Attendance($C29,'Daily Register'!GA$3:GA$242)=TRUE,\"P\",\"A\")","v":"A"},{"$f":"IF(Attendance($C29,'Daily Register'!GB$3:GB$242)=TRUE,\"P\",\"A\")","v":"A"},{"$f":"IF(Attendance($C29,'Daily Register'!GC$3:GC$242)=TRUE,\"P\",\"A\")","v":"A"},{"$f":"IF(Attendance($C29,'Daily Register'!GD$3:GD$242)=TRUE,\"P\",\"A\")","v":"A"},{"$f":"IF(Attendance($C29,'Daily Register'!GE$3:GE$242)=TRUE,\"P\",\"A\")","v":"A"},{"$f":"IF(Attendance($C29,'Daily Register'!GF$3:GF$242)=TRUE,\"P\",\"A\")","v":"A"},{"$f":"IF(Attendance($C29,'Daily Register'!GG$3:GG$242)=TRUE,\"P\",\"A\")","v":"A"},{"$f":"IF(Attendance($C29,'Daily Register'!GH$3:GH$242)=TRUE,\"P\",\"A\")","v":"A"},{"$f":"IF(Attendance($C29,'Daily Register'!GI$3:GI$242)=TRUE,\"P\",\"A\")","v":"A"},{"$f":"IF(Attendance($C29,'Daily Register'!GJ$3:GJ$242)=TRUE,\"P\",\"A\")","v":"A"},{"$f":"IF(Attendance($C29,'Daily Register'!GK$3:GK$242)=TRUE,\"P\",\"A\")","v":"A"},{"$f":"IF(Attendance($C29,'Daily Register'!GL$3:GL$242)=TRUE,\"P\",\"A\")","v":"A"},{"$f":"IF(Attendance($C29,'Daily Register'!GM$3:GM$242)=TRUE,\"P\",\"A\")","v":"A"},{"$f":"IF(Attendance($C29,'Daily Register'!GN$3:GN$242)=TRUE,\"P\",\"A\")","v":"A"},{"$f":"IF(Attendance($C29,'Daily Register'!GO$3:GO$242)=TRUE,\"P\",\"A\")","v":"A"},{"$f":"IF(Attendance($C29,'Daily Register'!GP$3:GP$242)=TRUE,\"P\",\"A\")","v":"A"},{"$f":"IF(Attendance($C29,'Daily Register'!GQ$3:GQ$242)=TRUE,\"P\",\"A\")","v":"A"},{"$f":"IF(Attendance($C29,'Daily Register'!GR$3:GR$242)=TRUE,\"P\",\"A\")","v":"A"},{"$f":"IF(Attendance($C29,'Daily Register'!GS$3:GS$242)=TRUE,\"P\",\"A\")","v":"A"},{"$f":"IF(Attendance($C29,'Daily Register'!GT$3:GT$242)=TRUE,\"P\",\"A\")","v":"A"},{"$f":"IF(Attendance($C29,'Daily Register'!GU$3:GU$242)=TRUE,\"P\",\"A\")","v":"A"},{"$f":"IF(Attendance($C29,'Daily Register'!GV$3:GV$242)=TRUE,\"P\",\"A\")","v":"A"},{"$f":"IF(Attendance($C29,'Daily Register'!GW$3:GW$242)=TRUE,\"P\",\"A\")","v":"A"},{"$f":"IF(Attendance($C29,'Daily Register'!GX$3:GX$242)=TRUE,\"P\",\"A\")","v":"A"},{"$f":"IF(Attendance($C29,'Daily Register'!GY$3:GY$242)=TRUE,\"P\",\"A\")","v":"A"},{"$f":"IF(Attendance($C29,'Daily Register'!GZ$3:GZ$242)=TRUE,\"P\",\"A\")","v":"A"},{"$f":"IF(Attendance($C29,'Daily Register'!HA$3:HA$242)=TRUE,\"P\",\"A\")","v":"A"},{"$f":"IF(Attendance($C29,'Daily Register'!HB$3:HB$242)=TRUE,\"P\",\"A\")","v":"A"},{"$f":"IF(Attendance($C29,'Daily Register'!HC$3:HC$242)=TRUE,\"P\",\"A\")","v":"A"},{"$f":"IF(Attendance($C29,'Daily Register'!HD$3:HD$242)=TRUE,\"P\",\"A\")","v":"A"},{"$f":"IF(Attendance($C29,'Daily Register'!HE$3:HE$242)=TRUE,\"P\",\"A\")","v":"A"},{"$f":"IF(Attendance($C29,'Daily Register'!HF$3:HF$242)=TRUE,\"P\",\"A\")","v":"A"},{"$f":"IF(Attendance($C29,'Daily Register'!HG$3:HG$242)=TRUE,\"P\",\"A\")","v":"A"},{"$f":"IF(Attendance($C29,'Daily Register'!HH$3:HH$242)=TRUE,\"P\",\"A\")","v":"A"},{"$f":"IF(Attendance($C29,'Daily Register'!HI$3:HI$242)=TRUE,\"P\",\"A\")","v":"A"},{"$f":"IF(Attendance($C29,'Daily Register'!HJ$3:HJ$242)=TRUE,\"P\",\"A\")","v":"A"},{"$f":"IF(Attendance($C29,'Daily Register'!HK$3:HK$242)=TRUE,\"P\",\"A\")","v":"A"},{"$f":"IF(Attendance($C29,'Daily Register'!HL$3:HL$242)=TRUE,\"P\",\"A\")","v":"A"},{"$f":"IF(Attendance($C29,'Daily Register'!HM$3:HM$242)=TRUE,\"P\",\"A\")","v":"A"},{"$f":"IF(Attendance($C29,'Daily Register'!HN$3:HN$242)=TRUE,\"P\",\"A\")","v":"A"},{"$f":"IF(Attendance($C29,'Daily Register'!HO$3:HO$242)=TRUE,\"P\",\"A\")","v":"A"},{"$f":"IF(Attendance($C29,'Daily Register'!HP$3:HP$242)=TRUE,\"P\",\"A\")","v":"A"},{"$f":"IF(Attendance($C29,'Daily Register'!HQ$3:HQ$242)=TRUE,\"P\",\"A\")","v":"A"},{"$f":"IF(Attendance($C29,'Daily Register'!HR$3:HR$242)=TRUE,\"P\",\"A\")","v":"A"},{"$f":"IF(Attendance($C29,'Daily Register'!HS$3:HS$242)=TRUE,\"P\",\"A\")","v":"A"},{"$f":"IF(Attendance($C29,'Daily Register'!HT$3:HT$242)=TRUE,\"P\",\"A\")","v":"A"},{"$f":"IF(Attendance($C29,'Daily Register'!HU$3:HU$242)=TRUE,\"P\",\"A\")","v":"A"},{"$f":"IF(Attendance($C29,'Daily Register'!HV$3:HV$242)=TRUE,\"P\",\"A\")","v":"A"},{"$f":"IF(Attendance($C29,'Daily Register'!HW$3:HW$242)=TRUE,\"P\",\"A\")","v":"A"},{"$f":"IF(Attendance($C29,'Daily Register'!HX$3:HX$242)=TRUE,\"P\",\"A\")","v":"A"},{"$f":"IF(Attendance($C29,'Daily Register'!HY$3:HY$242)=TRUE,\"P\",\"A\")","v":"A"},{"$f":"IF(Attendance($C29,'Daily Register'!HZ$3:HZ$242)=TRUE,\"P\",\"A\")","v":"A"},{"$f":"IF(Attendance($C29,'Daily Register'!IA$3:IA$242)=TRUE,\"P\",\"A\")","v":"A"},{"$f":"IF(Attendance($C29,'Daily Register'!IB$3:IB$242)=TRUE,\"P\",\"A\")","v":"A"},{"$f":"IF(Attendance($C29,'Daily Register'!IC$3:IC$242)=TRUE,\"P\",\"A\")","v":"A"},{"$f":"IF(Attendance($C29,'Daily Register'!ID$3:ID$242)=TRUE,\"P\",\"A\")","v":"A"},{"$f":"IF(Attendance($C29,'Daily Register'!IE$3:IE$242)=TRUE,\"P\",\"A\")","v":"A"},{"$f":"IF(Attendance($C29,'Daily Register'!IF$3:IF$242)=TRUE,\"P\",\"A\")","v":"A"},{"$f":"IF(Attendance($C29,'Daily Register'!IG$3:IG$242)=TRUE,\"P\",\"A\")","v":"A"},{"$f":"IF(Attendance($C29,'Daily Register'!IH$3:IH$242)=TRUE,\"P\",\"A\")","v":"A"},{"$f":"IF(Attendance($C29,'Daily Register'!II$3:II$242)=TRUE,\"P\",\"A\")","v":"A"},{"$f":"IF(Attendance($C29,'Daily Register'!IJ$3:IJ$242)=TRUE,\"P\",\"A\")","v":"A"},{"$f":"IF(Attendance($C29,'Daily Register'!IK$3:IK$242)=TRUE,\"P\",\"A\")","v":"A"},{"$f":"IF(Attendance($C29,'Daily Register'!IL$3:IL$242)=TRUE,\"P\",\"A\")","v":"A"},{"$f":"IF(Attendance($C29,'Daily Register'!IM$3:IM$242)=TRUE,\"P\",\"A\")","v":"A"},{"$f":"IF(Attendance($C29,'Daily Register'!IN$3:IN$242)=TRUE,\"P\",\"A\")","v":"A"},{"$f":"IF(Attendance($C29,'Daily Register'!IO$3:IO$242)=TRUE,\"P\",\"A\")","v":"A"},{"$f":"IF(Attendance($C29,'Daily Register'!IP$3:IP$242)=TRUE,\"P\",\"A\")","v":"A"},{"$f":"IF(Attendance($C29,'Daily Register'!IQ$3:IQ$242)=TRUE,\"P\",\"A\")","v":"A"},{"$f":"IF(Attendance($C29,'Daily Register'!IR$3:IR$242)=TRUE,\"P\",\"A\")","v":"A"},{"$f":"IF(Attendance($C29,'Daily Register'!IS$3:IS$242)=TRUE,\"P\",\"A\")","v":"A"},{"$f":"IF(Attendance($C29,'Daily Register'!IT$3:IT$242)=TRUE,\"P\",\"A\")","v":"A"},{"$f":"IF(Attendance($C29,'Daily Register'!IU$3:IU$242)=TRUE,\"P\",\"A\")","v":"A"},{"$f":"IF(Attendance($C29,'Daily Register'!IV$3:IV$242)=TRUE,\"P\",\"A\")","v":"A"},{"$f":"IF(Attendance($C29,'Daily Register'!IW$3:IW$242)=TRUE,\"P\",\"A\")","v":"A"},{"$f":"IF(Attendance($C29,'Daily Register'!IX$3:IX$242)=TRUE,\"P\",\"A\")","v":"A"},{"$f":"IF(Attendance($C29,'Daily Register'!IY$3:IY$242)=TRUE,\"P\",\"A\")","v":"A"},{"$f":"IF(Attendance($C29,'Daily Register'!IZ$3:IZ$242)=TRUE,\"P\",\"A\")","v":"A"},{"$f":"IF(Attendance($C29,'Daily Register'!JA$3:JA$242)=TRUE,\"P\",\"A\")","v":"A"},{"$f":"IF(Attendance($C29,'Daily Register'!JB$3:JB$242)=TRUE,\"P\",\"A\")","v":"A"},{"$f":"IF(Attendance($C29,'Daily Register'!JC$3:JC$242)=TRUE,\"P\",\"A\")","v":"A"},{"$f":"IF(Attendance($C29,'Daily Register'!JD$3:JD$242)=TRUE,\"P\",\"A\")","v":"A"},{"$f":"IF(Attendance($C29,'Daily Register'!JE$3:JE$242)=TRUE,\"P\",\"A\")","v":"A"},{"$f":"IF(Attendance($C29,'Daily Register'!JF$3:JF$242)=TRUE,\"P\",\"A\")","v":"A"},{"$f":"IF(Attendance($C29,'Daily Register'!JG$3:JG$242)=TRUE,\"P\",\"A\")","v":"A"},{"$f":"IF(Attendance($C29,'Daily Register'!JH$3:JH$242)=TRUE,\"P\",\"A\")","v":"A"},{"$f":"IF(Attendance($C29,'Daily Register'!JI$3:JI$242)=TRUE,\"P\",\"A\")","v":"A"},{"$f":"IF(Attendance($C29,'Daily Register'!JJ$3:JJ$242)=TRUE,\"P\",\"A\")","v":"A"},{"$f":"IF(Attendance($C29,'Daily Register'!JK$3:JK$242)=TRUE,\"P\",\"A\")","v":"A"},{"$f":"IF(Attendance($C29,'Daily Register'!JL$3:JL$242)=TRUE,\"P\",\"A\")","v":"A"},{"$f":"IF(Attendance($C29,'Daily Register'!JM$3:JM$242)=TRUE,\"P\",\"A\")","v":"A"},{"$f":"IF(Attendance($C29,'Daily Register'!JN$3:JN$242)=TRUE,\"P\",\"A\")","v":"A"},{"$f":"IF(Attendance($C29,'Daily Register'!JO$3:JO$242)=TRUE,\"P\",\"A\")","v":"A"},{"$f":"IF(Attendance($C29,'Daily Register'!JP$3:JP$242)=TRUE,\"P\",\"A\")","v":"A"},{"$f":"IF(Attendance($C29,'Daily Register'!JQ$3:JQ$242)=TRUE,\"P\",\"A\")","v":"A"},{"$f":"IF(Attendance($C29,'Daily Register'!JR$3:JR$242)=TRUE,\"P\",\"A\")","v":"A"},{"$f":"IF(Attendance($C29,'Daily Register'!JS$3:JS$242)=TRUE,\"P\",\"A\")","v":"A"},{"$f":"IF(Attendance($C29,'Daily Register'!JT$3:JT$242)=TRUE,\"P\",\"A\")","v":"A"},{"$f":"IF(Attendance($C29,'Daily Register'!JU$3:JU$242)=TRUE,\"P\",\"A\")","v":"A"},{"$f":"IF(Attendance($C29,'Daily Register'!JV$3:JV$242)=TRUE,\"P\",\"A\")","v":"A"},{"$f":"IF(Attendance($C29,'Daily Register'!JW$3:JW$242)=TRUE,\"P\",\"A\")","v":"A"},{"$f":"IF(Attendance($C29,'Daily Register'!JX$3:JX$242)=TRUE,\"P\",\"A\")","v":"A"},{"$f":"IF(Attendance($C29,'Daily Register'!JY$3:JY$242)=TRUE,\"P\",\"A\")","v":"A"},{"$f":"IF(Attendance($C29,'Daily Register'!JZ$3:JZ$242)=TRUE,\"P\",\"A\")","v":"A"},{"$f":"IF(Attendance($C29,'Daily Register'!KA$3:KA$242)=TRUE,\"P\",\"A\")","v":"A"},{"$f":"IF(Attendance($C29,'Daily Register'!KB$3:KB$242)=TRUE,\"P\",\"A\")","v":"A"},{"$f":"IF(Attendance($C29,'Daily Register'!KC$3:KC$242)=TRUE,\"P\",\"A\")","v":"A"},{"$f":"IF(Attendance($C29,'Daily Register'!KD$3:KD$242)=TRUE,\"P\",\"A\")","v":"A"},{"$f":"IF(Attendance($C29,'Daily Register'!KE$3:KE$242)=TRUE,\"P\",\"A\")","v":"A"},{"$f":"IF(Attendance($C29,'Daily Register'!KF$3:KF$242)=TRUE,\"P\",\"A\")","v":"A"},{"$f":"IF(Attendance($C29,'Daily Register'!KG$3:KG$242)=TRUE,\"P\",\"A\")","v":"A"},{"$f":"IF(Attendance($C29,'Daily Register'!KH$3:KH$242)=TRUE,\"P\",\"A\")","v":"A"},{"$f":"IF(Attendance($C29,'Daily Register'!KI$3:KI$242)=TRUE,\"P\",\"A\")","v":"A"},{"$f":"IF(Attendance($C29,'Daily Register'!KJ$3:KJ$242)=TRUE,\"P\",\"A\")","v":"A"},{"$f":"IF(Attendance($C29,'Daily Register'!KK$3:KK$242)=TRUE,\"P\",\"A\")","v":"A"},{"$f":"IF(Attendance($C29,'Daily Register'!KL$3:KL$242)=TRUE,\"P\",\"A\")","v":"A"},{"$f":"IF(Attendance($C29,'Daily Register'!KM$3:KM$242)=TRUE,\"P\",\"A\")","v":"A"},{"$f":"IF(Attendance($C29,'Daily Register'!KN$3:KN$242)=TRUE,\"P\",\"A\")","v":"A"},{"$f":"IF(Attendance($C29,'Daily Register'!KO$3:KO$242)=TRUE,\"P\",\"A\")","v":"A"},{"$f":"IF(Attendance($C29,'Daily Register'!KP$3:KP$242)=TRUE,\"P\",\"A\")","v":"A"},{"$f":"IF(Attendance($C29,'Daily Register'!KQ$3:KQ$242)=TRUE,\"P\",\"A\")","v":"A"},{"$f":"IF(Attendance($C29,'Daily Register'!KR$3:KR$242)=TRUE,\"P\",\"A\")","v":"A"},{"$f":"IF(Attendance($C29,'Daily Register'!KS$3:KS$242)=TRUE,\"P\",\"A\")","v":"A"},{"$f":"IF(Attendance($C29,'Daily Register'!KT$3:KT$242)=TRUE,\"P\",\"A\")","v":"A"},{"$f":"IF(Attendance($C29,'Daily Register'!KU$3:KU$242)=TRUE,\"P\",\"A\")","v":"A"},{"$f":"IF(Attendance($C29,'Daily Register'!KV$3:KV$242)=TRUE,\"P\",\"A\")","v":"A"},{"$f":"IF(Attendance($C29,'Daily Register'!KW$3:KW$242)=TRUE,\"P\",\"A\")","v":"A"},{"$f":"IF(Attendance($C29,'Daily Register'!KX$3:KX$242)=TRUE,\"P\",\"A\")","v":"A"},{"$f":"IF(Attendance($C29,'Daily Register'!KY$3:KY$242)=TRUE,\"P\",\"A\")","v":"A"},{"$f":"IF(Attendance($C29,'Daily Register'!KZ$3:KZ$242)=TRUE,\"P\",\"A\")","v":"A"},{"$f":"IF(Attendance($C29,'Daily Register'!LA$3:LA$242)=TRUE,\"P\",\"A\")","v":"A"},{"$f":"IF(Attendance($C29,'Daily Register'!LB$3:LB$242)=TRUE,\"P\",\"A\")","v":"A"},{"$f":"IF(Attendance($C29,'Daily Register'!LC$3:LC$242)=TRUE,\"P\",\"A\")","v":"A"},{"$f":"IF(Attendance($C29,'Daily Register'!LD$3:LD$242)=TRUE,\"P\",\"A\")","v":"A"},{"$f":"IF(Attendance($C29,'Daily Register'!LE$3:LE$242)=TRUE,\"P\",\"A\")","v":"A"},{"$f":"IF(Attendance($C29,'Daily Register'!LF$3:LF$242)=TRUE,\"P\",\"A\")","v":"A"},{"$f":"IF(Attendance($C29,'Daily Register'!LG$3:LG$242)=TRUE,\"P\",\"A\")","v":"A"},{"$f":"IF(Attendance($C29,'Daily Register'!LH$3:LH$242)=TRUE,\"P\",\"A\")","v":"A"},{"$f":"IF(Attendance($C29,'Daily Register'!LI$3:LI$242)=TRUE,\"P\",\"A\")","v":"A"},{"$f":"IF(Attendance($C29,'Daily Register'!LJ$3:LJ$242)=TRUE,\"P\",\"A\")","v":"A"},{"$f":"IF(Attendance($C29,'Daily Register'!LK$3:LK$242)=TRUE,\"P\",\"A\")","v":"A"},{"$f":"IF(Attendance($C29,'Daily Register'!LL$3:LL$242)=TRUE,\"P\",\"A\")","v":"A"},{"$f":"IF(Attendance($C29,'Daily Register'!LM$3:LM$242)=TRUE,\"P\",\"A\")","v":"A"},{"$f":"IF(Attendance($C29,'Daily Register'!LN$3:LN$242)=TRUE,\"P\",\"A\")","v":"A"},{"$f":"IF(Attendance($C29,'Daily Register'!LO$3:LO$242)=TRUE,\"P\",\"A\")","v":"A"},{"$f":"IF(Attendance($C29,'Daily Register'!LP$3:LP$242)=TRUE,\"P\",\"A\")","v":"A"},{"$f":"IF(Attendance($C29,'Daily Register'!LQ$3:LQ$242)=TRUE,\"P\",\"A\")","v":"A"},{"$f":"IF(Attendance($C29,'Daily Register'!LR$3:LR$242)=TRUE,\"P\",\"A\")","v":"A"},{"$f":"IF(Attendance($C29,'Daily Register'!LS$3:LS$242)=TRUE,\"P\",\"A\")","v":"A"},{"$f":"IF(Attendance($C29,'Daily Register'!LT$3:LT$242)=TRUE,\"P\",\"A\")","v":"A"},{"$f":"IF(Attendance($C29,'Daily Register'!LU$3:LU$242)=TRUE,\"P\",\"A\")","v":"A"},{"$f":"IF(Attendance($C29,'Daily Register'!LV$3:LV$242)=TRUE,\"P\",\"A\")","v":"A"},{"$f":"IF(Attendance($C29,'Daily Register'!LW$3:LW$242)=TRUE,\"P\",\"A\")","v":"A"},{"$f":"IF(Attendance($C29,'Daily Register'!LX$3:LX$242)=TRUE,\"P\",\"A\")","v":"A"},{"$f":"IF(Attendance($C29,'Daily Register'!LY$3:LY$242)=TRUE,\"P\",\"A\")","v":"A"},{"$f":"IF(Attendance($C29,'Daily Register'!LZ$3:LZ$242)=TRUE,\"P\",\"A\")","v":"A"},{"$f":"IF(Attendance($C29,'Daily Register'!MA$3:MA$242)=TRUE,\"P\",\"A\")","v":"A"},{"$f":"IF(Attendance($C29,'Daily Register'!MB$3:MB$242)=TRUE,\"P\",\"A\")","v":"A"},{"$f":"IF(Attendance($C29,'Daily Register'!MC$3:MC$242)=TRUE,\"P\",\"A\")","v":"A"},{"$f":"IF(Attendance($C29,'Daily Register'!MD$3:MD$242)=TRUE,\"P\",\"A\")","v":"A"},{"$f":"IF(Attendance($C29,'Daily Register'!ME$3:ME$242)=TRUE,\"P\",\"A\")","v":"A"},{"$f":"IF(Attendance($C29,'Daily Register'!MF$3:MF$242)=TRUE,\"P\",\"A\")","v":"A"},{"$f":"IF(Attendance($C29,'Daily Register'!MG$3:MG$242)=TRUE,\"P\",\"A\")","v":"A"},{"$f":"IF(Attendance($C29,'Daily Register'!MH$3:MH$242)=TRUE,\"P\",\"A\")","v":"A"},{"$f":"IF(Attendance($C29,'Daily Register'!MI$3:MI$242)=TRUE,\"P\",\"A\")","v":"A"},{"$f":"IF(Attendance($C29,'Daily Register'!MJ$3:MJ$242)=TRUE,\"P\",\"A\")","v":"A"},{"$f":"IF(Attendance($C29,'Daily Register'!MK$3:MK$242)=TRUE,\"P\",\"A\")","v":"A"},{"$f":"IF(Attendance($C29,'Daily Register'!ML$3:ML$242)=TRUE,\"P\",\"A\")","v":"A"},{"$f":"IF(Attendance($C29,'Daily Register'!MM$3:MM$242)=TRUE,\"P\",\"A\")","v":"A"},{"$f":"IF(Attendance($C29,'Daily Register'!MN$3:MN$242)=TRUE,\"P\",\"A\")","v":"A"},{"$f":"IF(Attendance($C29,'Daily Register'!MO$3:MO$242)=TRUE,\"P\",\"A\")","v":"A"},{"$f":"IF(Attendance($C29,'Daily Register'!MP$3:MP$242)=TRUE,\"P\",\"A\")","v":"A"},{"$f":"IF(Attendance($C29,'Daily Register'!MQ$3:MQ$242)=TRUE,\"P\",\"A\")","v":"A"},{"$f":"IF(Attendance($C29,'Daily Register'!MR$3:MR$242)=TRUE,\"P\",\"A\")","v":"A"},{"$f":"IF(Attendance($C29,'Daily Register'!MS$3:MS$242)=TRUE,\"P\",\"A\")","v":"A"},{"$f":"IF(Attendance($C29,'Daily Register'!MT$3:MT$242)=TRUE,\"P\",\"A\")","v":"A"},{"$f":"IF(Attendance($C29,'Daily Register'!MU$3:MU$242)=TRUE,\"P\",\"A\")","v":"A"},{"$f":"IF(Attendance($C29,'Daily Register'!MV$3:MV$242)=TRUE,\"P\",\"A\")","v":"A"},{"$f":"IF(Attendance($C29,'Daily Register'!MW$3:MW$242)=TRUE,\"P\",\"A\")","v":"A"},{"$f":"IF(Attendance($C29,'Daily Register'!MX$3:MX$242)=TRUE,\"P\",\"A\")","v":"A"},{"$f":"IF(Attendance($C29,'Daily Register'!MY$3:MY$242)=TRUE,\"P\",\"A\")","v":"A"},{"$f":"IF(Attendance($C29,'Daily Register'!MZ$3:MZ$242)=TRUE,\"P\",\"A\")","v":"A"},{"$f":"IF(Attendance($C29,'Daily Register'!NA$3:NA$242)=TRUE,\"P\",\"A\")","v":"A"},{"$f":"IF(Attendance($C29,'Daily Register'!NB$3:NB$242)=TRUE,\"P\",\"A\")","v":"A"}]
[0,null,27,null,{"$f":"IF(Attendance($C30,'Daily Register'!A$3:A$242)=TRUE,\"P\",\"A\")","v":"A"},{"$f":"IF(Attendance($C30,'Daily Register'!B$3:B$242)=TRUE,\"P\",\"A\")","v":"A"},{"$f":"IF(Attendance($C30,'Daily Register'!C$3:C$242)=TRUE,\"P\",\"A\")","v":"A"},{"$f":"IF(Attendance($C30,'Daily Register'!D$3:D$242)=TRUE,\"P\",\"A\")","v":"A"},{"$f":"IF(Attendance($C30,'Daily Register'!E$3:E$242)=TRUE,\"P\",\"A\")","v":"A"},{"$f":"IF(Attendance($C30,'Daily Register'!F$3:F$242)=TRUE,\"P\",\"A\")","v":"A"},{"$f":"IF(Attendance($C30,'Daily Register'!G$3:G$242)=TRUE,\"P\",\"A\")","v":"A"},{"$f":"IF(Attendance($C30,'Daily Register'!H$3:H$242)=TRUE,\"P\",\"A\")","v":"A"},{"$f":"IF(Attendance($C30,'Daily Register'!I$3:I$242)=TRUE,\"P\",\"A\")","v":"A"},{"$f":"IF(Attendance($C30,'Daily Register'!J$3:J$242)=TRUE,\"P\",\"A\")","v":"A"},{"$f":"IF(Attendance($C30,'Daily Register'!K$3:K$242)=TRUE,\"P\",\"A\")","v":"A"},{"$f":"IF(Attendance($C30,'Daily Register'!L$3:L$242)=TRUE,\"P\",\"A\")","v":"A"},{"$f":"IF(Attendance($C30,'Daily Register'!M$3:M$242)=TRUE,\"P\",\"A\")","v":"A"},{"$f":"IF(Attendance($C30,'Daily Register'!N$3:N$242)=TRUE,\"P\",\"A\")","v":"A"},{"$f":"IF(Attendance($C30,'Daily Register'!O$3:O$242)=TRUE,\"P\",\"A\")","v":"A"},{"$f":"IF(Attendance($C30,'Daily Register'!P$3:P$242)=TRUE,\"P\",\"A\")","v":"A"},{"$f":"IF(Attendance($C30,'Daily Register'!Q$3:Q$242)=TRUE,\"P\",\"A\")","v":"A"},{"$f":"IF(Attendance($C30,'Daily Register'!R$3:R$242)=TRUE,\"P\",\"A\")","v":"A"},{"$f":"IF(Attendance($C30,'Daily Register'!S$3:S$242)=TRUE,\"P\",\"A\")","v":"A"},{"$f":"IF(Attendance($C30,'Daily Register'!T$3:T$242)=TRUE,\"P\",\"A\")","v":"A"},{"$f":"IF(Attendance($C30,'Daily Register'!U$3:U$242)=TRUE,\"P\",\"A\")","v":"A"},{"$f":"IF(Attendance($C30,'Daily Register'!V$3:V$242)=TRUE,\"P\",\"A\")","v":"A"},{"$f":"IF(Attendance($C30,'Daily Register'!W$3:W$242)=TRUE,\"P\",\"A\")","v":"A"},{"$f":"IF(Attendance($C30,'Daily Register'!X$3:X$242)=TRUE,\"P\",\"A\")","v":"A"},{"$f":"IF(Attendance($C30,'Daily Register'!Y$3:Y$242)=TRUE,\"P\",\"A\")","v":"A"},{"$f":"IF(Attendance($C30,'Daily Register'!Z$3:Z$242)=TRUE,\"P\",\"A\")","v":"A"},{"$f":"IF(Attendance($C30,'Daily Register'!AA$3:AA$242)=TRUE,\"P\",\"A\")","v":"A"},{"$f":"IF(Attendance($C30,'Daily Register'!AB$3:AB$242)=TRUE,\"P\",\"A\")","v":"A"},{"$f":"IF(Attendance($C30,'Daily Register'!AC$3:AC$242)=TRUE,\"P\",\"A\")","v":"A"},{"$f":"IF(Attendance($C30,'Daily Register'!AD$3:AD$242)=TRUE,\"P\",\"A\")","v":"A"},{"$f":"IF(Attendance($C30,'Daily Register'!AE$3:AE$242)=TRUE,\"P\",\"A\")","v":"A"},{"$f":"IF(Attendance($C30,'Daily Register'!AF$3:AF$242)=TRUE,\"P\",\"A\")","v":"A"},{"$f":"IF(Attendance($C30,'Daily Register'!AG$3:AG$242)=TRUE,\"P\",\"A\")","v":"A"},{"$f":"IF(Attendance($C30,'Daily Register'!AH$3:AH$242)=TRUE,\"P\",\"A\")","v":"A"},{"$f":"IF(Attendance($C30,'Daily Register'!AI$3:AI$242)=TRUE,\"P\",\"A\")","v":"A"},{"$f":"IF(Attendance($C30,'Daily Register'!AJ$3:AJ$242)=TRUE,\"P\",\"A\")","v":"A"},{"$f":"IF(Attendance($C30,'Daily Register'!AK$3:AK$242)=TRUE,\"P\",\"A\")","v":"A"},{"$f":"IF(Attendance($C30,'Daily Register'!AL$3:AL$242)=TRUE,\"P\",\"A\")","v":"A"},{"$f":"IF(Attendance($C30,'Daily Register'!AM$3:AM$242)=TRUE,\"P\",\"A\")","v":"A"},{"$f":"IF(Attendance($C30,'Daily Register'!AN$3:AN$242)=TRUE,\"P\",\"A\")","v":"A"},{"$f":"IF(Attendance($C30,'Daily Register'!AO$3:AO$242)=TRUE,\"P\",\"A\")","v":"A"},{"$f":"IF(Attendance($C30,'Daily Register'!AP$3:AP$242)=TRUE,\"P\",\"A\")","v":"A"},{"$f":"IF(Attendance($C30,'Daily Register'!AQ$3:AQ$242)=TRUE,\"P\",\"A\")","v":"A"},{"$f":"IF(Attendance($C30,'Daily Register'!AR$3:AR$242)=TRUE,\"P\",\"A\")","v":"A"},{"$f":"IF(Attendance($C30,'Daily Register'!AS$3:AS$242)=TRUE,\"P\",\"A\")","v":"A"},{"$f":"IF(Attendance($C30,'Daily Register'!AT$3:AT$242)=TRUE,\"P\",\"A\")","v":"A"},{"$f":"IF(Attendance($C30,'Daily Register'!AU$3:AU$242)=TRUE,\"P\",\"A\")","v":"A"},{"$f":"IF(Attendance($C30,'Daily Register'!AV$3:AV$242)=TRUE,\"P\",\"A\")","v":"A"},{"$f":"IF(Attendance($C30,'Daily Register'!AW$3:AW$242)=TRUE,\"P\",\"A\")","v":"A"},{"$f":"IF(Attendance($C30,'Daily Register'!AX$3:AX$242)=TRUE,\"P\",\"A\")","v":"A"},{"$f":"IF(Attendance($C30,'Daily Register'!AY$3:AY$242)=TRUE,\"P\",\"A\")","v":"A"},{"$f":"IF(Attendance($C30,'Daily Register'!AZ$3:AZ$242)=TRUE,\"P\",\"A\")","v":"A"},{"$f":"IF(Attendance($C30,'Daily Register'!BA$3:BA$242)=TRUE,\"P\",\"A\")","v":"A"},{"$f":"IF(Attendance($C30,'Daily Register'!BB$3:BB$242)=TRUE,\"P\",\"A\")","v":"A"},{"$f":"IF(Attendance($C30,'Daily Register'!BC$3:BC$242)=TRUE,\"P\",\"A\")","v":"A"},{"$f":"IF(Attendance($C30,'Daily Register'!BD$3:BD$242)=TRUE,\"P\",\"A\")","v":"A"},{"$f":"IF(Attendance($C30,'Daily Register'!BE$3:BE$242)=TRUE,\"P\",\"A\")","v":"A"},{"$f":"IF(Attendance($C30,'Daily Register'!BF$3:BF$242)=TRUE,\"P\",\"A\")","v":"A"},{"$f":"IF(Attendance($C30,'Daily Register'!BG$3:BG$242)=TRUE,\"P\",\"A\")","v":"A"},{"$f":"IF(Attendance($C30,'Daily Register'!BH$3:BH$242)=TRUE,\"P\",\"A\")","v":"A"},{"$f":"IF(Attendance($C30,'Daily Register'!BI$3:BI$242)=TRUE,\"P\",\"A\")","v":"A"},{"$f":"IF(Attendance($C30,'Daily Register'!BJ$3:BJ$242)=TRUE,\"P\",\"A\")","v":"A"},{"$f":"IF(Attendance($C30,'Daily Register'!BK$3:BK$242)=TRUE,\"P\",\"A\")","v":"A"},{"$f":"IF(Attendance($C30,'Daily Register'!BL$3:BL$242)=TRUE,\"P\",\"A\")","v":"A"},{"$f":"IF(Attendance($C30,'Daily Register'!BM$3:BM$242)=TRUE,\"P\",\"A\")","v":"A"},{"$f":"IF(Attendance($C30,'Daily Register'!BN$3:BN$242)=TRUE,\"P\",\"A\")","v":"A"},{"$f":"IF(Attendance($C30,'Daily Register'!BO$3:BO$242)=TRUE,\"P\",\"A\")","v":"A"},{"$f":"IF(Attendance($C30,'Daily Register'!BP$3:BP$242)=TRUE,\"P\",\"A\")","v":"A"},{"$f":"IF(Attendance($C30,'Daily Register'!BQ$3:BQ$242)=TRUE,\"P\",\"A\")","v":"A"},{"$f":"IF(Attendance($C30,'Daily Register'!BR$3:BR$242)=TRUE,\"P\",\"A\")","v":"A"},{"$f":"IF(Attendance($C30,'Daily Register'!BS$3:BS$242)=TRUE,\"P\",\"A\")","v":"A"},{"$f":"IF(Attendance($C30,'Daily Register'!BT$3:BT$242)=TRUE,\"P\",\"A\")","v":"A"},{"$f":"IF(Attendance($C30,'Daily Register'!BU$3:BU$242)=TRUE,\"P\",\"A\")","v":"A"},{"$f":"IF(Attendance($C30,'Daily Register'!BV$3:BV$242)=TRUE,\"P\",\"A\")","v":"A"},{"$f":"IF(Attendance($C30,'Daily Register'!BW$3:BW$242)=TRUE,\"P\",\"A\")","v":"A"},{"$f":"IF(Attendance($C30,'Daily Register'!BX$3:BX$242)=TRUE,\"P\",\"A\")","v":"A"},{"$f":"IF(Attendance($C30,'Daily Register'!BY$3:BY$242)=TRUE,\"P\",\"A\")","v":"A"},{"$f":"IF(Attendance($C30,'Daily Register'!BZ$3:BZ$242)=TRUE,\"P\",\"A\")","v":"A"},{"$f":"IF(Attendance($C30,'Daily Register'!CA$3:CA$242)=TRUE,\"P\",\"A\")","v":"A"},{"$f":"IF(Attendance($C30,'Daily Register'!CB$3:CB$242)=TRUE,\"P\",\"A\")","v":"A"},{"$f":"IF(Attendance($C30,'Daily Register'!CC$3:CC$242)=TRUE,\"P\",\"A\")","v":"A"},{"$f":"IF(Attendance($C30,'Daily Register'!CD$3:CD$242)=TRUE,\"P\",\"A\")","v":"A"},{"$f":"IF(Attendance($C30,'Daily Register'!CE$3:CE$242)=TRUE,\"P\",\"A\")","v":"A"},{"$f":"IF(Attendance($C30,'Daily Register'!CF$3:CF$242)=TRUE,\"P\",\"A\")","v":"A"},{"$f":"IF(Attendance($C30,'Daily Register'!CG$3:CG$242)=TRUE,\"P\",\"A\")","v":"A"},{"$f":"IF(Attendance($C30,'Daily Register'!CH$3:CH$242)=TRUE,\"P\",\"A\")","v":"A"},{"$f":"IF(Attendance($C30,'Daily Register'!CI$3:CI$242)=TRUE,\"P\",\"A\")","v":"A"},{"$f":"IF(Attendance($C30,'Daily Register'!CJ$3:CJ$242)=TRUE,\"P\",\"A\")","v":"A"},{"$f":"IF(Attendance($C30,'Daily Register'!CK$3:CK$242)=TRUE,\"P\",\"A\")","v":"A"},{"$f":"IF(Attendance($C30,'Daily Register'!CL$3:CL$242)=TRUE,\"P\",\"A\")","v":"A"},{"$f":"IF(Attendance($C30,'Daily Register'!CM$3:CM$242)=TRUE,\"P\",\"A\")","v":"A"},{"$f":"IF(Attendance($C30,'Daily Register'!CN$3:CN$242)=TRUE,\"P\",\"A\")","v":"A"},{"$f":"IF(Attendance($C30,'Daily Register'!CO$3:CO$242)=TRUE,\"P\",\"A\")","v":"A"},{"$f":"IF(Attendance($C30,'Daily Register'!CP$3:CP$242)=TRUE,\"P\",\"A\")","v":"A"},{"$f":"IF(Attendance($C30,'Daily Register'!CQ$3:CQ$242)=TRUE,\"P\",\"A\")","v":"A"},{"$f":"IF(Attendance($C30,'Daily Register'!CR$3:CR$242)=TRUE,\"P\",\"A\")","v":"A"},{"$f":"IF(Attendance($C30,'Daily Register'!CS$3:CS$242)=TRUE,\"P\",\"A\")","v":"A"},{"$f":"IF(Attendance($C30,'Daily Register'!CT$3:CT$242)=TRUE,\"P\",\"A\")","v":"A"},{"$f":"IF(Attendance($C30,'Daily Register'!CU$3:CU$242)=TRUE,\"P\",\"A\")","v":"A"},{"$f":"IF(Attendance($C30,'Daily Register'!CV$3:CV$242)=TRUE,\"P\",\"A\")","v":"A"},{"$f":"IF(Attendance($C30,'Daily Register'!CW$3:CW$242)=TRUE,\"P\",\"A\")","v":"A"},{"$f":"IF(Attendance($C30,'Daily Register'!CX$3:CX$242)=TRUE,\"P\",\"A\")","v":"A"},{"$f":"IF(Attendance($C30,'Daily Register'!CY$3:CY$242)=TRUE,\"P\",\"A\")","v":"A"},{"$f":"IF(Attendance($C30,'Daily Register'!CZ$3:CZ$242)=TRUE,\"P\",\"A\")","v":"A"},{"$f":"IF(Attendance($C30,'Daily Register'!DA$3:DA$242)=TRUE,\"P\",\"A\")","v":"A"},{"$f":"IF(Attendance($C30,'Daily Register'!DB$3:DB$242)=TRUE,\"P\",\"A\")","v":"A"},{"$f":"IF(Attendance($C30,'Daily Register'!DC$3:DC$242)=TRUE,\"P\",\"A\")","v":"A"},{"$f":"IF(Attendance($C30,'Daily Register'!DD$3:DD$242)=TRUE,\"P\",\"A\")","v":"A"},{"$f":"IF(Attendance($C30,'Daily Register'!DE$3:DE$242)=TRUE,\"P\",\"A\")","v":"A"},{"$f":"IF(Attendance($C30,'Daily Register'!DF$3:DF$242)=TRUE,\"P\",\"A\")","v":"A"},{"$f":"IF(Attendance($C30,'Daily Register'!DG$3:DG$242)=TRUE,\"P\",\"A\")","v":"A"},{"$f":"IF(Attendance($C30,'Daily Register'!DH$3:DH$242)=TRUE,\"P\",\"A\")","v":"A"},{"$f":"IF(Attendance($C30,'Daily Register'!DI$3:DI$242)=TRUE,\"P\",\"A\")","v":"A"},{"$f":"IF(Attendance($C30,'Daily Register'!DJ$3:DJ$242)=TRUE,\"P\",\"A\")","v":"A"},{"$f":"IF(Attendance($C30,'Daily Register'!DK$3:DK$242)=TRUE,\"P\",\"A\")","v":"A"},{"$f":"IF(Attendance($C30,'Daily Register'!DL$3:DL$242)=TRUE,\"P\",\"A\")","v":"A"},{"$f":"IF(Attendance($C30,'Daily Register'!DM$3:DM$242)=TRUE,\"P\",\"A\")","v":"A"},{"$f":"IF(Attendance($C30,'Daily Register'!DN$3:DN$242)=TRUE,\"P\",\"A\")","v":"A"},{"$f":"IF(Attendance($C30,'Daily Register'!DO$3:DO$242)=TRUE,\"P\",\"A\")","v":"A"},{"$f":"IF(Attendance($C30,'Daily Register'!DP$3:DP$242)=TRUE,\"P\",\"A\")","v":"A"},{"$f":"IF(Attendance($C30,'Daily Register'!DQ$3:DQ$242)=TRUE,\"P\",\"A\")","v":"A"},{"$f":"IF(Attendance($C30,'Daily Register'!DR$3:DR$242)=TRUE,\"P\",\"A\")","v":"A"},{"$f":"IF(Attendance($C30,'Daily Register'!DS$3:DS$242)=TRUE,\"P\",\"A\")","v":"A"},{"$f":"IF(Attendance($C30,'Daily Register'!DT$3:DT$242)=TRUE,\"P\",\"A\")","v":"A"},{"$f":"IF(Attendance($C30,'Daily Register'!DU$3:DU$242)=TRUE,\"P\",\"A\")","v":"A"},{"$f":"IF(Attendance($C30,'Daily Register'!DV$3:DV$242)=TRUE,\"P\",\"A\")","v":"A"},{"$f":"IF(Attendance($C30,'Daily Register'!DW$3:DW$242)=TRUE,\"P\",\"A\")","v":"A"},{"$f":"IF(Attendance($C30,'Daily Register'!DX$3:DX$242)=TRUE,\"P\",\"A\")","v":"A"},{"$f":"IF(Attendance($C30,'Daily Register'!DY$3:DY$242)=TRUE,\"P\",\"A\")","v":"A"},{"$f":"IF(Attendance($C30,'Daily Register'!DZ$3:DZ$242)=TRUE,\"P\",\"A\")","v":"A"},{"$f":"IF(Attendance($C30,'Daily Register'!EA$3:EA$242)=TRUE,\"P\",\"A\")","v":"A"},{"$f":"IF(Attendance($C30,'Daily Register'!EB$3:EB$242)=TRUE,\"P\",\"A\")","v":"A"},{"$f":"IF(Attendance($C30,'Daily Register'!EC$3:EC$242)=TRUE,\"P\",\"A\")","v":"A"},{"$f":"IF(Attendance($C30,'Daily Register'!ED$3:ED$242)=TRUE,\"P\",\"A\")","v":"A"},{"$f":"IF(Attendance($C30,'Daily Register'!EE$3:EE$242)=TRUE,\"P\",\"A\")","v":"A"},{"$f":"IF(Attendance($C30,'Daily Register'!EF$3:EF$242)=TRUE,\"P\",\"A\")","v":"A"},{"$f":"IF(Attendance($C30,'Daily Register'!EG$3:EG$242)=TRUE,\"P\",\"A\")","v":"A"},{"$f":"IF(Attendance($C30,'Daily Register'!EH$3:EH$242)=TRUE,\"P\",\"A\")","v":"A"},{"$f":"IF(Attendance($C30,'Daily Register'!EI$3:EI$242)=TRUE,\"P\",\"A\")","v":"A"},{"$f":"IF(Attendance($C30,'Daily Register'!EJ$3:EJ$242)=TRUE,\"P\",\"A\")","v":"A"},{"$f":"IF(Attendance($C30,'Daily Register'!EK$3:EK$242)=TRUE,\"P\",\"A\")","v":"A"},{"$f":"IF(Attendance($C30,'Daily Register'!EL$3:EL$242)=TRUE,\"P\",\"A\")","v":"A"},{"$f":"IF(Attendance($C30,'Daily Register'!EM$22:EM$242)=TRUE,\"P\",\"A\")","v":"A"},{"$f":"IF(Attendance($C30,'Daily Register'!EN$3:EN$242)=TRUE,\"P\",\"A\")","v":"A"},{"$f":"IF(Attendance($C30,'Daily Register'!EO$3:EO$242)=TRUE,\"P\",\"A\")","v":"A"},{"$f":"IF(Attendance($C30,'Daily Register'!EP$3:EP$242)=TRUE,\"P\",\"A\")","v":"A"},{"$f":"IF(Attendance($C30,'Daily Register'!EQ$3:EQ$242)=TRUE,\"P\",\"A\")","v":"A"},{"$f":"IF(Attendance($C30,'Daily Register'!ER$3:ER$242)=TRUE,\"P\",\"A\")","v":"A"},{"$f":"IF(Attendance($C30,'Daily Register'!ES$3:ES$242)=TRUE,\"P\",\"A\")","v":"A"},{"$f":"IF(Attendance($C30,'Daily Register'!ET$3:ET$242)=TRUE,\"P\",\"A\")","v":"A"},{"$f":"IF(Attendance($C30,'Daily Register'!EU$3:EU$242)=TRUE,\"P\",\"A\")","v":"A"},{"$f":"IF(Attendance($C30,'Daily Register'!EV$3:EV$242)=TRUE,\"P\",\"A\")","v":"A"},{"$f":"IF(Attendance($C30,'Daily Register'!EW$3:EW$242)=TRUE,\"P\",\"A\")","v":"A"},{"$f":"IF(Attendance($C30,'Daily Register'!EX$3:EX$242)=TRUE,\"P\",\"A\")","v":"A"},{"$f":"IF(Attendance($C30,'Daily Register'!EY$3:EY$242)=TRUE,\"P\",\"A\")","v":"A"},{"$f":"IF(Attendance($C30,'Daily Register'!EZ$3:EZ$242)=TRUE,\"P\",\"A\")","v":"A"},{"$f":"IF(Attendance($C30,'Daily Register'!FA$3:FA$242)=TRUE,\"P\",\"A\")","v":"A"},{"$f":"IF(Attendance($C30,'Daily Register'!FB$3:FB$242)=TRUE,\"P\",\"A\")","v":"A"},{"$f":"IF(Attendance($C30,'Daily Register'!FC$3:FC$242)=TRUE,\"P\",\"A\")","v":"A"},{"$f":"IF(Attendance($C30,'Daily Register'!FD$3:FD$242)=TRUE,\"P\",\"A\")","v":"A"},{"$f":"IF(Attendance($C30,'Daily Register'!FE$3:FE$242)=TRUE,\"P\",\"A\")","v":"A"},{"$f":"IF(Attendance($C30,'Daily Register'!FF$3:FF$242)=TRUE,\"P\",\"A\")","v":"A"},{"$f":"IF(Attendance($C30,'Daily Register'!FG$3:FG$242)=TRUE,\"P\",\"A\")","v":"A"},{"$f":"IF(Attendance($C30,'Daily Register'!FH$3:FH$242)=TRUE,\"P\",\"A\")","v":"A"},{"$f":"IF(Attendance($C30,'Daily Register'!FI$3:FI$242)=TRUE,\"P\",\"A\")","v":"A"},{"$f":"IF(Attendance($C30,'Daily Register'!FJ$3:FJ$242)=TRUE,\"P\",\"A\")","v":"A"},{"$f":"IF(Attendance($C30,'Daily Register'!FK$3:FK$242)=TRUE,\"P\",\"A\")","v":"A"},{"$f":"IF(Attendance($C30,'Daily Register'!FL$3:FL$242)=TRUE,\"P\",\"A\")","v":"A"},{"$f":"IF(Attendance($C30,'Daily Register'!FM$3:FM$242)=TRUE,\"P\",\"A\")","v":"A"},{"$f":"IF(Attendance($C30,'Daily Register'!FN$3:FN$242)=TRUE,\"P\",\"A\")","v":"A"},{"$f":"IF(Attendance($C30,'Daily Register'!FO$3:FO$242)=TRUE,\"P\",\"A\")","v":"A"},{"$f":"IF(Attendance($C30,'Daily Register'!FP$3:FP$242)=TRUE,\"P\",\"A\")","v":"A"},{"$f":"IF(Attendance($C30,'Daily Register'!FQ$3:FQ$242)=TRUE,\"P\",\"A\")","v":"A"},{"$f":"IF(Attendance($C30,'Daily Register'!FR$3:FR$242)=TRUE,\"P\",\"A\")","v":"A"},{"$f":"IF(Attendance($C30,'Daily Register'!FS$3:FS$242)=TRUE,\"P\",\"A\")","v":"A"},{"$f":"IF(Attendance($C30,'Daily Register'!FT$3:FT$242)=TRUE,\"P\",\"A\")","v":"A"},{"$f":"IF(Attendance($C30,'Daily Register'!FU$3:FU$242)=TRUE,\"P\",\"A\")","v":"A"},{"$f":"IF(Attendance($C30,'Daily Register'!FV$3:FV$242)=TRUE,\"P\",\"A\")","v":"A"},{"$f":"IF(Attendance($C30,'Daily Register'!FW$3:FW$242)=TRUE,\"P\",\"A\")","v":"A"},{"$f":"IF(Attendance($C30,'Daily Register'!FX$3:FX$242)=TRUE,\"P\",\"A\")","v":"A"},{"$f":"IF(Attendance($C30,'Daily Register'!FY$3:FY$242)=TRUE,\"P\",\"A\")","v":"A"},{"$f":"IF(Attendance($C30,'Daily Register'!FZ$3:FZ$242)=TRUE,\"P\",\"A\")","v":"A"},{"$f":"IF(Attendance($C30,'Daily Register'!GA$3:GA$242)=TRUE,\"P\",\"A\")","v":"A"},{"$f":"IF(Attendance($C30,'Daily Register'!GB$3:GB$242)=TRUE,\"P\",\"A\")","v":"A"},{"$f":"IF(Attendance($C30,'Daily Register'!GC$3:GC$242)=TRUE,\"P\",\"A\")","v":"A"},{"$f":"IF(Attendance($C30,'Daily Register'!GD$3:GD$242)=TRUE,\"P\",\"A\")","v":"A"},{"$f":"IF(Attendance($C30,'Daily Register'!GE$3:GE$242)=TRUE,\"P\",\"A\")","v":"A"},{"$f":"IF(Attendance($C30,'Daily Register'!GF$3:GF$242)=TRUE,\"P\",\"A\")","v":"A"},{"$f":"IF(Attendance($C30,'Daily Register'!GG$3:GG$242)=TRUE,\"P\",\"A\")","v":"A"},{"$f":"IF(Attendance($C30,'Daily Register'!GH$3:GH$242)=TRUE,\"P\",\"A\")","v":"A"},{"$f":"IF(Attendance($C30,'Daily Register'!GI$3:GI$242)=TRUE,\"P\",\"A\")","v":"A"},{"$f":"IF(Attendance($C30,'Daily Register'!GJ$3:GJ$242)=TRUE,\"P\",\"A\")","v":"A"},{"$f":"IF(Attendance($C30,'Daily Register'!GK$3:GK$242)=TRUE,\"P\",\"A\")","v":"A"},{"$f":"IF(Attendance($C30,'Daily Register'!GL$3:GL$242)=TRUE,\"P\",\"A\")","v":"A"},{"$f":"IF(Attendance($C30,'Daily Register'!GM$3:GM$242)=TRUE,\"P\",\"A\")","v":"A"},{"$f":"IF(Attendance($C30,'Daily Register'!GN$3:GN$242)=TRUE,\"P\",\"A\")","v":"A"},{"$f":"IF(Attendance($C30,'Daily Register'!GO$3:GO$242)=TRUE,\"P\",\"A\")","v":"A"},{"$f":"IF(Attendance($C30,'Daily Register'!GP$3:GP$242)=TRUE,\"P\",\"A\")","v":"A"},{"$f":"IF(Attendance($C30,'Daily Register'!GQ$3:GQ$242)=TRUE,\"P\",\"A\")","v":"A"},{"$f":"IF(Attendance($C30,'Daily Register'!GR$3:GR$242)=TRUE,\"P\",\"A\")","v":"A"},{"$f":"IF(Attendance($C30,'Daily Register'!GS$3:GS$242)=TRUE,\"P\",\"A\")","v":"A"},{"$f":"IF(Attendance($C30,'Daily Register'!GT$3:GT$242)=TRUE,\"P\",\"A\")","v":"A"},{"$f":"IF(Attendance($C30,'Daily Register'!GU$3:GU$242)=TRUE,\"P\",\"A\")","v":"A"},{"$f":"IF(Attendance($C30,'Daily Register'!GV$3:GV$242)=TRUE,\"P\",\"A\")","v":"A"},{"$f":"IF(Attendance($C30,'Daily Register'!GW$3:GW$242)=TRUE,\"P\",\"A\")","v":"A"},{"$f":"IF(Attendance($C30,'Daily Register'!GX$3:GX$242)=TRUE,\"P\",\"A\")","v":"A"},{"$f":"IF(Attendance($C30,'Daily Register'!GY$3:GY$242)=TRUE,\"P\",\"A\")","v":"A"},{"$f":"IF(Attendance($C30,'Daily Register'!GZ$3:GZ$242)=TRUE,\"P\",\"A\")","v":"A"},{"$f":"IF(Attendance($C30,'Daily Register'!HA$3:HA$242)=TRUE,\"P\",\"A\")","v":"A"},{"$f":"IF(Attendance($C30,'Daily Register'!HB$3:HB$242)=TRUE,\"P\",\"A\")","v":"A"},{"$f":"IF(Attendance($C30,'Daily Register'!HC$3:HC$242)=TRUE,\"P\",\"A\")","v":"A"},{"$f":"IF(Attendance($C30,'Daily Register'!HD$3:HD$242)=TRUE,\"P\",\"A\")","v":"A"},{"$f":"IF(Attendance($C30,'Daily Register'!HE$3:HE$242)=TRUE,\"P\",\"A\")","v":"A"},{"$f":"IF(Attendance($C30,'Daily Register'!HF$3:HF$242)=TRUE,\"P\",\"A\")","v":"A"},{"$f":"IF(Attendance($C30,'Daily Register'!HG$3:HG$242)=TRUE,\"P\",\"A\")","v":"A"},{"$f":"IF(Attendance($C30,'Daily Register'!HH$3:HH$242)=TRUE,\"P\",\"A\")","v":"A"},{"$f":"IF(Attendance($C30,'Daily Register'!HI$3:HI$242)=TRUE,\"P\",\"A\")","v":"A"},{"$f":"IF(Attendance($C30,'Daily Register'!HJ$3:HJ$242)=TRUE,\"P\",\"A\")","v":"A"},{"$f":"IF(Attendance($C30,'Daily Register'!HK$3:HK$242)=TRUE,\"P\",\"A\")","v":"A"},{"$f":"IF(Attendance($C30,'Daily Register'!HL$3:HL$242)=TRUE,\"P\",\"A\")","v":"A"},{"$f":"IF(Attendance($C30,'Daily Register'!HM$3:HM$242)=TRUE,\"P\",\"A\")","v":"A"},{"$f":"IF(Attendance($C30,'Daily Register'!HN$3:HN$242)=TRUE,\"P\",\"A\")","v":"A"},{"$f":"IF(Attendance($C30,'Daily Register'!HO$3:HO$242)=TRUE,\"P\",\"A\")","v":"A"},{"$f":"IF(Attendance($C30,'Daily Register'!HP$3:HP$242)=TRUE,\"P\",\"A\")","v":"A"},{"$f":"IF(Attendance($C30,'Daily Register'!HQ$3:HQ$242)=TRUE,\"P\",\"A\")","v":"A"},{"$f":"IF(Attendance($C30,'Daily Register'!HR$3:HR$242)=TRUE,\"P\",\"A\")","v":"A"},{"$f":"IF(Attendance($C30,'Daily Register'!HS$3:HS$242)=TRUE,\"P\",\"A\")","v":"A"},{"$f":"IF(Attendance($C30,'Daily Register'!HT$3:HT$242)=TRUE,\"P\",\"A\")","v":"A"},{"$f":"IF(Attendance($C30,'Daily Register'!HU$3:HU$242)=TRUE,\"P\",\"A\")","v":"A"},{"$f":"IF(Attendance($C30,'Daily Register'!HV$3:HV$242)=TRUE,\"P\",\"A\")","v":"A"},{"$f":"IF(Attendance($C30,'Daily Register'!HW$3:HW$242)=TRUE,\"P\",\"A\")","v":"A"},{"$f":"IF(Attendance($C30,'Daily Register'!HX$3:HX$242)=TRUE,\"P\",\"A\")","v":"A"},{"$f":"IF(Attendance($C30,'Daily Register'!HY$3:HY$242)=TRUE,\"P\",\"A\")","v":"A"},{"$f":"IF(Attendance($C30,'Daily Register'!HZ$3:HZ$242)=TRUE,\"P\",\"A\")","v":"A"},{"$f":"IF(Attendance($C30,'Daily Register'!IA$3:IA$242)=TRUE,\"P\",\"A\")","v":"A"},{"$f":"IF(Attendance($C30,'Daily Register'!IB$3:IB$242)=TRUE,\"P\",\"A\")","v":"A"},{"$f":"IF(Attendance($C30,'Daily Register'!IC$3:IC$242)=TRUE,\"P\",\"A\")","v":"A"},{"$f":"IF(Attendance($C30,'Daily Register'!ID$3:ID$242)=TRUE,\"P\",\"A\")","v":"A"},{"$f":"IF(Attendance($C30,'Daily Register'!IE$3:IE$242)=TRUE,\"P\",\"A\")","v":"A"},{"$f":"IF(Attendance($C30,'Daily Register'!IF$3:IF$242)=TRUE,\"P\",\"A\")","v":"A"},{"$f":"IF(Attendance($C30,'Daily Register'!IG$3:IG$242)=TRUE,\"P\",\"A\")","v":"A"},{"$f":"IF(Attendance($C30,'Daily Register'!IH$3:IH$242)=TRUE,\"P\",\"A\")","v":"A"},{"$f":"IF(Attendance($C30,'Daily Register'!II$3:II$242)=TRUE,\"P\",\"A\")","v":"A"},{"$f":"IF(Attendance($C30,'Daily Register'!IJ$3:IJ$242)=TRUE,\"P\",\"A\")","v":"A"},{"$f":"IF(Attendance($C30,'Daily Register'!IK$3:IK$242)=TRUE,\"P\",\"A\")","v":"A"},{"$f":"IF(Attendance($C30,'Daily Register'!IL$3:IL$242)=TRUE,\"P\",\"A\")","v":"A"},{"$f":"IF(Attendance($C30,'Daily Register'!IM$3:IM$242)=TRUE,\"P\",\"A\")","v":"A"},{"$f":"IF(Attendance($C30,'Daily Register'!IN$3:IN$242)=TRUE,\"P\",\"A\")","v":"A"},{"$f":"IF(Attendance($C30,'Daily Register'!IO$3:IO$242)=TRUE,\"P\",\"A\")","v":"A"},{"$f":"IF(Attendance($C30,'Daily Register'!IP$3:IP$242)=TRUE,\"P\",\"A\")","v":"A"},{"$f":"IF(Attendance($C30,'Daily Register'!IQ$3:IQ$242)=TRUE,\"P\",\"A\")","v":"A"},{"$f":"IF(Attendance($C30,'Daily Register'!IR$3:IR$242)=TRUE,\"P\",\"A\")","v":"A"},{"$f":"IF(Attendance($C30,'Daily Register'!IS$3:IS$242)=TRUE,\"P\",\"A\")","v":"A"},{"$f":"IF(Attendance($C30,'Daily Register'!IT$3:IT$242)=TRUE,\"P\",\"A\")","v":"A"},{"$f":"IF(Attendance($C30,'Daily Register'!IU$3:IU$242)=TRUE,\"P\",\"A\")","v":"A"},{"$f":"IF(Attendance($C30,'Daily Register'!IV$3:IV$242)=TRUE,\"P\",\"A\")","v":"A"},{"$f":"IF(Attendance($C30,'Daily Register'!IW$3:IW$242)=TRUE,\"P\",\"A\")","v":"A"},{"$f":"IF(Attendance($C30,'Daily Register'!IX$3:IX$242)=TRUE,\"P\",\"A\")","v":"A"},{"$f":"IF(Attendance($C30,'Daily Register'!IY$3:IY$242)=TRUE,\"P\",\"A\")","v":"A"},{"$f":"IF(Attendance($C30,'Daily Register'!IZ$3:IZ$242)=TRUE,\"P\",\"A\")","v":"A"},{"$f":"IF(Attendance($C30,'Daily Register'!JA$3:JA$242)=TRUE,\"P\",\"A\")","v":"A"},{"$f":"IF(Attendance($C30,'Daily Register'!JB$3:JB$242)=TRUE,\"P\",\"A\")","v":"A"},{"$f":"IF(Attendance($C30,'Daily Register'!JC$3:JC$242)=TRUE,\"P\",\"A\")","v":"A"},{"$f":"IF(Attendance($C30,'Daily Register'!JD$3:JD$242)=TRUE,\"P\",\"A\")","v":"A"},{"$f":"IF(Attendance($C30,'Daily Register'!JE$3:JE$242)=TRUE,\"P\",\"A\")","v":"A"},{"$f":"IF(Attendance($C30,'Daily Register'!JF$3:JF$242)=TRUE,\"P\",\"A\")","v":"A"},{"$f":"IF(Attendance($C30,'Daily Register'!JG$3:JG$242)=TRUE,\"P\",\"A\")","v":"A"},{"$f":"IF(Attendance($C30,'Daily Register'!JH$3:JH$242)=TRUE,\"P\",\"A\")","v":"A"},{"$f":"IF(Attendance($C30,'Daily Register'!JI$3:JI$242)=TRUE,\"P\",\"A\")","v":"A"},{"$f":"IF(Attendance($C30,'Daily Register'!JJ$3:JJ$242)=TRUE,\"P\",\"A\")","v":"A"},{"$f":"IF(Attendance($C30,'Daily Register'!JK$3:JK$242)=TRUE,\"P\",\"A\")","v":"A"},{"$f":"IF(Attendance($C30,'Daily Register'!JL$3:JL$242)=TRUE,\"P\",\"A\")","v":"A"},{"$f":"IF(Attendance($C30,'Daily Register'!JM$3:JM$242)=TRUE,\"P\",\"A\")","v":"A"},{"$f":"IF(Attendance($C30,'Daily Register'!JN$3:JN$242)=TRUE,\"P\",\"A\")","v":"A"},{"$f":"IF(Attendance($C30,'Daily Register'!JO$3:JO$242)=TRUE,\"P\",\"A\")","v":"A"},{"$f":"IF(Attendance($C30,'Daily Register'!JP$3:JP$242)=TRUE,\"P\",\"A\")","v":"A"},{"$f":"IF(Attendance($C30,'Daily Register'!JQ$3:JQ$242)=TRUE,\"P\",\"A\")","v":"A"},{"$f":"IF(Attendance($C30,'Daily Register'!JR$3:JR$242)=TRUE,\"P\",\"A\")","v":"A"},{"$f":"IF(Attendance($C30,'Daily Register'!JS$3:JS$242)=TRUE,\"P\",\"A\")","v":"A"},{"$f":"IF(Attendance($C30,'Daily Register'!JT$3:JT$242)=TRUE,\"P\",\"A\")","v":"A"},{"$f":"IF(Attendance($C30,'Daily Register'!JU$3:JU$242)=TRUE,\"P\",\"A\")","v":"A"},{"$f":"IF(Attendance($C30,'Daily Register'!JV$3:JV$242)=TRUE,\"P\",\"A\")","v":"A"},{"$f":"IF(Attendance($C30,'Daily Register'!JW$3:JW$242)=TRUE,\"P\",\"A\")","v":"A"},{"$f":"IF(Attendance($C30,'Daily Register'!JX$3:JX$242)=TRUE,\"P\",\"A\")","v":"A"},{"$f":"IF(Attendance($C30,'Daily Register'!JY$3:JY$242)=TRUE,\"P\",\"A\")","v":"A"},{"$f":"IF(Attendance($C30,'Daily Register'!JZ$3:JZ$242)=TRUE,\"P\",\"A\")","v":"A"},{"$f":"IF(Attendance($C30,'Daily Register'!KA$3:KA$242)=TRUE,\"P\",\"A\")","v":"A"},{"$f":"IF(Attendance($C30,'Daily Register'!KB$3:KB$242)=TRUE,\"P\",\"A\")","v":"A"},{"$f":"IF(Attendance($C30,'Daily Register'!KC$3:KC$242)=TRUE,\"P\",\"A\")","v":"A"},{"$f":"IF(Attendance($C30,'Daily Register'!KD$3:KD$242)=TRUE,\"P\",\"A\")","v":"A"},{"$f":"IF(Attendance($C30,'Daily Register'!KE$3:KE$242)=TRUE,\"P\",\"A\")","v":"A"},{"$f":"IF(Attendance($C30,'Daily Register'!KF$3:KF$242)=TRUE,\"P\",\"A\")","v":"A"},{"$f":"IF(Attendance($C30,'Daily Register'!KG$3:KG$242)=TRUE,\"P\",\"A\")","v":"A"},{"$f":"IF(Attendance($C30,'Daily Register'!KH$3:KH$242)=TRUE,\"P\",\"A\")","v":"A"},{"$f":"IF(Attendance($C30,'Daily Register'!KI$3:KI$242)=TRUE,\"P\",\"A\")","v":"A"},{"$f":"IF(Attendance($C30,'Daily Register'!KJ$3:KJ$242)=TRUE,\"P\",\"A\")","v":"A"},{"$f":"IF(Attendance($C30,'Daily Register'!KK$3:KK$242)=TRUE,\"P\",\"A\")","v":"A"},{"$f":"IF(Attendance($C30,'Daily Register'!KL$3:KL$242)=TRUE,\"P\",\"A\")","v":"A"},{"$f":"IF(Attendance($C30,'Daily Register'!KM$3:KM$242)=TRUE,\"P\",\"A\")","v":"A"},{"$f":"IF(Attendance($C30,'Daily Register'!KN$3:KN$242)=TRUE,\"P\",\"A\")","v":"A"},{"$f":"IF(Attendance($C30,'Daily Register'!KO$3:KO$242)=TRUE,\"P\",\"A\")","v":"A"},{"$f":"IF(Attendance($C30,'Daily Register'!KP$3:KP$242)=TRUE,\"P\",\"A\")","v":"A"},{"$f":"IF(Attendance($C30,'Daily Register'!KQ$3:KQ$242)=TRUE,\"P\",\"A\")","v":"A"},{"$f":"IF(Attendance($C30,'Daily Register'!KR$3:KR$242)=TRUE,\"P\",\"A\")","v":"A"},{"$f":"IF(Attendance($C30,'Daily Register'!KS$3:KS$242)=TRUE,\"P\",\"A\")","v":"A"},{"$f":"IF(Attendance($C30,'Daily Register'!KT$3:KT$242)=TRUE,\"P\",\"A\")","v":"A"},{"$f":"IF(Attendance($C30,'Daily Register'!KU$3:KU$242)=TRUE,\"P\",\"A\")","v":"A"},{"$f":"IF(Attendance($C30,'Daily Register'!KV$3:KV$242)=TRUE,\"P\",\"A\")","v":"A"},{"$f":"IF(Attendance($C30,'Daily Register'!KW$3:KW$242)=TRUE,\"P\",\"A\")","v":"A"},{"$f":"IF(Attendance($C30,'Daily Register'!KX$3:KX$242)=TRUE,\"P\",\"A\")","v":"A"},{"$f":"IF(Attendance($C30,'Daily Register'!KY$3:KY$242)=TRUE,\"P\",\"A\")","v":"A"},{"$f":"IF(Attendance($C30,'Daily Register'!KZ$3:KZ$242)=TRUE,\"P\",\"A\")","v":"A"},{"$f":"IF(Attendance($C30,'Daily Register'!LA$3:LA$242)=TRUE,\"P\",\"A\")","v":"A"},{"$f":"IF(Attendance($C30,'Daily Register'!LB$3:LB$242)=TRUE,\"P\",\"A\")","v":"A"},{"$f":"IF(Attendance($C30,'Daily Register'!LC$3:LC$242)=TRUE,\"P\",\"A\")","v":"A"},{"$f":"IF(Attendance($C30,'Daily Register'!LD$3:LD$242)=TRUE,\"P\",\"A\")","v":"A"},{"$f":"IF(Attendance($C30,'Daily Register'!LE$3:LE$242)=TRUE,\"P\",\"A\")","v":"A"},{"$f":"IF(Attendance($C30,'Daily Register'!LF$3:LF$242)=TRUE,\"P\",\"A\")","v":"A"},{"$f":"IF(Attendance($C30,'Daily Register'!LG$3:LG$242)=TRUE,\"P\",\"A\")","v":"A"},{"$f":"IF(Attendance($C30,'Daily Register'!LH$3:LH$242)=TRUE,\"P\",\"A\")","v":"A"},{"$f":"IF(Attendance($C30,'Daily Register'!LI$3:LI$242)=TRUE,\"P\",\"A\")","v":"A"},{"$f":"IF(Attendance($C30,'Daily Register'!LJ$3:LJ$242)=TRUE,\"P\",\"A\")","v":"A"},{"$f":"IF(Attendance($C30,'Daily Register'!LK$3:LK$242)=TRUE,\"P\",\"A\")","v":"A"},{"$f":"IF(Attendance($C30,'Daily Register'!LL$3:LL$242)=TRUE,\"P\",\"A\")","v":"A"},{"$f":"IF(Attendance($C30,'Daily Register'!LM$3:LM$242)=TRUE,\"P\",\"A\")","v":"A"},{"$f":"IF(Attendance($C30,'Daily Register'!LN$3:LN$242)=TRUE,\"P\",\"A\")","v":"A"},{"$f":"IF(Attendance($C30,'Daily Register'!LO$3:LO$242)=TRUE,\"P\",\"A\")","v":"A"},{"$f":"IF(Attendance($C30,'Daily Register'!LP$3:LP$242)=TRUE,\"P\",\"A\")","v":"A"},{"$f":"IF(Attendance($C30,'Daily Register'!LQ$3:LQ$242)=TRUE,\"P\",\"A\")","v":"A"},{"$f":"IF(Attendance($C30,'Daily Register'!LR$3:LR$242)=TRUE,\"P\",\"A\")","v":"A"},{"$f":"IF(Attendance($C30,'Daily Register'!LS$3:LS$242)=TRUE,\"P\",\"A\")","v":"A"},{"$f":"IF(Attendance($C30,'Daily Register'!LT$3:LT$242)=TRUE,\"P\",\"A\")","v":"A"},{"$f":"IF(Attendance($C30,'Daily Register'!LU$3:LU$242)=TRUE,\"P\",\"A\")","v":"A"},{"$f":"IF(Attendance($C30,'Daily Register'!LV$3:LV$242)=TRUE,\"P\",\"A\")","v":"A"},{"$f":"IF(Attendance($C30,'Daily Register'!LW$3:LW$242)=TRUE,\"P\",\"A\")","v":"A"},{"$f":"IF(Attendance($C30,'Daily Register'!LX$3:LX$242)=TRUE,\"P\",\"A\")","v":"A"},{"$f":"IF(Attendance($C30,'Daily Register'!LY$3:LY$242)=TRUE,\"P\",\"A\")","v":"A"},{"$f":"IF(Attendance($C30,'Daily Register'!LZ$3:LZ$242)=TRUE,\"P\",\"A\")","v":"A"},{"$f":"IF(Attendance($C30,'Daily Register'!MA$3:MA$242)=TRUE,\"P\",\"A\")","v":"A"},{"$f":"IF(Attendance($C30,'Daily Register'!MB$3:MB$242)=TRUE,\"P\",\"A\")","v":"A"},{"$f":"IF(Attendance($C30,'Daily Register'!MC$3:MC$242)=TRUE,\"P\",\"A\")","v":"A"},{"$f":"IF(Attendance($C30,'Daily Register'!MD$3:MD$242)=TRUE,\"P\",\"A\")","v":"A"},{"$f":"IF(Attendance($C30,'Daily Register'!ME$3:ME$242)=TRUE,\"P\",\"A\")","v":"A"},{"$f":"IF(Attendance($C30,'Daily Register'!MF$3:MF$242)=TRUE,\"P\",\"A\")","v":"A"},{"$f":"IF(Attendance($C30,'Daily Register'!MG$3:MG$242)=TRUE,\"P\",\"A\")","v":"A"},{"$f":"IF(Attendance($C30,'Daily Register'!MH$3:MH$242)=TRUE,\"P\",\"A\")","v":"A"},{"$f":"IF(Attendance($C30,'Daily Register'!MI$3:MI$242)=TRUE,\"P\",\"A\")","v":"A"},{"$f":"IF(Attendance($C30,'Daily Register'!MJ$3:MJ$242)=TRUE,\"P\",\"A\")","v":"A"},{"$f":"IF(Attendance($C30,'Daily Register'!MK$3:MK$242)=TRUE,\"P\",\"A\")","v":"A"},{"$f":"IF(Attendance($C30,'Daily Register'!ML$3:ML$242)=TRUE,\"P\",\"A\")","v":"A"},{"$f":"IF(Attendance($C30,'Daily Register'!MM$3:MM$242)=TRUE,\"P\",\"A\")","v":"A"},{"$f":"IF(Attendance($C30,'Daily Register'!MN$3:MN$242)=TRUE,\"P\",\"A\")","v":"A"},{"$f":"IF(Attendance($C30,'Daily Register'!MO$3:MO$242)=TRUE,\"P\",\"A\")","v":"A"},{"$f":"IF(Attendance($C30,'Daily Register'!MP$3:MP$242)=TRUE,\"P\",\"A\")","v":"A"},{"$f":"IF(Attendance($C30,'Daily Register'!MQ$3:MQ$242)=TRUE,\"P\",\"A\")","v":"A"},{"$f":"IF(Attendance($C30,'Daily Register'!MR$3:MR$242)=TRUE,\"P\",\"A\")","v":"A"},{"$f":"IF(Attendance($C30,'Daily Register'!MS$3:MS$242)=TRUE,\"P\",\"A\")","v":"A"},{"$f":"IF(Attendance($C30,'Daily Register'!MT$3:MT$242)=TRUE,\"P\",\"A\")","v":"A"},{"$f":"IF(Attendance($C30,'Daily Register'!MU$3:MU$242)=TRUE,\"P\",\"A\")","v":"A"},{"$f":"IF(Attendance($C30,'Daily Register'!MV$3:MV$242)=TRUE,\"P\",\"A\")","v":"A"},{"$f":"IF(Attendance($C30,'Daily Register'!MW$3:MW$242)=TRUE,\"P\",\"A\")","v":"A"},{"$f":"IF(Attendance($C30,'Daily Register'!MX$3:MX$242)=TRUE,\"P\",\"A\")","v":"A"},{"$f":"IF(Attendance($C30,'Daily Register'!MY$3:MY$242)=TRUE,\"P\",\"A\")","v":"A"},{"$f":"IF(Attendance($C30,'Daily Register'!MZ$3:MZ$242)=TRUE,\"P\",\"A\")","v":"A"},{"$f":"IF(Attendance($C30,'Daily Register'!NA$3:NA$242)=TRUE,\"P\",\"A\")","v":"A"},{"$f":"IF(Attendance($C30,'Daily Register'!NB$3:NB$242)=TRUE,\"P\",\"A\")","v":"A"}]
[0,null,28,null,{"$f":"IF(Attendance($C31,'Daily Register'!A$3:A$242)=TRUE,\"P\",\"A\")","v":"A"},{"$f":"IF(Attendance($C31,'Daily Register'!B$3:B$242)=TRUE,\"P\",\"A\")","v":"A"},{"$f":"IF(Attendance($C31,'Daily Register'!C$3:C$242)=TRUE,\"P\",\"A\")","v":"A"},{"$f":"IF(Attendance($C31,'Daily Register'!D$3:D$242)=TRUE,\"P\",\"A\")","v":"A"},{"$f":"IF(Attendance($C31,'Daily Register'!E$3:E$242)=TRUE,\"P\",\"A\")","v":"A"},{"$f":"IF(Attendance($C31,'Daily Register'!F$3:F$242)=TRUE,\"P\",\"A\")","v":"A"},{"$f":"IF(Attendance($C31,'Daily Register'!G$3:G$242)=TRUE,\"P\",\"A\")","v":"A"},{"$f":"IF(Attendance($C31,'Daily Register'!H$3:H$242)=TRUE,\"P\",\"A\")","v":"A"},{"$f":"IF(Attendance($C31,'Daily Register'!I$3:I$242)=TRUE,\"P\",\"A\")","v":"A"},{"$f":"IF(Attendance($C31,'Daily Register'!J$3:J$242)=TRUE,\"P\",\"A\")","v":"A"},{"$f":"IF(Attendance($C31,'Daily Register'!K$3:K$242)=TRUE,\"P\",\"A\")","v":"A"},{"$f":"IF(Attendance($C31,'Daily Register'!L$3:L$242)=TRUE,\"P\",\"A\")","v":"A"},{"$f":"IF(Attendance($C31,'Daily Register'!M$3:M$242)=TRUE,\"P\",\"A\")","v":"A"},{"$f":"IF(Attendance($C31,'Daily Register'!N$3:N$242)=TRUE,\"P\",\"A\")","v":"A"},{"$f":"IF(Attendance($C31,'Daily Register'!O$3:O$242)=TRUE,\"P\",\"A\")","v":"A"},{"$f":"IF(Attendance($C31,'Daily Register'!P$3:P$242)=TRUE,\"P\",\"A\")","v":"A"},{"$f":"IF(Attendance($C31,'Daily Register'!Q$3:Q$242)=TRUE,\"P\",\"A\")","v":"A"},{"$f":"IF(Attendance($C31,'Daily Register'!R$3:R$242)=TRUE,\"P\",\"A\")","v":"A"},{"$f":"IF(Attendance($C31,'Daily Register'!S$3:S$242)=TRUE,\"P\",\"A\")","v":"A"},{"$f":"IF(Attendance($C31,'Daily Register'!T$3:T$242)=TRUE,\"P\",\"A\")","v":"A"},{"$f":"IF(Attendance($C31,'Daily Register'!U$3:U$242)=TRUE,\"P\",\"A\")","v":"A"},{"$f":"IF(Attendance($C31,'Daily Register'!V$3:V$242)=TRUE,\"P\",\"A\")","v":"A"},{"$f":"IF(Attendance($C31,'Daily Register'!W$3:W$242)=TRUE,\"P\",\"A\")","v":"A"},{"$f":"IF(Attendance($C31,'Daily Register'!X$3:X$242)=TRUE,\"P\",\"A\")","v":"A"},{"$f":"IF(Attendance($C31,'Daily Register'!Y$3:Y$242)=TRUE,\"P\",\"A\")","v":"A"},{"$f":"IF(Attendance($C31,'Daily Register'!Z$3:Z$242)=TRUE,\"P\",\"A\")","v":"A"},{"$f":"IF(Attendance($C31,'Daily Register'!AA$3:AA$242)=TRUE,\"P\",\"A\")","v":"A"},{"$f":"IF(Attendance($C31,'Daily Register'!AB$3:AB$242)=TRUE,\"P\",\"A\")","v":"A"},{"$f":"IF(Attendance($C31,'Daily Register'!AC$3:AC$242)=TRUE,\"P\",\"A\")","v":"A"},{"$f":"IF(Attendance($C31,'Daily Register'!AD$3:AD$242)=TRUE,\"P\",\"A\")","v":"A"},{"$f":"IF(Attendance($C31,'Daily Register'!AE$3:AE$242)=TRUE,\"P\",\"A\")","v":"A"},{"$f":"IF(Attendance($C31,'Daily Register'!AF$3:AF$242)=TRUE,\"P\",\"A\")","v":"A"},{"$f":"IF(Attendance($C31,'Daily Register'!AG$3:AG$242)=TRUE,\"P\",\"A\")","v":"A"},{"$f":"IF(Attendance($C31,'Daily Register'!AH$3:AH$242)=TRUE,\"P\",\"A\")","v":"A"},{"$f":"IF(Attendance($C31,'Daily Register'!AI$3:AI$242)=TRUE,\"P\",\"A\")","v":"A"},{"$f":"IF(Attendance($C31,'Daily Register'!AJ$3:AJ$242)=TRUE,\"P\",\"A\")","v":"A"},{"$f":"IF(Attendance($C31,'Daily Register'!AK$3:AK$242)=TRUE,\"P\",\"A\")","v":"A"},{"$f":"IF(Attendance($C31,'Daily Register'!AL$3:AL$242)=TRUE,\"P\",\"A\")","v":"A"},{"$f":"IF(Attendance($C31,'Daily Register'!AM$3:AM$242)=TRUE,\"P\",\"A\")","v":"A"},{"$f":"IF(Attendance($C31,'Daily Register'!AN$3:AN$242)=TRUE,\"P\",\"A\")","v":"A"},{"$f":"IF(Attendance($C31,'Daily Register'!AO$3:AO$242)=TRUE,\"P\",\"A\")","v":"A"},{"$f":"IF(Attendance($C31,'Daily Register'!AP$3:AP$242)=TRUE,\"P\",\"A\")","v":"A"},{"$f":"IF(Attendance($C31,'Daily Register'!AQ$3:AQ$242)=TRUE,\"P\",\"A\")","v":"A"},{"$f":"IF(Attendance($C31,'Daily Register'!AR$3:AR$242)=TRUE,\"P\",\"A\")","v":"A"},{"$f":"IF(Attendance($C31,'Daily Register'!AS$3:AS$242)=TRUE,\"P\",\"A\")","v":"A"},{"$f":"IF(Attendance($C31,'Daily Register'!AT$3:AT$242)=TRUE,\"P\",\"A\")","v":"A"},{"$f":"IF(Attendance($C31,'Daily Register'!AU$3:AU$242)=TRUE,\"P\",\"A\")","v":"A"},{"$f":"IF(Attendance($C31,'Daily Register'!AV$3:AV$242)=TRUE,\"P\",\"A\")","v":"A"},{"$f":"IF(Attendance($C31,'Daily Register'!AW$3:AW$242)=TRUE,\"P\",\"A\")","v":"A"},{"$f":"IF(Attendance($C31,'Daily Register'!AX$3:AX$242)=TRUE,\"P\",\"A\")","v":"A"},{"$f":"IF(Attendance($C31,'Daily Register'!AY$3:AY$242)=TRUE,\"P\",\"A\")","v":"A"},{"$f":"IF(Attendance($C31,'Daily Register'!AZ$3:AZ$242)=TRUE,\"P\",\"A\")","v":"A"},{"$f":"IF(Attendance($C31,'Daily Register'!BA$3:BA$242)=TRUE,\"P\",\"A\")","v":"A"},{"$f":"IF(Attendance($C31,'Daily Register'!BB$3:BB$242)=TRUE,\"P\",\"A\")","v":"A"},{"$f":"IF(Attendance($C31,'Daily Register'!BC$3:BC$242)=TRUE,\"P\",\"A\")","v":"A"},{"$f":"IF(Attendance($C31,'Daily Register'!BD$3:BD$242)=TRUE,\"P\",\"A\")","v":"A"},{"$f":"IF(Attendance($C31,'Daily Register'!BE$3:BE$242)=TRUE,\"P\",\"A\")","v":"A"},{"$f":"IF(Attendance($C31,'Daily Register'!BF$3:BF$242)=TRUE,\"P\",\"A\")","v":"A"},{"$f":"IF(Attendance($C31,'Daily Register'!BG$3:BG$242)=TRUE,\"P\",\"A\")","v":"A"},{"$f":"IF(Attendance($C31,'Daily Register'!BH$3:BH$242)=TRUE,\"P\",\"A\")","v":"A"},{"$f":"IF(Attendance($C31,'Daily Register'!BI$3:BI$242)=TRUE,\"P\",\"A\")","v":"A"},{"$f":"IF(Attendance($C31,'Daily Register'!BJ$3:BJ$242)=TRUE,\"P\",\"A\")","v":"A"},{"$f":"IF(Attendance($C31,'Daily Register'!BK$3:BK$242)=TRUE,\"P\",\"A\")","v":"A"},{"$f":"IF(Attendance($C31,'Daily Register'!BL$3:BL$242)=TRUE,\"P\",\"A\")","v":"A"},{"$f":"IF(Attendance($C31,'Daily Register'!BM$3:BM$242)=TRUE,\"P\",\"A\")","v":"A"},{"$f":"IF(Attendance($C31,'Daily Register'!BN$3:BN$242)=TRUE,\"P\",\"A\")","v":"A"},{"$f":"IF(Attendance($C31,'Daily Register'!BO$3:BO$242)=TRUE,\"P\",\"A\")","v":"A"},{"$f":"IF(Attendance($C31,'Daily Register'!BP$3:BP$242)=TRUE,\"P\",\"A\")","v":"A"},{"$f":"IF(Attendance($C31,'Daily Register'!BQ$3:BQ$242)=TRUE,\"P\",\"A\")","v":"A"},{"$f":"IF(Attendance($C31,'Daily Register'!BR$3:BR$242)=TRUE,\"P\",\"A\")","v":"A"},{"$f":"IF(Attendance($C31,'Daily Register'!BS$3:BS$242)=TRUE,\"P\",\"A\")","v":"A"},{"$f":"IF(Attendance($C31,'Daily Register'!BT$3:BT$242)=TRUE,\"P\",\"A\")","v":"A"},{"$f":"IF(Attendance($C31,'Daily Register'!BU$3:BU$242)=TRUE,\"P\",\"A\")","v":"A"},{"$f":"IF(Attendance($C31,'Daily Register'!BV$3:BV$242)=TRUE,\"P\",\"A\")","v":"A"},{"$f":"IF(Attendance($C31,'Daily Register'!BW$3:BW$242)=TRUE,\"P\",\"A\")","v":"A"},{"$f":"IF(Attendance($C31,'Daily Register'!BX$3:BX$242)=TRUE,\"P\",\"A\")","v":"A"},{"$f":"IF(Attendance($C31,'Daily Register'!BY$3:BY$242)=TRUE,\"P\",\"A\")","v":"A"},{"$f":"IF(Attendance($C31,'Daily Register'!BZ$3:BZ$242)=TRUE,\"P\",\"A\")","v":"A"},{"$f":"IF(Attendance($C31,'Daily Register'!CA$3:CA$242)=TRUE,\"P\",\"A\")","v":"A"},{"$f":"IF(Attendance($C31,'Daily Register'!CB$3:CB$242)=TRUE,\"P\",\"A\")","v":"A"},{"$f":"IF(Attendance($C31,'Daily Register'!CC$3:CC$242)=TRUE,\"P\",\"A\")","v":"A"},{"$f":"IF(Attendance($C31,'Daily Register'!CD$3:CD$242)=TRUE,\"P\",\"A\")","v":"A"},{"$f":"IF(Attendance($C31,'Daily Register'!CE$3:CE$242)=TRUE,\"P\",\"A\")","v":"A"},{"$f":"IF(Attendance($C31,'Daily Register'!CF$3:CF$242)=TRUE,\"P\",\"A\")","v":"A"},{"$f":"IF(Attendance($C31,'Daily Register'!CG$3:CG$242)=TRUE,\"P\",\"A\")","v":"A"},{"$f":"IF(Attendance($C31,'Daily Register'!CH$3:CH$242)=TRUE,\"P\",\"A\")","v":"A"},{"$f":"IF(Attendance($C31,'Daily Register'!CI$3:CI$242)=TRUE,\"P\",\"A\")","v":"A"},{"$f":"IF(Attendance($C31,'Daily Register'!CJ$3:CJ$242)=TRUE,\"P\",\"A\")","v":"A"},{"$f":"IF(Attendance($C31,'Daily Register'!CK$3:CK$242)=TRUE,\"P\",\"A\")","v":"A"},{"$f":"IF(Attendance($C31,'Daily Register'!CL$3:CL$242)=TRUE,\"P\",\"A\")","v":"A"},{"$f":"IF(Attendance($C31,'Daily Register'!CM$3:CM$242)=TRUE,\"P\",\"A\")","v":"A"},{"$f":"IF(Attendance($C31,'Daily Register'!CN$3:CN$242)=TRUE,\"P\",\"A\")","v":"A"},{"$f":"IF(Attendance($C31,'Daily Register'!CO$3:CO$242)=TRUE,\"P\",\"A\")","v":"A"},{"$f":"IF(Attendance($C31,'Daily Register'!CP$3:CP$242)=TRUE,\"P\",\"A\")","v":"A"},{"$f":"IF(Attendance($C31,'Daily Register'!CQ$3:CQ$242)=TRUE,\"P\",\"A\")","v":"A"},{"$f":"IF(Attendance($C31,'Daily Register'!CR$3:CR$242)=TRUE,\"P\",\"A\")","v":"A"},{"$f":"IF(Attendance($C31,'Daily Register'!CS$3:CS$242)=TRUE,\"P\",\"A\")","v":"A"},{"$f":"IF(Attendance($C31,'Daily Register'!CT$3:CT$242)=TRUE,\"P\",\"A\")","v":"A"},{"$f":"IF(Attendance($C31,'Daily Register'!CU$3:CU$242)=TRUE,\"P\",\"A\")","v":"A"},{"$f":"IF(Attendance($C31,'Daily Register'!CV$3:CV$242)=TRUE,\"P\",\"A\")","v":"A"},{"$f":"IF(Attendance($C31,'Daily Register'!CW$3:CW$242)=TRUE,\"P\",\"A\")","v":"A"},{"$f":"IF(Attendance($C31,'Daily Register'!CX$3:CX$242)=TRUE,\"P\",\"A\")","v":"A"},{"$f":"IF(Attendance($C31,'Daily Register'!CY$3:CY$242)=TRUE,\"P\",\"A\")","v":"A"},{"$f":"IF(Attendance($C31,'Daily Register'!CZ$3:CZ$242)=TRUE,\"P\",\"A\")","v":"A"},{"$f":"IF(Attendance($C31,'Daily Register'!DA$3:DA$242)=TRUE,\"P\",\"A\")","v":"A"},{"$f":"IF(Attendance($C31,'Daily Register'!DB$3:DB$242)=TRUE,\"P\",\"A\")","v":"A"},{"$f":"IF(Attendance($C31,'Daily Register'!DC$3:DC$242)=TRUE,\"P\",\"A\")","v":"A"},{"$f":"IF(Attendance($C31,'Daily Register'!DD$3:DD$242)=TRUE,\"P\",\"A\")","v":"A"},{"$f":"IF(Attendance($C31,'Daily Register'!DE$3:DE$242)=TRUE,\"P\",\"A\")","v":"A"},{"$f":"IF(Attendance($C31,'Daily Register'!DF$3:DF$242)=TRUE,\"P\",\"A\")","v":"A"},{"$f":"IF(Attendance($C31,'Daily Register'!DG$3:DG$242)=TRUE,\"P\",\"A\")","v":"A"},{"$f":"IF(Attendance($C31,'Daily Register'!DH$3:DH$242)=TRUE,\"P\",\"A\")","v":"A"},{"$f":"IF(Attendance($C31,'Daily Register'!DI$3:DI$242)=TRUE,\"P\",\"A\")","v":"A"},{"$f":"IF(Attendance($C31,'Daily Register'!DJ$3:DJ$242)=TRUE,\"P\",\"A\")","v":"A"},{"$f":"IF(Attendance($C31,'Daily Register'!DK$3:DK$242)=TRUE,\"P\",\"A\")","v":"A"},{"$f":"IF(Attendance($C31,'Daily Register'!DL$3:DL$242)=TRUE,\"P\",\"A\")","v":"A"},{"$f":"IF(Attendance($C31,'Daily Register'!DM$3:DM$242)=TRUE,\"P\",\"A\")","v":"A"},{"$f":"IF(Attendance($C31,'Daily Register'!DN$3:DN$242)=TRUE,\"P\",\"A\")","v":"A"},{"$f":"IF(Attendance($C31,'Daily Register'!DO$3:DO$242)=TRUE,\"P\",\"A\")","v":"A"},{"$f":"IF(Attendance($C31,'Daily Register'!DP$3:DP$242)=TRUE,\"P\",\"A\")","v":"A"},{"$f":"IF(Attendance($C31,'Daily Register'!DQ$3:DQ$242)=TRUE,\"P\",\"A\")","v":"A"},{"$f":"IF(Attendance($C31,'Daily Register'!DR$3:DR$242)=TRUE,\"P\",\"A\")","v":"A"},{"$f":"IF(Attendance($C31,'Daily Register'!DS$3:DS$242)=TRUE,\"P\",\"A\")","v":"A"},{"$f":"IF(Attendance($C31,'Daily Register'!DT$3:DT$242)=TRUE,\"P\",\"A\")","v":"A"},{"$f":"IF(Attendance($C31,'Daily Register'!DU$3:DU$242)=TRUE,\"P\",\"A\")","v":"A"},{"$f":"IF(Attendance($C31,'Daily Register'!DV$3:DV$242)=TRUE,\"P\",\"A\")","v":"A"},{"$f":"IF(Attendance($C31,'Daily Register'!DW$3:DW$242)=TRUE,\"P\",\"A\")","v":"A"},{"$f":"IF(Attendance($C31,'Daily Register'!DX$3:DX$242)=TRUE,\"P\",\"A\")","v":"A"},{"$f":"IF(Attendance($C31,'Daily Register'!DY$3:DY$242)=TRUE,\"P\",\"A\")","v":"A"},{"$f":"IF(Attendance($C31,'Daily Register'!DZ$3:DZ$242)=TRUE,\"P\",\"A\")","v":"A"},{"$f":"IF(Attendance($C31,'Daily Register'!EA$3:EA$242)=TRUE,\"P\",\"A\")","v":"A"},{"$f":"IF(Attendance($C31,'Daily Register'!EB$3:EB$242)=TRUE,\"P\",\"A\")","v":"A"},{"$f":"IF(Attendance($C31,'Daily Register'!EC$3:EC$242)=TRUE,\"P\",\"A\")","v":"A"},{"$f":"IF(Attendance($C31,'Daily Register'!ED$3:ED$242)=TRUE,\"P\",\"A\")","v":"A"},{"$f":"IF(Attendance($C31,'Daily Register'!EE$3:EE$242)=TRUE,\"P\",\"A\")","v":"A"},{"$f":"IF(Attendance($C31,'Daily Register'!EF$3:EF$242)=TRUE,\"P\",\"A\")","v":"A"},{"$f":"IF(Attendance($C31,'Daily Register'!EG$3:EG$242)=TRUE,\"P\",\"A\")","v":"A"},{"$f":"IF(Attendance($C31,'Daily Register'!EH$3:EH$242)=TRUE,\"P\",\"A\")","v":"A"},{"$f":"IF(Attendance($C31,'Daily Register'!EI$3:EI$242)=TRUE,\"P\",\"A\")","v":"A"},{"$f":"IF(Attendance($C31,'Daily Register'!EJ$3:EJ$242)=TRUE,\"P\",\"A\")","v":"A"},{"$f":"IF(Attendance($C31,'Daily Register'!EK$3:EK$242)=TRUE,\"P\",\"A\")","v":"A"},{"$f":"IF(Attendance($C31,'Daily Register'!EL$3:EL$242)=TRUE,\"P\",\"A\")","v":"A"},{"$f":"IF(Attendance($C31,'Daily Register'!EM$22:EM$242)=TRUE,\"P\",\"A\")","v":"A"},{"$f":"IF(Attendance($C31,'Daily Register'!EN$3:EN$242)=TRUE,\"P\",\"A\")","v":"A"},{"$f":"IF(Attendance($C31,'Daily Register'!EO$3:EO$242)=TRUE,\"P\",\"A\")","v":"A"},{"$f":"IF(Attendance($C31,'Daily Register'!EP$3:EP$242)=TRUE,\"P\",\"A\")","v":"A"},{"$f":"IF(Attendance($C31,'Daily Register'!EQ$3:EQ$242)=TRUE,\"P\",\"A\")","v":"A"},{"$f":"IF(Attendance($C31,'Daily Register'!ER$3:ER$242)=TRUE,\"P\",\"A\")","v":"A"},{"$f":"IF(Attendance($C31,'Daily Register'!ES$3:ES$242)=TRUE,\"P\",\"A\")","v":"A"},{"$f":"IF(Attendance($C31,'Daily Register'!ET$3:ET$242)=TRUE,\"P\",\"A\")","v":"A"},{"$f":"IF(Attendance($C31,'Daily Register'!EU$3:EU$242)=TRUE,\"P\",\"A\")","v":"A"},{"$f":"IF(Attendance($C31,'Daily Register'!EV$3:EV$242)=TRUE,\"P\",\"A\")","v":"A"},{"$f":"IF(Attendance($C31,'Daily Register'!EW$3:EW$242)=TRUE,\"P\",\"A\")","v":"A"},{"$f":"IF(Attendance($C31,'Daily Register'!EX$3:EX$242)=TRUE,\"P\",\"A\")","v":"A"},{"$f":"IF(Attendance($C31,'Daily Register'!EY$3:EY$242)=TRUE,\"P\",\"A\")","v":"A"},{"$f":"IF(Attendance($C31,'Daily Register'!EZ$3:EZ$242)=TRUE,\"P\",\"A\")","v":"A"},{"$f":"IF(Attendance($C31,'Daily Register'!FA$3:FA$242)=TRUE,\"P\",\"A\")","v":"A"},{"$f":"IF(Attendance($C31,'Daily Register'!FB$3:FB$242)=TRUE,\"P\",\"A\")","v":"A"},{"$f":"IF(Attendance($C31,'Daily Register'!FC$3:FC$242)=TRUE,\"P\",\"A\")","v":"A"},{"$f":"IF(Attendance($C31,'Daily Register'!FD$3:FD$242)=TRUE,\"P\",\"A\")","v":"A"},{"$f":"IF(Attendance($C31,'Daily Register'!FE$3:FE$242)=TRUE,\"P\",\"A\")","v":"A"},{"$f":"IF(Attendance($C31,'Daily Register'!FF$3:FF$242)=TRUE,\"P\",\"A\")","v":"A"},{"$f":"IF(Attendance($C31,'Daily Register'!FG$3:FG$242)=TRUE,\"P\",\"A\")","v":"A"},{"$f":"IF(Attendance($C31,'Daily Register'!FH$3:FH$242)=TRUE,\"P\",\"A\")","v":"A"},{"$f":"IF(Attendance($C31,'Daily Register'!FI$3:FI$242)=TRUE,\"P\",\"A\")","v":"A"},{"$f":"IF(Attendance($C31,'Daily Register'!FJ$3:FJ$242)=TRUE,\"P\",\"A\")","v":"A"},{"$f":"IF(Attendance($C31,'Daily Register'!FK$3:FK$242)=TRUE,\"P\",\"A\")","v":"A"},{"$f":"IF(Attendance($C31,'Daily Register'!FL$3:FL$242)=TRUE,\"P\",\"A\")","v":"A"},{"$f":"IF(Attendance($C31,'Daily Register'!FM$3:FM$242)=TRUE,\"P\",\"A\")","v":"A"},{"$f":"IF(Attendance($C31,'Daily Register'!FN$3:FN$242)=TRUE,\"P\",\"A\")","v":"A"},{"$f":"IF(Attendance($C31,'Daily Register'!FO$3:FO$242)=TRUE,\"P\",\"A\")","v":"A"},{"$f":"IF(Attendance($C31,'Daily Register'!FP$3:FP$242)=TRUE,\"P\",\"A\")","v":"A"},{"$f":"IF(Attendance($C31,'Daily Register'!FQ$3:FQ$242)=TRUE,\"P\",\"A\")","v":"A"},{"$f":"IF(Attendance($C31,'Daily Register'!FR$3:FR$242)=TRUE,\"P\",\"A\")","v":"A"},{"$f":"IF(Attendance($C31,'Daily Register'!FS$3:FS$242)=TRUE,\"P\",\"A\")","v":"A"},{"$f":"IF(Attendance($C31,'Daily Register'!FT$3:FT$242)=TRUE,\"P\",\"A\")","v":"A"},{"$f":"IF(Attendance($C31,'Daily Register'!FU$3:FU$242)=TRUE,\"P\",\"A\")","v":"A"},{"$f":"IF(Attendance($C31,'Daily Register'!FV$3:FV$242)=TRUE,\"P\",\"A\")","v":"A"},{"$f":"IF(Attendance($C31,'Daily Register'!FW$3:FW$242)=TRUE,\"P\",\"A\")","v":"A"},{"$f":"IF(Attendance($C31,'Daily Register'!FX$3:FX$242)=TRUE,\"P\",\"A\")","v":"A"},{"$f":"IF(Attendance($C31,'Daily Register'!FY$3:FY$242)=TRUE,\"P\",\"A\")","v":"A"},{"$f":"IF(Attendance($C31,'Daily Register'!FZ$3:FZ$242)=TRUE,\"P\",\"A\")","v":"A"},{"$f":"IF(Attendance($C31,'Daily Register'!GA$3:GA$242)=TRUE,\"P\",\"A\")","v":"A"},{"$f":"IF(Attendance($C31,'Daily Register'!GB$3:GB$242)=TRUE,\"P\",\"A\")","v":"A"},{"$f":"IF(Attendance($C31,'Daily Register'!GC$3:GC$242)=TRUE,\"P\",\"A\")","v":"A"},{"$f":"IF(Attendance($C31,'Daily Register'!GD$3:GD$242)=TRUE,\"P\",\"A\")","v":"A"},{"$f":"IF(Attendance($C31,'Daily Register'!GE$3:GE$242)=TRUE,\"P\",\"A\")","v":"A"},{"$f":"IF(Attendance($C31,'Daily Register'!GF$3:GF$242)=TRUE,\"P\",\"A\")","v":"A"},{"$f":"IF(Attendance($C31,'Daily Register'!GG$3:GG$242)=TRUE,\"P\",\"A\")","v":"A"},{"$f":"IF(Attendance($C31,'Daily Register'!GH$3:GH$242)=TRUE,\"P\",\"A\")","v":"A"},{"$f":"IF(Attendance($C31,'Daily Register'!GI$3:GI$242)=TRUE,\"P\",\"A\")","v":"A"},{"$f":"IF(Attendance($C31,'Daily Register'!GJ$3:GJ$242)=TRUE,\"P\",\"A\")","v":"A"},{"$f":"IF(Attendance($C31,'Daily Register'!GK$3:GK$242)=TRUE,\"P\",\"A\")","v":"A"},{"$f":"IF(Attendance($C31,'Daily Register'!GL$3:GL$242)=TRUE,\"P\",\"A\")","v":"A"},{"$f":"IF(Attendance($C31,'Daily Register'!GM$3:GM$242)=TRUE,\"P\",\"A\")","v":"A"},{"$f":"IF(Attendance($C31,'Daily Register'!GN$3:GN$242)=TRUE,\"P\",\"A\")","v":"A"},{"$f":"IF(Attendance($C31,'Daily Register'!GO$3:GO$242)=TRUE,\"P\",\"A\")","v":"A"},{"$f":"IF(Attendance($C31,'Daily Register'!GP$3:GP$242)=TRUE,\"P\",\"A\")","v":"A"},{"$f":"IF(Attendance($C31,'Daily Register'!GQ$3:GQ$242)=TRUE,\"P\",\"A\")","v":"A"},{"$f":"IF(Attendance($C31,'Daily Register'!GR$3:GR$242)=TRUE,\"P\",\"A\")","v":"A"},{"$f":"IF(Attendance($C31,'Daily Register'!GS$3:GS$242)=TRUE,\"P\",\"A\")","v":"A"},{"$f":"IF(Attendance($C31,'Daily Register'!GT$3:GT$242)=TRUE,\"P\",\"A\")","v":"A"},{"$f":"IF(Attendance($C31,'Daily Register'!GU$3:GU$242)=TRUE,\"P\",\"A\")","v":"A"},{"$f":"IF(Attendance($C31,'Daily Register'!GV$3:GV$242)=TRUE,\"P\",\"A\")","v":"A"},{"$f":"IF(Attendance($C31,'Daily Register'!GW$3:GW$242)=TRUE,\"P\",\"A\")","v":"A"},{"$f":"IF(Attendance($C31,'Daily Register'!GX$3:GX$242)=TRUE,\"P\",\"A\")","v":"A"},{"$f":"IF(Attendance($C31,'Daily Register'!GY$3:GY$242)=TRUE,\"P\",\"A\")","v":"A"},{"$f":"IF(Attendance($C31,'Daily Register'!GZ$3:GZ$242)=TRUE,\"P\",\"A\")","v":"A"},{"$f":"IF(Attendance($C31,'Daily Register'!HA$3:HA$242)=TRUE,\"P\",\"A\")","v":"A"},{"$f":"IF(Attendance($C31,'Daily Register'!HB$3:HB$242)=TRUE,\"P\",\"A\")","v":"A"},{"$f":"IF(Attendance($C31,'Daily Register'!HC$3:HC$242)=TRUE,\"P\",\"A\")","v":"A"},{"$f":"IF(Attendance($C31,'Daily Register'!HD$3:HD$242)=TRUE,\"P\",\"A\")","v":"A"},{"$f":"IF(Attendance($C31,'Daily Register'!HE$3:HE$242)=TRUE,\"P\",\"A\")","v":"A"},{"$f":"IF(Attendance($C31,'Daily Register'!HF$3:HF$242)=TRUE,\"P\",\"A\")","v":"A"},{"$f":"IF(Attendance($C31,'Daily Register'!HG$3:HG$242)=TRUE,\"P\",\"A\")","v":"A"},{"$f":"IF(Attendance($C31,'Daily Register'!HH$3:HH$242)=TRUE,\"P\",\"A\")","v":"A"},{"$f":"IF(Attendance($C31,'Daily Register'!HI$3:HI$242)=TRUE,\"P\",\"A\")","v":"A"},{"$f":"IF(Attendance($C31,'Daily Register'!HJ$3:HJ$242)=TRUE,\"P\",\"A\")","v":"A"},{"$f":"IF(Attendance($C31,'Daily Register'!HK$3:HK$242)=TRUE,\"P\",\"A\")","v":"A"},{"$f":"IF(Attendance($C31,'Daily Register'!HL$3:HL$242)=TRUE,\"P\",\"A\")","v":"A"},{"$f":"IF(Attendance($C31,'Daily Register'!HM$3:HM$242)=TRUE,\"P\",\"A\")","v":"A"},{"$f":"IF(Attendance($C31,'Daily Register'!HN$3:HN$242)=TRUE,\"P\",\"A\")","v":"A"},{"$f":"IF(Attendance($C31,'Daily Register'!HO$3:HO$242)=TRUE,\"P\",\"A\")","v":"A"},{"$f":"IF(Attendance($C31,'Daily Register'!HP$3:HP$242)=TRUE,\"P\",\"A\")","v":"A"},{"$f":"IF(Attendance($C31,'Daily Register'!HQ$3:HQ$242)=TRUE,\"P\",\"A\")","v":"A"},{"$f":"IF(Attendance($C31,'Daily Register'!HR$3:HR$242)=TRUE,\"P\",\"A\")","v":"A"},{"$f":"IF(Attendance($C31,'Daily Register'!HS$3:HS$242)=TRUE,\"P\",\"A\")","v":"A"},{"$f":"IF(Attendance($C31,'Daily Register'!HT$3:HT$242)=TRUE,\"P\",\"A\")","v":"A"},{"$f":"IF(Attendance($C31,'Daily Register'!HU$3:HU$242)=TRUE,\"P\",\"A\")","v":"A"},{"$f":"IF(Attendance($C31,'Daily Register'!HV$3:HV$242)=TRUE,\"P\",\"A\")","v":"A"},{"$f":"IF(Attendance($C31,'Daily Register'!HW$3:HW$242)=TRUE,\"P\",\"A\")","v":"A"},{"$f":"IF(Attendance($C31,'Daily Register'!HX$3:HX$242)=TRUE,\"P\",\"A\")","v":"A"},{"$f":"IF(Attendance($C31,'Daily Register'!HY$3:HY$242)=TRUE,\"P\",\"A\")","v":"A"},{"$f":"IF(Attendance($C31,'Daily Register'!HZ$3:HZ$242)=TRUE,\"P\",\"A\")","v":"A"},{"$f":"IF(Attendance($C31,'Daily Register'!IA$3:IA$242)=TRUE,\"P\",\"A\")","v":"A"},{"$f":"IF(Attendance($C31,'Daily Register'!IB$3:IB$242)=TRUE,\"P\",\"A\")","v":"A"},{"$f":"IF(Attendance($C31,'Daily Register'!IC$3:IC$242)=TRUE,\"P\",\"A\")","v":"A"},{"$f":"IF(Attendance($C31,'Daily Register'!ID$3:ID$242)=TRUE,\"P\",\"A\")","v":"A"},{"$f":"IF(Attendance($C31,'Daily Register'!IE$3:IE$242)=TRUE,\"P\",\"A\")","v":"A"},{"$f":"IF(Attendance($C31,'Daily Register'!IF$3:IF$242)=TRUE,\"P\",\"A\")","v":"A"},{"$f":"IF(Attendance($C31,'Daily Register'!IG$3:IG$242)=TRUE,\"P\",\"A\")","v":"A"},{"$f":"IF(Attendance($C31,'Daily Register'!IH$3:IH$242)=TRUE,\"P\",\"A\")","v":"A"},{"$f":"IF(Attendance($C31,'Daily Register'!II$3:II$242)=TRUE,\"P\",\"A\")","v":"A"},{"$f":"IF(Attendance($C31,'Daily Register'!IJ$3:IJ$242)=TRUE,\"P\",\"A\")","v":"A"},{"$f":"IF(Attendance($C31,'Daily Register'!IK$3:IK$242)=TRUE,\"P\",\"A\")","v":"A"},{"$f":"IF(Attendance($C31,'Daily Register'!IL$3:IL$242)=TRUE,\"P\",\"A\")","v":"A"},{"$f":"IF(Attendance($C31,'Daily Register'!IM$3:IM$242)=TRUE,\"P\",\"A\")","v":"A"},{"$f":"IF(Attendance($C31,'Daily Register'!IN$3:IN$242)=TRUE,\"P\",\"A\")","v":"A"},{"$f":"IF(Attendance($C31,'Daily Register'!IO$3:IO$242)=TRUE,\"P\",\"A\")","v":"A"},{"$f":"IF(Attendance($C31,'Daily Register'!IP$3:IP$242)=TRUE,\"P\",\"A\")","v":"A"},{"$f":"IF(Attendance($C31,'Daily Register'!IQ$3:IQ$242)=TRUE,\"P\",\"A\")","v":"A"},{"$f":"IF(Attendance($C31,'Daily Register'!IR$3:IR$242)=TRUE,\"P\",\"A\")","v":"A"},{"$f":"IF(Attendance($C31,'Daily Register'!IS$3:IS$242)=TRUE,\"P\",\"A\")","v":"A"},{"$f":"IF(Attendance($C31,'Daily Register'!IT$3:IT$242)=TRUE,\"P\",\"A\")","v":"A"},{"$f":"IF(Attendance($C31,'Daily Register'!IU$3:IU$242)=TRUE,\"P\",\"A\")","v":"A"},{"$f":"IF(Attendance($C31,'Daily Register'!IV$3:IV$242)=TRUE,\"P\",\"A\")","v":"A"},{"$f":"IF(Attendance($C31,'Daily Register'!IW$3:IW$242)=TRUE,\"P\",\"A\")","v":"A"},{"$f":"IF(Attendance($C31,'Daily Register'!IX$3:IX$242)=TRUE,\"P\",\"A\")","v":"A"},{"$f":"IF(Attendance($C31,'Daily Register'!IY$3:IY$242)=TRUE,\"P\",\"A\")","v":"A"},{"$f":"IF(Attendance($C31,'Daily Register'!IZ$3:IZ$242)=TRUE,\"P\",\"A\")","v":"A"},{"$f":"IF(Attendance($C31,'Daily Register'!JA$3:JA$242)=TRUE,\"P\",\"A\")","v":"A"},{"$f":"IF(Attendance($C31,'Daily Register'!JB$3:JB$242)=TRUE,\"P\",\"A\")","v":"A"},{"$f":"IF(Attendance($C31,'Daily Register'!JC$3:JC$242)=TRUE,\"P\",\"A\")","v":"A"},{"$f":"IF(Attendance($C31,'Daily Register'!JD$3:JD$242)=TRUE,\"P\",\"A\")","v":"A"},{"$f":"IF(Attendance($C31,'Daily Register'!JE$3:JE$242)=TRUE,\"P\",\"A\")","v":"A"},{"$f":"IF(Attendance($C31,'Daily Register'!JF$3:JF$242)=TRUE,\"P\",\"A\")","v":"A"},{"$f":"IF(Attendance($C31,'Daily Register'!JG$3:JG$242)=TRUE,\"P\",\"A\")","v":"A"},{"$f":"IF(Attendance($C31,'Daily Register'!JH$3:JH$242)=TRUE,\"P\",\"A\")","v":"A"},{"$f":"IF(Attendance($C31,'Daily Register'!JI$3:JI$242)=TRUE,\"P\",\"A\")","v":"A"},{"$f":"IF(Attendance($C31,'Daily Register'!JJ$3:JJ$242)=TRUE,\"P\",\"A\")","v":"A"},{"$f":"IF(Attendance($C31,'Daily Register'!JK$3:JK$242)=TRUE,\"P\",\"A\")","v":"A"},{"$f":"IF(Attendance($C31,'Daily Register'!JL$3:JL$242)=TRUE,\"P\",\"A\")","v":"A"},{"$f":"IF(Attendance($C31,'Daily Register'!JM$3:JM$242)=TRUE,\"P\",\"A\")","v":"A"},{"$f":"IF(Attendance($C31,'Daily Register'!JN$3:JN$242)=TRUE,\"P\",\"A\")","v":"A"},{"$f":"IF(Attendance($C31,'Daily Register'!JO$3:JO$242)=TRUE,\"P\",\"A\")","v":"A"},{"$f":"IF(Attendance($C31,'Daily Register'!JP$3:JP$242)=TRUE,\"P\",\"A\")","v":"A"},{"$f":"IF(Attendance($C31,'Daily Register'!JQ$3:JQ$242)=TRUE,\"P\",\"A\")","v":"A"},{"$f":"IF(Attendance($C31,'Daily Register'!JR$3:JR$242)=TRUE,\"P\",\"A\")","v":"A"},{"$f":"IF(Attendance($C31,'Daily Register'!JS$3:JS$242)=TRUE,\"P\",\"A\")","v":"A"},{"$f":"IF(Attendance($C31,'Daily Register'!JT$3:JT$242)=TRUE,\"P\",\"A\")","v":"A"},{"$f":"IF(Attendance($C31,'Daily Register'!JU$3:JU$242)=TRUE,\"P\",\"A\")","v":"A"},{"$f":"IF(Attendance($C31,'Daily Register'!JV$3:JV$242)=TRUE,\"P\",\"A\")","v":"A"},{"$f":"IF(Attendance($C31,'Daily Register'!JW$3:JW$242)=TRUE,\"P\",\"A\")","v":"A"},{"$f":"IF(Attendance($C31,'Daily Register'!JX$3:JX$242)=TRUE,\"P\",\"A\")","v":"A"},{"$f":"IF(Attendance($C31,'Daily Register'!JY$3:JY$242)=TRUE,\"P\",\"A\")","v":"A"},{"$f":"IF(Attendance($C31,'Daily Register'!JZ$3:JZ$242)=TRUE,\"P\",\"A\")","v":"A"},{"$f":"IF(Attendance($C31,'Daily Register'!KA$3:KA$242)=TRUE,\"P\",\"A\")","v":"A"},{"$f":"IF(Attendance($C31,'Daily Register'!KB$3:KB$242)=TRUE,\"P\",\"A\")","v":"A"},{"$f":"IF(Attendance($C31,'Daily Register'!KC$3:KC$242)=TRUE,\"P\",\"A\")","v":"A"},{"$f":"IF(Attendance($C31,'Daily Register'!KD$3:KD$242)=TRUE,\"P\",\"A\")","v":"A"},{"$f":"IF(Attendance($C31,'Daily Register'!KE$3:KE$242)=TRUE,\"P\",\"A\")","v":"A"},{"$f":"IF(Attendance($C31,'Daily Register'!KF$3:KF$242)=TRUE,\"P\",\"A\")","v":"A"},{"$f":"IF(Attendance($C31,'Daily Register'!KG$3:KG$242)=TRUE,\"P\",\"A\")","v":"A"},{"$f":"IF(Attendance($C31,'Daily Register'!KH$3:KH$242)=TRUE,\"P\",\"A\")","v":"A"},{"$f":"IF(Attendance($C31,'Daily Register'!KI$3:KI$242)=TRUE,\"P\",\"A\")","v":"A"},{"$f":"IF(Attendance($C31,'Daily Register'!KJ$3:KJ$242)=TRUE,\"P\",\"A\")","v":"A"},{"$f":"IF(Attendance($C31,'Daily Register'!KK$3:KK$242)=TRUE,\"P\",\"A\")","v":"A"},{"$f":"IF(Attendance($C31,'Daily Register'!KL$3:KL$242)=TRUE,\"P\",\"A\")","v":"A"},{"$f":"IF(Attendance($C31,'Daily Register'!KM$3:KM$242)=TRUE,\"P\",\"A\")","v":"A"},{"$f":"IF(Attendance($C31,'Daily Register'!KN$3:KN$242)=TRUE,\"P\",\"A\")","v":"A"},{"$f":"IF(Attendance($C31,'Daily Register'!KO$3:KO$242)=TRUE,\"P\",\"A\")","v":"A"},{"$f":"IF(Attendance($C31,'Daily Register'!KP$3:KP$242)=TRUE,\"P\",\"A\")","v":"A"},{"$f":"IF(Attendance($C31,'Daily Register'!KQ$3:KQ$242)=TRUE,\"P\",\"A\")","v":"A"},{"$f":"IF(Attendance($C31,'Daily Register'!KR$3:KR$242)=TRUE,\"P\",\"A\")","v":"A"},{"$f":"IF(Attendance($C31,'Daily Register'!KS$3:KS$242)=TRUE,\"P\",\"A\")","v":"A"},{"$f":"IF(Attendance($C31,'Daily Register'!KT$3:KT$242)=TRUE,\"P\",\"A\")","v":"A"},{"$f":"IF(Attendance($C31,'Daily Register'!KU$3:KU$242)=TRUE,\"P\",\"A\")","v":"A"},{"$f":"IF(Attendance($C31,'Daily Register'!KV$3:KV$242)=TRUE,\"P\",\"A\")","v":"A"},{"$f":"IF(Attendance($C31,'Daily Register'!KW$3:KW$242)=TRUE,\"P\",\"A\")","v":"A"},{"$f":"IF(Attendance($C31,'Daily Register'!KX$3:KX$242)=TRUE,\"P\",\"A\")","v":"A"},{"$f":"IF(Attendance($C31,'Daily Register'!KY$3:KY$242)=TRUE,\"P\",\"A\")","v":"A"},{"$f":"IF(Attendance($C31,'Daily Register'!KZ$3:KZ$242)=TRUE,\"P\",\"A\")","v":"A"},{"$f":"IF(Attendance($C31,'Daily Register'!LA$3:LA$242)=TRUE,\"P\",\"A\")","v":"A"},{"$f":"IF(Attendance($C31,'Daily Register'!LB$3:LB$242)=TRUE,\"P\",\"A\")","v":"A"},{"$f":"IF(Attendance($C31,'Daily Register'!LC$3:LC$242)=TRUE,\"P\",\"A\")","v":"A"},{"$f":"IF(Attendance($C31,'Daily Register'!LD$3:LD$242)=TRUE,\"P\",\"A\")","v":"A"},{"$f":"IF(Attendance($C31,'Daily Register'!LE$3:LE$242)=TRUE,\"P\",\"A\")","v":"A"},{"$f":"IF(Attendance($C31,'Daily Register'!LF$3:LF$242)=TRUE,\"P\",\"A\")","v":"A"},{"$f":"IF(Attendance($C31,'Daily Register'!LG$3:LG$242)=TRUE,\"P\",\"A\")","v":"A"},{"$f":"IF(Attendance($C31,'Daily Register'!LH$3:LH$242)=TRUE,\"P\",\"A\")","v":"A"},{"$f":"IF(Attendance($C31,'Daily Register'!LI$3:LI$242)=TRUE,\"P\",\"A\")","v":"A"},{"$f":"IF(Attendance($C31,'Daily Register'!LJ$3:LJ$242)=TRUE,\"P\",\"A\")","v":"A"},{"$f":"IF(Attendance($C31,'Daily Register'!LK$3:LK$242)=TRUE,\"P\",\"A\")","v":"A"},{"$f":"IF(Attendance($C31,'Daily Register'!LL$3:LL$242)=TRUE,\"P\",\"A\")","v":"A"},{"$f":"IF(Attendance($C31,'Daily Register'!LM$3:LM$242)=TRUE,\"P\",\"A\")","v":"A"},{"$f":"IF(Attendance($C31,'Daily Register'!LN$3:LN$242)=TRUE,\"P\",\"A\")","v":"A"},{"$f":"IF(Attendance($C31,'Daily Register'!LO$3:LO$242)=TRUE,\"P\",\"A\")","v":"A"},{"$f":"IF(Attendance($C31,'Daily Register'!LP$3:LP$242)=TRUE,\"P\",\"A\")","v":"A"},{"$f":"IF(Attendance($C31,'Daily Register'!LQ$3:LQ$242)=TRUE,\"P\",\"A\")","v":"A"},{"$f":"IF(Attendance($C31,'Daily Register'!LR$3:LR$242)=TRUE,\"P\",\"A\")","v":"A"},{"$f":"IF(Attendance($C31,'Daily Register'!LS$3:LS$242)=TRUE,\"P\",\"A\")","v":"A"},{"$f":"IF(Attendance($C31,'Daily Register'!LT$3:LT$242)=TRUE,\"P\",\"A\")","v":"A"},{"$f":"IF(Attendance($C31,'Daily Register'!LU$3:LU$242)=TRUE,\"P\",\"A\")","v":"A"},{"$f":"IF(Attendance($C31,'Daily Register'!LV$3:LV$242)=TRUE,\"P\",\"A\")","v":"A"},{"$f":"IF(Attendance($C31,'Daily Register'!LW$3:LW$242)=TRUE,\"P\",\"A\")","v":"A"},{"$f":"IF(Attendance($C31,'Daily Register'!LX$3:LX$242)=TRUE,\"P\",\"A\")","v":"A"},{"$f":"IF(Attendance($C31,'Daily Register'!LY$3:LY$242)=TRUE,\"P\",\"A\")","v":"A"},{"$f":"IF(Attendance($C31,'Daily Register'!LZ$3:LZ$242)=TRUE,\"P\",\"A\")","v":"A"},{"$f":"IF(Attendance($C31,'Daily Register'!MA$3:MA$242)=TRUE,\"P\",\"A\")","v":"A"},{"$f":"IF(Attendance($C31,'Daily Register'!MB$3:MB$242)=TRUE,\"P\",\"A\")","v":"A"},{"$f":"IF(Attendance($C31,'Daily Register'!MC$3:MC$242)=TRUE,\"P\",\"A\")","v":"A"},{"$f":"IF(Attendance($C31,'Daily Register'!MD$3:MD$242)=TRUE,\"P\",\"A\")","v":"A"},{"$f":"IF(Attendance($C31,'Daily Register'!ME$3:ME$242)=TRUE,\"P\",\"A\")","v":"A"},{"$f":"IF(Attendance($C31,'Daily Register'!MF$3:MF$242)=TRUE,\"P\",\"A\")","v":"A"},{"$f":"IF(Attendance($C31,'Daily Register'!MG$3:MG$242)=TRUE,\"P\",\"A\")","v":"A"},{"$f":"IF(Attendance($C31,'Daily Register'!MH$3:MH$242)=TRUE,\"P\",\"A\")","v":"A"},{"$f":"IF(Attendance($C31,'Daily Register'!MI$3:MI$242)=TRUE,\"P\",\"A\")","v":"A"},{"$f":"IF(Attendance($C31,'Daily Register'!MJ$3:MJ$242)=TRUE,\"P\",\"A\")","v":"A"},{"$f":"IF(Attendance($C31,'Daily Register'!MK$3:MK$242)=TRUE,\"P\",\"A\")","v":"A"},{"$f":"IF(Attendance($C31,'Daily Register'!ML$3:ML$242)=TRUE,\"P\",\"A\")","v":"A"},{"$f":"IF(Attendance($C31,'Daily Register'!MM$3:MM$242)=TRUE,\"P\",\"A\")","v":"A"},{"$f":"IF(Attendance($C31,'Daily Register'!MN$3:MN$242)=TRUE,\"P\",\"A\")","v":"A"},{"$f":"IF(Attendance($C31,'Daily Register'!MO$3:MO$242)=TRUE,\"P\",\"A\")","v":"A"},{"$f":"IF(Attendance($C31,'Daily Register'!MP$3:MP$242)=TRUE,\"P\",\"A\")","v":"A"},{"$f":"IF(Attendance($C31,'Daily Register'!MQ$3:MQ$242)=TRUE,\"P\",\"A\")","v":"A"},{"$f":"IF(Attendance($C31,'Daily Register'!MR$3:MR$242)=TRUE,\"P\",\"A\")","v":"A"},{"$f":"IF(Attendance($C31,'Daily Register'!MS$3:MS$242)=TRUE,\"P\",\"A\")","v":"A"},{"$f":"IF(Attendance($C31,'Daily Register'!MT$3:MT$242)=TRUE,\"P\",\"A\")","v":"A"},{"$f":"IF(Attendance($C31,'Daily Register'!MU$3:MU$242)=TRUE,\"P\",\"A\")","v":"A"},{"$f":"IF(Attendance($C31,'Daily Register'!MV$3:MV$242)=TRUE,\"P\",\"A\")","v":"A"},{"$f":"IF(Attendance($C31,'Daily Register'!MW$3:MW$242)=TRUE,\"P\",\"A\")","v":"A"},{"$f":"IF(Attendance($C31,'Daily Register'!MX$3:MX$242)=TRUE,\"P\",\"A\")","v":"A"},{"$f":"IF(Attendance($C31,'Daily Register'!MY$3:MY$242)=TRUE,\"P\",\"A\")","v":"A"},{"$f":"IF(Attendance($C31,'Daily Register'!MZ$3:MZ$242)=TRUE,\"P\",\"A\")","v":"A"},{"$f":"IF(Attendance($C31,'Daily Register'!NA$3:NA$242)=TRUE,\"P\",\"A\")","v":"A"},{"$f":"IF(Attendance($C31,'Daily Register'!NB$3:NB$242)=TRUE,\"P\",\"A\")","v":"A"}]
[0,null,29,null,{"$f":"IF(Attendance($C32,'Daily Register'!A$3:A$242)=TRUE,\"P\",\"A\")","v":"A"},{"$f":"IF(Attendance($C32,'Daily Register'!B$3:B$242)=TRUE,\"P\",\"A\")","v":"A"},{"$f":"IF(Attendance($C32,'Daily Register'!C$3:C$242)=TRUE,\"P\",\"A\")","v":"A"},{"$f":"IF(Attendance($C32,'Daily Register'!D$3:D$242)=TRUE,\"P\",\"A\")","v":"A"},{"$f":"IF(Attendance($C32,'Daily Register'!E$3:E$242)=TRUE,\"P\",\"A\")","v":"A"},{"$f":"IF(Attendance($C32,'Daily Register'!F$3:F$242)=TRUE,\"P\",\"A\")","v":"A"},{"$f":"IF(Attendance($C32,'Daily Register'!G$3:G$242)=TRUE,\"P\",\"A\")","v":"A"},{"$f":"IF(Attendance($C32,'Daily Register'!H$3:H$242)=TRUE,\"P\",\"A\")","v":"A"},{"$f":"IF(Attendance($C32,'Daily Register'!I$3:I$242)=TRUE,\"P\",\"A\")","v":"A"},{"$f":"IF(Attendance($C32,'Daily Register'!J$3:J$242)=TRUE,\"P\",\"A\")","v":"A"},{"$f":"IF(Attendance($C32,'Daily Register'!K$3:K$242)=TRUE,\"P\",\"A\")","v":"A"},{"$f":"IF(Attendance($C32,'Daily Register'!L$3:L$242)=TRUE,\"P\",\"A\")","v":"A"},{"$f":"IF(Attendance($C32,'Daily Register'!M$3:M$242)=TRUE,\"P\",\"A\")","v":"A"},{"$f":"IF(Attendance($C32,'Daily Register'!N$3:N$242)=TRUE,\"P\",\"A\")","v":"A"},{"$f":"IF(Attendance($C32,'Daily Register'!O$3:O$242)=TRUE,\"P\",\"A\")","v":"A"},{"$f":"IF(Attendance($C32,'Daily Register'!P$3:P$242)=TRUE,\"P\",\"A\")","v":"A"},{"$f":"IF(Attendance($C32,'Daily Register'!Q$3:Q$242)=TRUE,\"P\",\"A\")","v":"A"},{"$f":"IF(Attendance($C32,'Daily Register'!R$3:R$242)=TRUE,\"P\",\"A\")","v":"A"},{"$f":"IF(Attendance($C32,'Daily Register'!S$3:S$242)=TRUE,\"P\",\"A\")","v":"A"},{"$f":"IF(Attendance($C32,'Daily Register'!T$3:T$242)=TRUE,\"P\",\"A\")","v":"A"},{"$f":"IF(Attendance($C32,'Daily Register'!U$3:U$242)=TRUE,\"P\",\"A\")","v":"A"},{"$f":"IF(Attendance($C32,'Daily Register'!V$3:V$242)=TRUE,\"P\",\"A\")","v":"A"},{"$f":"IF(Attendance($C32,'Daily Register'!W$3:W$242)=TRUE,\"P\",\"A\")","v":"A"},{"$f":"IF(Attendance($C32,'Daily Register'!X$3:X$242)=TRUE,\"P\",\"A\")","v":"A"},{"$f":"IF(Attendance($C32,'Daily Register'!Y$3:Y$242)=TRUE,\"P\",\"A\")","v":"A"},{"$f":"IF(Attendance($C32,'Daily Register'!Z$3:Z$242)=TRUE,\"P\",\"A\")","v":"A"},{"$f":"IF(Attendance($C32,'Daily Register'!AA$3:AA$242)=TRUE,\"P\",\"A\")","v":"A"},{"$f":"IF(Attendance($C32,'Daily Register'!AB$3:AB$242)=TRUE,\"P\",\"A\")","v":"A"},{"$f":"IF(Attendance($C32,'Daily Register'!AC$3:AC$242)=TRUE,\"P\",\"A\")","v":"A"},{"$f":"IF(Attendance($C32,'Daily Register'!AD$3:AD$242)=TRUE,\"P\",\"A\")","v":"A"},{"$f":"IF(Attendance($C32,'Daily Register'!AE$3:AE$242)=TRUE,\"P\",\"A\")","v":"A"},{"$f":"IF(Attendance($C32,'Daily Register'!AF$3:AF$242)=TRUE,\"P\",\"A\")","v":"A"},{"$f":"IF(Attendance($C32,'Daily Register'!AG$3:AG$242)=TRUE,\"P\",\"A\")","v":"A"},{"$f":"IF(Attendance($C32,'Daily Register'!AH$3:AH$242)=TRUE,\"P\",\"A\")","v":"A"},{"$f":"IF(Attendance($C32,'Daily Register'!AI$3:AI$242)=TRUE,\"P\",\"A\")","v":"A"},{"$f":"IF(Attendance($C32,'Daily Register'!AJ$3:AJ$242)=TRUE,\"P\",\"A\")","v":"A"},{"$f":"IF(Attendance($C32,'Daily Register'!AK$3:AK$242)=TRUE,\"P\",\"A\")","v":"A"},{"$f":"IF(Attendance($C32,'Daily Register'!AL$3:AL$242)=TRUE,\"P\",\"A\")","v":"A"},{"$f":"IF(Attendance($C32,'Daily Register'!AM$3:AM$242)=TRUE,\"P\",\"A\")","v":"A"},{"$f":"IF(Attendance($C32,'Daily Register'!AN$3:AN$242)=TRUE,\"P\",\"A\")","v":"A"},{"$f":"IF(Attendance($C32,'Daily Register'!AO$3:AO$242)=TRUE,\"P\",\"A\")","v":"A"},{"$f":"IF(Attendance($C32,'Daily Register'!AP$3:AP$242)=TRUE,\"P\",\"A\")","v":"A"},{"$f":"IF(Attendance($C32,'Daily Register'!AQ$3:AQ$242)=TRUE,\"P\",\"A\")","v":"A"},{"$f":"IF(Attendance($C32,'Daily Register'!AR$3:AR$242)=TRUE,\"P\",\"A\")","v":"A"},{"$f":"IF(Attendance($C32,'Daily Register'!AS$3:AS$242)=TRUE,\"P\",\"A\")","v":"A"},{"$f":"IF(Attendance($C32,'Daily Register'!AT$3:AT$242)=TRUE,\"P\",\"A\")","v":"A"},{"$f":"IF(Attendance($C32,'Daily Register'!AU$3:AU$242)=TRUE,\"P\",\"A\")","v":"A"},{"$f":"IF(Attendance($C32,'Daily Register'!AV$3:AV$242)=TRUE,\"P\",\"A\")","v":"A"},{"$f":"IF(Attendance($C32,'Daily Register'!AW$3:AW$242)=TRUE,\"P\",\"A\")","v":"A"},{"$f":"IF(Attendance($C32,'Daily Register'!AX$3:AX$242)=TRUE,\"P\",\"A\")","v":"A"},{"$f":"IF(Attendance($C32,'Daily Register'!AY$3:AY$242)=TRUE,\"P\",\"A\")","v":"A"},{"$f":"IF(Attendance($C32,'Daily Register'!AZ$3:AZ$242)=TRUE,\"P\",\"A\")","v":"A"},{"$f":"IF(Attendance($C32,'Daily Register'!BA$3:BA$242)=TRUE,\"P\",\"A\")","v":"A"},{"$f":"IF(Attendance($C32,'Daily Register'!BB$3:BB$242)=TRUE,\"P\",\"A\")","v":"A"},{"$f":"IF(Attendance($C32,'Daily Register'!BC$3:BC$242)=TRUE,\"P\",\"A\")","v":"A"},{"$f":"IF(Attendance($C32,'Daily Register'!BD$3:BD$242)=TRUE,\"P\",\"A\")","v":"A"},{"$f":"IF(Attendance($C32,'Daily Register'!BE$3:BE$242)=TRUE,\"P\",\"A\")","v":"A"},{"$f":"IF(Attendance($C32,'Daily Register'!BF$3:BF$242)=TRUE,\"P\",\"A\")","v":"A"},{"$f":"IF(Attendance($C32,'Daily Register'!BG$3:BG$242)=TRUE,\"P\",\"A\")","v":"A"},{"$f":"IF(Attendance($C32,'Daily Register'!BH$3:BH$242)=TRUE,\"P\",\"A\")","v":"A"},{"$f":"IF(Attendance($C32,'Daily Register'!BI$3:BI$242)=TRUE,\"P\",\"A\")","v":"A"},{"$f":"IF(Attendance($C32,'Daily Register'!BJ$3:BJ$242)=TRUE,\"P\",\"A\")","v":"A"},{"$f":"IF(Attendance($C32,'Daily Register'!BK$3:BK$242)=TRUE,\"P\",\"A\")","v":"A"},{"$f":"IF(Attendance($C32,'Daily Register'!BL$3:BL$242)=TRUE,\"P\",\"A\")","v":"A"},{"$f":"IF(Attendance($C32,'Daily Register'!BM$3:BM$242)=TRUE,\"P\",\"A\")","v":"A"},{"$f":"IF(Attendance($C32,'Daily Register'!BN$3:BN$242)=TRUE,\"P\",\"A\")","v":"A"},{"$f":"IF(Attendance($C32,'Daily Register'!BO$3:BO$242)=TRUE,\"P\",\"A\")","v":"A"},{"$f":"IF(Attendance($C32,'Daily Register'!BP$3:BP$242)=TRUE,\"P\",\"A\")","v":"A"},{"$f":"IF(Attendance($C32,'Daily Register'!BQ$3:BQ$242)=TRUE,\"P\",\"A\")","v":"A"},{"$f":"IF(Attendance($C32,'Daily Register'!BR$3:BR$242)=TRUE,\"P\",\"A\")","v":"A"},{"$f":"IF(Attendance($C32,'Daily Register'!BS$3:BS$242)=TRUE,\"P\",\"A\")","v":"A"},{"$f":"IF(Attendance($C32,'Daily Register'!BT$3:BT$242)=TRUE,\"P\",\"A\")","v":"A"},{"$f":"IF(Attendance($C32,'Daily Register'!BU$3:BU$242)=TRUE,\"P\",\"A\")","v":"A"},{"$f":"IF(Attendance($C32,'Daily Register'!BV$3:BV$242)=TRUE,\"P\",\"A\")","v":"A"},{"$f":"IF(Attendance($C32,'Daily Register'!BW$3:BW$242)=TRUE,\"P\",\"A\")","v":"A"},{"$f":"IF(Attendance($C32,'Daily Register'!BX$3:BX$242)=TRUE,\"P\",\"A\")","v":"A"},{"$f":"IF(Attendance($C32,'Daily Register'!BY$3:BY$242)=TRUE,\"P\",\"A\")","v":"A"},{"$f":"IF(Attendance($C32,'Daily Register'!BZ$3:BZ$242)=TRUE,\"P\",\"A\")","v":"A"},{"$f":"IF(Attendance($C32,'Daily Register'!CA$3:CA$242)=TRUE,\"P\",\"A\")","v":"A"},{"$f":"IF(Attendance($C32,'Daily Register'!CB$3:CB$242)=TRUE,\"P\",\"A\")","v":"A"},{"$f":"IF(Attendance($C32,'Daily Register'!CC$3:CC$242)=TRUE,\"P\",\"A\")","v":"A"},{"$f":"IF(Attendance($C32,'Daily Register'!CD$3:CD$242)=TRUE,\"P\",\"A\")","v":"A"},{"$f":"IF(Attendance($C32,'Daily Register'!CE$3:CE$242)=TRUE,\"P\",\"A\")","v":"A"},{"$f":"IF(Attendance($C32,'Daily Register'!CF$3:CF$242)=TRUE,\"P\",\"A\")","v":"A"},{"$f":"IF(Attendance($C32,'Daily Register'!CG$3:CG$242)=TRUE,\"P\",\"A\")","v":"A"},{"$f":"IF(Attendance($C32,'Daily Register'!CH$3:CH$242)=TRUE,\"P\",\"A\")","v":"A"},{"$f":"IF(Attendance($C32,'Daily Register'!CI$3:CI$242)=TRUE,\"P\",\"A\")","v":"A"},{"$f":"IF(Attendance($C32,'Daily Register'!CJ$3:CJ$242)=TRUE,\"P\",\"A\")","v":"A"},{"$f":"IF(Attendance($C32,'Daily Register'!CK$3:CK$242)=TRUE,\"P\",\"A\")","v":"A"},{"$f":"IF(Attendance($C32,'Daily Register'!CL$3:CL$242)=TRUE,\"P\",\"A\")","v":"A"},{"$f":"IF(Attendance($C32,'Daily Register'!CM$3:CM$242)=TRUE,\"P\",\"A\")","v":"A"},{"$f":"IF(Attendance($C32,'Daily Register'!CN$3:CN$242)=TRUE,\"P\",\"A\")","v":"A"},{"$f":"IF(Attendance($C32,'Daily Register'!CO$3:CO$242)=TRUE,\"P\",\"A\")","v":"A"},{"$f":"IF(Attendance($C32,'Daily Register'!CP$3:CP$242)=TRUE,\"P\",\"A\")","v":"A"},{"$f":"IF(Attendance($C32,'Daily Register'!CQ$3:CQ$242)=TRUE,\"P\",\"A\")","v":"A"},{"$f":"IF(Attendance($C32,'Daily Register'!CR$3:CR$242)=TRUE,\"P\",\"A\")","v":"A"},{"$f":"IF(Attendance($C32,'Daily Register'!CS$3:CS$242)=TRUE,\"P\",\"A\")","v":"A"},{"$f":"IF(Attendance($C32,'Daily Register'!CT$3:CT$242)=TRUE,\"P\",\"A\")","v":"A"},{"$f":"IF(Attendance($C32,'Daily Register'!CU$3:CU$242)=TRUE,\"P\",\"A\")","v":"A"},{"$f":"IF(Attendance($C32,'Daily Register'!CV$3:CV$242)=TRUE,\"P\",\"A\")","v":"A"},{"$f":"IF(Attendance($C32,'Daily Register'!CW$3:CW$242)=TRUE,\"P\",\"A\")","v":"A"},{"$f":"IF(Attendance($C32,'Daily Register'!CX$3:CX$242)=TRUE,\"P\",\"A\")","v":"A"},{"$f":"IF(Attendance($C32,'Daily Register'!CY$3:CY$242)=TRUE,\"P\",\"A\")","v":"A"},{"$f":"IF(Attendance($C32,'Daily Register'!CZ$3:CZ$242)=TRUE,\"P\",\"A\")","v":"A"},{"$f":"IF(Attendance($C32,'Daily Register'!DA$3:DA$242)=TRUE,\"P\",\"A\")","v":"A"},{"$f":"IF(Attendance($C32,'Daily Register'!DB$3:DB$242)=TRUE,\"P\",\"A\")","v":"A"},{"$f":"IF(Attendance($C32,'Daily Register'!DC$3:DC$242)=TRUE,\"P\",\"A\")","v":"A"},{"$f":"IF(Attendance($C32,'Daily Register'!DD$3:DD$242)=TRUE,\"P\",\"A\")","v":"A"},{"$f":"IF(Attendance($C32,'Daily Register'!DE$3:DE$242)=TRUE,\"P\",\"A\")","v":"A"},{"$f":"IF(Attendance($C32,'Daily Register'!DF$3:DF$242)=TRUE,\"P\",\"A\")","v":"A"},{"$f":"IF(Attendance($C32,'Daily Register'!DG$3:DG$242)=TRUE,\"P\",\"A\")","v":"A"},{"$f":"IF(Attendance($C32,'Daily Register'!DH$3:DH$242)=TRUE,\"P\",\"A\")","v":"A"},{"$f":"IF(Attendance($C32,'Daily Register'!DI$3:DI$242)=TRUE,\"P\",\"A\")","v":"A"},{"$f":"IF(Attendance($C32,'Daily Register'!DJ$3:DJ$242)=TRUE,\"P\",\"A\")","v":"A"},{"$f":"IF(Attendance($C32,'Daily Register'!DK$3:DK$242)=TRUE,\"P\",\"A\")","v":"A"},{"$f":"IF(Attendance($C32,'Daily Register'!DL$3:DL$242)=TRUE,\"P\",\"A\")","v":"A"},{"$f":"IF(Attendance($C32,'Daily Register'!DM$3:DM$242)=TRUE,\"P\",\"A\")","v":"A"},{"$f":"IF(Attendance($C32,'Daily Register'!DN$3:DN$242)=TRUE,\"P\",\"A\")","v":"A"},{"$f":"IF(Attendance($C32,'Daily Register'!DO$3:DO$242)=TRUE,\"P\",\"A\")","v":"A"},{"$f":"IF(Attendance($C32,'Daily Register'!DP$3:DP$242)=TRUE,\"P\",\"A\")","v":"A"},{"$f":"IF(Attendance($C32,'Daily Register'!DQ$3:DQ$242)=TRUE,\"P\",\"A\")","v":"A"},{"$f":"IF(Attendance($C32,'Daily Register'!DR$3:DR$242)=TRUE,\"P\",\"A\")","v":"A"},{"$f":"IF(Attendance($C32,'Daily Register'!DS$3:DS$242)=TRUE,\"P\",\"A\")","v":"A"},{"$f":"IF(Attendance($C32,'Daily Register'!DT$3:DT$242)=TRUE,\"P\",\"A\")","v":"A"},{"$f":"IF(Attendance($C32,'Daily Register'!DU$3:DU$242)=TRUE,\"P\",\"A\")","v":"A"},{"$f":"IF(Attendance($C32,'Daily Register'!DV$3:DV$242)=TRUE,\"P\",\"A\")","v":"A"},{"$f":"IF(Attendance($C32,'Daily Register'!DW$3:DW$242)=TRUE,\"P\",\"A\")","v":"A"},{"$f":"IF(Attendance($C32,'Daily Register'!DX$3:DX$242)=TRUE,\"P\",\"A\")","v":"A"},{"$f":"IF(Attendance($C32,'Daily Register'!DY$3:DY$242)=TRUE,\"P\",\"A\")","v":"A"},{"$f":"IF(Attendance($C32,'Daily Register'!DZ$3:DZ$242)=TRUE,\"P\",\"A\")","v":"A"},{"$f":"IF(Attendance($C32,'Daily Register'!EA$3:EA$242)=TRUE,\"P\",\"A\")","v":"A"},{"$f":"IF(Attendance($C32,'Daily Register'!EB$3:EB$242)=TRUE,\"P\",\"A\")","v":"A"},{"$f":"IF(Attendance($C32,'Daily Register'!EC$3:EC$242)=TRUE,\"P\",\"A\")","v":"A"},{"$f":"IF(Attendance($C32,'Daily Register'!ED$3:ED$242)=TRUE,\"P\",\"A\")","v":"A"},{"$f":"IF(Attendance($C32,'Daily Register'!EE$3:EE$242)=TRUE,\"P\",\"A\")","v":"A"},{"$f":"IF(Attendance($C32,'Daily Register'!EF$3:EF$242)=TRUE,\"P\",\"A\")","v":"A"},{"$f":"IF(Attendance($C32,'Daily Register'!EG$3:EG$242)=TRUE,\"P\",\"A\")","v":"A"},{"$f":"IF(Attendance($C32,'Daily Register'!EH$3:EH$242)=TRUE,\"P\",\"A\")","v":"A"},{"$f":"IF(Attendance($C32,'Daily Register'!EI$3:EI$242)=TRUE,\"P\",\"A\")","v":"A"},{"$f":"IF(Attendance($C32,'Daily Register'!EJ$3:EJ$242)=TRUE,\"P\",\"A\")","v":"A"},{"$f":"IF(Attendance($C32,'Daily Register'!EK$3:EK$242)=TRUE,\"P\",\"A\")","v":"A"},{"$f":"IF(Attendance($C32,'Daily Register'!EL$3:EL$242)=TRUE,\"P\",\"A\")","v":"A"},{"$f":"IF(Attendance($C32,'Daily Register'!EM$22:EM$242)=TRUE,\"P\",\"A\")","v":"A"},{"$f":"IF(Attendance($C32,'Daily Register'!EN$3:EN$242)=TRUE,\"P\",\"A\")","v":"A"},{"$f":"IF(Attendance($C32,'Daily Register'!EO$3:EO$242)=TRUE,\"P\",\"A\")","v":"A"},{"$f":"IF(Attendance($C32,'Daily Register'!EP$3:EP$242)=TRUE,\"P\",\"A\")","v":"A"},{"$f":"IF(Attendance($C32,'Daily Register'!EQ$3:EQ$242)=TRUE,\"P\",\"A\")","v":"A"},{"$f":"IF(Attendance($C32,'Daily Register'!ER$3:ER$242)=TRUE,\"P\",\"A\")","v":"A"},{"$f":"IF(Attendance($C32,'Daily Register'!ES$3:ES$242)=TRUE,\"P\",\"A\")","v":"A"},{"$f":"IF(Attendance($C32,'Daily Register'!ET$3:ET$242)=TRUE,\"P\",\"A\")","v":"A"},{"$f":"IF(Attendance($C32,'Daily Register'!EU$3:EU$242)=TRUE,\"P\",\"A\")","v":"A"},{"$f":"IF(Attendance($C32,'Daily Register'!EV$3:EV$242)=TRUE,\"P\",\"A\")","v":"A"},{"$f":"IF(Attendance($C32,'Daily Register'!EW$3:EW$242)=TRUE,\"P\",\"A\")","v":"A"},{"$f":"IF(Attendance($C32,'Daily Register'!EX$3:EX$242)=TRUE,\"P\",\"A\")","v":"A"},{"$f":"IF(Attendance($C32,'Daily Register'!EY$3:EY$242)=TRUE,\"P\",\"A\")","v":"A"},{"$f":"IF(Attendance($C32,'Daily Register'!EZ$3:EZ$242)=TRUE,\"P\",\"A\")","v":"A"},{"$f":"IF(Attendance($C32,'Daily Register'!FA$3:FA$242)=TRUE,\"P\",\"A\")","v":"A"},{"$f":"IF(Attendance($C32,'Daily Register'!FB$3:FB$242)=TRUE,\"P\",\"A\")","v":"A"},{"$f":"IF(Attendance($C32,'Daily Register'!FC$3:FC$242)=TRUE,\"P\",\"A\")","v":"A"},{"$f":"IF(Attendance($C32,'Daily Register'!FD$3:FD$242)=TRUE,\"P\",\"A\")","v":"A"},{"$f":"IF(Attendance($C32,'Daily Register'!FE$3:FE$242)=TRUE,\"P\",\"A\")","v":"A"},{"$f":"IF(Attendance($C32,'Daily Register'!FF$3:FF$242)=TRUE,\"P\",\"A\")","v":"A"},{"$f":"IF(Attendance($C32,'Daily Register'!FG$3:FG$242)=TRUE,\"P\",\"A\")","v":"A"},{"$f":"IF(Attendance($C32,'Daily Register'!FH$3:FH$242)=TRUE,\"P\",\"A\")","v":"A"},{"$f":"IF(Attendance($C32,'Daily Register'!FI$3:FI$242)=TRUE,\"P\",\"A\")","v":"A"},{"$f":"IF(Attendance($C32,'Daily Register'!FJ$3:FJ$242)=TRUE,\"P\",\"A\")","v":"A"},{"$f":"IF(Attendance($C32,'Daily Register'!FK$3:FK$242)=TRUE,\"P\",\"A\")","v":"A"},{"$f":"IF(Attendance($C32,'Daily Register'!FL$3:FL$242)=TRUE,\"P\",\"A\")","v":"A"},{"$f":"IF(Attendance($C32,'Daily Register'!FM$3:FM$242)=TRUE,\"P\",\"A\")","v":"A"},{"$f":"IF(Attendance($C32,'Daily Register'!FN$3:FN$242)=TRUE,\"P\",\"A\")","v":"A"},{"$f":"IF(Attendance($C32,'Daily Register'!FO$3:FO$242)=TRUE,\"P\",\"A\")","v":"A"},{"$f":"IF(Attendance($C32,'Daily Register'!FP$3:FP$242)=TRUE,\"P\",\"A\")","v":"A"},{"$f":"IF(Attendance($C32,'Daily Register'!FQ$3:FQ$242)=TRUE,\"P\",\"A\")","v":"A"},{"$f":"IF(Attendance($C32,'Daily Register'!FR$3:FR$242)=TRUE,\"P\",\"A\")","v":"A"},{"$f":"IF(Attendance($C32,'Daily Register'!FS$3:FS$242)=TRUE,\"P\",\"A\")","v":"A"},{"$f":"IF(Attendance($C32,'Daily Register'!FT$3:FT$242)=TRUE,\"P\",\"A\")","v":"A"},{"$f":"IF(Attendance($C32,'Daily Register'!FU$3:FU$242)=TRUE,\"P\",\"A\")","v":"A"},{"$f":"IF(Attendance($C32,'Daily Register'!FV$3:FV$242)=TRUE,\"P\",\"A\")","v":"A"},{"$f":"IF(Attendance($C32,'Daily Register'!FW$3:FW$242)=TRUE,\"P\",\"A\")","v":"A"},{"$f":"IF(Attendance($C32,'Daily Register'!FX$3:FX$242)=TRUE,\"P\",\"A\")","v":"A"},{"$f":"IF(Attendance($C32,'Daily Register'!FY$3:FY$242)=TRUE,\"P\",\"A\")","v":"A"},{"$f":"IF(Attendance($C32,'Daily Register'!FZ$3:FZ$242)=TRUE,\"P\",\"A\")","v":"A"},{"$f":"IF(Attendance($C32,'Daily Register'!GA$3:GA$242)=TRUE,\"P\",\"A\")","v":"A"},{"$f":"IF(Attendance($C32,'Daily Register'!GB$3:GB$242)=TRUE,\"P\",\"A\")","v":"A"},{"$f":"IF(Attendance($C32,'Daily Register'!GC$3:GC$242)=TRUE,\"P\",\"A\")","v":"A"},{"$f":"IF(Attendance($C32,'Daily Register'!GD$3:GD$242)=TRUE,\"P\",\"A\")","v":"A"},{"$f":"IF(Attendance($C32,'Daily Register'!GE$3:GE$242)=TRUE,\"P\",\"A\")","v":"A"},{"$f":"IF(Attendance($C32,'Daily Register'!GF$3:GF$242)=TRUE,\"P\",\"A\")","v":"A"},{"$f":"IF(Attendance($C32,'Daily Register'!GG$3:GG$242)=TRUE,\"P\",\"A\")","v":"A"},{"$f":"IF(Attendance($C32,'Daily Register'!GH$3:GH$242)=TRUE,\"P\",\"A\")","v":"A"},{"$f":"IF(Attendance($C32,'Daily Register'!GI$3:GI$242)=TRUE,\"P\",\"A\")","v":"A"},{"$f":"IF(Attendance($C32,'Daily Register'!GJ$3:GJ$242)=TRUE,\"P\",\"A\")","v":"A"},{"$f":"IF(Attendance($C32,'Daily Register'!GK$3:GK$242)=TRUE,\"P\",\"A\")","v":"A"},{"$f":"IF(Attendance($C32,'Daily Register'!GL$3:GL$242)=TRUE,\"P\",\"A\")","v":"A"},{"$f":"IF(Attendance($C32,'Daily Register'!GM$3:GM$242)=TRUE,\"P\",\"A\")","v":"A"},{"$f":"IF(Attendance($C32,'Daily Register'!GN$3:GN$242)=TRUE,\"P\",\"A\")","v":"A"},{"$f":"IF(Attendance($C32,'Daily Register'!GO$3:GO$242)=TRUE,\"P\",\"A\")","v":"A"},{"$f":"IF(Attendance($C32,'Daily Register'!GP$3:GP$242)=TRUE,\"P\",\"A\")","v":"A"},{"$f":"IF(Attendance($C32,'Daily Register'!GQ$3:GQ$242)=TRUE,\"P\",\"A\")","v":"A"},{"$f":"IF(Attendance($C32,'Daily Register'!GR$3:GR$242)=TRUE,\"P\",\"A\")","v":"A"},{"$f":"IF(Attendance($C32,'Daily Register'!GS$3:GS$242)=TRUE,\"P\",\"A\")","v":"A"},{"$f":"IF(Attendance($C32,'Daily Register'!GT$3:GT$242)=TRUE,\"P\",\"A\")","v":"A"},{"$f":"IF(Attendance($C32,'Daily Register'!GU$3:GU$242)=TRUE,\"P\",\"A\")","v":"A"},{"$f":"IF(Attendance($C32,'Daily Register'!GV$3:GV$242)=TRUE,\"P\",\"A\")","v":"A"},{"$f":"IF(Attendance($C32,'Daily Register'!GW$3:GW$242)=TRUE,\"P\",\"A\")","v":"A"},{"$f":"IF(Attendance($C32,'Daily Register'!GX$3:GX$242)=TRUE,\"P\",\"A\")","v":"A"},{"$f":"IF(Attendance($C32,'Daily Register'!GY$3:GY$242)=TRUE,\"P\",\"A\")","v":"A"},{"$f":"IF(Attendance($C32,'Daily Register'!GZ$3:GZ$242)=TRUE,\"P\",\"A\")","v":"A"},{"$f":"IF(Attendance($C32,'Daily Register'!HA$3:HA$242)=TRUE,\"P\",\"A\")","v":"A"},{"$f":"IF(Attendance($C32,'Daily Register'!HB$3:HB$242)=TRUE,\"P\",\"A\")","v":"A"},{"$f":"IF(Attendance($C32,'Daily Register'!HC$3:HC$242)=TRUE,\"P\",\"A\")","v":"A"},{"$f":"IF(Attendance($C32,'Daily Register'!HD$3:HD$242)=TRUE,\"P\",\"A\")","v":"A"},{"$f":"IF(Attendance($C32,'Daily Register'!HE$3:HE$242)=TRUE,\"P\",\"A\")","v":"A"},{"$f":"IF(Attendance($C32,'Daily Register'!HF$3:HF$242)=TRUE,\"P\",\"A\")","v":"A"},{"$f":"IF(Attendance($C32,'Daily Register'!HG$3:HG$242)=TRUE,\"P\",\"A\")","v":"A"},{"$f":"IF(Attendance($C32,'Daily Register'!HH$3:HH$242)=TRUE,\"P\",\"A\")","v":"A"},{"$f":"IF(Attendance($C32,'Daily Register'!HI$3:HI$242)=TRUE,\"P\",\"A\")","v":"A"},{"$f":"IF(Attendance($C32,'Daily Register'!HJ$3:HJ$242)=TRUE,\"P\",\"A\")","v":"A"},{"$f":"IF(Attendance($C32,'Daily Register'!HK$3:HK$242)=TRUE,\"P\",\"A\")","v":"A"},{"$f":"IF(Attendance($C32,'Daily Register'!HL$3:HL$242)=TRUE,\"P\",\"A\")","v":"A"},{"$f":"IF(Attendance($C32,'Daily Register'!HM$3:HM$242)=TRUE,\"P\",\"A\")","v":"A"},{"$f":"IF(Attendance($C32,'Daily Register'!HN$3:HN$242)=TRUE,\"P\",\"A\")","v":"A"},{"$f":"IF(Attendance($C32,'Daily Register'!HO$3:HO$242)=TRUE,\"P\",\"A\")","v":"A"},{"$f":"IF(Attendance($C32,'Daily Register'!HP$3:HP$242)=TRUE,\"P\",\"A\")","v":"A"},{"$f":"IF(Attendance($C32,'Daily Register'!HQ$3:HQ$242)=TRUE,\"P\",\"A\")","v":"A"},{"$f":"IF(Attendance($C32,'Daily Register'!HR$3:HR$242)=TRUE,\"P\",\"A\")","v":"A"},{"$f":"IF(Attendance($C32,'Daily Register'!HS$3:HS$242)=TRUE,\"P\",\"A\")","v":"A"},{"$f":"IF(Attendance($C32,'Daily Register'!HT$3:HT$242)=TRUE,\"P\",\"A\")","v":"A"},{"$f":"IF(Attendance($C32,'Daily Register'!HU$3:HU$242)=TRUE,\"P\",\"A\")","v":"A"},{"$f":"IF(Attendance($C32,'Daily Register'!HV$3:HV$242)=TRUE,\"P\",\"A\")","v":"A"},{"$f":"IF(Attendance($C32,'Daily Register'!HW$3:HW$242)=TRUE,\"P\",\"A\")","v":"A"},{"$f":"IF(Attendance($C32,'Daily Register'!HX$3:HX$242)=TRUE,\"P\",\"A\")","v":"A"},{"$f":"IF(Attendance($C32,'Daily Register'!HY$3:HY$242)=TRUE,\"P\",\"A\")","v":"A"},{"$f":"IF(Attendance($C32,'Daily Register'!HZ$3:HZ$242)=TRUE,\"P\",\"A\")","v":"A"},{"$f":"IF(Attendance($C32,'Daily Register'!IA$3:IA$242)=TRUE,\"P\",\"A\")","v":"A"},{"$f":"IF(Attendance($C32,'Daily Register'!IB$3:IB$242)=TRUE,\"P\",\"A\")","v":"A"},{"$f":"IF(Attendance($C32,'Daily Register'!IC$3:IC$242)=TRUE,\"P\",\"A\")","v":"A"},{"$f":"IF(Attendance($C32,'Daily Register'!ID$3:ID$242)=TRUE,\"P\",\"A\")","v":"A"},{"$f":"IF(Attendance($C32,'Daily Register'!IE$3:IE$242)=TRUE,\"P\",\"A\")","v":"A"},{"$f":"IF(Attendance($C32,'Daily Register'!IF$3:IF$242)=TRUE,\"P\",\"A\")","v":"A"},{"$f":"IF(Attendance($C32,'Daily Register'!IG$3:IG$242)=TRUE,\"P\",\"A\")","v":"A"},{"$f":"IF(Attendance($C32,'Daily Register'!IH$3:IH$242)=TRUE,\"P\",\"A\")","v":"A"},{"$f":"IF(Attendance($C32,'Daily Register'!II$3:II$242)=TRUE,\"P\",\"A\")","v":"A"},{"$f":"IF(Attendance($C32,'Daily Register'!IJ$3:IJ$242)=TRUE,\"P\",\"A\")","v":"A"},{"$f":"IF(Attendance($C32,'Daily Register'!IK$3:IK$242)=TRUE,\"P\",\"A\")","v":"A"},{"$f":"IF(Attendance($C32,'Daily Register'!IL$3:IL$242)=TRUE,\"P\",\"A\")","v":"A"},{"$f":"IF(Attendance($C32,'Daily Register'!IM$3:IM$242)=TRUE,\"P\",\"A\")","v":"A"},{"$f":"IF(Attendance($C32,'Daily Register'!IN$3:IN$242)=TRUE,\"P\",\"A\")","v":"A"},{"$f":"IF(Attendance($C32,'Daily Register'!IO$3:IO$242)=TRUE,\"P\",\"A\")","v":"A"},{"$f":"IF(Attendance($C32,'Daily Register'!IP$3:IP$242)=TRUE,\"P\",\"A\")","v":"A"},{"$f":"IF(Attendance($C32,'Daily Register'!IQ$3:IQ$242)=TRUE,\"P\",\"A\")","v":"A"},{"$f":"IF(Attendance($C32,'Daily Register'!IR$3:IR$242)=TRUE,\"P\",\"A\")","v":"A"},{"$f":"IF(Attendance($C32,'Daily Register'!IS$3:IS$242)=TRUE,\"P\",\"A\")","v":"A"},{"$f":"IF(Attendance($C32,'Daily Register'!IT$3:IT$242)=TRUE,\"P\",\"A\")","v":"A"},{"$f":"IF(Attendance($C32,'Daily Register'!IU$3:IU$242)=TRUE,\"P\",\"A\")","v":"A"},{"$f":"IF(Attendance($C32,'Daily Register'!IV$3:IV$242)=TRUE,\"P\",\"A\")","v":"A"},{"$f":"IF(Attendance($C32,'Daily Register'!IW$3:IW$242)=TRUE,\"P\",\"A\")","v":"A"},{"$f":"IF(Attendance($C32,'Daily Register'!IX$3:IX$242)=TRUE,\"P\",\"A\")","v":"A"},{"$f":"IF(Attendance($C32,'Daily Register'!IY$3:IY$242)=TRUE,\"P\",\"A\")","v":"A"},{"$f":"IF(Attendance($C32,'Daily Register'!IZ$3:IZ$242)=TRUE,\"P\",\"A\")","v":"A"},{"$f":"IF(Attendance($C32,'Daily Register'!JA$3:JA$242)=TRUE,\"P\",\"A\")","v":"A"},{"$f":"IF(Attendance($C32,'Daily Register'!JB$3:JB$242)=TRUE,\"P\",\"A\")","v":"A"},{"$f":"IF(Attendance($C32,'Daily Register'!JC$3:JC$242)=TRUE,\"P\",\"A\")","v":"A"},{"$f":"IF(Attendance($C32,'Daily Register'!JD$3:JD$242)=TRUE,\"P\",\"A\")","v":"A"},{"$f":"IF(Attendance($C32,'Daily Register'!JE$3:JE$242)=TRUE,\"P\",\"A\")","v":"A"},{"$f":"IF(Attendance($C32,'Daily Register'!JF$3:JF$242)=TRUE,\"P\",\"A\")","v":"A"},{"$f":"IF(Attendance($C32,'Daily Register'!JG$3:JG$242)=TRUE,\"P\",\"A\")","v":"A"},{"$f":"IF(Attendance($C32,'Daily Register'!JH$3:JH$242)=TRUE,\"P\",\"A\")","v":"A"},{"$f":"IF(Attendance($C32,'Daily Register'!JI$3:JI$242)=TRUE,\"P\",\"A\")","v":"A"},{"$f":"IF(Attendance($C32,'Daily Register'!JJ$3:JJ$242)=TRUE,\"P\",\"A\")","v":"A"},{"$f":"IF(Attendance($C32,'Daily Register'!JK$3:JK$242)=TRUE,\"P\",\"A\")","v":"A"},{"$f":"IF(Attendance($C32,'Daily Register'!JL$3:JL$242)=TRUE,\"P\",\"A\")","v":"A"},{"$f":"IF(Attendance($C32,'Daily Register'!JM$3:JM$242)=TRUE,\"P\",\"A\")","v":"A"},{"$f":"IF(Attendance($C32,'Daily Register'!JN$3:JN$242)=TRUE,\"P\",\"A\")","v":"A"},{"$f":"IF(Attendance($C32,'Daily Register'!JO$3:JO$242)=TRUE,\"P\",\"A\")","v":"A"},{"$f":"IF(Attendance($C32,'Daily Register'!JP$3:JP$242)=TRUE,\"P\",\"A\")","v":"A"},{"$f":"IF(Attendance($C32,'Daily Register'!JQ$3:JQ$242)=TRUE,\"P\",\"A\")","v":"A"},{"$f":"IF(Attendance($C32,'Daily Register'!JR$3:JR$242)=TRUE,\"P\",\"A\")","v":"A"},{"$f":"IF(Attendance($C32,'Daily Register'!JS$3:JS$242)=TRUE,\"P\",\"A\")","v":"A"},{"$f":"IF(Attendance($C32,'Daily Register'!JT$3:JT$242)=TRUE,\"P\",\"A\")","v":"A"},{"$f":"IF(Attendance($C32,'Daily Register'!JU$3:JU$242)=TRUE,\"P\",\"A\")","v":"A"},{"$f":"IF(Attendance($C32,'Daily Register'!JV$3:JV$242)=TRUE,\"P\",\"A\")","v":"A"},{"$f":"IF(Attendance($C32,'Daily Register'!JW$3:JW$242)=TRUE,\"P\",\"A\")","v":"A"},{"$f":"IF(Attendance($C32,'Daily Register'!JX$3:JX$242)=TRUE,\"P\",\"A\")","v":"A"},{"$f":"IF(Attendance($C32,'Daily Register'!JY$3:JY$242)=TRUE,\"P\",\"A\")","v":"A"},{"$f":"IF(Attendance($C32,'Daily Register'!JZ$3:JZ$242)=TRUE,\"P\",\"A\")","v":"A"},{"$f":"IF(Attendance($C32,'Daily Register'!KA$3:KA$242)=TRUE,\"P\",\"A\")","v":"A"},{"$f":"IF(Attendance($C32,'Daily Register'!KB$3:KB$242)=TRUE,\"P\",\"A\")","v":"A"},{"$f":"IF(Attendance($C32,'Daily Register'!KC$3:KC$242)=TRUE,\"P\",\"A\")","v":"A"},{"$f":"IF(Attendance($C32,'Daily Register'!KD$3:KD$242)=TRUE,\"P\",\"A\")","v":"A"},{"$f":"IF(Attendance($C32,'Daily Register'!KE$3:KE$242)=TRUE,\"P\",\"A\")","v":"A"},{"$f":"IF(Attendance($C32,'Daily Register'!KF$3:KF$242)=TRUE,\"P\",\"A\")","v":"A"},{"$f":"IF(Attendance($C32,'Daily Register'!KG$3:KG$242)=TRUE,\"P\",\"A\")","v":"A"},{"$f":"IF(Attendance($C32,'Daily Register'!KH$3:KH$242)=TRUE,\"P\",\"A\")","v":"A"},{"$f":"IF(Attendance($C32,'Daily Register'!KI$3:KI$242)=TRUE,\"P\",\"A\")","v":"A"},{"$f":"IF(Attendance($C32,'Daily Register'!KJ$3:KJ$242)=TRUE,\"P\",\"A\")","v":"A"},{"$f":"IF(Attendance($C32,'Daily Register'!KK$3:KK$242)=TRUE,\"P\",\"A\")","v":"A"},{"$f":"IF(Attendance($C32,'Daily Register'!KL$3:KL$242)=TRUE,\"P\",\"A\")","v":"A"},{"$f":"IF(Attendance($C32,'Daily Register'!KM$3:KM$242)=TRUE,\"P\",\"A\")","v":"A"},{"$f":"IF(Attendance($C32,'Daily Register'!KN$3:KN$242)=TRUE,\"P\",\"A\")","v":"A"},{"$f":"IF(Attendance($C32,'Daily Register'!KO$3:KO$242)=TRUE,\"P\",\"A\")","v":"A"},{"$f":"IF(Attendance($C32,'Daily Register'!KP$3:KP$242)=TRUE,\"P\",\"A\")","v":"A"},{"$f":"IF(Attendance($C32,'Daily Register'!KQ$3:KQ$242)=TRUE,\"P\",\"A\")","v":"A"},{"$f":"IF(Attendance($C32,'Daily Register'!KR$3:KR$242)=TRUE,\"P\",\"A\")","v":"A"},{"$f":"IF(Attendance($C32,'Daily Register'!KS$3:KS$242)=TRUE,\"P\",\"A\")","v":"A"},{"$f":"IF(Attendance($C32,'Daily Register'!KT$3:KT$242)=TRUE,\"P\",\"A\")","v":"A"},{"$f":"IF(Attendance($C32,'Daily Register'!KU$3:KU$242)=TRUE,\"P\",\"A\")","v":"A"},{"$f":"IF(Attendance($C32,'Daily Register'!KV$3:KV$242)=TRUE,\"P\",\"A\")","v":"A"},{"$f":"IF(Attendance($C32,'Daily Register'!KW$3:KW$242)=TRUE,\"P\",\"A\")","v":"A"},{"$f":"IF(Attendance($C32,'Daily Register'!KX$3:KX$242)=TRUE,\"P\",\"A\")","v":"A"},{"$f":"IF(Attendance($C32,'Daily Register'!KY$3:KY$242)=TRUE,\"P\",\"A\")","v":"A"},{"$f":"IF(Attendance($C32,'Daily Register'!KZ$3:KZ$242)=TRUE,\"P\",\"A\")","v":"A"},{"$f":"IF(Attendance($C32,'Daily Register'!LA$3:LA$242)=TRUE,\"P\",\"A\")","v":"A"},{"$f":"IF(Attendance($C32,'Daily Register'!LB$3:LB$242)=TRUE,\"P\",\"A\")","v":"A"},{"$f":"IF(Attendance($C32,'Daily Register'!LC$3:LC$242)=TRUE,\"P\",\"A\")","v":"A"},{"$f":"IF(Attendance($C32,'Daily Register'!LD$3:LD$242)=TRUE,\"P\",\"A\")","v":"A"},{"$f":"IF(Attendance($C32,'Daily Register'!LE$3:LE$242)=TRUE,\"P\",\"A\")","v":"A"},{"$f":"IF(Attendance($C32,'Daily Register'!LF$3:LF$242)=TRUE,\"P\",\"A\")","v":"A"},{"$f":"IF(Attendance($C32,'Daily Register'!LG$3:LG$242)=TRUE,\"P\",\"A\")","v":"A"},{"$f":"IF(Attendance($C32,'Daily Register'!LH$3:LH$242)=TRUE,\"P\",\"A\")","v":"A"},{"$f":"IF(Attendance($C32,'Daily Register'!LI$3:LI$242)=TRUE,\"P\",\"A\")","v":"A"},{"$f":"IF(Attendance($C32,'Daily Register'!LJ$3:LJ$242)=TRUE,\"P\",\"A\")","v":"A"},{"$f":"IF(Attendance($C32,'Daily Register'!LK$3:LK$242)=TRUE,\"P\",\"A\")","v":"A"},{"$f":"IF(Attendance($C32,'Daily Register'!LL$3:LL$242)=TRUE,\"P\",\"A\")","v":"A"},{"$f":"IF(Attendance($C32,'Daily Register'!LM$3:LM$242)=TRUE,\"P\",\"A\")","v":"A"},{"$f":"IF(Attendance($C32,'Daily Register'!LN$3:LN$242)=TRUE,\"P\",\"A\")","v":"A"},{"$f":"IF(Attendance($C32,'Daily Register'!LO$3:LO$242)=TRUE,\"P\",\"A\")","v":"A"},{"$f":"IF(Attendance($C32,'Daily Register'!LP$3:LP$242)=TRUE,\"P\",\"A\")","v":"A"},{"$f":"IF(Attendance($C32,'Daily Register'!LQ$3:LQ$242)=TRUE,\"P\",\"A\")","v":"A"},{"$f":"IF(Attendance($C32,'Daily Register'!LR$3:LR$242)=TRUE,\"P\",\"A\")","v":"A"},{"$f":"IF(Attendance($C32,'Daily Register'!LS$3:LS$242)=TRUE,\"P\",\"A\")","v":"A"},{"$f":"IF(Attendance($C32,'Daily Register'!LT$3:LT$242)=TRUE,\"P\",\"A\")","v":"A"},{"$f":"IF(Attendance($C32,'Daily Register'!LU$3:LU$242)=TRUE,\"P\",\"A\")","v":"A"},{"$f":"IF(Attendance($C32,'Daily Register'!LV$3:LV$242)=TRUE,\"P\",\"A\")","v":"A"},{"$f":"IF(Attendance($C32,'Daily Register'!LW$3:LW$242)=TRUE,\"P\",\"A\")","v":"A"},{"$f":"IF(Attendance($C32,'Daily Register'!LX$3:LX$242)=TRUE,\"P\",\"A\")","v":"A"},{"$f":"IF(Attendance($C32,'Daily Register'!LY$3:LY$242)=TRUE,\"P\",\"A\")","v":"A"},{"$f":"IF(Attendance($C32,'Daily Register'!LZ$3:LZ$242)=TRUE,\"P\",\"A\")","v":"A"},{"$f":"IF(Attendance($C32,'Daily Register'!MA$3:MA$242)=TRUE,\"P\",\"A\")","v":"A"},{"$f":"IF(Attendance($C32,'Daily Register'!MB$3:MB$242)=TRUE,\"P\",\"A\")","v":"A"},{"$f":"IF(Attendance($C32,'Daily Register'!MC$3:MC$242)=TRUE,\"P\",\"A\")","v":"A"},{"$f":"IF(Attendance($C32,'Daily Register'!MD$3:MD$242)=TRUE,\"P\",\"A\")","v":"A"},{"$f":"IF(Attendance($C32,'Daily Register'!ME$3:ME$242)=TRUE,\"P\",\"A\")","v":"A"},{"$f":"IF(Attendance($C32,'Daily Register'!MF$3:MF$242)=TRUE,\"P\",\"A\")","v":"A"},{"$f":"IF(Attendance($C32,'Daily Register'!MG$3:MG$242)=TRUE,\"P\",\"A\")","v":"A"},{"$f":"IF(Attendance($C32,'Daily Register'!MH$3:MH$242)=TRUE,\"P\",\"A\")","v":"A"},{"$f":"IF(Attendance($C32,'Daily Register'!MI$3:MI$242)=TRUE,\"P\",\"A\")","v":"A"},{"$f":"IF(Attendance($C32,'Daily Register'!MJ$3:MJ$242)=TRUE,\"P\",\"A\")","v":"A"},{"$f":"IF(Attendance($C32,'Daily Register'!MK$3:MK$242)=TRUE,\"P\",\"A\")","v":"A"},{"$f":"IF(Attendance($C32,'Daily Register'!ML$3:ML$242)=TRUE,\"P\",\"A\")","v":"A"},{"$f":"IF(Attendance($C32,'Daily Register'!MM$3:MM$242)=TRUE,\"P\",\"A\")","v":"A"},{"$f":"IF(Attendance($C32,'Daily Register'!MN$3:MN$242)=TRUE,\"P\",\"A\")","v":"A"},{"$f":"IF(Attendance($C32,'Daily Register'!MO$3:MO$242)=TRUE,\"P\",\"A\")","v":"A"},{"$f":"IF(Attendance($C32,'Daily Register'!MP$3:MP$242)=TRUE,\"P\",\"A\")","v":"A"},{"$f":"IF(Attendance($C32,'Daily Register'!MQ$3:MQ$242)=TRUE,\"P\",\"A\")","v":"A"},{"$f":"IF(Attendance($C32,'Daily Register'!MR$3:MR$242)=TRUE,\"P\",\"A\")","v":"A"},{"$f":"IF(Attendance($C32,'Daily Register'!MS$3:MS$242)=TRUE,\"P\",\"A\")","v":"A"},{"$f":"IF(Attendance($C32,'Daily Register'!MT$3:MT$242)=TRUE,\"P\",\"A\")","v":"A"},{"$f":"IF(Attendance($C32,'Daily Register'!MU$3:MU$242)=TRUE,\"P\",\"A\")","v":"A"},{"$f":"IF(Attendance($C32,'Daily Register'!MV$3:MV$242)=TRUE,\"P\",\"A\")","v":"A"},{"$f":"IF(Attendance($C32,'Daily Register'!MW$3:MW$242)=TRUE,\"P\",\"A\")","v":"A"},{"$f":"IF(Attendance($C32,'Daily Register'!MX$3:MX$242)=TRUE,\"P\",\"A\")","v":"A"},{"$f":"IF(Attendance($C32,'Daily Register'!MY$3:MY$242)=TRUE,\"P\",\"A\")","v":"A"},{"$f":"IF(Attendance($C32,'Daily Register'!MZ$3:MZ$242)=TRUE,\"P\",\"A\")","v":"A"},{"$f":"IF(Attendance($C32,'Daily Register'!NA$3:NA$242)=TRUE,\"P\",\"A\")","v":"A"},{"$f":"IF(Attendance($C32,'Daily Register'!NB$3:NB$242)=TRUE,\"P\",\"A\")","v":"A"}]
[0,null,30,null,{"$f":"IF(Attendance($C33,'Daily Register'!A$3:A$242)=TRUE,\"P\",\"A\")","v":"A"},{"$f":"IF(Attendance($C33,'Daily Register'!B$3:B$242)=TRUE,\"P\",\"A\")","v":"A"},{"$f":"IF(Attendance($C33,'Daily Register'!C$3:C$242)=TRUE,\"P\",\"A\")","v":"A"},{"$f":"IF(Attendance($C33,'Daily Register'!D$3:D$242)=TRUE,\"P\",\"A\")","v":"A"},{"$f":"IF(Attendance($C33,'Daily Register'!E$3:E$242)=TRUE,\"P\",\"A\")","v":"A"},{"$f":"IF(Attendance($C33,'Daily Register'!F$3:F$242)=TRUE,\"P\",\"A\")","v":"A"},{"$f":"IF(Attendance($C33,'Daily Register'!G$3:G$242)=TRUE,\"P\",\"A\")","v":"A"},{"$f":"IF(Attendance($C33,'Daily Register'!H$3:H$242)=TRUE,\"P\",\"A\")","v":"A"},{"$f":"IF(Attendance($C33,'Daily Register'!I$3:I$242)=TRUE,\"P\",\"A\")","v":"A"},{"$f":"IF(Attendance($C33,'Daily Register'!J$3:J$242)=TRUE,\"P\",\"A\")","v":"A"},{"$f":"IF(Attendance($C33,'Daily Register'!K$3:K$242)=TRUE,\"P\",\"A\")","v":"A"},{"$f":"IF(Attendance($C33,'Daily Register'!L$3:L$242)=TRUE,\"P\",\"A\")","v":"A"},{"$f":"IF(Attendance($C33,'Daily Register'!M$3:M$242)=TRUE,\"P\",\"A\")","v":"A"},{"$f":"IF(Attendance($C33,'Daily Register'!N$3:N$242)=TRUE,\"P\",\"A\")","v":"A"},{"$f":"IF(Attendance($C33,'Daily Register'!O$3:O$242)=TRUE,\"P\",\"A\")","v":"A"},{"$f":"IF(Attendance($C33,'Daily Register'!P$3:P$242)=TRUE,\"P\",\"A\")","v":"A"},{"$f":"IF(Attendance($C33,'Daily Register'!Q$3:Q$242)=TRUE,\"P\",\"A\")","v":"A"},{"$f":"IF(Attendance($C33,'Daily Register'!R$3:R$242)=TRUE,\"P\",\"A\")","v":"A"},{"$f":"IF(Attendance($C33,'Daily Register'!S$3:S$242)=TRUE,\"P\",\"A\")","v":"A"},{"$f":"IF(Attendance($C33,'Daily Register'!T$3:T$242)=TRUE,\"P\",\"A\")","v":"A"},{"$f":"IF(Attendance($C33,'Daily Register'!U$3:U$242)=TRUE,\"P\",\"A\")","v":"A"},{"$f":"IF(Attendance($C33,'Daily Register'!V$3:V$242)=TRUE,\"P\",\"A\")","v":"A"},{"$f":"IF(Attendance($C33,'Daily Register'!W$3:W$242)=TRUE,\"P\",\"A\")","v":"A"},{"$f":"IF(Attendance($C33,'Daily Register'!X$3:X$242)=TRUE,\"P\",\"A\")","v":"A"},{"$f":"IF(Attendance($C33,'Daily Register'!Y$3:Y$242)=TRUE,\"P\",\"A\")","v":"A"},{"$f":"IF(Attendance($C33,'Daily Register'!Z$3:Z$242)=TRUE,\"P\",\"A\")","v":"A"},{"$f":"IF(Attendance($C33,'Daily Register'!AA$3:AA$242)=TRUE,\"P\",\"A\")","v":"A"},{"$f":"IF(Attendance($C33,'Daily Register'!AB$3:AB$242)=TRUE,\"P\",\"A\")","v":"A"},{"$f":"IF(Attendance($C33,'Daily Register'!AC$3:AC$242)=TRUE,\"P\",\"A\")","v":"A"},{"$f":"IF(Attendance($C33,'Daily Register'!AD$3:AD$242)=TRUE,\"P\",\"A\")","v":"A"},{"$f":"IF(Attendance($C33,'Daily Register'!AE$3:AE$242)=TRUE,\"P\",\"A\")","v":"A"},{"$f":"IF(Attendance($C33,'Daily Register'!AF$3:AF$242)=TRUE,\"P\",\"A\")","v":"A"},{"$f":"IF(Attendance($C33,'Daily Register'!AG$3:AG$242)=TRUE,\"P\",\"A\")","v":"A"},{"$f":"IF(Attendance($C33,'Daily Register'!AH$3:AH$242)=TRUE,\"P\",\"A\")","v":"A"},{"$f":"IF(Attendance($C33,'Daily Register'!AI$3:AI$242)=TRUE,\"P\",\"A\")","v":"A"},{"$f":"IF(Attendance($C33,'Daily Register'!AJ$3:AJ$242)=TRUE,\"P\",\"A\")","v":"A"},{"$f":"IF(Attendance($C33,'Daily Register'!AK$3:AK$242)=TRUE,\"P\",\"A\")","v":"A"},{"$f":"IF(Attendance($C33,'Daily Register'!AL$3:AL$242)=TRUE,\"P\",\"A\")","v":"A"},{"$f":"IF(Attendance($C33,'Daily Register'!AM$3:AM$242)=TRUE,\"P\",\"A\")","v":"A"},{"$f":"IF(Attendance($C33,'Daily Register'!AN$3:AN$242)=TRUE,\"P\",\"A\")","v":"A"},{"$f":"IF(Attendance($C33,'Daily Register'!AO$3:AO$242)=TRUE,\"P\",\"A\")","v":"A"},{"$f":"IF(Attendance($C33,'Daily Register'!AP$3:AP$242)=TRUE,\"P\",\"A\")","v":"A"},{"$f":"IF(Attendance($C33,'Daily Register'!AQ$3:AQ$242)=TRUE,\"P\",\"A\")","v":"A"},{"$f":"IF(Attendance($C33,'Daily Register'!AR$3:AR$242)=TRUE,\"P\",\"A\")","v":"A"},{"$f":"IF(Attendance($C33,'Daily Register'!AS$3:AS$242)=TRUE,\"P\",\"A\")","v":"A"},{"$f":"IF(Attendance($C33,'Daily Register'!AT$3:AT$242)=TRUE,\"P\",\"A\")","v":"A"},{"$f":"IF(Attendance($C33,'Daily Register'!AU$3:AU$242)=TRUE,\"P\",\"A\")","v":"A"},{"$f":"IF(Attendance($C33,'Daily Register'!AV$3:AV$242)=TRUE,\"P\",\"A\")","v":"A"},{"$f":"IF(Attendance($C33,'Daily Register'!AW$3:AW$242)=TRUE,\"P\",\"A\")","v":"A"},{"$f":"IF(Attendance($C33,'Daily Register'!AX$3:AX$242)=TRUE,\"P\",\"A\")","v":"A"},{"$f":"IF(Attendance($C33,'Daily Register'!AY$3:AY$242)=TRUE,\"P\",\"A\")","v":"A"},{"$f":"IF(Attendance($C33,'Daily Register'!AZ$3:AZ$242)=TRUE,\"P\",\"A\")","v":"A"},{"$f":"IF(Attendance($C33,'Daily Register'!BA$3:BA$242)=TRUE,\"P\",\"A\")","v":"A"},{"$f":"IF(Attendance($C33,'Daily Register'!BB$3:BB$242)=TRUE,\"P\",\"A\")","v":"A"},{"$f":"IF(Attendance($C33,'Daily Register'!BC$3:BC$242)=TRUE,\"P\",\"A\")","v":"A"},{"$f":"IF(Attendance($C33,'Daily Register'!BD$3:BD$242)=TRUE,\"P\",\"A\")","v":"A"},{"$f":"IF(Attendance($C33,'Daily Register'!BE$3:BE$242)=TRUE,\"P\",\"A\")","v":"A"},{"$f":"IF(Attendance($C33,'Daily Register'!BF$3:BF$242)=TRUE,\"P\",\"A\")","v":"A"},{"$f":"IF(Attendance($C33,'Daily Register'!BG$3:BG$242)=TRUE,\"P\",\"A\")","v":"A"},{"$f":"IF(Attendance($C33,'Daily Register'!BH$3:BH$242)=TRUE,\"P\",\"A\")","v":"A"},{"$f":"IF(Attendance($C33,'Daily Register'!BI$3:BI$242)=TRUE,\"P\",\"A\")","v":"A"},{"$f":"IF(Attendance($C33,'Daily Register'!BJ$3:BJ$242)=TRUE,\"P\",\"A\")","v":"A"},{"$f":"IF(Attendance($C33,'Daily Register'!BK$3:BK$242)=TRUE,\"P\",\"A\")","v":"A"},{"$f":"IF(Attendance($C33,'Daily Register'!BL$3:BL$242)=TRUE,\"P\",\"A\")","v":"A"},{"$f":"IF(Attendance($C33,'Daily Register'!BM$3:BM$242)=TRUE,\"P\",\"A\")","v":"A"},{"$f":"IF(Attendance($C33,'Daily Register'!BN$3:BN$242)=TRUE,\"P\",\"A\")","v":"A"},{"$f":"IF(Attendance($C33,'Daily Register'!BO$3:BO$242)=TRUE,\"P\",\"A\")","v":"A"},{"$f":"IF(Attendance($C33,'Daily Register'!BP$3:BP$242)=TRUE,\"P\",\"A\")","v":"A"},{"$f":"IF(Attendance($C33,'Daily Register'!BQ$3:BQ$242)=TRUE,\"P\",\"A\")","v":"A"},{"$f":"IF(Attendance($C33,'Daily Register'!BR$3:BR$242)=TRUE,\"P\",\"A\")","v":"A"},{"$f":"IF(Attendance($C33,'Daily Register'!BS$3:BS$242)=TRUE,\"P\",\"A\")","v":"A"},{"$f":"IF(Attendance($C33,'Daily Register'!BT$3:BT$242)=TRUE,\"P\",\"A\")","v":"A"},{"$f":"IF(Attendance($C33,'Daily Register'!BU$3:BU$242)=TRUE,\"P\",\"A\")","v":"A"},{"$f":"IF(Attendance($C33,'Daily Register'!BV$3:BV$242)=TRUE,\"P\",\"A\")","v":"A"},{"$f":"IF(Attendance($C33,'Daily Register'!BW$3:BW$242)=TRUE,\"P\",\"A\")","v":"A"},{"$f":"IF(Attendance($C33,'Daily Register'!BX$3:BX$242)=TRUE,\"P\",\"A\")","v":"A"},{"$f":"IF(Attendance($C33,'Daily Register'!BY$3:BY$242)=TRUE,\"P\",\"A\")","v":"A"},{"$f":"IF(Attendance($C33,'Daily Register'!BZ$3:BZ$242)=TRUE,\"P\",\"A\")","v":"A"},{"$f":"IF(Attendance($C33,'Daily Register'!CA$3:CA$242)=TRUE,\"P\",\"A\")","v":"A"},{"$f":"IF(Attendance($C33,'Daily Register'!CB$3:CB$242)=TRUE,\"P\",\"A\")","v":"A"},{"$f":"IF(Attendance($C33,'Daily Register'!CC$3:CC$242)=TRUE,\"P\",\"A\")","v":"A"},{"$f":"IF(Attendance($C33,'Daily Register'!CD$3:CD$242)=TRUE,\"P\",\"A\")","v":"A"},{"$f":"IF(Attendance($C33,'Daily Register'!CE$3:CE$242)=TRUE,\"P\",\"A\")","v":"A"},{"$f":"IF(Attendance($C33,'Daily Register'!CF$3:CF$242)=TRUE,\"P\",\"A\")","v":"A"},{"$f":"IF(Attendance($C33,'Daily Register'!CG$3:CG$242)=TRUE,\"P\",\"A\")","v":"A"},{"$f":"IF(Attendance($C33,'Daily Register'!CH$3:CH$242)=TRUE,\"P\",\"A\")","v":"A"},{"$f":"IF(Attendance($C33,'Daily Register'!CI$3:CI$242)=TRUE,\"P\",\"A\")","v":"A"},{"$f":"IF(Attendance($C33,'Daily Register'!CJ$3:CJ$242)=TRUE,\"P\",\"A\")","v":"A"},{"$f":"IF(Attendance($C33,'Daily Register'!CK$3:CK$242)=TRUE,\"P\",\"A\")","v":"A"},{"$f":"IF(Attendance($C33,'Daily Register'!CL$3:CL$242)=TRUE,\"P\",\"A\")","v":"A"},{"$f":"IF(Attendance($C33,'Daily Register'!CM$3:CM$242)=TRUE,\"P\",\"A\")","v":"A"},{"$f":"IF(Attendance($C33,'Daily Register'!CN$3:CN$242)=TRUE,\"P\",\"A\")","v":"A"},{"$f":"IF(Attendance($C33,'Daily Register'!CO$3:CO$242)=TRUE,\"P\",\"A\")","v":"A"},{"$f":"IF(Attendance($C33,'Daily Register'!CP$3:CP$242)=TRUE,\"P\",\"A\")","v":"A"},{"$f":"IF(Attendance($C33,'Daily Register'!CQ$3:CQ$242)=TRUE,\"P\",\"A\")","v":"A"},{"$f":"IF(Attendance($C33,'Daily Register'!CR$3:CR$242)=TRUE,\"P\",\"A\")","v":"A"},{"$f":"IF(Attendance($C33,'Daily Register'!CS$3:CS$242)=TRUE,\"P\",\"A\")","v":"A"},{"$f":"IF(Attendance($C33,'Daily Register'!CT$3:CT$242)=TRUE,\"P\",\"A\")","v":"A"},{"$f":"IF(Attendance($C33,'Daily Register'!CU$3:CU$242)=TRUE,\"P\",\"A\")","v":"A"},{"$f":"IF(Attendance($C33,'Daily Register'!CV$3:CV$242)=TRUE,\"P\",\"A\")","v":"A"},{"$f":"IF(Attendance($C33,'Daily Register'!CW$3:CW$242)=TRUE,\"P\",\"A\")","v":"A"},{"$f":"IF(Attendance($C33,'Daily Register'!CX$3:CX$242)=TRUE,\"P\",\"A\")","v":"A"},{"$f":"IF(Attendance($C33,'Daily Register'!CY$3:CY$242)=TRUE,\"P\",\"A\")","v":"A"},{"$f":"IF(Attendance($C33,'Daily Register'!CZ$3:CZ$242)=TRUE,\"P\",\"A\")","v":"A"},{"$f":"IF(Attendance($C33,'Daily Register'!DA$3:DA$242)=TRUE,\"P\",\"A\")","v":"A"},{"$f":"IF(Attendance($C33,'Daily Register'!DB$3:DB$242)=TRUE,\"P\",\"A\")","v":"A"},{"$f":"IF(Attendance($C33,'Daily Register'!DC$3:DC$242)=TRUE,\"P\",\"A\")","v":"A"},{"$f":"IF(Attendance($C33,'Daily Register'!DD$3:DD$242)=TRUE,\"P\",\"A\")","v":"A"},{"$f":"IF(Attendance($C33,'Daily Register'!DE$3:DE$242)=TRUE,\"P\",\"A\")","v":"A"},{"$f":"IF(Attendance($C33,'Daily Register'!DF$3:DF$242)=TRUE,\"P\",\"A\")","v":"A"},{"$f":"IF(Attendance($C33,'Daily Register'!DG$3:DG$242)=TRUE,\"P\",\"A\")","v":"A"},{"$f":"IF(Attendance($C33,'Daily Register'!DH$3:DH$242)=TRUE,\"P\",\"A\")","v":"A"},{"$f":"IF(Attendance($C33,'Daily Register'!DI$3:DI$242)=TRUE,\"P\",\"A\")","v":"A"},{"$f":"IF(Attendance($C33,'Daily Register'!DJ$3:DJ$242)=TRUE,\"P\",\"A\")","v":"A"},{"$f":"IF(Attendance($C33,'Daily Register'!DK$3:DK$242)=TRUE,\"P\",\"A\")","v":"A"},{"$f":"IF(Attendance($C33,'Daily Register'!DL$3:DL$242)=TRUE,\"P\",\"A\")","v":"A"},{"$f":"IF(Attendance($C33,'Daily Register'!DM$3:DM$242)=TRUE,\"P\",\"A\")","v":"A"},{"$f":"IF(Attendance($C33,'Daily Register'!DN$3:DN$242)=TRUE,\"P\",\"A\")","v":"A"},{"$f":"IF(Attendance($C33,'Daily Register'!DO$3:DO$242)=TRUE,\"P\",\"A\")","v":"A"},{"$f":"IF(Attendance($C33,'Daily Register'!DP$3:DP$242)=TRUE,\"P\",\"A\")","v":"A"},{"$f":"IF(Attendance($C33,'Daily Register'!DQ$3:DQ$242)=TRUE,\"P\",\"A\")","v":"A"},{"$f":"IF(Attendance($C33,'Daily Register'!DR$3:DR$242)=TRUE,\"P\",\"A\")","v":"A"},{"$f":"IF(Attendance($C33,'Daily Register'!DS$3:DS$242)=TRUE,\"P\",\"A\")","v":"A"},{"$f":"IF(Attendance($C33,'Daily Register'!DT$3:DT$242)=TRUE,\"P\",\"A\")","v":"A"},{"$f":"IF(Attendance($C33,'Daily Register'!DU$3:DU$242)=TRUE,\"P\",\"A\")","v":"A"},{"$f":"IF(Attendance($C33,'Daily Register'!DV$3:DV$242)=TRUE,\"P\",\"A\")","v":"A"},{"$f":"IF(Attendance($C33,'Daily Register'!DW$3:DW$242)=TRUE,\"P\",\"A\")","v":"A"},{"$f":"IF(Attendance($C33,'Daily Register'!DX$3:DX$242)=TRUE,\"P\",\"A\")","v":"A"},{"$f":"IF(Attendance($C33,'Daily Register'!DY$3:DY$242)=TRUE,\"P\",\"A\")","v":"A"},{"$f":"IF(Attendance($C33,'Daily Register'!DZ$3:DZ$242)=TRUE,\"P\",\"A\")","v":"A"},{"$f":"IF(Attendance($C33,'Daily Register'!EA$3:EA$242)=TRUE,\"P\",\"A\")","v":"A"},{"$f":"IF(Attendance($C33,'Daily Register'!EB$3:EB$242)=TRUE,\"P\",\"A\")","v":"A"},{"$f":"IF(Attendance($C33,'Daily Register'!EC$3:EC$242)=TRUE,\"P\",\"A\")","v":"A"},{"$f":"IF(Attendance($C33,'Daily Register'!ED$3:ED$242)=TRUE,\"P\",\"A\")","v":"A"},{"$f":"IF(Attendance($C33,'Daily Register'!EE$3:EE$242)=TRUE,\"P\",\"A\")","v":"A"},{"$f":"IF(Attendance($C33,'Daily Register'!EF$3:EF$242)=TRUE,\"P\",\"A\")","v":"A"},{"$f":"IF(Attendance($C33,'Daily Register'!EG$3:EG$242)=TRUE,\"P\",\"A\")","v":"A"},{"$f":"IF(Attendance($C33,'Daily Register'!EH$3:EH$242)=TRUE,\"P\",\"A\")","v":"A"},{"$f":"IF(Attendance($C33,'Daily Register'!EI$3:EI$242)=TRUE,\"P\",\"A\")","v":"A"},{"$f":"IF(Attendance($C33,'Daily Register'!EJ$3:EJ$242)=TRUE,\"P\",\"A\")","v":"A"},{"$f":"IF(Attendance($C33,'Daily Register'!EK$3:EK$242)=TRUE,\"P\",\"A\")","v":"A"},{"$f":"IF(Attendance($C33,'Daily Register'!EL$3:EL$242)=TRUE,\"P\",\"A\")","v":"A"},{"$f":"IF(Attendance($C33,'Daily Register'!EM$22:EM$242)=TRUE,\"P\",\"A\")","v":"A"},{"$f":"IF(Attendance($C33,'Daily Register'!EN$3:EN$242)=TRUE,\"P\",\"A\")","v":"A"},{"$f":"IF(Attendance($C33,'Daily Register'!EO$3:EO$242)=TRUE,\"P\",\"A\")","v":"A"},{"$f":"IF(Attendance($C33,'Daily Register'!EP$3:EP$242)=TRUE,\"P\",\"A\")","v":"A"},{"$f":"IF(Attendance($C33,'Daily Register'!EQ$3:EQ$242)=TRUE,\"P\",\"A\")","v":"A"},{"$f":"IF(Attendance($C33,'Daily Register'!ER$3:ER$242)=TRUE,\"P\",\"A\")","v":"A"},{"$f":"IF(Attendance($C33,'Daily Register'!ES$3:ES$242)=TRUE,\"P\",\"A\")","v":"A"},{"$f":"IF(Attendance($C33,'Daily Register'!ET$3:ET$242)=TRUE,\"P\",\"A\")","v":"A"},{"$f":"IF(Attendance($C33,'Daily Register'!EU$3:EU$242)=TRUE,\"P\",\"A\")","v":"A"},{"$f":"IF(Attendance($C33,'Daily Register'!EV$3:EV$242)=TRUE,\"P\",\"A\")","v":"A"},{"$f":"IF(Attendance($C33,'Daily Register'!EW$3:EW$242)=TRUE,\"P\",\"A\")","v":"A"},{"$f":"IF(Attendance($C33,'Daily Register'!EX$3:EX$242)=TRUE,\"P\",\"A\")","v":"A"},{"$f":"IF(Attendance($C33,'Daily Register'!EY$3:EY$242)=TRUE,\"P\",\"A\")","v":"A"},{"$f":"IF(Attendance($C33,'Daily Register'!EZ$3:EZ$242)=TRUE,\"P\",\"A\")","v":"A"},{"$f":"IF(Attendance($C33,'Daily Register'!FA$3:FA$242)=TRUE,\"P\",\"A\")","v":"A"},{"$f":"IF(Attendance($C33,'Daily Register'!FB$3:FB$242)=TRUE,\"P\",\"A\")","v":"A"},{"$f":"IF(Attendance($C33,'Daily Register'!FC$3:FC$242)=TRUE,\"P\",\"A\")","v":"A"},{"$f":"IF(Attendance($C33,'Daily Register'!FD$3:FD$242)=TRUE,\"P\",\"A\")","v":"A"},{"$f":"IF(Attendance($C33,'Daily Register'!FE$3:FE$242)=TRUE,\"P\",\"A\")","v":"A"},{"$f":"IF(Attendance($C33,'Daily Register'!FF$3:FF$242)=TRUE,\"P\",\"A\")","v":"A"},{"$f":"IF(Attendance($C33,'Daily Register'!FG$3:FG$242)=TRUE,\"P\",\"A\")","v":"A"},{"$f":"IF(Attendance($C33,'Daily Register'!FH$3:FH$242)=TRUE,\"P\",\"A\")","v":"A"},{"$f":"IF(Attendance($C33,'Daily Register'!FI$3:FI$242)=TRUE,\"P\",\"A\")","v":"A"},{"$f":"IF(Attendance($C33,'Daily Register'!FJ$3:FJ$242)=TRUE,\"P\",\"A\")","v":"A"},{"$f":"IF(Attendance($C33,'Daily Register'!FK$3:FK$242)=TRUE,\"P\",\"A\")","v":"A"},{"$f":"IF(Attendance($C33,'Daily Register'!FL$3:FL$242)=TRUE,\"P\",\"A\")","v":"A"},{"$f":"IF(Attendance($C33,'Daily Register'!FM$3:FM$242)=TRUE,\"P\",\"A\")","v":"A"},{"$f":"IF(Attendance($C33,'Daily Register'!FN$3:FN$242)=TRUE,\"P\",\"A\")","v":"A"},{"$f":"IF(Attendance($C33,'Daily Register'!FO$3:FO$242)=TRUE,\"P\",\"A\")","v":"A"},{"$f":"IF(Attendance($C33,'Daily Register'!FP$3:FP$242)=TRUE,\"P\",\"A\")","v":"A"},{"$f":"IF(Attendance($C33,'Daily Register'!FQ$3:FQ$242)=TRUE,\"P\",\"A\")","v":"A"},{"$f":"IF(Attendance($C33,'Daily Register'!FR$3:FR$242)=TRUE,\"P\",\"A\")","v":"A"},{"$f":"IF(Attendance($C33,'Daily Register'!FS$3:FS$242)=TRUE,\"P\",\"A\")","v":"A"},{"$f":"IF(Attendance($C33,'Daily Register'!FT$3:FT$242)=TRUE,\"P\",\"A\")","v":"A"},{"$f":"IF(Attendance($C33,'Daily Register'!FU$3:FU$242)=TRUE,\"P\",\"A\")","v":"A"},{"$f":"IF(Attendance($C33,'Daily Register'!FV$3:FV$242)=TRUE,\"P\",\"A\")","v":"A"},{"$f":"IF(Attendance($C33,'Daily Register'!FW$3:FW$242)=TRUE,\"P\",\"A\")","v":"A"},{"$f":"IF(Attendance($C33,'Daily Register'!FX$3:FX$242)=TRUE,\"P\",\"A\")","v":"A"},{"$f":"IF(Attendance($C33,'Daily Register'!FY$3:FY$242)=TRUE,\"P\",\"A\")","v":"A"},{"$f":"IF(Attendance($C33,'Daily Register'!FZ$3:FZ$242)=TRUE,\"P\",\"A\")","v":"A"},{"$f":"IF(Attendance($C33,'Daily Register'!GA$3:GA$242)=TRUE,\"P\",\"A\")","v":"A"},{"$f":"IF(Attendance($C33,'Daily Register'!GB$3:GB$242)=TRUE,\"P\",\"A\")","v":"A"},{"$f":"IF(Attendance($C33,'Daily Register'!GC$3:GC$242)=TRUE,\"P\",\"A\")","v":"A"},{"$f":"IF(Attendance($C33,'Daily Register'!GD$3:GD$242)=TRUE,\"P\",\"A\")","v":"A"},{"$f":"IF(Attendance($C33,'Daily Register'!GE$3:GE$242)=TRUE,\"P\",\"A\")","v":"A"},{"$f":"IF(Attendance($C33,'Daily Register'!GF$3:GF$242)=TRUE,\"P\",\"A\")","v":"A"},{"$f":"IF(Attendance($C33,'Daily Register'!GG$3:GG$242)=TRUE,\"P\",\"A\")","v":"A"},{"$f":"IF(Attendance($C33,'Daily Register'!GH$3:GH$242)=TRUE,\"P\",\"A\")","v":"A"},{"$f":"IF(Attendance($C33,'Daily Register'!GI$3:GI$242)=TRUE,\"P\",\"A\")","v":"A"},{"$f":"IF(Attendance($C33,'Daily Register'!GJ$3:GJ$242)=TRUE,\"P\",\"A\")","v":"A"},{"$f":"IF(Attendance($C33,'Daily Register'!GK$3:GK$242)=TRUE,\"P\",\"A\")","v":"A"},{"$f":"IF(Attendance($C33,'Daily Register'!GL$3:GL$242)=TRUE,\"P\",\"A\")","v":"A"},{"$f":"IF(Attendance($C33,'Daily Register'!GM$3:GM$242)=TRUE,\"P\",\"A\")","v":"A"},{"$f":"IF(Attendance($C33,'Daily Register'!GN$3:GN$242)=TRUE,\"P\",\"A\")","v":"A"},{"$f":"IF(Attendance($C33,'Daily Register'!GO$3:GO$242)=TRUE,\"P\",\"A\")","v":"A"},{"$f":"IF(Attendance($C33,'Daily Register'!GP$3:GP$242)=TRUE,\"P\",\"A\")","v":"A"},{"$f":"IF(Attendance($C33,'Daily Register'!GQ$3:GQ$242)=TRUE,\"P\",\"A\")","v":"A"},{"$f":"IF(Attendance($C33,'Daily Register'!GR$3:GR$242)=TRUE,\"P\",\"A\")","v":"A"},{"$f":"IF(Attendance($C33,'Daily Register'!GS$3:GS$242)=TRUE,\"P\",\"A\")","v":"A"},{"$f":"IF(Attendance($C33,'Daily Register'!GT$3:GT$242)=TRUE,\"P\",\"A\")","v":"A"},{"$f":"IF(Attendance($C33,'Daily Register'!GU$3:GU$242)=TRUE,\"P\",\"A\")","v":"A"},{"$f":"IF(Attendance($C33,'Daily Register'!GV$3:GV$242)=TRUE,\"P\",\"A\")","v":"A"},{"$f":"IF(Attendance($C33,'Daily Register'!GW$3:GW$242)=TRUE,\"P\",\"A\")","v":"A"},{"$f":"IF(Attendance($C33,'Daily Register'!GX$3:GX$242)=TRUE,\"P\",\"A\")","v":"A"},{"$f":"IF(Attendance($C33,'Daily Register'!GY$3:GY$242)=TRUE,\"P\",\"A\")","v":"A"},{"$f":"IF(Attendance($C33,'Daily Register'!GZ$3:GZ$242)=TRUE,\"P\",\"A\")","v":"A"},{"$f":"IF(Attendance($C33,'Daily Register'!HA$3:HA$242)=TRUE,\"P\",\"A\")","v":"A"},{"$f":"IF(Attendance($C33,'Daily Register'!HB$3:HB$242)=TRUE,\"P\",\"A\")","v":"A"},{"$f":"IF(Attendance($C33,'Daily Register'!HC$3:HC$242)=TRUE,\"P\",\"A\")","v":"A"},{"$f":"IF(Attendance($C33,'Daily Register'!HD$3:HD$242)=TRUE,\"P\",\"A\")","v":"A"},{"$f":"IF(Attendance($C33,'Daily Register'!HE$3:HE$242)=TRUE,\"P\",\"A\")","v":"A"},{"$f":"IF(Attendance($C33,'Daily Register'!HF$3:HF$242)=TRUE,\"P\",\"A\")","v":"A"},{"$f":"IF(Attendance($C33,'Daily Register'!HG$3:HG$242)=TRUE,\"P\",\"A\")","v":"A"},{"$f":"IF(Attendance($C33,'Daily Register'!HH$3:HH$242)=TRUE,\"P\",\"A\")","v":"A"},{"$f":"IF(Attendance($C33,'Daily Register'!HI$3:HI$242)=TRUE,\"P\",\"A\")","v":"A"},{"$f":"IF(Attendance($C33,'Daily Register'!HJ$3:HJ$242)=TRUE,\"P\",\"A\")","v":"A"},{"$f":"IF(Attendance($C33,'Daily Register'!HK$3:HK$242)=TRUE,\"P\",\"A\")","v":"A"},{"$f":"IF(Attendance($C33,'Daily Register'!HL$3:HL$242)=TRUE,\"P\",\"A\")","v":"A"},{"$f":"IF(Attendance($C33,'Daily Register'!HM$3:HM$242)=TRUE,\"P\",\"A\")","v":"A"},{"$f":"IF(Attendance($C33,'Daily Register'!HN$3:HN$242)=TRUE,\"P\",\"A\")","v":"A"},{"$f":"IF(Attendance($C33,'Daily Register'!HO$3:HO$242)=TRUE,\"P\",\"A\")","v":"A"},{"$f":"IF(Attendance($C33,'Daily Register'!HP$3:HP$242)=TRUE,\"P\",\"A\")","v":"A"},{"$f":"IF(Attendance($C33,'Daily Register'!HQ$3:HQ$242)=TRUE,\"P\",\"A\")","v":"A"},{"$f":"IF(Attendance($C33,'Daily Register'!HR$3:HR$242)=TRUE,\"P\",\"A\")","v":"A"},{"$f":"IF(Attendance($C33,'Daily Register'!HS$3:HS$242)=TRUE,\"P\",\"A\")","v":"A"},{"$f":"IF(Attendance($C33,'Daily Register'!HT$3:HT$242)=TRUE,\"P\",\"A\")","v":"A"},{"$f":"IF(Attendance($C33,'Daily Register'!HU$3:HU$242)=TRUE,\"P\",\"A\")","v":"A"},{"$f":"IF(Attendance($C33,'Daily Register'!HV$3:HV$242)=TRUE,\"P\",\"A\")","v":"A"},{"$f":"IF(Attendance($C33,'Daily Register'!HW$3:HW$242)=TRUE,\"P\",\"A\")","v":"A"},{"$f":"IF(Attendance($C33,'Daily Register'!HX$3:HX$242)=TRUE,\"P\",\"A\")","v":"A"},{"$f":"IF(Attendance($C33,'Daily Register'!HY$3:HY$242)=TRUE,\"P\",\"A\")","v":"A"},{"$f":"IF(Attendance($C33,'Daily Register'!HZ$3:HZ$242)=TRUE,\"P\",\"A\")","v":"A"},{"$f":"IF(Attendance($C33,'Daily Register'!IA$3:IA$242)=TRUE,\"P\",\"A\")","v":"A"},{"$f":"IF(Attendance($C33,'Daily Register'!IB$3:IB$242)=TRUE,\"P\",\"A\")","v":"A"},{"$f":"IF(Attendance($C33,'Daily Register'!IC$3:IC$242)=TRUE,\"P\",\"A\")","v":"A"},{"$f":"IF(Attendance($C33,'Daily Register'!ID$3:ID$242)=TRUE,\"P\",\"A\")","v":"A"},{"$f":"IF(Attendance($C33,'Daily Register'!IE$3:IE$242)=TRUE,\"P\",\"A\")","v":"A"},{"$f":"IF(Attendance($C33,'Daily Register'!IF$3:IF$242)=TRUE,\"P\",\"A\")","v":"A"},{"$f":"IF(Attendance($C33,'Daily Register'!IG$3:IG$242)=TRUE,\"P\",\"A\")","v":"A"},{"$f":"IF(Attendance($C33,'Daily Register'!IH$3:IH$242)=TRUE,\"P\",\"A\")","v":"A"},{"$f":"IF(Attendance($C33,'Daily Register'!II$3:II$242)=TRUE,\"P\",\"A\")","v":"A"},{"$f":"IF(Attendance($C33,'Daily Register'!IJ$3:IJ$242)=TRUE,\"P\",\"A\")","v":"A"},{"$f":"IF(Attendance($C33,'Daily Register'!IK$3:IK$242)=TRUE,\"P\",\"A\")","v":"A"},{"$f":"IF(Attendance($C33,'Daily Register'!IL$3:IL$242)=TRUE,\"P\",\"A\")","v":"A"},{"$f":"IF(Attendance($C33,'Daily Register'!IM$3:IM$242)=TRUE,\"P\",\"A\")","v":"A"},{"$f":"IF(Attendance($C33,'Daily Register'!IN$3:IN$242)=TRUE,\"P\",\"A\")","v":"A"},{"$f":"IF(Attendance($C33,'Daily Register'!IO$3:IO$242)=TRUE,\"P\",\"A\")","v":"A"},{"$f":"IF(Attendance($C33,'Daily Register'!IP$3:IP$242)=TRUE,\"P\",\"A\")","v":"A"},{"$f":"IF(Attendance($C33,'Daily Register'!IQ$3:IQ$242)=TRUE,\"P\",\"A\")","v":"A"},{"$f":"IF(Attendance($C33,'Daily Register'!IR$3:IR$242)=TRUE,\"P\",\"A\")","v":"A"},{"$f":"IF(Attendance($C33,'Daily Register'!IS$3:IS$242)=TRUE,\"P\",\"A\")","v":"A"},{"$f":"IF(Attendance($C33,'Daily Register'!IT$3:IT$242)=TRUE,\"P\",\"A\")","v":"A"},{"$f":"IF(Attendance($C33,'Daily Register'!IU$3:IU$242)=TRUE,\"P\",\"A\")","v":"A"},{"$f":"IF(Attendance($C33,'Daily Register'!IV$3:IV$242)=TRUE,\"P\",\"A\")","v":"A"},{"$f":"IF(Attendance($C33,'Daily Register'!IW$3:IW$242)=TRUE,\"P\",\"A\")","v":"A"},{"$f":"IF(Attendance($C33,'Daily Register'!IX$3:IX$242)=TRUE,\"P\",\"A\")","v":"A"},{"$f":"IF(Attendance($C33,'Daily Register'!IY$3:IY$242)=TRUE,\"P\",\"A\")","v":"A"},{"$f":"IF(Attendance($C33,'Daily Register'!IZ$3:IZ$242)=TRUE,\"P\",\"A\")","v":"A"},{"$f":"IF(Attendance($C33,'Daily Register'!JA$3:JA$242)=TRUE,\"P\",\"A\")","v":"A"},{"$f":"IF(Attendance($C33,'Daily Register'!JB$3:JB$242)=TRUE,\"P\",\"A\")","v":"A"},{"$f":"IF(Attendance($C33,'Daily Register'!JC$3:JC$242)=TRUE,\"P\",\"A\")","v":"A"},{"$f":"IF(Attendance($C33,'Daily Register'!JD$3:JD$242)=TRUE,\"P\",\"A\")","v":"A"},{"$f":"IF(Attendance($C33,'Daily Register'!JE$3:JE$242)=TRUE,\"P\",\"A\")","v":"A"},{"$f":"IF(Attendance($C33,'Daily Register'!JF$3:JF$242)=TRUE,\"P\",\"A\")","v":"A"},{"$f":"IF(Attendance($C33,'Daily Register'!JG$3:JG$242)=TRUE,\"P\",\"A\")","v":"A"},{"$f":"IF(Attendance($C33,'Daily Register'!JH$3:JH$242)=TRUE,\"P\",\"A\")","v":"A"},{"$f":"IF(Attendance($C33,'Daily Register'!JI$3:JI$242)=TRUE,\"P\",\"A\")","v":"A"},{"$f":"IF(Attendance($C33,'Daily Register'!JJ$3:JJ$242)=TRUE,\"P\",\"A\")","v":"A"},{"$f":"IF(Attendance($C33,'Daily Register'!JK$3:JK$242)=TRUE,\"P\",\"A\")","v":"A"},{"$f":"IF(Attendance($C33,'Daily Register'!JL$3:JL$242)=TRUE,\"P\",\"A\")","v":"A"},{"$f":"IF(Attendance($C33,'Daily Register'!JM$3:JM$242)=TRUE,\"P\",\"A\")","v":"A"},{"$f":"IF(Attendance($C33,'Daily Register'!JN$3:JN$242)=TRUE,\"P\",\"A\")","v":"A"},{"$f":"IF(Attendance($C33,'Daily Register'!JO$3:JO$242)=TRUE,\"P\",\"A\")","v":"A"},{"$f":"IF(Attendance($C33,'Daily Register'!JP$3:JP$242)=TRUE,\"P\",\"A\")","v":"A"},{"$f":"IF(Attendance($C33,'Daily Register'!JQ$3:JQ$242)=TRUE,\"P\",\"A\")","v":"A"},{"$f":"IF(Attendance($C33,'Daily Register'!JR$3:JR$242)=TRUE,\"P\",\"A\")","v":"A"},{"$f":"IF(Attendance($C33,'Daily Register'!JS$3:JS$242)=TRUE,\"P\",\"A\")","v":"A"},{"$f":"IF(Attendance($C33,'Daily Register'!JT$3:JT$242)=TRUE,\"P\",\"A\")","v":"A"},{"$f":"IF(Attendance($C33,'Daily Register'!JU$3:JU$242)=TRUE,\"P\",\"A\")","v":"A"},{"$f":"IF(Attendance($C33,'Daily Register'!JV$3:JV$242)=TRUE,\"P\",\"A\")","v":"A"},{"$f":"IF(Attendance($C33,'Daily Register'!JW$3:JW$242)=TRUE,\"P\",\"A\")","v":"A"},{"$f":"IF(Attendance($C33,'Daily Register'!JX$3:JX$242)=TRUE,\"P\",\"A\")","v":"A"},{"$f":"IF(Attendance($C33,'Daily Register'!JY$3:JY$242)=TRUE,\"P\",\"A\")","v":"A"},{"$f":"IF(Attendance($C33,'Daily Register'!JZ$3:JZ$242)=TRUE,\"P\",\"A\")","v":"A"},{"$f":"IF(Attendance($C33,'Daily Register'!KA$3:KA$242)=TRUE,\"P\",\"A\")","v":"A"},{"$f":"IF(Attendance($C33,'Daily Register'!KB$3:KB$242)=TRUE,\"P\",\"A\")","v":"A"},{"$f":"IF(Attendance($C33,'Daily Register'!KC$3:KC$242)=TRUE,\"P\",\"A\")","v":"A"},{"$f":"IF(Attendance($C33,'Daily Register'!KD$3:KD$242)=TRUE,\"P\",\"A\")","v":"A"},{"$f":"IF(Attendance($C33,'Daily Register'!KE$3:KE$242)=TRUE,\"P\",\"A\")","v":"A"},{"$f":"IF(Attendance($C33,'Daily Register'!KF$3:KF$242)=TRUE,\"P\",\"A\")","v":"A"},{"$f":"IF(Attendance($C33,'Daily Register'!KG$3:KG$242)=TRUE,\"P\",\"A\")","v":"A"},{"$f":"IF(Attendance($C33,'Daily Register'!KH$3:KH$242)=TRUE,\"P\",\"A\")","v":"A"},{"$f":"IF(Attendance($C33,'Daily Register'!KI$3:KI$242)=TRUE,\"P\",\"A\")","v":"A"},{"$f":"IF(Attendance($C33,'Daily Register'!KJ$3:KJ$242)=TRUE,\"P\",\"A\")","v":"A"},{"$f":"IF(Attendance($C33,'Daily Register'!KK$3:KK$242)=TRUE,\"P\",\"A\")","v":"A"},{"$f":"IF(Attendance($C33,'Daily Register'!KL$3:KL$242)=TRUE,\"P\",\"A\")","v":"A"},{"$f":"IF(Attendance($C33,'Daily Register'!KM$3:KM$242)=TRUE,\"P\",\"A\")","v":"A"},{"$f":"IF(Attendance($C33,'Daily Register'!KN$3:KN$242)=TRUE,\"P\",\"A\")","v":"A"},{"$f":"IF(Attendance($C33,'Daily Register'!KO$3:KO$242)=TRUE,\"P\",\"A\")","v":"A"},{"$f":"IF(Attendance($C33,'Daily Register'!KP$3:KP$242)=TRUE,\"P\",\"A\")","v":"A"},{"$f":"IF(Attendance($C33,'Daily Register'!KQ$3:KQ$242)=TRUE,\"P\",\"A\")","v":"A"},{"$f":"IF(Attendance($C33,'Daily Register'!KR$3:KR$242)=TRUE,\"P\",\"A\")","v":"A"},{"$f":"IF(Attendance($C33,'Daily Register'!KS$3:KS$242)=TRUE,\"P\",\"A\")","v":"A"},{"$f":"IF(Attendance($C33,'Daily Register'!KT$3:KT$242)=TRUE,\"P\",\"A\")","v":"A"},{"$f":"IF(Attendance($C33,'Daily Register'!KU$3:KU$242)=TRUE,\"P\",\"A\")","v":"A"},{"$f":"IF(Attendance($C33,'Daily Register'!KV$3:KV$242)=TRUE,\"P\",\"A\")","v":"A"},{"$f":"IF(Attendance($C33,'Daily Register'!KW$3:KW$242)=TRUE,\"P\",\"A\")","v":"A"},{"$f":"IF(Attendance($C33,'Daily Register'!KX$3:KX$242)=TRUE,\"P\",\"A\")","v":"A"},{"$f":"IF(Attendance($C33,'Daily Register'!KY$3:KY$242)=TRUE,\"P\",\"A\")","v":"A"},{"$f":"IF(Attendance($C33,'Daily Register'!KZ$3:KZ$242)=TRUE,\"P\",\"A\")","v":"A"},{"$f":"IF(Attendance($C33,'Daily Register'!LA$3:LA$242)=TRUE,\"P\",\"A\")","v":"A"},{"$f":"IF(Attendance($C33,'Daily Register'!LB$3:LB$242)=TRUE,\"P\",\"A\")","v":"A"},{"$f":"IF(Attendance($C33,'Daily Register'!LC$3:LC$242)=TRUE,\"P\",\"A\")","v":"A"},{"$f":"IF(Attendance($C33,'Daily Register'!LD$3:LD$242)=TRUE,\"P\",\"A\")","v":"A"},{"$f":"IF(Attendance($C33,'Daily Register'!LE$3:LE$242)=TRUE,\"P\",\"A\")","v":"A"},{"$f":"IF(Attendance($C33,'Daily Register'!LF$3:LF$242)=TRUE,\"P\",\"A\")","v":"A"},{"$f":"IF(Attendance($C33,'Daily Register'!LG$3:LG$242)=TRUE,\"P\",\"A\")","v":"A"},{"$f":"IF(Attendance($C33,'Daily Register'!LH$3:LH$242)=TRUE,\"P\",\"A\")","v":"A"},{"$f":"IF(Attendance($C33,'Daily Register'!LI$3:LI$242)=TRUE,\"P\",\"A\")","v":"A"},{"$f":"IF(Attendance($C33,'Daily Register'!LJ$3:LJ$242)=TRUE,\"P\",\"A\")","v":"A"},{"$f":"IF(Attendance($C33,'Daily Register'!LK$3:LK$242)=TRUE,\"P\",\"A\")","v":"A"},{"$f":"IF(Attendance($C33,'Daily Register'!LL$3:LL$242)=TRUE,\"P\",\"A\")","v":"A"},{"$f":"IF(Attendance($C33,'Daily Register'!LM$3:LM$242)=TRUE,\"P\",\"A\")","v":"A"},{"$f":"IF(Attendance($C33,'Daily Register'!LN$3:LN$242)=TRUE,\"P\",\"A\")","v":"A"},{"$f":"IF(Attendance($C33,'Daily Register'!LO$3:LO$242)=TRUE,\"P\",\"A\")","v":"A"},{"$f":"IF(Attendance($C33,'Daily Register'!LP$3:LP$242)=TRUE,\"P\",\"A\")","v":"A"},{"$f":"IF(Attendance($C33,'Daily Register'!LQ$3:LQ$242)=TRUE,\"P\",\"A\")","v":"A"},{"$f":"IF(Attendance($C33,'Daily Register'!LR$3:LR$242)=TRUE,\"P\",\"A\")","v":"A"},{"$f":"IF(Attendance($C33,'Daily Register'!LS$3:LS$242)=TRUE,\"P\",\"A\")","v":"A"},{"$f":"IF(Attendance($C33,'Daily Register'!LT$3:LT$242)=TRUE,\"P\",\"A\")","v":"A"},{"$f":"IF(Attendance($C33,'Daily Register'!LU$3:LU$242)=TRUE,\"P\",\"A\")","v":"A"},{"$f":"IF(Attendance($C33,'Daily Register'!LV$3:LV$242)=TRUE,\"P\",\"A\")","v":"A"},{"$f":"IF(Attendance($C33,'Daily Register'!LW$3:LW$242)=TRUE,\"P\",\"A\")","v":"A"},{"$f":"IF(Attendance($C33,'Daily Register'!LX$3:LX$242)=TRUE,\"P\",\"A\")","v":"A"},{"$f":"IF(Attendance($C33,'Daily Register'!LY$3:LY$242)=TRUE,\"P\",\"A\")","v":"A"},{"$f":"IF(Attendance($C33,'Daily Register'!LZ$3:LZ$242)=TRUE,\"P\",\"A\")","v":"A"},{"$f":"IF(Attendance($C33,'Daily Register'!MA$3:MA$242)=TRUE,\"P\",\"A\")","v":"A"},{"$f":"IF(Attendance($C33,'Daily Register'!MB$3:MB$242)=TRUE,\"P\",\"A\")","v":"A"},{"$f":"IF(Attendance($C33,'Daily Register'!MC$3:MC$242)=TRUE,\"P\",\"A\")","v":"A"},{"$f":"IF(Attendance($C33,'Daily Register'!MD$3:MD$242)=TRUE,\"P\",\"A\")","v":"A"},{"$f":"IF(Attendance($C33,'Daily Register'!ME$3:ME$242)=TRUE,\"P\",\"A\")","v":"A"},{"$f":"IF(Attendance($C33,'Daily Register'!MF$3:MF$242)=TRUE,\"P\",\"A\")","v":"A"},{"$f":"IF(Attendance($C33,'Daily Register'!MG$3:MG$242)=TRUE,\"P\",\"A\")","v":"A"},{"$f":"IF(Attendance($C33,'Daily Register'!MH$3:MH$242)=TRUE,\"P\",\"A\")","v":"A"},{"$f":"IF(Attendance($C33,'Daily Register'!MI$3:MI$242)=TRUE,\"P\",\"A\")","v":"A"},{"$f":"IF(Attendance($C33,'Daily Register'!MJ$3:MJ$242)=TRUE,\"P\",\"A\")","v":"A"},{"$f":"IF(Attendance($C33,'Daily Register'!MK$3:MK$242)=TRUE,\"P\",\"A\")","v":"A"},{"$f":"IF(Attendance($C33,'Daily Register'!ML$3:ML$242)=TRUE,\"P\",\"A\")","v":"A"},{"$f":"IF(Attendance($C33,'Daily Register'!MM$3:MM$242)=TRUE,\"P\",\"A\")","v":"A"},{"$f":"IF(Attendance($C33,'Daily Register'!MN$3:MN$242)=TRUE,\"P\",\"A\")","v":"A"},{"$f":"IF(Attendance($C33,'Daily Register'!MO$3:MO$242)=TRUE,\"P\",\"A\")","v":"A"},{"$f":"IF(Attendance($C33,'Daily Register'!MP$3:MP$242)=TRUE,\"P\",\"A\")","v":"A"},{"$f":"IF(Attendance($C33,'Daily Register'!MQ$3:MQ$242)=TRUE,\"P\",\"A\")","v":"A"},{"$f":"IF(Attendance($C33,'Daily Register'!MR$3:MR$242)=TRUE,\"P\",\"A\")","v":"A"},{"$f":"IF(Attendance($C33,'Daily Register'!MS$3:MS$242)=TRUE,\"P\",\"A\")","v":"A"},{"$f":"IF(Attendance($C33,'Daily Register'!MT$3:MT$242)=TRUE,\"P\",\"A\")","v":"A"},{"$f":"IF(Attendance($C33,'Daily Register'!MU$3:MU$242)=TRUE,\"P\",\"A\")","v":"A"},{"$f":"IF(Attendance($C33,'Daily Register'!MV$3:MV$242)=TRUE,\"P\",\"A\")","v":"A"},{"$f":"IF(Attendance($C33,'Daily Register'!MW$3:MW$242)=TRUE,\"P\",\"A\")","v":"A"},{"$f":"IF(Attendance($C33,'Daily Register'!MX$3:MX$242)=TRUE,\"P\",\"A\")","v":"A"},{"$f":"IF(Attendance($C33,'Daily Register'!MY$3:MY$242)=TRUE,\"P\",\"A\")","v":"A"},{"$f":"IF(Attendance($C33,'Daily Register'!MZ$3:MZ$242)=TRUE,\"P\",\"A\")","v":"A"},{"$f":"IF(Attendance($C33,'Daily Register'!NA$3:NA$242)=TRUE,\"P\",\"A\")","v":"A"},{"$f":"IF(Attendance($C33,'Daily Register'!NB$3:NB$242)=TRUE,\"P\",\"A\")","v":"A"}]
[0,null,31,null,{"$f":"IF(Attendance($C34,'Daily Register'!A$3:A$242)=TRUE,\"P\",\"A\")","v":"A"},{"$f":"IF(Attendance($C34,'Daily Register'!B$3:B$242)=TRUE,\"P\",\"A\")","v":"A"},{"$f":"IF(Attendance($C34,'Daily Register'!C$3:C$242)=TRUE,\"P\",\"A\")","v":"A"},{"$f":"IF(Attendance($C34,'Daily Register'!D$3:D$242)=TRUE,\"P\",\"A\")","v":"A"},{"$f":"IF(Attendance($C34,'Daily Register'!E$3:E$242)=TRUE,\"P\",\"A\")","v":"A"},{"$f":"IF(Attendance($C34,'Daily Register'!F$3:F$242)=TRUE,\"P\",\"A\")","v":"A"},{"$f":"IF(Attendance($C34,'Daily Register'!G$3:G$242)=TRUE,\"P\",\"A\")","v":"A"},{"$f":"IF(Attendance($C34,'Daily Register'!H$3:H$242)=TRUE,\"P\",\"A\")","v":"A"},{"$f":"IF(Attendance($C34,'Daily Register'!I$3:I$242)=TRUE,\"P\",\"A\")","v":"A"},{"$f":"IF(Attendance($C34,'Daily Register'!J$3:J$242)=TRUE,\"P\",\"A\")","v":"A"},{"$f":"IF(Attendance($C34,'Daily Register'!K$3:K$242)=TRUE,\"P\",\"A\")","v":"A"},{"$f":"IF(Attendance($C34,'Daily Register'!L$3:L$242)=TRUE,\"P\",\"A\")","v":"A"},{"$f":"IF(Attendance($C34,'Daily Register'!M$3:M$242)=TRUE,\"P\",\"A\")","v":"A"},{"$f":"IF(Attendance($C34,'Daily Register'!N$3:N$242)=TRUE,\"P\",\"A\")","v":"A"},{"$f":"IF(Attendance($C34,'Daily Register'!O$3:O$242)=TRUE,\"P\",\"A\")","v":"A"},{"$f":"IF(Attendance($C34,'Daily Register'!P$3:P$242)=TRUE,\"P\",\"A\")","v":"A"},{"$f":"IF(Attendance($C34,'Daily Register'!Q$3:Q$242)=TRUE,\"P\",\"A\")","v":"A"},{"$f":"IF(Attendance($C34,'Daily Register'!R$3:R$242)=TRUE,\"P\",\"A\")","v":"A"},{"$f":"IF(Attendance($C34,'Daily Register'!S$3:S$242)=TRUE,\"P\",\"A\")","v":"A"},{"$f":"IF(Attendance($C34,'Daily Register'!T$3:T$242)=TRUE,\"P\",\"A\")","v":"A"},{"$f":"IF(Attendance($C34,'Daily Register'!U$3:U$242)=TRUE,\"P\",\"A\")","v":"A"},{"$f":"IF(Attendance($C34,'Daily Register'!V$3:V$242)=TRUE,\"P\",\"A\")","v":"A"},{"$f":"IF(Attendance($C34,'Daily Register'!W$3:W$242)=TRUE,\"P\",\"A\")","v":"A"},{"$f":"IF(Attendance($C34,'Daily Register'!X$3:X$242)=TRUE,\"P\",\"A\")","v":"A"},{"$f":"IF(Attendance($C34,'Daily Register'!Y$3:Y$242)=TRUE,\"P\",\"A\")","v":"A"},{"$f":"IF(Attendance($C34,'Daily Register'!Z$3:Z$242)=TRUE,\"P\",\"A\")","v":"A"},{"$f":"IF(Attendance($C34,'Daily Register'!AA$3:AA$242)=TRUE,\"P\",\"A\")","v":"A"},{"$f":"IF(Attendance($C34,'Daily Register'!AB$3:AB$242)=TRUE,\"P\",\"A\")","v":"A"},{"$f":"IF(Attendance($C34,'Daily Register'!AC$3:AC$242)=TRUE,\"P\",\"A\")","v":"A"},{"$f":"IF(Attendance($C34,'Daily Register'!AD$3:AD$242)=TRUE,\"P\",\"A\")","v":"A"},{"$f":"IF(Attendance($C34,'Daily Register'!AE$3:AE$242)=TRUE,\"P\",\"A\")","v":"A"},{"$f":"IF(Attendance($C34,'Daily Register'!AF$3:AF$242)=TRUE,\"P\",\"A\")","v":"A"},{"$f":"IF(Attendance($C34,'Daily Register'!AG$3:AG$242)=TRUE,\"P\",\"A\")","v":"A"},{"$f":"IF(Attendance($C34,'Daily Register'!AH$3:AH$242)=TRUE,\"P\",\"A\")","v":"A"},{"$f":"IF(Attendance($C34,'Daily Register'!AI$3:AI$242)=TRUE,\"P\",\"A\")","v":"A"},{"$f":"IF(Attendance($C34,'Daily Register'!AJ$3:AJ$242)=TRUE,\"P\",\"A\")","v":"A"},{"$f":"IF(Attendance($C34,'Daily Register'!AK$3:AK$242)=TRUE,\"P\",\"A\")","v":"A"},{"$f":"IF(Attendance($C34,'Daily Register'!AL$3:AL$242)=TRUE,\"P\",\"A\")","v":"A"},{"$f":"IF(Attendance($C34,'Daily Register'!AM$3:AM$242)=TRUE,\"P\",\"A\")","v":"A"},{"$f":"IF(Attendance($C34,'Daily Register'!AN$3:AN$242)=TRUE,\"P\",\"A\")","v":"A"},{"$f":"IF(Attendance($C34,'Daily Register'!AO$3:AO$242)=TRUE,\"P\",\"A\")","v":"A"},{"$f":"IF(Attendance($C34,'Daily Register'!AP$3:AP$242)=TRUE,\"P\",\"A\")","v":"A"},{"$f":"IF(Attendance($C34,'Daily Register'!AQ$3:AQ$242)=TRUE,\"P\",\"A\")","v":"A"},{"$f":"IF(Attendance($C34,'Daily Register'!AR$3:AR$242)=TRUE,\"P\",\"A\")","v":"A"},{"$f":"IF(Attendance($C34,'Daily Register'!AS$3:AS$242)=TRUE,\"P\",\"A\")","v":"A"},{"$f":"IF(Attendance($C34,'Daily Register'!AT$3:AT$242)=TRUE,\"P\",\"A\")","v":"A"},{"$f":"IF(Attendance($C34,'Daily Register'!AU$3:AU$242)=TRUE,\"P\",\"A\")","v":"A"},{"$f":"IF(Attendance($C34,'Daily Register'!AV$3:AV$242)=TRUE,\"P\",\"A\")","v":"A"},{"$f":"IF(Attendance($C34,'Daily Register'!AW$3:AW$242)=TRUE,\"P\",\"A\")","v":"A"},{"$f":"IF(Attendance($C34,'Daily Register'!AX$3:AX$242)=TRUE,\"P\",\"A\")","v":"A"},{"$f":"IF(Attendance($C34,'Daily Register'!AY$3:AY$242)=TRUE,\"P\",\"A\")","v":"A"},{"$f":"IF(Attendance($C34,'Daily Register'!AZ$3:AZ$242)=TRUE,\"P\",\"A\")","v":"A"},{"$f":"IF(Attendance($C34,'Daily Register'!BA$3:BA$242)=TRUE,\"P\",\"A\")","v":"A"},{"$f":"IF(Attendance($C34,'Daily Register'!BB$3:BB$242)=TRUE,\"P\",\"A\")","v":"A"},{"$f":"IF(Attendance($C34,'Daily Register'!BC$3:BC$242)=TRUE,\"P\",\"A\")","v":"A"},{"$f":"IF(Attendance($C34,'Daily Register'!BD$3:BD$242)=TRUE,\"P\",\"A\")","v":"A"},{"$f":"IF(Attendance($C34,'Daily Register'!BE$3:BE$242)=TRUE,\"P\",\"A\")","v":"A"},{"$f":"IF(Attendance($C34,'Daily Register'!BF$3:BF$242)=TRUE,\"P\",\"A\")","v":"A"},{"$f":"IF(Attendance($C34,'Daily Register'!BG$3:BG$242)=TRUE,\"P\",\"A\")","v":"A"},{"$f":"IF(Attendance($C34,'Daily Register'!BH$3:BH$242)=TRUE,\"P\",\"A\")","v":"A"},{"$f":"IF(Attendance($C34,'Daily Register'!BI$3:BI$242)=TRUE,\"P\",\"A\")","v":"A"},{"$f":"IF(Attendance($C34,'Daily Register'!BJ$3:BJ$242)=TRUE,\"P\",\"A\")","v":"A"},{"$f":"IF(Attendance($C34,'Daily Register'!BK$3:BK$242)=TRUE,\"P\",\"A\")","v":"A"},{"$f":"IF(Attendance($C34,'Daily Register'!BL$3:BL$242)=TRUE,\"P\",\"A\")","v":"A"},{"$f":"IF(Attendance($C34,'Daily Register'!BM$3:BM$242)=TRUE,\"P\",\"A\")","v":"A"},{"$f":"IF(Attendance($C34,'Daily Register'!BN$3:BN$242)=TRUE,\"P\",\"A\")","v":"A"},{"$f":"IF(Attendance($C34,'Daily Register'!BO$3:BO$242)=TRUE,\"P\",\"A\")","v":"A"},{"$f":"IF(Attendance($C34,'Daily Register'!BP$3:BP$242)=TRUE,\"P\",\"A\")","v":"A"},{"$f":"IF(Attendance($C34,'Daily Register'!BQ$3:BQ$242)=TRUE,\"P\",\"A\")","v":"A"},{"$f":"IF(Attendance($C34,'Daily Register'!BR$3:BR$242)=TRUE,\"P\",\"A\")","v":"A"},{"$f":"IF(Attendance($C34,'Daily Register'!BS$3:BS$242)=TRUE,\"P\",\"A\")","v":"A"},{"$f":"IF(Attendance($C34,'Daily Register'!BT$3:BT$242)=TRUE,\"P\",\"A\")","v":"A"},{"$f":"IF(Attendance($C34,'Daily Register'!BU$3:BU$242)=TRUE,\"P\",\"A\")","v":"A"},{"$f":"IF(Attendance($C34,'Daily Register'!BV$3:BV$242)=TRUE,\"P\",\"A\")","v":"A"},{"$f":"IF(Attendance($C34,'Daily Register'!BW$3:BW$242)=TRUE,\"P\",\"A\")","v":"A"},{"$f":"IF(Attendance($C34,'Daily Register'!BX$3:BX$242)=TRUE,\"P\",\"A\")","v":"A"},{"$f":"IF(Attendance($C34,'Daily Register'!BY$3:BY$242)=TRUE,\"P\",\"A\")","v":"A"},{"$f":"IF(Attendance($C34,'Daily Register'!BZ$3:BZ$242)=TRUE,\"P\",\"A\")","v":"A"},{"$f":"IF(Attendance($C34,'Daily Register'!CA$3:CA$242)=TRUE,\"P\",\"A\")","v":"A"},{"$f":"IF(Attendance($C34,'Daily Register'!CB$3:CB$242)=TRUE,\"P\",\"A\")","v":"A"},{"$f":"IF(Attendance($C34,'Daily Register'!CC$3:CC$242)=TRUE,\"P\",\"A\")","v":"A"},{"$f":"IF(Attendance($C34,'Daily Register'!CD$3:CD$242)=TRUE,\"P\",\"A\")","v":"A"},{"$f":"IF(Attendance($C34,'Daily Register'!CE$3:CE$242)=TRUE,\"P\",\"A\")","v":"A"},{"$f":"IF(Attendance($C34,'Daily Register'!CF$3:CF$242)=TRUE,\"P\",\"A\")","v":"A"},{"$f":"IF(Attendance($C34,'Daily Register'!CG$3:CG$242)=TRUE,\"P\",\"A\")","v":"A"},{"$f":"IF(Attendance($C34,'Daily Register'!CH$3:CH$242)=TRUE,\"P\",\"A\")","v":"A"},{"$f":"IF(Attendance($C34,'Daily Register'!CI$3:CI$242)=TRUE,\"P\",\"A\")","v":"A"},{"$f":"IF(Attendance($C34,'Daily Register'!CJ$3:CJ$242)=TRUE,\"P\",\"A\")","v":"A"},{"$f":"IF(Attendance($C34,'Daily Register'!CK$3:CK$242)=TRUE,\"P\",\"A\")","v":"A"},{"$f":"IF(Attendance($C34,'Daily Register'!CL$3:CL$242)=TRUE,\"P\",\"A\")","v":"A"},{"$f":"IF(Attendance($C34,'Daily Register'!CM$3:CM$242)=TRUE,\"P\",\"A\")","v":"A"},{"$f":"IF(Attendance($C34,'Daily Register'!CN$3:CN$242)=TRUE,\"P\",\"A\")","v":"A"},{"$f":"IF(Attendance($C34,'Daily Register'!CO$3:CO$242)=TRUE,\"P\",\"A\")","v":"A"},{"$f":"IF(Attendance($C34,'Daily Register'!CP$3:CP$242)=TRUE,\"P\",\"A\")","v":"A"},{"$f":"IF(Attendance($C34,'Daily Register'!CQ$3:CQ$242)=TRUE,\"P\",\"A\")","v":"A"},{"$f":"IF(Attendance($C34,'Daily Register'!CR$3:CR$242)=TRUE,\"P\",\"A\")","v":"A"},{"$f":"IF(Attendance($C34,'Daily Register'!CS$3:CS$242)=TRUE,\"P\",\"A\")","v":"A"},{"$f":"IF(Attendance($C34,'Daily Register'!CT$3:CT$242)=TRUE,\"P\",\"A\")","v":"A"},{"$f":"IF(Attendance($C34,'Daily Register'!CU$3:CU$242)=TRUE,\"P\",\"A\")","v":"A"},{"$f":"IF(Attendance($C34,'Daily Register'!CV$3:CV$242)=TRUE,\"P\",\"A\")","v":"A"},{"$f":"IF(Attendance($C34,'Daily Register'!CW$3:CW$242)=TRUE,\"P\",\"A\")","v":"A"},{"$f":"IF(Attendance($C34,'Daily Register'!CX$3:CX$242)=TRUE,\"P\",\"A\")","v":"A"},{"$f":"IF(Attendance($C34,'Daily Register'!CY$3:CY$242)=TRUE,\"P\",\"A\")","v":"A"},{"$f":"IF(Attendance($C34,'Daily Register'!CZ$3:CZ$242)=TRUE,\"P\",\"A\")","v":"A"},{"$f":"IF(Attendance($C34,'Daily Register'!DA$3:DA$242)=TRUE,\"P\",\"A\")","v":"A"},{"$f":"IF(Attendance($C34,'Daily Register'!DB$3:DB$242)=TRUE,\"P\",\"A\")","v":"A"},{"$f":"IF(Attendance($C34,'Daily Register'!DC$3:DC$242)=TRUE,\"P\",\"A\")","v":"A"},{"$f":"IF(Attendance($C34,'Daily Register'!DD$3:DD$242)=TRUE,\"P\",\"A\")","v":"A"},{"$f":"IF(Attendance($C34,'Daily Register'!DE$3:DE$242)=TRUE,\"P\",\"A\")","v":"A"},{"$f":"IF(Attendance($C34,'Daily Register'!DF$3:DF$242)=TRUE,\"P\",\"A\")","v":"A"},{"$f":"IF(Attendance($C34,'Daily Register'!DG$3:DG$242)=TRUE,\"P\",\"A\")","v":"A"},{"$f":"IF(Attendance($C34,'Daily Register'!DH$3:DH$242)=TRUE,\"P\",\"A\")","v":"A"},{"$f":"IF(Attendance($C34,'Daily Register'!DI$3:DI$242)=TRUE,\"P\",\"A\")","v":"A"},{"$f":"IF(Attendance($C34,'Daily Register'!DJ$3:DJ$242)=TRUE,\"P\",\"A\")","v":"A"},{"$f":"IF(Attendance($C34,'Daily Register'!DK$3:DK$242)=TRUE,\"P\",\"A\")","v":"A"},{"$f":"IF(Attendance($C34,'Daily Register'!DL$3:DL$242)=TRUE,\"P\",\"A\")","v":"A"},{"$f":"IF(Attendance($C34,'Daily Register'!DM$3:DM$242)=TRUE,\"P\",\"A\")","v":"A"},{"$f":"IF(Attendance($C34,'Daily Register'!DN$3:DN$242)=TRUE,\"P\",\"A\")","v":"A"},{"$f":"IF(Attendance($C34,'Daily Register'!DO$3:DO$242)=TRUE,\"P\",\"A\")","v":"A"},{"$f":"IF(Attendance($C34,'Daily Register'!DP$3:DP$242)=TRUE,\"P\",\"A\")","v":"A"},{"$f":"IF(Attendance($C34,'Daily Register'!DQ$3:DQ$242)=TRUE,\"P\",\"A\")","v":"A"},{"$f":"IF(Attendance($C34,'Daily Register'!DR$3:DR$242)=TRUE,\"P\",\"A\")","v":"A"},{"$f":"IF(Attendance($C34,'Daily Register'!DS$3:DS$242)=TRUE,\"P\",\"A\")","v":"A"},{"$f":"IF(Attendance($C34,'Daily Register'!DT$3:DT$242)=TRUE,\"P\",\"A\")","v":"A"},{"$f":"IF(Attendance($C34,'Daily Register'!DU$3:DU$242)=TRUE,\"P\",\"A\")","v":"A"},{"$f":"IF(Attendance($C34,'Daily Register'!DV$3:DV$242)=TRUE,\"P\",\"A\")","v":"A"},{"$f":"IF(Attendance($C34,'Daily Register'!DW$3:DW$242)=TRUE,\"P\",\"A\")","v":"A"},{"$f":"IF(Attendance($C34,'Daily Register'!DX$3:DX$242)=TRUE,\"P\",\"A\")","v":"A"},{"$f":"IF(Attendance($C34,'Daily Register'!DY$3:DY$242)=TRUE,\"P\",\"A\")","v":"A"},{"$f":"IF(Attendance($C34,'Daily Register'!DZ$3:DZ$242)=TRUE,\"P\",\"A\")","v":"A"},{"$f":"IF(Attendance($C34,'Daily Register'!EA$3:EA$242)=TRUE,\"P\",\"A\")","v":"A"},{"$f":"IF(Attendance($C34,'Daily Register'!EB$3:EB$242)=TRUE,\"P\",\"A\")","v":"A"},{"$f":"IF(Attendance($C34,'Daily Register'!EC$3:EC$242)=TRUE,\"P\",\"A\")","v":"A"},{"$f":"IF(Attendance($C34,'Daily Register'!ED$3:ED$242)=TRUE,\"P\",\"A\")","v":"A"},{"$f":"IF(Attendance($C34,'Daily Register'!EE$3:EE$242)=TRUE,\"P\",\"A\")","v":"A"},{"$f":"IF(Attendance($C34,'Daily Register'!EF$3:EF$242)=TRUE,\"P\",\"A\")","v":"A"},{"$f":"IF(Attendance($C34,'Daily Register'!EG$3:EG$242)=TRUE,\"P\",\"A\")","v":"A"},{"$f":"IF(Attendance($C34,'Daily Register'!EH$3:EH$242)=TRUE,\"P\",\"A\")","v":"A"},{"$f":"IF(Attendance($C34,'Daily Register'!EI$3:EI$242)=TRUE,\"P\",\"A\")","v":"A"},{"$f":"IF(Attendance($C34,'Daily Register'!EJ$3:EJ$242)=TRUE,\"P\",\"A\")","v":"A"},{"$f":"IF(Attendance($C34,'Daily Register'!EK$3:EK$242)=TRUE,\"P\",\"A\")","v":"A"},{"$f":"IF(Attendance($C34,'Daily Register'!EL$3:EL$242)=TRUE,\"P\",\"A\")","v":"A"},{"$f":"IF(Attendance($C34,'Daily Register'!EM$22:EM$242)=TRUE,\"P\",\"A\")","v":"A"},{"$f":"IF(Attendance($C34,'Daily Register'!EN$3:EN$242)=TRUE,\"P\",\"A\")","v":"A"},{"$f":"IF(Attendance($C34,'Daily Register'!EO$3:EO$242)=TRUE,\"P\",\"A\")","v":"A"},{"$f":"IF(Attendance($C34,'Daily Register'!EP$3:EP$242)=TRUE,\"P\",\"A\")","v":"A"},{"$f":"IF(Attendance($C34,'Daily Register'!EQ$3:EQ$242)=TRUE,\"P\",\"A\")","v":"A"},{"$f":"IF(Attendance($C34,'Daily Register'!ER$3:ER$242)=TRUE,\"P\",\"A\")","v":"A"},{"$f":"IF(Attendance($C34,'Daily Register'!ES$3:ES$242)=TRUE,\"P\",\"A\")","v":"A"},{"$f":"IF(Attendance($C34,'Daily Register'!ET$3:ET$242)=TRUE,\"P\",\"A\")","v":"A"},{"$f":"IF(Attendance($C34,'Daily Register'!EU$3:EU$242)=TRUE,\"P\",\"A\")","v":"A"},{"$f":"IF(Attendance($C34,'Daily Register'!EV$3:EV$242)=TRUE,\"P\",\"A\")","v":"A"},{"$f":"IF(Attendance($C34,'Daily Register'!EW$3:EW$242)=TRUE,\"P\",\"A\")","v":"A"},{"$f":"IF(Attendance($C34,'Daily Register'!EX$3:EX$242)=TRUE,\"P\",\"A\")","v":"A"},{"$f":"IF(Attendance($C34,'Daily Register'!EY$3:EY$242)=TRUE,\"P\",\"A\")","v":"A"},{"$f":"IF(Attendance($C34,'Daily Register'!EZ$3:EZ$242)=TRUE,\"P\",\"A\")","v":"A"},{"$f":"IF(Attendance($C34,'Daily Register'!FA$3:FA$242)=TRUE,\"P\",\"A\")","v":"A"},{"$f":"IF(Attendance($C34,'Daily Register'!FB$3:FB$242)=TRUE,\"P\",\"A\")","v":"A"},{"$f":"IF(Attendance($C34,'Daily Register'!FC$3:FC$242)=TRUE,\"P\",\"A\")","v":"A"},{"$f":"IF(Attendance($C34,'Daily Register'!FD$3:FD$242)=TRUE,\"P\",\"A\")","v":"A"},{"$f":"IF(Attendance($C34,'Daily Register'!FE$3:FE$242)=TRUE,\"P\",\"A\")","v":"A"},{"$f":"IF(Attendance($C34,'Daily Register'!FF$3:FF$242)=TRUE,\"P\",\"A\")","v":"A"},{"$f":"IF(Attendance($C34,'Daily Register'!FG$3:FG$242)=TRUE,\"P\",\"A\")","v":"A"},{"$f":"IF(Attendance($C34,'Daily Register'!FH$3:FH$242)=TRUE,\"P\",\"A\")","v":"A"},{"$f":"IF(Attendance($C34,'Daily Register'!FI$3:FI$242)=TRUE,\"P\",\"A\")","v":"A"},{"$f":"IF(Attendance($C34,'Daily Register'!FJ$3:FJ$242)=TRUE,\"P\",\"A\")","v":"A"},{"$f":"IF(Attendance($C34,'Daily Register'!FK$3:FK$242)=TRUE,\"P\",\"A\")","v":"A"},{"$f":"IF(Attendance($C34,'Daily Register'!FL$3:FL$242)=TRUE,\"P\",\"A\")","v":"A"},{"$f":"IF(Attendance($C34,'Daily Register'!FM$3:FM$242)=TRUE,\"P\",\"A\")","v":"A"},{"$f":"IF(Attendance($C34,'Daily Register'!FN$3:FN$242)=TRUE,\"P\",\"A\")","v":"A"},{"$f":"IF(Attendance($C34,'Daily Register'!FO$3:FO$242)=TRUE,\"P\",\"A\")","v":"A"},{"$f":"IF(Attendance($C34,'Daily Register'!FP$3:FP$242)=TRUE,\"P\",\"A\")","v":"A"},{"$f":"IF(Attendance($C34,'Daily Register'!FQ$3:FQ$242)=TRUE,\"P\",\"A\")","v":"A"},{"$f":"IF(Attendance($C34,'Daily Register'!FR$3:FR$242)=TRUE,\"P\",\"A\")","v":"A"},{"$f":"IF(Attendance($C34,'Daily Register'!FS$3:FS$242)=TRUE,\"P\",\"A\")","v":"A"},{"$f":"IF(Attendance($C34,'Daily Register'!FT$3:FT$242)=TRUE,\"P\",\"A\")","v":"A"},{"$f":"IF(Attendance($C34,'Daily Register'!FU$3:FU$242)=TRUE,\"P\",\"A\")","v":"A"},{"$f":"IF(Attendance($C34,'Daily Register'!FV$3:FV$242)=TRUE,\"P\",\"A\")","v":"A"},{"$f":"IF(Attendance($C34,'Daily Register'!FW$3:FW$242)=TRUE,\"P\",\"A\")","v":"A"},{"$f":"IF(Attendance($C34,'Daily Register'!FX$3:FX$242)=TRUE,\"P\",\"A\")","v":"A"},{"$f":"IF(Attendance($C34,'Daily Register'!FY$3:FY$242)=TRUE,\"P\",\"A\")","v":"A"},{"$f":"IF(Attendance($C34,'Daily Register'!FZ$3:FZ$242)=TRUE,\"P\",\"A\")","v":"A"},{"$f":"IF(Attendance($C34,'Daily Register'!GA$3:GA$242)=TRUE,\"P\",\"A\")","v":"A"},{"$f":"IF(Attendance($C34,'Daily Register'!GB$3:GB$242)=TRUE,\"P\",\"A\")","v":"A"},{"$f":"IF(Attendance($C34,'Daily Register'!GC$3:GC$242)=TRUE,\"P\",\"A\")","v":"A"},{"$f":"IF(Attendance($C34,'Daily Register'!GD$3:GD$242)=TRUE,\"P\",\"A\")","v":"A"},{"$f":"IF(Attendance($C34,'Daily Register'!GE$3:GE$242)=TRUE,\"P\",\"A\")","v":"A"},{"$f":"IF(Attendance($C34,'Daily Register'!GF$3:GF$242)=TRUE,\"P\",\"A\")","v":"A"},{"$f":"IF(Attendance($C34,'Daily Register'!GG$3:GG$242)=TRUE,\"P\",\"A\")","v":"A"},{"$f":"IF(Attendance($C34,'Daily Register'!GH$3:GH$242)=TRUE,\"P\",\"A\")","v":"A"},{"$f":"IF(Attendance($C34,'Daily Register'!GI$3:GI$242)=TRUE,\"P\",\"A\")","v":"A"},{"$f":"IF(Attendance($C34,'Daily Register'!GJ$3:GJ$242)=TRUE,\"P\",\"A\")","v":"A"},{"$f":"IF(Attendance($C34,'Daily Register'!GK$3:GK$242)=TRUE,\"P\",\"A\")","v":"A"},{"$f":"IF(Attendance($C34,'Daily Register'!GL$3:GL$242)=TRUE,\"P\",\"A\")","v":"A"},{"$f":"IF(Attendance($C34,'Daily Register'!GM$3:GM$242)=TRUE,\"P\",\"A\")","v":"A"},{"$f":"IF(Attendance($C34,'Daily Register'!GN$3:GN$242)=TRUE,\"P\",\"A\")","v":"A"},{"$f":"IF(Attendance($C34,'Daily Register'!GO$3:GO$242)=TRUE,\"P\",\"A\")","v":"A"},{"$f":"IF(Attendance($C34,'Daily Register'!GP$3:GP$242)=TRUE,\"P\",\"A\")","v":"A"},{"$f":"IF(Attendance($C34,'Daily Register'!GQ$3:GQ$242)=TRUE,\"P\",\"A\")","v":"A"},{"$f":"IF(Attendance($C34,'Daily Register'!GR$3:GR$242)=TRUE,\"P\",\"A\")","v":"A"},{"$f":"IF(Attendance($C34,'Daily Register'!GS$3:GS$242)=TRUE,\"P\",\"A\")","v":"A"},{"$f":"IF(Attendance($C34,'Daily Register'!GT$3:GT$242)=TRUE,\"P\",\"A\")","v":"A"},{"$f":"IF(Attendance($C34,'Daily Register'!GU$3:GU$242)=TRUE,\"P\",\"A\")","v":"A"},{"$f":"IF(Attendance($C34,'Daily Register'!GV$3:GV$242)=TRUE,\"P\",\"A\")","v":"A"},{"$f":"IF(Attendance($C34,'Daily Register'!GW$3:GW$242)=TRUE,\"P\",\"A\")","v":"A"},{"$f":"IF(Attendance($C34,'Daily Register'!GX$3:GX$242)=TRUE,\"P\",\"A\")","v":"A"},{"$f":"IF(Attendance($C34,'Daily Register'!GY$3:GY$242)=TRUE,\"P\",\"A\")","v":"A"},{"$f":"IF(Attendance($C34,'Daily Register'!GZ$3:GZ$242)=TRUE,\"P\",\"A\")","v":"A"},{"$f":"IF(Attendance($C34,'Daily Register'!HA$3:HA$242)=TRUE,\"P\",\"A\")","v":"A"},{"$f":"IF(Attendance($C34,'Daily Register'!HB$3:HB$242)=TRUE,\"P\",\"A\")","v":"A"},{"$f":"IF(Attendance($C34,'Daily Register'!HC$3:HC$242)=TRUE,\"P\",\"A\")","v":"A"},{"$f":"IF(Attendance($C34,'Daily Register'!HD$3:HD$242)=TRUE,\"P\",\"A\")","v":"A"},{"$f":"IF(Attendance($C34,'Daily Register'!HE$3:HE$242)=TRUE,\"P\",\"A\")","v":"A"},{"$f":"IF(Attendance($C34,'Daily Register'!HF$3:HF$242)=TRUE,\"P\",\"A\")","v":"A"},{"$f":"IF(Attendance($C34,'Daily Register'!HG$3:HG$242)=TRUE,\"P\",\"A\")","v":"A"},{"$f":"IF(Attendance($C34,'Daily Register'!HH$3:HH$242)=TRUE,\"P\",\"A\")","v":"A"},{"$f":"IF(Attendance($C34,'Daily Register'!HI$3:HI$242)=TRUE,\"P\",\"A\")","v":"A"},{"$f":"IF(Attendance($C34,'Daily Register'!HJ$3:HJ$242)=TRUE,\"P\",\"A\")","v":"A"},{"$f":"IF(Attendance($C34,'Daily Register'!HK$3:HK$242)=TRUE,\"P\",\"A\")","v":"A"},{"$f":"IF(Attendance($C34,'Daily Register'!HL$3:HL$242)=TRUE,\"P\",\"A\")","v":"A"},{"$f":"IF(Attendance($C34,'Daily Register'!HM$3:HM$242)=TRUE,\"P\",\"A\")","v":"A"},{"$f":"IF(Attendance($C34,'Daily Register'!HN$3:HN$242)=TRUE,\"P\",\"A\")","v":"A"},{"$f":"IF(Attendance($C34,'Daily Register'!HO$3:HO$242)=TRUE,\"P\",\"A\")","v":"A"},{"$f":"IF(Attendance($C34,'Daily Register'!HP$3:HP$242)=TRUE,\"P\",\"A\")","v":"A"},{"$f":"IF(Attendance($C34,'Daily Register'!HQ$3:HQ$242)=TRUE,\"P\",\"A\")","v":"A"},{"$f":"IF(Attendance($C34,'Daily Register'!HR$3:HR$242)=TRUE,\"P\",\"A\")","v":"A"},{"$f":"IF(Attendance($C34,'Daily Register'!HS$3:HS$242)=TRUE,\"P\",\"A\")","v":"A"},{"$f":"IF(Attendance($C34,'Daily Register'!HT$3:HT$242)=TRUE,\"P\",\"A\")","v":"A"},{"$f":"IF(Attendance($C34,'Daily Register'!HU$3:HU$242)=TRUE,\"P\",\"A\")","v":"A"},{"$f":"IF(Attendance($C34,'Daily Register'!HV$3:HV$242)=TRUE,\"P\",\"A\")","v":"A"},{"$f":"IF(Attendance($C34,'Daily Register'!HW$3:HW$242)=TRUE,\"P\",\"A\")","v":"A"},{"$f":"IF(Attendance($C34,'Daily Register'!HX$3:HX$242)=TRUE,\"P\",\"A\")","v":"A"},{"$f":"IF(Attendance($C34,'Daily Register'!HY$3:HY$242)=TRUE,\"P\",\"A\")","v":"A"},{"$f":"IF(Attendance($C34,'Daily Register'!HZ$3:HZ$242)=TRUE,\"P\",\"A\")","v":"A"},{"$f":"IF(Attendance($C34,'Daily Register'!IA$3:IA$242)=TRUE,\"P\",\"A\")","v":"A"},{"$f":"IF(Attendance($C34,'Daily Register'!IB$3:IB$242)=TRUE,\"P\",\"A\")","v":"A"},{"$f":"IF(Attendance($C34,'Daily Register'!IC$3:IC$242)=TRUE,\"P\",\"A\")","v":"A"},{"$f":"IF(Attendance($C34,'Daily Register'!ID$3:ID$242)=TRUE,\"P\",\"A\")","v":"A"},{"$f":"IF(Attendance($C34,'Daily Register'!IE$3:IE$242)=TRUE,\"P\",\"A\")","v":"A"},{"$f":"IF(Attendance($C34,'Daily Register'!IF$3:IF$242)=TRUE,\"P\",\"A\")","v":"A"},{"$f":"IF(Attendance($C34,'Daily Register'!IG$3:IG$242)=TRUE,\"P\",\"A\")","v":"A"},{"$f":"IF(Attendance($C34,'Daily Register'!IH$3:IH$242)=TRUE,\"P\",\"A\")","v":"A"},{"$f":"IF(Attendance($C34,'Daily Register'!II$3:II$242)=TRUE,\"P\",\"A\")","v":"A"},{"$f":"IF(Attendance($C34,'Daily Register'!IJ$3:IJ$242)=TRUE,\"P\",\"A\")","v":"A"},{"$f":"IF(Attendance($C34,'Daily Register'!IK$3:IK$242)=TRUE,\"P\",\"A\")","v":"A"},{"$f":"IF(Attendance($C34,'Daily Register'!IL$3:IL$242)=TRUE,\"P\",\"A\")","v":"A"},{"$f":"IF(Attendance($C34,'Daily Register'!IM$3:IM$242)=TRUE,\"P\",\"A\")","v":"A"},{"$f":"IF(Attendance($C34,'Daily Register'!IN$3:IN$242)=TRUE,\"P\",\"A\")","v":"A"},{"$f":"IF(Attendance($C34,'Daily Register'!IO$3:IO$242)=TRUE,\"P\",\"A\")","v":"A"},{"$f":"IF(Attendance($C34,'Daily Register'!IP$3:IP$242)=TRUE,\"P\",\"A\")","v":"A"},{"$f":"IF(Attendance($C34,'Daily Register'!IQ$3:IQ$242)=TRUE,\"P\",\"A\")","v":"A"},{"$f":"IF(Attendance($C34,'Daily Register'!IR$3:IR$242)=TRUE,\"P\",\"A\")","v":"A"},{"$f":"IF(Attendance($C34,'Daily Register'!IS$3:IS$242)=TRUE,\"P\",\"A\")","v":"A"},{"$f":"IF(Attendance($C34,'Daily Register'!IT$3:IT$242)=TRUE,\"P\",\"A\")","v":"A"},{"$f":"IF(Attendance($C34,'Daily Register'!IU$3:IU$242)=TRUE,\"P\",\"A\")","v":"A"},{"$f":"IF(Attendance($C34,'Daily Register'!IV$3:IV$242)=TRUE,\"P\",\"A\")","v":"A"},{"$f":"IF(Attendance($C34,'Daily Register'!IW$3:IW$242)=TRUE,\"P\",\"A\")","v":"A"},{"$f":"IF(Attendance($C34,'Daily Register'!IX$3:IX$242)=TRUE,\"P\",\"A\")","v":"A"},{"$f":"IF(Attendance($C34,'Daily Register'!IY$3:IY$242)=TRUE,\"P\",\"A\")","v":"A"},{"$f":"IF(Attendance($C34,'Daily Register'!IZ$3:IZ$242)=TRUE,\"P\",\"A\")","v":"A"},{"$f":"IF(Attendance($C34,'Daily Register'!JA$3:JA$242)=TRUE,\"P\",\"A\")","v":"A"},{"$f":"IF(Attendance($C34,'Daily Register'!JB$3:JB$242)=TRUE,\"P\",\"A\")","v":"A"},{"$f":"IF(Attendance($C34,'Daily Register'!JC$3:JC$242)=TRUE,\"P\",\"A\")","v":"A"},{"$f":"IF(Attendance($C34,'Daily Register'!JD$3:JD$242)=TRUE,\"P\",\"A\")","v":"A"},{"$f":"IF(Attendance($C34,'Daily Register'!JE$3:JE$242)=TRUE,\"P\",\"A\")","v":"A"},{"$f":"IF(Attendance($C34,'Daily Register'!JF$3:JF$242)=TRUE,\"P\",\"A\")","v":"A"},{"$f":"IF(Attendance($C34,'Daily Register'!JG$3:JG$242)=TRUE,\"P\",\"A\")","v":"A"},{"$f":"IF(Attendance($C34,'Daily Register'!JH$3:JH$242)=TRUE,\"P\",\"A\")","v":"A"},{"$f":"IF(Attendance($C34,'Daily Register'!JI$3:JI$242)=TRUE,\"P\",\"A\")","v":"A"},{"$f":"IF(Attendance($C34,'Daily Register'!JJ$3:JJ$242)=TRUE,\"P\",\"A\")","v":"A"},{"$f":"IF(Attendance($C34,'Daily Register'!JK$3:JK$242)=TRUE,\"P\",\"A\")","v":"A"},{"$f":"IF(Attendance($C34,'Daily Register'!JL$3:JL$242)=TRUE,\"P\",\"A\")","v":"A"},{"$f":"IF(Attendance($C34,'Daily Register'!JM$3:JM$242)=TRUE,\"P\",\"A\")","v":"A"},{"$f":"IF(Attendance($C34,'Daily Register'!JN$3:JN$242)=TRUE,\"P\",\"A\")","v":"A"},{"$f":"IF(Attendance($C34,'Daily Register'!JO$3:JO$242)=TRUE,\"P\",\"A\")","v":"A"},{"$f":"IF(Attendance($C34,'Daily Register'!JP$3:JP$242)=TRUE,\"P\",\"A\")","v":"A"},{"$f":"IF(Attendance($C34,'Daily Register'!JQ$3:JQ$242)=TRUE,\"P\",\"A\")","v":"A"},{"$f":"IF(Attendance($C34,'Daily Register'!JR$3:JR$242)=TRUE,\"P\",\"A\")","v":"A"},{"$f":"IF(Attendance($C34,'Daily Register'!JS$3:JS$242)=TRUE,\"P\",\"A\")","v":"A"},{"$f":"IF(Attendance($C34,'Daily Register'!JT$3:JT$242)=TRUE,\"P\",\"A\")","v":"A"},{"$f":"IF(Attendance($C34,'Daily Register'!JU$3:JU$242)=TRUE,\"P\",\"A\")","v":"A"},{"$f":"IF(Attendance($C34,'Daily Register'!JV$3:JV$242)=TRUE,\"P\",\"A\")","v":"A"},{"$f":"IF(Attendance($C34,'Daily Register'!JW$3:JW$242)=TRUE,\"P\",\"A\")","v":"A"},{"$f":"IF(Attendance($C34,'Daily Register'!JX$3:JX$242)=TRUE,\"P\",\"A\")","v":"A"},{"$f":"IF(Attendance($C34,'Daily Register'!JY$3:JY$242)=TRUE,\"P\",\"A\")","v":"A"},{"$f":"IF(Attendance($C34,'Daily Register'!JZ$3:JZ$242)=TRUE,\"P\",\"A\")","v":"A"},{"$f":"IF(Attendance($C34,'Daily Register'!KA$3:KA$242)=TRUE,\"P\",\"A\")","v":"A"},{"$f":"IF(Attendance($C34,'Daily Register'!KB$3:KB$242)=TRUE,\"P\",\"A\")","v":"A"},{"$f":"IF(Attendance($C34,'Daily Register'!KC$3:KC$242)=TRUE,\"P\",\"A\")","v":"A"},{"$f":"IF(Attendance($C34,'Daily Register'!KD$3:KD$242)=TRUE,\"P\",\"A\")","v":"A"},{"$f":"IF(Attendance($C34,'Daily Register'!KE$3:KE$242)=TRUE,\"P\",\"A\")","v":"A"},{"$f":"IF(Attendance($C34,'Daily Register'!KF$3:KF$242)=TRUE,\"P\",\"A\")","v":"A"},{"$f":"IF(Attendance($C34,'Daily Register'!KG$3:KG$242)=TRUE,\"P\",\"A\")","v":"A"},{"$f":"IF(Attendance($C34,'Daily Register'!KH$3:KH$242)=TRUE,\"P\",\"A\")","v":"A"},{"$f":"IF(Attendance($C34,'Daily Register'!KI$3:KI$242)=TRUE,\"P\",\"A\")","v":"A"},{"$f":"IF(Attendance($C34,'Daily Register'!KJ$3:KJ$242)=TRUE,\"P\",\"A\")","v":"A"},{"$f":"IF(Attendance($C34,'Daily Register'!KK$3:KK$242)=TRUE,\"P\",\"A\")","v":"A"},{"$f":"IF(Attendance($C34,'Daily Register'!KL$3:KL$242)=TRUE,\"P\",\"A\")","v":"A"},{"$f":"IF(Attendance($C34,'Daily Register'!KM$3:KM$242)=TRUE,\"P\",\"A\")","v":"A"},{"$f":"IF(Attendance($C34,'Daily Register'!KN$3:KN$242)=TRUE,\"P\",\"A\")","v":"A"},{"$f":"IF(Attendance($C34,'Daily Register'!KO$3:KO$242)=TRUE,\"P\",\"A\")","v":"A"},{"$f":"IF(Attendance($C34,'Daily Register'!KP$3:KP$242)=TRUE,\"P\",\"A\")","v":"A"},{"$f":"IF(Attendance($C34,'Daily Register'!KQ$3:KQ$242)=TRUE,\"P\",\"A\")","v":"A"},{"$f":"IF(Attendance($C34,'Daily Register'!KR$3:KR$242)=TRUE,\"P\",\"A\")","v":"A"},{"$f":"IF(Attendance($C34,'Daily Register'!KS$3:KS$242)=TRUE,\"P\",\"A\")","v":"A"},{"$f":"IF(Attendance($C34,'Daily Register'!KT$3:KT$242)=TRUE,\"P\",\"A\")","v":"A"},{"$f":"IF(Attendance($C34,'Daily Register'!KU$3:KU$242)=TRUE,\"P\",\"A\")","v":"A"},{"$f":"IF(Attendance($C34,'Daily Register'!KV$3:KV$242)=TRUE,\"P\",\"A\")","v":"A"},{"$f":"IF(Attendance($C34,'Daily Register'!KW$3:KW$242)=TRUE,\"P\",\"A\")","v":"A"},{"$f":"IF(Attendance($C34,'Daily Register'!KX$3:KX$242)=TRUE,\"P\",\"A\")","v":"A"},{"$f":"IF(Attendance($C34,'Daily Register'!KY$3:KY$242)=TRUE,\"P\",\"A\")","v":"A"},{"$f":"IF(Attendance($C34,'Daily Register'!KZ$3:KZ$242)=TRUE,\"P\",\"A\")","v":"A"},{"$f":"IF(Attendance($C34,'Daily Register'!LA$3:LA$242)=TRUE,\"P\",\"A\")","v":"A"},{"$f":"IF(Attendance($C34,'Daily Register'!LB$3:LB$242)=TRUE,\"P\",\"A\")","v":"A"},{"$f":"IF(Attendance($C34,'Daily Register'!LC$3:LC$242)=TRUE,\"P\",\"A\")","v":"A"},{"$f":"IF(Attendance($C34,'Daily Register'!LD$3:LD$242)=TRUE,\"P\",\"A\")","v":"A"},{"$f":"IF(Attendance($C34,'Daily Register'!LE$3:LE$242)=TRUE,\"P\",\"A\")","v":"A"},{"$f":"IF(Attendance($C34,'Daily Register'!LF$3:LF$242)=TRUE,\"P\",\"A\")","v":"A"},{"$f":"IF(Attendance($C34,'Daily Register'!LG$3:LG$242)=TRUE,\"P\",\"A\")","v":"A"},{"$f":"IF(Attendance($C34,'Daily Register'!LH$3:LH$242)=TRUE,\"P\",\"A\")","v":"A"},{"$f":"IF(Attendance($C34,'Daily Register'!LI$3:LI$242)=TRUE,\"P\",\"A\")","v":"A"},{"$f":"IF(Attendance($C34,'Daily Register'!LJ$3:LJ$242)=TRUE,\"P\",\"A\")","v":"A"},{"$f":"IF(Attendance($C34,'Daily Register'!LK$3:LK$242)=TRUE,\"P\",\"A\")","v":"A"},{"$f":"IF(Attendance($C34,'Daily Register'!LL$3:LL$242)=TRUE,\"P\",\"A\")","v":"A"},{"$f":"IF(Attendance($C34,'Daily Register'!LM$3:LM$242)=TRUE,\"P\",\"A\")","v":"A"},{"$f":"IF(Attendance($C34,'Daily Register'!LN$3:LN$242)=TRUE,\"P\",\"A\")","v":"A"},{"$f":"IF(Attendance($C34,'Daily Register'!LO$3:LO$242)=TRUE,\"P\",\"A\")","v":"A"},{"$f":"IF(Attendance($C34,'Daily Register'!LP$3:LP$242)=TRUE,\"P\",\"A\")","v":"A"},{"$f":"IF(Attendance($C34,'Daily Register'!LQ$3:LQ$242)=TRUE,\"P\",\"A\")","v":"A"},{"$f":"IF(Attendance($C34,'Daily Register'!LR$3:LR$242)=TRUE,\"P\",\"A\")","v":"A"},{"$f":"IF(Attendance($C34,'Daily Register'!LS$3:LS$242)=TRUE,\"P\",\"A\")","v":"A"},{"$f":"IF(Attendance($C34,'Daily Register'!LT$3:LT$242)=TRUE,\"P\",\"A\")","v":"A"},{"$f":"IF(Attendance($C34,'Daily Register'!LU$3:LU$242)=TRUE,\"P\",\"A\")","v":"A"},{"$f":"IF(Attendance($C34,'Daily Register'!LV$3:LV$242)=TRUE,\"P\",\"A\")","v":"A"},{"$f":"IF(Attendance($C34,'Daily Register'!LW$3:LW$242)=TRUE,\"P\",\"A\")","v":"A"},{"$f":"IF(Attendance($C34,'Daily Register'!LX$3:LX$242)=TRUE,\"P\",\"A\")","v":"A"},{"$f":"IF(Attendance($C34,'Daily Register'!LY$3:LY$242)=TRUE,\"P\",\"A\")","v":"A"},{"$f":"IF(Attendance($C34,'Daily Register'!LZ$3:LZ$242)=TRUE,\"P\",\"A\")","v":"A"},{"$f":"IF(Attendance($C34,'Daily Register'!MA$3:MA$242)=TRUE,\"P\",\"A\")","v":"A"},{"$f":"IF(Attendance($C34,'Daily Register'!MB$3:MB$242)=TRUE,\"P\",\"A\")","v":"A"},{"$f":"IF(Attendance($C34,'Daily Register'!MC$3:MC$242)=TRUE,\"P\",\"A\")","v":"A"},{"$f":"IF(Attendance($C34,'Daily Register'!MD$3:MD$242)=TRUE,\"P\",\"A\")","v":"A"},{"$f":"IF(Attendance($C34,'Daily Register'!ME$3:ME$242)=TRUE,\"P\",\"A\")","v":"A"},{"$f":"IF(Attendance($C34,'Daily Register'!MF$3:MF$242)=TRUE,\"P\",\"A\")","v":"A"},{"$f":"IF(Attendance($C34,'Daily Register'!MG$3:MG$242)=TRUE,\"P\",\"A\")","v":"A"},{"$f":"IF(Attendance($C34,'Daily Register'!MH$3:MH$242)=TRUE,\"P\",\"A\")","v":"A"},{"$f":"IF(Attendance($C34,'Daily Register'!MI$3:MI$242)=TRUE,\"P\",\"A\")","v":"A"},{"$f":"IF(Attendance($C34,'Daily Register'!MJ$3:MJ$242)=TRUE,\"P\",\"A\")","v":"A"},{"$f":"IF(Attendance($C34,'Daily Register'!MK$3:MK$242)=TRUE,\"P\",\"A\")","v":"A"},{"$f":"IF(Attendance($C34,'Daily Register'!ML$3:ML$242)=TRUE,\"P\",\"A\")","v":"A"},{"$f":"IF(Attendance($C34,'Daily Register'!MM$3:MM$242)=TRUE,\"P\",\"A\")","v":"A"},{"$f":"IF(Attendance($C34,'Daily Register'!MN$3:MN$242)=TRUE,\"P\",\"A\")","v":"A"},{"$f":"IF(Attendance($C34,'Daily Register'!MO$3:MO$242)=TRUE,\"P\",\"A\")","v":"A"},{"$f":"IF(Attendance($C34,'Daily Register'!MP$3:MP$242)=TRUE,\"P\",\"A\")","v":"A"},{"$f":"IF(Attendance($C34,'Daily Register'!MQ$3:MQ$242)=TRUE,\"P\",\"A\")","v":"A"},{"$f":"IF(Attendance($C34,'Daily Register'!MR$3:MR$242)=TRUE,\"P\",\"A\")","v":"A"},{"$f":"IF(Attendance($C34,'Daily Register'!MS$3:MS$242)=TRUE,\"P\",\"A\")","v":"A"},{"$f":"IF(Attendance($C34,'Daily Register'!MT$3:MT$242)=TRUE,\"P\",\"A\")","v":"A"},{"$f":"IF(Attendance($C34,'Daily Register'!MU$3:MU$242)=TRUE,\"P\",\"A\")","v":"A"},{"$f":"IF(Attendance($C34,'Daily Register'!MV$3:MV$242)=TRUE,\"P\",\"A\")","v":"A"},{"$f":"IF(Attendance($C34,'Daily Register'!MW$3:MW$242)=TRUE,\"P\",\"A\")","v":"A"},{"$f":"IF(Attendance($C34,'Daily Register'!MX$3:MX$242)=TRUE,\"P\",\"A\")","v":"A"},{"$f":"IF(Attendance($C34,'Daily Register'!MY$3:MY$242)=TRUE,\"P\",\"A\")","v":"A"},{"$f":"IF(Attendance($C34,'Daily Register'!MZ$3:MZ$242)=TRUE,\"P\",\"A\")","v":"A"},{"$f":"IF(Attendance($C34,'Daily Register'!NA$3:NA$242)=TRUE,\"P\",\"A\")","v":"A"},{"$f":"IF(Attendance($C34,'Daily Register'!NB$3:NB$242)=TRUE,\"P\",\"A\")","v":"A"}]
[0,null,32,null,{"$f":"IF(Attendance($C35,'Daily Register'!A$3:A$242)=TRUE,\"P\",\"A\")","v":"A"},{"$f":"IF(Attendance($C35,'Daily Register'!B$3:B$242)=TRUE,\"P\",\"A\")","v":"A"},{"$f":"IF(Attendance($C35,'Daily Register'!C$3:C$242)=TRUE,\"P\",\"A\")","v":"A"},{"$f":"IF(Attendance($C35,'Daily Register'!D$3:D$242)=TRUE,\"P\",\"A\")","v":"A"},{"$f":"IF(Attendance($C35,'Daily Register'!E$3:E$242)=TRUE,\"P\",\"A\")","v":"A"},{"$f":"IF(Attendance($C35,'Daily Register'!F$3:F$242)=TRUE,\"P\",\"A\")","v":"A"},{"$f":"IF(Attendance($C35,'Daily Register'!G$3:G$242)=TRUE,\"P\",\"A\")","v":"A"},{"$f":"IF(Attendance($C35,'Daily Register'!H$3:H$242)=TRUE,\"P\",\"A\")","v":"A"},{"$f":"IF(Attendance($C35,'Daily Register'!I$3:I$242)=TRUE,\"P\",\"A\")","v":"A"},{"$f":"IF(Attendance($C35,'Daily Register'!J$3:J$242)=TRUE,\"P\",\"A\")","v":"A"},{"$f":"IF(Attendance($C35,'Daily Register'!K$3:K$242)=TRUE,\"P\",\"A\")","v":"A"},{"$f":"IF(Attendance($C35,'Daily Register'!L$3:L$242)=TRUE,\"P\",\"A\")","v":"A"},{"$f":"IF(Attendance($C35,'Daily Register'!M$3:M$242)=TRUE,\"P\",\"A\")","v":"A"},{"$f":"IF(Attendance($C35,'Daily Register'!N$3:N$242)=TRUE,\"P\",\"A\")","v":"A"},{"$f":"IF(Attendance($C35,'Daily Register'!O$3:O$242)=TRUE,\"P\",\"A\")","v":"A"},{"$f":"IF(Attendance($C35,'Daily Register'!P$3:P$242)=TRUE,\"P\",\"A\")","v":"A"},{"$f":"IF(Attendance($C35,'Daily Register'!Q$3:Q$242)=TRUE,\"P\",\"A\")","v":"A"},{"$f":"IF(Attendance($C35,'Daily Register'!R$3:R$242)=TRUE,\"P\",\"A\")","v":"A"},{"$f":"IF(Attendance($C35,'Daily Register'!S$3:S$242)=TRUE,\"P\",\"A\")","v":"A"},{"$f":"IF(Attendance($C35,'Daily Register'!T$3:T$242)=TRUE,\"P\",\"A\")","v":"A"},{"$f":"IF(Attendance($C35,'Daily Register'!U$3:U$242)=TRUE,\"P\",\"A\")","v":"A"},{"$f":"IF(Attendance($C35,'Daily Register'!V$3:V$242)=TRUE,\"P\",\"A\")","v":"A"},{"$f":"IF(Attendance($C35,'Daily Register'!W$3:W$242)=TRUE,\"P\",\"A\")","v":"A"},{"$f":"IF(Attendance($C35,'Daily Register'!X$3:X$242)=TRUE,\"P\",\"A\")","v":"A"},{"$f":"IF(Attendance($C35,'Daily Register'!Y$3:Y$242)=TRUE,\"P\",\"A\")","v":"A"},{"$f":"IF(Attendance($C35,'Daily Register'!Z$3:Z$242)=TRUE,\"P\",\"A\")","v":"A"},{"$f":"IF(Attendance($C35,'Daily Register'!AA$3:AA$242)=TRUE,\"P\",\"A\")","v":"A"},{"$f":"IF(Attendance($C35,'Daily Register'!AB$3:AB$242)=TRUE,\"P\",\"A\")","v":"A"},{"$f":"IF(Attendance($C35,'Daily Register'!AC$3:AC$242)=TRUE,\"P\",\"A\")","v":"A"},{"$f":"IF(Attendance($C35,'Daily Register'!AD$3:AD$242)=TRUE,\"P\",\"A\")","v":"A"},{"$f":"IF(Attendance($C35,'Daily Register'!AE$3:AE$242)=TRUE,\"P\",\"A\")","v":"A"},{"$f":"IF(Attendance($C35,'Daily Register'!AF$3:AF$242)=TRUE,\"P\",\"A\")","v":"A"},{"$f":"IF(Attendance($C35,'Daily Register'!AG$3:AG$242)=TRUE,\"P\",\"A\")","v":"A"},{"$f":"IF(Attendance($C35,'Daily Register'!AH$3:AH$242)=TRUE,\"P\",\"A\")","v":"A"},{"$f":"IF(Attendance($C35,'Daily Register'!AI$3:AI$242)=TRUE,\"P\",\"A\")","v":"A"},{"$f":"IF(Attendance($C35,'Daily Register'!AJ$3:AJ$242)=TRUE,\"P\",\"A\")","v":"A"},{"$f":"IF(Attendance($C35,'Daily Register'!AK$3:AK$242)=TRUE,\"P\",\"A\")","v":"A"},{"$f":"IF(Attendance($C35,'Daily Register'!AL$3:AL$242)=TRUE,\"P\",\"A\")","v":"A"},{"$f":"IF(Attendance($C35,'Daily Register'!AM$3:AM$242)=TRUE,\"P\",\"A\")","v":"A"},{"$f":"IF(Attendance($C35,'Daily Register'!AN$3:AN$242)=TRUE,\"P\",\"A\")","v":"A"},{"$f":"IF(Attendance($C35,'Daily Register'!AO$3:AO$242)=TRUE,\"P\",\"A\")","v":"A"},{"$f":"IF(Attendance($C35,'Daily Register'!AP$3:AP$242)=TRUE,\"P\",\"A\")","v":"A"},{"$f":"IF(Attendance($C35,'Daily Register'!AQ$3:AQ$242)=TRUE,\"P\",\"A\")","v":"A"},{"$f":"IF(Attendance($C35,'Daily Register'!AR$3:AR$242)=TRUE,\"P\",\"A\")","v":"A"},{"$f":"IF(Attendance($C35,'Daily Register'!AS$3:AS$242)=TRUE,\"P\",\"A\")","v":"A"},{"$f":"IF(Attendance($C35,'Daily Register'!AT$3:AT$242)=TRUE,\"P\",\"A\")","v":"A"},{"$f":"IF(Attendance($C35,'Daily Register'!AU$3:AU$242)=TRUE,\"P\",\"A\")","v":"A"},{"$f":"IF(Attendance($C35,'Daily Register'!AV$3:AV$242)=TRUE,\"P\",\"A\")","v":"A"},{"$f":"IF(Attendance($C35,'Daily Register'!AW$3:AW$242)=TRUE,\"P\",\"A\")","v":"A"},{"$f":"IF(Attendance($C35,'Daily Register'!AX$3:AX$242)=TRUE,\"P\",\"A\")","v":"A"},{"$f":"IF(Attendance($C35,'Daily Register'!AY$3:AY$242)=TRUE,\"P\",\"A\")","v":"A"},{"$f":"IF(Attendance($C35,'Daily Register'!AZ$3:AZ$242)=TRUE,\"P\",\"A\")","v":"A"},{"$f":"IF(Attendance($C35,'Daily Register'!BA$3:BA$242)=TRUE,\"P\",\"A\")","v":"A"},{"$f":"IF(Attendance($C35,'Daily Register'!BB$3:BB$242)=TRUE,\"P\",\"A\")","v":"A"},{"$f":"IF(Attendance($C35,'Daily Register'!BC$3:BC$242)=TRUE,\"P\",\"A\")","v":"A"},{"$f":"IF(Attendance($C35,'Daily Register'!BD$3:BD$242)=TRUE,\"P\",\"A\")","v":"A"},{"$f":"IF(Attendance($C35,'Daily Register'!BE$3:BE$242)=TRUE,\"P\",\"A\")","v":"A"},{"$f":"IF(Attendance($C35,'Daily Register'!BF$3:BF$242)=TRUE,\"P\",\"A\")","v":"A"},{"$f":"IF(Attendance($C35,'Daily Register'!BG$3:BG$242)=TRUE,\"P\",\"A\")","v":"A"},{"$f":"IF(Attendance($C35,'Daily Register'!BH$3:BH$242)=TRUE,\"P\",\"A\")","v":"A"},{"$f":"IF(Attendance($C35,'Daily Register'!BI$3:BI$242)=TRUE,\"P\",\"A\")","v":"A"},{"$f":"IF(Attendance($C35,'Daily Register'!BJ$3:BJ$242)=TRUE,\"P\",\"A\")","v":"A"},{"$f":"IF(Attendance($C35,'Daily Register'!BK$3:BK$242)=TRUE,\"P\",\"A\")","v":"A"},{"$f":"IF(Attendance($C35,'Daily Register'!BL$3:BL$242)=TRUE,\"P\",\"A\")","v":"A"},{"$f":"IF(Attendance($C35,'Daily Register'!BM$3:BM$242)=TRUE,\"P\",\"A\")","v":"A"},{"$f":"IF(Attendance($C35,'Daily Register'!BN$3:BN$242)=TRUE,\"P\",\"A\")","v":"A"},{"$f":"IF(Attendance($C35,'Daily Register'!BO$3:BO$242)=TRUE,\"P\",\"A\")","v":"A"},{"$f":"IF(Attendance($C35,'Daily Register'!BP$3:BP$242)=TRUE,\"P\",\"A\")","v":"A"},{"$f":"IF(Attendance($C35,'Daily Register'!BQ$3:BQ$242)=TRUE,\"P\",\"A\")","v":"A"},{"$f":"IF(Attendance($C35,'Daily Register'!BR$3:BR$242)=TRUE,\"P\",\"A\")","v":"A"},{"$f":"IF(Attendance($C35,'Daily Register'!BS$3:BS$242)=TRUE,\"P\",\"A\")","v":"A"},{"$f":"IF(Attendance($C35,'Daily Register'!BT$3:BT$242)=TRUE,\"P\",\"A\")","v":"A"},{"$f":"IF(Attendance($C35,'Daily Register'!BU$3:BU$242)=TRUE,\"P\",\"A\")","v":"A"},{"$f":"IF(Attendance($C35,'Daily Register'!BV$3:BV$242)=TRUE,\"P\",\"A\")","v":"A"},{"$f":"IF(Attendance($C35,'Daily Register'!BW$3:BW$242)=TRUE,\"P\",\"A\")","v":"A"},{"$f":"IF(Attendance($C35,'Daily Register'!BX$3:BX$242)=TRUE,\"P\",\"A\")","v":"A"},{"$f":"IF(Attendance($C35,'Daily Register'!BY$3:BY$242)=TRUE,\"P\",\"A\")","v":"A"},{"$f":"IF(Attendance($C35,'Daily Register'!BZ$3:BZ$242)=TRUE,\"P\",\"A\")","v":"A"},{"$f":"IF(Attendance($C35,'Daily Register'!CA$3:CA$242)=TRUE,\"P\",\"A\")","v":"A"},{"$f":"IF(Attendance($C35,'Daily Register'!CB$3:CB$242)=TRUE,\"P\",\"A\")","v":"A"},{"$f":"IF(Attendance($C35,'Daily Register'!CC$3:CC$242)=TRUE,\"P\",\"A\")","v":"A"},{"$f":"IF(Attendance($C35,'Daily Register'!CD$3:CD$242)=TRUE,\"P\",\"A\")","v":"A"},{"$f":"IF(Attendance($C35,'Daily Register'!CE$3:CE$242)=TRUE,\"P\",\"A\")","v":"A"},{"$f":"IF(Attendance($C35,'Daily Register'!CF$3:CF$242)=TRUE,\"P\",\"A\")","v":"A"},{"$f":"IF(Attendance($C35,'Daily Register'!CG$3:CG$242)=TRUE,\"P\",\"A\")","v":"A"},{"$f":"IF(Attendance($C35,'Daily Register'!CH$3:CH$242)=TRUE,\"P\",\"A\")","v":"A"},{"$f":"IF(Attendance($C35,'Daily Register'!CI$3:CI$242)=TRUE,\"P\",\"A\")","v":"A"},{"$f":"IF(Attendance($C35,'Daily Register'!CJ$3:CJ$242)=TRUE,\"P\",\"A\")","v":"A"},{"$f":"IF(Attendance($C35,'Daily Register'!CK$3:CK$242)=TRUE,\"P\",\"A\")","v":"A"},{"$f":"IF(Attendance($C35,'Daily Register'!CL$3:CL$242)=TRUE,\"P\",\"A\")","v":"A"},{"$f":"IF(Attendance($C35,'Daily Register'!CM$3:CM$242)=TRUE,\"P\",\"A\")","v":"A"},{"$f":"IF(Attendance($C35,'Daily Register'!CN$3:CN$242)=TRUE,\"P\",\"A\")","v":"A"},{"$f":"IF(Attendance($C35,'Daily Register'!CO$3:CO$242)=TRUE,\"P\",\"A\")","v":"A"},{"$f":"IF(Attendance($C35,'Daily Register'!CP$3:CP$242)=TRUE,\"P\",\"A\")","v":"A"},{"$f":"IF(Attendance($C35,'Daily Register'!CQ$3:CQ$242)=TRUE,\"P\",\"A\")","v":"A"},{"$f":"IF(Attendance($C35,'Daily Register'!CR$3:CR$242)=TRUE,\"P\",\"A\")","v":"A"},{"$f":"IF(Attendance($C35,'Daily Register'!CS$3:CS$242)=TRUE,\"P\",\"A\")","v":"A"},{"$f":"IF(Attendance($C35,'Daily Register'!CT$3:CT$242)=TRUE,\"P\",\"A\")","v":"A"},{"$f":"IF(Attendance($C35,'Daily Register'!CU$3:CU$242)=TRUE,\"P\",\"A\")","v":"A"},{"$f":"IF(Attendance($C35,'Daily Register'!CV$3:CV$242)=TRUE,\"P\",\"A\")","v":"A"},{"$f":"IF(Attendance($C35,'Daily Register'!CW$3:CW$242)=TRUE,\"P\",\"A\")","v":"A"},{"$f":"IF(Attendance($C35,'Daily Register'!CX$3:CX$242)=TRUE,\"P\",\"A\")","v":"A"},{"$f":"IF(Attendance($C35,'Daily Register'!CY$3:CY$242)=TRUE,\"P\",\"A\")","v":"A"},{"$f":"IF(Attendance($C35,'Daily Register'!CZ$3:CZ$242)=TRUE,\"P\",\"A\")","v":"A"},{"$f":"IF(Attendance($C35,'Daily Register'!DA$3:DA$242)=TRUE,\"P\",\"A\")","v":"A"},{"$f":"IF(Attendance($C35,'Daily Register'!DB$3:DB$242)=TRUE,\"P\",\"A\")","v":"A"},{"$f":"IF(Attendance($C35,'Daily Register'!DC$3:DC$242)=TRUE,\"P\",\"A\")","v":"A"},{"$f":"IF(Attendance($C35,'Daily Register'!DD$3:DD$242)=TRUE,\"P\",\"A\")","v":"A"},{"$f":"IF(Attendance($C35,'Daily Register'!DE$3:DE$242)=TRUE,\"P\",\"A\")","v":"A"},{"$f":"IF(Attendance($C35,'Daily Register'!DF$3:DF$242)=TRUE,\"P\",\"A\")","v":"A"},{"$f":"IF(Attendance($C35,'Daily Register'!DG$3:DG$242)=TRUE,\"P\",\"A\")","v":"A"},{"$f":"IF(Attendance($C35,'Daily Register'!DH$3:DH$242)=TRUE,\"P\",\"A\")","v":"A"},{"$f":"IF(Attendance($C35,'Daily Register'!DI$3:DI$242)=TRUE,\"P\",\"A\")","v":"A"},{"$f":"IF(Attendance($C35,'Daily Register'!DJ$3:DJ$242)=TRUE,\"P\",\"A\")","v":"A"},{"$f":"IF(Attendance($C35,'Daily Register'!DK$3:DK$242)=TRUE,\"P\",\"A\")","v":"A"},{"$f":"IF(Attendance($C35,'Daily Register'!DL$3:DL$242)=TRUE,\"P\",\"A\")","v":"A"},{"$f":"IF(Attendance($C35,'Daily Register'!DM$3:DM$242)=TRUE,\"P\",\"A\")","v":"A"},{"$f":"IF(Attendance($C35,'Daily Register'!DN$3:DN$242)=TRUE,\"P\",\"A\")","v":"A"},{"$f":"IF(Attendance($C35,'Daily Register'!DO$3:DO$242)=TRUE,\"P\",\"A\")","v":"A"},{"$f":"IF(Attendance($C35,'Daily Register'!DP$3:DP$242)=TRUE,\"P\",\"A\")","v":"A"},{"$f":"IF(Attendance($C35,'Daily Register'!DQ$3:DQ$242)=TRUE,\"P\",\"A\")","v":"A"},{"$f":"IF(Attendance($C35,'Daily Register'!DR$3:DR$242)=TRUE,\"P\",\"A\")","v":"A"},{"$f":"IF(Attendance($C35,'Daily Register'!DS$3:DS$242)=TRUE,\"P\",\"A\")","v":"A"},{"$f":"IF(Attendance($C35,'Daily Register'!DT$3:DT$242)=TRUE,\"P\",\"A\")","v":"A"},{"$f":"IF(Attendance($C35,'Daily Register'!DU$3:DU$242)=TRUE,\"P\",\"A\")","v":"A"},{"$f":"IF(Attendance($C35,'Daily Register'!DV$3:DV$242)=TRUE,\"P\",\"A\")","v":"A"},{"$f":"IF(Attendance($C35,'Daily Register'!DW$3:DW$242)=TRUE,\"P\",\"A\")","v":"A"},{"$f":"IF(Attendance($C35,'Daily Register'!DX$3:DX$242)=TRUE,\"P\",\"A\")","v":"A"},{"$f":"IF(Attendance($C35,'Daily Register'!DY$3:DY$242)=TRUE,\"P\",\"A\")","v":"A"},{"$f":"IF(Attendance($C35,'Daily Register'!DZ$3:DZ$242)=TRUE,\"P\",\"A\")","v":"A"},{"$f":"IF(Attendance($C35,'Daily Register'!EA$3:EA$242)=TRUE,\"P\",\"A\")","v":"A"},{"$f":"IF(Attendance($C35,'Daily Register'!EB$3:EB$242)=TRUE,\"P\",\"A\")","v":"A"},{"$f":"IF(Attendance($C35,'Daily Register'!EC$3:EC$242)=TRUE,\"P\",\"A\")","v":"A"},{"$f":"IF(Attendance($C35,'Daily Register'!ED$3:ED$242)=TRUE,\"P\",\"A\")","v":"A"},{"$f":"IF(Attendance($C35,'Daily Register'!EE$3:EE$242)=TRUE,\"P\",\"A\")","v":"A"},{"$f":"IF(Attendance($C35,'Daily Register'!EF$3:EF$242)=TRUE,\"P\",\"A\")","v":"A"},{"$f":"IF(Attendance($C35,'Daily Register'!EG$3:EG$242)=TRUE,\"P\",\"A\")","v":"A"},{"$f":"IF(Attendance($C35,'Daily Register'!EH$3:EH$242)=TRUE,\"P\",\"A\")","v":"A"},{"$f":"IF(Attendance($C35,'Daily Register'!EI$3:EI$242)=TRUE,\"P\",\"A\")","v":"A"},{"$f":"IF(Attendance($C35,'Daily Register'!EJ$3:EJ$242)=TRUE,\"P\",\"A\")","v":"A"},{"$f":"IF(Attendance($C35,'Daily Register'!EK$3:EK$242)=TRUE,\"P\",\"A\")","v":"A"},{"$f":"IF(Attendance($C35,'Daily Register'!EL$3:EL$242)=TRUE,\"P\",\"A\")","v":"A"},{"$f":"IF(Attendance($C35,'Daily Register'!EM$22:EM$242)=TRUE,\"P\",\"A\")","v":"A"},{"$f":"IF(Attendance($C35,'Daily Register'!EN$3:EN$242)=TRUE,\"P\",\"A\")","v":"A"},{"$f":"IF(Attendance($C35,'Daily Register'!EO$3:EO$242)=TRUE,\"P\",\"A\")","v":"A"},{"$f":"IF(Attendance($C35,'Daily Register'!EP$3:EP$242)=TRUE,\"P\",\"A\")","v":"A"},{"$f":"IF(Attendance($C35,'Daily Register'!EQ$3:EQ$242)=TRUE,\"P\",\"A\")","v":"A"},{"$f":"IF(Attendance($C35,'Daily Register'!ER$3:ER$242)=TRUE,\"P\",\"A\")","v":"A"},{"$f":"IF(Attendance($C35,'Daily Register'!ES$3:ES$242)=TRUE,\"P\",\"A\")","v":"A"},{"$f":"IF(Attendance($C35,'Daily Register'!ET$3:ET$242)=TRUE,\"P\",\"A\")","v":"A"},{"$f":"IF(Attendance($C35,'Daily Register'!EU$3:EU$242)=TRUE,\"P\",\"A\")","v":"A"},{"$f":"IF(Attendance($C35,'Daily Register'!EV$3:EV$242)=TRUE,\"P\",\"A\")","v":"A"},{"$f":"IF(Attendance($C35,'Daily Register'!EW$3:EW$242)=TRUE,\"P\",\"A\")","v":"A"},{"$f":"IF(Attendance($C35,'Daily Register'!EX$3:EX$242)=TRUE,\"P\",\"A\")","v":"A"},{"$f":"IF(Attendance($C35,'Daily Register'!EY$3:EY$242)=TRUE,\"P\",\"A\")","v":"A"},{"$f":"IF(Attendance($C35,'Daily Register'!EZ$3:EZ$242)=TRUE,\"P\",\"A\")","v":"A"},{"$f":"IF(Attendance($C35,'Daily Register'!FA$3:FA$242)=TRUE,\"P\",\"A\")","v":"A"},{"$f":"IF(Attendance($C35,'Daily Register'!FB$3:FB$242)=TRUE,\"P\",\"A\")","v":"A"},{"$f":"IF(Attendance($C35,'Daily Register'!FC$3:FC$242)=TRUE,\"P\",\"A\")","v":"A"},{"$f":"IF(Attendance($C35,'Daily Register'!FD$3:FD$242)=TRUE,\"P\",\"A\")","v":"A"},{"$f":"IF(Attendance($C35,'Daily Register'!FE$3:FE$242)=TRUE,\"P\",\"A\")","v":"A"},{"$f":"IF(Attendance($C35,'Daily Register'!FF$3:FF$242)=TRUE,\"P\",\"A\")","v":"A"},{"$f":"IF(Attendance($C35,'Daily Register'!FG$3:FG$242)=TRUE,\"P\",\"A\")","v":"A"},{"$f":"IF(Attendance($C35,'Daily Register'!FH$3:FH$242)=TRUE,\"P\",\"A\")","v":"A"},{"$f":"IF(Attendance($C35,'Daily Register'!FI$3:FI$242)=TRUE,\"P\",\"A\")","v":"A"},{"$f":"IF(Attendance($C35,'Daily Register'!FJ$3:FJ$242)=TRUE,\"P\",\"A\")","v":"A"},{"$f":"IF(Attendance($C35,'Daily Register'!FK$3:FK$242)=TRUE,\"P\",\"A\")","v":"A"},{"$f":"IF(Attendance($C35,'Daily Register'!FL$3:FL$242)=TRUE,\"P\",\"A\")","v":"A"},{"$f":"IF(Attendance($C35,'Daily Register'!FM$3:FM$242)=TRUE,\"P\",\"A\")","v":"A"},{"$f":"IF(Attendance($C35,'Daily Register'!FN$3:FN$242)=TRUE,\"P\",\"A\")","v":"A"},{"$f":"IF(Attendance($C35,'Daily Register'!FO$3:FO$242)=TRUE,\"P\",\"A\")","v":"A"},{"$f":"IF(Attendance($C35,'Daily Register'!FP$3:FP$242)=TRUE,\"P\",\"A\")","v":"A"},{"$f":"IF(Attendance($C35,'Daily Register'!FQ$3:FQ$242)=TRUE,\"P\",\"A\")","v":"A"},{"$f":"IF(Attendance($C35,'Daily Register'!FR$3:FR$242)=TRUE,\"P\",\"A\")","v":"A"},{"$f":"IF(Attendance($C35,'Daily Register'!FS$3:FS$242)=TRUE,\"P\",\"A\")","v":"A"},{"$f":"IF(Attendance($C35,'Daily Register'!FT$3:FT$242)=TRUE,\"P\",\"A\")","v":"A"},{"$f":"IF(Attendance($C35,'Daily Register'!FU$3:FU$242)=TRUE,\"P\",\"A\")","v":"A"},{"$f":"IF(Attendance($C35,'Daily Register'!FV$3:FV$242)=TRUE,\"P\",\"A\")","v":"A"},{"$f":"IF(Attendance($C35,'Daily Register'!FW$3:FW$242)=TRUE,\"P\",\"A\")","v":"A"},{"$f":"IF(Attendance($C35,'Daily Register'!FX$3:FX$242)=TRUE,\"P\",\"A\")","v":"A"},{"$f":"IF(Attendance($C35,'Daily Register'!FY$3:FY$242)=TRUE,\"P\",\"A\")","v":"A"},{"$f":"IF(Attendance($C35,'Daily Register'!FZ$3:FZ$242)=TRUE,\"P\",\"A\")","v":"A"},{"$f":"IF(Attendance($C35,'Daily Register'!GA$3:GA$242)=TRUE,\"P\",\"A\")","v":"A"},{"$f":"IF(Attendance($C35,'Daily Register'!GB$3:GB$242)=TRUE,\"P\",\"A\")","v":"A"},{"$f":"IF(Attendance($C35,'Daily Register'!GC$3:GC$242)=TRUE,\"P\",\"A\")","v":"A"},{"$f":"IF(Attendance($C35,'Daily Register'!GD$3:GD$242)=TRUE,\"P\",\"A\")","v":"A"},{"$f":"IF(Attendance($C35,'Daily Register'!GE$3:GE$242)=TRUE,\"P\",\"A\")","v":"A"},{"$f":"IF(Attendance($C35,'Daily Register'!GF$3:GF$242)=TRUE,\"P\",\"A\")","v":"A"},{"$f":"IF(Attendance($C35,'Daily Register'!GG$3:GG$242)=TRUE,\"P\",\"A\")","v":"A"},{"$f":"IF(Attendance($C35,'Daily Register'!GH$3:GH$242)=TRUE,\"P\",\"A\")","v":"A"},{"$f":"IF(Attendance($C35,'Daily Register'!GI$3:GI$242)=TRUE,\"P\",\"A\")","v":"A"},{"$f":"IF(Attendance($C35,'Daily Register'!GJ$3:GJ$242)=TRUE,\"P\",\"A\")","v":"A"},{"$f":"IF(Attendance($C35,'Daily Register'!GK$3:GK$242)=TRUE,\"P\",\"A\")","v":"A"},{"$f":"IF(Attendance($C35,'Daily Register'!GL$3:GL$242)=TRUE,\"P\",\"A\")","v":"A"},{"$f":"IF(Attendance($C35,'Daily Register'!GM$3:GM$242)=TRUE,\"P\",\"A\")","v":"A"},{"$f":"IF(Attendance($C35,'Daily Register'!GN$3:GN$242)=TRUE,\"P\",\"A\")","v":"A"},{"$f":"IF(Attendance($C35,'Daily Register'!GO$3:GO$242)=TRUE,\"P\",\"A\")","v":"A"},{"$f":"IF(Attendance($C35,'Daily Register'!GP$3:GP$242)=TRUE,\"P\",\"A\")","v":"A"},{"$f":"IF(Attendance($C35,'Daily Register'!GQ$3:GQ$242)=TRUE,\"P\",\"A\")","v":"A"},{"$f":"IF(Attendance($C35,'Daily Register'!GR$3:GR$242)=TRUE,\"P\",\"A\")","v":"A"},{"$f":"IF(Attendance($C35,'Daily Register'!GS$3:GS$242)=TRUE,\"P\",\"A\")","v":"A"},{"$f":"IF(Attendance($C35,'Daily Register'!GT$3:GT$242)=TRUE,\"P\",\"A\")","v":"A"},{"$f":"IF(Attendance($C35,'Daily Register'!GU$3:GU$242)=TRUE,\"P\",\"A\")","v":"A"},{"$f":"IF(Attendance($C35,'Daily Register'!GV$3:GV$242)=TRUE,\"P\",\"A\")","v":"A"},{"$f":"IF(Attendance($C35,'Daily Register'!GW$3:GW$242)=TRUE,\"P\",\"A\")","v":"A"},{"$f":"IF(Attendance($C35,'Daily Register'!GX$3:GX$242)=TRUE,\"P\",\"A\")","v":"A"},{"$f":"IF(Attendance($C35,'Daily Register'!GY$3:GY$242)=TRUE,\"P\",\"A\")","v":"A"},{"$f":"IF(Attendance($C35,'Daily Register'!GZ$3:GZ$242)=TRUE,\"P\",\"A\")","v":"A"},{"$f":"IF(Attendance($C35,'Daily Register'!HA$3:HA$242)=TRUE,\"P\",\"A\")","v":"A"},{"$f":"IF(Attendance($C35,'Daily Register'!HB$3:HB$242)=TRUE,\"P\",\"A\")","v":"A"},{"$f":"IF(Attendance($C35,'Daily Register'!HC$3:HC$242)=TRUE,\"P\",\"A\")","v":"A"},{"$f":"IF(Attendance($C35,'Daily Register'!HD$3:HD$242)=TRUE,\"P\",\"A\")","v":"A"},{"$f":"IF(Attendance($C35,'Daily Register'!HE$3:HE$242)=TRUE,\"P\",\"A\")","v":"A"},{"$f":"IF(Attendance($C35,'Daily Register'!HF$3:HF$242)=TRUE,\"P\",\"A\")","v":"A"},{"$f":"IF(Attendance($C35,'Daily Register'!HG$3:HG$242)=TRUE,\"P\",\"A\")","v":"A"},{"$f":"IF(Attendance($C35,'Daily Register'!HH$3:HH$242)=TRUE,\"P\",\"A\")","v":"A"},{"$f":"IF(Attendance($C35,'Daily Register'!HI$3:HI$242)=TRUE,\"P\",\"A\")","v":"A"},{"$f":"IF(Attendance($C35,'Daily Register'!HJ$3:HJ$242)=TRUE,\"P\",\"A\")","v":"A"},{"$f":"IF(Attendance($C35,'Daily Register'!HK$3:HK$242)=TRUE,\"P\",\"A\")","v":"A"},{"$f":"IF(Attendance($C35,'Daily Register'!HL$3:HL$242)=TRUE,\"P\",\"A\")","v":"A"},{"$f":"IF(Attendance($C35,'Daily Register'!HM$3:HM$242)=TRUE,\"P\",\"A\")","v":"A"},{"$f":"IF(Attendance($C35,'Daily Register'!HN$3:HN$242)=TRUE,\"P\",\"A\")","v":"A"},{"$f":"IF(Attendance($C35,'Daily Register'!HO$3:HO$242)=TRUE,\"P\",\"A\")","v":"A"},{"$f":"IF(Attendance($C35,'Daily Register'!HP$3:HP$242)=TRUE,\"P\",\"A\")","v":"A"},{"$f":"IF(Attendance($C35,'Daily Register'!HQ$3:HQ$242)=TRUE,\"P\",\"A\")","v":"A"},{"$f":"IF(Attendance($C35,'Daily Register'!HR$3:HR$242)=TRUE,\"P\",\"A\")","v":"A"},{"$f":"IF(Attendance($C35,'Daily Register'!HS$3:HS$242)=TRUE,\"P\",\"A\")","v":"A"},{"$f":"IF(Attendance($C35,'Daily Register'!HT$3:HT$242)=TRUE,\"P\",\"A\")","v":"A"},{"$f":"IF(Attendance($C35,'Daily Register'!HU$3:HU$242)=TRUE,\"P\",\"A\")","v":"A"},{"$f":"IF(Attendance($C35,'Daily Register'!HV$3:HV$242)=TRUE,\"P\",\"A\")","v":"A"},{"$f":"IF(Attendance($C35,'Daily Register'!HW$3:HW$242)=TRUE,\"P\",\"A\")","v":"A"},{"$f":"IF(Attendance($C35,'Daily Register'!HX$3:HX$242)=TRUE,\"P\",\"A\")","v":"A"},{"$f":"IF(Attendance($C35,'Daily Register'!HY$3:HY$242)=TRUE,\"P\",\"A\")","v":"A"},{"$f":"IF(Attendance($C35,'Daily Register'!HZ$3:HZ$242)=TRUE,\"P\",\"A\")","v":"A"},{"$f":"IF(Attendance($C35,'Daily Register'!IA$3:IA$242)=TRUE,\"P\",\"A\")","v":"A"},{"$f":"IF(Attendance($C35,'Daily Register'!IB$3:IB$242)=TRUE,\"P\",\"A\")","v":"A"},{"$f":"IF(Attendance($C35,'Daily Register'!IC$3:IC$242)=TRUE,\"P\",\"A\")","v":"A"},{"$f":"IF(Attendance($C35,'Daily Register'!ID$3:ID$242)=TRUE,\"P\",\"A\")","v":"A"},{"$f":"IF(Attendance($C35,'Daily Register'!IE$3:IE$242)=TRUE,\"P\",\"A\")","v":"A"},{"$f":"IF(Attendance($C35,'Daily Register'!IF$3:IF$242)=TRUE,\"P\",\"A\")","v":"A"},{"$f":"IF(Attendance($C35,'Daily Register'!IG$3:IG$242)=TRUE,\"P\",\"A\")","v":"A"},{"$f":"IF(Attendance($C35,'Daily Register'!IH$3:IH$242)=TRUE,\"P\",\"A\")","v":"A"},{"$f":"IF(Attendance($C35,'Daily Register'!II$3:II$242)=TRUE,\"P\",\"A\")","v":"A"},{"$f":"IF(Attendance($C35,'Daily Register'!IJ$3:IJ$242)=TRUE,\"P\",\"A\")","v":"A"},{"$f":"IF(Attendance($C35,'Daily Register'!IK$3:IK$242)=TRUE,\"P\",\"A\")","v":"A"},{"$f":"IF(Attendance($C35,'Daily Register'!IL$3:IL$242)=TRUE,\"P\",\"A\")","v":"A"},{"$f":"IF(Attendance($C35,'Daily Register'!IM$3:IM$242)=TRUE,\"P\",\"A\")","v":"A"},{"$f":"IF(Attendance($C35,'Daily Register'!IN$3:IN$242)=TRUE,\"P\",\"A\")","v":"A"},{"$f":"IF(Attendance($C35,'Daily Register'!IO$3:IO$242)=TRUE,\"P\",\"A\")","v":"A"},{"$f":"IF(Attendance($C35,'Daily Register'!IP$3:IP$242)=TRUE,\"P\",\"A\")","v":"A"},{"$f":"IF(Attendance($C35,'Daily Register'!IQ$3:IQ$242)=TRUE,\"P\",\"A\")","v":"A"},{"$f":"IF(Attendance($C35,'Daily Register'!IR$3:IR$242)=TRUE,\"P\",\"A\")","v":"A"},{"$f":"IF(Attendance($C35,'Daily Register'!IS$3:IS$242)=TRUE,\"P\",\"A\")","v":"A"},{"$f":"IF(Attendance($C35,'Daily Register'!IT$3:IT$242)=TRUE,\"P\",\"A\")","v":"A"},{"$f":"IF(Attendance($C35,'Daily Register'!IU$3:IU$242)=TRUE,\"P\",\"A\")","v":"A"},{"$f":"IF(Attendance($C35,'Daily Register'!IV$3:IV$242)=TRUE,\"P\",\"A\")","v":"A"},{"$f":"IF(Attendance($C35,'Daily Register'!IW$3:IW$242)=TRUE,\"P\",\"A\")","v":"A"},{"$f":"IF(Attendance($C35,'Daily Register'!IX$3:IX$242)=TRUE,\"P\",\"A\")","v":"A"},{"$f":"IF(Attendance($C35,'Daily Register'!IY$3:IY$242)=TRUE,\"P\",\"A\")","v":"A"},{"$f":"IF(Attendance($C35,'Daily Register'!IZ$3:IZ$242)=TRUE,\"P\",\"A\")","v":"A"},{"$f":"IF(Attendance($C35,'Daily Register'!JA$3:JA$242)=TRUE,\"P\",\"A\")","v":"A"},{"$f":"IF(Attendance($C35,'Daily Register'!JB$3:JB$242)=TRUE,\"P\",\"A\")","v":"A"},{"$f":"IF(Attendance($C35,'Daily Register'!JC$3:JC$242)=TRUE,\"P\",\"A\")","v":"A"},{"$f":"IF(Attendance($C35,'Daily Register'!JD$3:JD$242)=TRUE,\"P\",\"A\")","v":"A"},{"$f":"IF(Attendance($C35,'Daily Register'!JE$3:JE$242)=TRUE,\"P\",\"A\")","v":"A"},{"$f":"IF(Attendance($C35,'Daily Register'!JF$3:JF$242)=TRUE,\"P\",\"A\")","v":"A"},{"$f":"IF(Attendance($C35,'Daily Register'!JG$3:JG$242)=TRUE,\"P\",\"A\")","v":"A"},{"$f":"IF(Attendance($C35,'Daily Register'!JH$3:JH$242)=TRUE,\"P\",\"A\")","v":"A"},{"$f":"IF(Attendance($C35,'Daily Register'!JI$3:JI$242)=TRUE,\"P\",\"A\")","v":"A"},{"$f":"IF(Attendance($C35,'Daily Register'!JJ$3:JJ$242)=TRUE,\"P\",\"A\")","v":"A"},{"$f":"IF(Attendance($C35,'Daily Register'!JK$3:JK$242)=TRUE,\"P\",\"A\")","v":"A"},{"$f":"IF(Attendance($C35,'Daily Register'!JL$3:JL$242)=TRUE,\"P\",\"A\")","v":"A"},{"$f":"IF(Attendance($C35,'Daily Register'!JM$3:JM$242)=TRUE,\"P\",\"A\")","v":"A"},{"$f":"IF(Attendance($C35,'Daily Register'!JN$3:JN$242)=TRUE,\"P\",\"A\")","v":"A"},{"$f":"IF(Attendance($C35,'Daily Register'!JO$3:JO$242)=TRUE,\"P\",\"A\")","v":"A"},{"$f":"IF(Attendance($C35,'Daily Register'!JP$3:JP$242)=TRUE,\"P\",\"A\")","v":"A"},{"$f":"IF(Attendance($C35,'Daily Register'!JQ$3:JQ$242)=TRUE,\"P\",\"A\")","v":"A"},{"$f":"IF(Attendance($C35,'Daily Register'!JR$3:JR$242)=TRUE,\"P\",\"A\")","v":"A"},{"$f":"IF(Attendance($C35,'Daily Register'!JS$3:JS$242)=TRUE,\"P\",\"A\")","v":"A"},{"$f":"IF(Attendance($C35,'Daily Register'!JT$3:JT$242)=TRUE,\"P\",\"A\")","v":"A"},{"$f":"IF(Attendance($C35,'Daily Register'!JU$3:JU$242)=TRUE,\"P\",\"A\")","v":"A"},{"$f":"IF(Attendance($C35,'Daily Register'!JV$3:JV$242)=TRUE,\"P\",\"A\")","v":"A"},{"$f":"IF(Attendance($C35,'Daily Register'!JW$3:JW$242)=TRUE,\"P\",\"A\")","v":"A"},{"$f":"IF(Attendance($C35,'Daily Register'!JX$3:JX$242)=TRUE,\"P\",\"A\")","v":"A"},{"$f":"IF(Attendance($C35,'Daily Register'!JY$3:JY$242)=TRUE,\"P\",\"A\")","v":"A"},{"$f":"IF(Attendance($C35,'Daily Register'!JZ$3:JZ$242)=TRUE,\"P\",\"A\")","v":"A"},{"$f":"IF(Attendance($C35,'Daily Register'!KA$3:KA$242)=TRUE,\"P\",\"A\")","v":"A"},{"$f":"IF(Attendance($C35,'Daily Register'!KB$3:KB$242)=TRUE,\"P\",\"A\")","v":"A"},{"$f":"IF(Attendance($C35,'Daily Register'!KC$3:KC$242)=TRUE,\"P\",\"A\")","v":"A"},{"$f":"IF(Attendance($C35,'Daily Register'!KD$3:KD$242)=TRUE,\"P\",\"A\")","v":"A"},{"$f":"IF(Attendance($C35,'Daily Register'!KE$3:KE$242)=TRUE,\"P\",\"A\")","v":"A"},{"$f":"IF(Attendance($C35,'Daily Register'!KF$3:KF$242)=TRUE,\"P\",\"A\")","v":"A"},{"$f":"IF(Attendance($C35,'Daily Register'!KG$3:KG$242)=TRUE,\"P\",\"A\")","v":"A"},{"$f":"IF(Attendance($C35,'Daily Register'!KH$3:KH$242)=TRUE,\"P\",\"A\")","v":"A"},{"$f":"IF(Attendance($C35,'Daily Register'!KI$3:KI$242)=TRUE,\"P\",\"A\")","v":"A"},{"$f":"IF(Attendance($C35,'Daily Register'!KJ$3:KJ$242)=TRUE,\"P\",\"A\")","v":"A"},{"$f":"IF(Attendance($C35,'Daily Register'!KK$3:KK$242)=TRUE,\"P\",\"A\")","v":"A"},{"$f":"IF(Attendance($C35,'Daily Register'!KL$3:KL$242)=TRUE,\"P\",\"A\")","v":"A"},{"$f":"IF(Attendance($C35,'Daily Register'!KM$3:KM$242)=TRUE,\"P\",\"A\")","v":"A"},{"$f":"IF(Attendance($C35,'Daily Register'!KN$3:KN$242)=TRUE,\"P\",\"A\")","v":"A"},{"$f":"IF(Attendance($C35,'Daily Register'!KO$3:KO$242)=TRUE,\"P\",\"A\")","v":"A"},{"$f":"IF(Attendance($C35,'Daily Register'!KP$3:KP$242)=TRUE,\"P\",\"A\")","v":"A"},{"$f":"IF(Attendance($C35,'Daily Register'!KQ$3:KQ$242)=TRUE,\"P\",\"A\")","v":"A"},{"$f":"IF(Attendance($C35,'Daily Register'!KR$3:KR$242)=TRUE,\"P\",\"A\")","v":"A"},{"$f":"IF(Attendance($C35,'Daily Register'!KS$3:KS$242)=TRUE,\"P\",\"A\")","v":"A"},{"$f":"IF(Attendance($C35,'Daily Register'!KT$3:KT$242)=TRUE,\"P\",\"A\")","v":"A"},{"$f":"IF(Attendance($C35,'Daily Register'!KU$3:KU$242)=TRUE,\"P\",\"A\")","v":"A"},{"$f":"IF(Attendance($C35,'Daily Register'!KV$3:KV$242)=TRUE,\"P\",\"A\")","v":"A"},{"$f":"IF(Attendance($C35,'Daily Register'!KW$3:KW$242)=TRUE,\"P\",\"A\")","v":"A"},{"$f":"IF(Attendance($C35,'Daily Register'!KX$3:KX$242)=TRUE,\"P\",\"A\")","v":"A"},{"$f":"IF(Attendance($C35,'Daily Register'!KY$3:KY$242)=TRUE,\"P\",\"A\")","v":"A"},{"$f":"IF(Attendance($C35,'Daily Register'!KZ$3:KZ$242)=TRUE,\"P\",\"A\")","v":"A"},{"$f":"IF(Attendance($C35,'Daily Register'!LA$3:LA$242)=TRUE,\"P\",\"A\")","v":"A"},{"$f":"IF(Attendance($C35,'Daily Register'!LB$3:LB$242)=TRUE,\"P\",\"A\")","v":"A"},{"$f":"IF(Attendance($C35,'Daily Register'!LC$3:LC$242)=TRUE,\"P\",\"A\")","v":"A"},{"$f":"IF(Attendance($C35,'Daily Register'!LD$3:LD$242)=TRUE,\"P\",\"A\")","v":"A"},{"$f":"IF(Attendance($C35,'Daily Register'!LE$3:LE$242)=TRUE,\"P\",\"A\")","v":"A"},{"$f":"IF(Attendance($C35,'Daily Register'!LF$3:LF$242)=TRUE,\"P\",\"A\")","v":"A"},{"$f":"IF(Attendance($C35,'Daily Register'!LG$3:LG$242)=TRUE,\"P\",\"A\")","v":"A"},{"$f":"IF(Attendance($C35,'Daily Register'!LH$3:LH$242)=TRUE,\"P\",\"A\")","v":"A"},{"$f":"IF(Attendance($C35,'Daily Register'!LI$3:LI$242)=TRUE,\"P\",\"A\")","v":"A"},{"$f":"IF(Attendance($C35,'Daily Register'!LJ$3:LJ$242)=TRUE,\"P\",\"A\")","v":"A"},{"$f":"IF(Attendance($C35,'Daily Register'!LK$3:LK$242)=TRUE,\"P\",\"A\")","v":"A"},{"$f":"IF(Attendance($C35,'Daily Register'!LL$3:LL$242)=TRUE,\"P\",\"A\")","v":"A"},{"$f":"IF(Attendance($C35,'Daily Register'!LM$3:LM$242)=TRUE,\"P\",\"A\")","v":"A"},{"$f":"IF(Attendance($C35,'Daily Register'!LN$3:LN$242)=TRUE,\"P\",\"A\")","v":"A"},{"$f":"IF(Attendance($C35,'Daily Register'!LO$3:LO$242)=TRUE,\"P\",\"A\")","v":"A"},{"$f":"IF(Attendance($C35,'Daily Register'!LP$3:LP$242)=TRUE,\"P\",\"A\")","v":"A"},{"$f":"IF(Attendance($C35,'Daily Register'!LQ$3:LQ$242)=TRUE,\"P\",\"A\")","v":"A"},{"$f":"IF(Attendance($C35,'Daily Register'!LR$3:LR$242)=TRUE,\"P\",\"A\")","v":"A"},{"$f":"IF(Attendance($C35,'Daily Register'!LS$3:LS$242)=TRUE,\"P\",\"A\")","v":"A"},{"$f":"IF(Attendance($C35,'Daily Register'!LT$3:LT$242)=TRUE,\"P\",\"A\")","v":"A"},{"$f":"IF(Attendance($C35,'Daily Register'!LU$3:LU$242)=TRUE,\"P\",\"A\")","v":"A"},{"$f":"IF(Attendance($C35,'Daily Register'!LV$3:LV$242)=TRUE,\"P\",\"A\")","v":"A"},{"$f":"IF(Attendance($C35,'Daily Register'!LW$3:LW$242)=TRUE,\"P\",\"A\")","v":"A"},{"$f":"IF(Attendance($C35,'Daily Register'!LX$3:LX$242)=TRUE,\"P\",\"A\")","v":"A"},{"$f":"IF(Attendance($C35,'Daily Register'!LY$3:LY$242)=TRUE,\"P\",\"A\")","v":"A"},{"$f":"IF(Attendance($C35,'Daily Register'!LZ$3:LZ$242)=TRUE,\"P\",\"A\")","v":"A"},{"$f":"IF(Attendance($C35,'Daily Register'!MA$3:MA$242)=TRUE,\"P\",\"A\")","v":"A"},{"$f":"IF(Attendance($C35,'Daily Register'!MB$3:MB$242)=TRUE,\"P\",\"A\")","v":"A"},{"$f":"IF(Attendance($C35,'Daily Register'!MC$3:MC$242)=TRUE,\"P\",\"A\")","v":"A"},{"$f":"IF(Attendance($C35,'Daily Register'!MD$3:MD$242)=TRUE,\"P\",\"A\")","v":"A"},{"$f":"IF(Attendance($C35,'Daily Register'!ME$3:ME$242)=TRUE,\"P\",\"A\")","v":"A"},{"$f":"IF(Attendance($C35,'Daily Register'!MF$3:MF$242)=TRUE,\"P\",\"A\")","v":"A"},{"$f":"IF(Attendance($C35,'Daily Register'!MG$3:MG$242)=TRUE,\"P\",\"A\")","v":"A"},{"$f":"IF(Attendance($C35,'Daily Register'!MH$3:MH$242)=TRUE,\"P\",\"A\")","v":"A"},{"$f":"IF(Attendance($C35,'Daily Register'!MI$3:MI$242)=TRUE,\"P\",\"A\")","v":"A"},{"$f":"IF(Attendance($C35,'Daily Register'!MJ$3:MJ$242)=TRUE,\"P\",\"A\")","v":"A"},{"$f":"IF(Attendance($C35,'Daily Register'!MK$3:MK$242)=TRUE,\"P\",\"A\")","v":"A"},{"$f":"IF(Attendance($C35,'Daily Register'!ML$3:ML$242)=TRUE,\"P\",\"A\")","v":"A"},{"$f":"IF(Attendance($C35,'Daily Register'!MM$3:MM$242)=TRUE,\"P\",\"A\")","v":"A"},{"$f":"IF(Attendance($C35,'Daily Register'!MN$3:MN$242)=TRUE,\"P\",\"A\")","v":"A"},{"$f":"IF(Attendance($C35,'Daily Register'!MO$3:MO$242)=TRUE,\"P\",\"A\")","v":"A"},{"$f":"IF(Attendance($C35,'Daily Register'!MP$3:MP$242)=TRUE,\"P\",\"A\")","v":"A"},{"$f":"IF(Attendance($C35,'Daily Register'!MQ$3:MQ$242)=TRUE,\"P\",\"A\")","v":"A"},{"$f":"IF(Attendance($C35,'Daily Register'!MR$3:MR$242)=TRUE,\"P\",\"A\")","v":"A"},{"$f":"IF(Attendance($C35,'Daily Register'!MS$3:MS$242)=TRUE,\"P\",\"A\")","v":"A"},{"$f":"IF(Attendance($C35,'Daily Register'!MT$3:MT$242)=TRUE,\"P\",\"A\")","v":"A"},{"$f":"IF(Attendance($C35,'Daily Register'!MU$3:MU$242)=TRUE,\"P\",\"A\")","v":"A"},{"$f":"IF(Attendance($C35,'Daily Register'!MV$3:MV$242)=TRUE,\"P\",\"A\")","v":"A"},{"$f":"IF(Attendance($C35,'Daily Register'!MW$3:MW$242)=TRUE,\"P\",\"A\")","v":"A"},{"$f":"IF(Attendance($C35,'Daily Register'!MX$3:MX$242)=TRUE,\"P\",\"A\")","v":"A"},{"$f":"IF(Attendance($C35,'Daily Register'!MY$3:MY$242)=TRUE,\"P\",\"A\")","v":"A"},{"$f":"IF(Attendance($C35,'Daily Register'!MZ$3:MZ$242)=TRUE,\"P\",\"A\")","v":"A"},{"$f":"IF(Attendance($C35,'Daily Register'!NA$3:NA$242)=TRUE,\"P\",\"A\")","v":"A"},{"$f":"IF(Attendance($C35,'Daily Register'!NB$3:NB$242)=TRUE,\"P\",\"A\")","v":"A"}]
[0,null,33,null,{"$f":"IF(Attendance($C36,'Daily Register'!A$3:A$242)=TRUE,\"P\",\"A\")","v":"A"},{"$f":"IF(Attendance($C36,'Daily Register'!B$3:B$242)=TRUE,\"P\",\"A\")","v":"A"},{"$f":"IF(Attendance($C36,'Daily Register'!C$3:C$242)=TRUE,\"P\",\"A\")","v":"A"},{"$f":"IF(Attendance($C36,'Daily Register'!D$3:D$242)=TRUE,\"P\",\"A\")","v":"A"},{"$f":"IF(Attendance($C36,'Daily Register'!E$3:E$242)=TRUE,\"P\",\"A\")","v":"A"},{"$f":"IF(Attendance($C36,'Daily Register'!F$3:F$242)=TRUE,\"P\",\"A\")","v":"A"},{"$f":"IF(Attendance($C36,'Daily Register'!G$3:G$242)=TRUE,\"P\",\"A\")","v":"A"},{"$f":"IF(Attendance($C36,'Daily Register'!H$3:H$242)=TRUE,\"P\",\"A\")","v":"A"},{"$f":"IF(Attendance($C36,'Daily Register'!I$3:I$242)=TRUE,\"P\",\"A\")","v":"A"},{"$f":"IF(Attendance($C36,'Daily Register'!J$3:J$242)=TRUE,\"P\",\"A\")","v":"A"},{"$f":"IF(Attendance($C36,'Daily Register'!K$3:K$242)=TRUE,\"P\",\"A\")","v":"A"},{"$f":"IF(Attendance($C36,'Daily Register'!L$3:L$242)=TRUE,\"P\",\"A\")","v":"A"},{"$f":"IF(Attendance($C36,'Daily Register'!M$3:M$242)=TRUE,\"P\",\"A\")","v":"A"},{"$f":"IF(Attendance($C36,'Daily Register'!N$3:N$242)=TRUE,\"P\",\"A\")","v":"A"},{"$f":"IF(Attendance($C36,'Daily Register'!O$3:O$242)=TRUE,\"P\",\"A\")","v":"A"},{"$f":"IF(Attendance($C36,'Daily Register'!P$3:P$242)=TRUE,\"P\",\"A\")","v":"A"},{"$f":"IF(Attendance($C36,'Daily Register'!Q$3:Q$242)=TRUE,\"P\",\"A\")","v":"A"},{"$f":"IF(Attendance($C36,'Daily Register'!R$3:R$242)=TRUE,\"P\",\"A\")","v":"A"},{"$f":"IF(Attendance($C36,'Daily Register'!S$3:S$242)=TRUE,\"P\",\"A\")","v":"A"},{"$f":"IF(Attendance($C36,'Daily Register'!T$3:T$242)=TRUE,\"P\",\"A\")","v":"A"},{"$f":"IF(Attendance($C36,'Daily Register'!U$3:U$242)=TRUE,\"P\",\"A\")","v":"A"},{"$f":"IF(Attendance($C36,'Daily Register'!V$3:V$242)=TRUE,\"P\",\"A\")","v":"A"},{"$f":"IF(Attendance($C36,'Daily Register'!W$3:W$242)=TRUE,\"P\",\"A\")","v":"A"},{"$f":"IF(Attendance($C36,'Daily Register'!X$3:X$242)=TRUE,\"P\",\"A\")","v":"A"},{"$f":"IF(Attendance($C36,'Daily Register'!Y$3:Y$242)=TRUE,\"P\",\"A\")","v":"A"},{"$f":"IF(Attendance($C36,'Daily Register'!Z$3:Z$242)=TRUE,\"P\",\"A\")","v":"A"},{"$f":"IF(Attendance($C36,'Daily Register'!AA$3:AA$242)=TRUE,\"P\",\"A\")","v":"A"},{"$f":"IF(Attendance($C36,'Daily Register'!AB$3:AB$242)=TRUE,\"P\",\"A\")","v":"A"},{"$f":"IF(Attendance($C36,'Daily Register'!AC$3:AC$242)=TRUE,\"P\",\"A\")","v":"A"},{"$f":"IF(Attendance($C36,'Daily Register'!AD$3:AD$242)=TRUE,\"P\",\"A\")","v":"A"},{"$f":"IF(Attendance($C36,'Daily Register'!AE$3:AE$242)=TRUE,\"P\",\"A\")","v":"A"},{"$f":"IF(Attendance($C36,'Daily Register'!AF$3:AF$242)=TRUE,\"P\",\"A\")","v":"A"},{"$f":"IF(Attendance($C36,'Daily Register'!AG$3:AG$242)=TRUE,\"P\",\"A\")","v":"A"},{"$f":"IF(Attendance($C36,'Daily Register'!AH$3:AH$242)=TRUE,\"P\",\"A\")","v":"A"},{"$f":"IF(Attendance($C36,'Daily Register'!AI$3:AI$242)=TRUE,\"P\",\"A\")","v":"A"},{"$f":"IF(Attendance($C36,'Daily Register'!AJ$3:AJ$242)=TRUE,\"P\",\"A\")","v":"A"},{"$f":"IF(Attendance($C36,'Daily Register'!AK$3:AK$242)=TRUE,\"P\",\"A\")","v":"A"},{"$f":"IF(Attendance($C36,'Daily Register'!AL$3:AL$242)=TRUE,\"P\",\"A\")","v":"A"},{"$f":"IF(Attendance($C36,'Daily Register'!AM$3:AM$242)=TRUE,\"P\",\"A\")","v":"A"},{"$f":"IF(Attendance($C36,'Daily Register'!AN$3:AN$242)=TRUE,\"P\",\"A\")","v":"A"},{"$f":"IF(Attendance($C36,'Daily Register'!AO$3:AO$242)=TRUE,\"P\",\"A\")","v":"A"},{"$f":"IF(Attendance($C36,'Daily Register'!AP$3:AP$242)=TRUE,\"P\",\"A\")","v":"A"},{"$f":"IF(Attendance($C36,'Daily Register'!AQ$3:AQ$242)=TRUE,\"P\",\"A\")","v":"A"},{"$f":"IF(Attendance($C36,'Daily Register'!AR$3:AR$242)=TRUE,\"P\",\"A\")","v":"A"},{"$f":"IF(Attendance($C36,'Daily Register'!AS$3:AS$242)=TRUE,\"P\",\"A\")","v":"A"},{"$f":"IF(Attendance($C36,'Daily Register'!AT$3:AT$242)=TRUE,\"P\",\"A\")","v":"A"},{"$f":"IF(Attendance($C36,'Daily Register'!AU$3:AU$242)=TRUE,\"P\",\"A\")","v":"A"},{"$f":"IF(Attendance($C36,'Daily Register'!AV$3:AV$242)=TRUE,\"P\",\"A\")","v":"A"},{"$f":"IF(Attendance($C36,'Daily Register'!AW$3:AW$242)=TRUE,\"P\",\"A\")","v":"A"},{"$f":"IF(Attendance($C36,'Daily Register'!AX$3:AX$242)=TRUE,\"P\",\"A\")","v":"A"},{"$f":"IF(Attendance($C36,'Daily Register'!AY$3:AY$242)=TRUE,\"P\",\"A\")","v":"A"},{"$f":"IF(Attendance($C36,'Daily Register'!AZ$3:AZ$242)=TRUE,\"P\",\"A\")","v":"A"},{"$f":"IF(Attendance($C36,'Daily Register'!BA$3:BA$242)=TRUE,\"P\",\"A\")","v":"A"},{"$f":"IF(Attendance($C36,'Daily Register'!BB$3:BB$242)=TRUE,\"P\",\"A\")","v":"A"},{"$f":"IF(Attendance($C36,'Daily Register'!BC$3:BC$242)=TRUE,\"P\",\"A\")","v":"A"},{"$f":"IF(Attendance($C36,'Daily Register'!BD$3:BD$242)=TRUE,\"P\",\"A\")","v":"A"},{"$f":"IF(Attendance($C36,'Daily Register'!BE$3:BE$242)=TRUE,\"P\",\"A\")","v":"A"},{"$f":"IF(Attendance($C36,'Daily Register'!BF$3:BF$242)=TRUE,\"P\",\"A\")","v":"A"},{"$f":"IF(Attendance($C36,'Daily Register'!BG$3:BG$242)=TRUE,\"P\",\"A\")","v":"A"},{"$f":"IF(Attendance($C36,'Daily Register'!BH$3:BH$242)=TRUE,\"P\",\"A\")","v":"A"},{"$f":"IF(Attendance($C36,'Daily Register'!BI$3:BI$242)=TRUE,\"P\",\"A\")","v":"A"},{"$f":"IF(Attendance($C36,'Daily Register'!BJ$3:BJ$242)=TRUE,\"P\",\"A\")","v":"A"},{"$f":"IF(Attendance($C36,'Daily Register'!BK$3:BK$242)=TRUE,\"P\",\"A\")","v":"A"},{"$f":"IF(Attendance($C36,'Daily Register'!BL$3:BL$242)=TRUE,\"P\",\"A\")","v":"A"},{"$f":"IF(Attendance($C36,'Daily Register'!BM$3:BM$242)=TRUE,\"P\",\"A\")","v":"A"},{"$f":"IF(Attendance($C36,'Daily Register'!BN$3:BN$242)=TRUE,\"P\",\"A\")","v":"A"},{"$f":"IF(Attendance($C36,'Daily Register'!BO$3:BO$242)=TRUE,\"P\",\"A\")","v":"A"},{"$f":"IF(Attendance($C36,'Daily Register'!BP$3:BP$242)=TRUE,\"P\",\"A\")","v":"A"},{"$f":"IF(Attendance($C36,'Daily Register'!BQ$3:BQ$242)=TRUE,\"P\",\"A\")","v":"A"},{"$f":"IF(Attendance($C36,'Daily Register'!BR$3:BR$242)=TRUE,\"P\",\"A\")","v":"A"},{"$f":"IF(Attendance($C36,'Daily Register'!BS$3:BS$242)=TRUE,\"P\",\"A\")","v":"A"},{"$f":"IF(Attendance($C36,'Daily Register'!BT$3:BT$242)=TRUE,\"P\",\"A\")","v":"A"},{"$f":"IF(Attendance($C36,'Daily Register'!BU$3:BU$242)=TRUE,\"P\",\"A\")","v":"A"},{"$f":"IF(Attendance($C36,'Daily Register'!BV$3:BV$242)=TRUE,\"P\",\"A\")","v":"A"},{"$f":"IF(Attendance($C36,'Daily Register'!BW$3:BW$242)=TRUE,\"P\",\"A\")","v":"A"},{"$f":"IF(Attendance($C36,'Daily Register'!BX$3:BX$242)=TRUE,\"P\",\"A\")","v":"A"},{"$f":"IF(Attendance($C36,'Daily Register'!BY$3:BY$242)=TRUE,\"P\",\"A\")","v":"A"},{"$f":"IF(Attendance($C36,'Daily Register'!BZ$3:BZ$242)=TRUE,\"P\",\"A\")","v":"A"},{"$f":"IF(Attendance($C36,'Daily Register'!CA$3:CA$242)=TRUE,\"P\",\"A\")","v":"A"},{"$f":"IF(Attendance($C36,'Daily Register'!CB$3:CB$242)=TRUE,\"P\",\"A\")","v":"A"},{"$f":"IF(Attendance($C36,'Daily Register'!CC$3:CC$242)=TRUE,\"P\",\"A\")","v":"A"},{"$f":"IF(Attendance($C36,'Daily Register'!CD$3:CD$242)=TRUE,\"P\",\"A\")","v":"A"},{"$f":"IF(Attendance($C36,'Daily Register'!CE$3:CE$242)=TRUE,\"P\",\"A\")","v":"A"},{"$f":"IF(Attendance($C36,'Daily Register'!CF$3:CF$242)=TRUE,\"P\",\"A\")","v":"A"},{"$f":"IF(Attendance($C36,'Daily Register'!CG$3:CG$242)=TRUE,\"P\",\"A\")","v":"A"},{"$f":"IF(Attendance($C36,'Daily Register'!CH$3:CH$242)=TRUE,\"P\",\"A\")","v":"A"},{"$f":"IF(Attendance($C36,'Daily Register'!CI$3:CI$242)=TRUE,\"P\",\"A\")","v":"A"},{"$f":"IF(Attendance($C36,'Daily Register'!CJ$3:CJ$242)=TRUE,\"P\",\"A\")","v":"A"},{"$f":"IF(Attendance($C36,'Daily Register'!CK$3:CK$242)=TRUE,\"P\",\"A\")","v":"A"},{"$f":"IF(Attendance($C36,'Daily Register'!CL$3:CL$242)=TRUE,\"P\",\"A\")","v":"A"},{"$f":"IF(Attendance($C36,'Daily Register'!CM$3:CM$242)=TRUE,\"P\",\"A\")","v":"A"},{"$f":"IF(Attendance($C36,'Daily Register'!CN$3:CN$242)=TRUE,\"P\",\"A\")","v":"A"},{"$f":"IF(Attendance($C36,'Daily Register'!CO$3:CO$242)=TRUE,\"P\",\"A\")","v":"A"},{"$f":"IF(Attendance($C36,'Daily Register'!CP$3:CP$242)=TRUE,\"P\",\"A\")","v":"A"},{"$f":"IF(Attendance($C36,'Daily Register'!CQ$3:CQ$242)=TRUE,\"P\",\"A\")","v":"A"},{"$f":"IF(Attendance($C36,'Daily Register'!CR$3:CR$242)=TRUE,\"P\",\"A\")","v":"A"},{"$f":"IF(Attendance($C36,'Daily Register'!CS$3:CS$242)=TRUE,\"P\",\"A\")","v":"A"},{"$f":"IF(Attendance($C36,'Daily Register'!CT$3:CT$242)=TRUE,\"P\",\"A\")","v":"A"},{"$f":"IF(Attendance($C36,'Daily Register'!CU$3:CU$242)=TRUE,\"P\",\"A\")","v":"A"},{"$f":"IF(Attendance($C36,'Daily Register'!CV$3:CV$242)=TRUE,\"P\",\"A\")","v":"A"},{"$f":"IF(Attendance($C36,'Daily Register'!CW$3:CW$242)=TRUE,\"P\",\"A\")","v":"A"},{"$f":"IF(Attendance($C36,'Daily Register'!CX$3:CX$242)=TRUE,\"P\",\"A\")","v":"A"},{"$f":"IF(Attendance($C36,'Daily Register'!CY$3:CY$242)=TRUE,\"P\",\"A\")","v":"A"},{"$f":"IF(Attendance($C36,'Daily Register'!CZ$3:CZ$242)=TRUE,\"P\",\"A\")","v":"A"},{"$f":"IF(Attendance($C36,'Daily Register'!DA$3:DA$242)=TRUE,\"P\",\"A\")","v":"A"},{"$f":"IF(Attendance($C36,'Daily Register'!DB$3:DB$242)=TRUE,\"P\",\"A\")","v":"A"},{"$f":"IF(Attendance($C36,'Daily Register'!DC$3:DC$242)=TRUE,\"P\",\"A\")","v":"A"},{"$f":"IF(Attendance($C36,'Daily Register'!DD$3:DD$242)=TRUE,\"P\",\"A\")","v":"A"},{"$f":"IF(Attendance($C36,'Daily Register'!DE$3:DE$242)=TRUE,\"P\",\"A\")","v":"A"},{"$f":"IF(Attendance($C36,'Daily Register'!DF$3:DF$242)=TRUE,\"P\",\"A\")","v":"A"},{"$f":"IF(Attendance($C36,'Daily Register'!DG$3:DG$242)=TRUE,\"P\",\"A\")","v":"A"},{"$f":"IF(Attendance($C36,'Daily Register'!DH$3:DH$242)=TRUE,\"P\",\"A\")","v":"A"},{"$f":"IF(Attendance($C36,'Daily Register'!DI$3:DI$242)=TRUE,\"P\",\"A\")","v":"A"},{"$f":"IF(Attendance($C36,'Daily Register'!DJ$3:DJ$242)=TRUE,\"P\",\"A\")","v":"A"},{"$f":"IF(Attendance($C36,'Daily Register'!DK$3:DK$242)=TRUE,\"P\",\"A\")","v":"A"},{"$f":"IF(Attendance($C36,'Daily Register'!DL$3:DL$242)=TRUE,\"P\",\"A\")","v":"A"},{"$f":"IF(Attendance($C36,'Daily Register'!DM$3:DM$242)=TRUE,\"P\",\"A\")","v":"A"},{"$f":"IF(Attendance($C36,'Daily Register'!DN$3:DN$242)=TRUE,\"P\",\"A\")","v":"A"},{"$f":"IF(Attendance($C36,'Daily Register'!DO$3:DO$242)=TRUE,\"P\",\"A\")","v":"A"},{"$f":"IF(Attendance($C36,'Daily Register'!DP$3:DP$242)=TRUE,\"P\",\"A\")","v":"A"},{"$f":"IF(Attendance($C36,'Daily Register'!DQ$3:DQ$242)=TRUE,\"P\",\"A\")","v":"A"},{"$f":"IF(Attendance($C36,'Daily Register'!DR$3:DR$242)=TRUE,\"P\",\"A\")","v":"A"},{"$f":"IF(Attendance($C36,'Daily Register'!DS$3:DS$242)=TRUE,\"P\",\"A\")","v":"A"},{"$f":"IF(Attendance($C36,'Daily Register'!DT$3:DT$242)=TRUE,\"P\",\"A\")","v":"A"},{"$f":"IF(Attendance($C36,'Daily Register'!DU$3:DU$242)=TRUE,\"P\",\"A\")","v":"A"},{"$f":"IF(Attendance($C36,'Daily Register'!DV$3:DV$242)=TRUE,\"P\",\"A\")","v":"A"},{"$f":"IF(Attendance($C36,'Daily Register'!DW$3:DW$242)=TRUE,\"P\",\"A\")","v":"A"},{"$f":"IF(Attendance($C36,'Daily Register'!DX$3:DX$242)=TRUE,\"P\",\"A\")","v":"A"},{"$f":"IF(Attendance($C36,'Daily Register'!DY$3:DY$242)=TRUE,\"P\",\"A\")","v":"A"},{"$f":"IF(Attendance($C36,'Daily Register'!DZ$3:DZ$242)=TRUE,\"P\",\"A\")","v":"A"},{"$f":"IF(Attendance($C36,'Daily Register'!EA$3:EA$242)=TRUE,\"P\",\"A\")","v":"A"},{"$f":"IF(Attendance($C36,'Daily Register'!EB$3:EB$242)=TRUE,\"P\",\"A\")","v":"A"},{"$f":"IF(Attendance($C36,'Daily Register'!EC$3:EC$242)=TRUE,\"P\",\"A\")","v":"A"},{"$f":"IF(Attendance($C36,'Daily Register'!ED$3:ED$242)=TRUE,\"P\",\"A\")","v":"A"},{"$f":"IF(Attendance($C36,'Daily Register'!EE$3:EE$242)=TRUE,\"P\",\"A\")","v":"A"},{"$f":"IF(Attendance($C36,'Daily Register'!EF$3:EF$242)=TRUE,\"P\",\"A\")","v":"A"},{"$f":"IF(Attendance($C36,'Daily Register'!EG$3:EG$242)=TRUE,\"P\",\"A\")","v":"A"},{"$f":"IF(Attendance($C36,'Daily Register'!EH$3:EH$242)=TRUE,\"P\",\"A\")","v":"A"},{"$f":"IF(Attendance($C36,'Daily Register'!EI$3:EI$242)=TRUE,\"P\",\"A\")","v":"A"},{"$f":"IF(Attendance($C36,'Daily Register'!EJ$3:EJ$242)=TRUE,\"P\",\"A\")","v":"A"},{"$f":"IF(Attendance($C36,'Daily Register'!EK$3:EK$242)=TRUE,\"P\",\"A\")","v":"A"},{"$f":"IF(Attendance($C36,'Daily Register'!EL$3:EL$242)=TRUE,\"P\",\"A\")","v":"A"},{"$f":"IF(Attendance($C36,'Daily Register'!EM$22:EM$242)=TRUE,\"P\",\"A\")","v":"A"},{"$f":"IF(Attendance($C36,'Daily Register'!EN$3:EN$242)=TRUE,\"P\",\"A\")","v":"A"},{"$f":"IF(Attendance($C36,'Daily Register'!EO$3:EO$242)=TRUE,\"P\",\"A\")","v":"A"},{"$f":"IF(Attendance($C36,'Daily Register'!EP$3:EP$242)=TRUE,\"P\",\"A\")","v":"A"},{"$f":"IF(Attendance($C36,'Daily Register'!EQ$3:EQ$242)=TRUE,\"P\",\"A\")","v":"A"},{"$f":"IF(Attendance($C36,'Daily Register'!ER$3:ER$242)=TRUE,\"P\",\"A\")","v":"A"},{"$f":"IF(Attendance($C36,'Daily Register'!ES$3:ES$242)=TRUE,\"P\",\"A\")","v":"A"},{"$f":"IF(Attendance($C36,'Daily Register'!ET$3:ET$242)=TRUE,\"P\",\"A\")","v":"A"},{"$f":"IF(Attendance($C36,'Daily Register'!EU$3:EU$242)=TRUE,\"P\",\"A\")","v":"A"},{"$f":"IF(Attendance($C36,'Daily Register'!EV$3:EV$242)=TRUE,\"P\",\"A\")","v":"A"},{"$f":"IF(Attendance($C36,'Daily Register'!EW$3:EW$242)=TRUE,\"P\",\"A\")","v":"A"},{"$f":"IF(Attendance($C36,'Daily Register'!EX$3:EX$242)=TRUE,\"P\",\"A\")","v":"A"},{"$f":"IF(Attendance($C36,'Daily Register'!EY$3:EY$242)=TRUE,\"P\",\"A\")","v":"A"},{"$f":"IF(Attendance($C36,'Daily Register'!EZ$3:EZ$242)=TRUE,\"P\",\"A\")","v":"A"},{"$f":"IF(Attendance($C36,'Daily Register'!FA$3:FA$242)=TRUE,\"P\",\"A\")","v":"A"},{"$f":"IF(Attendance($C36,'Daily Register'!FB$3:FB$242)=TRUE,\"P\",\"A\")","v":"A"},{"$f":"IF(Attendance($C36,'Daily Register'!FC$3:FC$242)=TRUE,\"P\",\"A\")","v":"A"},{"$f":"IF(Attendance($C36,'Daily Register'!FD$3:FD$242)=TRUE,\"P\",\"A\")","v":"A"},{"$f":"IF(Attendance($C36,'Daily Register'!FE$3:FE$242)=TRUE,\"P\",\"A\")","v":"A"},{"$f":"IF(Attendance($C36,'Daily Register'!FF$3:FF$242)=TRUE,\"P\",\"A\")","v":"A"},{"$f":"IF(Attendance($C36,'Daily Register'!FG$3:FG$242)=TRUE,\"P\",\"A\")","v":"A"},{"$f":"IF(Attendance($C36,'Daily Register'!FH$3:FH$242)=TRUE,\"P\",\"A\")","v":"A"},{"$f":"IF(Attendance($C36,'Daily Register'!FI$3:FI$242)=TRUE,\"P\",\"A\")","v":"A"},{"$f":"IF(Attendance($C36,'Daily Register'!FJ$3:FJ$242)=TRUE,\"P\",\"A\")","v":"A"},{"$f":"IF(Attendance($C36,'Daily Register'!FK$3:FK$242)=TRUE,\"P\",\"A\")","v":"A"},{"$f":"IF(Attendance($C36,'Daily Register'!FL$3:FL$242)=TRUE,\"P\",\"A\")","v":"A"},{"$f":"IF(Attendance($C36,'Daily Register'!FM$3:FM$242)=TRUE,\"P\",\"A\")","v":"A"},{"$f":"IF(Attendance($C36,'Daily Register'!FN$3:FN$242)=TRUE,\"P\",\"A\")","v":"A"},{"$f":"IF(Attendance($C36,'Daily Register'!FO$3:FO$242)=TRUE,\"P\",\"A\")","v":"A"},{"$f":"IF(Attendance($C36,'Daily Register'!FP$3:FP$242)=TRUE,\"P\",\"A\")","v":"A"},{"$f":"IF(Attendance($C36,'Daily Register'!FQ$3:FQ$242)=TRUE,\"P\",\"A\")","v":"A"},{"$f":"IF(Attendance($C36,'Daily Register'!FR$3:FR$242)=TRUE,\"P\",\"A\")","v":"A"},{"$f":"IF(Attendance($C36,'Daily Register'!FS$3:FS$242)=TRUE,\"P\",\"A\")","v":"A"},{"$f":"IF(Attendance($C36,'Daily Register'!FT$3:FT$242)=TRUE,\"P\",\"A\")","v":"A"},{"$f":"IF(Attendance($C36,'Daily Register'!FU$3:FU$242)=TRUE,\"P\",\"A\")","v":"A"},{"$f":"IF(Attendance($C36,'Daily Register'!FV$3:FV$242)=TRUE,\"P\",\"A\")","v":"A"},{"$f":"IF(Attendance($C36,'Daily Register'!FW$3:FW$242)=TRUE,\"P\",\"A\")","v":"A"},{"$f":"IF(Attendance($C36,'Daily Register'!FX$3:FX$242)=TRUE,\"P\",\"A\")","v":"A"},{"$f":"IF(Attendance($C36,'Daily Register'!FY$3:FY$242)=TRUE,\"P\",\"A\")","v":"A"},{"$f":"IF(Attendance($C36,'Daily Register'!FZ$3:FZ$242)=TRUE,\"P\",\"A\")","v":"A"},{"$f":"IF(Attendance($C36,'Daily Register'!GA$3:GA$242)=TRUE,\"P\",\"A\")","v":"A"},{"$f":"IF(Attendance($C36,'Daily Register'!GB$3:GB$242)=TRUE,\"P\",\"A\")","v":"A"},{"$f":"IF(Attendance($C36,'Daily Register'!GC$3:GC$242)=TRUE,\"P\",\"A\")","v":"A"},{"$f":"IF(Attendance($C36,'Daily Register'!GD$3:GD$242)=TRUE,\"P\",\"A\")","v":"A"},{"$f":"IF(Attendance($C36,'Daily Register'!GE$3:GE$242)=TRUE,\"P\",\"A\")","v":"A"},{"$f":"IF(Attendance($C36,'Daily Register'!GF$3:GF$242)=TRUE,\"P\",\"A\")","v":"A"},{"$f":"IF(Attendance($C36,'Daily Register'!GG$3:GG$242)=TRUE,\"P\",\"A\")","v":"A"},{"$f":"IF(Attendance($C36,'Daily Register'!GH$3:GH$242)=TRUE,\"P\",\"A\")","v":"A"},{"$f":"IF(Attendance($C36,'Daily Register'!GI$3:GI$242)=TRUE,\"P\",\"A\")","v":"A"},{"$f":"IF(Attendance($C36,'Daily Register'!GJ$3:GJ$242)=TRUE,\"P\",\"A\")","v":"A"},{"$f":"IF(Attendance($C36,'Daily Register'!GK$3:GK$242)=TRUE,\"P\",\"A\")","v":"A"},{"$f":"IF(Attendance($C36,'Daily Register'!GL$3:GL$242)=TRUE,\"P\",\"A\")","v":"A"},{"$f":"IF(Attendance($C36,'Daily Register'!GM$3:GM$242)=TRUE,\"P\",\"A\")","v":"A"},{"$f":"IF(Attendance($C36,'Daily Register'!GN$3:GN$242)=TRUE,\"P\",\"A\")","v":"A"},{"$f":"IF(Attendance($C36,'Daily Register'!GO$3:GO$242)=TRUE,\"P\",\"A\")","v":"A"},{"$f":"IF(Attendance($C36,'Daily Register'!GP$3:GP$242)=TRUE,\"P\",\"A\")","v":"A"},{"$f":"IF(Attendance($C36,'Daily Register'!GQ$3:GQ$242)=TRUE,\"P\",\"A\")","v":"A"},{"$f":"IF(Attendance($C36,'Daily Register'!GR$3:GR$242)=TRUE,\"P\",\"A\")","v":"A"},{"$f":"IF(Attendance($C36,'Daily Register'!GS$3:GS$242)=TRUE,\"P\",\"A\")","v":"A"},{"$f":"IF(Attendance($C36,'Daily Register'!GT$3:GT$242)=TRUE,\"P\",\"A\")","v":"A"},{"$f":"IF(Attendance($C36,'Daily Register'!GU$3:GU$242)=TRUE,\"P\",\"A\")","v":"A"},{"$f":"IF(Attendance($C36,'Daily Register'!GV$3:GV$242)=TRUE,\"P\",\"A\")","v":"A"},{"$f":"IF(Attendance($C36,'Daily Register'!GW$3:GW$242)=TRUE,\"P\",\"A\")","v":"A"},{"$f":"IF(Attendance($C36,'Daily Register'!GX$3:GX$242)=TRUE,\"P\",\"A\")","v":"A"},{"$f":"IF(Attendance($C36,'Daily Register'!GY$3:GY$242)=TRUE,\"P\",\"A\")","v":"A"},{"$f":"IF(Attendance($C36,'Daily Register'!GZ$3:GZ$242)=TRUE,\"P\",\"A\")","v":"A"},{"$f":"IF(Attendance($C36,'Daily Register'!HA$3:HA$242)=TRUE,\"P\",\"A\")","v":"A"},{"$f":"IF(Attendance($C36,'Daily Register'!HB$3:HB$242)=TRUE,\"P\",\"A\")","v":"A"},{"$f":"IF(Attendance($C36,'Daily Register'!HC$3:HC$242)=TRUE,\"P\",\"A\")","v":"A"},{"$f":"IF(Attendance($C36,'Daily Register'!HD$3:HD$242)=TRUE,\"P\",\"A\")","v":"A"},{"$f":"IF(Attendance($C36,'Daily Register'!HE$3:HE$242)=TRUE,\"P\",\"A\")","v":"A"},{"$f":"IF(Attendance($C36,'Daily Register'!HF$3:HF$242)=TRUE,\"P\",\"A\")","v":"A"},{"$f":"IF(Attendance($C36,'Daily Register'!HG$3:HG$242)=TRUE,\"P\",\"A\")","v":"A"},{"$f":"IF(Attendance($C36,'Daily Register'!HH$3:HH$242)=TRUE,\"P\",\"A\")","v":"A"},{"$f":"IF(Attendance($C36,'Daily Register'!HI$3:HI$242)=TRUE,\"P\",\"A\")","v":"A"},{"$f":"IF(Attendance($C36,'Daily Register'!HJ$3:HJ$242)=TRUE,\"P\",\"A\")","v":"A"},{"$f":"IF(Attendance($C36,'Daily Register'!HK$3:HK$242)=TRUE,\"P\",\"A\")","v":"A"},{"$f":"IF(Attendance($C36,'Daily Register'!HL$3:HL$242)=TRUE,\"P\",\"A\")","v":"A"},{"$f":"IF(Attendance($C36,'Daily Register'!HM$3:HM$242)=TRUE,\"P\",\"A\")","v":"A"},{"$f":"IF(Attendance($C36,'Daily Register'!HN$3:HN$242)=TRUE,\"P\",\"A\")","v":"A"},{"$f":"IF(Attendance($C36,'Daily Register'!HO$3:HO$242)=TRUE,\"P\",\"A\")","v":"A"},{"$f":"IF(Attendance($C36,'Daily Register'!HP$3:HP$242)=TRUE,\"P\",\"A\")","v":"A"},{"$f":"IF(Attendance($C36,'Daily Register'!HQ$3:HQ$242)=TRUE,\"P\",\"A\")","v":"A"},{"$f":"IF(Attendance($C36,'Daily Register'!HR$3:HR$242)=TRUE,\"P\",\"A\")","v":"A"},{"$f":"IF(Attendance($C36,'Daily Register'!HS$3:HS$242)=TRUE,\"P\",\"A\")","v":"A"},{"$f":"IF(Attendance($C36,'Daily Register'!HT$3:HT$242)=TRUE,\"P\",\"A\")","v":"A"},{"$f":"IF(Attendance($C36,'Daily Register'!HU$3:HU$242)=TRUE,\"P\",\"A\")","v":"A"},{"$f":"IF(Attendance($C36,'Daily Register'!HV$3:HV$242)=TRUE,\"P\",\"A\")","v":"A"},{"$f":"IF(Attendance($C36,'Daily Register'!HW$3:HW$242)=TRUE,\"P\",\"A\")","v":"A"},{"$f":"IF(Attendance($C36,'Daily Register'!HX$3:HX$242)=TRUE,\"P\",\"A\")","v":"A"},{"$f":"IF(Attendance($C36,'Daily Register'!HY$3:HY$242)=TRUE,\"P\",\"A\")","v":"A"},{"$f":"IF(Attendance($C36,'Daily Register'!HZ$3:HZ$242)=TRUE,\"P\",\"A\")","v":"A"},{"$f":"IF(Attendance($C36,'Daily Register'!IA$3:IA$242)=TRUE,\"P\",\"A\")","v":"A"},{"$f":"IF(Attendance($C36,'Daily Register'!IB$3:IB$242)=TRUE,\"P\",\"A\")","v":"A"},{"$f":"IF(Attendance($C36,'Daily Register'!IC$3:IC$242)=TRUE,\"P\",\"A\")","v":"A"},{"$f":"IF(Attendance($C36,'Daily Register'!ID$3:ID$242)=TRUE,\"P\",\"A\")","v":"A"},{"$f":"IF(Attendance($C36,'Daily Register'!IE$3:IE$242)=TRUE,\"P\",\"A\")","v":"A"},{"$f":"IF(Attendance($C36,'Daily Register'!IF$3:IF$242)=TRUE,\"P\",\"A\")","v":"A"},{"$f":"IF(Attendance($C36,'Daily Register'!IG$3:IG$242)=TRUE,\"P\",\"A\")","v":"A"},{"$f":"IF(Attendance($C36,'Daily Register'!IH$3:IH$242)=TRUE,\"P\",\"A\")","v":"A"},{"$f":"IF(Attendance($C36,'Daily Register'!II$3:II$242)=TRUE,\"P\",\"A\")","v":"A"},{"$f":"IF(Attendance($C36,'Daily Register'!IJ$3:IJ$242)=TRUE,\"P\",\"A\")","v":"A"},{"$f":"IF(Attendance($C36,'Daily Register'!IK$3:IK$242)=TRUE,\"P\",\"A\")","v":"A"},{"$f":"IF(Attendance($C36,'Daily Register'!IL$3:IL$242)=TRUE,\"P\",\"A\")","v":"A"},{"$f":"IF(Attendance($C36,'Daily Register'!IM$3:IM$242)=TRUE,\"P\",\"A\")","v":"A"},{"$f":"IF(Attendance($C36,'Daily Register'!IN$3:IN$242)=TRUE,\"P\",\"A\")","v":"A"},{"$f":"IF(Attendance($C36,'Daily Register'!IO$3:IO$242)=TRUE,\"P\",\"A\")","v":"A"},{"$f":"IF(Attendance($C36,'Daily Register'!IP$3:IP$242)=TRUE,\"P\",\"A\")","v":"A"},{"$f":"IF(Attendance($C36,'Daily Register'!IQ$3:IQ$242)=TRUE,\"P\",\"A\")","v":"A"},{"$f":"IF(Attendance($C36,'Daily Register'!IR$3:IR$242)=TRUE,\"P\",\"A\")","v":"A"},{"$f":"IF(Attendance($C36,'Daily Register'!IS$3:IS$242)=TRUE,\"P\",\"A\")","v":"A"},{"$f":"IF(Attendance($C36,'Daily Register'!IT$3:IT$242)=TRUE,\"P\",\"A\")","v":"A"},{"$f":"IF(Attendance($C36,'Daily Register'!IU$3:IU$242)=TRUE,\"P\",\"A\")","v":"A"},{"$f":"IF(Attendance($C36,'Daily Register'!IV$3:IV$242)=TRUE,\"P\",\"A\")","v":"A"},{"$f":"IF(Attendance($C36,'Daily Register'!IW$3:IW$242)=TRUE,\"P\",\"A\")","v":"A"},{"$f":"IF(Attendance($C36,'Daily Register'!IX$3:IX$242)=TRUE,\"P\",\"A\")","v":"A"},{"$f":"IF(Attendance($C36,'Daily Register'!IY$3:IY$242)=TRUE,\"P\",\"A\")","v":"A"},{"$f":"IF(Attendance($C36,'Daily Register'!IZ$3:IZ$242)=TRUE,\"P\",\"A\")","v":"A"},{"$f":"IF(Attendance($C36,'Daily Register'!JA$3:JA$242)=TRUE,\"P\",\"A\")","v":"A"},{"$f":"IF(Attendance($C36,'Daily Register'!JB$3:JB$242)=TRUE,\"P\",\"A\")","v":"A"},{"$f":"IF(Attendance($C36,'Daily Register'!JC$3:JC$242)=TRUE,\"P\",\"A\")","v":"A"},{"$f":"IF(Attendance($C36,'Daily Register'!JD$3:JD$242)=TRUE,\"P\",\"A\")","v":"A"},{"$f":"IF(Attendance($C36,'Daily Register'!JE$3:JE$242)=TRUE,\"P\",\"A\")","v":"A"},{"$f":"IF(Attendance($C36,'Daily Register'!JF$3:JF$242)=TRUE,\"P\",\"A\")","v":"A"},{"$f":"IF(Attendance($C36,'Daily Register'!JG$3:JG$242)=TRUE,\"P\",\"A\")","v":"A"},{"$f":"IF(Attendance($C36,'Daily Register'!JH$3:JH$242)=TRUE,\"P\",\"A\")","v":"A"},{"$f":"IF(Attendance($C36,'Daily Register'!JI$3:JI$242)=TRUE,\"P\",\"A\")","v":"A"},{"$f":"IF(Attendance($C36,'Daily Register'!JJ$3:JJ$242)=TRUE,\"P\",\"A\")","v":"A"},{"$f":"IF(Attendance($C36,'Daily Register'!JK$3:JK$242)=TRUE,\"P\",\"A\")","v":"A"},{"$f":"IF(Attendance($C36,'Daily Register'!JL$3:JL$242)=TRUE,\"P\",\"A\")","v":"A"},{"$f":"IF(Attendance($C36,'Daily Register'!JM$3:JM$242)=TRUE,\"P\",\"A\")","v":"A"},{"$f":"IF(Attendance($C36,'Daily Register'!JN$3:JN$242)=TRUE,\"P\",\"A\")","v":"A"},{"$f":"IF(Attendance($C36,'Daily Register'!JO$3:JO$242)=TRUE,\"P\",\"A\")","v":"A"},{"$f":"IF(Attendance($C36,'Daily Register'!JP$3:JP$242)=TRUE,\"P\",\"A\")","v":"A"},{"$f":"IF(Attendance($C36,'Daily Register'!JQ$3:JQ$242)=TRUE,\"P\",\"A\")","v":"A"},{"$f":"IF(Attendance($C36,'Daily Register'!JR$3:JR$242)=TRUE,\"P\",\"A\")","v":"A"},{"$f":"IF(Attendance($C36,'Daily Register'!JS$3:JS$242)=TRUE,\"P\",\"A\")","v":"A"},{"$f":"IF(Attendance($C36,'Daily Register'!JT$3:JT$242)=TRUE,\"P\",\"A\")","v":"A"},{"$f":"IF(Attendance($C36,'Daily Register'!JU$3:JU$242)=TRUE,\"P\",\"A\")","v":"A"},{"$f":"IF(Attendance($C36,'Daily Register'!JV$3:JV$242)=TRUE,\"P\",\"A\")","v":"A"},{"$f":"IF(Attendance($C36,'Daily Register'!JW$3:JW$242)=TRUE,\"P\",\"A\")","v":"A"},{"$f":"IF(Attendance($C36,'Daily Register'!JX$3:JX$242)=TRUE,\"P\",\"A\")","v":"A"},{"$f":"IF(Attendance($C36,'Daily Register'!JY$3:JY$242)=TRUE,\"P\",\"A\")","v":"A"},{"$f":"IF(Attendance($C36,'Daily Register'!JZ$3:JZ$242)=TRUE,\"P\",\"A\")","v":"A"},{"$f":"IF(Attendance($C36,'Daily Register'!KA$3:KA$242)=TRUE,\"P\",\"A\")","v":"A"},{"$f":"IF(Attendance($C36,'Daily Register'!KB$3:KB$242)=TRUE,\"P\",\"A\")","v":"A"},{"$f":"IF(Attendance($C36,'Daily Register'!KC$3:KC$242)=TRUE,\"P\",\"A\")","v":"A"},{"$f":"IF(Attendance($C36,'Daily Register'!KD$3:KD$242)=TRUE,\"P\",\"A\")","v":"A"},{"$f":"IF(Attendance($C36,'Daily Register'!KE$3:KE$242)=TRUE,\"P\",\"A\")","v":"A"},{"$f":"IF(Attendance($C36,'Daily Register'!KF$3:KF$242)=TRUE,\"P\",\"A\")","v":"A"},{"$f":"IF(Attendance($C36,'Daily Register'!KG$3:KG$242)=TRUE,\"P\",\"A\")","v":"A"},{"$f":"IF(Attendance($C36,'Daily Register'!KH$3:KH$242)=TRUE,\"P\",\"A\")","v":"A"},{"$f":"IF(Attendance($C36,'Daily Register'!KI$3:KI$242)=TRUE,\"P\",\"A\")","v":"A"},{"$f":"IF(Attendance($C36,'Daily Register'!KJ$3:KJ$242)=TRUE,\"P\",\"A\")","v":"A"},{"$f":"IF(Attendance($C36,'Daily Register'!KK$3:KK$242)=TRUE,\"P\",\"A\")","v":"A"},{"$f":"IF(Attendance($C36,'Daily Register'!KL$3:KL$242)=TRUE,\"P\",\"A\")","v":"A"},{"$f":"IF(Attendance($C36,'Daily Register'!KM$3:KM$242)=TRUE,\"P\",\"A\")","v":"A"},{"$f":"IF(Attendance($C36,'Daily Register'!KN$3:KN$242)=TRUE,\"P\",\"A\")","v":"A"},{"$f":"IF(Attendance($C36,'Daily Register'!KO$3:KO$242)=TRUE,\"P\",\"A\")","v":"A"},{"$f":"IF(Attendance($C36,'Daily Register'!KP$3:KP$242)=TRUE,\"P\",\"A\")","v":"A"},{"$f":"IF(Attendance($C36,'Daily Register'!KQ$3:KQ$242)=TRUE,\"P\",\"A\")","v":"A"},{"$f":"IF(Attendance($C36,'Daily Register'!KR$3:KR$242)=TRUE,\"P\",\"A\")","v":"A"},{"$f":"IF(Attendance($C36,'Daily Register'!KS$3:KS$242)=TRUE,\"P\",\"A\")","v":"A"},{"$f":"IF(Attendance($C36,'Daily Register'!KT$3:KT$242)=TRUE,\"P\",\"A\")","v":"A"},{"$f":"IF(Attendance($C36,'Daily Register'!KU$3:KU$242)=TRUE,\"P\",\"A\")","v":"A"},{"$f":"IF(Attendance($C36,'Daily Register'!KV$3:KV$242)=TRUE,\"P\",\"A\")","v":"A"},{"$f":"IF(Attendance($C36,'Daily Register'!KW$3:KW$242)=TRUE,\"P\",\"A\")","v":"A"},{"$f":"IF(Attendance($C36,'Daily Register'!KX$3:KX$242)=TRUE,\"P\",\"A\")","v":"A"},{"$f":"IF(Attendance($C36,'Daily Register'!KY$3:KY$242)=TRUE,\"P\",\"A\")","v":"A"},{"$f":"IF(Attendance($C36,'Daily Register'!KZ$3:KZ$242)=TRUE,\"P\",\"A\")","v":"A"},{"$f":"IF(Attendance($C36,'Daily Register'!LA$3:LA$242)=TRUE,\"P\",\"A\")","v":"A"},{"$f":"IF(Attendance($C36,'Daily Register'!LB$3:LB$242)=TRUE,\"P\",\"A\")","v":"A"},{"$f":"IF(Attendance($C36,'Daily Register'!LC$3:LC$242)=TRUE,\"P\",\"A\")","v":"A"},{"$f":"IF(Attendance($C36,'Daily Register'!LD$3:LD$242)=TRUE,\"P\",\"A\")","v":"A"},{"$f":"IF(Attendance($C36,'Daily Register'!LE$3:LE$242)=TRUE,\"P\",\"A\")","v":"A"},{"$f":"IF(Attendance($C36,'Daily Register'!LF$3:LF$242)=TRUE,\"P\",\"A\")","v":"A"},{"$f":"IF(Attendance($C36,'Daily Register'!LG$3:LG$242)=TRUE,\"P\",\"A\")","v":"A"},{"$f":"IF(Attendance($C36,'Daily Register'!LH$3:LH$242)=TRUE,\"P\",\"A\")","v":"A"},{"$f":"IF(Attendance($C36,'Daily Register'!LI$3:LI$242)=TRUE,\"P\",\"A\")","v":"A"},{"$f":"IF(Attendance($C36,'Daily Register'!LJ$3:LJ$242)=TRUE,\"P\",\"A\")","v":"A"},{"$f":"IF(Attendance($C36,'Daily Register'!LK$3:LK$242)=TRUE,\"P\",\"A\")","v":"A"},{"$f":"IF(Attendance($C36,'Daily Register'!LL$3:LL$242)=TRUE,\"P\",\"A\")","v":"A"},{"$f":"IF(Attendance($C36,'Daily Register'!LM$3:LM$242)=TRUE,\"P\",\"A\")","v":"A"},{"$f":"IF(Attendance($C36,'Daily Register'!LN$3:LN$242)=TRUE,\"P\",\"A\")","v":"A"},{"$f":"IF(Attendance($C36,'Daily Register'!LO$3:LO$242)=TRUE,\"P\",\"A\")","v":"A"},{"$f":"IF(Attendance($C36,'Daily Register'!LP$3:LP$242)=TRUE,\"P\",\"A\")","v":"A"},{"$f":"IF(Attendance($C36,'Daily Register'!LQ$3:LQ$242)=TRUE,\"P\",\"A\")","v":"A"},{"$f":"IF(Attendance($C36,'Daily Register'!LR$3:LR$242)=TRUE,\"P\",\"A\")","v":"A"},{"$f":"IF(Attendance($C36,'Daily Register'!LS$3:LS$242)=TRUE,\"P\",\"A\")","v":"A"},{"$f":"IF(Attendance($C36,'Daily Register'!LT$3:LT$242)=TRUE,\"P\",\"A\")","v":"A"},{"$f":"IF(Attendance($C36,'Daily Register'!LU$3:LU$242)=TRUE,\"P\",\"A\")","v":"A"},{"$f":"IF(Attendance($C36,'Daily Register'!LV$3:LV$242)=TRUE,\"P\",\"A\")","v":"A"},{"$f":"IF(Attendance($C36,'Daily Register'!LW$3:LW$242)=TRUE,\"P\",\"A\")","v":"A"},{"$f":"IF(Attendance($C36,'Daily Register'!LX$3:LX$242)=TRUE,\"P\",\"A\")","v":"A"},{"$f":"IF(Attendance($C36,'Daily Register'!LY$3:LY$242)=TRUE,\"P\",\"A\")","v":"A"},{"$f":"IF(Attendance($C36,'Daily Register'!LZ$3:LZ$242)=TRUE,\"P\",\"A\")","v":"A"},{"$f":"IF(Attendance($C36,'Daily Register'!MA$3:MA$242)=TRUE,\"P\",\"A\")","v":"A"},{"$f":"IF(Attendance($C36,'Daily Register'!MB$3:MB$242)=TRUE,\"P\",\"A\")","v":"A"},{"$f":"IF(Attendance($C36,'Daily Register'!MC$3:MC$242)=TRUE,\"P\",\"A\")","v":"A"},{"$f":"IF(Attendance($C36,'Daily Register'!MD$3:MD$242)=TRUE,\"P\",\"A\")","v":"A"},{"$f":"IF(Attendance($C36,'Daily Register'!ME$3:ME$242)=TRUE,\"P\",\"A\")","v":"A"},{"$f":"IF(Attendance($C36,'Daily Register'!MF$3:MF$242)=TRUE,\"P\",\"A\")","v":"A"},{"$f":"IF(Attendance($C36,'Daily Register'!MG$3:MG$242)=TRUE,\"P\",\"A\")","v":"A"},{"$f":"IF(Attendance($C36,'Daily Register'!MH$3:MH$242)=TRUE,\"P\",\"A\")","v":"A"},{"$f":"IF(Attendance($C36,'Daily Register'!MI$3:MI$242)=TRUE,\"P\",\"A\")","v":"A"},{"$f":"IF(Attendance($C36,'Daily Register'!MJ$3:MJ$242)=TRUE,\"P\",\"A\")","v":"A"},{"$f":"IF(Attendance($C36,'Daily Register'!MK$3:MK$242)=TRUE,\"P\",\"A\")","v":"A"},{"$f":"IF(Attendance($C36,'Daily Register'!ML$3:ML$242)=TRUE,\"P\",\"A\")","v":"A"},{"$f":"IF(Attendance($C36,'Daily Register'!MM$3:MM$242)=TRUE,\"P\",\"A\")","v":"A"},{"$f":"IF(Attendance($C36,'Daily Register'!MN$3:MN$242)=TRUE,\"P\",\"A\")","v":"A"},{"$f":"IF(Attendance($C36,'Daily Register'!MO$3:MO$242)=TRUE,\"P\",\"A\")","v":"A"},{"$f":"IF(Attendance($C36,'Daily Register'!MP$3:MP$242)=TRUE,\"P\",\"A\")","v":"A"},{"$f":"IF(Attendance($C36,'Daily Register'!MQ$3:MQ$242)=TRUE,\"P\",\"A\")","v":"A"},{"$f":"IF(Attendance($C36,'Daily Register'!MR$3:MR$242)=TRUE,\"P\",\"A\")","v":"A"},{"$f":"IF(Attendance($C36,'Daily Register'!MS$3:MS$242)=TRUE,\"P\",\"A\")","v":"A"},{"$f":"IF(Attendance($C36,'Daily Register'!MT$3:MT$242)=TRUE,\"P\",\"A\")","v":"A"},{"$f":"IF(Attendance($C36,'Daily Register'!MU$3:MU$242)=TRUE,\"P\",\"A\")","v":"A"},{"$f":"IF(Attendance($C36,'Daily Register'!MV$3:MV$242)=TRUE,\"P\",\"A\")","v":"A"},{"$f":"IF(Attendance($C36,'Daily Register'!MW$3:MW$242)=TRUE,\"P\",\"A\")","v":"A"},{"$f":"IF(Attendance($C36,'Daily Register'!MX$3:MX$242)=TRUE,\"P\",\"A\")","v":"A"},{"$f":"IF(Attendance($C36,'Daily Register'!MY$3:MY$242)=TRUE,\"P\",\"A\")","v":"A"},{"$f":"IF(Attendance($C36,'Daily Register'!MZ$3:MZ$242)=TRUE,\"P\",\"A\")","v":"A"},{"$f":"IF(Attendance($C36,'Daily Register'!NA$3:NA$242)=TRUE,\"P\",\"A\")","v":"A"},{"$f":"IF(Attendance($C36,'Daily Register'!NB$3:NB$242)=TRUE,\"P\",\"A\")","v":"A"}]
[0,null,34,null,{"$f":"IF(Attendance($C37,'Daily Register'!A$3:A$242)=TRUE,\"P\",\"A\")","v":"A"},{"$f":"IF(Attendance($C37,'Daily Register'!B$3:B$242)=TRUE,\"P\",\"A\")","v":"A"},{"$f":"IF(Attendance($C37,'Daily Register'!C$3:C$242)=TRUE,\"P\",\"A\")","v":"A"},{"$f":"IF(Attendance($C37,'Daily Register'!D$3:D$242)=TRUE,\"P\",\"A\")","v":"A"},{"$f":"IF(Attendance($C37,'Daily Register'!E$3:E$242)=TRUE,\"P\",\"A\")","v":"A"},{"$f":"IF(Attendance($C37,'Daily Register'!F$3:F$242)=TRUE,\"P\",\"A\")","v":"A"},{"$f":"IF(Attendance($C37,'Daily Register'!G$3:G$242)=TRUE,\"P\",\"A\")","v":"A"},{"$f":"IF(Attendance($C37,'Daily Register'!H$3:H$242)=TRUE,\"P\",\"A\")","v":"A"},{"$f":"IF(Attendance($C37,'Daily Register'!I$3:I$242)=TRUE,\"P\",\"A\")","v":"A"},{"$f":"IF(Attendance($C37,'Daily Register'!J$3:J$242)=TRUE,\"P\",\"A\")","v":"A"},{"$f":"IF(Attendance($C37,'Daily Register'!K$3:K$242)=TRUE,\"P\",\"A\")","v":"A"},{"$f":"IF(Attendance($C37,'Daily Register'!L$3:L$242)=TRUE,\"P\",\"A\")","v":"A"},{"$f":"IF(Attendance($C37,'Daily Register'!M$3:M$242)=TRUE,\"P\",\"A\")","v":"A"},{"$f":"IF(Attendance($C37,'Daily Register'!N$3:N$242)=TRUE,\"P\",\"A\")","v":"A"},{"$f":"IF(Attendance($C37,'Daily Register'!O$3:O$242)=TRUE,\"P\",\"A\")","v":"A"},{"$f":"IF(Attendance($C37,'Daily Register'!P$3:P$242)=TRUE,\"P\",\"A\")","v":"A"},{"$f":"IF(Attendance($C37,'Daily Register'!Q$3:Q$242)=TRUE,\"P\",\"A\")","v":"A"},{"$f":"IF(Attendance($C37,'Daily Register'!R$3:R$242)=TRUE,\"P\",\"A\")","v":"A"},{"$f":"IF(Attendance($C37,'Daily Register'!S$3:S$242)=TRUE,\"P\",\"A\")","v":"A"},{"$f":"IF(Attendance($C37,'Daily Register'!T$3:T$242)=TRUE,\"P\",\"A\")","v":"A"},{"$f":"IF(Attendance($C37,'Daily Register'!U$3:U$242)=TRUE,\"P\",\"A\")","v":"A"},{"$f":"IF(Attendance($C37,'Daily Register'!V$3:V$242)=TRUE,\"P\",\"A\")","v":"A"},{"$f":"IF(Attendance($C37,'Daily Register'!W$3:W$242)=TRUE,\"P\",\"A\")","v":"A"},{"$f":"IF(Attendance($C37,'Daily Register'!X$3:X$242)=TRUE,\"P\",\"A\")","v":"A"},{"$f":"IF(Attendance($C37,'Daily Register'!Y$3:Y$242)=TRUE,\"P\",\"A\")","v":"A"},{"$f":"IF(Attendance($C37,'Daily Register'!Z$3:Z$242)=TRUE,\"P\",\"A\")","v":"A"},{"$f":"IF(Attendance($C37,'Daily Register'!AA$3:AA$242)=TRUE,\"P\",\"A\")","v":"A"},{"$f":"IF(Attendance($C37,'Daily Register'!AB$3:AB$242)=TRUE,\"P\",\"A\")","v":"A"},{"$f":"IF(Attendance($C37,'Daily Register'!AC$3:AC$242)=TRUE,\"P\",\"A\")","v":"A"},{"$f":"IF(Attendance($C37,'Daily Register'!AD$3:AD$242)=TRUE,\"P\",\"A\")","v":"A"},{"$f":"IF(Attendance($C37,'Daily Register'!AE$3:AE$242)=TRUE,\"P\",\"A\")","v":"A"},{"$f":"IF(Attendance($C37,'Daily Register'!AF$3:AF$242)=TRUE,\"P\",\"A\")","v":"A"},{"$f":"IF(Attendance($C37,'Daily Register'!AG$3:AG$242)=TRUE,\"P\",\"A\")","v":"A"},{"$f":"IF(Attendance($C37,'Daily Register'!AH$3:AH$242)=TRUE,\"P\",\"A\")","v":"A"},{"$f":"IF(Attendance($C37,'Daily Register'!AI$3:AI$242)=TRUE,\"P\",\"A\")","v":"A"},{"$f":"IF(Attendance($C37,'Daily Register'!AJ$3:AJ$242)=TRUE,\"P\",\"A\")","v":"A"},{"$f":"IF(Attendance($C37,'Daily Register'!AK$3:AK$242)=TRUE,\"P\",\"A\")","v":"A"},{"$f":"IF(Attendance($C37,'Daily Register'!AL$3:AL$242)=TRUE,\"P\",\"A\")","v":"A"},{"$f":"IF(Attendance($C37,'Daily Register'!AM$3:AM$242)=TRUE,\"P\",\"A\")","v":"A"},{"$f":"IF(Attendance($C37,'Daily Register'!AN$3:AN$242)=TRUE,\"P\",\"A\")","v":"A"},{"$f":"IF(Attendance($C37,'Daily Register'!AO$3:AO$242)=TRUE,\"P\",\"A\")","v":"A"},{"$f":"IF(Attendance($C37,'Daily Register'!AP$3:AP$242)=TRUE,\"P\",\"A\")","v":"A"},{"$f":"IF(Attendance($C37,'Daily Register'!AQ$3:AQ$242)=TRUE,\"P\",\"A\")","v":"A"},{"$f":"IF(Attendance($C37,'Daily Register'!AR$3:AR$242)=TRUE,\"P\",\"A\")","v":"A"},{"$f":"IF(Attendance($C37,'Daily Register'!AS$3:AS$242)=TRUE,\"P\",\"A\")","v":"A"},{"$f":"IF(Attendance($C37,'Daily Register'!AT$3:AT$242)=TRUE,\"P\",\"A\")","v":"A"},{"$f":"IF(Attendance($C37,'Daily Register'!AU$3:AU$242)=TRUE,\"P\",\"A\")","v":"A"},{"$f":"IF(Attendance($C37,'Daily Register'!AV$3:AV$242)=TRUE,\"P\",\"A\")","v":"A"},{"$f":"IF(Attendance($C37,'Daily Register'!AW$3:AW$242)=TRUE,\"P\",\"A\")","v":"A"},{"$f":"IF(Attendance($C37,'Daily Register'!AX$3:AX$242)=TRUE,\"P\",\"A\")","v":"A"},{"$f":"IF(Attendance($C37,'Daily Register'!AY$3:AY$242)=TRUE,\"P\",\"A\")","v":"A"},{"$f":"IF(Attendance($C37,'Daily Register'!AZ$3:AZ$242)=TRUE,\"P\",\"A\")","v":"A"},{"$f":"IF(Attendance($C37,'Daily Register'!BA$3:BA$242)=TRUE,\"P\",\"A\")","v":"A"},{"$f":"IF(Attendance($C37,'Daily Register'!BB$3:BB$242)=TRUE,\"P\",\"A\")","v":"A"},{"$f":"IF(Attendance($C37,'Daily Register'!BC$3:BC$242)=TRUE,\"P\",\"A\")","v":"A"},{"$f":"IF(Attendance($C37,'Daily Register'!BD$3:BD$242)=TRUE,\"P\",\"A\")","v":"A"},{"$f":"IF(Attendance($C37,'Daily Register'!BE$3:BE$242)=TRUE,\"P\",\"A\")","v":"A"},{"$f":"IF(Attendance($C37,'Daily Register'!BF$3:BF$242)=TRUE,\"P\",\"A\")","v":"A"},{"$f":"IF(Attendance($C37,'Daily Register'!BG$3:BG$242)=TRUE,\"P\",\"A\")","v":"A"},{"$f":"IF(Attendance($C37,'Daily Register'!BH$3:BH$242)=TRUE,\"P\",\"A\")","v":"A"},{"$f":"IF(Attendance($C37,'Daily Register'!BI$3:BI$242)=TRUE,\"P\",\"A\")","v":"A"},{"$f":"IF(Attendance($C37,'Daily Register'!BJ$3:BJ$242)=TRUE,\"P\",\"A\")","v":"A"},{"$f":"IF(Attendance($C37,'Daily Register'!BK$3:BK$242)=TRUE,\"P\",\"A\")","v":"A"},{"$f":"IF(Attendance($C37,'Daily Register'!BL$3:BL$242)=TRUE,\"P\",\"A\")","v":"A"},{"$f":"IF(Attendance($C37,'Daily Register'!BM$3:BM$242)=TRUE,\"P\",\"A\")","v":"A"},{"$f":"IF(Attendance($C37,'Daily Register'!BN$3:BN$242)=TRUE,\"P\",\"A\")","v":"A"},{"$f":"IF(Attendance($C37,'Daily Register'!BO$3:BO$242)=TRUE,\"P\",\"A\")","v":"A"},{"$f":"IF(Attendance($C37,'Daily Register'!BP$3:BP$242)=TRUE,\"P\",\"A\")","v":"A"},{"$f":"IF(Attendance($C37,'Daily Register'!BQ$3:BQ$242)=TRUE,\"P\",\"A\")","v":"A"},{"$f":"IF(Attendance($C37,'Daily Register'!BR$3:BR$242)=TRUE,\"P\",\"A\")","v":"A"},{"$f":"IF(Attendance($C37,'Daily Register'!BS$3:BS$242)=TRUE,\"P\",\"A\")","v":"A"},{"$f":"IF(Attendance($C37,'Daily Register'!BT$3:BT$242)=TRUE,\"P\",\"A\")","v":"A"},{"$f":"IF(Attendance($C37,'Daily Register'!BU$3:BU$242)=TRUE,\"P\",\"A\")","v":"A"},{"$f":"IF(Attendance($C37,'Daily Register'!BV$3:BV$242)=TRUE,\"P\",\"A\")","v":"A"},{"$f":"IF(Attendance($C37,'Daily Register'!BW$3:BW$242)=TRUE,\"P\",\"A\")","v":"A"},{"$f":"IF(Attendance($C37,'Daily Register'!BX$3:BX$242)=TRUE,\"P\",\"A\")","v":"A"},{"$f":"IF(Attendance($C37,'Daily Register'!BY$3:BY$242)=TRUE,\"P\",\"A\")","v":"A"},{"$f":"IF(Attendance($C37,'Daily Register'!BZ$3:BZ$242)=TRUE,\"P\",\"A\")","v":"A"},{"$f":"IF(Attendance($C37,'Daily Register'!CA$3:CA$242)=TRUE,\"P\",\"A\")","v":"A"},{"$f":"IF(Attendance($C37,'Daily Register'!CB$3:CB$242)=TRUE,\"P\",\"A\")","v":"A"},{"$f":"IF(Attendance($C37,'Daily Register'!CC$3:CC$242)=TRUE,\"P\",\"A\")","v":"A"},{"$f":"IF(Attendance($C37,'Daily Register'!CD$3:CD$242)=TRUE,\"P\",\"A\")","v":"A"},{"$f":"IF(Attendance($C37,'Daily Register'!CE$3:CE$242)=TRUE,\"P\",\"A\")","v":"A"},{"$f":"IF(Attendance($C37,'Daily Register'!CF$3:CF$242)=TRUE,\"P\",\"A\")","v":"A"},{"$f":"IF(Attendance($C37,'Daily Register'!CG$3:CG$242)=TRUE,\"P\",\"A\")","v":"A"},{"$f":"IF(Attendance($C37,'Daily Register'!CH$3:CH$242)=TRUE,\"P\",\"A\")","v":"A"},{"$f":"IF(Attendance($C37,'Daily Register'!CI$3:CI$242)=TRUE,\"P\",\"A\")","v":"A"},{"$f":"IF(Attendance($C37,'Daily Register'!CJ$3:CJ$242)=TRUE,\"P\",\"A\")","v":"A"},{"$f":"IF(Attendance($C37,'Daily Register'!CK$3:CK$242)=TRUE,\"P\",\"A\")","v":"A"},{"$f":"IF(Attendance($C37,'Daily Register'!CL$3:CL$242)=TRUE,\"P\",\"A\")","v":"A"},{"$f":"IF(Attendance($C37,'Daily Register'!CM$3:CM$242)=TRUE,\"P\",\"A\")","v":"A"},{"$f":"IF(Attendance($C37,'Daily Register'!CN$3:CN$242)=TRUE,\"P\",\"A\")","v":"A"},{"$f":"IF(Attendance($C37,'Daily Register'!CO$3:CO$242)=TRUE,\"P\",\"A\")","v":"A"},{"$f":"IF(Attendance($C37,'Daily Register'!CP$3:CP$242)=TRUE,\"P\",\"A\")","v":"A"},{"$f":"IF(Attendance($C37,'Daily Register'!CQ$3:CQ$242)=TRUE,\"P\",\"A\")","v":"A"},{"$f":"IF(Attendance($C37,'Daily Register'!CR$3:CR$242)=TRUE,\"P\",\"A\")","v":"A"},{"$f":"IF(Attendance($C37,'Daily Register'!CS$3:CS$242)=TRUE,\"P\",\"A\")","v":"A"},{"$f":"IF(Attendance($C37,'Daily Register'!CT$3:CT$242)=TRUE,\"P\",\"A\")","v":"A"},{"$f":"IF(Attendance($C37,'Daily Register'!CU$3:CU$242)=TRUE,\"P\",\"A\")","v":"A"},{"$f":"IF(Attendance($C37,'Daily Register'!CV$3:CV$242)=TRUE,\"P\",\"A\")","v":"A"},{"$f":"IF(Attendance($C37,'Daily Register'!CW$3:CW$242)=TRUE,\"P\",\"A\")","v":"A"},{"$f":"IF(Attendance($C37,'Daily Register'!CX$3:CX$242)=TRUE,\"P\",\"A\")","v":"A"},{"$f":"IF(Attendance($C37,'Daily Register'!CY$3:CY$242)=TRUE,\"P\",\"A\")","v":"A"},{"$f":"IF(Attendance($C37,'Daily Register'!CZ$3:CZ$242)=TRUE,\"P\",\"A\")","v":"A"},{"$f":"IF(Attendance($C37,'Daily Register'!DA$3:DA$242)=TRUE,\"P\",\"A\")","v":"A"},{"$f":"IF(Attendance($C37,'Daily Register'!DB$3:DB$242)=TRUE,\"P\",\"A\")","v":"A"},{"$f":"IF(Attendance($C37,'Daily Register'!DC$3:DC$242)=TRUE,\"P\",\"A\")","v":"A"},{"$f":"IF(Attendance($C37,'Daily Register'!DD$3:DD$242)=TRUE,\"P\",\"A\")","v":"A"},{"$f":"IF(Attendance($C37,'Daily Register'!DE$3:DE$242)=TRUE,\"P\",\"A\")","v":"A"},{"$f":"IF(Attendance($C37,'Daily Register'!DF$3:DF$242)=TRUE,\"P\",\"A\")","v":"A"},{"$f":"IF(Attendance($C37,'Daily Register'!DG$3:DG$242)=TRUE,\"P\",\"A\")","v":"A"},{"$f":"IF(Attendance($C37,'Daily Register'!DH$3:DH$242)=TRUE,\"P\",\"A\")","v":"A"},{"$f":"IF(Attendance($C37,'Daily Register'!DI$3:DI$242)=TRUE,\"P\",\"A\")","v":"A"},{"$f":"IF(Attendance($C37,'Daily Register'!DJ$3:DJ$242)=TRUE,\"P\",\"A\")","v":"A"},{"$f":"IF(Attendance($C37,'Daily Register'!DK$3:DK$242)=TRUE,\"P\",\"A\")","v":"A"},{"$f":"IF(Attendance($C37,'Daily Register'!DL$3:DL$242)=TRUE,\"P\",\"A\")","v":"A"},{"$f":"IF(Attendance($C37,'Daily Register'!DM$3:DM$242)=TRUE,\"P\",\"A\")","v":"A"},{"$f":"IF(Attendance($C37,'Daily Register'!DN$3:DN$242)=TRUE,\"P\",\"A\")","v":"A"},{"$f":"IF(Attendance($C37,'Daily Register'!DO$3:DO$242)=TRUE,\"P\",\"A\")","v":"A"},{"$f":"IF(Attendance($C37,'Daily Register'!DP$3:DP$242)=TRUE,\"P\",\"A\")","v":"A"},{"$f":"IF(Attendance($C37,'Daily Register'!DQ$3:DQ$242)=TRUE,\"P\",\"A\")","v":"A"},{"$f":"IF(Attendance($C37,'Daily Register'!DR$3:DR$242)=TRUE,\"P\",\"A\")","v":"A"},{"$f":"IF(Attendance($C37,'Daily Register'!DS$3:DS$242)=TRUE,\"P\",\"A\")","v":"A"},{"$f":"IF(Attendance($C37,'Daily Register'!DT$3:DT$242)=TRUE,\"P\",\"A\")","v":"A"},{"$f":"IF(Attendance($C37,'Daily Register'!DU$3:DU$242)=TRUE,\"P\",\"A\")","v":"A"},{"$f":"IF(Attendance($C37,'Daily Register'!DV$3:DV$242)=TRUE,\"P\",\"A\")","v":"A"},{"$f":"IF(Attendance($C37,'Daily Register'!DW$3:DW$242)=TRUE,\"P\",\"A\")","v":"A"},{"$f":"IF(Attendance($C37,'Daily Register'!DX$3:DX$242)=TRUE,\"P\",\"A\")","v":"A"},{"$f":"IF(Attendance($C37,'Daily Register'!DY$3:DY$242)=TRUE,\"P\",\"A\")","v":"A"},{"$f":"IF(Attendance($C37,'Daily Register'!DZ$3:DZ$242)=TRUE,\"P\",\"A\")","v":"A"},{"$f":"IF(Attendance($C37,'Daily Register'!EA$3:EA$242)=TRUE,\"P\",\"A\")","v":"A"},{"$f":"IF(Attendance($C37,'Daily Register'!EB$3:EB$242)=TRUE,\"P\",\"A\")","v":"A"},{"$f":"IF(Attendance($C37,'Daily Register'!EC$3:EC$242)=TRUE,\"P\",\"A\")","v":"A"},{"$f":"IF(Attendance($C37,'Daily Register'!ED$3:ED$242)=TRUE,\"P\",\"A\")","v":"A"},{"$f":"IF(Attendance($C37,'Daily Register'!EE$3:EE$242)=TRUE,\"P\",\"A\")","v":"A"},{"$f":"IF(Attendance($C37,'Daily Register'!EF$3:EF$242)=TRUE,\"P\",\"A\")","v":"A"},{"$f":"IF(Attendance($C37,'Daily Register'!EG$3:EG$242)=TRUE,\"P\",\"A\")","v":"A"},{"$f":"IF(Attendance($C37,'Daily Register'!EH$3:EH$242)=TRUE,\"P\",\"A\")","v":"A"},{"$f":"IF(Attendance($C37,'Daily Register'!EI$3:EI$242)=TRUE,\"P\",\"A\")","v":"A"},{"$f":"IF(Attendance($C37,'Daily Register'!EJ$3:EJ$242)=TRUE,\"P\",\"A\")","v":"A"},{"$f":"IF(Attendance($C37,'Daily Register'!EK$3:EK$242)=TRUE,\"P\",\"A\")","v":"A"},{"$f":"IF(Attendance($C37,'Daily Register'!EL$3:EL$242)=TRUE,\"P\",\"A\")","v":"A"},{"$f":"IF(Attendance($C37,'Daily Register'!EM$22:EM$242)=TRUE,\"P\",\"A\")","v":"A"},{"$f":"IF(Attendance($C37,'Daily Register'!EN$3:EN$242)=TRUE,\"P\",\"A\")","v":"A"},{"$f":"IF(Attendance($C37,'Daily Register'!EO$3:EO$242)=TRUE,\"P\",\"A\")","v":"A"},{"$f":"IF(Attendance($C37,'Daily Register'!EP$3:EP$242)=TRUE,\"P\",\"A\")","v":"A"},{"$f":"IF(Attendance($C37,'Daily Register'!EQ$3:EQ$242)=TRUE,\"P\",\"A\")","v":"A"},{"$f":"IF(Attendance($C37,'Daily Register'!ER$3:ER$242)=TRUE,\"P\",\"A\")","v":"A"},{"$f":"IF(Attendance($C37,'Daily Register'!ES$3:ES$242)=TRUE,\"P\",\"A\")","v":"A"},{"$f":"IF(Attendance($C37,'Daily Register'!ET$3:ET$242)=TRUE,\"P\",\"A\")","v":"A"},{"$f":"IF(Attendance($C37,'Daily Register'!EU$3:EU$242)=TRUE,\"P\",\"A\")","v":"A"},{"$f":"IF(Attendance($C37,'Daily Register'!EV$3:EV$242)=TRUE,\"P\",\"A\")","v":"A"},{"$f":"IF(Attendance($C37,'Daily Register'!EW$3:EW$242)=TRUE,\"P\",\"A\")","v":"A"},{"$f":"IF(Attendance($C37,'Daily Register'!EX$3:EX$242)=TRUE,\"P\",\"A\")","v":"A"},{"$f":"IF(Attendance($C37,'Daily Register'!EY$3:EY$242)=TRUE,\"P\",\"A\")","v":"A"},{"$f":"IF(Attendance($C37,'Daily Register'!EZ$3:EZ$242)=TRUE,\"P\",\"A\")","v":"A"},{"$f":"IF(Attendance($C37,'Daily Register'!FA$3:FA$242)=TRUE,\"P\",\"A\")","v":"A"},{"$f":"IF(Attendance($C37,'Daily Register'!FB$3:FB$242)=TRUE,\"P\",\"A\")","v":"A"},{"$f":"IF(Attendance($C37,'Daily Register'!FC$3:FC$242)=TRUE,\"P\",\"A\")","v":"A"},{"$f":"IF(Attendance($C37,'Daily Register'!FD$3:FD$242)=TRUE,\"P\",\"A\")","v":"A"},{"$f":"IF(Attendance($C37,'Daily Register'!FE$3:FE$242)=TRUE,\"P\",\"A\")","v":"A"},{"$f":"IF(Attendance($C37,'Daily Register'!FF$3:FF$242)=TRUE,\"P\",\"A\")","v":"A"},{"$f":"IF(Attendance($C37,'Daily Register'!FG$3:FG$242)=TRUE,\"P\",\"A\")","v":"A"},{"$f":"IF(Attendance($C37,'Daily Register'!FH$3:FH$242)=TRUE,\"P\",\"A\")","v":"A"},{"$f":"IF(Attendance($C37,'Daily Register'!FI$3:FI$242)=TRUE,\"P\",\"A\")","v":"A"},{"$f":"IF(Attendance($C37,'Daily Register'!FJ$3:FJ$242)=TRUE,\"P\",\"A\")","v":"A"},{"$f":"IF(Attendance($C37,'Daily Register'!FK$3:FK$242)=TRUE,\"P\",\"A\")","v":"A"},{"$f":"IF(Attendance($C37,'Daily Register'!FL$3:FL$242)=TRUE,\"P\",\"A\")","v":"A"},{"$f":"IF(Attendance($C37,'Daily Register'!FM$3:FM$242)=TRUE,\"P\",\"A\")","v":"A"},{"$f":"IF(Attendance($C37,'Daily Register'!FN$3:FN$242)=TRUE,\"P\",\"A\")","v":"A"},{"$f":"IF(Attendance($C37,'Daily Register'!FO$3:FO$242)=TRUE,\"P\",\"A\")","v":"A"},{"$f":"IF(Attendance($C37,'Daily Register'!FP$3:FP$242)=TRUE,\"P\",\"A\")","v":"A"},{"$f":"IF(Attendance($C37,'Daily Register'!FQ$3:FQ$242)=TRUE,\"P\",\"A\")","v":"A"},{"$f":"IF(Attendance($C37,'Daily Register'!FR$3:FR$242)=TRUE,\"P\",\"A\")","v":"A"},{"$f":"IF(Attendance($C37,'Daily Register'!FS$3:FS$242)=TRUE,\"P\",\"A\")","v":"A"},{"$f":"IF(Attendance($C37,'Daily Register'!FT$3:FT$242)=TRUE,\"P\",\"A\")","v":"A"},{"$f":"IF(Attendance($C37,'Daily Register'!FU$3:FU$242)=TRUE,\"P\",\"A\")","v":"A"},{"$f":"IF(Attendance($C37,'Daily Register'!FV$3:FV$242)=TRUE,\"P\",\"A\")","v":"A"},{"$f":"IF(Attendance($C37,'Daily Register'!FW$3:FW$242)=TRUE,\"P\",\"A\")","v":"A"},{"$f":"IF(Attendance($C37,'Daily Register'!FX$3:FX$242)=TRUE,\"P\",\"A\")","v":"A"},{"$f":"IF(Attendance($C37,'Daily Register'!FY$3:FY$242)=TRUE,\"P\",\"A\")","v":"A"},{"$f":"IF(Attendance($C37,'Daily Register'!FZ$3:FZ$242)=TRUE,\"P\",\"A\")","v":"A"},{"$f":"IF(Attendance($C37,'Daily Register'!GA$3:GA$242)=TRUE,\"P\",\"A\")","v":"A"},{"$f":"IF(Attendance($C37,'Daily Register'!GB$3:GB$242)=TRUE,\"P\",\"A\")","v":"A"},{"$f":"IF(Attendance($C37,'Daily Register'!GC$3:GC$242)=TRUE,\"P\",\"A\")","v":"A"},{"$f":"IF(Attendance($C37,'Daily Register'!GD$3:GD$242)=TRUE,\"P\",\"A\")","v":"A"},{"$f":"IF(Attendance($C37,'Daily Register'!GE$3:GE$242)=TRUE,\"P\",\"A\")","v":"A"},{"$f":"IF(Attendance($C37,'Daily Register'!GF$3:GF$242)=TRUE,\"P\",\"A\")","v":"A"},{"$f":"IF(Attendance($C37,'Daily Register'!GG$3:GG$242)=TRUE,\"P\",\"A\")","v":"A"},{"$f":"IF(Attendance($C37,'Daily Register'!GH$3:GH$242)=TRUE,\"P\",\"A\")","v":"A"},{"$f":"IF(Attendance($C37,'Daily Register'!GI$3:GI$242)=TRUE,\"P\",\"A\")","v":"A"},{"$f":"IF(Attendance($C37,'Daily Register'!GJ$3:GJ$242)=TRUE,\"P\",\"A\")","v":"A"},{"$f":"IF(Attendance($C37,'Daily Register'!GK$3:GK$242)=TRUE,\"P\",\"A\")","v":"A"},{"$f":"IF(Attendance($C37,'Daily Register'!GL$3:GL$242)=TRUE,\"P\",\"A\")","v":"A"},{"$f":"IF(Attendance($C37,'Daily Register'!GM$3:GM$242)=TRUE,\"P\",\"A\")","v":"A"},{"$f":"IF(Attendance($C37,'Daily Register'!GN$3:GN$242)=TRUE,\"P\",\"A\")","v":"A"},{"$f":"IF(Attendance($C37,'Daily Register'!GO$3:GO$242)=TRUE,\"P\",\"A\")","v":"A"},{"$f":"IF(Attendance($C37,'Daily Register'!GP$3:GP$242)=TRUE,\"P\",\"A\")","v":"A"},{"$f":"IF(Attendance($C37,'Daily Register'!GQ$3:GQ$242)=TRUE,\"P\",\"A\")","v":"A"},{"$f":"IF(Attendance($C37,'Daily Register'!GR$3:GR$242)=TRUE,\"P\",\"A\")","v":"A"},{"$f":"IF(Attendance($C37,'Daily Register'!GS$3:GS$242)=TRUE,\"P\",\"A\")","v":"A"},{"$f":"IF(Attendance($C37,'Daily Register'!GT$3:GT$242)=TRUE,\"P\",\"A\")","v":"A"},{"$f":"IF(Attendance($C37,'Daily Register'!GU$3:GU$242)=TRUE,\"P\",\"A\")","v":"A"},{"$f":"IF(Attendance($C37,'Daily Register'!GV$3:GV$242)=TRUE,\"P\",\"A\")","v":"A"},{"$f":"IF(Attendance($C37,'Daily Register'!GW$3:GW$242)=TRUE,\"P\",\"A\")","v":"A"},{"$f":"IF(Attendance($C37,'Daily Register'!GX$3:GX$242)=TRUE,\"P\",\"A\")","v":"A"},{"$f":"IF(Attendance($C37,'Daily Register'!GY$3:GY$242)=TRUE,\"P\",\"A\")","v":"A"},{"$f":"IF(Attendance($C37,'Daily Register'!GZ$3:GZ$242)=TRUE,\"P\",\"A\")","v":"A"},{"$f":"IF(Attendance($C37,'Daily Register'!HA$3:HA$242)=TRUE,\"P\",\"A\")","v":"A"},{"$f":"IF(Attendance($C37,'Daily Register'!HB$3:HB$242)=TRUE,\"P\",\"A\")","v":"A"},{"$f":"IF(Attendance($C37,'Daily Register'!HC$3:HC$242)=TRUE,\"P\",\"A\")","v":"A"},{"$f":"IF(Attendance($C37,'Daily Register'!HD$3:HD$242)=TRUE,\"P\",\"A\")","v":"A"},{"$f":"IF(Attendance($C37,'Daily Register'!HE$3:HE$242)=TRUE,\"P\",\"A\")","v":"A"},{"$f":"IF(Attendance($C37,'Daily Register'!HF$3:HF$242)=TRUE,\"P\",\"A\")","v":"A"},{"$f":"IF(Attendance($C37,'Daily Register'!HG$3:HG$242)=TRUE,\"P\",\"A\")","v":"A"},{"$f":"IF(Attendance($C37,'Daily Register'!HH$3:HH$242)=TRUE,\"P\",\"A\")","v":"A"},{"$f":"IF(Attendance($C37,'Daily Register'!HI$3:HI$242)=TRUE,\"P\",\"A\")","v":"A"},{"$f":"IF(Attendance($C37,'Daily Register'!HJ$3:HJ$242)=TRUE,\"P\",\"A\")","v":"A"},{"$f":"IF(Attendance($C37,'Daily Register'!HK$3:HK$242)=TRUE,\"P\",\"A\")","v":"A"},{"$f":"IF(Attendance($C37,'Daily Register'!HL$3:HL$242)=TRUE,\"P\",\"A\")","v":"A"},{"$f":"IF(Attendance($C37,'Daily Register'!HM$3:HM$242)=TRUE,\"P\",\"A\")","v":"A"},{"$f":"IF(Attendance($C37,'Daily Register'!HN$3:HN$242)=TRUE,\"P\",\"A\")","v":"A"},{"$f":"IF(Attendance($C37,'Daily Register'!HO$3:HO$242)=TRUE,\"P\",\"A\")","v":"A"},{"$f":"IF(Attendance($C37,'Daily Register'!HP$3:HP$242)=TRUE,\"P\",\"A\")","v":"A"},{"$f":"IF(Attendance($C37,'Daily Register'!HQ$3:HQ$242)=TRUE,\"P\",\"A\")","v":"A"},{"$f":"IF(Attendance($C37,'Daily Register'!HR$3:HR$242)=TRUE,\"P\",\"A\")","v":"A"},{"$f":"IF(Attendance($C37,'Daily Register'!HS$3:HS$242)=TRUE,\"P\",\"A\")","v":"A"},{"$f":"IF(Attendance($C37,'Daily Register'!HT$3:HT$242)=TRUE,\"P\",\"A\")","v":"A"},{"$f":"IF(Attendance($C37,'Daily Register'!HU$3:HU$242)=TRUE,\"P\",\"A\")","v":"A"},{"$f":"IF(Attendance($C37,'Daily Register'!HV$3:HV$242)=TRUE,\"P\",\"A\")","v":"A"},{"$f":"IF(Attendance($C37,'Daily Register'!HW$3:HW$242)=TRUE,\"P\",\"A\")","v":"A"},{"$f":"IF(Attendance($C37,'Daily Register'!HX$3:HX$242)=TRUE,\"P\",\"A\")","v":"A"},{"$f":"IF(Attendance($C37,'Daily Register'!HY$3:HY$242)=TRUE,\"P\",\"A\")","v":"A"},{"$f":"IF(Attendance($C37,'Daily Register'!HZ$3:HZ$242)=TRUE,\"P\",\"A\")","v":"A"},{"$f":"IF(Attendance($C37,'Daily Register'!IA$3:IA$242)=TRUE,\"P\",\"A\")","v":"A"},{"$f":"IF(Attendance($C37,'Daily Register'!IB$3:IB$242)=TRUE,\"P\",\"A\")","v":"A"},{"$f":"IF(Attendance($C37,'Daily Register'!IC$3:IC$242)=TRUE,\"P\",\"A\")","v":"A"},{"$f":"IF(Attendance($C37,'Daily Register'!ID$3:ID$242)=TRUE,\"P\",\"A\")","v":"A"},{"$f":"IF(Attendance($C37,'Daily Register'!IE$3:IE$242)=TRUE,\"P\",\"A\")","v":"A"},{"$f":"IF(Attendance($C37,'Daily Register'!IF$3:IF$242)=TRUE,\"P\",\"A\")","v":"A"},{"$f":"IF(Attendance($C37,'Daily Register'!IG$3:IG$242)=TRUE,\"P\",\"A\")","v":"A"},{"$f":"IF(Attendance($C37,'Daily Register'!IH$3:IH$242)=TRUE,\"P\",\"A\")","v":"A"},{"$f":"IF(Attendance($C37,'Daily Register'!II$3:II$242)=TRUE,\"P\",\"A\")","v":"A"},{"$f":"IF(Attendance($C37,'Daily Register'!IJ$3:IJ$242)=TRUE,\"P\",\"A\")","v":"A"},{"$f":"IF(Attendance($C37,'Daily Register'!IK$3:IK$242)=TRUE,\"P\",\"A\")","v":"A"},{"$f":"IF(Attendance($C37,'Daily Register'!IL$3:IL$242)=TRUE,\"P\",\"A\")","v":"A"},{"$f":"IF(Attendance($C37,'Daily Register'!IM$3:IM$242)=TRUE,\"P\",\"A\")","v":"A"},{"$f":"IF(Attendance($C37,'Daily Register'!IN$3:IN$242)=TRUE,\"P\",\"A\")","v":"A"},{"$f":"IF(Attendance($C37,'Daily Register'!IO$3:IO$242)=TRUE,\"P\",\"A\")","v":"A"},{"$f":"IF(Attendance($C37,'Daily Register'!IP$3:IP$242)=TRUE,\"P\",\"A\")","v":"A"},{"$f":"IF(Attendance($C37,'Daily Register'!IQ$3:IQ$242)=TRUE,\"P\",\"A\")","v":"A"},{"$f":"IF(Attendance($C37,'Daily Register'!IR$3:IR$242)=TRUE,\"P\",\"A\")","v":"A"},{"$f":"IF(Attendance($C37,'Daily Register'!IS$3:IS$242)=TRUE,\"P\",\"A\")","v":"A"},{"$f":"IF(Attendance($C37,'Daily Register'!IT$3:IT$242)=TRUE,\"P\",\"A\")","v":"A"},{"$f":"IF(Attendance($C37,'Daily Register'!IU$3:IU$242)=TRUE,\"P\",\"A\")","v":"A"},{"$f":"IF(Attendance($C37,'Daily Register'!IV$3:IV$242)=TRUE,\"P\",\"A\")","v":"A"},{"$f":"IF(Attendance($C37,'Daily Register'!IW$3:IW$242)=TRUE,\"P\",\"A\")","v":"A"},{"$f":"IF(Attendance($C37,'Daily Register'!IX$3:IX$242)=TRUE,\"P\",\"A\")","v":"A"},{"$f":"IF(Attendance($C37,'Daily Register'!IY$3:IY$242)=TRUE,\"P\",\"A\")","v":"A"},{"$f":"IF(Attendance($C37,'Daily Register'!IZ$3:IZ$242)=TRUE,\"P\",\"A\")","v":"A"},{"$f":"IF(Attendance($C37,'Daily Register'!JA$3:JA$242)=TRUE,\"P\",\"A\")","v":"A"},{"$f":"IF(Attendance($C37,'Daily Register'!JB$3:JB$242)=TRUE,\"P\",\"A\")","v":"A"},{"$f":"IF(Attendance($C37,'Daily Register'!JC$3:JC$242)=TRUE,\"P\",\"A\")","v":"A"},{"$f":"IF(Attendance($C37,'Daily Register'!JD$3:JD$242)=TRUE,\"P\",\"A\")","v":"A"},{"$f":"IF(Attendance($C37,'Daily Register'!JE$3:JE$242)=TRUE,\"P\",\"A\")","v":"A"},{"$f":"IF(Attendance($C37,'Daily Register'!JF$3:JF$242)=TRUE,\"P\",\"A\")","v":"A"},{"$f":"IF(Attendance($C37,'Daily Register'!JG$3:JG$242)=TRUE,\"P\",\"A\")","v":"A"},{"$f":"IF(Attendance($C37,'Daily Register'!JH$3:JH$242)=TRUE,\"P\",\"A\")","v":"A"},{"$f":"IF(Attendance($C37,'Daily Register'!JI$3:JI$242)=TRUE,\"P\",\"A\")","v":"A"},{"$f":"IF(Attendance($C37,'Daily Register'!JJ$3:JJ$242)=TRUE,\"P\",\"A\")","v":"A"},{"$f":"IF(Attendance($C37,'Daily Register'!JK$3:JK$242)=TRUE,\"P\",\"A\")","v":"A"},{"$f":"IF(Attendance($C37,'Daily Register'!JL$3:JL$242)=TRUE,\"P\",\"A\")","v":"A"},{"$f":"IF(Attendance($C37,'Daily Register'!JM$3:JM$242)=TRUE,\"P\",\"A\")","v":"A"},{"$f":"IF(Attendance($C37,'Daily Register'!JN$3:JN$242)=TRUE,\"P\",\"A\")","v":"A"},{"$f":"IF(Attendance($C37,'Daily Register'!JO$3:JO$242)=TRUE,\"P\",\"A\")","v":"A"},{"$f":"IF(Attendance($C37,'Daily Register'!JP$3:JP$242)=TRUE,\"P\",\"A\")","v":"A"},{"$f":"IF(Attendance($C37,'Daily Register'!JQ$3:JQ$242)=TRUE,\"P\",\"A\")","v":"A"},{"$f":"IF(Attendance($C37,'Daily Register'!JR$3:JR$242)=TRUE,\"P\",\"A\")","v":"A"},{"$f":"IF(Attendance($C37,'Daily Register'!JS$3:JS$242)=TRUE,\"P\",\"A\")","v":"A"},{"$f":"IF(Attendance($C37,'Daily Register'!JT$3:JT$242)=TRUE,\"P\",\"A\")","v":"A"},{"$f":"IF(Attendance($C37,'Daily Register'!JU$3:JU$242)=TRUE,\"P\",\"A\")","v":"A"},{"$f":"IF(Attendance($C37,'Daily Register'!JV$3:JV$242)=TRUE,\"P\",\"A\")","v":"A"},{"$f":"IF(Attendance($C37,'Daily Register'!JW$3:JW$242)=TRUE,\"P\",\"A\")","v":"A"},{"$f":"IF(Attendance($C37,'Daily Register'!JX$3:JX$242)=TRUE,\"P\",\"A\")","v":"A"},{"$f":"IF(Attendance($C37,'Daily Register'!JY$3:JY$242)=TRUE,\"P\",\"A\")","v":"A"},{"$f":"IF(Attendance($C37,'Daily Register'!JZ$3:JZ$242)=TRUE,\"P\",\"A\")","v":"A"},{"$f":"IF(Attendance($C37,'Daily Register'!KA$3:KA$242)=TRUE,\"P\",\"A\")","v":"A"},{"$f":"IF(Attendance($C37,'Daily Register'!KB$3:KB$242)=TRUE,\"P\",\"A\")","v":"A"},{"$f":"IF(Attendance($C37,'Daily Register'!KC$3:KC$242)=TRUE,\"P\",\"A\")","v":"A"},{"$f":"IF(Attendance($C37,'Daily Register'!KD$3:KD$242)=TRUE,\"P\",\"A\")","v":"A"},{"$f":"IF(Attendance($C37,'Daily Register'!KE$3:KE$242)=TRUE,\"P\",\"A\")","v":"A"},{"$f":"IF(Attendance($C37,'Daily Register'!KF$3:KF$242)=TRUE,\"P\",\"A\")","v":"A"},{"$f":"IF(Attendance($C37,'Daily Register'!KG$3:KG$242)=TRUE,\"P\",\"A\")","v":"A"},{"$f":"IF(Attendance($C37,'Daily Register'!KH$3:KH$242)=TRUE,\"P\",\"A\")","v":"A"},{"$f":"IF(Attendance($C37,'Daily Register'!KI$3:KI$242)=TRUE,\"P\",\"A\")","v":"A"},{"$f":"IF(Attendance($C37,'Daily Register'!KJ$3:KJ$242)=TRUE,\"P\",\"A\")","v":"A"},{"$f":"IF(Attendance($C37,'Daily Register'!KK$3:KK$242)=TRUE,\"P\",\"A\")","v":"A"},{"$f":"IF(Attendance($C37,'Daily Register'!KL$3:KL$242)=TRUE,\"P\",\"A\")","v":"A"},{"$f":"IF(Attendance($C37,'Daily Register'!KM$3:KM$242)=TRUE,\"P\",\"A\")","v":"A"},{"$f":"IF(Attendance($C37,'Daily Register'!KN$3:KN$242)=TRUE,\"P\",\"A\")","v":"A"},{"$f":"IF(Attendance($C37,'Daily Register'!KO$3:KO$242)=TRUE,\"P\",\"A\")","v":"A"},{"$f":"IF(Attendance($C37,'Daily Register'!KP$3:KP$242)=TRUE,\"P\",\"A\")","v":"A"},{"$f":"IF(Attendance($C37,'Daily Register'!KQ$3:KQ$242)=TRUE,\"P\",\"A\")","v":"A"},{"$f":"IF(Attendance($C37,'Daily Register'!KR$3:KR$242)=TRUE,\"P\",\"A\")","v":"A"},{"$f":"IF(Attendance($C37,'Daily Register'!KS$3:KS$242)=TRUE,\"P\",\"A\")","v":"A"},{"$f":"IF(Attendance($C37,'Daily Register'!KT$3:KT$242)=TRUE,\"P\",\"A\")","v":"A"},{"$f":"IF(Attendance($C37,'Daily Register'!KU$3:KU$242)=TRUE,\"P\",\"A\")","v":"A"},{"$f":"IF(Attendance($C37,'Daily Register'!KV$3:KV$242)=TRUE,\"P\",\"A\")","v":"A"},{"$f":"IF(Attendance($C37,'Daily Register'!KW$3:KW$242)=TRUE,\"P\",\"A\")","v":"A"},{"$f":"IF(Attendance($C37,'Daily Register'!KX$3:KX$242)=TRUE,\"P\",\"A\")","v":"A"},{"$f":"IF(Attendance($C37,'Daily Register'!KY$3:KY$242)=TRUE,\"P\",\"A\")","v":"A"},{"$f":"IF(Attendance($C37,'Daily Register'!KZ$3:KZ$242)=TRUE,\"P\",\"A\")","v":"A"},{"$f":"IF(Attendance($C37,'Daily Register'!LA$3:LA$242)=TRUE,\"P\",\"A\")","v":"A"},{"$f":"IF(Attendance($C37,'Daily Register'!LB$3:LB$242)=TRUE,\"P\",\"A\")","v":"A"},{"$f":"IF(Attendance($C37,'Daily Register'!LC$3:LC$242)=TRUE,\"P\",\"A\")","v":"A"},{"$f":"IF(Attendance($C37,'Daily Register'!LD$3:LD$242)=TRUE,\"P\",\"A\")","v":"A"},{"$f":"IF(Attendance($C37,'Daily Register'!LE$3:LE$242)=TRUE,\"P\",\"A\")","v":"A"},{"$f":"IF(Attendance($C37,'Daily Register'!LF$3:LF$242)=TRUE,\"P\",\"A\")","v":"A"},{"$f":"IF(Attendance($C37,'Daily Register'!LG$3:LG$242)=TRUE,\"P\",\"A\")","v":"A"},{"$f":"IF(Attendance($C37,'Daily Register'!LH$3:LH$242)=TRUE,\"P\",\"A\")","v":"A"},{"$f":"IF(Attendance($C37,'Daily Register'!LI$3:LI$242)=TRUE,\"P\",\"A\")","v":"A"},{"$f":"IF(Attendance($C37,'Daily Register'!LJ$3:LJ$242)=TRUE,\"P\",\"A\")","v":"A"},{"$f":"IF(Attendance($C37,'Daily Register'!LK$3:LK$242)=TRUE,\"P\",\"A\")","v":"A"},{"$f":"IF(Attendance($C37,'Daily Register'!LL$3:LL$242)=TRUE,\"P\",\"A\")","v":"A"},{"$f":"IF(Attendance($C37,'Daily Register'!LM$3:LM$242)=TRUE,\"P\",\"A\")","v":"A"},{"$f":"IF(Attendance($C37,'Daily Register'!LN$3:LN$242)=TRUE,\"P\",\"A\")","v":"A"},{"$f":"IF(Attendance($C37,'Daily Register'!LO$3:LO$242)=TRUE,\"P\",\"A\")","v":"A"},{"$f":"IF(Attendance($C37,'Daily Register'!LP$3:LP$242)=TRUE,\"P\",\"A\")","v":"A"},{"$f":"IF(Attendance($C37,'Daily Register'!LQ$3:LQ$242)=TRUE,\"P\",\"A\")","v":"A"},{"$f":"IF(Attendance($C37,'Daily Register'!LR$3:LR$242)=TRUE,\"P\",\"A\")","v":"A"},{"$f":"IF(Attendance($C37,'Daily Register'!LS$3:LS$242)=TRUE,\"P\",\"A\")","v":"A"},{"$f":"IF(Attendance($C37,'Daily Register'!LT$3:LT$242)=TRUE,\"P\",\"A\")","v":"A"},{"$f":"IF(Attendance($C37,'Daily Register'!LU$3:LU$242)=TRUE,\"P\",\"A\")","v":"A"},{"$f":"IF(Attendance($C37,'Daily Register'!LV$3:LV$242)=TRUE,\"P\",\"A\")","v":"A"},{"$f":"IF(Attendance($C37,'Daily Register'!LW$3:LW$242)=TRUE,\"P\",\"A\")","v":"A"},{"$f":"IF(Attendance($C37,'Daily Register'!LX$3:LX$242)=TRUE,\"P\",\"A\")","v":"A"},{"$f":"IF(Attendance($C37,'Daily Register'!LY$3:LY$242)=TRUE,\"P\",\"A\")","v":"A"},{"$f":"IF(Attendance($C37,'Daily Register'!LZ$3:LZ$242)=TRUE,\"P\",\"A\")","v":"A"},{"$f":"IF(Attendance($C37,'Daily Register'!MA$3:MA$242)=TRUE,\"P\",\"A\")","v":"A"},{"$f":"IF(Attendance($C37,'Daily Register'!MB$3:MB$242)=TRUE,\"P\",\"A\")","v":"A"},{"$f":"IF(Attendance($C37,'Daily Register'!MC$3:MC$242)=TRUE,\"P\",\"A\")","v":"A"},{"$f":"IF(Attendance($C37,'Daily Register'!MD$3:MD$242)=TRUE,\"P\",\"A\")","v":"A"},{"$f":"IF(Attendance($C37,'Daily Register'!ME$3:ME$242)=TRUE,\"P\",\"A\")","v":"A"},{"$f":"IF(Attendance($C37,'Daily Register'!MF$3:MF$242)=TRUE,\"P\",\"A\")","v":"A"},{"$f":"IF(Attendance($C37,'Daily Register'!MG$3:MG$242)=TRUE,\"P\",\"A\")","v":"A"},{"$f":"IF(Attendance($C37,'Daily Register'!MH$3:MH$242)=TRUE,\"P\",\"A\")","v":"A"},{"$f":"IF(Attendance($C37,'Daily Register'!MI$3:MI$242)=TRUE,\"P\",\"A\")","v":"A"},{"$f":"IF(Attendance($C37,'Daily Register'!MJ$3:MJ$242)=TRUE,\"P\",\"A\")","v":"A"},{"$f":"IF(Attendance($C37,'Daily Register'!MK$3:MK$242)=TRUE,\"P\",\"A\")","v":"A"},{"$f":"IF(Attendance($C37,'Daily Register'!ML$3:ML$242)=TRUE,\"P\",\"A\")","v":"A"},{"$f":"IF(Attendance($C37,'Daily Register'!MM$3:MM$242)=TRUE,\"P\",\"A\")","v":"A"},{"$f":"IF(Attendance($C37,'Daily Register'!MN$3:MN$242)=TRUE,\"P\",\"A\")","v":"A"},{"$f":"IF(Attendance($C37,'Daily Register'!MO$3:MO$242)=TRUE,\"P\",\"A\")","v":"A"},{"$f":"IF(Attendance($C37,'Daily Register'!MP$3:MP$242)=TRUE,\"P\",\"A\")","v":"A"},{"$f":"IF(Attendance($C37,'Daily Register'!MQ$3:MQ$242)=TRUE,\"P\",\"A\")","v":"A"},{"$f":"IF(Attendance($C37,'Daily Register'!MR$3:MR$242)=TRUE,\"P\",\"A\")","v":"A"},{"$f":"IF(Attendance($C37,'Daily Register'!MS$3:MS$242)=TRUE,\"P\",\"A\")","v":"A"},{"$f":"IF(Attendance($C37,'Daily Register'!MT$3:MT$242)=TRUE,\"P\",\"A\")","v":"A"},{"$f":"IF(Attendance($C37,'Daily Register'!MU$3:MU$242)=TRUE,\"P\",\"A\")","v":"A"},{"$f":"IF(Attendance($C37,'Daily Register'!MV$3:MV$242)=TRUE,\"P\",\"A\")","v":"A"},{"$f":"IF(Attendance($C37,'Daily Register'!MW$3:MW$242)=TRUE,\"P\",\"A\")","v":"A"},{"$f":"IF(Attendance($C37,'Daily Register'!MX$3:MX$242)=TRUE,\"P\",\"A\")","v":"A"},{"$f":"IF(Attendance($C37,'Daily Register'!MY$3:MY$242)=TRUE,\"P\",\"A\")","v":"A"},{"$f":"IF(Attendance($C37,'Daily Register'!MZ$3:MZ$242)=TRUE,\"P\",\"A\")","v":"A"},{"$f":"IF(Attendance($C37,'Daily Register'!NA$3:NA$242)=TRUE,\"P\",\"A\")","v":"A"},{"$f":"IF(Attendance($C37,'Daily Register'!NB$3:NB$242)=TRUE,\"P\",\"A\")","v":"A"}]
[0,null,35,null,{"$f":"IF(Attendance($C38,'Daily Register'!A$3:A$242)=TRUE,\"P\",\"A\")","v":"A"},{"$f":"IF(Attendance($C38,'Daily Register'!B$3:B$242)=TRUE,\"P\",\"A\")","v":"A"},{"$f":"IF(Attendance($C38,'Daily Register'!C$3:C$242)=TRUE,\"P\",\"A\")","v":"A"},{"$f":"IF(Attendance($C38,'Daily Register'!D$3:D$242)=TRUE,\"P\",\"A\")","v":"A"},{"$f":"IF(Attendance($C38,'Daily Register'!E$3:E$242)=TRUE,\"P\",\"A\")","v":"A"},{"$f":"IF(Attendance($C38,'Daily Register'!F$3:F$242)=TRUE,\"P\",\"A\")","v":"A"},{"$f":"IF(Attendance($C38,'Daily Register'!G$3:G$242)=TRUE,\"P\",\"A\")","v":"A"},{"$f":"IF(Attendance($C38,'Daily Register'!H$3:H$242)=TRUE,\"P\",\"A\")","v":"A"},{"$f":"IF(Attendance($C38,'Daily Register'!I$3:I$242)=TRUE,\"P\",\"A\")","v":"A"},{"$f":"IF(Attendance($C38,'Daily Register'!J$3:J$242)=TRUE,\"P\",\"A\")","v":"A"},{"$f":"IF(Attendance($C38,'Daily Register'!K$3:K$242)=TRUE,\"P\",\"A\")","v":"A"},{"$f":"IF(Attendance($C38,'Daily Register'!L$3:L$242)=TRUE,\"P\",\"A\")","v":"A"},{"$f":"IF(Attendance($C38,'Daily Register'!M$3:M$242)=TRUE,\"P\",\"A\")","v":"A"},{"$f":"IF(Attendance($C38,'Daily Register'!N$3:N$242)=TRUE,\"P\",\"A\")","v":"A"},{"$f":"IF(Attendance($C38,'Daily Register'!O$3:O$242)=TRUE,\"P\",\"A\")","v":"A"},{"$f":"IF(Attendance($C38,'Daily Register'!P$3:P$242)=TRUE,\"P\",\"A\")","v":"A"},{"$f":"IF(Attendance($C38,'Daily Register'!Q$3:Q$242)=TRUE,\"P\",\"A\")","v":"A"},{"$f":"IF(Attendance($C38,'Daily Register'!R$3:R$242)=TRUE,\"P\",\"A\")","v":"A"},{"$f":"IF(Attendance($C38,'Daily Register'!S$3:S$242)=TRUE,\"P\",\"A\")","v":"A"},{"$f":"IF(Attendance($C38,'Daily Register'!T$3:T$242)=TRUE,\"P\",\"A\")","v":"A"},{"$f":"IF(Attendance($C38,'Daily Register'!U$3:U$242)=TRUE,\"P\",\"A\")","v":"A"},{"$f":"IF(Attendance($C38,'Daily Register'!V$3:V$242)=TRUE,\"P\",\"A\")","v":"A"},{"$f":"IF(Attendance($C38,'Daily Register'!W$3:W$242)=TRUE,\"P\",\"A\")","v":"A"},{"$f":"IF(Attendance($C38,'Daily Register'!X$3:X$242)=TRUE,\"P\",\"A\")","v":"A"},{"$f":"IF(Attendance($C38,'Daily Register'!Y$3:Y$242)=TRUE,\"P\",\"A\")","v":"A"},{"$f":"IF(Attendance($C38,'Daily Register'!Z$3:Z$242)=TRUE,\"P\",\"A\")","v":"A"},{"$f":"IF(Attendance($C38,'Daily Register'!AA$3:AA$242)=TRUE,\"P\",\"A\")","v":"A"},{"$f":"IF(Attendance($C38,'Daily Register'!AB$3:AB$242)=TRUE,\"P\",\"A\")","v":"A"},{"$f":"IF(Attendance($C38,'Daily Register'!AC$3:AC$242)=TRUE,\"P\",\"A\")","v":"A"},{"$f":"IF(Attendance($C38,'Daily Register'!AD$3:AD$242)=TRUE,\"P\",\"A\")","v":"A"},{"$f":"IF(Attendance($C38,'Daily Register'!AE$3:AE$242)=TRUE,\"P\",\"A\")","v":"A"},{"$f":"IF(Attendance($C38,'Daily Register'!AF$3:AF$242)=TRUE,\"P\",\"A\")","v":"A"},{"$f":"IF(Attendance($C38,'Daily Register'!AG$3:AG$242)=TRUE,\"P\",\"A\")","v":"A"},{"$f":"IF(Attendance($C38,'Daily Register'!AH$3:AH$242)=TRUE,\"P\",\"A\")","v":"A"},{"$f":"IF(Attendance($C38,'Daily Register'!AI$3:AI$242)=TRUE,\"P\",\"A\")","v":"A"},{"$f":"IF(Attendance($C38,'Daily Register'!AJ$3:AJ$242)=TRUE,\"P\",\"A\")","v":"A"},{"$f":"IF(Attendance($C38,'Daily Register'!AK$3:AK$242)=TRUE,\"P\",\"A\")","v":"A"},{"$f":"IF(Attendance($C38,'Daily Register'!AL$3:AL$242)=TRUE,\"P\",\"A\")","v":"A"},{"$f":"IF(Attendance($C38,'Daily Register'!AM$3:AM$242)=TRUE,\"P\",\"A\")","v":"A"},{"$f":"IF(Attendance($C38,'Daily Register'!AN$3:AN$242)=TRUE,\"P\",\"A\")","v":"A"},{"$f":"IF(Attendance($C38,'Daily Register'!AO$3:AO$242)=TRUE,\"P\",\"A\")","v":"A"},{"$f":"IF(Attendance($C38,'Daily Register'!AP$3:AP$242)=TRUE,\"P\",\"A\")","v":"A"},{"$f":"IF(Attendance($C38,'Daily Register'!AQ$3:AQ$242)=TRUE,\"P\",\"A\")","v":"A"},{"$f":"IF(Attendance($C38,'Daily Register'!AR$3:AR$242)=TRUE,\"P\",\"A\")","v":"A"},{"$f":"IF(Attendance($C38,'Daily Register'!AS$3:AS$242)=TRUE,\"P\",\"A\")","v":"A"},{"$f":"IF(Attendance($C38,'Daily Register'!AT$3:AT$242)=TRUE,\"P\",\"A\")","v":"A"},{"$f":"IF(Attendance($C38,'Daily Register'!AU$3:AU$242)=TRUE,\"P\",\"A\")","v":"A"},{"$f":"IF(Attendance($C38,'Daily Register'!AV$3:AV$242)=TRUE,\"P\",\"A\")","v":"A"},{"$f":"IF(Attendance($C38,'Daily Register'!AW$3:AW$242)=TRUE,\"P\",\"A\")","v":"A"},{"$f":"IF(Attendance($C38,'Daily Register'!AX$3:AX$242)=TRUE,\"P\",\"A\")","v":"A"},{"$f":"IF(Attendance($C38,'Daily Register'!AY$3:AY$242)=TRUE,\"P\",\"A\")","v":"A"},{"$f":"IF(Attendance($C38,'Daily Register'!AZ$3:AZ$242)=TRUE,\"P\",\"A\")","v":"A"},{"$f":"IF(Attendance($C38,'Daily Register'!BA$3:BA$242)=TRUE,\"P\",\"A\")","v":"A"},{"$f":"IF(Attendance($C38,'Daily Register'!BB$3:BB$242)=TRUE,\"P\",\"A\")","v":"A"},{"$f":"IF(Attendance($C38,'Daily Register'!BC$3:BC$242)=TRUE,\"P\",\"A\")","v":"A"},{"$f":"IF(Attendance($C38,'Daily Register'!BD$3:BD$242)=TRUE,\"P\",\"A\")","v":"A"},{"$f":"IF(Attendance($C38,'Daily Register'!BE$3:BE$242)=TRUE,\"P\",\"A\")","v":"A"},{"$f":"IF(Attendance($C38,'Daily Register'!BF$3:BF$242)=TRUE,\"P\",\"A\")","v":"A"},{"$f":"IF(Attendance($C38,'Daily Register'!BG$3:BG$242)=TRUE,\"P\",\"A\")","v":"A"},{"$f":"IF(Attendance($C38,'Daily Register'!BH$3:BH$242)=TRUE,\"P\",\"A\")","v":"A"},{"$f":"IF(Attendance($C38,'Daily Register'!BI$3:BI$242)=TRUE,\"P\",\"A\")","v":"A"},{"$f":"IF(Attendance($C38,'Daily Register'!BJ$3:BJ$242)=TRUE,\"P\",\"A\")","v":"A"},{"$f":"IF(Attendance($C38,'Daily Register'!BK$3:BK$242)=TRUE,\"P\",\"A\")","v":"A"},{"$f":"IF(Attendance($C38,'Daily Register'!BL$3:BL$242)=TRUE,\"P\",\"A\")","v":"A"},{"$f":"IF(Attendance($C38,'Daily Register'!BM$3:BM$242)=TRUE,\"P\",\"A\")","v":"A"},{"$f":"IF(Attendance($C38,'Daily Register'!BN$3:BN$242)=TRUE,\"P\",\"A\")","v":"A"},{"$f":"IF(Attendance($C38,'Daily Register'!BO$3:BO$242)=TRUE,\"P\",\"A\")","v":"A"},{"$f":"IF(Attendance($C38,'Daily Register'!BP$3:BP$242)=TRUE,\"P\",\"A\")","v":"A"},{"$f":"IF(Attendance($C38,'Daily Register'!BQ$3:BQ$242)=TRUE,\"P\",\"A\")","v":"A"},{"$f":"IF(Attendance($C38,'Daily Register'!BR$3:BR$242)=TRUE,\"P\",\"A\")","v":"A"},{"$f":"IF(Attendance($C38,'Daily Register'!BS$3:BS$242)=TRUE,\"P\",\"A\")","v":"A"},{"$f":"IF(Attendance($C38,'Daily Register'!BT$3:BT$242)=TRUE,\"P\",\"A\")","v":"A"},{"$f":"IF(Attendance($C38,'Daily Register'!BU$3:BU$242)=TRUE,\"P\",\"A\")","v":"A"},{"$f":"IF(Attendance($C38,'Daily Register'!BV$3:BV$242)=TRUE,\"P\",\"A\")","v":"A"},{"$f":"IF(Attendance($C38,'Daily Register'!BW$3:BW$242)=TRUE,\"P\",\"A\")","v":"A"},{"$f":"IF(Attendance($C38,'Daily Register'!BX$3:BX$242)=TRUE,\"P\",\"A\")","v":"A"},{"$f":"IF(Attendance($C38,'Daily Register'!BY$3:BY$242)=TRUE,\"P\",\"A\")","v":"A"},{"$f":"IF(Attendance($C38,'Daily Register'!BZ$3:BZ$242)=TRUE,\"P\",\"A\")","v":"A"},{"$f":"IF(Attendance($C38,'Daily Register'!CA$3:CA$242)=TRUE,\"P\",\"A\")","v":"A"},{"$f":"IF(Attendance($C38,'Daily Register'!CB$3:CB$242)=TRUE,\"P\",\"A\")","v":"A"},{"$f":"IF(Attendance($C38,'Daily Register'!CC$3:CC$242)=TRUE,\"P\",\"A\")","v":"A"},{"$f":"IF(Attendance($C38,'Daily Register'!CD$3:CD$242)=TRUE,\"P\",\"A\")","v":"A"},{"$f":"IF(Attendance($C38,'Daily Register'!CE$3:CE$242)=TRUE,\"P\",\"A\")","v":"A"},{"$f":"IF(Attendance($C38,'Daily Register'!CF$3:CF$242)=TRUE,\"P\",\"A\")","v":"A"},{"$f":"IF(Attendance($C38,'Daily Register'!CG$3:CG$242)=TRUE,\"P\",\"A\")","v":"A"},{"$f":"IF(Attendance($C38,'Daily Register'!CH$3:CH$242)=TRUE,\"P\",\"A\")","v":"A"},{"$f":"IF(Attendance($C38,'Daily Register'!CI$3:CI$242)=TRUE,\"P\",\"A\")","v":"A"},{"$f":"IF(Attendance($C38,'Daily Register'!CJ$3:CJ$242)=TRUE,\"P\",\"A\")","v":"A"},{"$f":"IF(Attendance($C38,'Daily Register'!CK$3:CK$242)=TRUE,\"P\",\"A\")","v":"A"},{"$f":"IF(Attendance($C38,'Daily Register'!CL$3:CL$242)=TRUE,\"P\",\"A\")","v":"A"},{"$f":"IF(Attendance($C38,'Daily Register'!CM$3:CM$242)=TRUE,\"P\",\"A\")","v":"A"},{"$f":"IF(Attendance($C38,'Daily Register'!CN$3:CN$242)=TRUE,\"P\",\"A\")","v":"A"},{"$f":"IF(Attendance($C38,'Daily Register'!CO$3:CO$242)=TRUE,\"P\",\"A\")","v":"A"},{"$f":"IF(Attendance($C38,'Daily Register'!CP$3:CP$242)=TRUE,\"P\",\"A\")","v":"A"},{"$f":"IF(Attendance($C38,'Daily Register'!CQ$3:CQ$242)=TRUE,\"P\",\"A\")","v":"A"},{"$f":"IF(Attendance($C38,'Daily Register'!CR$3:CR$242)=TRUE,\"P\",\"A\")","v":"A"},{"$f":"IF(Attendance($C38,'Daily Register'!CS$3:CS$242)=TRUE,\"P\",\"A\")","v":"A"},{"$f":"IF(Attendance($C38,'Daily Register'!CT$3:CT$242)=TRUE,\"P\",\"A\")","v":"A"},{"$f":"IF(Attendance($C38,'Daily Register'!CU$3:CU$242)=TRUE,\"P\",\"A\")","v":"A"},{"$f":"IF(Attendance($C38,'Daily Register'!CV$3:CV$242)=TRUE,\"P\",\"A\")","v":"A"},{"$f":"IF(Attendance($C38,'Daily Register'!CW$3:CW$242)=TRUE,\"P\",\"A\")","v":"A"},{"$f":"IF(Attendance($C38,'Daily Register'!CX$3:CX$242)=TRUE,\"P\",\"A\")","v":"A"},{"$f":"IF(Attendance($C38,'Daily Register'!CY$3:CY$242)=TRUE,\"P\",\"A\")","v":"A"},{"$f":"IF(Attendance($C38,'Daily Register'!CZ$3:CZ$242)=TRUE,\"P\",\"A\")","v":"A"},{"$f":"IF(Attendance($C38,'Daily Register'!DA$3:DA$242)=TRUE,\"P\",\"A\")","v":"A"},{"$f":"IF(Attendance($C38,'Daily Register'!DB$3:DB$242)=TRUE,\"P\",\"A\")","v":"A"},{"$f":"IF(Attendance($C38,'Daily Register'!DC$3:DC$242)=TRUE,\"P\",\"A\")","v":"A"},{"$f":"IF(Attendance($C38,'Daily Register'!DD$3:DD$242)=TRUE,\"P\",\"A\")","v":"A"},{"$f":"IF(Attendance($C38,'Daily Register'!DE$3:DE$242)=TRUE,\"P\",\"A\")","v":"A"},{"$f":"IF(Attendance($C38,'Daily Register'!DF$3:DF$242)=TRUE,\"P\",\"A\")","v":"A"},{"$f":"IF(Attendance($C38,'Daily Register'!DG$3:DG$242)=TRUE,\"P\",\"A\")","v":"A"},{"$f":"IF(Attendance($C38,'Daily Register'!DH$3:DH$242)=TRUE,\"P\",\"A\")","v":"A"},{"$f":"IF(Attendance($C38,'Daily Register'!DI$3:DI$242)=TRUE,\"P\",\"A\")","v":"A"},{"$f":"IF(Attendance($C38,'Daily Register'!DJ$3:DJ$242)=TRUE,\"P\",\"A\")","v":"A"},{"$f":"IF(Attendance($C38,'Daily Register'!DK$3:DK$242)=TRUE,\"P\",\"A\")","v":"A"},{"$f":"IF(Attendance($C38,'Daily Register'!DL$3:DL$242)=TRUE,\"P\",\"A\")","v":"A"},{"$f":"IF(Attendance($C38,'Daily Register'!DM$3:DM$242)=TRUE,\"P\",\"A\")","v":"A"},{"$f":"IF(Attendance($C38,'Daily Register'!DN$3:DN$242)=TRUE,\"P\",\"A\")","v":"A"},{"$f":"IF(Attendance($C38,'Daily Register'!DO$3:DO$242)=TRUE,\"P\",\"A\")","v":"A"},{"$f":"IF(Attendance($C38,'Daily Register'!DP$3:DP$242)=TRUE,\"P\",\"A\")","v":"A"},{"$f":"IF(Attendance($C38,'Daily Register'!DQ$3:DQ$242)=TRUE,\"P\",\"A\")","v":"A"},{"$f":"IF(Attendance($C38,'Daily Register'!DR$3:DR$242)=TRUE,\"P\",\"A\")","v":"A"},{"$f":"IF(Attendance($C38,'Daily Register'!DS$3:DS$242)=TRUE,\"P\",\"A\")","v":"A"},{"$f":"IF(Attendance($C38,'Daily Register'!DT$3:DT$242)=TRUE,\"P\",\"A\")","v":"A"},{"$f":"IF(Attendance($C38,'Daily Register'!DU$3:DU$242)=TRUE,\"P\",\"A\")","v":"A"},{"$f":"IF(Attendance($C38,'Daily Register'!DV$3:DV$242)=TRUE,\"P\",\"A\")","v":"A"},{"$f":"IF(Attendance($C38,'Daily Register'!DW$3:DW$242)=TRUE,\"P\",\"A\")","v":"A"},{"$f":"IF(Attendance($C38,'Daily Register'!DX$3:DX$242)=TRUE,\"P\",\"A\")","v":"A"},{"$f":"IF(Attendance($C38,'Daily Register'!DY$3:DY$242)=TRUE,\"P\",\"A\")","v":"A"},{"$f":"IF(Attendance($C38,'Daily Register'!DZ$3:DZ$242)=TRUE,\"P\",\"A\")","v":"A"},{"$f":"IF(Attendance($C38,'Daily Register'!EA$3:EA$242)=TRUE,\"P\",\"A\")","v":"A"},{"$f":"IF(Attendance($C38,'Daily Register'!EB$3:EB$242)=TRUE,\"P\",\"A\")","v":"A"},{"$f":"IF(Attendance($C38,'Daily Register'!EC$3:EC$242)=TRUE,\"P\",\"A\")","v":"A"},{"$f":"IF(Attendance($C38,'Daily Register'!ED$3:ED$242)=TRUE,\"P\",\"A\")","v":"A"},{"$f":"IF(Attendance($C38,'Daily Register'!EE$3:EE$242)=TRUE,\"P\",\"A\")","v":"A"},{"$f":"IF(Attendance($C38,'Daily Register'!EF$3:EF$242)=TRUE,\"P\",\"A\")","v":"A"},{"$f":"IF(Attendance($C38,'Daily Register'!EG$3:EG$242)=TRUE,\"P\",\"A\")","v":"A"},{"$f":"IF(Attendance($C38,'Daily Register'!EH$3:EH$242)=TRUE,\"P\",\"A\")","v":"A"},{"$f":"IF(Attendance($C38,'Daily Register'!EI$3:EI$242)=TRUE,\"P\",\"A\")","v":"A"},{"$f":"IF(Attendance($C38,'Daily Register'!EJ$3:EJ$242)=TRUE,\"P\",\"A\")","v":"A"},{"$f":"IF(Attendance($C38,'Daily Register'!EK$3:EK$242)=TRUE,\"P\",\"A\")","v":"A"},{"$f":"IF(Attendance($C38,'Daily Register'!EL$3:EL$242)=TRUE,\"P\",\"A\")","v":"A"},{"$f":"IF(Attendance($C38,'Daily Register'!EM$22:EM$242)=TRUE,\"P\",\"A\")","v":"A"},{"$f":"IF(Attendance($C38,'Daily Register'!EN$3:EN$242)=TRUE,\"P\",\"A\")","v":"A"},{"$f":"IF(Attendance($C38,'Daily Register'!EO$3:EO$242)=TRUE,\"P\",\"A\")","v":"A"},{"$f":"IF(Attendance($C38,'Daily Register'!EP$3:EP$242)=TRUE,\"P\",\"A\")","v":"A"},{"$f":"IF(Attendance($C38,'Daily Register'!EQ$3:EQ$242)=TRUE,\"P\",\"A\")","v":"A"},{"$f":"IF(Attendance($C38,'Daily Register'!ER$3:ER$242)=TRUE,\"P\",\"A\")","v":"A"},{"$f":"IF(Attendance($C38,'Daily Register'!ES$3:ES$242)=TRUE,\"P\",\"A\")","v":"A"},{"$f":"IF(Attendance($C38,'Daily Register'!ET$3:ET$242)=TRUE,\"P\",\"A\")","v":"A"},{"$f":"IF(Attendance($C38,'Daily Register'!EU$3:EU$242)=TRUE,\"P\",\"A\")","v":"A"},{"$f":"IF(Attendance($C38,'Daily Register'!EV$3:EV$242)=TRUE,\"P\",\"A\")","v":"A"},{"$f":"IF(Attendance($C38,'Daily Register'!EW$3:EW$242)=TRUE,\"P\",\"A\")","v":"A"},{"$f":"IF(Attendance($C38,'Daily Register'!EX$3:EX$242)=TRUE,\"P\",\"A\")","v":"A"},{"$f":"IF(Attendance($C38,'Daily Register'!EY$3:EY$242)=TRUE,\"P\",\"A\")","v":"A"},{"$f":"IF(Attendance($C38,'Daily Register'!EZ$3:EZ$242)=TRUE,\"P\",\"A\")","v":"A"},{"$f":"IF(Attendance($C38,'Daily Register'!FA$3:FA$242)=TRUE,\"P\",\"A\")","v":"A"},{"$f":"IF(Attendance($C38,'Daily Register'!FB$3:FB$242)=TRUE,\"P\",\"A\")","v":"A"},{"$f":"IF(Attendance($C38,'Daily Register'!FC$3:FC$242)=TRUE,\"P\",\"A\")","v":"A"},{"$f":"IF(Attendance($C38,'Daily Register'!FD$3:FD$242)=TRUE,\"P\",\"A\")","v":"A"},{"$f":"IF(Attendance($C38,'Daily Register'!FE$3:FE$242)=TRUE,\"P\",\"A\")","v":"A"},{"$f":"IF(Attendance($C38,'Daily Register'!FF$3:FF$242)=TRUE,\"P\",\"A\")","v":"A"},{"$f":"IF(Attendance($C38,'Daily Register'!FG$3:FG$242)=TRUE,\"P\",\"A\")","v":"A"},{"$f":"IF(Attendance($C38,'Daily Register'!FH$3:FH$242)=TRUE,\"P\",\"A\")","v":"A"},{"$f":"IF(Attendance($C38,'Daily Register'!FI$3:FI$242)=TRUE,\"P\",\"A\")","v":"A"},{"$f":"IF(Attendance($C38,'Daily Register'!FJ$3:FJ$242)=TRUE,\"P\",\"A\")","v":"A"},{"$f":"IF(Attendance($C38,'Daily Register'!FK$3:FK$242)=TRUE,\"P\",\"A\")","v":"A"},{"$f":"IF(Attendance($C38,'Daily Register'!FL$3:FL$242)=TRUE,\"P\",\"A\")","v":"A"},{"$f":"IF(Attendance($C38,'Daily Register'!FM$3:FM$242)=TRUE,\"P\",\"A\")","v":"A"},{"$f":"IF(Attendance($C38,'Daily Register'!FN$3:FN$242)=TRUE,\"P\",\"A\")","v":"A"},{"$f":"IF(Attendance($C38,'Daily Register'!FO$3:FO$242)=TRUE,\"P\",\"A\")","v":"A"},{"$f":"IF(Attendance($C38,'Daily Register'!FP$3:FP$242)=TRUE,\"P\",\"A\")","v":"A"},{"$f":"IF(Attendance($C38,'Daily Register'!FQ$3:FQ$242)=TRUE,\"P\",\"A\")","v":"A"},{"$f":"IF(Attendance($C38,'Daily Register'!FR$3:FR$242)=TRUE,\"P\",\"A\")","v":"A"},{"$f":"IF(Attendance($C38,'Daily Register'!FS$3:FS$242)=TRUE,\"P\",\"A\")","v":"A"},{"$f":"IF(Attendance($C38,'Daily Register'!FT$3:FT$242)=TRUE,\"P\",\"A\")","v":"A"},{"$f":"IF(Attendance($C38,'Daily Register'!FU$3:FU$242)=TRUE,\"P\",\"A\")","v":"A"},{"$f":"IF(Attendance($C38,'Daily Register'!FV$3:FV$242)=TRUE,\"P\",\"A\")","v":"A"},{"$f":"IF(Attendance($C38,'Daily Register'!FW$3:FW$242)=TRUE,\"P\",\"A\")","v":"A"},{"$f":"IF(Attendance($C38,'Daily Register'!FX$3:FX$242)=TRUE,\"P\",\"A\")","v":"A"},{"$f":"IF(Attendance($C38,'Daily Register'!FY$3:FY$242)=TRUE,\"P\",\"A\")","v":"A"},{"$f":"IF(Attendance($C38,'Daily Register'!FZ$3:FZ$242)=TRUE,\"P\",\"A\")","v":"A"},{"$f":"IF(Attendance($C38,'Daily Register'!GA$3:GA$242)=TRUE,\"P\",\"A\")","v":"A"},{"$f":"IF(Attendance($C38,'Daily Register'!GB$3:GB$242)=TRUE,\"P\",\"A\")","v":"A"},{"$f":"IF(Attendance($C38,'Daily Register'!GC$3:GC$242)=TRUE,\"P\",\"A\")","v":"A"},{"$f":"IF(Attendance($C38,'Daily Register'!GD$3:GD$242)=TRUE,\"P\",\"A\")","v":"A"},{"$f":"IF(Attendance($C38,'Daily Register'!GE$3:GE$242)=TRUE,\"P\",\"A\")","v":"A"},{"$f":"IF(Attendance($C38,'Daily Register'!GF$3:GF$242)=TRUE,\"P\",\"A\")","v":"A"},{"$f":"IF(Attendance($C38,'Daily Register'!GG$3:GG$242)=TRUE,\"P\",\"A\")","v":"A"},{"$f":"IF(Attendance($C38,'Daily Register'!GH$3:GH$242)=TRUE,\"P\",\"A\")","v":"A"},{"$f":"IF(Attendance($C38,'Daily Register'!GI$3:GI$242)=TRUE,\"P\",\"A\")","v":"A"},{"$f":"IF(Attendance($C38,'Daily Register'!GJ$3:GJ$242)=TRUE,\"P\",\"A\")","v":"A"},{"$f":"IF(Attendance($C38,'Daily Register'!GK$3:GK$242)=TRUE,\"P\",\"A\")","v":"A"},{"$f":"IF(Attendance($C38,'Daily Register'!GL$3:GL$242)=TRUE,\"P\",\"A\")","v":"A"},{"$f":"IF(Attendance($C38,'Daily Register'!GM$3:GM$242)=TRUE,\"P\",\"A\")","v":"A"},{"$f":"IF(Attendance($C38,'Daily Register'!GN$3:GN$242)=TRUE,\"P\",\"A\")","v":"A"},{"$f":"IF(Attendance($C38,'Daily Register'!GO$3:GO$242)=TRUE,\"P\",\"A\")","v":"A"},{"$f":"IF(Attendance($C38,'Daily Register'!GP$3:GP$242)=TRUE,\"P\",\"A\")","v":"A"},{"$f":"IF(Attendance($C38,'Daily Register'!GQ$3:GQ$242)=TRUE,\"P\",\"A\")","v":"A"},{"$f":"IF(Attendance($C38,'Daily Register'!GR$3:GR$242)=TRUE,\"P\",\"A\")","v":"A"},{"$f":"IF(Attendance($C38,'Daily Register'!GS$3:GS$242)=TRUE,\"P\",\"A\")","v":"A"},{"$f":"IF(Attendance($C38,'Daily Register'!GT$3:GT$242)=TRUE,\"P\",\"A\")","v":"A"},{"$f":"IF(Attendance($C38,'Daily Register'!GU$3:GU$242)=TRUE,\"P\",\"A\")","v":"A"},{"$f":"IF(Attendance($C38,'Daily Register'!GV$3:GV$242)=TRUE,\"P\",\"A\")","v":"A"},{"$f":"IF(Attendance($C38,'Daily Register'!GW$3:GW$242)=TRUE,\"P\",\"A\")","v":"A"},{"$f":"IF(Attendance($C38,'Daily Register'!GX$3:GX$242)=TRUE,\"P\",\"A\")","v":"A"},{"$f":"IF(Attendance($C38,'Daily Register'!GY$3:GY$242)=TRUE,\"P\",\"A\")","v":"A"},{"$f":"IF(Attendance($C38,'Daily Register'!GZ$3:GZ$242)=TRUE,\"P\",\"A\")","v":"A"},{"$f":"IF(Attendance($C38,'Daily Register'!HA$3:HA$242)=TRUE,\"P\",\"A\")","v":"A"},{"$f":"IF(Attendance($C38,'Daily Register'!HB$3:HB$242)=TRUE,\"P\",\"A\")","v":"A"},{"$f":"IF(Attendance($C38,'Daily Register'!HC$3:HC$242)=TRUE,\"P\",\"A\")","v":"A"},{"$f":"IF(Attendance($C38,'Daily Register'!HD$3:HD$242)=TRUE,\"P\",\"A\")","v":"A"},{"$f":"IF(Attendance($C38,'Daily Register'!HE$3:HE$242)=TRUE,\"P\",\"A\")","v":"A"},{"$f":"IF(Attendance($C38,'Daily Register'!HF$3:HF$242)=TRUE,\"P\",\"A\")","v":"A"},{"$f":"IF(Attendance($C38,'Daily Register'!HG$3:HG$242)=TRUE,\"P\",\"A\")","v":"A"},{"$f":"IF(Attendance($C38,'Daily Register'!HH$3:HH$242)=TRUE,\"P\",\"A\")","v":"A"},{"$f":"IF(Attendance($C38,'Daily Register'!HI$3:HI$242)=TRUE,\"P\",\"A\")","v":"A"},{"$f":"IF(Attendance($C38,'Daily Register'!HJ$3:HJ$242)=TRUE,\"P\",\"A\")","v":"A"},{"$f":"IF(Attendance($C38,'Daily Register'!HK$3:HK$242)=TRUE,\"P\",\"A\")","v":"A"},{"$f":"IF(Attendance($C38,'Daily Register'!HL$3:HL$242)=TRUE,\"P\",\"A\")","v":"A"},{"$f":"IF(Attendance($C38,'Daily Register'!HM$3:HM$242)=TRUE,\"P\",\"A\")","v":"A"},{"$f":"IF(Attendance($C38,'Daily Register'!HN$3:HN$242)=TRUE,\"P\",\"A\")","v":"A"},{"$f":"IF(Attendance($C38,'Daily Register'!HO$3:HO$242)=TRUE,\"P\",\"A\")","v":"A"},{"$f":"IF(Attendance($C38,'Daily Register'!HP$3:HP$242)=TRUE,\"P\",\"A\")","v":"A"},{"$f":"IF(Attendance($C38,'Daily Register'!HQ$3:HQ$242)=TRUE,\"P\",\"A\")","v":"A"},{"$f":"IF(Attendance($C38,'Daily Register'!HR$3:HR$242)=TRUE,\"P\",\"A\")","v":"A"},{"$f":"IF(Attendance($C38,'Daily Register'!HS$3:HS$242)=TRUE,\"P\",\"A\")","v":"A"},{"$f":"IF(Attendance($C38,'Daily Register'!HT$3:HT$242)=TRUE,\"P\",\"A\")","v":"A"},{"$f":"IF(Attendance($C38,'Daily Register'!HU$3:HU$242)=TRUE,\"P\",\"A\")","v":"A"},{"$f":"IF(Attendance($C38,'Daily Register'!HV$3:HV$242)=TRUE,\"P\",\"A\")","v":"A"},{"$f":"IF(Attendance($C38,'Daily Register'!HW$3:HW$242)=TRUE,\"P\",\"A\")","v":"A"},{"$f":"IF(Attendance($C38,'Daily Register'!HX$3:HX$242)=TRUE,\"P\",\"A\")","v":"A"},{"$f":"IF(Attendance($C38,'Daily Register'!HY$3:HY$242)=TRUE,\"P\",\"A\")","v":"A"},{"$f":"IF(Attendance($C38,'Daily Register'!HZ$3:HZ$242)=TRUE,\"P\",\"A\")","v":"A"},{"$f":"IF(Attendance($C38,'Daily Register'!IA$3:IA$242)=TRUE,\"P\",\"A\")","v":"A"},{"$f":"IF(Attendance($C38,'Daily Register'!IB$3:IB$242)=TRUE,\"P\",\"A\")","v":"A"},{"$f":"IF(Attendance($C38,'Daily Register'!IC$3:IC$242)=TRUE,\"P\",\"A\")","v":"A"},{"$f":"IF(Attendance($C38,'Daily Register'!ID$3:ID$242)=TRUE,\"P\",\"A\")","v":"A"},{"$f":"IF(Attendance($C38,'Daily Register'!IE$3:IE$242)=TRUE,\"P\",\"A\")","v":"A"},{"$f":"IF(Attendance($C38,'Daily Register'!IF$3:IF$242)=TRUE,\"P\",\"A\")","v":"A"},{"$f":"IF(Attendance($C38,'Daily Register'!IG$3:IG$242)=TRUE,\"P\",\"A\")","v":"A"},{"$f":"IF(Attendance($C38,'Daily Register'!IH$3:IH$242)=TRUE,\"P\",\"A\")","v":"A"},{"$f":"IF(Attendance($C38,'Daily Register'!II$3:II$242)=TRUE,\"P\",\"A\")","v":"A"},{"$f":"IF(Attendance($C38,'Daily Register'!IJ$3:IJ$242)=TRUE,\"P\",\"A\")","v":"A"},{"$f":"IF(Attendance($C38,'Daily Register'!IK$3:IK$242)=TRUE,\"P\",\"A\")","v":"A"},{"$f":"IF(Attendance($C38,'Daily Register'!IL$3:IL$242)=TRUE,\"P\",\"A\")","v":"A"},{"$f":"IF(Attendance($C38,'Daily Register'!IM$3:IM$242)=TRUE,\"P\",\"A\")","v":"A"},{"$f":"IF(Attendance($C38,'Daily Register'!IN$3:IN$242)=TRUE,\"P\",\"A\")","v":"A"},{"$f":"IF(Attendance($C38,'Daily Register'!IO$3:IO$242)=TRUE,\"P\",\"A\")","v":"A"},{"$f":"IF(Attendance($C38,'Daily Register'!IP$3:IP$242)=TRUE,\"P\",\"A\")","v":"A"},{"$f":"IF(Attendance($C38,'Daily Register'!IQ$3:IQ$242)=TRUE,\"P\",\"A\")","v":"A"},{"$f":"IF(Attendance($C38,'Daily Register'!IR$3:IR$242)=TRUE,\"P\",\"A\")","v":"A"},{"$f":"IF(Attendance($C38,'Daily Register'!IS$3:IS$242)=TRUE,\"P\",\"A\")","v":"A"},{"$f":"IF(Attendance($C38,'Daily Register'!IT$3:IT$242)=TRUE,\"P\",\"A\")","v":"A"},{"$f":"IF(Attendance($C38,'Daily Register'!IU$3:IU$242)=TRUE,\"P\",\"A\")","v":"A"},{"$f":"IF(Attendance($C38,'Daily Register'!IV$3:IV$242)=TRUE,\"P\",\"A\")","v":"A"},{"$f":"IF(Attendance($C38,'Daily Register'!IW$3:IW$242)=TRUE,\"P\",\"A\")","v":"A"},{"$f":"IF(Attendance($C38,'Daily Register'!IX$3:IX$242)=TRUE,\"P\",\"A\")","v":"A"},{"$f":"IF(Attendance($C38,'Daily Register'!IY$3:IY$242)=TRUE,\"P\",\"A\")","v":"A"},{"$f":"IF(Attendance($C38,'Daily Register'!IZ$3:IZ$242)=TRUE,\"P\",\"A\")","v":"A"},{"$f":"IF(Attendance($C38,'Daily Register'!JA$3:JA$242)=TRUE,\"P\",\"A\")","v":"A"},{"$f":"IF(Attendance($C38,'Daily Register'!JB$3:JB$242)=TRUE,\"P\",\"A\")","v":"A"},{"$f":"IF(Attendance($C38,'Daily Register'!JC$3:JC$242)=TRUE,\"P\",\"A\")","v":"A"},{"$f":"IF(Attendance($C38,'Daily Register'!JD$3:JD$242)=TRUE,\"P\",\"A\")","v":"A"},{"$f":"IF(Attendance($C38,'Daily Register'!JE$3:JE$242)=TRUE,\"P\",\"A\")","v":"A"},{"$f":"IF(Attendance($C38,'Daily Register'!JF$3:JF$242)=TRUE,\"P\",\"A\")","v":"A"},{"$f":"IF(Attendance($C38,'Daily Register'!JG$3:JG$242)=TRUE,\"P\",\"A\")","v":"A"},{"$f":"IF(Attendance($C38,'Daily Register'!JH$3:JH$242)=TRUE,\"P\",\"A\")","v":"A"},{"$f":"IF(Attendance($C38,'Daily Register'!JI$3:JI$242)=TRUE,\"P\",\"A\")","v":"A"},{"$f":"IF(Attendance($C38,'Daily Register'!JJ$3:JJ$242)=TRUE,\"P\",\"A\")","v":"A"},{"$f":"IF(Attendance($C38,'Daily Register'!JK$3:JK$242)=TRUE,\"P\",\"A\")","v":"A"},{"$f":"IF(Attendance($C38,'Daily Register'!JL$3:JL$242)=TRUE,\"P\",\"A\")","v":"A"},{"$f":"IF(Attendance($C38,'Daily Register'!JM$3:JM$242)=TRUE,\"P\",\"A\")","v":"A"},{"$f":"IF(Attendance($C38,'Daily Register'!JN$3:JN$242)=TRUE,\"P\",\"A\")","v":"A"},{"$f":"IF(Attendance($C38,'Daily Register'!JO$3:JO$242)=TRUE,\"P\",\"A\")","v":"A"},{"$f":"IF(Attendance($C38,'Daily Register'!JP$3:JP$242)=TRUE,\"P\",\"A\")","v":"A"},{"$f":"IF(Attendance($C38,'Daily Register'!JQ$3:JQ$242)=TRUE,\"P\",\"A\")","v":"A"},{"$f":"IF(Attendance($C38,'Daily Register'!JR$3:JR$242)=TRUE,\"P\",\"A\")","v":"A"},{"$f":"IF(Attendance($C38,'Daily Register'!JS$3:JS$242)=TRUE,\"P\",\"A\")","v":"A"},{"$f":"IF(Attendance($C38,'Daily Register'!JT$3:JT$242)=TRUE,\"P\",\"A\")","v":"A"},{"$f":"IF(Attendance($C38,'Daily Register'!JU$3:JU$242)=TRUE,\"P\",\"A\")","v":"A"},{"$f":"IF(Attendance($C38,'Daily Register'!JV$3:JV$242)=TRUE,\"P\",\"A\")","v":"A"},{"$f":"IF(Attendance($C38,'Daily Register'!JW$3:JW$242)=TRUE,\"P\",\"A\")","v":"A"},{"$f":"IF(Attendance($C38,'Daily Register'!JX$3:JX$242)=TRUE,\"P\",\"A\")","v":"A"},{"$f":"IF(Attendance($C38,'Daily Register'!JY$3:JY$242)=TRUE,\"P\",\"A\")","v":"A"},{"$f":"IF(Attendance($C38,'Daily Register'!JZ$3:JZ$242)=TRUE,\"P\",\"A\")","v":"A"},{"$f":"IF(Attendance($C38,'Daily Register'!KA$3:KA$242)=TRUE,\"P\",\"A\")","v":"A"},{"$f":"IF(Attendance($C38,'Daily Register'!KB$3:KB$242)=TRUE,\"P\",\"A\")","v":"A"},{"$f":"IF(Attendance($C38,'Daily Register'!KC$3:KC$242)=TRUE,\"P\",\"A\")","v":"A"},{"$f":"IF(Attendance($C38,'Daily Register'!KD$3:KD$242)=TRUE,\"P\",\"A\")","v":"A"},{"$f":"IF(Attendance($C38,'Daily Register'!KE$3:KE$242)=TRUE,\"P\",\"A\")","v":"A"},{"$f":"IF(Attendance($C38,'Daily Register'!KF$3:KF$242)=TRUE,\"P\",\"A\")","v":"A"},{"$f":"IF(Attendance($C38,'Daily Register'!KG$3:KG$242)=TRUE,\"P\",\"A\")","v":"A"},{"$f":"IF(Attendance($C38,'Daily Register'!KH$3:KH$242)=TRUE,\"P\",\"A\")","v":"A"},{"$f":"IF(Attendance($C38,'Daily Register'!KI$3:KI$242)=TRUE,\"P\",\"A\")","v":"A"},{"$f":"IF(Attendance($C38,'Daily Register'!KJ$3:KJ$242)=TRUE,\"P\",\"A\")","v":"A"},{"$f":"IF(Attendance($C38,'Daily Register'!KK$3:KK$242)=TRUE,\"P\",\"A\")","v":"A"},{"$f":"IF(Attendance($C38,'Daily Register'!KL$3:KL$242)=TRUE,\"P\",\"A\")","v":"A"},{"$f":"IF(Attendance($C38,'Daily Register'!KM$3:KM$242)=TRUE,\"P\",\"A\")","v":"A"},{"$f":"IF(Attendance($C38,'Daily Register'!KN$3:KN$242)=TRUE,\"P\",\"A\")","v":"A"},{"$f":"IF(Attendance($C38,'Daily Register'!KO$3:KO$242)=TRUE,\"P\",\"A\")","v":"A"},{"$f":"IF(Attendance($C38,'Daily Register'!KP$3:KP$242)=TRUE,\"P\",\"A\")","v":"A"},{"$f":"IF(Attendance($C38,'Daily Register'!KQ$3:KQ$242)=TRUE,\"P\",\"A\")","v":"A"},{"$f":"IF(Attendance($C38,'Daily Register'!KR$3:KR$242)=TRUE,\"P\",\"A\")","v":"A"},{"$f":"IF(Attendance($C38,'Daily Register'!KS$3:KS$242)=TRUE,\"P\",\"A\")","v":"A"},{"$f":"IF(Attendance($C38,'Daily Register'!KT$3:KT$242)=TRUE,\"P\",\"A\")","v":"A"},{"$f":"IF(Attendance($C38,'Daily Register'!KU$3:KU$242)=TRUE,\"P\",\"A\")","v":"A"},{"$f":"IF(Attendance($C38,'Daily Register'!KV$3:KV$242)=TRUE,\"P\",\"A\")","v":"A"},{"$f":"IF(Attendance($C38,'Daily Register'!KW$3:KW$242)=TRUE,\"P\",\"A\")","v":"A"},{"$f":"IF(Attendance($C38,'Daily Register'!KX$3:KX$242)=TRUE,\"P\",\"A\")","v":"A"},{"$f":"IF(Attendance($C38,'Daily Register'!KY$3:KY$242)=TRUE,\"P\",\"A\")","v":"A"},{"$f":"IF(Attendance($C38,'Daily Register'!KZ$3:KZ$242)=TRUE,\"P\",\"A\")","v":"A"},{"$f":"IF(Attendance($C38,'Daily Register'!LA$3:LA$242)=TRUE,\"P\",\"A\")","v":"A"},{"$f":"IF(Attendance($C38,'Daily Register'!LB$3:LB$242)=TRUE,\"P\",\"A\")","v":"A"},{"$f":"IF(Attendance($C38,'Daily Register'!LC$3:LC$242)=TRUE,\"P\",\"A\")","v":"A"},{"$f":"IF(Attendance($C38,'Daily Register'!LD$3:LD$242)=TRUE,\"P\",\"A\")","v":"A"},{"$f":"IF(Attendance($C38,'Daily Register'!LE$3:LE$242)=TRUE,\"P\",\"A\")","v":"A"},{"$f":"IF(Attendance($C38,'Daily Register'!LF$3:LF$242)=TRUE,\"P\",\"A\")","v":"A"},{"$f":"IF(Attendance($C38,'Daily Register'!LG$3:LG$242)=TRUE,\"P\",\"A\")","v":"A"},{"$f":"IF(Attendance($C38,'Daily Register'!LH$3:LH$242)=TRUE,\"P\",\"A\")","v":"A"},{"$f":"IF(Attendance($C38,'Daily Register'!LI$3:LI$242)=TRUE,\"P\",\"A\")","v":"A"},{"$f":"IF(Attendance($C38,'Daily Register'!LJ$3:LJ$242)=TRUE,\"P\",\"A\")","v":"A"},{"$f":"IF(Attendance($C38,'Daily Register'!LK$3:LK$242)=TRUE,\"P\",\"A\")","v":"A"},{"$f":"IF(Attendance($C38,'Daily Register'!LL$3:LL$242)=TRUE,\"P\",\"A\")","v":"A"},{"$f":"IF(Attendance($C38,'Daily Register'!LM$3:LM$242)=TRUE,\"P\",\"A\")","v":"A"},{"$f":"IF(Attendance($C38,'Daily Register'!LN$3:LN$242)=TRUE,\"P\",\"A\")","v":"A"},{"$f":"IF(Attendance($C38,'Daily Register'!LO$3:LO$242)=TRUE,\"P\",\"A\")","v":"A"},{"$f":"IF(Attendance($C38,'Daily Register'!LP$3:LP$242)=TRUE,\"P\",\"A\")","v":"A"},{"$f":"IF(Attendance($C38,'Daily Register'!LQ$3:LQ$242)=TRUE,\"P\",\"A\")","v":"A"},{"$f":"IF(Attendance($C38,'Daily Register'!LR$3:LR$242)=TRUE,\"P\",\"A\")","v":"A"},{"$f":"IF(Attendance($C38,'Daily Register'!LS$3:LS$242)=TRUE,\"P\",\"A\")","v":"A"},{"$f":"IF(Attendance($C38,'Daily Register'!LT$3:LT$242)=TRUE,\"P\",\"A\")","v":"A"},{"$f":"IF(Attendance($C38,'Daily Register'!LU$3:LU$242)=TRUE,\"P\",\"A\")","v":"A"},{"$f":"IF(Attendance($C38,'Daily Register'!LV$3:LV$242)=TRUE,\"P\",\"A\")","v":"A"},{"$f":"IF(Attendance($C38,'Daily Register'!LW$3:LW$242)=TRUE,\"P\",\"A\")","v":"A"},{"$f":"IF(Attendance($C38,'Daily Register'!LX$3:LX$242)=TRUE,\"P\",\"A\")","v":"A"},{"$f":"IF(Attendance($C38,'Daily Register'!LY$3:LY$242)=TRUE,\"P\",\"A\")","v":"A"},{"$f":"IF(Attendance($C38,'Daily Register'!LZ$3:LZ$242)=TRUE,\"P\",\"A\")","v":"A"},{"$f":"IF(Attendance($C38,'Daily Register'!MA$3:MA$242)=TRUE,\"P\",\"A\")","v":"A"},{"$f":"IF(Attendance($C38,'Daily Register'!MB$3:MB$242)=TRUE,\"P\",\"A\")","v":"A"},{"$f":"IF(Attendance($C38,'Daily Register'!MC$3:MC$242)=TRUE,\"P\",\"A\")","v":"A"},{"$f":"IF(Attendance($C38,'Daily Register'!MD$3:MD$242)=TRUE,\"P\",\"A\")","v":"A"},{"$f":"IF(Attendance($C38,'Daily Register'!ME$3:ME$242)=TRUE,\"P\",\"A\")","v":"A"},{"$f":"IF(Attendance($C38,'Daily Register'!MF$3:MF$242)=TRUE,\"P\",\"A\")","v":"A"},{"$f":"IF(Attendance($C38,'Daily Register'!MG$3:MG$242)=TRUE,\"P\",\"A\")","v":"A"},{"$f":"IF(Attendance($C38,'Daily Register'!MH$3:MH$242)=TRUE,\"P\",\"A\")","v":"A"},{"$f":"IF(Attendance($C38,'Daily Register'!MI$3:MI$242)=TRUE,\"P\",\"A\")","v":"A"},{"$f":"IF(Attendance($C38,'Daily Register'!MJ$3:MJ$242)=TRUE,\"P\",\"A\")","v":"A"},{"$f":"IF(Attendance($C38,'Daily Register'!MK$3:MK$242)=TRUE,\"P\",\"A\")","v":"A"},{"$f":"IF(Attendance($C38,'Daily Register'!ML$3:ML$242)=TRUE,\"P\",\"A\")","v":"A"},{"$f":"IF(Attendance($C38,'Daily Register'!MM$3:MM$242)=TRUE,\"P\",\"A\")","v":"A"},{"$f":"IF(Attendance($C38,'Daily Register'!MN$3:MN$242)=TRUE,\"P\",\"A\")","v":"A"},{"$f":"IF(Attendance($C38,'Daily Register'!MO$3:MO$242)=TRUE,\"P\",\"A\")","v":"A"},{"$f":"IF(Attendance($C38,'Daily Register'!MP$3:MP$242)=TRUE,\"P\",\"A\")","v":"A"},{"$f":"IF(Attendance($C38,'Daily Register'!MQ$3:MQ$242)=TRUE,\"P\",\"A\")","v":"A"},{"$f":"IF(Attendance($C38,'Daily Register'!MR$3:MR$242)=TRUE,\"P\",\"A\")","v":"A"},{"$f":"IF(Attendance($C38,'Daily Register'!MS$3:MS$242)=TRUE,\"P\",\"A\")","v":"A"},{"$f":"IF(Attendance($C38,'Daily Register'!MT$3:MT$242)=TRUE,\"P\",\"A\")","v":"A"},{"$f":"IF(Attendance($C38,'Daily Register'!MU$3:MU$242)=TRUE,\"P\",\"A\")","v":"A"},{"$f":"IF(Attendance($C38,'Daily Register'!MV$3:MV$242)=TRUE,\"P\",\"A\")","v":"A"},{"$f":"IF(Attendance($C38,'Daily Register'!MW$3:MW$242)=TRUE,\"P\",\"A\")","v":"A"},{"$f":"IF(Attendance($C38,'Daily Register'!MX$3:MX$242)=TRUE,\"P\",\"A\")","v":"A"},{"$f":"IF(Attendance($C38,'Daily Register'!MY$3:MY$242)=TRUE,\"P\",\"A\")","v":"A"},{"$f":"IF(Attendance($C38,'Daily Register'!MZ$3:MZ$242)=TRUE,\"P\",\"A\")","v":"A"},{"$f":"IF(Attendance($C38,'Daily Register'!NA$3:NA$242)=TRUE,\"P\",\"A\")","v":"A"},{"$f":"IF(Attendance($C38,'Daily Register'!NB$3:NB$242)=TRUE,\"P\",\"A\")","v":"A"}]
[0,null,36,null,{"$f":"IF(Attendance($C39,'Daily Register'!A$3:A$242)=TRUE,\"P\",\"A\")","v":"A"},{"$f":"IF(Attendance($C39,'Daily Register'!B$3:B$242)=TRUE,\"P\",\"A\")","v":"A"},{"$f":"IF(Attendance($C39,'Daily Register'!C$3:C$242)=TRUE,\"P\",\"A\")","v":"A"},{"$f":"IF(Attendance($C39,'Daily Register'!D$3:D$242)=TRUE,\"P\",\"A\")","v":"A"},{"$f":"IF(Attendance($C39,'Daily Register'!E$3:E$242)=TRUE,\"P\",\"A\")","v":"A"},{"$f":"IF(Attendance($C39,'Daily Register'!F$3:F$242)=TRUE,\"P\",\"A\")","v":"A"},{"$f":"IF(Attendance($C39,'Daily Register'!G$3:G$242)=TRUE,\"P\",\"A\")","v":"A"},{"$f":"IF(Attendance($C39,'Daily Register'!H$3:H$242)=TRUE,\"P\",\"A\")","v":"A"},{"$f":"IF(Attendance($C39,'Daily Register'!I$3:I$242)=TRUE,\"P\",\"A\")","v":"A"},{"$f":"IF(Attendance($C39,'Daily Register'!J$3:J$242)=TRUE,\"P\",\"A\")","v":"A"},{"$f":"IF(Attendance($C39,'Daily Register'!K$3:K$242)=TRUE,\"P\",\"A\")","v":"A"},{"$f":"IF(Attendance($C39,'Daily Register'!L$3:L$242)=TRUE,\"P\",\"A\")","v":"A"},{"$f":"IF(Attendance($C39,'Daily Register'!M$3:M$242)=TRUE,\"P\",\"A\")","v":"A"},{"$f":"IF(Attendance($C39,'Daily Register'!N$3:N$242)=TRUE,\"P\",\"A\")","v":"A"},{"$f":"IF(Attendance($C39,'Daily Register'!O$3:O$242)=TRUE,\"P\",\"A\")","v":"A"},{"$f":"IF(Attendance($C39,'Daily Register'!P$3:P$242)=TRUE,\"P\",\"A\")","v":"A"},{"$f":"IF(Attendance($C39,'Daily Register'!Q$3:Q$242)=TRUE,\"P\",\"A\")","v":"A"},{"$f":"IF(Attendance($C39,'Daily Register'!R$3:R$242)=TRUE,\"P\",\"A\")","v":"A"},{"$f":"IF(Attendance($C39,'Daily Register'!S$3:S$242)=TRUE,\"P\",\"A\")","v":"A"},{"$f":"IF(Attendance($C39,'Daily Register'!T$3:T$242)=TRUE,\"P\",\"A\")","v":"A"},{"$f":"IF(Attendance($C39,'Daily Register'!U$3:U$242)=TRUE,\"P\",\"A\")","v":"A"},{"$f":"IF(Attendance($C39,'Daily Register'!V$3:V$242)=TRUE,\"P\",\"A\")","v":"A"},{"$f":"IF(Attendance($C39,'Daily Register'!W$3:W$242)=TRUE,\"P\",\"A\")","v":"A"},{"$f":"IF(Attendance($C39,'Daily Register'!X$3:X$242)=TRUE,\"P\",\"A\")","v":"A"},{"$f":"IF(Attendance($C39,'Daily Register'!Y$3:Y$242)=TRUE,\"P\",\"A\")","v":"A"},{"$f":"IF(Attendance($C39,'Daily Register'!Z$3:Z$242)=TRUE,\"P\",\"A\")","v":"A"},{"$f":"IF(Attendance($C39,'Daily Register'!AA$3:AA$242)=TRUE,\"P\",\"A\")","v":"A"},{"$f":"IF(Attendance($C39,'Daily Register'!AB$3:AB$242)=TRUE,\"P\",\"A\")","v":"A"},{"$f":"IF(Attendance($C39,'Daily Register'!AC$3:AC$242)=TRUE,\"P\",\"A\")","v":"A"},{"$f":"IF(Attendance($C39,'Daily Register'!AD$3:AD$242)=TRUE,\"P\",\"A\")","v":"A"},{"$f":"IF(Attendance($C39,'Daily Register'!AE$3:AE$242)=TRUE,\"P\",\"A\")","v":"A"},{"$f":"IF(Attendance($C39,'Daily Register'!AF$3:AF$242)=TRUE,\"P\",\"A\")","v":"A"},{"$f":"IF(Attendance($C39,'Daily Register'!AG$3:AG$242)=TRUE,\"P\",\"A\")","v":"A"},{"$f":"IF(Attendance($C39,'Daily Register'!AH$3:AH$242)=TRUE,\"P\",\"A\")","v":"A"},{"$f":"IF(Attendance($C39,'Daily Register'!AI$3:AI$242)=TRUE,\"P\",\"A\")","v":"A"},{"$f":"IF(Attendance($C39,'Daily Register'!AJ$3:AJ$242)=TRUE,\"P\",\"A\")","v":"A"},{"$f":"IF(Attendance($C39,'Daily Register'!AK$3:AK$242)=TRUE,\"P\",\"A\")","v":"A"},{"$f":"IF(Attendance($C39,'Daily Register'!AL$3:AL$242)=TRUE,\"P\",\"A\")","v":"A"},{"$f":"IF(Attendance($C39,'Daily Register'!AM$3:AM$242)=TRUE,\"P\",\"A\")","v":"A"},{"$f":"IF(Attendance($C39,'Daily Register'!AN$3:AN$242)=TRUE,\"P\",\"A\")","v":"A"},{"$f":"IF(Attendance($C39,'Daily Register'!AO$3:AO$242)=TRUE,\"P\",\"A\")","v":"A"},{"$f":"IF(Attendance($C39,'Daily Register'!AP$3:AP$242)=TRUE,\"P\",\"A\")","v":"A"},{"$f":"IF(Attendance($C39,'Daily Register'!AQ$3:AQ$242)=TRUE,\"P\",\"A\")","v":"A"},{"$f":"IF(Attendance($C39,'Daily Register'!AR$3:AR$242)=TRUE,\"P\",\"A\")","v":"A"},{"$f":"IF(Attendance($C39,'Daily Register'!AS$3:AS$242)=TRUE,\"P\",\"A\")","v":"A"},{"$f":"IF(Attendance($C39,'Daily Register'!AT$3:AT$242)=TRUE,\"P\",\"A\")","v":"A"},{"$f":"IF(Attendance($C39,'Daily Register'!AU$3:AU$242)=TRUE,\"P\",\"A\")","v":"A"},{"$f":"IF(Attendance($C39,'Daily Register'!AV$3:AV$242)=TRUE,\"P\",\"A\")","v":"A"},{"$f":"IF(Attendance($C39,'Daily Register'!AW$3:AW$242)=TRUE,\"P\",\"A\")","v":"A"},{"$f":"IF(Attendance($C39,'Daily Register'!AX$3:AX$242)=TRUE,\"P\",\"A\")","v":"A"},{"$f":"IF(Attendance($C39,'Daily Register'!AY$3:AY$242)=TRUE,\"P\",\"A\")","v":"A"},{"$f":"IF(Attendance($C39,'Daily Register'!AZ$3:AZ$242)=TRUE,\"P\",\"A\")","v":"A"},{"$f":"IF(Attendance($C39,'Daily Register'!BA$3:BA$242)=TRUE,\"P\",\"A\")","v":"A"},{"$f":"IF(Attendance($C39,'Daily Register'!BB$3:BB$242)=TRUE,\"P\",\"A\")","v":"A"},{"$f":"IF(Attendance($C39,'Daily Register'!BC$3:BC$242)=TRUE,\"P\",\"A\")","v":"A"},{"$f":"IF(Attendance($C39,'Daily Register'!BD$3:BD$242)=TRUE,\"P\",\"A\")","v":"A"},{"$f":"IF(Attendance($C39,'Daily Register'!BE$3:BE$242)=TRUE,\"P\",\"A\")","v":"A"},{"$f":"IF(Attendance($C39,'Daily Register'!BF$3:BF$242)=TRUE,\"P\",\"A\")","v":"A"},{"$f":"IF(Attendance($C39,'Daily Register'!BG$3:BG$242)=TRUE,\"P\",\"A\")","v":"A"},{"$f":"IF(Attendance($C39,'Daily Register'!BH$3:BH$242)=TRUE,\"P\",\"A\")","v":"A"},{"$f":"IF(Attendance($C39,'Daily Register'!BI$3:BI$242)=TRUE,\"P\",\"A\")","v":"A"},{"$f":"IF(Attendance($C39,'Daily Register'!BJ$3:BJ$242)=TRUE,\"P\",\"A\")","v":"A"},{"$f":"IF(Attendance($C39,'Daily Register'!BK$3:BK$242)=TRUE,\"P\",\"A\")","v":"A"},{"$f":"IF(Attendance($C39,'Daily Register'!BL$3:BL$242)=TRUE,\"P\",\"A\")","v":"A"},{"$f":"IF(Attendance($C39,'Daily Register'!BM$3:BM$242)=TRUE,\"P\",\"A\")","v":"A"},{"$f":"IF(Attendance($C39,'Daily Register'!BN$3:BN$242)=TRUE,\"P\",\"A\")","v":"A"},{"$f":"IF(Attendance($C39,'Daily Register'!BO$3:BO$242)=TRUE,\"P\",\"A\")","v":"A"},{"$f":"IF(Attendance($C39,'Daily Register'!BP$3:BP$242)=TRUE,\"P\",\"A\")","v":"A"},{"$f":"IF(Attendance($C39,'Daily Register'!BQ$3:BQ$242)=TRUE,\"P\",\"A\")","v":"A"},{"$f":"IF(Attendance($C39,'Daily Register'!BR$3:BR$242)=TRUE,\"P\",\"A\")","v":"A"},{"$f":"IF(Attendance($C39,'Daily Register'!BS$3:BS$242)=TRUE,\"P\",\"A\")","v":"A"},{"$f":"IF(Attendance($C39,'Daily Register'!BT$3:BT$242)=TRUE,\"P\",\"A\")","v":"A"},{"$f":"IF(Attendance($C39,'Daily Register'!BU$3:BU$242)=TRUE,\"P\",\"A\")","v":"A"},{"$f":"IF(Attendance($C39,'Daily Register'!BV$3:BV$242)=TRUE,\"P\",\"A\")","v":"A"},{"$f":"IF(Attendance($C39,'Daily Register'!BW$3:BW$242)=TRUE,\"P\",\"A\")","v":"A"},{"$f":"IF(Attendance($C39,'Daily Register'!BX$3:BX$242)=TRUE,\"P\",\"A\")","v":"A"},{"$f":"IF(Attendance($C39,'Daily Register'!BY$3:BY$242)=TRUE,\"P\",\"A\")","v":"A"},{"$f":"IF(Attendance($C39,'Daily Register'!BZ$3:BZ$242)=TRUE,\"P\",\"A\")","v":"A"},{"$f":"IF(Attendance($C39,'Daily Register'!CA$3:CA$242)=TRUE,\"P\",\"A\")","v":"A"},{"$f":"IF(Attendance($C39,'Daily Register'!CB$3:CB$242)=TRUE,\"P\",\"A\")","v":"A"},{"$f":"IF(Attendance($C39,'Daily Register'!CC$3:CC$242)=TRUE,\"P\",\"A\")","v":"A"},{"$f":"IF(Attendance($C39,'Daily Register'!CD$3:CD$242)=TRUE,\"P\",\"A\")","v":"A"},{"$f":"IF(Attendance($C39,'Daily Register'!CE$3:CE$242)=TRUE,\"P\",\"A\")","v":"A"},{"$f":"IF(Attendance($C39,'Daily Register'!CF$3:CF$242)=TRUE,\"P\",\"A\")","v":"A"},{"$f":"IF(Attendance($C39,'Daily Register'!CG$3:CG$242)=TRUE,\"P\",\"A\")","v":"A"},{"$f":"IF(Attendance($C39,'Daily Register'!CH$3:CH$242)=TRUE,\"P\",\"A\")","v":"A"},{"$f":"IF(Attendance($C39,'Daily Register'!CI$3:CI$242)=TRUE,\"P\",\"A\")","v":"A"},{"$f":"IF(Attendance($C39,'Daily Register'!CJ$3:CJ$242)=TRUE,\"P\",\"A\")","v":"A"},{"$f":"IF(Attendance($C39,'Daily Register'!CK$3:CK$242)=TRUE,\"P\",\"A\")","v":"A"},{"$f":"IF(Attendance($C39,'Daily Register'!CL$3:CL$242)=TRUE,\"P\",\"A\")","v":"A"},{"$f":"IF(Attendance($C39,'Daily Register'!CM$3:CM$242)=TRUE,\"P\",\"A\")","v":"A"},{"$f":"IF(Attendance($C39,'Daily Register'!CN$3:CN$242)=TRUE,\"P\",\"A\")","v":"A"},{"$f":"IF(Attendance($C39,'Daily Register'!CO$3:CO$242)=TRUE,\"P\",\"A\")","v":"A"},{"$f":"IF(Attendance($C39,'Daily Register'!CP$3:CP$242)=TRUE,\"P\",\"A\")","v":"A"},{"$f":"IF(Attendance($C39,'Daily Register'!CQ$3:CQ$242)=TRUE,\"P\",\"A\")","v":"A"},{"$f":"IF(Attendance($C39,'Daily Register'!CR$3:CR$242)=TRUE,\"P\",\"A\")","v":"A"},{"$f":"IF(Attendance($C39,'Daily Register'!CS$3:CS$242)=TRUE,\"P\",\"A\")","v":"A"},{"$f":"IF(Attendance($C39,'Daily Register'!CT$3:CT$242)=TRUE,\"P\",\"A\")","v":"A"},{"$f":"IF(Attendance($C39,'Daily Register'!CU$3:CU$242)=TRUE,\"P\",\"A\")","v":"A"},{"$f":"IF(Attendance($C39,'Daily Register'!CV$3:CV$242)=TRUE,\"P\",\"A\")","v":"A"},{"$f":"IF(Attendance($C39,'Daily Register'!CW$3:CW$242)=TRUE,\"P\",\"A\")","v":"A"},{"$f":"IF(Attendance($C39,'Daily Register'!CX$3:CX$242)=TRUE,\"P\",\"A\")","v":"A"},{"$f":"IF(Attendance($C39,'Daily Register'!CY$3:CY$242)=TRUE,\"P\",\"A\")","v":"A"},{"$f":"IF(Attendance($C39,'Daily Register'!CZ$3:CZ$242)=TRUE,\"P\",\"A\")","v":"A"},{"$f":"IF(Attendance($C39,'Daily Register'!DA$3:DA$242)=TRUE,\"P\",\"A\")","v":"A"},{"$f":"IF(Attendance($C39,'Daily Register'!DB$3:DB$242)=TRUE,\"P\",\"A\")","v":"A"},{"$f":"IF(Attendance($C39,'Daily Register'!DC$3:DC$242)=TRUE,\"P\",\"A\")","v":"A"},{"$f":"IF(Attendance($C39,'Daily Register'!DD$3:DD$242)=TRUE,\"P\",\"A\")","v":"A"},{"$f":"IF(Attendance($C39,'Daily Register'!DE$3:DE$242)=TRUE,\"P\",\"A\")","v":"A"},{"$f":"IF(Attendance($C39,'Daily Register'!DF$3:DF$242)=TRUE,\"P\",\"A\")","v":"A"},{"$f":"IF(Attendance($C39,'Daily Register'!DG$3:DG$242)=TRUE,\"P\",\"A\")","v":"A"},{"$f":"IF(Attendance($C39,'Daily Register'!DH$3:DH$242)=TRUE,\"P\",\"A\")","v":"A"},{"$f":"IF(Attendance($C39,'Daily Register'!DI$3:DI$242)=TRUE,\"P\",\"A\")","v":"A"},{"$f":"IF(Attendance($C39,'Daily Register'!DJ$3:DJ$242)=TRUE,\"P\",\"A\")","v":"A"},{"$f":"IF(Attendance($C39,'Daily Register'!DK$3:DK$242)=TRUE,\"P\",\"A\")","v":"A"},{"$f":"IF(Attendance($C39,'Daily Register'!DL$3:DL$242)=TRUE,\"P\",\"A\")","v":"A"},{"$f":"IF(Attendance($C39,'Daily Register'!DM$3:DM$242)=TRUE,\"P\",\"A\")","v":"A"},{"$f":"IF(Attendance($C39,'Daily Register'!DN$3:DN$242)=TRUE,\"P\",\"A\")","v":"A"},{"$f":"IF(Attendance($C39,'Daily Register'!DO$3:DO$242)=TRUE,\"P\",\"A\")","v":"A"},{"$f":"IF(Attendance($C39,'Daily Register'!DP$3:DP$242)=TRUE,\"P\",\"A\")","v":"A"},{"$f":"IF(Attendance($C39,'Daily Register'!DQ$3:DQ$242)=TRUE,\"P\",\"A\")","v":"A"},{"$f":"IF(Attendance($C39,'Daily Register'!DR$3:DR$242)=TRUE,\"P\",\"A\")","v":"A"},{"$f":"IF(Attendance($C39,'Daily Register'!DS$3:DS$242)=TRUE,\"P\",\"A\")","v":"A"},{"$f":"IF(Attendance($C39,'Daily Register'!DT$3:DT$242)=TRUE,\"P\",\"A\")","v":"A"},{"$f":"IF(Attendance($C39,'Daily Register'!DU$3:DU$242)=TRUE,\"P\",\"A\")","v":"A"},{"$f":"IF(Attendance($C39,'Daily Register'!DV$3:DV$242)=TRUE,\"P\",\"A\")","v":"A"},{"$f":"IF(Attendance($C39,'Daily Register'!DW$3:DW$242)=TRUE,\"P\",\"A\")","v":"A"},{"$f":"IF(Attendance($C39,'Daily Register'!DX$3:DX$242)=TRUE,\"P\",\"A\")","v":"A"},{"$f":"IF(Attendance($C39,'Daily Register'!DY$3:DY$242)=TRUE,\"P\",\"A\")","v":"A"},{"$f":"IF(Attendance($C39,'Daily Register'!DZ$3:DZ$242)=TRUE,\"P\",\"A\")","v":"A"},{"$f":"IF(Attendance($C39,'Daily Register'!EA$3:EA$242)=TRUE,\"P\",\"A\")","v":"A"},{"$f":"IF(Attendance($C39,'Daily Register'!EB$3:EB$242)=TRUE,\"P\",\"A\")","v":"A"},{"$f":"IF(Attendance($C39,'Daily Register'!EC$3:EC$242)=TRUE,\"P\",\"A\")","v":"A"},{"$f":"IF(Attendance($C39,'Daily Register'!ED$3:ED$242)=TRUE,\"P\",\"A\")","v":"A"},{"$f":"IF(Attendance($C39,'Daily Register'!EE$3:EE$242)=TRUE,\"P\",\"A\")","v":"A"},{"$f":"IF(Attendance($C39,'Daily Register'!EF$3:EF$242)=TRUE,\"P\",\"A\")","v":"A"},{"$f":"IF(Attendance($C39,'Daily Register'!EG$3:EG$242)=TRUE,\"P\",\"A\")","v":"A"},{"$f":"IF(Attendance($C39,'Daily Register'!EH$3:EH$242)=TRUE,\"P\",\"A\")","v":"A"},{"$f":"IF(Attendance($C39,'Daily Register'!EI$3:EI$242)=TRUE,\"P\",\"A\")","v":"A"},{"$f":"IF(Attendance($C39,'Daily Register'!EJ$3:EJ$242)=TRUE,\"P\",\"A\")","v":"A"},{"$f":"IF(Attendance($C39,'Daily Register'!EK$3:EK$242)=TRUE,\"P\",\"A\")","v":"A"},{"$f":"IF(Attendance($C39,'Daily Register'!EL$3:EL$242)=TRUE,\"P\",\"A\")","v":"A"},{"$f":"IF(Attendance($C39,'Daily Register'!EM$22:EM$242)=TRUE,\"P\",\"A\")","v":"A"},{"$f":"IF(Attendance($C39,'Daily Register'!EN$3:EN$242)=TRUE,\"P\",\"A\")","v":"A"},{"$f":"IF(Attendance($C39,'Daily Register'!EO$3:EO$242)=TRUE,\"P\",\"A\")","v":"A"},{"$f":"IF(Attendance($C39,'Daily Register'!EP$3:EP$242)=TRUE,\"P\",\"A\")","v":"A"},{"$f":"IF(Attendance($C39,'Daily Register'!EQ$3:EQ$242)=TRUE,\"P\",\"A\")","v":"A"},{"$f":"IF(Attendance($C39,'Daily Register'!ER$3:ER$242)=TRUE,\"P\",\"A\")","v":"A"},{"$f":"IF(Attendance($C39,'Daily Register'!ES$3:ES$242)=TRUE,\"P\",\"A\")","v":"A"},{"$f":"IF(Attendance($C39,'Daily Register'!ET$3:ET$242)=TRUE,\"P\",\"A\")","v":"A"},{"$f":"IF(Attendance($C39,'Daily Register'!EU$3:EU$242)=TRUE,\"P\",\"A\")","v":"A"},{"$f":"IF(Attendance($C39,'Daily Register'!EV$3:EV$242)=TRUE,\"P\",\"A\")","v":"A"},{"$f":"IF(Attendance($C39,'Daily Register'!EW$3:EW$242)=TRUE,\"P\",\"A\")","v":"A"},{"$f":"IF(Attendance($C39,'Daily Register'!EX$3:EX$242)=TRUE,\"P\",\"A\")","v":"A"},{"$f":"IF(Attendance($C39,'Daily Register'!EY$3:EY$242)=TRUE,\"P\",\"A\")","v":"A"},{"$f":"IF(Attendance($C39,'Daily Register'!EZ$3:EZ$242)=TRUE,\"P\",\"A\")","v":"A"},{"$f":"IF(Attendance($C39,'Daily Register'!FA$3:FA$242)=TRUE,\"P\",\"A\")","v":"A"},{"$f":"IF(Attendance($C39,'Daily Register'!FB$3:FB$242)=TRUE,\"P\",\"A\")","v":"A"},{"$f":"IF(Attendance($C39,'Daily Register'!FC$3:FC$242)=TRUE,\"P\",\"A\")","v":"A"},{"$f":"IF(Attendance($C39,'Daily Register'!FD$3:FD$242)=TRUE,\"P\",\"A\")","v":"A"},{"$f":"IF(Attendance($C39,'Daily Register'!FE$3:FE$242)=TRUE,\"P\",\"A\")","v":"A"},{"$f":"IF(Attendance($C39,'Daily Register'!FF$3:FF$242)=TRUE,\"P\",\"A\")","v":"A"},{"$f":"IF(Attendance($C39,'Daily Register'!FG$3:FG$242)=TRUE,\"P\",\"A\")","v":"A"},{"$f":"IF(Attendance($C39,'Daily Register'!FH$3:FH$242)=TRUE,\"P\",\"A\")","v":"A"},{"$f":"IF(Attendance($C39,'Daily Register'!FI$3:FI$242)=TRUE,\"P\",\"A\")","v":"A"},{"$f":"IF(Attendance($C39,'Daily Register'!FJ$3:FJ$242)=TRUE,\"P\",\"A\")","v":"A"},{"$f":"IF(Attendance($C39,'Daily Register'!FK$3:FK$242)=TRUE,\"P\",\"A\")","v":"A"},{"$f":"IF(Attendance($C39,'Daily Register'!FL$3:FL$242)=TRUE,\"P\",\"A\")","v":"A"},{"$f":"IF(Attendance($C39,'Daily Register'!FM$3:FM$242)=TRUE,\"P\",\"A\")","v":"A"},{"$f":"IF(Attendance($C39,'Daily Register'!FN$3:FN$242)=TRUE,\"P\",\"A\")","v":"A"},{"$f":"IF(Attendance($C39,'Daily Register'!FO$3:FO$242)=TRUE,\"P\",\"A\")","v":"A"},{"$f":"IF(Attendance($C39,'Daily Register'!FP$3:FP$242)=TRUE,\"P\",\"A\")","v":"A"},{"$f":"IF(Attendance($C39,'Daily Register'!FQ$3:FQ$242)=TRUE,\"P\",\"A\")","v":"A"},{"$f":"IF(Attendance($C39,'Daily Register'!FR$3:FR$242)=TRUE,\"P\",\"A\")","v":"A"},{"$f":"IF(Attendance($C39,'Daily Register'!FS$3:FS$242)=TRUE,\"P\",\"A\")","v":"A"},{"$f":"IF(Attendance($C39,'Daily Register'!FT$3:FT$242)=TRUE,\"P\",\"A\")","v":"A"},{"$f":"IF(Attendance($C39,'Daily Register'!FU$3:FU$242)=TRUE,\"P\",\"A\")","v":"A"},{"$f":"IF(Attendance($C39,'Daily Register'!FV$3:FV$242)=TRUE,\"P\",\"A\")","v":"A"},{"$f":"IF(Attendance($C39,'Daily Register'!FW$3:FW$242)=TRUE,\"P\",\"A\")","v":"A"},{"$f":"IF(Attendance($C39,'Daily Register'!FX$3:FX$242)=TRUE,\"P\",\"A\")","v":"A"},{"$f":"IF(Attendance($C39,'Daily Register'!FY$3:FY$242)=TRUE,\"P\",\"A\")","v":"A"},{"$f":"IF(Attendance($C39,'Daily Register'!FZ$3:FZ$242)=TRUE,\"P\",\"A\")","v":"A"},{"$f":"IF(Attendance($C39,'Daily Register'!GA$3:GA$242)=TRUE,\"P\",\"A\")","v":"A"},{"$f":"IF(Attendance($C39,'Daily Register'!GB$3:GB$242)=TRUE,\"P\",\"A\")","v":"A"},{"$f":"IF(Attendance($C39,'Daily Register'!GC$3:GC$242)=TRUE,\"P\",\"A\")","v":"A"},{"$f":"IF(Attendance($C39,'Daily Register'!GD$3:GD$242)=TRUE,\"P\",\"A\")","v":"A"},{"$f":"IF(Attendance($C39,'Daily Register'!GE$3:GE$242)=TRUE,\"P\",\"A\")","v":"A"},{"$f":"IF(Attendance($C39,'Daily Register'!GF$3:GF$242)=TRUE,\"P\",\"A\")","v":"A"},{"$f":"IF(Attendance($C39,'Daily Register'!GG$3:GG$242)=TRUE,\"P\",\"A\")","v":"A"},{"$f":"IF(Attendance($C39,'Daily Register'!GH$3:GH$242)=TRUE,\"P\",\"A\")","v":"A"},{"$f":"IF(Attendance($C39,'Daily Register'!GI$3:GI$242)=TRUE,\"P\",\"A\")","v":"A"},{"$f":"IF(Attendance($C39,'Daily Register'!GJ$3:GJ$242)=TRUE,\"P\",\"A\")","v":"A"},{"$f":"IF(Attendance($C39,'Daily Register'!GK$3:GK$242)=TRUE,\"P\",\"A\")","v":"A"},{"$f":"IF(Attendance($C39,'Daily Register'!GL$3:GL$242)=TRUE,\"P\",\"A\")","v":"A"},{"$f":"IF(Attendance($C39,'Daily Register'!GM$3:GM$242)=TRUE,\"P\",\"A\")","v":"A"},{"$f":"IF(Attendance($C39,'Daily Register'!GN$3:GN$242)=TRUE,\"P\",\"A\")","v":"A"},{"$f":"IF(Attendance($C39,'Daily Register'!GO$3:GO$242)=TRUE,\"P\",\"A\")","v":"A"},{"$f":"IF(Attendance($C39,'Daily Register'!GP$3:GP$242)=TRUE,\"P\",\"A\")","v":"A"},{"$f":"IF(Attendance($C39,'Daily Register'!GQ$3:GQ$242)=TRUE,\"P\",\"A\")","v":"A"},{"$f":"IF(Attendance($C39,'Daily Register'!GR$3:GR$242)=TRUE,\"P\",\"A\")","v":"A"},{"$f":"IF(Attendance($C39,'Daily Register'!GS$3:GS$242)=TRUE,\"P\",\"A\")","v":"A"},{"$f":"IF(Attendance($C39,'Daily Register'!GT$3:GT$242)=TRUE,\"P\",\"A\")","v":"A"},{"$f":"IF(Attendance($C39,'Daily Register'!GU$3:GU$242)=TRUE,\"P\",\"A\")","v":"A"},{"$f":"IF(Attendance($C39,'Daily Register'!GV$3:GV$242)=TRUE,\"P\",\"A\")","v":"A"},{"$f":"IF(Attendance($C39,'Daily Register'!GW$3:GW$242)=TRUE,\"P\",\"A\")","v":"A"},{"$f":"IF(Attendance($C39,'Daily Register'!GX$3:GX$242)=TRUE,\"P\",\"A\")","v":"A"},{"$f":"IF(Attendance($C39,'Daily Register'!GY$3:GY$242)=TRUE,\"P\",\"A\")","v":"A"},{"$f":"IF(Attendance($C39,'Daily Register'!GZ$3:GZ$242)=TRUE,\"P\",\"A\")","v":"A"},{"$f":"IF(Attendance($C39,'Daily Register'!HA$3:HA$242)=TRUE,\"P\",\"A\")","v":"A"},{"$f":"IF(Attendance($C39,'Daily Register'!HB$3:HB$242)=TRUE,\"P\",\"A\")","v":"A"},{"$f":"IF(Attendance($C39,'Daily Register'!HC$3:HC$242)=TRUE,\"P\",\"A\")","v":"A"},{"$f":"IF(Attendance($C39,'Daily Register'!HD$3:HD$242)=TRUE,\"P\",\"A\")","v":"A"},{"$f":"IF(Attendance($C39,'Daily Register'!HE$3:HE$242)=TRUE,\"P\",\"A\")","v":"A"},{"$f":"IF(Attendance($C39,'Daily Register'!HF$3:HF$242)=TRUE,\"P\",\"A\")","v":"A"},{"$f":"IF(Attendance($C39,'Daily Register'!HG$3:HG$242)=TRUE,\"P\",\"A\")","v":"A"},{"$f":"IF(Attendance($C39,'Daily Register'!HH$3:HH$242)=TRUE,\"P\",\"A\")","v":"A"},{"$f":"IF(Attendance($C39,'Daily Register'!HI$3:HI$242)=TRUE,\"P\",\"A\")","v":"A"},{"$f":"IF(Attendance($C39,'Daily Register'!HJ$3:HJ$242)=TRUE,\"P\",\"A\")","v":"A"},{"$f":"IF(Attendance($C39,'Daily Register'!HK$3:HK$242)=TRUE,\"P\",\"A\")","v":"A"},{"$f":"IF(Attendance($C39,'Daily Register'!HL$3:HL$242)=TRUE,\"P\",\"A\")","v":"A"},{"$f":"IF(Attendance($C39,'Daily Register'!HM$3:HM$242)=TRUE,\"P\",\"A\")","v":"A"},{"$f":"IF(Attendance($C39,'Daily Register'!HN$3:HN$242)=TRUE,\"P\",\"A\")","v":"A"},{"$f":"IF(Attendance($C39,'Daily Register'!HO$3:HO$242)=TRUE,\"P\",\"A\")","v":"A"},{"$f":"IF(Attendance($C39,'Daily Register'!HP$3:HP$242)=TRUE,\"P\",\"A\")","v":"A"},{"$f":"IF(Attendance($C39,'Daily Register'!HQ$3:HQ$242)=TRUE,\"P\",\"A\")","v":"A"},{"$f":"IF(Attendance($C39,'Daily Register'!HR$3:HR$242)=TRUE,\"P\",\"A\")","v":"A"},{"$f":"IF(Attendance($C39,'Daily Register'!HS$3:HS$242)=TRUE,\"P\",\"A\")","v":"A"},{"$f":"IF(Attendance($C39,'Daily Register'!HT$3:HT$242)=TRUE,\"P\",\"A\")","v":"A"},{"$f":"IF(Attendance($C39,'Daily Register'!HU$3:HU$242)=TRUE,\"P\",\"A\")","v":"A"},{"$f":"IF(Attendance($C39,'Daily Register'!HV$3:HV$242)=TRUE,\"P\",\"A\")","v":"A"},{"$f":"IF(Attendance($C39,'Daily Register'!HW$3:HW$242)=TRUE,\"P\",\"A\")","v":"A"},{"$f":"IF(Attendance($C39,'Daily Register'!HX$3:HX$242)=TRUE,\"P\",\"A\")","v":"A"},{"$f":"IF(Attendance($C39,'Daily Register'!HY$3:HY$242)=TRUE,\"P\",\"A\")","v":"A"},{"$f":"IF(Attendance($C39,'Daily Register'!HZ$3:HZ$242)=TRUE,\"P\",\"A\")","v":"A"},{"$f":"IF(Attendance($C39,'Daily Register'!IA$3:IA$242)=TRUE,\"P\",\"A\")","v":"A"},{"$f":"IF(Attendance($C39,'Daily Register'!IB$3:IB$242)=TRUE,\"P\",\"A\")","v":"A"},{"$f":"IF(Attendance($C39,'Daily Register'!IC$3:IC$242)=TRUE,\"P\",\"A\")","v":"A"},{"$f":"IF(Attendance($C39,'Daily Register'!ID$3:ID$242)=TRUE,\"P\",\"A\")","v":"A"},{"$f":"IF(Attendance($C39,'Daily Register'!IE$3:IE$242)=TRUE,\"P\",\"A\")","v":"A"},{"$f":"IF(Attendance($C39,'Daily Register'!IF$3:IF$242)=TRUE,\"P\",\"A\")","v":"A"},{"$f":"IF(Attendance($C39,'Daily Register'!IG$3:IG$242)=TRUE,\"P\",\"A\")","v":"A"},{"$f":"IF(Attendance($C39,'Daily Register'!IH$3:IH$242)=TRUE,\"P\",\"A\")","v":"A"},{"$f":"IF(Attendance($C39,'Daily Register'!II$3:II$242)=TRUE,\"P\",\"A\")","v":"A"},{"$f":"IF(Attendance($C39,'Daily Register'!IJ$3:IJ$242)=TRUE,\"P\",\"A\")","v":"A"},{"$f":"IF(Attendance($C39,'Daily Register'!IK$3:IK$242)=TRUE,\"P\",\"A\")","v":"A"},{"$f":"IF(Attendance($C39,'Daily Register'!IL$3:IL$242)=TRUE,\"P\",\"A\")","v":"A"},{"$f":"IF(Attendance($C39,'Daily Register'!IM$3:IM$242)=TRUE,\"P\",\"A\")","v":"A"},{"$f":"IF(Attendance($C39,'Daily Register'!IN$3:IN$242)=TRUE,\"P\",\"A\")","v":"A"},{"$f":"IF(Attendance($C39,'Daily Register'!IO$3:IO$242)=TRUE,\"P\",\"A\")","v":"A"},{"$f":"IF(Attendance($C39,'Daily Register'!IP$3:IP$242)=TRUE,\"P\",\"A\")","v":"A"},{"$f":"IF(Attendance($C39,'Daily Register'!IQ$3:IQ$242)=TRUE,\"P\",\"A\")","v":"A"},{"$f":"IF(Attendance($C39,'Daily Register'!IR$3:IR$242)=TRUE,\"P\",\"A\")","v":"A"},{"$f":"IF(Attendance($C39,'Daily Register'!IS$3:IS$242)=TRUE,\"P\",\"A\")","v":"A"},{"$f":"IF(Attendance($C39,'Daily Register'!IT$3:IT$242)=TRUE,\"P\",\"A\")","v":"A"},{"$f":"IF(Attendance($C39,'Daily Register'!IU$3:IU$242)=TRUE,\"P\",\"A\")","v":"A"},{"$f":"IF(Attendance($C39,'Daily Register'!IV$3:IV$242)=TRUE,\"P\",\"A\")","v":"A"},{"$f":"IF(Attendance($C39,'Daily Register'!IW$3:IW$242)=TRUE,\"P\",\"A\")","v":"A"},{"$f":"IF(Attendance($C39,'Daily Register'!IX$3:IX$242)=TRUE,\"P\",\"A\")","v":"A"},{"$f":"IF(Attendance($C39,'Daily Register'!IY$3:IY$242)=TRUE,\"P\",\"A\")","v":"A"},{"$f":"IF(Attendance($C39,'Daily Register'!IZ$3:IZ$242)=TRUE,\"P\",\"A\")","v":"A"},{"$f":"IF(Attendance($C39,'Daily Register'!JA$3:JA$242)=TRUE,\"P\",\"A\")","v":"A"},{"$f":"IF(Attendance($C39,'Daily Register'!JB$3:JB$242)=TRUE,\"P\",\"A\")","v":"A"},{"$f":"IF(Attendance($C39,'Daily Register'!JC$3:JC$242)=TRUE,\"P\",\"A\")","v":"A"},{"$f":"IF(Attendance($C39,'Daily Register'!JD$3:JD$242)=TRUE,\"P\",\"A\")","v":"A"},{"$f":"IF(Attendance($C39,'Daily Register'!JE$3:JE$242)=TRUE,\"P\",\"A\")","v":"A"},{"$f":"IF(Attendance($C39,'Daily Register'!JF$3:JF$242)=TRUE,\"P\",\"A\")","v":"A"},{"$f":"IF(Attendance($C39,'Daily Register'!JG$3:JG$242)=TRUE,\"P\",\"A\")","v":"A"},{"$f":"IF(Attendance($C39,'Daily Register'!JH$3:JH$242)=TRUE,\"P\",\"A\")","v":"A"},{"$f":"IF(Attendance($C39,'Daily Register'!JI$3:JI$242)=TRUE,\"P\",\"A\")","v":"A"},{"$f":"IF(Attendance($C39,'Daily Register'!JJ$3:JJ$242)=TRUE,\"P\",\"A\")","v":"A"},{"$f":"IF(Attendance($C39,'Daily Register'!JK$3:JK$242)=TRUE,\"P\",\"A\")","v":"A"},{"$f":"IF(Attendance($C39,'Daily Register'!JL$3:JL$242)=TRUE,\"P\",\"A\")","v":"A"},{"$f":"IF(Attendance($C39,'Daily Register'!JM$3:JM$242)=TRUE,\"P\",\"A\")","v":"A"},{"$f":"IF(Attendance($C39,'Daily Register'!JN$3:JN$242)=TRUE,\"P\",\"A\")","v":"A"},{"$f":"IF(Attendance($C39,'Daily Register'!JO$3:JO$242)=TRUE,\"P\",\"A\")","v":"A"},{"$f":"IF(Attendance($C39,'Daily Register'!JP$3:JP$242)=TRUE,\"P\",\"A\")","v":"A"},{"$f":"IF(Attendance($C39,'Daily Register'!JQ$3:JQ$242)=TRUE,\"P\",\"A\")","v":"A"},{"$f":"IF(Attendance($C39,'Daily Register'!JR$3:JR$242)=TRUE,\"P\",\"A\")","v":"A"},{"$f":"IF(Attendance($C39,'Daily Register'!JS$3:JS$242)=TRUE,\"P\",\"A\")","v":"A"},{"$f":"IF(Attendance($C39,'Daily Register'!JT$3:JT$242)=TRUE,\"P\",\"A\")","v":"A"},{"$f":"IF(Attendance($C39,'Daily Register'!JU$3:JU$242)=TRUE,\"P\",\"A\")","v":"A"},{"$f":"IF(Attendance($C39,'Daily Register'!JV$3:JV$242)=TRUE,\"P\",\"A\")","v":"A"},{"$f":"IF(Attendance($C39,'Daily Register'!JW$3:JW$242)=TRUE,\"P\",\"A\")","v":"A"},{"$f":"IF(Attendance($C39,'Daily Register'!JX$3:JX$242)=TRUE,\"P\",\"A\")","v":"A"},{"$f":"IF(Attendance($C39,'Daily Register'!JY$3:JY$242)=TRUE,\"P\",\"A\")","v":"A"},{"$f":"IF(Attendance($C39,'Daily Register'!JZ$3:JZ$242)=TRUE,\"P\",\"A\")","v":"A"},{"$f":"IF(Attendance($C39,'Daily Register'!KA$3:KA$242)=TRUE,\"P\",\"A\")","v":"A"},{"$f":"IF(Attendance($C39,'Daily Register'!KB$3:KB$242)=TRUE,\"P\",\"A\")","v":"A"},{"$f":"IF(Attendance($C39,'Daily Register'!KC$3:KC$242)=TRUE,\"P\",\"A\")","v":"A"},{"$f":"IF(Attendance($C39,'Daily Register'!KD$3:KD$242)=TRUE,\"P\",\"A\")","v":"A"},{"$f":"IF(Attendance($C39,'Daily Register'!KE$3:KE$242)=TRUE,\"P\",\"A\")","v":"A"},{"$f":"IF(Attendance($C39,'Daily Register'!KF$3:KF$242)=TRUE,\"P\",\"A\")","v":"A"},{"$f":"IF(Attendance($C39,'Daily Register'!KG$3:KG$242)=TRUE,\"P\",\"A\")","v":"A"},{"$f":"IF(Attendance($C39,'Daily Register'!KH$3:KH$242)=TRUE,\"P\",\"A\")","v":"A"},{"$f":"IF(Attendance($C39,'Daily Register'!KI$3:KI$242)=TRUE,\"P\",\"A\")","v":"A"},{"$f":"IF(Attendance($C39,'Daily Register'!KJ$3:KJ$242)=TRUE,\"P\",\"A\")","v":"A"},{"$f":"IF(Attendance($C39,'Daily Register'!KK$3:KK$242)=TRUE,\"P\",\"A\")","v":"A"},{"$f":"IF(Attendance($C39,'Daily Register'!KL$3:KL$242)=TRUE,\"P\",\"A\")","v":"A"},{"$f":"IF(Attendance($C39,'Daily Register'!KM$3:KM$242)=TRUE,\"P\",\"A\")","v":"A"},{"$f":"IF(Attendance($C39,'Daily Register'!KN$3:KN$242)=TRUE,\"P\",\"A\")","v":"A"},{"$f":"IF(Attendance($C39,'Daily Register'!KO$3:KO$242)=TRUE,\"P\",\"A\")","v":"A"},{"$f":"IF(Attendance($C39,'Daily Register'!KP$3:KP$242)=TRUE,\"P\",\"A\")","v":"A"},{"$f":"IF(Attendance($C39,'Daily Register'!KQ$3:KQ$242)=TRUE,\"P\",\"A\")","v":"A"},{"$f":"IF(Attendance($C39,'Daily Register'!KR$3:KR$242)=TRUE,\"P\",\"A\")","v":"A"},{"$f":"IF(Attendance($C39,'Daily Register'!KS$3:KS$242)=TRUE,\"P\",\"A\")","v":"A"},{"$f":"IF(Attendance($C39,'Daily Register'!KT$3:KT$242)=TRUE,\"P\",\"A\")","v":"A"},{"$f":"IF(Attendance($C39,'Daily Register'!KU$3:KU$242)=TRUE,\"P\",\"A\")","v":"A"},{"$f":"IF(Attendance($C39,'Daily Register'!KV$3:KV$242)=TRUE,\"P\",\"A\")","v":"A"},{"$f":"IF(Attendance($C39,'Daily Register'!KW$3:KW$242)=TRUE,\"P\",\"A\")","v":"A"},{"$f":"IF(Attendance($C39,'Daily Register'!KX$3:KX$242)=TRUE,\"P\",\"A\")","v":"A"},{"$f":"IF(Attendance($C39,'Daily Register'!KY$3:KY$242)=TRUE,\"P\",\"A\")","v":"A"},{"$f":"IF(Attendance($C39,'Daily Register'!KZ$3:KZ$242)=TRUE,\"P\",\"A\")","v":"A"},{"$f":"IF(Attendance($C39,'Daily Register'!LA$3:LA$242)=TRUE,\"P\",\"A\")","v":"A"},{"$f":"IF(Attendance($C39,'Daily Register'!LB$3:LB$242)=TRUE,\"P\",\"A\")","v":"A"},{"$f":"IF(Attendance($C39,'Daily Register'!LC$3:LC$242)=TRUE,\"P\",\"A\")","v":"A"},{"$f":"IF(Attendance($C39,'Daily Register'!LD$3:LD$242)=TRUE,\"P\",\"A\")","v":"A"},{"$f":"IF(Attendance($C39,'Daily Register'!LE$3:LE$242)=TRUE,\"P\",\"A\")","v":"A"},{"$f":"IF(Attendance($C39,'Daily Register'!LF$3:LF$242)=TRUE,\"P\",\"A\")","v":"A"},{"$f":"IF(Attendance($C39,'Daily Register'!LG$3:LG$242)=TRUE,\"P\",\"A\")","v":"A"},{"$f":"IF(Attendance($C39,'Daily Register'!LH$3:LH$242)=TRUE,\"P\",\"A\")","v":"A"},{"$f":"IF(Attendance($C39,'Daily Register'!LI$3:LI$242)=TRUE,\"P\",\"A\")","v":"A"},{"$f":"IF(Attendance($C39,'Daily Register'!LJ$3:LJ$242)=TRUE,\"P\",\"A\")","v":"A"},{"$f":"IF(Attendance($C39,'Daily Register'!LK$3:LK$242)=TRUE,\"P\",\"A\")","v":"A"},{"$f":"IF(Attendance($C39,'Daily Register'!LL$3:LL$242)=TRUE,\"P\",\"A\")","v":"A"},{"$f":"IF(Attendance($C39,'Daily Register'!LM$3:LM$242)=TRUE,\"P\",\"A\")","v":"A"},{"$f":"IF(Attendance($C39,'Daily Register'!LN$3:LN$242)=TRUE,\"P\",\"A\")","v":"A"},{"$f":"IF(Attendance($C39,'Daily Register'!LO$3:LO$242)=TRUE,\"P\",\"A\")","v":"A"},{"$f":"IF(Attendance($C39,'Daily Register'!LP$3:LP$242)=TRUE,\"P\",\"A\")","v":"A"},{"$f":"IF(Attendance($C39,'Daily Register'!LQ$3:LQ$242)=TRUE,\"P\",\"A\")","v":"A"},{"$f":"IF(Attendance($C39,'Daily Register'!LR$3:LR$242)=TRUE,\"P\",\"A\")","v":"A"},{"$f":"IF(Attendance($C39,'Daily Register'!LS$3:LS$242)=TRUE,\"P\",\"A\")","v":"A"},{"$f":"IF(Attendance($C39,'Daily Register'!LT$3:LT$242)=TRUE,\"P\",\"A\")","v":"A"},{"$f":"IF(Attendance($C39,'Daily Register'!LU$3:LU$242)=TRUE,\"P\",\"A\")","v":"A"},{"$f":"IF(Attendance($C39,'Daily Register'!LV$3:LV$242)=TRUE,\"P\",\"A\")","v":"A"},{"$f":"IF(Attendance($C39,'Daily Register'!LW$3:LW$242)=TRUE,\"P\",\"A\")","v":"A"},{"$f":"IF(Attendance($C39,'Daily Register'!LX$3:LX$242)=TRUE,\"P\",\"A\")","v":"A"},{"$f":"IF(Attendance($C39,'Daily Register'!LY$3:LY$242)=TRUE,\"P\",\"A\")","v":"A"},{"$f":"IF(Attendance($C39,'Daily Register'!LZ$3:LZ$242)=TRUE,\"P\",\"A\")","v":"A"},{"$f":"IF(Attendance($C39,'Daily Register'!MA$3:MA$242)=TRUE,\"P\",\"A\")","v":"A"},{"$f":"IF(Attendance($C39,'Daily Register'!MB$3:MB$242)=TRUE,\"P\",\"A\")","v":"A"},{"$f":"IF(Attendance($C39,'Daily Register'!MC$3:MC$242)=TRUE,\"P\",\"A\")","v":"A"},{"$f":"IF(Attendance($C39,'Daily Register'!MD$3:MD$242)=TRUE,\"P\",\"A\")","v":"A"},{"$f":"IF(Attendance($C39,'Daily Register'!ME$3:ME$242)=TRUE,\"P\",\"A\")","v":"A"},{"$f":"IF(Attendance($C39,'Daily Register'!MF$3:MF$242)=TRUE,\"P\",\"A\")","v":"A"},{"$f":"IF(Attendance($C39,'Daily Register'!MG$3:MG$242)=TRUE,\"P\",\"A\")","v":"A"},{"$f":"IF(Attendance($C39,'Daily Register'!MH$3:MH$242)=TRUE,\"P\",\"A\")","v":"A"},{"$f":"IF(Attendance($C39,'Daily Register'!MI$3:MI$242)=TRUE,\"P\",\"A\")","v":"A"},{"$f":"IF(Attendance($C39,'Daily Register'!MJ$3:MJ$242)=TRUE,\"P\",\"A\")","v":"A"},{"$f":"IF(Attendance($C39,'Daily Register'!MK$3:MK$242)=TRUE,\"P\",\"A\")","v":"A"},{"$f":"IF(Attendance($C39,'Daily Register'!ML$3:ML$242)=TRUE,\"P\",\"A\")","v":"A"},{"$f":"IF(Attendance($C39,'Daily Register'!MM$3:MM$242)=TRUE,\"P\",\"A\")","v":"A"},{"$f":"IF(Attendance($C39,'Daily Register'!MN$3:MN$242)=TRUE,\"P\",\"A\")","v":"A"},{"$f":"IF(Attendance($C39,'Daily Register'!MO$3:MO$242)=TRUE,\"P\",\"A\")","v":"A"},{"$f":"IF(Attendance($C39,'Daily Register'!MP$3:MP$242)=TRUE,\"P\",\"A\")","v":"A"},{"$f":"IF(Attendance($C39,'Daily Register'!MQ$3:MQ$242)=TRUE,\"P\",\"A\")","v":"A"},{"$f":"IF(Attendance($C39,'Daily Register'!MR$3:MR$242)=TRUE,\"P\",\"A\")","v":"A"},{"$f":"IF(Attendance($C39,'Daily Register'!MS$3:MS$242)=TRUE,\"P\",\"A\")","v":"A"},{"$f":"IF(Attendance($C39,'Daily Register'!MT$3:MT$242)=TRUE,\"P\",\"A\")","v":"A"},{"$f":"IF(Attendance($C39,'Daily Register'!MU$3:MU$242)=TRUE,\"P\",\"A\")","v":"A"},{"$f":"IF(Attendance($C39,'Daily Register'!MV$3:MV$242)=TRUE,\"P\",\"A\")","v":"A"},{"$f":"IF(Attendance($C39,'Daily Register'!MW$3:MW$242)=TRUE,\"P\",\"A\")","v":"A"},{"$f":"IF(Attendance($C39,'Daily Register'!MX$3:MX$242)=TRUE,\"P\",\"A\")","v":"A"},{"$f":"IF(Attendance($C39,'Daily Register'!MY$3:MY$242)=TRUE,\"P\",\"A\")","v":"A"},{"$f":"IF(Attendance($C39,'Daily Register'!MZ$3:MZ$242)=TRUE,\"P\",\"A\")","v":"A"},{"$f":"IF(Attendance($C39,'Daily Register'!NA$3:NA$242)=TRUE,\"P\",\"A\")","v":"A"},{"$f":"IF(Attendance($C39,'Daily Register'!NB$3:NB$242)=TRUE,\"P\",\"A\")","v":"A"}]
[0,null,37,null,{"$f":"IF(Attendance($C40,'Daily Register'!A$3:A$242)=TRUE,\"P\",\"A\")","v":"A"},{"$f":"IF(Attendance($C40,'Daily Register'!B$3:B$242)=TRUE,\"P\",\"A\")","v":"A"},{"$f":"IF(Attendance($C40,'Daily Register'!C$3:C$242)=TRUE,\"P\",\"A\")","v":"A"},{"$f":"IF(Attendance($C40,'Daily Register'!D$3:D$242)=TRUE,\"P\",\"A\")","v":"A"},{"$f":"IF(Attendance($C40,'Daily Register'!E$3:E$242)=TRUE,\"P\",\"A\")","v":"A"},{"$f":"IF(Attendance($C40,'Daily Register'!F$3:F$242)=TRUE,\"P\",\"A\")","v":"A"},{"$f":"IF(Attendance($C40,'Daily Register'!G$3:G$242)=TRUE,\"P\",\"A\")","v":"A"},{"$f":"IF(Attendance($C40,'Daily Register'!H$3:H$242)=TRUE,\"P\",\"A\")","v":"A"},{"$f":"IF(Attendance($C40,'Daily Register'!I$3:I$242)=TRUE,\"P\",\"A\")","v":"A"},{"$f":"IF(Attendance($C40,'Daily Register'!J$3:J$242)=TRUE,\"P\",\"A\")","v":"A"},{"$f":"IF(Attendance($C40,'Daily Register'!K$3:K$242)=TRUE,\"P\",\"A\")","v":"A"},{"$f":"IF(Attendance($C40,'Daily Register'!L$3:L$242)=TRUE,\"P\",\"A\")","v":"A"},{"$f":"IF(Attendance($C40,'Daily Register'!M$3:M$242)=TRUE,\"P\",\"A\")","v":"A"},{"$f":"IF(Attendance($C40,'Daily Register'!N$3:N$242)=TRUE,\"P\",\"A\")","v":"A"},{"$f":"IF(Attendance($C40,'Daily Register'!O$3:O$242)=TRUE,\"P\",\"A\")","v":"A"},{"$f":"IF(Attendance($C40,'Daily Register'!P$3:P$242)=TRUE,\"P\",\"A\")","v":"A"},{"$f":"IF(Attendance($C40,'Daily Register'!Q$3:Q$242)=TRUE,\"P\",\"A\")","v":"A"},{"$f":"IF(Attendance($C40,'Daily Register'!R$3:R$242)=TRUE,\"P\",\"A\")","v":"A"},{"$f":"IF(Attendance($C40,'Daily Register'!S$3:S$242)=TRUE,\"P\",\"A\")","v":"A"},{"$f":"IF(Attendance($C40,'Daily Register'!T$3:T$242)=TRUE,\"P\",\"A\")","v":"A"},{"$f":"IF(Attendance($C40,'Daily Register'!U$3:U$242)=TRUE,\"P\",\"A\")","v":"A"},{"$f":"IF(Attendance($C40,'Daily Register'!V$3:V$242)=TRUE,\"P\",\"A\")","v":"A"},{"$f":"IF(Attendance($C40,'Daily Register'!W$3:W$242)=TRUE,\"P\",\"A\")","v":"A"},{"$f":"IF(Attendance($C40,'Daily Register'!X$3:X$242)=TRUE,\"P\",\"A\")","v":"A"},{"$f":"IF(Attendance($C40,'Daily Register'!Y$3:Y$242)=TRUE,\"P\",\"A\")","v":"A"},{"$f":"IF(Attendance($C40,'Daily Register'!Z$3:Z$242)=TRUE,\"P\",\"A\")","v":"A"},{"$f":"IF(Attendance($C40,'Daily Register'!AA$3:AA$242)=TRUE,\"P\",\"A\")","v":"A"},{"$f":"IF(Attendance($C40,'Daily Register'!AB$3:AB$242)=TRUE,\"P\",\"A\")","v":"A"},{"$f":"IF(Attendance($C40,'Daily Register'!AC$3:AC$242)=TRUE,\"P\",\"A\")","v":"A"},{"$f":"IF(Attendance($C40,'Daily Register'!AD$3:AD$242)=TRUE,\"P\",\"A\")","v":"A"},{"$f":"IF(Attendance($C40,'Daily Register'!AE$3:AE$242)=TRUE,\"P\",\"A\")","v":"A"},{"$f":"IF(Attendance($C40,'Daily Register'!AF$3:AF$242)=TRUE,\"P\",\"A\")","v":"A"},{"$f":"IF(Attendance($C40,'Daily Register'!AG$3:AG$242)=TRUE,\"P\",\"A\")","v":"A"},{"$f":"IF(Attendance($C40,'Daily Register'!AH$3:AH$242)=TRUE,\"P\",\"A\")","v":"A"},{"$f":"IF(Attendance($C40,'Daily Register'!AI$3:AI$242)=TRUE,\"P\",\"A\")","v":"A"},{"$f":"IF(Attendance($C40,'Daily Register'!AJ$3:AJ$242)=TRUE,\"P\",\"A\")","v":"A"},{"$f":"IF(Attendance($C40,'Daily Register'!AK$3:AK$242)=TRUE,\"P\",\"A\")","v":"A"},{"$f":"IF(Attendance($C40,'Daily Register'!AL$3:AL$242)=TRUE,\"P\",\"A\")","v":"A"},{"$f":"IF(Attendance($C40,'Daily Register'!AM$3:AM$242)=TRUE,\"P\",\"A\")","v":"A"},{"$f":"IF(Attendance($C40,'Daily Register'!AN$3:AN$242)=TRUE,\"P\",\"A\")","v":"A"},{"$f":"IF(Attendance($C40,'Daily Register'!AO$3:AO$242)=TRUE,\"P\",\"A\")","v":"A"},{"$f":"IF(Attendance($C40,'Daily Register'!AP$3:AP$242)=TRUE,\"P\",\"A\")","v":"A"},{"$f":"IF(Attendance($C40,'Daily Register'!AQ$3:AQ$242)=TRUE,\"P\",\"A\")","v":"A"},{"$f":"IF(Attendance($C40,'Daily Register'!AR$3:AR$242)=TRUE,\"P\",\"A\")","v":"A"},{"$f":"IF(Attendance($C40,'Daily Register'!AS$3:AS$242)=TRUE,\"P\",\"A\")","v":"A"},{"$f":"IF(Attendance($C40,'Daily Register'!AT$3:AT$242)=TRUE,\"P\",\"A\")","v":"A"},{"$f":"IF(Attendance($C40,'Daily Register'!AU$3:AU$242)=TRUE,\"P\",\"A\")","v":"A"},{"$f":"IF(Attendance($C40,'Daily Register'!AV$3:AV$242)=TRUE,\"P\",\"A\")","v":"A"},{"$f":"IF(Attendance($C40,'Daily Register'!AW$3:AW$242)=TRUE,\"P\",\"A\")","v":"A"},{"$f":"IF(Attendance($C40,'Daily Register'!AX$3:AX$242)=TRUE,\"P\",\"A\")","v":"A"},{"$f":"IF(Attendance($C40,'Daily Register'!AY$3:AY$242)=TRUE,\"P\",\"A\")","v":"A"},{"$f":"IF(Attendance($C40,'Daily Register'!AZ$3:AZ$242)=TRUE,\"P\",\"A\")","v":"A"},{"$f":"IF(Attendance($C40,'Daily Register'!BA$3:BA$242)=TRUE,\"P\",\"A\")","v":"A"},{"$f":"IF(Attendance($C40,'Daily Register'!BB$3:BB$242)=TRUE,\"P\",\"A\")","v":"A"},{"$f":"IF(Attendance($C40,'Daily Register'!BC$3:BC$242)=TRUE,\"P\",\"A\")","v":"A"},{"$f":"IF(Attendance($C40,'Daily Register'!BD$3:BD$242)=TRUE,\"P\",\"A\")","v":"A"},{"$f":"IF(Attendance($C40,'Daily Register'!BE$3:BE$242)=TRUE,\"P\",\"A\")","v":"A"},{"$f":"IF(Attendance($C40,'Daily Register'!BF$3:BF$242)=TRUE,\"P\",\"A\")","v":"A"},{"$f":"IF(Attendance($C40,'Daily Register'!BG$3:BG$242)=TRUE,\"P\",\"A\")","v":"A"},{"$f":"IF(Attendance($C40,'Daily Register'!BH$3:BH$242)=TRUE,\"P\",\"A\")","v":"A"},{"$f":"IF(Attendance($C40,'Daily Register'!BI$3:BI$242)=TRUE,\"P\",\"A\")","v":"A"},{"$f":"IF(Attendance($C40,'Daily Register'!BJ$3:BJ$242)=TRUE,\"P\",\"A\")","v":"A"},{"$f":"IF(Attendance($C40,'Daily Register'!BK$3:BK$242)=TRUE,\"P\",\"A\")","v":"A"},{"$f":"IF(Attendance($C40,'Daily Register'!BL$3:BL$242)=TRUE,\"P\",\"A\")","v":"A"},{"$f":"IF(Attendance($C40,'Daily Register'!BM$3:BM$242)=TRUE,\"P\",\"A\")","v":"A"},{"$f":"IF(Attendance($C40,'Daily Register'!BN$3:BN$242)=TRUE,\"P\",\"A\")","v":"A"},{"$f":"IF(Attendance($C40,'Daily Register'!BO$3:BO$242)=TRUE,\"P\",\"A\")","v":"A"},{"$f":"IF(Attendance($C40,'Daily Register'!BP$3:BP$242)=TRUE,\"P\",\"A\")","v":"A"},{"$f":"IF(Attendance($C40,'Daily Register'!BQ$3:BQ$242)=TRUE,\"P\",\"A\")","v":"A"},{"$f":"IF(Attendance($C40,'Daily Register'!BR$3:BR$242)=TRUE,\"P\",\"A\")","v":"A"},{"$f":"IF(Attendance($C40,'Daily Register'!BS$3:BS$242)=TRUE,\"P\",\"A\")","v":"A"},{"$f":"IF(Attendance($C40,'Daily Register'!BT$3:BT$242)=TRUE,\"P\",\"A\")","v":"A"},{"$f":"IF(Attendance($C40,'Daily Register'!BU$3:BU$242)=TRUE,\"P\",\"A\")","v":"A"},{"$f":"IF(Attendance($C40,'Daily Register'!BV$3:BV$242)=TRUE,\"P\",\"A\")","v":"A"},{"$f":"IF(Attendance($C40,'Daily Register'!BW$3:BW$242)=TRUE,\"P\",\"A\")","v":"A"},{"$f":"IF(Attendance($C40,'Daily Register'!BX$3:BX$242)=TRUE,\"P\",\"A\")","v":"A"},{"$f":"IF(Attendance($C40,'Daily Register'!BY$3:BY$242)=TRUE,\"P\",\"A\")","v":"A"},{"$f":"IF(Attendance($C40,'Daily Register'!BZ$3:BZ$242)=TRUE,\"P\",\"A\")","v":"A"},{"$f":"IF(Attendance($C40,'Daily Register'!CA$3:CA$242)=TRUE,\"P\",\"A\")","v":"A"},{"$f":"IF(Attendance($C40,'Daily Register'!CB$3:CB$242)=TRUE,\"P\",\"A\")","v":"A"},{"$f":"IF(Attendance($C40,'Daily Register'!CC$3:CC$242)=TRUE,\"P\",\"A\")","v":"A"},{"$f":"IF(Attendance($C40,'Daily Register'!CD$3:CD$242)=TRUE,\"P\",\"A\")","v":"A"},{"$f":"IF(Attendance($C40,'Daily Register'!CE$3:CE$242)=TRUE,\"P\",\"A\")","v":"A"},{"$f":"IF(Attendance($C40,'Daily Register'!CF$3:CF$242)=TRUE,\"P\",\"A\")","v":"A"},{"$f":"IF(Attendance($C40,'Daily Register'!CG$3:CG$242)=TRUE,\"P\",\"A\")","v":"A"},{"$f":"IF(Attendance($C40,'Daily Register'!CH$3:CH$242)=TRUE,\"P\",\"A\")","v":"A"},{"$f":"IF(Attendance($C40,'Daily Register'!CI$3:CI$242)=TRUE,\"P\",\"A\")","v":"A"},{"$f":"IF(Attendance($C40,'Daily Register'!CJ$3:CJ$242)=TRUE,\"P\",\"A\")","v":"A"},{"$f":"IF(Attendance($C40,'Daily Register'!CK$3:CK$242)=TRUE,\"P\",\"A\")","v":"A"},{"$f":"IF(Attendance($C40,'Daily Register'!CL$3:CL$242)=TRUE,\"P\",\"A\")","v":"A"},{"$f":"IF(Attendance($C40,'Daily Register'!CM$3:CM$242)=TRUE,\"P\",\"A\")","v":"A"},{"$f":"IF(Attendance($C40,'Daily Register'!CN$3:CN$242)=TRUE,\"P\",\"A\")","v":"A"},{"$f":"IF(Attendance($C40,'Daily Register'!CO$3:CO$242)=TRUE,\"P\",\"A\")","v":"A"},{"$f":"IF(Attendance($C40,'Daily Register'!CP$3:CP$242)=TRUE,\"P\",\"A\")","v":"A"},{"$f":"IF(Attendance($C40,'Daily Register'!CQ$3:CQ$242)=TRUE,\"P\",\"A\")","v":"A"},{"$f":"IF(Attendance($C40,'Daily Register'!CR$3:CR$242)=TRUE,\"P\",\"A\")","v":"A"},{"$f":"IF(Attendance($C40,'Daily Register'!CS$3:CS$242)=TRUE,\"P\",\"A\")","v":"A"},{"$f":"IF(Attendance($C40,'Daily Register'!CT$3:CT$242)=TRUE,\"P\",\"A\")","v":"A"},{"$f":"IF(Attendance($C40,'Daily Register'!CU$3:CU$242)=TRUE,\"P\",\"A\")","v":"A"},{"$f":"IF(Attendance($C40,'Daily Register'!CV$3:CV$242)=TRUE,\"P\",\"A\")","v":"A"},{"$f":"IF(Attendance($C40,'Daily Register'!CW$3:CW$242)=TRUE,\"P\",\"A\")","v":"A"},{"$f":"IF(Attendance($C40,'Daily Register'!CX$3:CX$242)=TRUE,\"P\",\"A\")","v":"A"},{"$f":"IF(Attendance($C40,'Daily Register'!CY$3:CY$242)=TRUE,\"P\",\"A\")","v":"A"},{"$f":"IF(Attendance($C40,'Daily Register'!CZ$3:CZ$242)=TRUE,\"P\",\"A\")","v":"A"},{"$f":"IF(Attendance($C40,'Daily Register'!DA$3:DA$242)=TRUE,\"P\",\"A\")","v":"A"},{"$f":"IF(Attendance($C40,'Daily Register'!DB$3:DB$242)=TRUE,\"P\",\"A\")","v":"A"},{"$f":"IF(Attendance($C40,'Daily Register'!DC$3:DC$242)=TRUE,\"P\",\"A\")","v":"A"},{"$f":"IF(Attendance($C40,'Daily Register'!DD$3:DD$242)=TRUE,\"P\",\"A\")","v":"A"},{"$f":"IF(Attendance($C40,'Daily Register'!DE$3:DE$242)=TRUE,\"P\",\"A\")","v":"A"},{"$f":"IF(Attendance($C40,'Daily Register'!DF$3:DF$242)=TRUE,\"P\",\"A\")","v":"A"},{"$f":"IF(Attendance($C40,'Daily Register'!DG$3:DG$242)=TRUE,\"P\",\"A\")","v":"A"},{"$f":"IF(Attendance($C40,'Daily Register'!DH$3:DH$242)=TRUE,\"P\",\"A\")","v":"A"},{"$f":"IF(Attendance($C40,'Daily Register'!DI$3:DI$242)=TRUE,\"P\",\"A\")","v":"A"},{"$f":"IF(Attendance($C40,'Daily Register'!DJ$3:DJ$242)=TRUE,\"P\",\"A\")","v":"A"},{"$f":"IF(Attendance($C40,'Daily Register'!DK$3:DK$242)=TRUE,\"P\",\"A\")","v":"A"},{"$f":"IF(Attendance($C40,'Daily Register'!DL$3:DL$242)=TRUE,\"P\",\"A\")","v":"A"},{"$f":"IF(Attendance($C40,'Daily Register'!DM$3:DM$242)=TRUE,\"P\",\"A\")","v":"A"},{"$f":"IF(Attendance($C40,'Daily Register'!DN$3:DN$242)=TRUE,\"P\",\"A\")","v":"A"},{"$f":"IF(Attendance($C40,'Daily Register'!DO$3:DO$242)=TRUE,\"P\",\"A\")","v":"A"},{"$f":"IF(Attendance($C40,'Daily Register'!DP$3:DP$242)=TRUE,\"P\",\"A\")","v":"A"},{"$f":"IF(Attendance($C40,'Daily Register'!DQ$3:DQ$242)=TRUE,\"P\",\"A\")","v":"A"},{"$f":"IF(Attendance($C40,'Daily Register'!DR$3:DR$242)=TRUE,\"P\",\"A\")","v":"A"},{"$f":"IF(Attendance($C40,'Daily Register'!DS$3:DS$242)=TRUE,\"P\",\"A\")","v":"A"},{"$f":"IF(Attendance($C40,'Daily Register'!DT$3:DT$242)=TRUE,\"P\",\"A\")","v":"A"},{"$f":"IF(Attendance($C40,'Daily Register'!DU$3:DU$242)=TRUE,\"P\",\"A\")","v":"A"},{"$f":"IF(Attendance($C40,'Daily Register'!DV$3:DV$242)=TRUE,\"P\",\"A\")","v":"A"},{"$f":"IF(Attendance($C40,'Daily Register'!DW$3:DW$242)=TRUE,\"P\",\"A\")","v":"A"},{"$f":"IF(Attendance($C40,'Daily Register'!DX$3:DX$242)=TRUE,\"P\",\"A\")","v":"A"},{"$f":"IF(Attendance($C40,'Daily Register'!DY$3:DY$242)=TRUE,\"P\",\"A\")","v":"A"},{"$f":"IF(Attendance($C40,'Daily Register'!DZ$3:DZ$242)=TRUE,\"P\",\"A\")","v":"A"},{"$f":"IF(Attendance($C40,'Daily Register'!EA$3:EA$242)=TRUE,\"P\",\"A\")","v":"A"},{"$f":"IF(Attendance($C40,'Daily Register'!EB$3:EB$242)=TRUE,\"P\",\"A\")","v":"A"},{"$f":"IF(Attendance($C40,'Daily Register'!EC$3:EC$242)=TRUE,\"P\",\"A\")","v":"A"},{"$f":"IF(Attendance($C40,'Daily Register'!ED$3:ED$242)=TRUE,\"P\",\"A\")","v":"A"},{"$f":"IF(Attendance($C40,'Daily Register'!EE$3:EE$242)=TRUE,\"P\",\"A\")","v":"A"},{"$f":"IF(Attendance($C40,'Daily Register'!EF$3:EF$242)=TRUE,\"P\",\"A\")","v":"A"},{"$f":"IF(Attendance($C40,'Daily Register'!EG$3:EG$242)=TRUE,\"P\",\"A\")","v":"A"},{"$f":"IF(Attendance($C40,'Daily Register'!EH$3:EH$242)=TRUE,\"P\",\"A\")","v":"A"},{"$f":"IF(Attendance($C40,'Daily Register'!EI$3:EI$242)=TRUE,\"P\",\"A\")","v":"A"},{"$f":"IF(Attendance($C40,'Daily Register'!EJ$3:EJ$242)=TRUE,\"P\",\"A\")","v":"A"},{"$f":"IF(Attendance($C40,'Daily Register'!EK$3:EK$242)=TRUE,\"P\",\"A\")","v":"A"},{"$f":"IF(Attendance($C40,'Daily Register'!EL$3:EL$242)=TRUE,\"P\",\"A\")","v":"A"},{"$f":"IF(Attendance($C40,'Daily Register'!EM$22:EM$242)=TRUE,\"P\",\"A\")","v":"A"},{"$f":"IF(Attendance($C40,'Daily Register'!EN$3:EN$242)=TRUE,\"P\",\"A\")","v":"A"},{"$f":"IF(Attendance($C40,'Daily Register'!EO$3:EO$242)=TRUE,\"P\",\"A\")","v":"A"},{"$f":"IF(Attendance($C40,'Daily Register'!EP$3:EP$242)=TRUE,\"P\",\"A\")","v":"A"},{"$f":"IF(Attendance($C40,'Daily Register'!EQ$3:EQ$242)=TRUE,\"P\",\"A\")","v":"A"},{"$f":"IF(Attendance($C40,'Daily Register'!ER$3:ER$242)=TRUE,\"P\",\"A\")","v":"A"},{"$f":"IF(Attendance($C40,'Daily Register'!ES$3:ES$242)=TRUE,\"P\",\"A\")","v":"A"},{"$f":"IF(Attendance($C40,'Daily Register'!ET$3:ET$242)=TRUE,\"P\",\"A\")","v":"A"},{"$f":"IF(Attendance($C40,'Daily Register'!EU$3:EU$242)=TRUE,\"P\",\"A\")","v":"A"},{"$f":"IF(Attendance($C40,'Daily Register'!EV$3:EV$242)=TRUE,\"P\",\"A\")","v":"A"},{"$f":"IF(Attendance($C40,'Daily Register'!EW$3:EW$242)=TRUE,\"P\",\"A\")","v":"A"},{"$f":"IF(Attendance($C40,'Daily Register'!EX$3:EX$242)=TRUE,\"P\",\"A\")","v":"A"},{"$f":"IF(Attendance($C40,'Daily Register'!EY$3:EY$242)=TRUE,\"P\",\"A\")","v":"A"},{"$f":"IF(Attendance($C40,'Daily Register'!EZ$3:EZ$242)=TRUE,\"P\",\"A\")","v":"A"},{"$f":"IF(Attendance($C40,'Daily Register'!FA$3:FA$242)=TRUE,\"P\",\"A\")","v":"A"},{"$f":"IF(Attendance($C40,'Daily Register'!FB$3:FB$242)=TRUE,\"P\",\"A\")","v":"A"},{"$f":"IF(Attendance($C40,'Daily Register'!FC$3:FC$242)=TRUE,\"P\",\"A\")","v":"A"},{"$f":"IF(Attendance($C40,'Daily Register'!FD$3:FD$242)=TRUE,\"P\",\"A\")","v":"A"},{"$f":"IF(Attendance($C40,'Daily Register'!FE$3:FE$242)=TRUE,\"P\",\"A\")","v":"A"},{"$f":"IF(Attendance($C40,'Daily Register'!FF$3:FF$242)=TRUE,\"P\",\"A\")","v":"A"},{"$f":"IF(Attendance($C40,'Daily Register'!FG$3:FG$242)=TRUE,\"P\",\"A\")","v":"A"},{"$f":"IF(Attendance($C40,'Daily Register'!FH$3:FH$242)=TRUE,\"P\",\"A\")","v":"A"},{"$f":"IF(Attendance($C40,'Daily Register'!FI$3:FI$242)=TRUE,\"P\",\"A\")","v":"A"},{"$f":"IF(Attendance($C40,'Daily Register'!FJ$3:FJ$242)=TRUE,\"P\",\"A\")","v":"A"},{"$f":"IF(Attendance($C40,'Daily Register'!FK$3:FK$242)=TRUE,\"P\",\"A\")","v":"A"},{"$f":"IF(Attendance($C40,'Daily Register'!FL$3:FL$242)=TRUE,\"P\",\"A\")","v":"A"},{"$f":"IF(Attendance($C40,'Daily Register'!FM$3:FM$242)=TRUE,\"P\",\"A\")","v":"A"},{"$f":"IF(Attendance($C40,'Daily Register'!FN$3:FN$242)=TRUE,\"P\",\"A\")","v":"A"},{"$f":"IF(Attendance($C40,'Daily Register'!FO$3:FO$242)=TRUE,\"P\",\"A\")","v":"A"},{"$f":"IF(Attendance($C40,'Daily Register'!FP$3:FP$242)=TRUE,\"P\",\"A\")","v":"A"},{"$f":"IF(Attendance($C40,'Daily Register'!FQ$3:FQ$242)=TRUE,\"P\",\"A\")","v":"A"},{"$f":"IF(Attendance($C40,'Daily Register'!FR$3:FR$242)=TRUE,\"P\",\"A\")","v":"A"},{"$f":"IF(Attendance($C40,'Daily Register'!FS$3:FS$242)=TRUE,\"P\",\"A\")","v":"A"},{"$f":"IF(Attendance($C40,'Daily Register'!FT$3:FT$242)=TRUE,\"P\",\"A\")","v":"A"},{"$f":"IF(Attendance($C40,'Daily Register'!FU$3:FU$242)=TRUE,\"P\",\"A\")","v":"A"},{"$f":"IF(Attendance($C40,'Daily Register'!FV$3:FV$242)=TRUE,\"P\",\"A\")","v":"A"},{"$f":"IF(Attendance($C40,'Daily Register'!FW$3:FW$242)=TRUE,\"P\",\"A\")","v":"A"},{"$f":"IF(Attendance($C40,'Daily Register'!FX$3:FX$242)=TRUE,\"P\",\"A\")","v":"A"},{"$f":"IF(Attendance($C40,'Daily Register'!FY$3:FY$242)=TRUE,\"P\",\"A\")","v":"A"},{"$f":"IF(Attendance($C40,'Daily Register'!FZ$3:FZ$242)=TRUE,\"P\",\"A\")","v":"A"},{"$f":"IF(Attendance($C40,'Daily Register'!GA$3:GA$242)=TRUE,\"P\",\"A\")","v":"A"},{"$f":"IF(Attendance($C40,'Daily Register'!GB$3:GB$242)=TRUE,\"P\",\"A\")","v":"A"},{"$f":"IF(Attendance($C40,'Daily Register'!GC$3:GC$242)=TRUE,\"P\",\"A\")","v":"A"},{"$f":"IF(Attendance($C40,'Daily Register'!GD$3:GD$242)=TRUE,\"P\",\"A\")","v":"A"},{"$f":"IF(Attendance($C40,'Daily Register'!GE$3:GE$242)=TRUE,\"P\",\"A\")","v":"A"},{"$f":"IF(Attendance($C40,'Daily Register'!GF$3:GF$242)=TRUE,\"P\",\"A\")","v":"A"},{"$f":"IF(Attendance($C40,'Daily Register'!GG$3:GG$242)=TRUE,\"P\",\"A\")","v":"A"},{"$f":"IF(Attendance($C40,'Daily Register'!GH$3:GH$242)=TRUE,\"P\",\"A\")","v":"A"},{"$f":"IF(Attendance($C40,'Daily Register'!GI$3:GI$242)=TRUE,\"P\",\"A\")","v":"A"},{"$f":"IF(Attendance($C40,'Daily Register'!GJ$3:GJ$242)=TRUE,\"P\",\"A\")","v":"A"},{"$f":"IF(Attendance($C40,'Daily Register'!GK$3:GK$242)=TRUE,\"P\",\"A\")","v":"A"},{"$f":"IF(Attendance($C40,'Daily Register'!GL$3:GL$242)=TRUE,\"P\",\"A\")","v":"A"},{"$f":"IF(Attendance($C40,'Daily Register'!GM$3:GM$242)=TRUE,\"P\",\"A\")","v":"A"},{"$f":"IF(Attendance($C40,'Daily Register'!GN$3:GN$242)=TRUE,\"P\",\"A\")","v":"A"},{"$f":"IF(Attendance($C40,'Daily Register'!GO$3:GO$242)=TRUE,\"P\",\"A\")","v":"A"},{"$f":"IF(Attendance($C40,'Daily Register'!GP$3:GP$242)=TRUE,\"P\",\"A\")","v":"A"},{"$f":"IF(Attendance($C40,'Daily Register'!GQ$3:GQ$242)=TRUE,\"P\",\"A\")","v":"A"},{"$f":"IF(Attendance($C40,'Daily Register'!GR$3:GR$242)=TRUE,\"P\",\"A\")","v":"A"},{"$f":"IF(Attendance($C40,'Daily Register'!GS$3:GS$242)=TRUE,\"P\",\"A\")","v":"A"},{"$f":"IF(Attendance($C40,'Daily Register'!GT$3:GT$242)=TRUE,\"P\",\"A\")","v":"A"},{"$f":"IF(Attendance($C40,'Daily Register'!GU$3:GU$242)=TRUE,\"P\",\"A\")","v":"A"},{"$f":"IF(Attendance($C40,'Daily Register'!GV$3:GV$242)=TRUE,\"P\",\"A\")","v":"A"},{"$f":"IF(Attendance($C40,'Daily Register'!GW$3:GW$242)=TRUE,\"P\",\"A\")","v":"A"},{"$f":"IF(Attendance($C40,'Daily Register'!GX$3:GX$242)=TRUE,\"P\",\"A\")","v":"A"},{"$f":"IF(Attendance($C40,'Daily Register'!GY$3:GY$242)=TRUE,\"P\",\"A\")","v":"A"},{"$f":"IF(Attendance($C40,'Daily Register'!GZ$3:GZ$242)=TRUE,\"P\",\"A\")","v":"A"},{"$f":"IF(Attendance($C40,'Daily Register'!HA$3:HA$242)=TRUE,\"P\",\"A\")","v":"A"},{"$f":"IF(Attendance($C40,'Daily Register'!HB$3:HB$242)=TRUE,\"P\",\"A\")","v":"A"},{"$f":"IF(Attendance($C40,'Daily Register'!HC$3:HC$242)=TRUE,\"P\",\"A\")","v":"A"},{"$f":"IF(Attendance($C40,'Daily Register'!HD$3:HD$242)=TRUE,\"P\",\"A\")","v":"A"},{"$f":"IF(Attendance($C40,'Daily Register'!HE$3:HE$242)=TRUE,\"P\",\"A\")","v":"A"},{"$f":"IF(Attendance($C40,'Daily Register'!HF$3:HF$242)=TRUE,\"P\",\"A\")","v":"A"},{"$f":"IF(Attendance($C40,'Daily Register'!HG$3:HG$242)=TRUE,\"P\",\"A\")","v":"A"},{"$f":"IF(Attendance($C40,'Daily Register'!HH$3:HH$242)=TRUE,\"P\",\"A\")","v":"A"},{"$f":"IF(Attendance($C40,'Daily Register'!HI$3:HI$242)=TRUE,\"P\",\"A\")","v":"A"},{"$f":"IF(Attendance($C40,'Daily Register'!HJ$3:HJ$242)=TRUE,\"P\",\"A\")","v":"A"},{"$f":"IF(Attendance($C40,'Daily Register'!HK$3:HK$242)=TRUE,\"P\",\"A\")","v":"A"},{"$f":"IF(Attendance($C40,'Daily Register'!HL$3:HL$242)=TRUE,\"P\",\"A\")","v":"A"},{"$f":"IF(Attendance($C40,'Daily Register'!HM$3:HM$242)=TRUE,\"P\",\"A\")","v":"A"},{"$f":"IF(Attendance($C40,'Daily Register'!HN$3:HN$242)=TRUE,\"P\",\"A\")","v":"A"},{"$f":"IF(Attendance($C40,'Daily Register'!HO$3:HO$242)=TRUE,\"P\",\"A\")","v":"A"},{"$f":"IF(Attendance($C40,'Daily Register'!HP$3:HP$242)=TRUE,\"P\",\"A\")","v":"A"},{"$f":"IF(Attendance($C40,'Daily Register'!HQ$3:HQ$242)=TRUE,\"P\",\"A\")","v":"A"},{"$f":"IF(Attendance($C40,'Daily Register'!HR$3:HR$242)=TRUE,\"P\",\"A\")","v":"A"},{"$f":"IF(Attendance($C40,'Daily Register'!HS$3:HS$242)=TRUE,\"P\",\"A\")","v":"A"},{"$f":"IF(Attendance($C40,'Daily Register'!HT$3:HT$242)=TRUE,\"P\",\"A\")","v":"A"},{"$f":"IF(Attendance($C40,'Daily Register'!HU$3:HU$242)=TRUE,\"P\",\"A\")","v":"A"},{"$f":"IF(Attendance($C40,'Daily Register'!HV$3:HV$242)=TRUE,\"P\",\"A\")","v":"A"},{"$f":"IF(Attendance($C40,'Daily Register'!HW$3:HW$242)=TRUE,\"P\",\"A\")","v":"A"},{"$f":"IF(Attendance($C40,'Daily Register'!HX$3:HX$242)=TRUE,\"P\",\"A\")","v":"A"},{"$f":"IF(Attendance($C40,'Daily Register'!HY$3:HY$242)=TRUE,\"P\",\"A\")","v":"A"},{"$f":"IF(Attendance($C40,'Daily Register'!HZ$3:HZ$242)=TRUE,\"P\",\"A\")","v":"A"},{"$f":"IF(Attendance($C40,'Daily Register'!IA$3:IA$242)=TRUE,\"P\",\"A\")","v":"A"},{"$f":"IF(Attendance($C40,'Daily Register'!IB$3:IB$242)=TRUE,\"P\",\"A\")","v":"A"},{"$f":"IF(Attendance($C40,'Daily Register'!IC$3:IC$242)=TRUE,\"P\",\"A\")","v":"A"},{"$f":"IF(Attendance($C40,'Daily Register'!ID$3:ID$242)=TRUE,\"P\",\"A\")","v":"A"},{"$f":"IF(Attendance($C40,'Daily Register'!IE$3:IE$242)=TRUE,\"P\",\"A\")","v":"A"},{"$f":"IF(Attendance($C40,'Daily Register'!IF$3:IF$242)=TRUE,\"P\",\"A\")","v":"A"},{"$f":"IF(Attendance($C40,'Daily Register'!IG$3:IG$242)=TRUE,\"P\",\"A\")","v":"A"},{"$f":"IF(Attendance($C40,'Daily Register'!IH$3:IH$242)=TRUE,\"P\",\"A\")","v":"A"},{"$f":"IF(Attendance($C40,'Daily Register'!II$3:II$242)=TRUE,\"P\",\"A\")","v":"A"},{"$f":"IF(Attendance($C40,'Daily Register'!IJ$3:IJ$242)=TRUE,\"P\",\"A\")","v":"A"},{"$f":"IF(Attendance($C40,'Daily Register'!IK$3:IK$242)=TRUE,\"P\",\"A\")","v":"A"},{"$f":"IF(Attendance($C40,'Daily Register'!IL$3:IL$242)=TRUE,\"P\",\"A\")","v":"A"},{"$f":"IF(Attendance($C40,'Daily Register'!IM$3:IM$242)=TRUE,\"P\",\"A\")","v":"A"},{"$f":"IF(Attendance($C40,'Daily Register'!IN$3:IN$242)=TRUE,\"P\",\"A\")","v":"A"},{"$f":"IF(Attendance($C40,'Daily Register'!IO$3:IO$242)=TRUE,\"P\",\"A\")","v":"A"},{"$f":"IF(Attendance($C40,'Daily Register'!IP$3:IP$242)=TRUE,\"P\",\"A\")","v":"A"},{"$f":"IF(Attendance($C40,'Daily Register'!IQ$3:IQ$242)=TRUE,\"P\",\"A\")","v":"A"},{"$f":"IF(Attendance($C40,'Daily Register'!IR$3:IR$242)=TRUE,\"P\",\"A\")","v":"A"},{"$f":"IF(Attendance($C40,'Daily Register'!IS$3:IS$242)=TRUE,\"P\",\"A\")","v":"A"},{"$f":"IF(Attendance($C40,'Daily Register'!IT$3:IT$242)=TRUE,\"P\",\"A\")","v":"A"},{"$f":"IF(Attendance($C40,'Daily Register'!IU$3:IU$242)=TRUE,\"P\",\"A\")","v":"A"},{"$f":"IF(Attendance($C40,'Daily Register'!IV$3:IV$242)=TRUE,\"P\",\"A\")","v":"A"},{"$f":"IF(Attendance($C40,'Daily Register'!IW$3:IW$242)=TRUE,\"P\",\"A\")","v":"A"},{"$f":"IF(Attendance($C40,'Daily Register'!IX$3:IX$242)=TRUE,\"P\",\"A\")","v":"A"},{"$f":"IF(Attendance($C40,'Daily Register'!IY$3:IY$242)=TRUE,\"P\",\"A\")","v":"A"},{"$f":"IF(Attendance($C40,'Daily Register'!IZ$3:IZ$242)=TRUE,\"P\",\"A\")","v":"A"},{"$f":"IF(Attendance($C40,'Daily Register'!JA$3:JA$242)=TRUE,\"P\",\"A\")","v":"A"},{"$f":"IF(Attendance($C40,'Daily Register'!JB$3:JB$242)=TRUE,\"P\",\"A\")","v":"A"},{"$f":"IF(Attendance($C40,'Daily Register'!JC$3:JC$242)=TRUE,\"P\",\"A\")","v":"A"},{"$f":"IF(Attendance($C40,'Daily Register'!JD$3:JD$242)=TRUE,\"P\",\"A\")","v":"A"},{"$f":"IF(Attendance($C40,'Daily Register'!JE$3:JE$242)=TRUE,\"P\",\"A\")","v":"A"},{"$f":"IF(Attendance($C40,'Daily Register'!JF$3:JF$242)=TRUE,\"P\",\"A\")","v":"A"},{"$f":"IF(Attendance($C40,'Daily Register'!JG$3:JG$242)=TRUE,\"P\",\"A\")","v":"A"},{"$f":"IF(Attendance($C40,'Daily Register'!JH$3:JH$242)=TRUE,\"P\",\"A\")","v":"A"},{"$f":"IF(Attendance($C40,'Daily Register'!JI$3:JI$242)=TRUE,\"P\",\"A\")","v":"A"},{"$f":"IF(Attendance($C40,'Daily Register'!JJ$3:JJ$242)=TRUE,\"P\",\"A\")","v":"A"},{"$f":"IF(Attendance($C40,'Daily Register'!JK$3:JK$242)=TRUE,\"P\",\"A\")","v":"A"},{"$f":"IF(Attendance($C40,'Daily Register'!JL$3:JL$242)=TRUE,\"P\",\"A\")","v":"A"},{"$f":"IF(Attendance($C40,'Daily Register'!JM$3:JM$242)=TRUE,\"P\",\"A\")","v":"A"},{"$f":"IF(Attendance($C40,'Daily Register'!JN$3:JN$242)=TRUE,\"P\",\"A\")","v":"A"},{"$f":"IF(Attendance($C40,'Daily Register'!JO$3:JO$242)=TRUE,\"P\",\"A\")","v":"A"},{"$f":"IF(Attendance($C40,'Daily Register'!JP$3:JP$242)=TRUE,\"P\",\"A\")","v":"A"},{"$f":"IF(Attendance($C40,'Daily Register'!JQ$3:JQ$242)=TRUE,\"P\",\"A\")","v":"A"},{"$f":"IF(Attendance($C40,'Daily Register'!JR$3:JR$242)=TRUE,\"P\",\"A\")","v":"A"},{"$f":"IF(Attendance($C40,'Daily Register'!JS$3:JS$242)=TRUE,\"P\",\"A\")","v":"A"},{"$f":"IF(Attendance($C40,'Daily Register'!JT$3:JT$242)=TRUE,\"P\",\"A\")","v":"A"},{"$f":"IF(Attendance($C40,'Daily Register'!JU$3:JU$242)=TRUE,\"P\",\"A\")","v":"A"},{"$f":"IF(Attendance($C40,'Daily Register'!JV$3:JV$242)=TRUE,\"P\",\"A\")","v":"A"},{"$f":"IF(Attendance($C40,'Daily Register'!JW$3:JW$242)=TRUE,\"P\",\"A\")","v":"A"},{"$f":"IF(Attendance($C40,'Daily Register'!JX$3:JX$242)=TRUE,\"P\",\"A\")","v":"A"},{"$f":"IF(Attendance($C40,'Daily Register'!JY$3:JY$242)=TRUE,\"P\",\"A\")","v":"A"},{"$f":"IF(Attendance($C40,'Daily Register'!JZ$3:JZ$242)=TRUE,\"P\",\"A\")","v":"A"},{"$f":"IF(Attendance($C40,'Daily Register'!KA$3:KA$242)=TRUE,\"P\",\"A\")","v":"A"},{"$f":"IF(Attendance($C40,'Daily Register'!KB$3:KB$242)=TRUE,\"P\",\"A\")","v":"A"},{"$f":"IF(Attendance($C40,'Daily Register'!KC$3:KC$242)=TRUE,\"P\",\"A\")","v":"A"},{"$f":"IF(Attendance($C40,'Daily Register'!KD$3:KD$242)=TRUE,\"P\",\"A\")","v":"A"},{"$f":"IF(Attendance($C40,'Daily Register'!KE$3:KE$242)=TRUE,\"P\",\"A\")","v":"A"},{"$f":"IF(Attendance($C40,'Daily Register'!KF$3:KF$242)=TRUE,\"P\",\"A\")","v":"A"},{"$f":"IF(Attendance($C40,'Daily Register'!KG$3:KG$242)=TRUE,\"P\",\"A\")","v":"A"},{"$f":"IF(Attendance($C40,'Daily Register'!KH$3:KH$242)=TRUE,\"P\",\"A\")","v":"A"},{"$f":"IF(Attendance($C40,'Daily Register'!KI$3:KI$242)=TRUE,\"P\",\"A\")","v":"A"},{"$f":"IF(Attendance($C40,'Daily Register'!KJ$3:KJ$242)=TRUE,\"P\",\"A\")","v":"A"},{"$f":"IF(Attendance($C40,'Daily Register'!KK$3:KK$242)=TRUE,\"P\",\"A\")","v":"A"},{"$f":"IF(Attendance($C40,'Daily Register'!KL$3:KL$242)=TRUE,\"P\",\"A\")","v":"A"},{"$f":"IF(Attendance($C40,'Daily Register'!KM$3:KM$242)=TRUE,\"P\",\"A\")","v":"A"},{"$f":"IF(Attendance($C40,'Daily Register'!KN$3:KN$242)=TRUE,\"P\",\"A\")","v":"A"},{"$f":"IF(Attendance($C40,'Daily Register'!KO$3:KO$242)=TRUE,\"P\",\"A\")","v":"A"},{"$f":"IF(Attendance($C40,'Daily Register'!KP$3:KP$242)=TRUE,\"P\",\"A\")","v":"A"},{"$f":"IF(Attendance($C40,'Daily Register'!KQ$3:KQ$242)=TRUE,\"P\",\"A\")","v":"A"},{"$f":"IF(Attendance($C40,'Daily Register'!KR$3:KR$242)=TRUE,\"P\",\"A\")","v":"A"},{"$f":"IF(Attendance($C40,'Daily Register'!KS$3:KS$242)=TRUE,\"P\",\"A\")","v":"A"},{"$f":"IF(Attendance($C40,'Daily Register'!KT$3:KT$242)=TRUE,\"P\",\"A\")","v":"A"},{"$f":"IF(Attendance($C40,'Daily Register'!KU$3:KU$242)=TRUE,\"P\",\"A\")","v":"A"},{"$f":"IF(Attendance($C40,'Daily Register'!KV$3:KV$242)=TRUE,\"P\",\"A\")","v":"A"},{"$f":"IF(Attendance($C40,'Daily Register'!KW$3:KW$242)=TRUE,\"P\",\"A\")","v":"A"},{"$f":"IF(Attendance($C40,'Daily Register'!KX$3:KX$242)=TRUE,\"P\",\"A\")","v":"A"},{"$f":"IF(Attendance($C40,'Daily Register'!KY$3:KY$242)=TRUE,\"P\",\"A\")","v":"A"},{"$f":"IF(Attendance($C40,'Daily Register'!KZ$3:KZ$242)=TRUE,\"P\",\"A\")","v":"A"},{"$f":"IF(Attendance($C40,'Daily Register'!LA$3:LA$242)=TRUE,\"P\",\"A\")","v":"A"},{"$f":"IF(Attendance($C40,'Daily Register'!LB$3:LB$242)=TRUE,\"P\",\"A\")","v":"A"},{"$f":"IF(Attendance($C40,'Daily Register'!LC$3:LC$242)=TRUE,\"P\",\"A\")","v":"A"},{"$f":"IF(Attendance($C40,'Daily Register'!LD$3:LD$242)=TRUE,\"P\",\"A\")","v":"A"},{"$f":"IF(Attendance($C40,'Daily Register'!LE$3:LE$242)=TRUE,\"P\",\"A\")","v":"A"},{"$f":"IF(Attendance($C40,'Daily Register'!LF$3:LF$242)=TRUE,\"P\",\"A\")","v":"A"},{"$f":"IF(Attendance($C40,'Daily Register'!LG$3:LG$242)=TRUE,\"P\",\"A\")","v":"A"},{"$f":"IF(Attendance($C40,'Daily Register'!LH$3:LH$242)=TRUE,\"P\",\"A\")","v":"A"},{"$f":"IF(Attendance($C40,'Daily Register'!LI$3:LI$242)=TRUE,\"P\",\"A\")","v":"A"},{"$f":"IF(Attendance($C40,'Daily Register'!LJ$3:LJ$242)=TRUE,\"P\",\"A\")","v":"A"},{"$f":"IF(Attendance($C40,'Daily Register'!LK$3:LK$242)=TRUE,\"P\",\"A\")","v":"A"},{"$f":"IF(Attendance($C40,'Daily Register'!LL$3:LL$242)=TRUE,\"P\",\"A\")","v":"A"},{"$f":"IF(Attendance($C40,'Daily Register'!LM$3:LM$242)=TRUE,\"P\",\"A\")","v":"A"},{"$f":"IF(Attendance($C40,'Daily Register'!LN$3:LN$242)=TRUE,\"P\",\"A\")","v":"A"},{"$f":"IF(Attendance($C40,'Daily Register'!LO$3:LO$242)=TRUE,\"P\",\"A\")","v":"A"},{"$f":"IF(Attendance($C40,'Daily Register'!LP$3:LP$242)=TRUE,\"P\",\"A\")","v":"A"},{"$f":"IF(Attendance($C40,'Daily Register'!LQ$3:LQ$242)=TRUE,\"P\",\"A\")","v":"A"},{"$f":"IF(Attendance($C40,'Daily Register'!LR$3:LR$242)=TRUE,\"P\",\"A\")","v":"A"},{"$f":"IF(Attendance($C40,'Daily Register'!LS$3:LS$242)=TRUE,\"P\",\"A\")","v":"A"},{"$f":"IF(Attendance($C40,'Daily Register'!LT$3:LT$242)=TRUE,\"P\",\"A\")","v":"A"},{"$f":"IF(Attendance($C40,'Daily Register'!LU$3:LU$242)=TRUE,\"P\",\"A\")","v":"A"},{"$f":"IF(Attendance($C40,'Daily Register'!LV$3:LV$242)=TRUE,\"P\",\"A\")","v":"A"},{"$f":"IF(Attendance($C40,'Daily Register'!LW$3:LW$242)=TRUE,\"P\",\"A\")","v":"A"},{"$f":"IF(Attendance($C40,'Daily Register'!LX$3:LX$242)=TRUE,\"P\",\"A\")","v":"A"},{"$f":"IF(Attendance($C40,'Daily Register'!LY$3:LY$242)=TRUE,\"P\",\"A\")","v":"A"},{"$f":"IF(Attendance($C40,'Daily Register'!LZ$3:LZ$242)=TRUE,\"P\",\"A\")","v":"A"},{"$f":"IF(Attendance($C40,'Daily Register'!MA$3:MA$242)=TRUE,\"P\",\"A\")","v":"A"},{"$f":"IF(Attendance($C40,'Daily Register'!MB$3:MB$242)=TRUE,\"P\",\"A\")","v":"A"},{"$f":"IF(Attendance($C40,'Daily Register'!MC$3:MC$242)=TRUE,\"P\",\"A\")","v":"A"},{"$f":"IF(Attendance($C40,'Daily Register'!MD$3:MD$242)=TRUE,\"P\",\"A\")","v":"A"},{"$f":"IF(Attendance($C40,'Daily Register'!ME$3:ME$242)=TRUE,\"P\",\"A\")","v":"A"},{"$f":"IF(Attendance($C40,'Daily Register'!MF$3:MF$242)=TRUE,\"P\",\"A\")","v":"A"},{"$f":"IF(Attendance($C40,'Daily Register'!MG$3:MG$242)=TRUE,\"P\",\"A\")","v":"A"},{"$f":"IF(Attendance($C40,'Daily Register'!MH$3:MH$242)=TRUE,\"P\",\"A\")","v":"A"},{"$f":"IF(Attendance($C40,'Daily Register'!MI$3:MI$242)=TRUE,\"P\",\"A\")","v":"A"},{"$f":"IF(Attendance($C40,'Daily Register'!MJ$3:MJ$242)=TRUE,\"P\",\"A\")","v":"A"},{"$f":"IF(Attendance($C40,'Daily Register'!MK$3:MK$242)=TRUE,\"P\",\"A\")","v":"A"},{"$f":"IF(Attendance($C40,'Daily Register'!ML$3:ML$242)=TRUE,\"P\",\"A\")","v":"A"},{"$f":"IF(Attendance($C40,'Daily Register'!MM$3:MM$242)=TRUE,\"P\",\"A\")","v":"A"},{"$f":"IF(Attendance($C40,'Daily Register'!MN$3:MN$242)=TRUE,\"P\",\"A\")","v":"A"},{"$f":"IF(Attendance($C40,'Daily Register'!MO$3:MO$242)=TRUE,\"P\",\"A\")","v":"A"},{"$f":"IF(Attendance($C40,'Daily Register'!MP$3:MP$242)=TRUE,\"P\",\"A\")","v":"A"},{"$f":"IF(Attendance($C40,'Daily Register'!MQ$3:MQ$242)=TRUE,\"P\",\"A\")","v":"A"},{"$f":"IF(Attendance($C40,'Daily Register'!MR$3:MR$242)=TRUE,\"P\",\"A\")","v":"A"},{"$f":"IF(Attendance($C40,'Daily Register'!MS$3:MS$242)=TRUE,\"P\",\"A\")","v":"A"},{"$f":"IF(Attendance($C40,'Daily Register'!MT$3:MT$242)=TRUE,\"P\",\"A\")","v":"A"},{"$f":"IF(Attendance($C40,'Daily Register'!MU$3:MU$242)=TRUE,\"P\",\"A\")","v":"A"},{"$f":"IF(Attendance($C40,'Daily Register'!MV$3:MV$242)=TRUE,\"P\",\"A\")","v":"A"},{"$f":"IF(Attendance($C40,'Daily Register'!MW$3:MW$242)=TRUE,\"P\",\"A\")","v":"A"},{"$f":"IF(Attendance($C40,'Daily Register'!MX$3:MX$242)=TRUE,\"P\",\"A\")","v":"A"},{"$f":"IF(Attendance($C40,'Daily Register'!MY$3:MY$242)=TRUE,\"P\",\"A\")","v":"A"},{"$f":"IF(Attendance($C40,'Daily Register'!MZ$3:MZ$242)=TRUE,\"P\",\"A\")","v":"A"},{"$f":"IF(Attendance($C40,'Daily Register'!NA$3:NA$242)=TRUE,\"P\",\"A\")","v":"A"},{"$f":"IF(Attendance($C40,'Daily Register'!NB$3:NB$242)=TRUE,\"P\",\"A\")","v":"A"}]
[0,null,38,null,{"$f":"IF(Attendance($C41,'Daily Register'!A$3:A$242)=TRUE,\"P\",\"A\")","v":"A"},{"$f":"IF(Attendance($C41,'Daily Register'!B$3:B$242)=TRUE,\"P\",\"A\")","v":"A"},{"$f":"IF(Attendance($C41,'Daily Register'!C$3:C$242)=TRUE,\"P\",\"A\")","v":"A"},{"$f":"IF(Attendance($C41,'Daily Register'!D$3:D$242)=TRUE,\"P\",\"A\")","v":"A"},{"$f":"IF(Attendance($C41,'Daily Register'!E$3:E$242)=TRUE,\"P\",\"A\")","v":"A"},{"$f":"IF(Attendance($C41,'Daily Register'!F$3:F$242)=TRUE,\"P\",\"A\")","v":"A"},{"$f":"IF(Attendance($C41,'Daily Register'!G$3:G$242)=TRUE,\"P\",\"A\")","v":"A"},{"$f":"IF(Attendance($C41,'Daily Register'!H$3:H$242)=TRUE,\"P\",\"A\")","v":"A"},{"$f":"IF(Attendance($C41,'Daily Register'!I$3:I$242)=TRUE,\"P\",\"A\")","v":"A"},{"$f":"IF(Attendance($C41,'Daily Register'!J$3:J$242)=TRUE,\"P\",\"A\")","v":"A"},{"$f":"IF(Attendance($C41,'Daily Register'!K$3:K$242)=TRUE,\"P\",\"A\")","v":"A"},{"$f":"IF(Attendance($C41,'Daily Register'!L$3:L$242)=TRUE,\"P\",\"A\")","v":"A"},{"$f":"IF(Attendance($C41,'Daily Register'!M$3:M$242)=TRUE,\"P\",\"A\")","v":"A"},{"$f":"IF(Attendance($C41,'Daily Register'!N$3:N$242)=TRUE,\"P\",\"A\")","v":"A"},{"$f":"IF(Attendance($C41,'Daily Register'!O$3:O$242)=TRUE,\"P\",\"A\")","v":"A"},{"$f":"IF(Attendance($C41,'Daily Register'!P$3:P$242)=TRUE,\"P\",\"A\")","v":"A"},{"$f":"IF(Attendance($C41,'Daily Register'!Q$3:Q$242)=TRUE,\"P\",\"A\")","v":"A"},{"$f":"IF(Attendance($C41,'Daily Register'!R$3:R$242)=TRUE,\"P\",\"A\")","v":"A"},{"$f":"IF(Attendance($C41,'Daily Register'!S$3:S$242)=TRUE,\"P\",\"A\")","v":"A"},{"$f":"IF(Attendance($C41,'Daily Register'!T$3:T$242)=TRUE,\"P\",\"A\")","v":"A"},{"$f":"IF(Attendance($C41,'Daily Register'!U$3:U$242)=TRUE,\"P\",\"A\")","v":"A"},{"$f":"IF(Attendance($C41,'Daily Register'!V$3:V$242)=TRUE,\"P\",\"A\")","v":"A"},{"$f":"IF(Attendance($C41,'Daily Register'!W$3:W$242)=TRUE,\"P\",\"A\")","v":"A"},{"$f":"IF(Attendance($C41,'Daily Register'!X$3:X$242)=TRUE,\"P\",\"A\")","v":"A"},{"$f":"IF(Attendance($C41,'Daily Register'!Y$3:Y$242)=TRUE,\"P\",\"A\")","v":"A"},{"$f":"IF(Attendance($C41,'Daily Register'!Z$3:Z$242)=TRUE,\"P\",\"A\")","v":"A"},{"$f":"IF(Attendance($C41,'Daily Register'!AA$3:AA$242)=TRUE,\"P\",\"A\")","v":"A"},{"$f":"IF(Attendance($C41,'Daily Register'!AB$3:AB$242)=TRUE,\"P\",\"A\")","v":"A"},{"$f":"IF(Attendance($C41,'Daily Register'!AC$3:AC$242)=TRUE,\"P\",\"A\")","v":"A"},{"$f":"IF(Attendance($C41,'Daily Register'!AD$3:AD$242)=TRUE,\"P\",\"A\")","v":"A"},{"$f":"IF(Attendance($C41,'Daily Register'!AE$3:AE$242)=TRUE,\"P\",\"A\")","v":"A"},{"$f":"IF(Attendance($C41,'Daily Register'!AF$3:AF$242)=TRUE,\"P\",\"A\")","v":"A"},{"$f":"IF(Attendance($C41,'Daily Register'!AG$3:AG$242)=TRUE,\"P\",\"A\")","v":"A"},{"$f":"IF(Attendance($C41,'Daily Register'!AH$3:AH$242)=TRUE,\"P\",\"A\")","v":"A"},{"$f":"IF(Attendance($C41,'Daily Register'!AI$3:AI$242)=TRUE,\"P\",\"A\")","v":"A"},{"$f":"IF(Attendance($C41,'Daily Register'!AJ$3:AJ$242)=TRUE,\"P\",\"A\")","v":"A"},{"$f":"IF(Attendance($C41,'Daily Register'!AK$3:AK$242)=TRUE,\"P\",\"A\")","v":"A"},{"$f":"IF(Attendance($C41,'Daily Register'!AL$3:AL$242)=TRUE,\"P\",\"A\")","v":"A"},{"$f":"IF(Attendance($C41,'Daily Register'!AM$3:AM$242)=TRUE,\"P\",\"A\")","v":"A"},{"$f":"IF(Attendance($C41,'Daily Register'!AN$3:AN$242)=TRUE,\"P\",\"A\")","v":"A"},{"$f":"IF(Attendance($C41,'Daily Register'!AO$3:AO$242)=TRUE,\"P\",\"A\")","v":"A"},{"$f":"IF(Attendance($C41,'Daily Register'!AP$3:AP$242)=TRUE,\"P\",\"A\")","v":"A"},{"$f":"IF(Attendance($C41,'Daily Register'!AQ$3:AQ$242)=TRUE,\"P\",\"A\")","v":"A"},{"$f":"IF(Attendance($C41,'Daily Register'!AR$3:AR$242)=TRUE,\"P\",\"A\")","v":"A"},{"$f":"IF(Attendance($C41,'Daily Register'!AS$3:AS$242)=TRUE,\"P\",\"A\")","v":"A"},{"$f":"IF(Attendance($C41,'Daily Register'!AT$3:AT$242)=TRUE,\"P\",\"A\")","v":"A"},{"$f":"IF(Attendance($C41,'Daily Register'!AU$3:AU$242)=TRUE,\"P\",\"A\")","v":"A"},{"$f":"IF(Attendance($C41,'Daily Register'!AV$3:AV$242)=TRUE,\"P\",\"A\")","v":"A"},{"$f":"IF(Attendance($C41,'Daily Register'!AW$3:AW$242)=TRUE,\"P\",\"A\")","v":"A"},{"$f":"IF(Attendance($C41,'Daily Register'!AX$3:AX$242)=TRUE,\"P\",\"A\")","v":"A"},{"$f":"IF(Attendance($C41,'Daily Register'!AY$3:AY$242)=TRUE,\"P\",\"A\")","v":"A"},{"$f":"IF(Attendance($C41,'Daily Register'!AZ$3:AZ$242)=TRUE,\"P\",\"A\")","v":"A"},{"$f":"IF(Attendance($C41,'Daily Register'!BA$3:BA$242)=TRUE,\"P\",\"A\")","v":"A"},{"$f":"IF(Attendance($C41,'Daily Register'!BB$3:BB$242)=TRUE,\"P\",\"A\")","v":"A"},{"$f":"IF(Attendance($C41,'Daily Register'!BC$3:BC$242)=TRUE,\"P\",\"A\")","v":"A"},{"$f":"IF(Attendance($C41,'Daily Register'!BD$3:BD$242)=TRUE,\"P\",\"A\")","v":"A"},{"$f":"IF(Attendance($C41,'Daily Register'!BE$3:BE$242)=TRUE,\"P\",\"A\")","v":"A"},{"$f":"IF(Attendance($C41,'Daily Register'!BF$3:BF$242)=TRUE,\"P\",\"A\")","v":"A"},{"$f":"IF(Attendance($C41,'Daily Register'!BG$3:BG$242)=TRUE,\"P\",\"A\")","v":"A"},{"$f":"IF(Attendance($C41,'Daily Register'!BH$3:BH$242)=TRUE,\"P\",\"A\")","v":"A"},{"$f":"IF(Attendance($C41,'Daily Register'!BI$3:BI$242)=TRUE,\"P\",\"A\")","v":"A"},{"$f":"IF(Attendance($C41,'Daily Register'!BJ$3:BJ$242)=TRUE,\"P\",\"A\")","v":"A"},{"$f":"IF(Attendance($C41,'Daily Register'!BK$3:BK$242)=TRUE,\"P\",\"A\")","v":"A"},{"$f":"IF(Attendance($C41,'Daily Register'!BL$3:BL$242)=TRUE,\"P\",\"A\")","v":"A"},{"$f":"IF(Attendance($C41,'Daily Register'!BM$3:BM$242)=TRUE,\"P\",\"A\")","v":"A"},{"$f":"IF(Attendance($C41,'Daily Register'!BN$3:BN$242)=TRUE,\"P\",\"A\")","v":"A"},{"$f":"IF(Attendance($C41,'Daily Register'!BO$3:BO$242)=TRUE,\"P\",\"A\")","v":"A"},{"$f":"IF(Attendance($C41,'Daily Register'!BP$3:BP$242)=TRUE,\"P\",\"A\")","v":"A"},{"$f":"IF(Attendance($C41,'Daily Register'!BQ$3:BQ$242)=TRUE,\"P\",\"A\")","v":"A"},{"$f":"IF(Attendance($C41,'Daily Register'!BR$3:BR$242)=TRUE,\"P\",\"A\")","v":"A"},{"$f":"IF(Attendance($C41,'Daily Register'!BS$3:BS$242)=TRUE,\"P\",\"A\")","v":"A"},{"$f":"IF(Attendance($C41,'Daily Register'!BT$3:BT$242)=TRUE,\"P\",\"A\")","v":"A"},{"$f":"IF(Attendance($C41,'Daily Register'!BU$3:BU$242)=TRUE,\"P\",\"A\")","v":"A"},{"$f":"IF(Attendance($C41,'Daily Register'!BV$3:BV$242)=TRUE,\"P\",\"A\")","v":"A"},{"$f":"IF(Attendance($C41,'Daily Register'!BW$3:BW$242)=TRUE,\"P\",\"A\")","v":"A"},{"$f":"IF(Attendance($C41,'Daily Register'!BX$3:BX$242)=TRUE,\"P\",\"A\")","v":"A"},{"$f":"IF(Attendance($C41,'Daily Register'!BY$3:BY$242)=TRUE,\"P\",\"A\")","v":"A"},{"$f":"IF(Attendance($C41,'Daily Register'!BZ$3:BZ$242)=TRUE,\"P\",\"A\")","v":"A"},{"$f":"IF(Attendance($C41,'Daily Register'!CA$3:CA$242)=TRUE,\"P\",\"A\")","v":"A"},{"$f":"IF(Attendance($C41,'Daily Register'!CB$3:CB$242)=TRUE,\"P\",\"A\")","v":"A"},{"$f":"IF(Attendance($C41,'Daily Register'!CC$3:CC$242)=TRUE,\"P\",\"A\")","v":"A"},{"$f":"IF(Attendance($C41,'Daily Register'!CD$3:CD$242)=TRUE,\"P\",\"A\")","v":"A"},{"$f":"IF(Attendance($C41,'Daily Register'!CE$3:CE$242)=TRUE,\"P\",\"A\")","v":"A"},{"$f":"IF(Attendance($C41,'Daily Register'!CF$3:CF$242)=TRUE,\"P\",\"A\")","v":"A"},{"$f":"IF(Attendance($C41,'Daily Register'!CG$3:CG$242)=TRUE,\"P\",\"A\")","v":"A"},{"$f":"IF(Attendance($C41,'Daily Register'!CH$3:CH$242)=TRUE,\"P\",\"A\")","v":"A"},{"$f":"IF(Attendance($C41,'Daily Register'!CI$3:CI$242)=TRUE,\"P\",\"A\")","v":"A"},{"$f":"IF(Attendance($C41,'Daily Register'!CJ$3:CJ$242)=TRUE,\"P\",\"A\")","v":"A"},{"$f":"IF(Attendance($C41,'Daily Register'!CK$3:CK$242)=TRUE,\"P\",\"A\")","v":"A"},{"$f":"IF(Attendance($C41,'Daily Register'!CL$3:CL$242)=TRUE,\"P\",\"A\")","v":"A"},{"$f":"IF(Attendance($C41,'Daily Register'!CM$3:CM$242)=TRUE,\"P\",\"A\")","v":"A"},{"$f":"IF(Attendance($C41,'Daily Register'!CN$3:CN$242)=TRUE,\"P\",\"A\")","v":"A"},{"$f":"IF(Attendance($C41,'Daily Register'!CO$3:CO$242)=TRUE,\"P\",\"A\")","v":"A"},{"$f":"IF(Attendance($C41,'Daily Register'!CP$3:CP$242)=TRUE,\"P\",\"A\")","v":"A"},{"$f":"IF(Attendance($C41,'Daily Register'!CQ$3:CQ$242)=TRUE,\"P\",\"A\")","v":"A"},{"$f":"IF(Attendance($C41,'Daily Register'!CR$3:CR$242)=TRUE,\"P\",\"A\")","v":"A"},{"$f":"IF(Attendance($C41,'Daily Register'!CS$3:CS$242)=TRUE,\"P\",\"A\")","v":"A"},{"$f":"IF(Attendance($C41,'Daily Register'!CT$3:CT$242)=TRUE,\"P\",\"A\")","v":"A"},{"$f":"IF(Attendance($C41,'Daily Register'!CU$3:CU$242)=TRUE,\"P\",\"A\")","v":"A"},{"$f":"IF(Attendance($C41,'Daily Register'!CV$3:CV$242)=TRUE,\"P\",\"A\")","v":"A"},{"$f":"IF(Attendance($C41,'Daily Register'!CW$3:CW$242)=TRUE,\"P\",\"A\")","v":"A"},{"$f":"IF(Attendance($C41,'Daily Register'!CX$3:CX$242)=TRUE,\"P\",\"A\")","v":"A"},{"$f":"IF(Attendance($C41,'Daily Register'!CY$3:CY$242)=TRUE,\"P\",\"A\")","v":"A"},{"$f":"IF(Attendance($C41,'Daily Register'!CZ$3:CZ$242)=TRUE,\"P\",\"A\")","v":"A"},{"$f":"IF(Attendance($C41,'Daily Register'!DA$3:DA$242)=TRUE,\"P\",\"A\")","v":"A"},{"$f":"IF(Attendance($C41,'Daily Register'!DB$3:DB$242)=TRUE,\"P\",\"A\")","v":"A"},{"$f":"IF(Attendance($C41,'Daily Register'!DC$3:DC$242)=TRUE,\"P\",\"A\")","v":"A"},{"$f":"IF(Attendance($C41,'Daily Register'!DD$3:DD$242)=TRUE,\"P\",\"A\")","v":"A"},{"$f":"IF(Attendance($C41,'Daily Register'!DE$3:DE$242)=TRUE,\"P\",\"A\")","v":"A"},{"$f":"IF(Attendance($C41,'Daily Register'!DF$3:DF$242)=TRUE,\"P\",\"A\")","v":"A"},{"$f":"IF(Attendance($C41,'Daily Register'!DG$3:DG$242)=TRUE,\"P\",\"A\")","v":"A"},{"$f":"IF(Attendance($C41,'Daily Register'!DH$3:DH$242)=TRUE,\"P\",\"A\")","v":"A"},{"$f":"IF(Attendance($C41,'Daily Register'!DI$3:DI$242)=TRUE,\"P\",\"A\")","v":"A"},{"$f":"IF(Attendance($C41,'Daily Register'!DJ$3:DJ$242)=TRUE,\"P\",\"A\")","v":"A"},{"$f":"IF(Attendance($C41,'Daily Register'!DK$3:DK$242)=TRUE,\"P\",\"A\")","v":"A"},{"$f":"IF(Attendance($C41,'Daily Register'!DL$3:DL$242)=TRUE,\"P\",\"A\")","v":"A"},{"$f":"IF(Attendance($C41,'Daily Register'!DM$3:DM$242)=TRUE,\"P\",\"A\")","v":"A"},{"$f":"IF(Attendance($C41,'Daily Register'!DN$3:DN$242)=TRUE,\"P\",\"A\")","v":"A"},{"$f":"IF(Attendance($C41,'Daily Register'!DO$3:DO$242)=TRUE,\"P\",\"A\")","v":"A"},{"$f":"IF(Attendance($C41,'Daily Register'!DP$3:DP$242)=TRUE,\"P\",\"A\")","v":"A"},{"$f":"IF(Attendance($C41,'Daily Register'!DQ$3:DQ$242)=TRUE,\"P\",\"A\")","v":"A"},{"$f":"IF(Attendance($C41,'Daily Register'!DR$3:DR$242)=TRUE,\"P\",\"A\")","v":"A"},{"$f":"IF(Attendance($C41,'Daily Register'!DS$3:DS$242)=TRUE,\"P\",\"A\")","v":"A"},{"$f":"IF(Attendance($C41,'Daily Register'!DT$3:DT$242)=TRUE,\"P\",\"A\")","v":"A"},{"$f":"IF(Attendance($C41,'Daily Register'!DU$3:DU$242)=TRUE,\"P\",\"A\")","v":"A"},{"$f":"IF(Attendance($C41,'Daily Register'!DV$3:DV$242)=TRUE,\"P\",\"A\")","v":"A"},{"$f":"IF(Attendance($C41,'Daily Register'!DW$3:DW$242)=TRUE,\"P\",\"A\")","v":"A"},{"$f":"IF(Attendance($C41,'Daily Register'!DX$3:DX$242)=TRUE,\"P\",\"A\")","v":"A"},{"$f":"IF(Attendance($C41,'Daily Register'!DY$3:DY$242)=TRUE,\"P\",\"A\")","v":"A"},{"$f":"IF(Attendance($C41,'Daily Register'!DZ$3:DZ$242)=TRUE,\"P\",\"A\")","v":"A"},{"$f":"IF(Attendance($C41,'Daily Register'!EA$3:EA$242)=TRUE,\"P\",\"A\")","v":"A"},{"$f":"IF(Attendance($C41,'Daily Register'!EB$3:EB$242)=TRUE,\"P\",\"A\")","v":"A"},{"$f":"IF(Attendance($C41,'Daily Register'!EC$3:EC$242)=TRUE,\"P\",\"A\")","v":"A"},{"$f":"IF(Attendance($C41,'Daily Register'!ED$3:ED$242)=TRUE,\"P\",\"A\")","v":"A"},{"$f":"IF(Attendance($C41,'Daily Register'!EE$3:EE$242)=TRUE,\"P\",\"A\")","v":"A"},{"$f":"IF(Attendance($C41,'Daily Register'!EF$3:EF$242)=TRUE,\"P\",\"A\")","v":"A"},{"$f":"IF(Attendance($C41,'Daily Register'!EG$3:EG$242)=TRUE,\"P\",\"A\")","v":"A"},{"$f":"IF(Attendance($C41,'Daily Register'!EH$3:EH$242)=TRUE,\"P\",\"A\")","v":"A"},{"$f":"IF(Attendance($C41,'Daily Register'!EI$3:EI$242)=TRUE,\"P\",\"A\")","v":"A"},{"$f":"IF(Attendance($C41,'Daily Register'!EJ$3:EJ$242)=TRUE,\"P\",\"A\")","v":"A"},{"$f":"IF(Attendance($C41,'Daily Register'!EK$3:EK$242)=TRUE,\"P\",\"A\")","v":"A"},{"$f":"IF(Attendance($C41,'Daily Register'!EL$3:EL$242)=TRUE,\"P\",\"A\")","v":"A"},{"$f":"IF(Attendance($C41,'Daily Register'!EM$22:EM$242)=TRUE,\"P\",\"A\")","v":"A"},{"$f":"IF(Attendance($C41,'Daily Register'!EN$3:EN$242)=TRUE,\"P\",\"A\")","v":"A"},{"$f":"IF(Attendance($C41,'Daily Register'!EO$3:EO$242)=TRUE,\"P\",\"A\")","v":"A"},{"$f":"IF(Attendance($C41,'Daily Register'!EP$3:EP$242)=TRUE,\"P\",\"A\")","v":"A"},{"$f":"IF(Attendance($C41,'Daily Register'!EQ$3:EQ$242)=TRUE,\"P\",\"A\")","v":"A"},{"$f":"IF(Attendance($C41,'Daily Register'!ER$3:ER$242)=TRUE,\"P\",\"A\")","v":"A"},{"$f":"IF(Attendance($C41,'Daily Register'!ES$3:ES$242)=TRUE,\"P\",\"A\")","v":"A"},{"$f":"IF(Attendance($C41,'Daily Register'!ET$3:ET$242)=TRUE,\"P\",\"A\")","v":"A"},{"$f":"IF(Attendance($C41,'Daily Register'!EU$3:EU$242)=TRUE,\"P\",\"A\")","v":"A"},{"$f":"IF(Attendance($C41,'Daily Register'!EV$3:EV$242)=TRUE,\"P\",\"A\")","v":"A"},{"$f":"IF(Attendance($C41,'Daily Register'!EW$3:EW$242)=TRUE,\"P\",\"A\")","v":"A"},{"$f":"IF(Attendance($C41,'Daily Register'!EX$3:EX$242)=TRUE,\"P\",\"A\")","v":"A"},{"$f":"IF(Attendance($C41,'Daily Register'!EY$3:EY$242)=TRUE,\"P\",\"A\")","v":"A"},{"$f":"IF(Attendance($C41,'Daily Register'!EZ$3:EZ$242)=TRUE,\"P\",\"A\")","v":"A"},{"$f":"IF(Attendance($C41,'Daily Register'!FA$3:FA$242)=TRUE,\"P\",\"A\")","v":"A"},{"$f":"IF(Attendance($C41,'Daily Register'!FB$3:FB$242)=TRUE,\"P\",\"A\")","v":"A"},{"$f":"IF(Attendance($C41,'Daily Register'!FC$3:FC$242)=TRUE,\"P\",\"A\")","v":"A"},{"$f":"IF(Attendance($C41,'Daily Register'!FD$3:FD$242)=TRUE,\"P\",\"A\")","v":"A"},{"$f":"IF(Attendance($C41,'Daily Register'!FE$3:FE$242)=TRUE,\"P\",\"A\")","v":"A"},{"$f":"IF(Attendance($C41,'Daily Register'!FF$3:FF$242)=TRUE,\"P\",\"A\")","v":"A"},{"$f":"IF(Attendance($C41,'Daily Register'!FG$3:FG$242)=TRUE,\"P\",\"A\")","v":"A"},{"$f":"IF(Attendance($C41,'Daily Register'!FH$3:FH$242)=TRUE,\"P\",\"A\")","v":"A"},{"$f":"IF(Attendance($C41,'Daily Register'!FI$3:FI$242)=TRUE,\"P\",\"A\")","v":"A"},{"$f":"IF(Attendance($C41,'Daily Register'!FJ$3:FJ$242)=TRUE,\"P\",\"A\")","v":"A"},{"$f":"IF(Attendance($C41,'Daily Register'!FK$3:FK$242)=TRUE,\"P\",\"A\")","v":"A"},{"$f":"IF(Attendance($C41,'Daily Register'!FL$3:FL$242)=TRUE,\"P\",\"A\")","v":"A"},{"$f":"IF(Attendance($C41,'Daily Register'!FM$3:FM$242)=TRUE,\"P\",\"A\")","v":"A"},{"$f":"IF(Attendance($C41,'Daily Register'!FN$3:FN$242)=TRUE,\"P\",\"A\")","v":"A"},{"$f":"IF(Attendance($C41,'Daily Register'!FO$3:FO$242)=TRUE,\"P\",\"A\")","v":"A"},{"$f":"IF(Attendance($C41,'Daily Register'!FP$3:FP$242)=TRUE,\"P\",\"A\")","v":"A"},{"$f":"IF(Attendance($C41,'Daily Register'!FQ$3:FQ$242)=TRUE,\"P\",\"A\")","v":"A"},{"$f":"IF(Attendance($C41,'Daily Register'!FR$3:FR$242)=TRUE,\"P\",\"A\")","v":"A"},{"$f":"IF(Attendance($C41,'Daily Register'!FS$3:FS$242)=TRUE,\"P\",\"A\")","v":"A"},{"$f":"IF(Attendance($C41,'Daily Register'!FT$3:FT$242)=TRUE,\"P\",\"A\")","v":"A"},{"$f":"IF(Attendance($C41,'Daily Register'!FU$3:FU$242)=TRUE,\"P\",\"A\")","v":"A"},{"$f":"IF(Attendance($C41,'Daily Register'!FV$3:FV$242)=TRUE,\"P\",\"A\")","v":"A"},{"$f":"IF(Attendance($C41,'Daily Register'!FW$3:FW$242)=TRUE,\"P\",\"A\")","v":"A"},{"$f":"IF(Attendance($C41,'Daily Register'!FX$3:FX$242)=TRUE,\"P\",\"A\")","v":"A"},{"$f":"IF(Attendance($C41,'Daily Register'!FY$3:FY$242)=TRUE,\"P\",\"A\")","v":"A"},{"$f":"IF(Attendance($C41,'Daily Register'!FZ$3:FZ$242)=TRUE,\"P\",\"A\")","v":"A"},{"$f":"IF(Attendance($C41,'Daily Register'!GA$3:GA$242)=TRUE,\"P\",\"A\")","v":"A"},{"$f":"IF(Attendance($C41,'Daily Register'!GB$3:GB$242)=TRUE,\"P\",\"A\")","v":"A"},{"$f":"IF(Attendance($C41,'Daily Register'!GC$3:GC$242)=TRUE,\"P\",\"A\")","v":"A"},{"$f":"IF(Attendance($C41,'Daily Register'!GD$3:GD$242)=TRUE,\"P\",\"A\")","v":"A"},{"$f":"IF(Attendance($C41,'Daily Register'!GE$3:GE$242)=TRUE,\"P\",\"A\")","v":"A"},{"$f":"IF(Attendance($C41,'Daily Register'!GF$3:GF$242)=TRUE,\"P\",\"A\")","v":"A"},{"$f":"IF(Attendance($C41,'Daily Register'!GG$3:GG$242)=TRUE,\"P\",\"A\")","v":"A"},{"$f":"IF(Attendance($C41,'Daily Register'!GH$3:GH$242)=TRUE,\"P\",\"A\")","v":"A"},{"$f":"IF(Attendance($C41,'Daily Register'!GI$3:GI$242)=TRUE,\"P\",\"A\")","v":"A"},{"$f":"IF(Attendance($C41,'Daily Register'!GJ$3:GJ$242)=TRUE,\"P\",\"A\")","v":"A"},{"$f":"IF(Attendance($C41,'Daily Register'!GK$3:GK$242)=TRUE,\"P\",\"A\")","v":"A"},{"$f":"IF(Attendance($C41,'Daily Register'!GL$3:GL$242)=TRUE,\"P\",\"A\")","v":"A"},{"$f":"IF(Attendance($C41,'Daily Register'!GM$3:GM$242)=TRUE,\"P\",\"A\")","v":"A"},{"$f":"IF(Attendance($C41,'Daily Register'!GN$3:GN$242)=TRUE,\"P\",\"A\")","v":"A"},{"$f":"IF(Attendance($C41,'Daily Register'!GO$3:GO$242)=TRUE,\"P\",\"A\")","v":"A"},{"$f":"IF(Attendance($C41,'Daily Register'!GP$3:GP$242)=TRUE,\"P\",\"A\")","v":"A"},{"$f":"IF(Attendance($C41,'Daily Register'!GQ$3:GQ$242)=TRUE,\"P\",\"A\")","v":"A"},{"$f":"IF(Attendance($C41,'Daily Register'!GR$3:GR$242)=TRUE,\"P\",\"A\")","v":"A"},{"$f":"IF(Attendance($C41,'Daily Register'!GS$3:GS$242)=TRUE,\"P\",\"A\")","v":"A"},{"$f":"IF(Attendance($C41,'Daily Register'!GT$3:GT$242)=TRUE,\"P\",\"A\")","v":"A"},{"$f":"IF(Attendance($C41,'Daily Register'!GU$3:GU$242)=TRUE,\"P\",\"A\")","v":"A"},{"$f":"IF(Attendance($C41,'Daily Register'!GV$3:GV$242)=TRUE,\"P\",\"A\")","v":"A"},{"$f":"IF(Attendance($C41,'Daily Register'!GW$3:GW$242)=TRUE,\"P\",\"A\")","v":"A"},{"$f":"IF(Attendance($C41,'Daily Register'!GX$3:GX$242)=TRUE,\"P\",\"A\")","v":"A"},{"$f":"IF(Attendance($C41,'Daily Register'!GY$3:GY$242)=TRUE,\"P\",\"A\")","v":"A"},{"$f":"IF(Attendance($C41,'Daily Register'!GZ$3:GZ$242)=TRUE,\"P\",\"A\")","v":"A"},{"$f":"IF(Attendance($C41,'Daily Register'!HA$3:HA$242)=TRUE,\"P\",\"A\")","v":"A"},{"$f":"IF(Attendance($C41,'Daily Register'!HB$3:HB$242)=TRUE,\"P\",\"A\")","v":"A"},{"$f":"IF(Attendance($C41,'Daily Register'!HC$3:HC$242)=TRUE,\"P\",\"A\")","v":"A"},{"$f":"IF(Attendance($C41,'Daily Register'!HD$3:HD$242)=TRUE,\"P\",\"A\")","v":"A"},{"$f":"IF(Attendance($C41,'Daily Register'!HE$3:HE$242)=TRUE,\"P\",\"A\")","v":"A"},{"$f":"IF(Attendance($C41,'Daily Register'!HF$3:HF$242)=TRUE,\"P\",\"A\")","v":"A"},{"$f":"IF(Attendance($C41,'Daily Register'!HG$3:HG$242)=TRUE,\"P\",\"A\")","v":"A"},{"$f":"IF(Attendance($C41,'Daily Register'!HH$3:HH$242)=TRUE,\"P\",\"A\")","v":"A"},{"$f":"IF(Attendance($C41,'Daily Register'!HI$3:HI$242)=TRUE,\"P\",\"A\")","v":"A"},{"$f":"IF(Attendance($C41,'Daily Register'!HJ$3:HJ$242)=TRUE,\"P\",\"A\")","v":"A"},{"$f":"IF(Attendance($C41,'Daily Register'!HK$3:HK$242)=TRUE,\"P\",\"A\")","v":"A"},{"$f":"IF(Attendance($C41,'Daily Register'!HL$3:HL$242)=TRUE,\"P\",\"A\")","v":"A"},{"$f":"IF(Attendance($C41,'Daily Register'!HM$3:HM$242)=TRUE,\"P\",\"A\")","v":"A"},{"$f":"IF(Attendance($C41,'Daily Register'!HN$3:HN$242)=TRUE,\"P\",\"A\")","v":"A"},{"$f":"IF(Attendance($C41,'Daily Register'!HO$3:HO$242)=TRUE,\"P\",\"A\")","v":"A"},{"$f":"IF(Attendance($C41,'Daily Register'!HP$3:HP$242)=TRUE,\"P\",\"A\")","v":"A"},{"$f":"IF(Attendance($C41,'Daily Register'!HQ$3:HQ$242)=TRUE,\"P\",\"A\")","v":"A"},{"$f":"IF(Attendance($C41,'Daily Register'!HR$3:HR$242)=TRUE,\"P\",\"A\")","v":"A"},{"$f":"IF(Attendance($C41,'Daily Register'!HS$3:HS$242)=TRUE,\"P\",\"A\")","v":"A"},{"$f":"IF(Attendance($C41,'Daily Register'!HT$3:HT$242)=TRUE,\"P\",\"A\")","v":"A"},{"$f":"IF(Attendance($C41,'Daily Register'!HU$3:HU$242)=TRUE,\"P\",\"A\")","v":"A"},{"$f":"IF(Attendance($C41,'Daily Register'!HV$3:HV$242)=TRUE,\"P\",\"A\")","v":"A"},{"$f":"IF(Attendance($C41,'Daily Register'!HW$3:HW$242)=TRUE,\"P\",\"A\")","v":"A"},{"$f":"IF(Attendance($C41,'Daily Register'!HX$3:HX$242)=TRUE,\"P\",\"A\")","v":"A"},{"$f":"IF(Attendance($C41,'Daily Register'!HY$3:HY$242)=TRUE,\"P\",\"A\")","v":"A"},{"$f":"IF(Attendance($C41,'Daily Register'!HZ$3:HZ$242)=TRUE,\"P\",\"A\")","v":"A"},{"$f":"IF(Attendance($C41,'Daily Register'!IA$3:IA$242)=TRUE,\"P\",\"A\")","v":"A"},{"$f":"IF(Attendance($C41,'Daily Register'!IB$3:IB$242)=TRUE,\"P\",\"A\")","v":"A"},{"$f":"IF(Attendance($C41,'Daily Register'!IC$3:IC$242)=TRUE,\"P\",\"A\")","v":"A"},{"$f":"IF(Attendance($C41,'Daily Register'!ID$3:ID$242)=TRUE,\"P\",\"A\")","v":"A"},{"$f":"IF(Attendance($C41,'Daily Register'!IE$3:IE$242)=TRUE,\"P\",\"A\")","v":"A"},{"$f":"IF(Attendance($C41,'Daily Register'!IF$3:IF$242)=TRUE,\"P\",\"A\")","v":"A"},{"$f":"IF(Attendance($C41,'Daily Register'!IG$3:IG$242)=TRUE,\"P\",\"A\")","v":"A"},{"$f":"IF(Attendance($C41,'Daily Register'!IH$3:IH$242)=TRUE,\"P\",\"A\")","v":"A"},{"$f":"IF(Attendance($C41,'Daily Register'!II$3:II$242)=TRUE,\"P\",\"A\")","v":"A"},{"$f":"IF(Attendance($C41,'Daily Register'!IJ$3:IJ$242)=TRUE,\"P\",\"A\")","v":"A"},{"$f":"IF(Attendance($C41,'Daily Register'!IK$3:IK$242)=TRUE,\"P\",\"A\")","v":"A"},{"$f":"IF(Attendance($C41,'Daily Register'!IL$3:IL$242)=TRUE,\"P\",\"A\")","v":"A"},{"$f":"IF(Attendance($C41,'Daily Register'!IM$3:IM$242)=TRUE,\"P\",\"A\")","v":"A"},{"$f":"IF(Attendance($C41,'Daily Register'!IN$3:IN$242)=TRUE,\"P\",\"A\")","v":"A"},{"$f":"IF(Attendance($C41,'Daily Register'!IO$3:IO$242)=TRUE,\"P\",\"A\")","v":"A"},{"$f":"IF(Attendance($C41,'Daily Register'!IP$3:IP$242)=TRUE,\"P\",\"A\")","v":"A"},{"$f":"IF(Attendance($C41,'Daily Register'!IQ$3:IQ$242)=TRUE,\"P\",\"A\")","v":"A"},{"$f":"IF(Attendance($C41,'Daily Register'!IR$3:IR$242)=TRUE,\"P\",\"A\")","v":"A"},{"$f":"IF(Attendance($C41,'Daily Register'!IS$3:IS$242)=TRUE,\"P\",\"A\")","v":"A"},{"$f":"IF(Attendance($C41,'Daily Register'!IT$3:IT$242)=TRUE,\"P\",\"A\")","v":"A"},{"$f":"IF(Attendance($C41,'Daily Register'!IU$3:IU$242)=TRUE,\"P\",\"A\")","v":"A"},{"$f":"IF(Attendance($C41,'Daily Register'!IV$3:IV$242)=TRUE,\"P\",\"A\")","v":"A"},{"$f":"IF(Attendance($C41,'Daily Register'!IW$3:IW$242)=TRUE,\"P\",\"A\")","v":"A"},{"$f":"IF(Attendance($C41,'Daily Register'!IX$3:IX$242)=TRUE,\"P\",\"A\")","v":"A"},{"$f":"IF(Attendance($C41,'Daily Register'!IY$3:IY$242)=TRUE,\"P\",\"A\")","v":"A"},{"$f":"IF(Attendance($C41,'Daily Register'!IZ$3:IZ$242)=TRUE,\"P\",\"A\")","v":"A"},{"$f":"IF(Attendance($C41,'Daily Register'!JA$3:JA$242)=TRUE,\"P\",\"A\")","v":"A"},{"$f":"IF(Attendance($C41,'Daily Register'!JB$3:JB$242)=TRUE,\"P\",\"A\")","v":"A"},{"$f":"IF(Attendance($C41,'Daily Register'!JC$3:JC$242)=TRUE,\"P\",\"A\")","v":"A"},{"$f":"IF(Attendance($C41,'Daily Register'!JD$3:JD$242)=TRUE,\"P\",\"A\")","v":"A"},{"$f":"IF(Attendance($C41,'Daily Register'!JE$3:JE$242)=TRUE,\"P\",\"A\")","v":"A"},{"$f":"IF(Attendance($C41,'Daily Register'!JF$3:JF$242)=TRUE,\"P\",\"A\")","v":"A"},{"$f":"IF(Attendance($C41,'Daily Register'!JG$3:JG$242)=TRUE,\"P\",\"A\")","v":"A"},{"$f":"IF(Attendance($C41,'Daily Register'!JH$3:JH$242)=TRUE,\"P\",\"A\")","v":"A"},{"$f":"IF(Attendance($C41,'Daily Register'!JI$3:JI$242)=TRUE,\"P\",\"A\")","v":"A"},{"$f":"IF(Attendance($C41,'Daily Register'!JJ$3:JJ$242)=TRUE,\"P\",\"A\")","v":"A"},{"$f":"IF(Attendance($C41,'Daily Register'!JK$3:JK$242)=TRUE,\"P\",\"A\")","v":"A"},{"$f":"IF(Attendance($C41,'Daily Register'!JL$3:JL$242)=TRUE,\"P\",\"A\")","v":"A"},{"$f":"IF(Attendance($C41,'Daily Register'!JM$3:JM$242)=TRUE,\"P\",\"A\")","v":"A"},{"$f":"IF(Attendance($C41,'Daily Register'!JN$3:JN$242)=TRUE,\"P\",\"A\")","v":"A"},{"$f":"IF(Attendance($C41,'Daily Register'!JO$3:JO$242)=TRUE,\"P\",\"A\")","v":"A"},{"$f":"IF(Attendance($C41,'Daily Register'!JP$3:JP$242)=TRUE,\"P\",\"A\")","v":"A"},{"$f":"IF(Attendance($C41,'Daily Register'!JQ$3:JQ$242)=TRUE,\"P\",\"A\")","v":"A"},{"$f":"IF(Attendance($C41,'Daily Register'!JR$3:JR$242)=TRUE,\"P\",\"A\")","v":"A"},{"$f":"IF(Attendance($C41,'Daily Register'!JS$3:JS$242)=TRUE,\"P\",\"A\")","v":"A"},{"$f":"IF(Attendance($C41,'Daily Register'!JT$3:JT$242)=TRUE,\"P\",\"A\")","v":"A"},{"$f":"IF(Attendance($C41,'Daily Register'!JU$3:JU$242)=TRUE,\"P\",\"A\")","v":"A"},{"$f":"IF(Attendance($C41,'Daily Register'!JV$3:JV$242)=TRUE,\"P\",\"A\")","v":"A"},{"$f":"IF(Attendance($C41,'Daily Register'!JW$3:JW$242)=TRUE,\"P\",\"A\")","v":"A"},{"$f":"IF(Attendance($C41,'Daily Register'!JX$3:JX$242)=TRUE,\"P\",\"A\")","v":"A"},{"$f":"IF(Attendance($C41,'Daily Register'!JY$3:JY$242)=TRUE,\"P\",\"A\")","v":"A"},{"$f":"IF(Attendance($C41,'Daily Register'!JZ$3:JZ$242)=TRUE,\"P\",\"A\")","v":"A"},{"$f":"IF(Attendance($C41,'Daily Register'!KA$3:KA$242)=TRUE,\"P\",\"A\")","v":"A"},{"$f":"IF(Attendance($C41,'Daily Register'!KB$3:KB$242)=TRUE,\"P\",\"A\")","v":"A"},{"$f":"IF(Attendance($C41,'Daily Register'!KC$3:KC$242)=TRUE,\"P\",\"A\")","v":"A"},{"$f":"IF(Attendance($C41,'Daily Register'!KD$3:KD$242)=TRUE,\"P\",\"A\")","v":"A"},{"$f":"IF(Attendance($C41,'Daily Register'!KE$3:KE$242)=TRUE,\"P\",\"A\")","v":"A"},{"$f":"IF(Attendance($C41,'Daily Register'!KF$3:KF$242)=TRUE,\"P\",\"A\")","v":"A"},{"$f":"IF(Attendance($C41,'Daily Register'!KG$3:KG$242)=TRUE,\"P\",\"A\")","v":"A"},{"$f":"IF(Attendance($C41,'Daily Register'!KH$3:KH$242)=TRUE,\"P\",\"A\")","v":"A"},{"$f":"IF(Attendance($C41,'Daily Register'!KI$3:KI$242)=TRUE,\"P\",\"A\")","v":"A"},{"$f":"IF(Attendance($C41,'Daily Register'!KJ$3:KJ$242)=TRUE,\"P\",\"A\")","v":"A"},{"$f":"IF(Attendance($C41,'Daily Register'!KK$3:KK$242)=TRUE,\"P\",\"A\")","v":"A"},{"$f":"IF(Attendance($C41,'Daily Register'!KL$3:KL$242)=TRUE,\"P\",\"A\")","v":"A"},{"$f":"IF(Attendance($C41,'Daily Register'!KM$3:KM$242)=TRUE,\"P\",\"A\")","v":"A"},{"$f":"IF(Attendance($C41,'Daily Register'!KN$3:KN$242)=TRUE,\"P\",\"A\")","v":"A"},{"$f":"IF(Attendance($C41,'Daily Register'!KO$3:KO$242)=TRUE,\"P\",\"A\")","v":"A"},{"$f":"IF(Attendance($C41,'Daily Register'!KP$3:KP$242)=TRUE,\"P\",\"A\")","v":"A"},{"$f":"IF(Attendance($C41,'Daily Register'!KQ$3:KQ$242)=TRUE,\"P\",\"A\")","v":"A"},{"$f":"IF(Attendance($C41,'Daily Register'!KR$3:KR$242)=TRUE,\"P\",\"A\")","v":"A"},{"$f":"IF(Attendance($C41,'Daily Register'!KS$3:KS$242)=TRUE,\"P\",\"A\")","v":"A"},{"$f":"IF(Attendance($C41,'Daily Register'!KT$3:KT$242)=TRUE,\"P\",\"A\")","v":"A"},{"$f":"IF(Attendance($C41,'Daily Register'!KU$3:KU$242)=TRUE,\"P\",\"A\")","v":"A"},{"$f":"IF(Attendance($C41,'Daily Register'!KV$3:KV$242)=TRUE,\"P\",\"A\")","v":"A"},{"$f":"IF(Attendance($C41,'Daily Register'!KW$3:KW$242)=TRUE,\"P\",\"A\")","v":"A"},{"$f":"IF(Attendance($C41,'Daily Register'!KX$3:KX$242)=TRUE,\"P\",\"A\")","v":"A"},{"$f":"IF(Attendance($C41,'Daily Register'!KY$3:KY$242)=TRUE,\"P\",\"A\")","v":"A"},{"$f":"IF(Attendance($C41,'Daily Register'!KZ$3:KZ$242)=TRUE,\"P\",\"A\")","v":"A"},{"$f":"IF(Attendance($C41,'Daily Register'!LA$3:LA$242)=TRUE,\"P\",\"A\")","v":"A"},{"$f":"IF(Attendance($C41,'Daily Register'!LB$3:LB$242)=TRUE,\"P\",\"A\")","v":"A"},{"$f":"IF(Attendance($C41,'Daily Register'!LC$3:LC$242)=TRUE,\"P\",\"A\")","v":"A"},{"$f":"IF(Attendance($C41,'Daily Register'!LD$3:LD$242)=TRUE,\"P\",\"A\")","v":"A"},{"$f":"IF(Attendance($C41,'Daily Register'!LE$3:LE$242)=TRUE,\"P\",\"A\")","v":"A"},{"$f":"IF(Attendance($C41,'Daily Register'!LF$3:LF$242)=TRUE,\"P\",\"A\")","v":"A"},{"$f":"IF(Attendance($C41,'Daily Register'!LG$3:LG$242)=TRUE,\"P\",\"A\")","v":"A"},{"$f":"IF(Attendance($C41,'Daily Register'!LH$3:LH$242)=TRUE,\"P\",\"A\")","v":"A"},{"$f":"IF(Attendance($C41,'Daily Register'!LI$3:LI$242)=TRUE,\"P\",\"A\")","v":"A"},{"$f":"IF(Attendance($C41,'Daily Register'!LJ$3:LJ$242)=TRUE,\"P\",\"A\")","v":"A"},{"$f":"IF(Attendance($C41,'Daily Register'!LK$3:LK$242)=TRUE,\"P\",\"A\")","v":"A"},{"$f":"IF(Attendance($C41,'Daily Register'!LL$3:LL$242)=TRUE,\"P\",\"A\")","v":"A"},{"$f":"IF(Attendance($C41,'Daily Register'!LM$3:LM$242)=TRUE,\"P\",\"A\")","v":"A"},{"$f":"IF(Attendance($C41,'Daily Register'!LN$3:LN$242)=TRUE,\"P\",\"A\")","v":"A"},{"$f":"IF(Attendance($C41,'Daily Register'!LO$3:LO$242)=TRUE,\"P\",\"A\")","v":"A"},{"$f":"IF(Attendance($C41,'Daily Register'!LP$3:LP$242)=TRUE,\"P\",\"A\")","v":"A"},{"$f":"IF(Attendance($C41,'Daily Register'!LQ$3:LQ$242)=TRUE,\"P\",\"A\")","v":"A"},{"$f":"IF(Attendance($C41,'Daily Register'!LR$3:LR$242)=TRUE,\"P\",\"A\")","v":"A"},{"$f":"IF(Attendance($C41,'Daily Register'!LS$3:LS$242)=TRUE,\"P\",\"A\")","v":"A"},{"$f":"IF(Attendance($C41,'Daily Register'!LT$3:LT$242)=TRUE,\"P\",\"A\")","v":"A"},{"$f":"IF(Attendance($C41,'Daily Register'!LU$3:LU$242)=TRUE,\"P\",\"A\")","v":"A"},{"$f":"IF(Attendance($C41,'Daily Register'!LV$3:LV$242)=TRUE,\"P\",\"A\")","v":"A"},{"$f":"IF(Attendance($C41,'Daily Register'!LW$3:LW$242)=TRUE,\"P\",\"A\")","v":"A"},{"$f":"IF(Attendance($C41,'Daily Register'!LX$3:LX$242)=TRUE,\"P\",\"A\")","v":"A"},{"$f":"IF(Attendance($C41,'Daily Register'!LY$3:LY$242)=TRUE,\"P\",\"A\")","v":"A"},{"$f":"IF(Attendance($C41,'Daily Register'!LZ$3:LZ$242)=TRUE,\"P\",\"A\")","v":"A"},{"$f":"IF(Attendance($C41,'Daily Register'!MA$3:MA$242)=TRUE,\"P\",\"A\")","v":"A"},{"$f":"IF(Attendance($C41,'Daily Register'!MB$3:MB$242)=TRUE,\"P\",\"A\")","v":"A"},{"$f":"IF(Attendance($C41,'Daily Register'!MC$3:MC$242)=TRUE,\"P\",\"A\")","v":"A"},{"$f":"IF(Attendance($C41,'Daily Register'!MD$3:MD$242)=TRUE,\"P\",\"A\")","v":"A"},{"$f":"IF(Attendance($C41,'Daily Register'!ME$3:ME$242)=TRUE,\"P\",\"A\")","v":"A"},{"$f":"IF(Attendance($C41,'Daily Register'!MF$3:MF$242)=TRUE,\"P\",\"A\")","v":"A"},{"$f":"IF(Attendance($C41,'Daily Register'!MG$3:MG$242)=TRUE,\"P\",\"A\")","v":"A"},{"$f":"IF(Attendance($C41,'Daily Register'!MH$3:MH$242)=TRUE,\"P\",\"A\")","v":"A"},{"$f":"IF(Attendance($C41,'Daily Register'!MI$3:MI$242)=TRUE,\"P\",\"A\")","v":"A"},{"$f":"IF(Attendance($C41,'Daily Register'!MJ$3:MJ$242)=TRUE,\"P\",\"A\")","v":"A"},{"$f":"IF(Attendance($C41,'Daily Register'!MK$3:MK$242)=TRUE,\"P\",\"A\")","v":"A"},{"$f":"IF(Attendance($C41,'Daily Register'!ML$3:ML$242)=TRUE,\"P\",\"A\")","v":"A"},{"$f":"IF(Attendance($C41,'Daily Register'!MM$3:MM$242)=TRUE,\"P\",\"A\")","v":"A"},{"$f":"IF(Attendance($C41,'Daily Register'!MN$3:MN$242)=TRUE,\"P\",\"A\")","v":"A"},{"$f":"IF(Attendance($C41,'Daily Register'!MO$3:MO$242)=TRUE,\"P\",\"A\")","v":"A"},{"$f":"IF(Attendance($C41,'Daily Register'!MP$3:MP$242)=TRUE,\"P\",\"A\")","v":"A"},{"$f":"IF(Attendance($C41,'Daily Register'!MQ$3:MQ$242)=TRUE,\"P\",\"A\")","v":"A"},{"$f":"IF(Attendance($C41,'Daily Register'!MR$3:MR$242)=TRUE,\"P\",\"A\")","v":"A"},{"$f":"IF(Attendance($C41,'Daily Register'!MS$3:MS$242)=TRUE,\"P\",\"A\")","v":"A"},{"$f":"IF(Attendance($C41,'Daily Register'!MT$3:MT$242)=TRUE,\"P\",\"A\")","v":"A"},{"$f":"IF(Attendance($C41,'Daily Register'!MU$3:MU$242)=TRUE,\"P\",\"A\")","v":"A"},{"$f":"IF(Attendance($C41,'Daily Register'!MV$3:MV$242)=TRUE,\"P\",\"A\")","v":"A"},{"$f":"IF(Attendance($C41,'Daily Register'!MW$3:MW$242)=TRUE,\"P\",\"A\")","v":"A"},{"$f":"IF(Attendance($C41,'Daily Register'!MX$3:MX$242)=TRUE,\"P\",\"A\")","v":"A"},{"$f":"IF(Attendance($C41,'Daily Register'!MY$3:MY$242)=TRUE,\"P\",\"A\")","v":"A"},{"$f":"IF(Attendance($C41,'Daily Register'!MZ$3:MZ$242)=TRUE,\"P\",\"A\")","v":"A"},{"$f":"IF(Attendance($C41,'Daily Register'!NA$3:NA$242)=TRUE,\"P\",\"A\")","v":"A"},{"$f":"IF(Attendance($C41,'Daily Register'!NB$3:NB$242)=TRUE,\"P\",\"A\")","v":"A"}]
[0,null,39,null,{"$f":"IF(Attendance($C42,'Daily Register'!A$3:A$242)=TRUE,\"P\",\"A\")","v":"A"},{"$f":"IF(Attendance($C42,'Daily Register'!B$3:B$242)=TRUE,\"P\",\"A\")","v":"A"},{"$f":"IF(Attendance($C42,'Daily Register'!C$3:C$242)=TRUE,\"P\",\"A\")","v":"A"},{"$f":"IF(Attendance($C42,'Daily Register'!D$3:D$242)=TRUE,\"P\",\"A\")","v":"A"},{"$f":"IF(Attendance($C42,'Daily Register'!E$3:E$242)=TRUE,\"P\",\"A\")","v":"A"},{"$f":"IF(Attendance($C42,'Daily Register'!F$3:F$242)=TRUE,\"P\",\"A\")","v":"A"},{"$f":"IF(Attendance($C42,'Daily Register'!G$3:G$242)=TRUE,\"P\",\"A\")","v":"A"},{"$f":"IF(Attendance($C42,'Daily Register'!H$3:H$242)=TRUE,\"P\",\"A\")","v":"A"},{"$f":"IF(Attendance($C42,'Daily Register'!I$3:I$242)=TRUE,\"P\",\"A\")","v":"A"},{"$f":"IF(Attendance($C42,'Daily Register'!J$3:J$242)=TRUE,\"P\",\"A\")","v":"A"},{"$f":"IF(Attendance($C42,'Daily Register'!K$3:K$242)=TRUE,\"P\",\"A\")","v":"A"},{"$f":"IF(Attendance($C42,'Daily Register'!L$3:L$242)=TRUE,\"P\",\"A\")","v":"A"},{"$f":"IF(Attendance($C42,'Daily Register'!M$3:M$242)=TRUE,\"P\",\"A\")","v":"A"},{"$f":"IF(Attendance($C42,'Daily Register'!N$3:N$242)=TRUE,\"P\",\"A\")","v":"A"},{"$f":"IF(Attendance($C42,'Daily Register'!O$3:O$242)=TRUE,\"P\",\"A\")","v":"A"},{"$f":"IF(Attendance($C42,'Daily Register'!P$3:P$242)=TRUE,\"P\",\"A\")","v":"A"},{"$f":"IF(Attendance($C42,'Daily Register'!Q$3:Q$242)=TRUE,\"P\",\"A\")","v":"A"},{"$f":"IF(Attendance($C42,'Daily Register'!R$3:R$242)=TRUE,\"P\",\"A\")","v":"A"},{"$f":"IF(Attendance($C42,'Daily Register'!S$3:S$242)=TRUE,\"P\",\"A\")","v":"A"},{"$f":"IF(Attendance($C42,'Daily Register'!T$3:T$242)=TRUE,\"P\",\"A\")","v":"A"},{"$f":"IF(Attendance($C42,'Daily Register'!U$3:U$242)=TRUE,\"P\",\"A\")","v":"A"},{"$f":"IF(Attendance($C42,'Daily Register'!V$3:V$242)=TRUE,\"P\",\"A\")","v":"A"},{"$f":"IF(Attendance($C42,'Daily Register'!W$3:W$242)=TRUE,\"P\",\"A\")","v":"A"},{"$f":"IF(Attendance($C42,'Daily Register'!X$3:X$242)=TRUE,\"P\",\"A\")","v":"A"},{"$f":"IF(Attendance($C42,'Daily Register'!Y$3:Y$242)=TRUE,\"P\",\"A\")","v":"A"},{"$f":"IF(Attendance($C42,'Daily Register'!Z$3:Z$242)=TRUE,\"P\",\"A\")","v":"A"},{"$f":"IF(Attendance($C42,'Daily Register'!AA$3:AA$242)=TRUE,\"P\",\"A\")","v":"A"},{"$f":"IF(Attendance($C42,'Daily Register'!AB$3:AB$242)=TRUE,\"P\",\"A\")","v":"A"},{"$f":"IF(Attendance($C42,'Daily Register'!AC$3:AC$242)=TRUE,\"P\",\"A\")","v":"A"},{"$f":"IF(Attendance($C42,'Daily Register'!AD$3:AD$242)=TRUE,\"P\",\"A\")","v":"A"},{"$f":"IF(Attendance($C42,'Daily Register'!AE$3:AE$242)=TRUE,\"P\",\"A\")","v":"A"},{"$f":"IF(Attendance($C42,'Daily Register'!AF$3:AF$242)=TRUE,\"P\",\"A\")","v":"A"},{"$f":"IF(Attendance($C42,'Daily Register'!AG$3:AG$242)=TRUE,\"P\",\"A\")","v":"A"},{"$f":"IF(Attendance($C42,'Daily Register'!AH$3:AH$242)=TRUE,\"P\",\"A\")","v":"A"},{"$f":"IF(Attendance($C42,'Daily Register'!AI$3:AI$242)=TRUE,\"P\",\"A\")","v":"A"},{"$f":"IF(Attendance($C42,'Daily Register'!AJ$3:AJ$242)=TRUE,\"P\",\"A\")","v":"A"},{"$f":"IF(Attendance($C42,'Daily Register'!AK$3:AK$242)=TRUE,\"P\",\"A\")","v":"A"},{"$f":"IF(Attendance($C42,'Daily Register'!AL$3:AL$242)=TRUE,\"P\",\"A\")","v":"A"},{"$f":"IF(Attendance($C42,'Daily Register'!AM$3:AM$242)=TRUE,\"P\",\"A\")","v":"A"},{"$f":"IF(Attendance($C42,'Daily Register'!AN$3:AN$242)=TRUE,\"P\",\"A\")","v":"A"},{"$f":"IF(Attendance($C42,'Daily Register'!AO$3:AO$242)=TRUE,\"P\",\"A\")","v":"A"},{"$f":"IF(Attendance($C42,'Daily Register'!AP$3:AP$242)=TRUE,\"P\",\"A\")","v":"A"},{"$f":"IF(Attendance($C42,'Daily Register'!AQ$3:AQ$242)=TRUE,\"P\",\"A\")","v":"A"},{"$f":"IF(Attendance($C42,'Daily Register'!AR$3:AR$242)=TRUE,\"P\",\"A\")","v":"A"},{"$f":"IF(Attendance($C42,'Daily Register'!AS$3:AS$242)=TRUE,\"P\",\"A\")","v":"A"},{"$f":"IF(Attendance($C42,'Daily Register'!AT$3:AT$242)=TRUE,\"P\",\"A\")","v":"A"},{"$f":"IF(Attendance($C42,'Daily Register'!AU$3:AU$242)=TRUE,\"P\",\"A\")","v":"A"},{"$f":"IF(Attendance($C42,'Daily Register'!AV$3:AV$242)=TRUE,\"P\",\"A\")","v":"A"},{"$f":"IF(Attendance($C42,'Daily Register'!AW$3:AW$242)=TRUE,\"P\",\"A\")","v":"A"},{"$f":"IF(Attendance($C42,'Daily Register'!AX$3:AX$242)=TRUE,\"P\",\"A\")","v":"A"},{"$f":"IF(Attendance($C42,'Daily Register'!AY$3:AY$242)=TRUE,\"P\",\"A\")","v":"A"},{"$f":"IF(Attendance($C42,'Daily Register'!AZ$3:AZ$242)=TRUE,\"P\",\"A\")","v":"A"},{"$f":"IF(Attendance($C42,'Daily Register'!BA$3:BA$242)=TRUE,\"P\",\"A\")","v":"A"},{"$f":"IF(Attendance($C42,'Daily Register'!BB$3:BB$242)=TRUE,\"P\",\"A\")","v":"A"},{"$f":"IF(Attendance($C42,'Daily Register'!BC$3:BC$242)=TRUE,\"P\",\"A\")","v":"A"},{"$f":"IF(Attendance($C42,'Daily Register'!BD$3:BD$242)=TRUE,\"P\",\"A\")","v":"A"},{"$f":"IF(Attendance($C42,'Daily Register'!BE$3:BE$242)=TRUE,\"P\",\"A\")","v":"A"},{"$f":"IF(Attendance($C42,'Daily Register'!BF$3:BF$242)=TRUE,\"P\",\"A\")","v":"A"},{"$f":"IF(Attendance($C42,'Daily Register'!BG$3:BG$242)=TRUE,\"P\",\"A\")","v":"A"},{"$f":"IF(Attendance($C42,'Daily Register'!BH$3:BH$242)=TRUE,\"P\",\"A\")","v":"A"},{"$f":"IF(Attendance($C42,'Daily Register'!BI$3:BI$242)=TRUE,\"P\",\"A\")","v":"A"},{"$f":"IF(Attendance($C42,'Daily Register'!BJ$3:BJ$242)=TRUE,\"P\",\"A\")","v":"A"},{"$f":"IF(Attendance($C42,'Daily Register'!BK$3:BK$242)=TRUE,\"P\",\"A\")","v":"A"},{"$f":"IF(Attendance($C42,'Daily Register'!BL$3:BL$242)=TRUE,\"P\",\"A\")","v":"A"},{"$f":"IF(Attendance($C42,'Daily Register'!BM$3:BM$242)=TRUE,\"P\",\"A\")","v":"A"},{"$f":"IF(Attendance($C42,'Daily Register'!BN$3:BN$242)=TRUE,\"P\",\"A\")","v":"A"},{"$f":"IF(Attendance($C42,'Daily Register'!BO$3:BO$242)=TRUE,\"P\",\"A\")","v":"A"},{"$f":"IF(Attendance($C42,'Daily Register'!BP$3:BP$242)=TRUE,\"P\",\"A\")","v":"A"},{"$f":"IF(Attendance($C42,'Daily Register'!BQ$3:BQ$242)=TRUE,\"P\",\"A\")","v":"A"},{"$f":"IF(Attendance($C42,'Daily Register'!BR$3:BR$242)=TRUE,\"P\",\"A\")","v":"A"},{"$f":"IF(Attendance($C42,'Daily Register'!BS$3:BS$242)=TRUE,\"P\",\"A\")","v":"A"},{"$f":"IF(Attendance($C42,'Daily Register'!BT$3:BT$242)=TRUE,\"P\",\"A\")","v":"A"},{"$f":"IF(Attendance($C42,'Daily Register'!BU$3:BU$242)=TRUE,\"P\",\"A\")","v":"A"},{"$f":"IF(Attendance($C42,'Daily Register'!BV$3:BV$242)=TRUE,\"P\",\"A\")","v":"A"},{"$f":"IF(Attendance($C42,'Daily Register'!BW$3:BW$242)=TRUE,\"P\",\"A\")","v":"A"},{"$f":"IF(Attendance($C42,'Daily Register'!BX$3:BX$242)=TRUE,\"P\",\"A\")","v":"A"},{"$f":"IF(Attendance($C42,'Daily Register'!BY$3:BY$242)=TRUE,\"P\",\"A\")","v":"A"},{"$f":"IF(Attendance($C42,'Daily Register'!BZ$3:BZ$242)=TRUE,\"P\",\"A\")","v":"A"},{"$f":"IF(Attendance($C42,'Daily Register'!CA$3:CA$242)=TRUE,\"P\",\"A\")","v":"A"},{"$f":"IF(Attendance($C42,'Daily Register'!CB$3:CB$242)=TRUE,\"P\",\"A\")","v":"A"},{"$f":"IF(Attendance($C42,'Daily Register'!CC$3:CC$242)=TRUE,\"P\",\"A\")","v":"A"},{"$f":"IF(Attendance($C42,'Daily Register'!CD$3:CD$242)=TRUE,\"P\",\"A\")","v":"A"},{"$f":"IF(Attendance($C42,'Daily Register'!CE$3:CE$242)=TRUE,\"P\",\"A\")","v":"A"},{"$f":"IF(Attendance($C42,'Daily Register'!CF$3:CF$242)=TRUE,\"P\",\"A\")","v":"A"},{"$f":"IF(Attendance($C42,'Daily Register'!CG$3:CG$242)=TRUE,\"P\",\"A\")","v":"A"},{"$f":"IF(Attendance($C42,'Daily Register'!CH$3:CH$242)=TRUE,\"P\",\"A\")","v":"A"},{"$f":"IF(Attendance($C42,'Daily Register'!CI$3:CI$242)=TRUE,\"P\",\"A\")","v":"A"},{"$f":"IF(Attendance($C42,'Daily Register'!CJ$3:CJ$242)=TRUE,\"P\",\"A\")","v":"A"},{"$f":"IF(Attendance($C42,'Daily Register'!CK$3:CK$242)=TRUE,\"P\",\"A\")","v":"A"},{"$f":"IF(Attendance($C42,'Daily Register'!CL$3:CL$242)=TRUE,\"P\",\"A\")","v":"A"},{"$f":"IF(Attendance($C42,'Daily Register'!CM$3:CM$242)=TRUE,\"P\",\"A\")","v":"A"},{"$f":"IF(Attendance($C42,'Daily Register'!CN$3:CN$242)=TRUE,\"P\",\"A\")","v":"A"},{"$f":"IF(Attendance($C42,'Daily Register'!CO$3:CO$242)=TRUE,\"P\",\"A\")","v":"A"},{"$f":"IF(Attendance($C42,'Daily Register'!CP$3:CP$242)=TRUE,\"P\",\"A\")","v":"A"},{"$f":"IF(Attendance($C42,'Daily Register'!CQ$3:CQ$242)=TRUE,\"P\",\"A\")","v":"A"},{"$f":"IF(Attendance($C42,'Daily Register'!CR$3:CR$242)=TRUE,\"P\",\"A\")","v":"A"},{"$f":"IF(Attendance($C42,'Daily Register'!CS$3:CS$242)=TRUE,\"P\",\"A\")","v":"A"},{"$f":"IF(Attendance($C42,'Daily Register'!CT$3:CT$242)=TRUE,\"P\",\"A\")","v":"A"},{"$f":"IF(Attendance($C42,'Daily Register'!CU$3:CU$242)=TRUE,\"P\",\"A\")","v":"A"},{"$f":"IF(Attendance($C42,'Daily Register'!CV$3:CV$242)=TRUE,\"P\",\"A\")","v":"A"},{"$f":"IF(Attendance($C42,'Daily Register'!CW$3:CW$242)=TRUE,\"P\",\"A\")","v":"A"},{"$f":"IF(Attendance($C42,'Daily Register'!CX$3:CX$242)=TRUE,\"P\",\"A\")","v":"A"},{"$f":"IF(Attendance($C42,'Daily Register'!CY$3:CY$242)=TRUE,\"P\",\"A\")","v":"A"},{"$f":"IF(Attendance($C42,'Daily Register'!CZ$3:CZ$242)=TRUE,\"P\",\"A\")","v":"A"},{"$f":"IF(Attendance($C42,'Daily Register'!DA$3:DA$242)=TRUE,\"P\",\"A\")","v":"A"},{"$f":"IF(Attendance($C42,'Daily Register'!DB$3:DB$242)=TRUE,\"P\",\"A\")","v":"A"},{"$f":"IF(Attendance($C42,'Daily Register'!DC$3:DC$242)=TRUE,\"P\",\"A\")","v":"A"},{"$f":"IF(Attendance($C42,'Daily Register'!DD$3:DD$242)=TRUE,\"P\",\"A\")","v":"A"},{"$f":"IF(Attendance($C42,'Daily Register'!DE$3:DE$242)=TRUE,\"P\",\"A\")","v":"A"},{"$f":"IF(Attendance($C42,'Daily Register'!DF$3:DF$242)=TRUE,\"P\",\"A\")","v":"A"},{"$f":"IF(Attendance($C42,'Daily Register'!DG$3:DG$242)=TRUE,\"P\",\"A\")","v":"A"},{"$f":"IF(Attendance($C42,'Daily Register'!DH$3:DH$242)=TRUE,\"P\",\"A\")","v":"A"},{"$f":"IF(Attendance($C42,'Daily Register'!DI$3:DI$242)=TRUE,\"P\",\"A\")","v":"A"},{"$f":"IF(Attendance($C42,'Daily Register'!DJ$3:DJ$242)=TRUE,\"P\",\"A\")","v":"A"},{"$f":"IF(Attendance($C42,'Daily Register'!DK$3:DK$242)=TRUE,\"P\",\"A\")","v":"A"},{"$f":"IF(Attendance($C42,'Daily Register'!DL$3:DL$242)=TRUE,\"P\",\"A\")","v":"A"},{"$f":"IF(Attendance($C42,'Daily Register'!DM$3:DM$242)=TRUE,\"P\",\"A\")","v":"A"},{"$f":"IF(Attendance($C42,'Daily Register'!DN$3:DN$242)=TRUE,\"P\",\"A\")","v":"A"},{"$f":"IF(Attendance($C42,'Daily Register'!DO$3:DO$242)=TRUE,\"P\",\"A\")","v":"A"},{"$f":"IF(Attendance($C42,'Daily Register'!DP$3:DP$242)=TRUE,\"P\",\"A\")","v":"A"},{"$f":"IF(Attendance($C42,'Daily Register'!DQ$3:DQ$242)=TRUE,\"P\",\"A\")","v":"A"},{"$f":"IF(Attendance($C42,'Daily Register'!DR$3:DR$242)=TRUE,\"P\",\"A\")","v":"A"},{"$f":"IF(Attendance($C42,'Daily Register'!DS$3:DS$242)=TRUE,\"P\",\"A\")","v":"A"},{"$f":"IF(Attendance($C42,'Daily Register'!DT$3:DT$242)=TRUE,\"P\",\"A\")","v":"A"},{"$f":"IF(Attendance($C42,'Daily Register'!DU$3:DU$242)=TRUE,\"P\",\"A\")","v":"A"},{"$f":"IF(Attendance($C42,'Daily Register'!DV$3:DV$242)=TRUE,\"P\",\"A\")","v":"A"},{"$f":"IF(Attendance($C42,'Daily Register'!DW$3:DW$242)=TRUE,\"P\",\"A\")","v":"A"},{"$f":"IF(Attendance($C42,'Daily Register'!DX$3:DX$242)=TRUE,\"P\",\"A\")","v":"A"},{"$f":"IF(Attendance($C42,'Daily Register'!DY$3:DY$242)=TRUE,\"P\",\"A\")","v":"A"},{"$f":"IF(Attendance($C42,'Daily Register'!DZ$3:DZ$242)=TRUE,\"P\",\"A\")","v":"A"},{"$f":"IF(Attendance($C42,'Daily Register'!EA$3:EA$242)=TRUE,\"P\",\"A\")","v":"A"},{"$f":"IF(Attendance($C42,'Daily Register'!EB$3:EB$242)=TRUE,\"P\",\"A\")","v":"A"},{"$f":"IF(Attendance($C42,'Daily Register'!EC$3:EC$242)=TRUE,\"P\",\"A\")","v":"A"},{"$f":"IF(Attendance($C42,'Daily Register'!ED$3:ED$242)=TRUE,\"P\",\"A\")","v":"A"},{"$f":"IF(Attendance($C42,'Daily Register'!EE$3:EE$242)=TRUE,\"P\",\"A\")","v":"A"},{"$f":"IF(Attendance($C42,'Daily Register'!EF$3:EF$242)=TRUE,\"P\",\"A\")","v":"A"},{"$f":"IF(Attendance($C42,'Daily Register'!EG$3:EG$242)=TRUE,\"P\",\"A\")","v":"A"},{"$f":"IF(Attendance($C42,'Daily Register'!EH$3:EH$242)=TRUE,\"P\",\"A\")","v":"A"},{"$f":"IF(Attendance($C42,'Daily Register'!EI$3:EI$242)=TRUE,\"P\",\"A\")","v":"A"},{"$f":"IF(Attendance($C42,'Daily Register'!EJ$3:EJ$242)=TRUE,\"P\",\"A\")","v":"A"},{"$f":"IF(Attendance($C42,'Daily Register'!EK$3:EK$242)=TRUE,\"P\",\"A\")","v":"A"},{"$f":"IF(Attendance($C42,'Daily Register'!EL$3:EL$242)=TRUE,\"P\",\"A\")","v":"A"},{"$f":"IF(Attendance($C42,'Daily Register'!EM$22:EM$242)=TRUE,\"P\",\"A\")","v":"A"},{"$f":"IF(Attendance($C42,'Daily Register'!EN$3:EN$242)=TRUE,\"P\",\"A\")","v":"A"},{"$f":"IF(Attendance($C42,'Daily Register'!EO$3:EO$242)=TRUE,\"P\",\"A\")","v":"A"},{"$f":"IF(Attendance($C42,'Daily Register'!EP$3:EP$242)=TRUE,\"P\",\"A\")","v":"A"},{"$f":"IF(Attendance($C42,'Daily Register'!EQ$3:EQ$242)=TRUE,\"P\",\"A\")","v":"A"},{"$f":"IF(Attendance($C42,'Daily Register'!ER$3:ER$242)=TRUE,\"P\",\"A\")","v":"A"},{"$f":"IF(Attendance($C42,'Daily Register'!ES$3:ES$242)=TRUE,\"P\",\"A\")","v":"A"},{"$f":"IF(Attendance($C42,'Daily Register'!ET$3:ET$242)=TRUE,\"P\",\"A\")","v":"A"},{"$f":"IF(Attendance($C42,'Daily Register'!EU$3:EU$242)=TRUE,\"P\",\"A\")","v":"A"},{"$f":"IF(Attendance($C42,'Daily Register'!EV$3:EV$242)=TRUE,\"P\",\"A\")","v":"A"},{"$f":"IF(Attendance($C42,'Daily Register'!EW$3:EW$242)=TRUE,\"P\",\"A\")","v":"A"},{"$f":"IF(Attendance($C42,'Daily Register'!EX$3:EX$242)=TRUE,\"P\",\"A\")","v":"A"},{"$f":"IF(Attendance($C42,'Daily Register'!EY$3:EY$242)=TRUE,\"P\",\"A\")","v":"A"},{"$f":"IF(Attendance($C42,'Daily Register'!EZ$3:EZ$242)=TRUE,\"P\",\"A\")","v":"A"},{"$f":"IF(Attendance($C42,'Daily Register'!FA$3:FA$242)=TRUE,\"P\",\"A\")","v":"A"},{"$f":"IF(Attendance($C42,'Daily Register'!FB$3:FB$242)=TRUE,\"P\",\"A\")","v":"A"},{"$f":"IF(Attendance($C42,'Daily Register'!FC$3:FC$242)=TRUE,\"P\",\"A\")","v":"A"},{"$f":"IF(Attendance($C42,'Daily Register'!FD$3:FD$242)=TRUE,\"P\",\"A\")","v":"A"},{"$f":"IF(Attendance($C42,'Daily Register'!FE$3:FE$242)=TRUE,\"P\",\"A\")","v":"A"},{"$f":"IF(Attendance($C42,'Daily Register'!FF$3:FF$242)=TRUE,\"P\",\"A\")","v":"A"},{"$f":"IF(Attendance($C42,'Daily Register'!FG$3:FG$242)=TRUE,\"P\",\"A\")","v":"A"},{"$f":"IF(Attendance($C42,'Daily Register'!FH$3:FH$242)=TRUE,\"P\",\"A\")","v":"A"},{"$f":"IF(Attendance($C42,'Daily Register'!FI$3:FI$242)=TRUE,\"P\",\"A\")","v":"A"},{"$f":"IF(Attendance($C42,'Daily Register'!FJ$3:FJ$242)=TRUE,\"P\",\"A\")","v":"A"},{"$f":"IF(Attendance($C42,'Daily Register'!FK$3:FK$242)=TRUE,\"P\",\"A\")","v":"A"},{"$f":"IF(Attendance($C42,'Daily Register'!FL$3:FL$242)=TRUE,\"P\",\"A\")","v":"A"},{"$f":"IF(Attendance($C42,'Daily Register'!FM$3:FM$242)=TRUE,\"P\",\"A\")","v":"A"},{"$f":"IF(Attendance($C42,'Daily Register'!FN$3:FN$242)=TRUE,\"P\",\"A\")","v":"A"},{"$f":"IF(Attendance($C42,'Daily Register'!FO$3:FO$242)=TRUE,\"P\",\"A\")","v":"A"},{"$f":"IF(Attendance($C42,'Daily Register'!FP$3:FP$242)=TRUE,\"P\",\"A\")","v":"A"},{"$f":"IF(Attendance($C42,'Daily Register'!FQ$3:FQ$242)=TRUE,\"P\",\"A\")","v":"A"},{"$f":"IF(Attendance($C42,'Daily Register'!FR$3:FR$242)=TRUE,\"P\",\"A\")","v":"A"},{"$f":"IF(Attendance($C42,'Daily Register'!FS$3:FS$242)=TRUE,\"P\",\"A\")","v":"A"},{"$f":"IF(Attendance($C42,'Daily Register'!FT$3:FT$242)=TRUE,\"P\",\"A\")","v":"A"},{"$f":"IF(Attendance($C42,'Daily Register'!FU$3:FU$242)=TRUE,\"P\",\"A\")","v":"A"},{"$f":"IF(Attendance($C42,'Daily Register'!FV$3:FV$242)=TRUE,\"P\",\"A\")","v":"A"},{"$f":"IF(Attendance($C42,'Daily Register'!FW$3:FW$242)=TRUE,\"P\",\"A\")","v":"A"},{"$f":"IF(Attendance($C42,'Daily Register'!FX$3:FX$242)=TRUE,\"P\",\"A\")","v":"A"},{"$f":"IF(Attendance($C42,'Daily Register'!FY$3:FY$242)=TRUE,\"P\",\"A\")","v":"A"},{"$f":"IF(Attendance($C42,'Daily Register'!FZ$3:FZ$242)=TRUE,\"P\",\"A\")","v":"A"},{"$f":"IF(Attendance($C42,'Daily Register'!GA$3:GA$242)=TRUE,\"P\",\"A\")","v":"A"},{"$f":"IF(Attendance($C42,'Daily Register'!GB$3:GB$242)=TRUE,\"P\",\"A\")","v":"A"},{"$f":"IF(Attendance($C42,'Daily Register'!GC$3:GC$242)=TRUE,\"P\",\"A\")","v":"A"},{"$f":"IF(Attendance($C42,'Daily Register'!GD$3:GD$242)=TRUE,\"P\",\"A\")","v":"A"},{"$f":"IF(Attendance($C42,'Daily Register'!GE$3:GE$242)=TRUE,\"P\",\"A\")","v":"A"},{"$f":"IF(Attendance($C42,'Daily Register'!GF$3:GF$242)=TRUE,\"P\",\"A\")","v":"A"},{"$f":"IF(Attendance($C42,'Daily Register'!GG$3:GG$242)=TRUE,\"P\",\"A\")","v":"A"},{"$f":"IF(Attendance($C42,'Daily Register'!GH$3:GH$242)=TRUE,\"P\",\"A\")","v":"A"},{"$f":"IF(Attendance($C42,'Daily Register'!GI$3:GI$242)=TRUE,\"P\",\"A\")","v":"A"},{"$f":"IF(Attendance($C42,'Daily Register'!GJ$3:GJ$242)=TRUE,\"P\",\"A\")","v":"A"},{"$f":"IF(Attendance($C42,'Daily Register'!GK$3:GK$242)=TRUE,\"P\",\"A\")","v":"A"},{"$f":"IF(Attendance($C42,'Daily Register'!GL$3:GL$242)=TRUE,\"P\",\"A\")","v":"A"},{"$f":"IF(Attendance($C42,'Daily Register'!GM$3:GM$242)=TRUE,\"P\",\"A\")","v":"A"},{"$f":"IF(Attendance($C42,'Daily Register'!GN$3:GN$242)=TRUE,\"P\",\"A\")","v":"A"},{"$f":"IF(Attendance($C42,'Daily Register'!GO$3:GO$242)=TRUE,\"P\",\"A\")","v":"A"},{"$f":"IF(Attendance($C42,'Daily Register'!GP$3:GP$242)=TRUE,\"P\",\"A\")","v":"A"},{"$f":"IF(Attendance($C42,'Daily Register'!GQ$3:GQ$242)=TRUE,\"P\",\"A\")","v":"A"},{"$f":"IF(Attendance($C42,'Daily Register'!GR$3:GR$242)=TRUE,\"P\",\"A\")","v":"A"},{"$f":"IF(Attendance($C42,'Daily Register'!GS$3:GS$242)=TRUE,\"P\",\"A\")","v":"A"},{"$f":"IF(Attendance($C42,'Daily Register'!GT$3:GT$242)=TRUE,\"P\",\"A\")","v":"A"},{"$f":"IF(Attendance($C42,'Daily Register'!GU$3:GU$242)=TRUE,\"P\",\"A\")","v":"A"},{"$f":"IF(Attendance($C42,'Daily Register'!GV$3:GV$242)=TRUE,\"P\",\"A\")","v":"A"},{"$f":"IF(Attendance($C42,'Daily Register'!GW$3:GW$242)=TRUE,\"P\",\"A\")","v":"A"},{"$f":"IF(Attendance($C42,'Daily Register'!GX$3:GX$242)=TRUE,\"P\",\"A\")","v":"A"},{"$f":"IF(Attendance($C42,'Daily Register'!GY$3:GY$242)=TRUE,\"P\",\"A\")","v":"A"},{"$f":"IF(Attendance($C42,'Daily Register'!GZ$3:GZ$242)=TRUE,\"P\",\"A\")","v":"A"},{"$f":"IF(Attendance($C42,'Daily Register'!HA$3:HA$242)=TRUE,\"P\",\"A\")","v":"A"},{"$f":"IF(Attendance($C42,'Daily Register'!HB$3:HB$242)=TRUE,\"P\",\"A\")","v":"A"},{"$f":"IF(Attendance($C42,'Daily Register'!HC$3:HC$242)=TRUE,\"P\",\"A\")","v":"A"},{"$f":"IF(Attendance($C42,'Daily Register'!HD$3:HD$242)=TRUE,\"P\",\"A\")","v":"A"},{"$f":"IF(Attendance($C42,'Daily Register'!HE$3:HE$242)=TRUE,\"P\",\"A\")","v":"A"},{"$f":"IF(Attendance($C42,'Daily Register'!HF$3:HF$242)=TRUE,\"P\",\"A\")","v":"A"},{"$f":"IF(Attendance($C42,'Daily Register'!HG$3:HG$242)=TRUE,\"P\",\"A\")","v":"A"},{"$f":"IF(Attendance($C42,'Daily Register'!HH$3:HH$242)=TRUE,\"P\",\"A\")","v":"A"},{"$f":"IF(Attendance($C42,'Daily Register'!HI$3:HI$242)=TRUE,\"P\",\"A\")","v":"A"},{"$f":"IF(Attendance($C42,'Daily Register'!HJ$3:HJ$242)=TRUE,\"P\",\"A\")","v":"A"},{"$f":"IF(Attendance($C42,'Daily Register'!HK$3:HK$242)=TRUE,\"P\",\"A\")","v":"A"},{"$f":"IF(Attendance($C42,'Daily Register'!HL$3:HL$242)=TRUE,\"P\",\"A\")","v":"A"},{"$f":"IF(Attendance($C42,'Daily Register'!HM$3:HM$242)=TRUE,\"P\",\"A\")","v":"A"},{"$f":"IF(Attendance($C42,'Daily Register'!HN$3:HN$242)=TRUE,\"P\",\"A\")","v":"A"},{"$f":"IF(Attendance($C42,'Daily Register'!HO$3:HO$242)=TRUE,\"P\",\"A\")","v":"A"},{"$f":"IF(Attendance($C42,'Daily Register'!HP$3:HP$242)=TRUE,\"P\",\"A\")","v":"A"},{"$f":"IF(Attendance($C42,'Daily Register'!HQ$3:HQ$242)=TRUE,\"P\",\"A\")","v":"A"},{"$f":"IF(Attendance($C42,'Daily Register'!HR$3:HR$242)=TRUE,\"P\",\"A\")","v":"A"},{"$f":"IF(Attendance($C42,'Daily Register'!HS$3:HS$242)=TRUE,\"P\",\"A\")","v":"A"},{"$f":"IF(Attendance($C42,'Daily Register'!HT$3:HT$242)=TRUE,\"P\",\"A\")","v":"A"},{"$f":"IF(Attendance($C42,'Daily Register'!HU$3:HU$242)=TRUE,\"P\",\"A\")","v":"A"},{"$f":"IF(Attendance($C42,'Daily Register'!HV$3:HV$242)=TRUE,\"P\",\"A\")","v":"A"},{"$f":"IF(Attendance($C42,'Daily Register'!HW$3:HW$242)=TRUE,\"P\",\"A\")","v":"A"},{"$f":"IF(Attendance($C42,'Daily Register'!HX$3:HX$242)=TRUE,\"P\",\"A\")","v":"A"},{"$f":"IF(Attendance($C42,'Daily Register'!HY$3:HY$242)=TRUE,\"P\",\"A\")","v":"A"},{"$f":"IF(Attendance($C42,'Daily Register'!HZ$3:HZ$242)=TRUE,\"P\",\"A\")","v":"A"},{"$f":"IF(Attendance($C42,'Daily Register'!IA$3:IA$242)=TRUE,\"P\",\"A\")","v":"A"},{"$f":"IF(Attendance($C42,'Daily Register'!IB$3:IB$242)=TRUE,\"P\",\"A\")","v":"A"},{"$f":"IF(Attendance($C42,'Daily Register'!IC$3:IC$242)=TRUE,\"P\",\"A\")","v":"A"},{"$f":"IF(Attendance($C42,'Daily Register'!ID$3:ID$242)=TRUE,\"P\",\"A\")","v":"A"},{"$f":"IF(Attendance($C42,'Daily Register'!IE$3:IE$242)=TRUE,\"P\",\"A\")","v":"A"},{"$f":"IF(Attendance($C42,'Daily Register'!IF$3:IF$242)=TRUE,\"P\",\"A\")","v":"A"},{"$f":"IF(Attendance($C42,'Daily Register'!IG$3:IG$242)=TRUE,\"P\",\"A\")","v":"A"},{"$f":"IF(Attendance($C42,'Daily Register'!IH$3:IH$242)=TRUE,\"P\",\"A\")","v":"A"},{"$f":"IF(Attendance($C42,'Daily Register'!II$3:II$242)=TRUE,\"P\",\"A\")","v":"A"},{"$f":"IF(Attendance($C42,'Daily Register'!IJ$3:IJ$242)=TRUE,\"P\",\"A\")","v":"A"},{"$f":"IF(Attendance($C42,'Daily Register'!IK$3:IK$242)=TRUE,\"P\",\"A\")","v":"A"},{"$f":"IF(Attendance($C42,'Daily Register'!IL$3:IL$242)=TRUE,\"P\",\"A\")","v":"A"},{"$f":"IF(Attendance($C42,'Daily Register'!IM$3:IM$242)=TRUE,\"P\",\"A\")","v":"A"},{"$f":"IF(Attendance($C42,'Daily Register'!IN$3:IN$242)=TRUE,\"P\",\"A\")","v":"A"},{"$f":"IF(Attendance($C42,'Daily Register'!IO$3:IO$242)=TRUE,\"P\",\"A\")","v":"A"},{"$f":"IF(Attendance($C42,'Daily Register'!IP$3:IP$242)=TRUE,\"P\",\"A\")","v":"A"},{"$f":"IF(Attendance($C42,'Daily Register'!IQ$3:IQ$242)=TRUE,\"P\",\"A\")","v":"A"},{"$f":"IF(Attendance($C42,'Daily Register'!IR$3:IR$242)=TRUE,\"P\",\"A\")","v":"A"},{"$f":"IF(Attendance($C42,'Daily Register'!IS$3:IS$242)=TRUE,\"P\",\"A\")","v":"A"},{"$f":"IF(Attendance($C42,'Daily Register'!IT$3:IT$242)=TRUE,\"P\",\"A\")","v":"A"},{"$f":"IF(Attendance($C42,'Daily Register'!IU$3:IU$242)=TRUE,\"P\",\"A\")","v":"A"},{"$f":"IF(Attendance($C42,'Daily Register'!IV$3:IV$242)=TRUE,\"P\",\"A\")","v":"A"},{"$f":"IF(Attendance($C42,'Daily Register'!IW$3:IW$242)=TRUE,\"P\",\"A\")","v":"A"},{"$f":"IF(Attendance($C42,'Daily Register'!IX$3:IX$242)=TRUE,\"P\",\"A\")","v":"A"},{"$f":"IF(Attendance($C42,'Daily Register'!IY$3:IY$242)=TRUE,\"P\",\"A\")","v":"A"},{"$f":"IF(Attendance($C42,'Daily Register'!IZ$3:IZ$242)=TRUE,\"P\",\"A\")","v":"A"},{"$f":"IF(Attendance($C42,'Daily Register'!JA$3:JA$242)=TRUE,\"P\",\"A\")","v":"A"},{"$f":"IF(Attendance($C42,'Daily Register'!JB$3:JB$242)=TRUE,\"P\",\"A\")","v":"A"},{"$f":"IF(Attendance($C42,'Daily Register'!JC$3:JC$242)=TRUE,\"P\",\"A\")","v":"A"},{"$f":"IF(Attendance($C42,'Daily Register'!JD$3:JD$242)=TRUE,\"P\",\"A\")","v":"A"},{"$f":"IF(Attendance($C42,'Daily Register'!JE$3:JE$242)=TRUE,\"P\",\"A\")","v":"A"},{"$f":"IF(Attendance($C42,'Daily Register'!JF$3:JF$242)=TRUE,\"P\",\"A\")","v":"A"},{"$f":"IF(Attendance($C42,'Daily Register'!JG$3:JG$242)=TRUE,\"P\",\"A\")","v":"A"},{"$f":"IF(Attendance($C42,'Daily Register'!JH$3:JH$242)=TRUE,\"P\",\"A\")","v":"A"},{"$f":"IF(Attendance($C42,'Daily Register'!JI$3:JI$242)=TRUE,\"P\",\"A\")","v":"A"},{"$f":"IF(Attendance($C42,'Daily Register'!JJ$3:JJ$242)=TRUE,\"P\",\"A\")","v":"A"},{"$f":"IF(Attendance($C42,'Daily Register'!JK$3:JK$242)=TRUE,\"P\",\"A\")","v":"A"},{"$f":"IF(Attendance($C42,'Daily Register'!JL$3:JL$242)=TRUE,\"P\",\"A\")","v":"A"},{"$f":"IF(Attendance($C42,'Daily Register'!JM$3:JM$242)=TRUE,\"P\",\"A\")","v":"A"},{"$f":"IF(Attendance($C42,'Daily Register'!JN$3:JN$242)=TRUE,\"P\",\"A\")","v":"A"},{"$f":"IF(Attendance($C42,'Daily Register'!JO$3:JO$242)=TRUE,\"P\",\"A\")","v":"A"},{"$f":"IF(Attendance($C42,'Daily Register'!JP$3:JP$242)=TRUE,\"P\",\"A\")","v":"A"},{"$f":"IF(Attendance($C42,'Daily Register'!JQ$3:JQ$242)=TRUE,\"P\",\"A\")","v":"A"},{"$f":"IF(Attendance($C42,'Daily Register'!JR$3:JR$242)=TRUE,\"P\",\"A\")","v":"A"},{"$f":"IF(Attendance($C42,'Daily Register'!JS$3:JS$242)=TRUE,\"P\",\"A\")","v":"A"},{"$f":"IF(Attendance($C42,'Daily Register'!JT$3:JT$242)=TRUE,\"P\",\"A\")","v":"A"},{"$f":"IF(Attendance($C42,'Daily Register'!JU$3:JU$242)=TRUE,\"P\",\"A\")","v":"A"},{"$f":"IF(Attendance($C42,'Daily Register'!JV$3:JV$242)=TRUE,\"P\",\"A\")","v":"A"},{"$f":"IF(Attendance($C42,'Daily Register'!JW$3:JW$242)=TRUE,\"P\",\"A\")","v":"A"},{"$f":"IF(Attendance($C42,'Daily Register'!JX$3:JX$242)=TRUE,\"P\",\"A\")","v":"A"},{"$f":"IF(Attendance($C42,'Daily Register'!JY$3:JY$242)=TRUE,\"P\",\"A\")","v":"A"},{"$f":"IF(Attendance($C42,'Daily Register'!JZ$3:JZ$242)=TRUE,\"P\",\"A\")","v":"A"},{"$f":"IF(Attendance($C42,'Daily Register'!KA$3:KA$242)=TRUE,\"P\",\"A\")","v":"A"},{"$f":"IF(Attendance($C42,'Daily Register'!KB$3:KB$242)=TRUE,\"P\",\"A\")","v":"A"},{"$f":"IF(Attendance($C42,'Daily Register'!KC$3:KC$242)=TRUE,\"P\",\"A\")","v":"A"},{"$f":"IF(Attendance($C42,'Daily Register'!KD$3:KD$242)=TRUE,\"P\",\"A\")","v":"A"},{"$f":"IF(Attendance($C42,'Daily Register'!KE$3:KE$242)=TRUE,\"P\",\"A\")","v":"A"},{"$f":"IF(Attendance($C42,'Daily Register'!KF$3:KF$242)=TRUE,\"P\",\"A\")","v":"A"},{"$f":"IF(Attendance($C42,'Daily Register'!KG$3:KG$242)=TRUE,\"P\",\"A\")","v":"A"},{"$f":"IF(Attendance($C42,'Daily Register'!KH$3:KH$242)=TRUE,\"P\",\"A\")","v":"A"},{"$f":"IF(Attendance($C42,'Daily Register'!KI$3:KI$242)=TRUE,\"P\",\"A\")","v":"A"},{"$f":"IF(Attendance($C42,'Daily Register'!KJ$3:KJ$242)=TRUE,\"P\",\"A\")","v":"A"},{"$f":"IF(Attendance($C42,'Daily Register'!KK$3:KK$242)=TRUE,\"P\",\"A\")","v":"A"},{"$f":"IF(Attendance($C42,'Daily Register'!KL$3:KL$242)=TRUE,\"P\",\"A\")","v":"A"},{"$f":"IF(Attendance($C42,'Daily Register'!KM$3:KM$242)=TRUE,\"P\",\"A\")","v":"A"},{"$f":"IF(Attendance($C42,'Daily Register'!KN$3:KN$242)=TRUE,\"P\",\"A\")","v":"A"},{"$f":"IF(Attendance($C42,'Daily Register'!KO$3:KO$242)=TRUE,\"P\",\"A\")","v":"A"},{"$f":"IF(Attendance($C42,'Daily Register'!KP$3:KP$242)=TRUE,\"P\",\"A\")","v":"A"},{"$f":"IF(Attendance($C42,'Daily Register'!KQ$3:KQ$242)=TRUE,\"P\",\"A\")","v":"A"},{"$f":"IF(Attendance($C42,'Daily Register'!KR$3:KR$242)=TRUE,\"P\",\"A\")","v":"A"},{"$f":"IF(Attendance($C42,'Daily Register'!KS$3:KS$242)=TRUE,\"P\",\"A\")","v":"A"},{"$f":"IF(Attendance($C42,'Daily Register'!KT$3:KT$242)=TRUE,\"P\",\"A\")","v":"A"},{"$f":"IF(Attendance($C42,'Daily Register'!KU$3:KU$242)=TRUE,\"P\",\"A\")","v":"A"},{"$f":"IF(Attendance($C42,'Daily Register'!KV$3:KV$242)=TRUE,\"P\",\"A\")","v":"A"},{"$f":"IF(Attendance($C42,'Daily Register'!KW$3:KW$242)=TRUE,\"P\",\"A\")","v":"A"},{"$f":"IF(Attendance($C42,'Daily Register'!KX$3:KX$242)=TRUE,\"P\",\"A\")","v":"A"},{"$f":"IF(Attendance($C42,'Daily Register'!KY$3:KY$242)=TRUE,\"P\",\"A\")","v":"A"},{"$f":"IF(Attendance($C42,'Daily Register'!KZ$3:KZ$242)=TRUE,\"P\",\"A\")","v":"A"},{"$f":"IF(Attendance($C42,'Daily Register'!LA$3:LA$242)=TRUE,\"P\",\"A\")","v":"A"},{"$f":"IF(Attendance($C42,'Daily Register'!LB$3:LB$242)=TRUE,\"P\",\"A\")","v":"A"},{"$f":"IF(Attendance($C42,'Daily Register'!LC$3:LC$242)=TRUE,\"P\",\"A\")","v":"A"},{"$f":"IF(Attendance($C42,'Daily Register'!LD$3:LD$242)=TRUE,\"P\",\"A\")","v":"A"},{"$f":"IF(Attendance($C42,'Daily Register'!LE$3:LE$242)=TRUE,\"P\",\"A\")","v":"A"},{"$f":"IF(Attendance($C42,'Daily Register'!LF$3:LF$242)=TRUE,\"P\",\"A\")","v":"A"},{"$f":"IF(Attendance($C42,'Daily Register'!LG$3:LG$242)=TRUE,\"P\",\"A\")","v":"A"},{"$f":"IF(Attendance($C42,'Daily Register'!LH$3:LH$242)=TRUE,\"P\",\"A\")","v":"A"},{"$f":"IF(Attendance($C42,'Daily Register'!LI$3:LI$242)=TRUE,\"P\",\"A\")","v":"A"},{"$f":"IF(Attendance($C42,'Daily Register'!LJ$3:LJ$242)=TRUE,\"P\",\"A\")","v":"A"},{"$f":"IF(Attendance($C42,'Daily Register'!LK$3:LK$242)=TRUE,\"P\",\"A\")","v":"A"},{"$f":"IF(Attendance($C42,'Daily Register'!LL$3:LL$242)=TRUE,\"P\",\"A\")","v":"A"},{"$f":"IF(Attendance($C42,'Daily Register'!LM$3:LM$242)=TRUE,\"P\",\"A\")","v":"A"},{"$f":"IF(Attendance($C42,'Daily Register'!LN$3:LN$242)=TRUE,\"P\",\"A\")","v":"A"},{"$f":"IF(Attendance($C42,'Daily Register'!LO$3:LO$242)=TRUE,\"P\",\"A\")","v":"A"},{"$f":"IF(Attendance($C42,'Daily Register'!LP$3:LP$242)=TRUE,\"P\",\"A\")","v":"A"},{"$f":"IF(Attendance($C42,'Daily Register'!LQ$3:LQ$242)=TRUE,\"P\",\"A\")","v":"A"},{"$f":"IF(Attendance($C42,'Daily Register'!LR$3:LR$242)=TRUE,\"P\",\"A\")","v":"A"},{"$f":"IF(Attendance($C42,'Daily Register'!LS$3:LS$242)=TRUE,\"P\",\"A\")","v":"A"},{"$f":"IF(Attendance($C42,'Daily Register'!LT$3:LT$242)=TRUE,\"P\",\"A\")","v":"A"},{"$f":"IF(Attendance($C42,'Daily Register'!LU$3:LU$242)=TRUE,\"P\",\"A\")","v":"A"},{"$f":"IF(Attendance($C42,'Daily Register'!LV$3:LV$242)=TRUE,\"P\",\"A\")","v":"A"},{"$f":"IF(Attendance($C42,'Daily Register'!LW$3:LW$242)=TRUE,\"P\",\"A\")","v":"A"},{"$f":"IF(Attendance($C42,'Daily Register'!LX$3:LX$242)=TRUE,\"P\",\"A\")","v":"A"},{"$f":"IF(Attendance($C42,'Daily Register'!LY$3:LY$242)=TRUE,\"P\",\"A\")","v":"A"},{"$f":"IF(Attendance($C42,'Daily Register'!LZ$3:LZ$242)=TRUE,\"P\",\"A\")","v":"A"},{"$f":"IF(Attendance($C42,'Daily Register'!MA$3:MA$242)=TRUE,\"P\",\"A\")","v":"A"},{"$f":"IF(Attendance($C42,'Daily Register'!MB$3:MB$242)=TRUE,\"P\",\"A\")","v":"A"},{"$f":"IF(Attendance($C42,'Daily Register'!MC$3:MC$242)=TRUE,\"P\",\"A\")","v":"A"},{"$f":"IF(Attendance($C42,'Daily Register'!MD$3:MD$242)=TRUE,\"P\",\"A\")","v":"A"},{"$f":"IF(Attendance($C42,'Daily Register'!ME$3:ME$242)=TRUE,\"P\",\"A\")","v":"A"},{"$f":"IF(Attendance($C42,'Daily Register'!MF$3:MF$242)=TRUE,\"P\",\"A\")","v":"A"},{"$f":"IF(Attendance($C42,'Daily Register'!MG$3:MG$242)=TRUE,\"P\",\"A\")","v":"A"},{"$f":"IF(Attendance($C42,'Daily Register'!MH$3:MH$242)=TRUE,\"P\",\"A\")","v":"A"},{"$f":"IF(Attendance($C42,'Daily Register'!MI$3:MI$242)=TRUE,\"P\",\"A\")","v":"A"},{"$f":"IF(Attendance($C42,'Daily Register'!MJ$3:MJ$242)=TRUE,\"P\",\"A\")","v":"A"},{"$f":"IF(Attendance($C42,'Daily Register'!MK$3:MK$242)=TRUE,\"P\",\"A\")","v":"A"},{"$f":"IF(Attendance($C42,'Daily Register'!ML$3:ML$242)=TRUE,\"P\",\"A\")","v":"A"},{"$f":"IF(Attendance($C42,'Daily Register'!MM$3:MM$242)=TRUE,\"P\",\"A\")","v":"A"},{"$f":"IF(Attendance($C42,'Daily Register'!MN$3:MN$242)=TRUE,\"P\",\"A\")","v":"A"},{"$f":"IF(Attendance($C42,'Daily Register'!MO$3:MO$242)=TRUE,\"P\",\"A\")","v":"A"},{"$f":"IF(Attendance($C42,'Daily Register'!MP$3:MP$242)=TRUE,\"P\",\"A\")","v":"A"},{"$f":"IF(Attendance($C42,'Daily Register'!MQ$3:MQ$242)=TRUE,\"P\",\"A\")","v":"A"},{"$f":"IF(Attendance($C42,'Daily Register'!MR$3:MR$242)=TRUE,\"P\",\"A\")","v":"A"},{"$f":"IF(Attendance($C42,'Daily Register'!MS$3:MS$242)=TRUE,\"P\",\"A\")","v":"A"},{"$f":"IF(Attendance($C42,'Daily Register'!MT$3:MT$242)=TRUE,\"P\",\"A\")","v":"A"},{"$f":"IF(Attendance($C42,'Daily Register'!MU$3:MU$242)=TRUE,\"P\",\"A\")","v":"A"},{"$f":"IF(Attendance($C42,'Daily Register'!MV$3:MV$242)=TRUE,\"P\",\"A\")","v":"A"},{"$f":"IF(Attendance($C42,'Daily Register'!MW$3:MW$242)=TRUE,\"P\",\"A\")","v":"A"},{"$f":"IF(Attendance($C42,'Daily Register'!MX$3:MX$242)=TRUE,\"P\",\"A\")","v":"A"},{"$f":"IF(Attendance($C42,'Daily Register'!MY$3:MY$242)=TRUE,\"P\",\"A\")","v":"A"},{"$f":"IF(Attendance($C42,'Daily Register'!MZ$3:MZ$242)=TRUE,\"P\",\"A\")","v":"A"},{"$f":"IF(Attendance($C42,'Daily Register'!NA$3:NA$242)=TRUE,\"P\",\"A\")","v":"A"},{"$f":"IF(Attendance($C42,'Daily Register'!NB$3:NB$242)=TRUE,\"P\",\"A\")","v":"A"}]
[0,null,40,null,{"$f":"IF(Attendance($C43,'Daily Register'!A$3:A$242)=TRUE,\"P\",\"A\")","v":"A"},{"$f":"IF(Attendance($C43,'Daily Register'!B$3:B$242)=TRUE,\"P\",\"A\")","v":"A"},{"$f":"IF(Attendance($C43,'Daily Register'!C$3:C$242)=TRUE,\"P\",\"A\")","v":"A"},{"$f":"IF(Attendance($C43,'Daily Register'!D$3:D$242)=TRUE,\"P\",\"A\")","v":"A"},{"$f":"IF(Attendance($C43,'Daily Register'!E$3:E$242)=TRUE,\"P\",\"A\")","v":"A"},{"$f":"IF(Attendance($C43,'Daily Register'!F$3:F$242)=TRUE,\"P\",\"A\")","v":"A"},{"$f":"IF(Attendance($C43,'Daily Register'!G$3:G$242)=TRUE,\"P\",\"A\")","v":"A"},{"$f":"IF(Attendance($C43,'Daily Register'!H$3:H$242)=TRUE,\"P\",\"A\")","v":"A"},{"$f":"IF(Attendance($C43,'Daily Register'!I$3:I$242)=TRUE,\"P\",\"A\")","v":"A"},{"$f":"IF(Attendance($C43,'Daily Register'!J$3:J$242)=TRUE,\"P\",\"A\")","v":"A"},{"$f":"IF(Attendance($C43,'Daily Register'!K$3:K$242)=TRUE,\"P\",\"A\")","v":"A"},{"$f":"IF(Attendance($C43,'Daily Register'!L$3:L$242)=TRUE,\"P\",\"A\")","v":"A"},{"$f":"IF(Attendance($C43,'Daily Register'!M$3:M$242)=TRUE,\"P\",\"A\")","v":"A"},{"$f":"IF(Attendance($C43,'Daily Register'!N$3:N$242)=TRUE,\"P\",\"A\")","v":"A"},{"$f":"IF(Attendance($C43,'Daily Register'!O$3:O$242)=TRUE,\"P\",\"A\")","v":"A"},{"$f":"IF(Attendance($C43,'Daily Register'!P$3:P$242)=TRUE,\"P\",\"A\")","v":"A"},{"$f":"IF(Attendance($C43,'Daily Register'!Q$3:Q$242)=TRUE,\"P\",\"A\")","v":"A"},{"$f":"IF(Attendance($C43,'Daily Register'!R$3:R$242)=TRUE,\"P\",\"A\")","v":"A"},{"$f":"IF(Attendance($C43,'Daily Register'!S$3:S$242)=TRUE,\"P\",\"A\")","v":"A"},{"$f":"IF(Attendance($C43,'Daily Register'!T$3:T$242)=TRUE,\"P\",\"A\")","v":"A"},{"$f":"IF(Attendance($C43,'Daily Register'!U$3:U$242)=TRUE,\"P\",\"A\")","v":"A"},{"$f":"IF(Attendance($C43,'Daily Register'!V$3:V$242)=TRUE,\"P\",\"A\")","v":"A"},{"$f":"IF(Attendance($C43,'Daily Register'!W$3:W$242)=TRUE,\"P\",\"A\")","v":"A"},{"$f":"IF(Attendance($C43,'Daily Register'!X$3:X$242)=TRUE,\"P\",\"A\")","v":"A"},{"$f":"IF(Attendance($C43,'Daily Register'!Y$3:Y$242)=TRUE,\"P\",\"A\")","v":"A"},{"$f":"IF(Attendance($C43,'Daily Register'!Z$3:Z$242)=TRUE,\"P\",\"A\")","v":"A"},{"$f":"IF(Attendance($C43,'Daily Register'!AA$3:AA$242)=TRUE,\"P\",\"A\")","v":"A"},{"$f":"IF(Attendance($C43,'Daily Register'!AB$3:AB$242)=TRUE,\"P\",\"A\")","v":"A"},{"$f":"IF(Attendance($C43,'Daily Register'!AC$3:AC$242)=TRUE,\"P\",\"A\")","v":"A"},{"$f":"IF(Attendance($C43,'Daily Register'!AD$3:AD$242)=TRUE,\"P\",\"A\")","v":"A"},{"$f":"IF(Attendance($C43,'Daily Register'!AE$3:AE$242)=TRUE,\"P\",\"A\")","v":"A"},{"$f":"IF(Attendance($C43,'Daily Register'!AF$3:AF$242)=TRUE,\"P\",\"A\")","v":"A"},{"$f":"IF(Attendance($C43,'Daily Register'!AG$3:AG$242)=TRUE,\"P\",\"A\")","v":"A"},{"$f":"IF(Attendance($C43,'Daily Register'!AH$3:AH$242)=TRUE,\"P\",\"A\")","v":"A"},{"$f":"IF(Attendance($C43,'Daily Register'!AI$3:AI$242)=TRUE,\"P\",\"A\")","v":"A"},{"$f":"IF(Attendance($C43,'Daily Register'!AJ$3:AJ$242)=TRUE,\"P\",\"A\")","v":"A"},{"$f":"IF(Attendance($C43,'Daily Register'!AK$3:AK$242)=TRUE,\"P\",\"A\")","v":"A"},{"$f":"IF(Attendance($C43,'Daily Register'!AL$3:AL$242)=TRUE,\"P\",\"A\")","v":"A"},{"$f":"IF(Attendance($C43,'Daily Register'!AM$3:AM$242)=TRUE,\"P\",\"A\")","v":"A"},{"$f":"IF(Attendance($C43,'Daily Register'!AN$3:AN$242)=TRUE,\"P\",\"A\")","v":"A"},{"$f":"IF(Attendance($C43,'Daily Register'!AO$3:AO$242)=TRUE,\"P\",\"A\")","v":"A"},{"$f":"IF(Attendance($C43,'Daily Register'!AP$3:AP$242)=TRUE,\"P\",\"A\")","v":"A"},{"$f":"IF(Attendance($C43,'Daily Register'!AQ$3:AQ$242)=TRUE,\"P\",\"A\")","v":"A"},{"$f":"IF(Attendance($C43,'Daily Register'!AR$3:AR$242)=TRUE,\"P\",\"A\")","v":"A"},{"$f":"IF(Attendance($C43,'Daily Register'!AS$3:AS$242)=TRUE,\"P\",\"A\")","v":"A"},{"$f":"IF(Attendance($C43,'Daily Register'!AT$3:AT$242)=TRUE,\"P\",\"A\")","v":"A"},{"$f":"IF(Attendance($C43,'Daily Register'!AU$3:AU$242)=TRUE,\"P\",\"A\")","v":"A"},{"$f":"IF(Attendance($C43,'Daily Register'!AV$3:AV$242)=TRUE,\"P\",\"A\")","v":"A"},{"$f":"IF(Attendance($C43,'Daily Register'!AW$3:AW$242)=TRUE,\"P\",\"A\")","v":"A"},{"$f":"IF(Attendance($C43,'Daily Register'!AX$3:AX$242)=TRUE,\"P\",\"A\")","v":"A"},{"$f":"IF(Attendance($C43,'Daily Register'!AY$3:AY$242)=TRUE,\"P\",\"A\")","v":"A"},{"$f":"IF(Attendance($C43,'Daily Register'!AZ$3:AZ$242)=TRUE,\"P\",\"A\")","v":"A"},{"$f":"IF(Attendance($C43,'Daily Register'!BA$3:BA$242)=TRUE,\"P\",\"A\")","v":"A"},{"$f":"IF(Attendance($C43,'Daily Register'!BB$3:BB$242)=TRUE,\"P\",\"A\")","v":"A"},{"$f":"IF(Attendance($C43,'Daily Register'!BC$3:BC$242)=TRUE,\"P\",\"A\")","v":"A"},{"$f":"IF(Attendance($C43,'Daily Register'!BD$3:BD$242)=TRUE,\"P\",\"A\")","v":"A"},{"$f":"IF(Attendance($C43,'Daily Register'!BE$3:BE$242)=TRUE,\"P\",\"A\")","v":"A"},{"$f":"IF(Attendance($C43,'Daily Register'!BF$3:BF$242)=TRUE,\"P\",\"A\")","v":"A"},{"$f":"IF(Attendance($C43,'Daily Register'!BG$3:BG$242)=TRUE,\"P\",\"A\")","v":"A"},{"$f":"IF(Attendance($C43,'Daily Register'!BH$3:BH$242)=TRUE,\"P\",\"A\")","v":"A"},{"$f":"IF(Attendance($C43,'Daily Register'!BI$3:BI$242)=TRUE,\"P\",\"A\")","v":"A"},{"$f":"IF(Attendance($C43,'Daily Register'!BJ$3:BJ$242)=TRUE,\"P\",\"A\")","v":"A"},{"$f":"IF(Attendance($C43,'Daily Register'!BK$3:BK$242)=TRUE,\"P\",\"A\")","v":"A"},{"$f":"IF(Attendance($C43,'Daily Register'!BL$3:BL$242)=TRUE,\"P\",\"A\")","v":"A"},{"$f":"IF(Attendance($C43,'Daily Register'!BM$3:BM$242)=TRUE,\"P\",\"A\")","v":"A"},{"$f":"IF(Attendance($C43,'Daily Register'!BN$3:BN$242)=TRUE,\"P\",\"A\")","v":"A"},{"$f":"IF(Attendance($C43,'Daily Register'!BO$3:BO$242)=TRUE,\"P\",\"A\")","v":"A"},{"$f":"IF(Attendance($C43,'Daily Register'!BP$3:BP$242)=TRUE,\"P\",\"A\")","v":"A"},{"$f":"IF(Attendance($C43,'Daily Register'!BQ$3:BQ$242)=TRUE,\"P\",\"A\")","v":"A"},{"$f":"IF(Attendance($C43,'Daily Register'!BR$3:BR$242)=TRUE,\"P\",\"A\")","v":"A"},{"$f":"IF(Attendance($C43,'Daily Register'!BS$3:BS$242)=TRUE,\"P\",\"A\")","v":"A"},{"$f":"IF(Attendance($C43,'Daily Register'!BT$3:BT$242)=TRUE,\"P\",\"A\")","v":"A"},{"$f":"IF(Attendance($C43,'Daily Register'!BU$3:BU$242)=TRUE,\"P\",\"A\")","v":"A"},{"$f":"IF(Attendance($C43,'Daily Register'!BV$3:BV$242)=TRUE,\"P\",\"A\")","v":"A"},{"$f":"IF(Attendance($C43,'Daily Register'!BW$3:BW$242)=TRUE,\"P\",\"A\")","v":"A"},{"$f":"IF(Attendance($C43,'Daily Register'!BX$3:BX$242)=TRUE,\"P\",\"A\")","v":"A"},{"$f":"IF(Attendance($C43,'Daily Register'!BY$3:BY$242)=TRUE,\"P\",\"A\")","v":"A"},{"$f":"IF(Attendance($C43,'Daily Register'!BZ$3:BZ$242)=TRUE,\"P\",\"A\")","v":"A"},{"$f":"IF(Attendance($C43,'Daily Register'!CA$3:CA$242)=TRUE,\"P\",\"A\")","v":"A"},{"$f":"IF(Attendance($C43,'Daily Register'!CB$3:CB$242)=TRUE,\"P\",\"A\")","v":"A"},{"$f":"IF(Attendance($C43,'Daily Register'!CC$3:CC$242)=TRUE,\"P\",\"A\")","v":"A"},{"$f":"IF(Attendance($C43,'Daily Register'!CD$3:CD$242)=TRUE,\"P\",\"A\")","v":"A"},{"$f":"IF(Attendance($C43,'Daily Register'!CE$3:CE$242)=TRUE,\"P\",\"A\")","v":"A"},{"$f":"IF(Attendance($C43,'Daily Register'!CF$3:CF$242)=TRUE,\"P\",\"A\")","v":"A"},{"$f":"IF(Attendance($C43,'Daily Register'!CG$3:CG$242)=TRUE,\"P\",\"A\")","v":"A"},{"$f":"IF(Attendance($C43,'Daily Register'!CH$3:CH$242)=TRUE,\"P\",\"A\")","v":"A"},{"$f":"IF(Attendance($C43,'Daily Register'!CI$3:CI$242)=TRUE,\"P\",\"A\")","v":"A"},{"$f":"IF(Attendance($C43,'Daily Register'!CJ$3:CJ$242)=TRUE,\"P\",\"A\")","v":"A"},{"$f":"IF(Attendance($C43,'Daily Register'!CK$3:CK$242)=TRUE,\"P\",\"A\")","v":"A"},{"$f":"IF(Attendance($C43,'Daily Register'!CL$3:CL$242)=TRUE,\"P\",\"A\")","v":"A"},{"$f":"IF(Attendance($C43,'Daily Register'!CM$3:CM$242)=TRUE,\"P\",\"A\")","v":"A"},{"$f":"IF(Attendance($C43,'Daily Register'!CN$3:CN$242)=TRUE,\"P\",\"A\")","v":"A"},{"$f":"IF(Attendance($C43,'Daily Register'!CO$3:CO$242)=TRUE,\"P\",\"A\")","v":"A"},{"$f":"IF(Attendance($C43,'Daily Register'!CP$3:CP$242)=TRUE,\"P\",\"A\")","v":"A"},{"$f":"IF(Attendance($C43,'Daily Register'!CQ$3:CQ$242)=TRUE,\"P\",\"A\")","v":"A"},{"$f":"IF(Attendance($C43,'Daily Register'!CR$3:CR$242)=TRUE,\"P\",\"A\")","v":"A"},{"$f":"IF(Attendance($C43,'Daily Register'!CS$3:CS$242)=TRUE,\"P\",\"A\")","v":"A"},{"$f":"IF(Attendance($C43,'Daily Register'!CT$3:CT$242)=TRUE,\"P\",\"A\")","v":"A"},{"$f":"IF(Attendance($C43,'Daily Register'!CU$3:CU$242)=TRUE,\"P\",\"A\")","v":"A"},{"$f":"IF(Attendance($C43,'Daily Register'!CV$3:CV$242)=TRUE,\"P\",\"A\")","v":"A"},{"$f":"IF(Attendance($C43,'Daily Register'!CW$3:CW$242)=TRUE,\"P\",\"A\")","v":"A"},{"$f":"IF(Attendance($C43,'Daily Register'!CX$3:CX$242)=TRUE,\"P\",\"A\")","v":"A"},{"$f":"IF(Attendance($C43,'Daily Register'!CY$3:CY$242)=TRUE,\"P\",\"A\")","v":"A"},{"$f":"IF(Attendance($C43,'Daily Register'!CZ$3:CZ$242)=TRUE,\"P\",\"A\")","v":"A"},{"$f":"IF(Attendance($C43,'Daily Register'!DA$3:DA$242)=TRUE,\"P\",\"A\")","v":"A"},{"$f":"IF(Attendance($C43,'Daily Register'!DB$3:DB$242)=TRUE,\"P\",\"A\")","v":"A"},{"$f":"IF(Attendance($C43,'Daily Register'!DC$3:DC$242)=TRUE,\"P\",\"A\")","v":"A"},{"$f":"IF(Attendance($C43,'Daily Register'!DD$3:DD$242)=TRUE,\"P\",\"A\")","v":"A"},{"$f":"IF(Attendance($C43,'Daily Register'!DE$3:DE$242)=TRUE,\"P\",\"A\")","v":"A"},{"$f":"IF(Attendance($C43,'Daily Register'!DF$3:DF$242)=TRUE,\"P\",\"A\")","v":"A"},{"$f":"IF(Attendance($C43,'Daily Register'!DG$3:DG$242)=TRUE,\"P\",\"A\")","v":"A"},{"$f":"IF(Attendance($C43,'Daily Register'!DH$3:DH$242)=TRUE,\"P\",\"A\")","v":"A"},{"$f":"IF(Attendance($C43,'Daily Register'!DI$3:DI$242)=TRUE,\"P\",\"A\")","v":"A"},{"$f":"IF(Attendance($C43,'Daily Register'!DJ$3:DJ$242)=TRUE,\"P\",\"A\")","v":"A"},{"$f":"IF(Attendance($C43,'Daily Register'!DK$3:DK$242)=TRUE,\"P\",\"A\")","v":"A"},{"$f":"IF(Attendance($C43,'Daily Register'!DL$3:DL$242)=TRUE,\"P\",\"A\")","v":"A"},{"$f":"IF(Attendance($C43,'Daily Register'!DM$3:DM$242)=TRUE,\"P\",\"A\")","v":"A"},{"$f":"IF(Attendance($C43,'Daily Register'!DN$3:DN$242)=TRUE,\"P\",\"A\")","v":"A"},{"$f":"IF(Attendance($C43,'Daily Register'!DO$3:DO$242)=TRUE,\"P\",\"A\")","v":"A"},{"$f":"IF(Attendance($C43,'Daily Register'!DP$3:DP$242)=TRUE,\"P\",\"A\")","v":"A"},{"$f":"IF(Attendance($C43,'Daily Register'!DQ$3:DQ$242)=TRUE,\"P\",\"A\")","v":"A"},{"$f":"IF(Attendance($C43,'Daily Register'!DR$3:DR$242)=TRUE,\"P\",\"A\")","v":"A"},{"$f":"IF(Attendance($C43,'Daily Register'!DS$3:DS$242)=TRUE,\"P\",\"A\")","v":"A"},{"$f":"IF(Attendance($C43,'Daily Register'!DT$3:DT$242)=TRUE,\"P\",\"A\")","v":"A"},{"$f":"IF(Attendance($C43,'Daily Register'!DU$3:DU$242)=TRUE,\"P\",\"A\")","v":"A"},{"$f":"IF(Attendance($C43,'Daily Register'!DV$3:DV$242)=TRUE,\"P\",\"A\")","v":"A"},{"$f":"IF(Attendance($C43,'Daily Register'!DW$3:DW$242)=TRUE,\"P\",\"A\")","v":"A"},{"$f":"IF(Attendance($C43,'Daily Register'!DX$3:DX$242)=TRUE,\"P\",\"A\")","v":"A"},{"$f":"IF(Attendance($C43,'Daily Register'!DY$3:DY$242)=TRUE,\"P\",\"A\")","v":"A"},{"$f":"IF(Attendance($C43,'Daily Register'!DZ$3:DZ$242)=TRUE,\"P\",\"A\")","v":"A"},{"$f":"IF(Attendance($C43,'Daily Register'!EA$3:EA$242)=TRUE,\"P\",\"A\")","v":"A"},{"$f":"IF(Attendance($C43,'Daily Register'!EB$3:EB$242)=TRUE,\"P\",\"A\")","v":"A"},{"$f":"IF(Attendance($C43,'Daily Register'!EC$3:EC$242)=TRUE,\"P\",\"A\")","v":"A"},{"$f":"IF(Attendance($C43,'Daily Register'!ED$3:ED$242)=TRUE,\"P\",\"A\")","v":"A"},{"$f":"IF(Attendance($C43,'Daily Register'!EE$3:EE$242)=TRUE,\"P\",\"A\")","v":"A"},{"$f":"IF(Attendance($C43,'Daily Register'!EF$3:EF$242)=TRUE,\"P\",\"A\")","v":"A"},{"$f":"IF(Attendance($C43,'Daily Register'!EG$3:EG$242)=TRUE,\"P\",\"A\")","v":"A"},{"$f":"IF(Attendance($C43,'Daily Register'!EH$3:EH$242)=TRUE,\"P\",\"A\")","v":"A"},{"$f":"IF(Attendance($C43,'Daily Register'!EI$3:EI$242)=TRUE,\"P\",\"A\")","v":"A"},{"$f":"IF(Attendance($C43,'Daily Register'!EJ$3:EJ$242)=TRUE,\"P\",\"A\")","v":"A"},{"$f":"IF(Attendance($C43,'Daily Register'!EK$3:EK$242)=TRUE,\"P\",\"A\")","v":"A"},{"$f":"IF(Attendance($C43,'Daily Register'!EL$3:EL$242)=TRUE,\"P\",\"A\")","v":"A"},{"$f":"IF(Attendance($C43,'Daily Register'!EM$22:EM$242)=TRUE,\"P\",\"A\")","v":"A"},{"$f":"IF(Attendance($C43,'Daily Register'!EN$3:EN$242)=TRUE,\"P\",\"A\")","v":"A"},{"$f":"IF(Attendance($C43,'Daily Register'!EO$3:EO$242)=TRUE,\"P\",\"A\")","v":"A"},{"$f":"IF(Attendance($C43,'Daily Register'!EP$3:EP$242)=TRUE,\"P\",\"A\")","v":"A"},{"$f":"IF(Attendance($C43,'Daily Register'!EQ$3:EQ$242)=TRUE,\"P\",\"A\")","v":"A"},{"$f":"IF(Attendance($C43,'Daily Register'!ER$3:ER$242)=TRUE,\"P\",\"A\")","v":"A"},{"$f":"IF(Attendance($C43,'Daily Register'!ES$3:ES$242)=TRUE,\"P\",\"A\")","v":"A"},{"$f":"IF(Attendance($C43,'Daily Register'!ET$3:ET$242)=TRUE,\"P\",\"A\")","v":"A"},{"$f":"IF(Attendance($C43,'Daily Register'!EU$3:EU$242)=TRUE,\"P\",\"A\")","v":"A"},{"$f":"IF(Attendance($C43,'Daily Register'!EV$3:EV$242)=TRUE,\"P\",\"A\")","v":"A"},{"$f":"IF(Attendance($C43,'Daily Register'!EW$3:EW$242)=TRUE,\"P\",\"A\")","v":"A"},{"$f":"IF(Attendance($C43,'Daily Register'!EX$3:EX$242)=TRUE,\"P\",\"A\")","v":"A"},{"$f":"IF(Attendance($C43,'Daily Register'!EY$3:EY$242)=TRUE,\"P\",\"A\")","v":"A"},{"$f":"IF(Attendance($C43,'Daily Register'!EZ$3:EZ$242)=TRUE,\"P\",\"A\")","v":"A"},{"$f":"IF(Attendance($C43,'Daily Register'!FA$3:FA$242)=TRUE,\"P\",\"A\")","v":"A"},{"$f":"IF(Attendance($C43,'Daily Register'!FB$3:FB$242)=TRUE,\"P\",\"A\")","v":"A"},{"$f":"IF(Attendance($C43,'Daily Register'!FC$3:FC$242)=TRUE,\"P\",\"A\")","v":"A"},{"$f":"IF(Attendance($C43,'Daily Register'!FD$3:FD$242)=TRUE,\"P\",\"A\")","v":"A"},{"$f":"IF(Attendance($C43,'Daily Register'!FE$3:FE$242)=TRUE,\"P\",\"A\")","v":"A"},{"$f":"IF(Attendance($C43,'Daily Register'!FF$3:FF$242)=TRUE,\"P\",\"A\")","v":"A"},{"$f":"IF(Attendance($C43,'Daily Register'!FG$3:FG$242)=TRUE,\"P\",\"A\")","v":"A"},{"$f":"IF(Attendance($C43,'Daily Register'!FH$3:FH$242)=TRUE,\"P\",\"A\")","v":"A"},{"$f":"IF(Attendance($C43,'Daily Register'!FI$3:FI$242)=TRUE,\"P\",\"A\")","v":"A"},{"$f":"IF(Attendance($C43,'Daily Register'!FJ$3:FJ$242)=TRUE,\"P\",\"A\")","v":"A"},{"$f":"IF(Attendance($C43,'Daily Register'!FK$3:FK$242)=TRUE,\"P\",\"A\")","v":"A"},{"$f":"IF(Attendance($C43,'Daily Register'!FL$3:FL$242)=TRUE,\"P\",\"A\")","v":"A"},{"$f":"IF(Attendance($C43,'Daily Register'!FM$3:FM$242)=TRUE,\"P\",\"A\")","v":"A"},{"$f":"IF(Attendance($C43,'Daily Register'!FN$3:FN$242)=TRUE,\"P\",\"A\")","v":"A"},{"$f":"IF(Attendance($C43,'Daily Register'!FO$3:FO$242)=TRUE,\"P\",\"A\")","v":"A"},{"$f":"IF(Attendance($C43,'Daily Register'!FP$3:FP$242)=TRUE,\"P\",\"A\")","v":"A"},{"$f":"IF(Attendance($C43,'Daily Register'!FQ$3:FQ$242)=TRUE,\"P\",\"A\")","v":"A"},{"$f":"IF(Attendance($C43,'Daily Register'!FR$3:FR$242)=TRUE,\"P\",\"A\")","v":"A"},{"$f":"IF(Attendance($C43,'Daily Register'!FS$3:FS$242)=TRUE,\"P\",\"A\")","v":"A"},{"$f":"IF(Attendance($C43,'Daily Register'!FT$3:FT$242)=TRUE,\"P\",\"A\")","v":"A"},{"$f":"IF(Attendance($C43,'Daily Register'!FU$3:FU$242)=TRUE,\"P\",\"A\")","v":"A"},{"$f":"IF(Attendance($C43,'Daily Register'!FV$3:FV$242)=TRUE,\"P\",\"A\")","v":"A"},{"$f":"IF(Attendance($C43,'Daily Register'!FW$3:FW$242)=TRUE,\"P\",\"A\")","v":"A"},{"$f":"IF(Attendance($C43,'Daily Register'!FX$3:FX$242)=TRUE,\"P\",\"A\")","v":"A"},{"$f":"IF(Attendance($C43,'Daily Register'!FY$3:FY$242)=TRUE,\"P\",\"A\")","v":"A"},{"$f":"IF(Attendance($C43,'Daily Register'!FZ$3:FZ$242)=TRUE,\"P\",\"A\")","v":"A"},{"$f":"IF(Attendance($C43,'Daily Register'!GA$3:GA$242)=TRUE,\"P\",\"A\")","v":"A"},{"$f":"IF(Attendance($C43,'Daily Register'!GB$3:GB$242)=TRUE,\"P\",\"A\")","v":"A"},{"$f":"IF(Attendance($C43,'Daily Register'!GC$3:GC$242)=TRUE,\"P\",\"A\")","v":"A"},{"$f":"IF(Attendance($C43,'Daily Register'!GD$3:GD$242)=TRUE,\"P\",\"A\")","v":"A"},{"$f":"IF(Attendance($C43,'Daily Register'!GE$3:GE$242)=TRUE,\"P\",\"A\")","v":"A"},{"$f":"IF(Attendance($C43,'Daily Register'!GF$3:GF$242)=TRUE,\"P\",\"A\")","v":"A"},{"$f":"IF(Attendance($C43,'Daily Register'!GG$3:GG$242)=TRUE,\"P\",\"A\")","v":"A"},{"$f":"IF(Attendance($C43,'Daily Register'!GH$3:GH$242)=TRUE,\"P\",\"A\")","v":"A"},{"$f":"IF(Attendance($C43,'Daily Register'!GI$3:GI$242)=TRUE,\"P\",\"A\")","v":"A"},{"$f":"IF(Attendance($C43,'Daily Register'!GJ$3:GJ$242)=TRUE,\"P\",\"A\")","v":"A"},{"$f":"IF(Attendance($C43,'Daily Register'!GK$3:GK$242)=TRUE,\"P\",\"A\")","v":"A"},{"$f":"IF(Attendance($C43,'Daily Register'!GL$3:GL$242)=TRUE,\"P\",\"A\")","v":"A"},{"$f":"IF(Attendance($C43,'Daily Register'!GM$3:GM$242)=TRUE,\"P\",\"A\")","v":"A"},{"$f":"IF(Attendance($C43,'Daily Register'!GN$3:GN$242)=TRUE,\"P\",\"A\")","v":"A"},{"$f":"IF(Attendance($C43,'Daily Register'!GO$3:GO$242)=TRUE,\"P\",\"A\")","v":"A"},{"$f":"IF(Attendance($C43,'Daily Register'!GP$3:GP$242)=TRUE,\"P\",\"A\")","v":"A"},{"$f":"IF(Attendance($C43,'Daily Register'!GQ$3:GQ$242)=TRUE,\"P\",\"A\")","v":"A"},{"$f":"IF(Attendance($C43,'Daily Register'!GR$3:GR$242)=TRUE,\"P\",\"A\")","v":"A"},{"$f":"IF(Attendance($C43,'Daily Register'!GS$3:GS$242)=TRUE,\"P\",\"A\")","v":"A"},{"$f":"IF(Attendance($C43,'Daily Register'!GT$3:GT$242)=TRUE,\"P\",\"A\")","v":"A"},{"$f":"IF(Attendance($C43,'Daily Register'!GU$3:GU$242)=TRUE,\"P\",\"A\")","v":"A"},{"$f":"IF(Attendance($C43,'Daily Register'!GV$3:GV$242)=TRUE,\"P\",\"A\")","v":"A"},{"$f":"IF(Attendance($C43,'Daily Register'!GW$3:GW$242)=TRUE,\"P\",\"A\")","v":"A"},{"$f":"IF(Attendance($C43,'Daily Register'!GX$3:GX$242)=TRUE,\"P\",\"A\")","v":"A"},{"$f":"IF(Attendance($C43,'Daily Register'!GY$3:GY$242)=TRUE,\"P\",\"A\")","v":"A"},{"$f":"IF(Attendance($C43,'Daily Register'!GZ$3:GZ$242)=TRUE,\"P\",\"A\")","v":"A"},{"$f":"IF(Attendance($C43,'Daily Register'!HA$3:HA$242)=TRUE,\"P\",\"A\")","v":"A"},{"$f":"IF(Attendance($C43,'Daily Register'!HB$3:HB$242)=TRUE,\"P\",\"A\")","v":"A"},{"$f":"IF(Attendance($C43,'Daily Register'!HC$3:HC$242)=TRUE,\"P\",\"A\")","v":"A"},{"$f":"IF(Attendance($C43,'Daily Register'!HD$3:HD$242)=TRUE,\"P\",\"A\")","v":"A"},{"$f":"IF(Attendance($C43,'Daily Register'!HE$3:HE$242)=TRUE,\"P\",\"A\")","v":"A"},{"$f":"IF(Attendance($C43,'Daily Register'!HF$3:HF$242)=TRUE,\"P\",\"A\")","v":"A"},{"$f":"IF(Attendance($C43,'Daily Register'!HG$3:HG$242)=TRUE,\"P\",\"A\")","v":"A"},{"$f":"IF(Attendance($C43,'Daily Register'!HH$3:HH$242)=TRUE,\"P\",\"A\")","v":"A"},{"$f":"IF(Attendance($C43,'Daily Register'!HI$3:HI$242)=TRUE,\"P\",\"A\")","v":"A"},{"$f":"IF(Attendance($C43,'Daily Register'!HJ$3:HJ$242)=TRUE,\"P\",\"A\")","v":"A"},{"$f":"IF(Attendance($C43,'Daily Register'!HK$3:HK$242)=TRUE,\"P\",\"A\")","v":"A"},{"$f":"IF(Attendance($C43,'Daily Register'!HL$3:HL$242)=TRUE,\"P\",\"A\")","v":"A"},{"$f":"IF(Attendance($C43,'Daily Register'!HM$3:HM$242)=TRUE,\"P\",\"A\")","v":"A"},{"$f":"IF(Attendance($C43,'Daily Register'!HN$3:HN$242)=TRUE,\"P\",\"A\")","v":"A"},{"$f":"IF(Attendance($C43,'Daily Register'!HO$3:HO$242)=TRUE,\"P\",\"A\")","v":"A"},{"$f":"IF(Attendance($C43,'Daily Register'!HP$3:HP$242)=TRUE,\"P\",\"A\")","v":"A"},{"$f":"IF(Attendance($C43,'Daily Register'!HQ$3:HQ$242)=TRUE,\"P\",\"A\")","v":"A"},{"$f":"IF(Attendance($C43,'Daily Register'!HR$3:HR$242)=TRUE,\"P\",\"A\")","v":"A"},{"$f":"IF(Attendance($C43,'Daily Register'!HS$3:HS$242)=TRUE,\"P\",\"A\")","v":"A"},{"$f":"IF(Attendance($C43,'Daily Register'!HT$3:HT$242)=TRUE,\"P\",\"A\")","v":"A"},{"$f":"IF(Attendance($C43,'Daily Register'!HU$3:HU$242)=TRUE,\"P\",\"A\")","v":"A"},{"$f":"IF(Attendance($C43,'Daily Register'!HV$3:HV$242)=TRUE,\"P\",\"A\")","v":"A"},{"$f":"IF(Attendance($C43,'Daily Register'!HW$3:HW$242)=TRUE,\"P\",\"A\")","v":"A"},{"$f":"IF(Attendance($C43,'Daily Register'!HX$3:HX$242)=TRUE,\"P\",\"A\")","v":"A"},{"$f":"IF(Attendance($C43,'Daily Register'!HY$3:HY$242)=TRUE,\"P\",\"A\")","v":"A"},{"$f":"IF(Attendance($C43,'Daily Register'!HZ$3:HZ$242)=TRUE,\"P\",\"A\")","v":"A"},{"$f":"IF(Attendance($C43,'Daily Register'!IA$3:IA$242)=TRUE,\"P\",\"A\")","v":"A"},{"$f":"IF(Attendance($C43,'Daily Register'!IB$3:IB$242)=TRUE,\"P\",\"A\")","v":"A"},{"$f":"IF(Attendance($C43,'Daily Register'!IC$3:IC$242)=TRUE,\"P\",\"A\")","v":"A"},{"$f":"IF(Attendance($C43,'Daily Register'!ID$3:ID$242)=TRUE,\"P\",\"A\")","v":"A"},{"$f":"IF(Attendance($C43,'Daily Register'!IE$3:IE$242)=TRUE,\"P\",\"A\")","v":"A"},{"$f":"IF(Attendance($C43,'Daily Register'!IF$3:IF$242)=TRUE,\"P\",\"A\")","v":"A"},{"$f":"IF(Attendance($C43,'Daily Register'!IG$3:IG$242)=TRUE,\"P\",\"A\")","v":"A"},{"$f":"IF(Attendance($C43,'Daily Register'!IH$3:IH$242)=TRUE,\"P\",\"A\")","v":"A"},{"$f":"IF(Attendance($C43,'Daily Register'!II$3:II$242)=TRUE,\"P\",\"A\")","v":"A"},{"$f":"IF(Attendance($C43,'Daily Register'!IJ$3:IJ$242)=TRUE,\"P\",\"A\")","v":"A"},{"$f":"IF(Attendance($C43,'Daily Register'!IK$3:IK$242)=TRUE,\"P\",\"A\")","v":"A"},{"$f":"IF(Attendance($C43,'Daily Register'!IL$3:IL$242)=TRUE,\"P\",\"A\")","v":"A"},{"$f":"IF(Attendance($C43,'Daily Register'!IM$3:IM$242)=TRUE,\"P\",\"A\")","v":"A"},{"$f":"IF(Attendance($C43,'Daily Register'!IN$3:IN$242)=TRUE,\"P\",\"A\")","v":"A"},{"$f":"IF(Attendance($C43,'Daily Register'!IO$3:IO$242)=TRUE,\"P\",\"A\")","v":"A"},{"$f":"IF(Attendance($C43,'Daily Register'!IP$3:IP$242)=TRUE,\"P\",\"A\")","v":"A"},{"$f":"IF(Attendance($C43,'Daily Register'!IQ$3:IQ$242)=TRUE,\"P\",\"A\")","v":"A"},{"$f":"IF(Attendance($C43,'Daily Register'!IR$3:IR$242)=TRUE,\"P\",\"A\")","v":"A"},{"$f":"IF(Attendance($C43,'Daily Register'!IS$3:IS$242)=TRUE,\"P\",\"A\")","v":"A"},{"$f":"IF(Attendance($C43,'Daily Register'!IT$3:IT$242)=TRUE,\"P\",\"A\")","v":"A"},{"$f":"IF(Attendance($C43,'Daily Register'!IU$3:IU$242)=TRUE,\"P\",\"A\")","v":"A"},{"$f":"IF(Attendance($C43,'Daily Register'!IV$3:IV$242)=TRUE,\"P\",\"A\")","v":"A"},{"$f":"IF(Attendance($C43,'Daily Register'!IW$3:IW$242)=TRUE,\"P\",\"A\")","v":"A"},{"$f":"IF(Attendance($C43,'Daily Register'!IX$3:IX$242)=TRUE,\"P\",\"A\")","v":"A"},{"$f":"IF(Attendance($C43,'Daily Register'!IY$3:IY$242)=TRUE,\"P\",\"A\")","v":"A"},{"$f":"IF(Attendance($C43,'Daily Register'!IZ$3:IZ$242)=TRUE,\"P\",\"A\")","v":"A"},{"$f":"IF(Attendance($C43,'Daily Register'!JA$3:JA$242)=TRUE,\"P\",\"A\")","v":"A"},{"$f":"IF(Attendance($C43,'Daily Register'!JB$3:JB$242)=TRUE,\"P\",\"A\")","v":"A"},{"$f":"IF(Attendance($C43,'Daily Register'!JC$3:JC$242)=TRUE,\"P\",\"A\")","v":"A"},{"$f":"IF(Attendance($C43,'Daily Register'!JD$3:JD$242)=TRUE,\"P\",\"A\")","v":"A"},{"$f":"IF(Attendance($C43,'Daily Register'!JE$3:JE$242)=TRUE,\"P\",\"A\")","v":"A"},{"$f":"IF(Attendance($C43,'Daily Register'!JF$3:JF$242)=TRUE,\"P\",\"A\")","v":"A"},{"$f":"IF(Attendance($C43,'Daily Register'!JG$3:JG$242)=TRUE,\"P\",\"A\")","v":"A"},{"$f":"IF(Attendance($C43,'Daily Register'!JH$3:JH$242)=TRUE,\"P\",\"A\")","v":"A"},{"$f":"IF(Attendance($C43,'Daily Register'!JI$3:JI$242)=TRUE,\"P\",\"A\")","v":"A"},{"$f":"IF(Attendance($C43,'Daily Register'!JJ$3:JJ$242)=TRUE,\"P\",\"A\")","v":"A"},{"$f":"IF(Attendance($C43,'Daily Register'!JK$3:JK$242)=TRUE,\"P\",\"A\")","v":"A"},{"$f":"IF(Attendance($C43,'Daily Register'!JL$3:JL$242)=TRUE,\"P\",\"A\")","v":"A"},{"$f":"IF(Attendance($C43,'Daily Register'!JM$3:JM$242)=TRUE,\"P\",\"A\")","v":"A"},{"$f":"IF(Attendance($C43,'Daily Register'!JN$3:JN$242)=TRUE,\"P\",\"A\")","v":"A"},{"$f":"IF(Attendance($C43,'Daily Register'!JO$3:JO$242)=TRUE,\"P\",\"A\")","v":"A"},{"$f":"IF(Attendance($C43,'Daily Register'!JP$3:JP$242)=TRUE,\"P\",\"A\")","v":"A"},{"$f":"IF(Attendance($C43,'Daily Register'!JQ$3:JQ$242)=TRUE,\"P\",\"A\")","v":"A"},{"$f":"IF(Attendance($C43,'Daily Register'!JR$3:JR$242)=TRUE,\"P\",\"A\")","v":"A"},{"$f":"IF(Attendance($C43,'Daily Register'!JS$3:JS$242)=TRUE,\"P\",\"A\")","v":"A"},{"$f":"IF(Attendance($C43,'Daily Register'!JT$3:JT$242)=TRUE,\"P\",\"A\")","v":"A"},{"$f":"IF(Attendance($C43,'Daily Register'!JU$3:JU$242)=TRUE,\"P\",\"A\")","v":"A"},{"$f":"IF(Attendance($C43,'Daily Register'!JV$3:JV$242)=TRUE,\"P\",\"A\")","v":"A"},{"$f":"IF(Attendance($C43,'Daily Register'!JW$3:JW$242)=TRUE,\"P\",\"A\")","v":"A"},{"$f":"IF(Attendance($C43,'Daily Register'!JX$3:JX$242)=TRUE,\"P\",\"A\")","v":"A"},{"$f":"IF(Attendance($C43,'Daily Register'!JY$3:JY$242)=TRUE,\"P\",\"A\")","v":"A"},{"$f":"IF(Attendance($C43,'Daily Register'!JZ$3:JZ$242)=TRUE,\"P\",\"A\")","v":"A"},{"$f":"IF(Attendance($C43,'Daily Register'!KA$3:KA$242)=TRUE,\"P\",\"A\")","v":"A"},{"$f":"IF(Attendance($C43,'Daily Register'!KB$3:KB$242)=TRUE,\"P\",\"A\")","v":"A"},{"$f":"IF(Attendance($C43,'Daily Register'!KC$3:KC$242)=TRUE,\"P\",\"A\")","v":"A"},{"$f":"IF(Attendance($C43,'Daily Register'!KD$3:KD$242)=TRUE,\"P\",\"A\")","v":"A"},{"$f":"IF(Attendance($C43,'Daily Register'!KE$3:KE$242)=TRUE,\"P\",\"A\")","v":"A"},{"$f":"IF(Attendance($C43,'Daily Register'!KF$3:KF$242)=TRUE,\"P\",\"A\")","v":"A"},{"$f":"IF(Attendance($C43,'Daily Register'!KG$3:KG$242)=TRUE,\"P\",\"A\")","v":"A"},{"$f":"IF(Attendance($C43,'Daily Register'!KH$3:KH$242)=TRUE,\"P\",\"A\")","v":"A"},{"$f":"IF(Attendance($C43,'Daily Register'!KI$3:KI$242)=TRUE,\"P\",\"A\")","v":"A"},{"$f":"IF(Attendance($C43,'Daily Register'!KJ$3:KJ$242)=TRUE,\"P\",\"A\")","v":"A"},{"$f":"IF(Attendance($C43,'Daily Register'!KK$3:KK$242)=TRUE,\"P\",\"A\")","v":"A"},{"$f":"IF(Attendance($C43,'Daily Register'!KL$3:KL$242)=TRUE,\"P\",\"A\")","v":"A"},{"$f":"IF(Attendance($C43,'Daily Register'!KM$3:KM$242)=TRUE,\"P\",\"A\")","v":"A"},{"$f":"IF(Attendance($C43,'Daily Register'!KN$3:KN$242)=TRUE,\"P\",\"A\")","v":"A"},{"$f":"IF(Attendance($C43,'Daily Register'!KO$3:KO$242)=TRUE,\"P\",\"A\")","v":"A"},{"$f":"IF(Attendance($C43,'Daily Register'!KP$3:KP$242)=TRUE,\"P\",\"A\")","v":"A"},{"$f":"IF(Attendance($C43,'Daily Register'!KQ$3:KQ$242)=TRUE,\"P\",\"A\")","v":"A"},{"$f":"IF(Attendance($C43,'Daily Register'!KR$3:KR$242)=TRUE,\"P\",\"A\")","v":"A"},{"$f":"IF(Attendance($C43,'Daily Register'!KS$3:KS$242)=TRUE,\"P\",\"A\")","v":"A"},{"$f":"IF(Attendance($C43,'Daily Register'!KT$3:KT$242)=TRUE,\"P\",\"A\")","v":"A"},{"$f":"IF(Attendance($C43,'Daily Register'!KU$3:KU$242)=TRUE,\"P\",\"A\")","v":"A"},{"$f":"IF(Attendance($C43,'Daily Register'!KV$3:KV$242)=TRUE,\"P\",\"A\")","v":"A"},{"$f":"IF(Attendance($C43,'Daily Register'!KW$3:KW$242)=TRUE,\"P\",\"A\")","v":"A"},{"$f":"IF(Attendance($C43,'Daily Register'!KX$3:KX$242)=TRUE,\"P\",\"A\")","v":"A"},{"$f":"IF(Attendance($C43,'Daily Register'!KY$3:KY$242)=TRUE,\"P\",\"A\")","v":"A"},{"$f":"IF(Attendance($C43,'Daily Register'!KZ$3:KZ$242)=TRUE,\"P\",\"A\")","v":"A"},{"$f":"IF(Attendance($C43,'Daily Register'!LA$3:LA$242)=TRUE,\"P\",\"A\")","v":"A"},{"$f":"IF(Attendance($C43,'Daily Register'!LB$3:LB$242)=TRUE,\"P\",\"A\")","v":"A"},{"$f":"IF(Attendance($C43,'Daily Register'!LC$3:LC$242)=TRUE,\"P\",\"A\")","v":"A"},{"$f":"IF(Attendance($C43,'Daily Register'!LD$3:LD$242)=TRUE,\"P\",\"A\")","v":"A"},{"$f":"IF(Attendance($C43,'Daily Register'!LE$3:LE$242)=TRUE,\"P\",\"A\")","v":"A"},{"$f":"IF(Attendance($C43,'Daily Register'!LF$3:LF$242)=TRUE,\"P\",\"A\")","v":"A"},{"$f":"IF(Attendance($C43,'Daily Register'!LG$3:LG$242)=TRUE,\"P\",\"A\")","v":"A"},{"$f":"IF(Attendance($C43,'Daily Register'!LH$3:LH$242)=TRUE,\"P\",\"A\")","v":"A"},{"$f":"IF(Attendance($C43,'Daily Register'!LI$3:LI$242)=TRUE,\"P\",\"A\")","v":"A"},{"$f":"IF(Attendance($C43,'Daily Register'!LJ$3:LJ$242)=TRUE,\"P\",\"A\")","v":"A"},{"$f":"IF(Attendance($C43,'Daily Register'!LK$3:LK$242)=TRUE,\"P\",\"A\")","v":"A"},{"$f":"IF(Attendance($C43,'Daily Register'!LL$3:LL$242)=TRUE,\"P\",\"A\")","v":"A"},{"$f":"IF(Attendance($C43,'Daily Register'!LM$3:LM$242)=TRUE,\"P\",\"A\")","v":"A"},{"$f":"IF(Attendance($C43,'Daily Register'!LN$3:LN$242)=TRUE,\"P\",\"A\")","v":"A"},{"$f":"IF(Attendance($C43,'Daily Register'!LO$3:LO$242)=TRUE,\"P\",\"A\")","v":"A"},{"$f":"IF(Attendance($C43,'Daily Register'!LP$3:LP$242)=TRUE,\"P\",\"A\")","v":"A"},{"$f":"IF(Attendance($C43,'Daily Register'!LQ$3:LQ$242)=TRUE,\"P\",\"A\")","v":"A"},{"$f":"IF(Attendance($C43,'Daily Register'!LR$3:LR$242)=TRUE,\"P\",\"A\")","v":"A"},{"$f":"IF(Attendance($C43,'Daily Register'!LS$3:LS$242)=TRUE,\"P\",\"A\")","v":"A"},{"$f":"IF(Attendance($C43,'Daily Register'!LT$3:LT$242)=TRUE,\"P\",\"A\")","v":"A"},{"$f":"IF(Attendance($C43,'Daily Register'!LU$3:LU$242)=TRUE,\"P\",\"A\")","v":"A"},{"$f":"IF(Attendance($C43,'Daily Register'!LV$3:LV$242)=TRUE,\"P\",\"A\")","v":"A"},{"$f":"IF(Attendance($C43,'Daily Register'!LW$3:LW$242)=TRUE,\"P\",\"A\")","v":"A"},{"$f":"IF(Attendance($C43,'Daily Register'!LX$3:LX$242)=TRUE,\"P\",\"A\")","v":"A"},{"$f":"IF(Attendance($C43,'Daily Register'!LY$3:LY$242)=TRUE,\"P\",\"A\")","v":"A"},{"$f":"IF(Attendance($C43,'Daily Register'!LZ$3:LZ$242)=TRUE,\"P\",\"A\")","v":"A"},{"$f":"IF(Attendance($C43,'Daily Register'!MA$3:MA$242)=TRUE,\"P\",\"A\")","v":"A"},{"$f":"IF(Attendance($C43,'Daily Register'!MB$3:MB$242)=TRUE,\"P\",\"A\")","v":"A"},{"$f":"IF(Attendance($C43,'Daily Register'!MC$3:MC$242)=TRUE,\"P\",\"A\")","v":"A"},{"$f":"IF(Attendance($C43,'Daily Register'!MD$3:MD$242)=TRUE,\"P\",\"A\")","v":"A"},{"$f":"IF(Attendance($C43,'Daily Register'!ME$3:ME$242)=TRUE,\"P\",\"A\")","v":"A"},{"$f":"IF(Attendance($C43,'Daily Register'!MF$3:MF$242)=TRUE,\"P\",\"A\")","v":"A"},{"$f":"IF(Attendance($C43,'Daily Register'!MG$3:MG$242)=TRUE,\"P\",\"A\")","v":"A"},{"$f":"IF(Attendance($C43,'Daily Register'!MH$3:MH$242)=TRUE,\"P\",\"A\")","v":"A"},{"$f":"IF(Attendance($C43,'Daily Register'!MI$3:MI$242)=TRUE,\"P\",\"A\")","v":"A"},{"$f":"IF(Attendance($C43,'Daily Register'!MJ$3:MJ$242)=TRUE,\"P\",\"A\")","v":"A"},{"$f":"IF(Attendance($C43,'Daily Register'!MK$3:MK$242)=TRUE,\"P\",\"A\")","v":"A"},{"$f":"IF(Attendance($C43,'Daily Register'!ML$3:ML$242)=TRUE,\"P\",\"A\")","v":"A"},{"$f":"IF(Attendance($C43,'Daily Register'!MM$3:MM$242)=TRUE,\"P\",\"A\")","v":"A"},{"$f":"IF(Attendance($C43,'Daily Register'!MN$3:MN$242)=TRUE,\"P\",\"A\")","v":"A"},{"$f":"IF(Attendance($C43,'Daily Register'!MO$3:MO$242)=TRUE,\"P\",\"A\")","v":"A"},{"$f":"IF(Attendance($C43,'Daily Register'!MP$3:MP$242)=TRUE,\"P\",\"A\")","v":"A"},{"$f":"IF(Attendance($C43,'Daily Register'!MQ$3:MQ$242)=TRUE,\"P\",\"A\")","v":"A"},{"$f":"IF(Attendance($C43,'Daily Register'!MR$3:MR$242)=TRUE,\"P\",\"A\")","v":"A"},{"$f":"IF(Attendance($C43,'Daily Register'!MS$3:MS$242)=TRUE,\"P\",\"A\")","v":"A"},{"$f":"IF(Attendance($C43,'Daily Register'!MT$3:MT$242)=TRUE,\"P\",\"A\")","v":"A"},{"$f":"IF(Attendance($C43,'Daily Register'!MU$3:MU$242)=TRUE,\"P\",\"A\")","v":"A"},{"$f":"IF(Attendance($C43,'Daily Register'!MV$3:MV$242)=TRUE,\"P\",\"A\")","v":"A"},{"$f":"IF(Attendance($C43,'Daily Register'!MW$3:MW$242)=TRUE,\"P\",\"A\")","v":"A"},{"$f":"IF(Attendance($C43,'Daily Register'!MX$3:MX$242)=TRUE,\"P\",\"A\")","v":"A"},{"$f":"IF(Attendance($C43,'Daily Register'!MY$3:MY$242)=TRUE,\"P\",\"A\")","v":"A"},{"$f":"IF(Attendance($C43,'Daily Register'!MZ$3:MZ$242)=TRUE,\"P\",\"A\")","v":"A"},{"$f":"IF(Attendance($C43,'Daily Register'!NA$3:NA$242)=TRUE,\"P\",\"A\")","v":"A"},{"$f":"IF(Attendance($C43,'Daily Register'!NB$3:NB$242)=TRUE,\"P\",\"A\")","v":"A"}]
[0,null,41,null,{"$f":"IF(Attendance($C44,'Daily Register'!A$3:A$242)=TRUE,\"P\",\"A\")","v":"A"},{"$f":"IF(Attendance($C44,'Daily Register'!B$3:B$242)=TRUE,\"P\",\"A\")","v":"A"},{"$f":"IF(Attendance($C44,'Daily Register'!C$3:C$242)=TRUE,\"P\",\"A\")","v":"A"},{"$f":"IF(Attendance($C44,'Daily Register'!D$3:D$242)=TRUE,\"P\",\"A\")","v":"A"},{"$f":"IF(Attendance($C44,'Daily Register'!E$3:E$242)=TRUE,\"P\",\"A\")","v":"A"},{"$f":"IF(Attendance($C44,'Daily Register'!F$3:F$242)=TRUE,\"P\",\"A\")","v":"A"},{"$f":"IF(Attendance($C44,'Daily Register'!G$3:G$242)=TRUE,\"P\",\"A\")","v":"A"},{"$f":"IF(Attendance($C44,'Daily Register'!H$3:H$242)=TRUE,\"P\",\"A\")","v":"A"},{"$f":"IF(Attendance($C44,'Daily Register'!I$3:I$242)=TRUE,\"P\",\"A\")","v":"A"},{"$f":"IF(Attendance($C44,'Daily Register'!J$3:J$242)=TRUE,\"P\",\"A\")","v":"A"},{"$f":"IF(Attendance($C44,'Daily Register'!K$3:K$242)=TRUE,\"P\",\"A\")","v":"A"},{"$f":"IF(Attendance($C44,'Daily Register'!L$3:L$242)=TRUE,\"P\",\"A\")","v":"A"},{"$f":"IF(Attendance($C44,'Daily Register'!M$3:M$242)=TRUE,\"P\",\"A\")","v":"A"},{"$f":"IF(Attendance($C44,'Daily Register'!N$3:N$242)=TRUE,\"P\",\"A\")","v":"A"},{"$f":"IF(Attendance($C44,'Daily Register'!O$3:O$242)=TRUE,\"P\",\"A\")","v":"A"},{"$f":"IF(Attendance($C44,'Daily Register'!P$3:P$242)=TRUE,\"P\",\"A\")","v":"A"},{"$f":"IF(Attendance($C44,'Daily Register'!Q$3:Q$242)=TRUE,\"P\",\"A\")","v":"A"},{"$f":"IF(Attendance($C44,'Daily Register'!R$3:R$242)=TRUE,\"P\",\"A\")","v":"A"},{"$f":"IF(Attendance($C44,'Daily Register'!S$3:S$242)=TRUE,\"P\",\"A\")","v":"A"},{"$f":"IF(Attendance($C44,'Daily Register'!T$3:T$242)=TRUE,\"P\",\"A\")","v":"A"},{"$f":"IF(Attendance($C44,'Daily Register'!U$3:U$242)=TRUE,\"P\",\"A\")","v":"A"},{"$f":"IF(Attendance($C44,'Daily Register'!V$3:V$242)=TRUE,\"P\",\"A\")","v":"A"},{"$f":"IF(Attendance($C44,'Daily Register'!W$3:W$242)=TRUE,\"P\",\"A\")","v":"A"},{"$f":"IF(Attendance($C44,'Daily Register'!X$3:X$242)=TRUE,\"P\",\"A\")","v":"A"},{"$f":"IF(Attendance($C44,'Daily Register'!Y$3:Y$242)=TRUE,\"P\",\"A\")","v":"A"},{"$f":"IF(Attendance($C44,'Daily Register'!Z$3:Z$242)=TRUE,\"P\",\"A\")","v":"A"},{"$f":"IF(Attendance($C44,'Daily Register'!AA$3:AA$242)=TRUE,\"P\",\"A\")","v":"A"},{"$f":"IF(Attendance($C44,'Daily Register'!AB$3:AB$242)=TRUE,\"P\",\"A\")","v":"A"},{"$f":"IF(Attendance($C44,'Daily Register'!AC$3:AC$242)=TRUE,\"P\",\"A\")","v":"A"},{"$f":"IF(Attendance($C44,'Daily Register'!AD$3:AD$242)=TRUE,\"P\",\"A\")","v":"A"},{"$f":"IF(Attendance($C44,'Daily Register'!AE$3:AE$242)=TRUE,\"P\",\"A\")","v":"A"},{"$f":"IF(Attendance($C44,'Daily Register'!AF$3:AF$242)=TRUE,\"P\",\"A\")","v":"A"},{"$f":"IF(Attendance($C44,'Daily Register'!AG$3:AG$242)=TRUE,\"P\",\"A\")","v":"A"},{"$f":"IF(Attendance($C44,'Daily Register'!AH$3:AH$242)=TRUE,\"P\",\"A\")","v":"A"},{"$f":"IF(Attendance($C44,'Daily Register'!AI$3:AI$242)=TRUE,\"P\",\"A\")","v":"A"},{"$f":"IF(Attendance($C44,'Daily Register'!AJ$3:AJ$242)=TRUE,\"P\",\"A\")","v":"A"},{"$f":"IF(Attendance($C44,'Daily Register'!AK$3:AK$242)=TRUE,\"P\",\"A\")","v":"A"},{"$f":"IF(Attendance($C44,'Daily Register'!AL$3:AL$242)=TRUE,\"P\",\"A\")","v":"A"},{"$f":"IF(Attendance($C44,'Daily Register'!AM$3:AM$242)=TRUE,\"P\",\"A\")","v":"A"},{"$f":"IF(Attendance($C44,'Daily Register'!AN$3:AN$242)=TRUE,\"P\",\"A\")","v":"A"},{"$f":"IF(Attendance($C44,'Daily Register'!AO$3:AO$242)=TRUE,\"P\",\"A\")","v":"A"},{"$f":"IF(Attendance($C44,'Daily Register'!AP$3:AP$242)=TRUE,\"P\",\"A\")","v":"A"},{"$f":"IF(Attendance($C44,'Daily Register'!AQ$3:AQ$242)=TRUE,\"P\",\"A\")","v":"A"},{"$f":"IF(Attendance($C44,'Daily Register'!AR$3:AR$242)=TRUE,\"P\",\"A\")","v":"A"},{"$f":"IF(Attendance($C44,'Daily Register'!AS$3:AS$242)=TRUE,\"P\",\"A\")","v":"A"},{"$f":"IF(Attendance($C44,'Daily Register'!AT$3:AT$242)=TRUE,\"P\",\"A\")","v":"A"},{"$f":"IF(Attendance($C44,'Daily Register'!AU$3:AU$242)=TRUE,\"P\",\"A\")","v":"A"},{"$f":"IF(Attendance($C44,'Daily Register'!AV$3:AV$242)=TRUE,\"P\",\"A\")","v":"A"},{"$f":"IF(Attendance($C44,'Daily Register'!AW$3:AW$242)=TRUE,\"P\",\"A\")","v":"A"},{"$f":"IF(Attendance($C44,'Daily Register'!AX$3:AX$242)=TRUE,\"P\",\"A\")","v":"A"},{"$f":"IF(Attendance($C44,'Daily Register'!AY$3:AY$242)=TRUE,\"P\",\"A\")","v":"A"},{"$f":"IF(Attendance($C44,'Daily Register'!AZ$3:AZ$242)=TRUE,\"P\",\"A\")","v":"A"},{"$f":"IF(Attendance($C44,'Daily Register'!BA$3:BA$242)=TRUE,\"P\",\"A\")","v":"A"},{"$f":"IF(Attendance($C44,'Daily Register'!BB$3:BB$242)=TRUE,\"P\",\"A\")","v":"A"},{"$f":"IF(Attendance($C44,'Daily Register'!BC$3:BC$242)=TRUE,\"P\",\"A\")","v":"A"},{"$f":"IF(Attendance($C44,'Daily Register'!BD$3:BD$242)=TRUE,\"P\",\"A\")","v":"A"},{"$f":"IF(Attendance($C44,'Daily Register'!BE$3:BE$242)=TRUE,\"P\",\"A\")","v":"A"},{"$f":"IF(Attendance($C44,'Daily Register'!BF$3:BF$242)=TRUE,\"P\",\"A\")","v":"A"},{"$f":"IF(Attendance($C44,'Daily Register'!BG$3:BG$242)=TRUE,\"P\",\"A\")","v":"A"},{"$f":"IF(Attendance($C44,'Daily Register'!BH$3:BH$242)=TRUE,\"P\",\"A\")","v":"A"},{"$f":"IF(Attendance($C44,'Daily Register'!BI$3:BI$242)=TRUE,\"P\",\"A\")","v":"A"},{"$f":"IF(Attendance($C44,'Daily Register'!BJ$3:BJ$242)=TRUE,\"P\",\"A\")","v":"A"},{"$f":"IF(Attendance($C44,'Daily Register'!BK$3:BK$242)=TRUE,\"P\",\"A\")","v":"A"},{"$f":"IF(Attendance($C44,'Daily Register'!BL$3:BL$242)=TRUE,\"P\",\"A\")","v":"A"},{"$f":"IF(Attendance($C44,'Daily Register'!BM$3:BM$242)=TRUE,\"P\",\"A\")","v":"A"},{"$f":"IF(Attendance($C44,'Daily Register'!BN$3:BN$242)=TRUE,\"P\",\"A\")","v":"A"},{"$f":"IF(Attendance($C44,'Daily Register'!BO$3:BO$242)=TRUE,\"P\",\"A\")","v":"A"},{"$f":"IF(Attendance($C44,'Daily Register'!BP$3:BP$242)=TRUE,\"P\",\"A\")","v":"A"},{"$f":"IF(Attendance($C44,'Daily Register'!BQ$3:BQ$242)=TRUE,\"P\",\"A\")","v":"A"},{"$f":"IF(Attendance($C44,'Daily Register'!BR$3:BR$242)=TRUE,\"P\",\"A\")","v":"A"},{"$f":"IF(Attendance($C44,'Daily Register'!BS$3:BS$242)=TRUE,\"P\",\"A\")","v":"A"},{"$f":"IF(Attendance($C44,'Daily Register'!BT$3:BT$242)=TRUE,\"P\",\"A\")","v":"A"},{"$f":"IF(Attendance($C44,'Daily Register'!BU$3:BU$242)=TRUE,\"P\",\"A\")","v":"A"},{"$f":"IF(Attendance($C44,'Daily Register'!BV$3:BV$242)=TRUE,\"P\",\"A\")","v":"A"},{"$f":"IF(Attendance($C44,'Daily Register'!BW$3:BW$242)=TRUE,\"P\",\"A\")","v":"A"},{"$f":"IF(Attendance($C44,'Daily Register'!BX$3:BX$242)=TRUE,\"P\",\"A\")","v":"A"},{"$f":"IF(Attendance($C44,'Daily Register'!BY$3:BY$242)=TRUE,\"P\",\"A\")","v":"A"},{"$f":"IF(Attendance($C44,'Daily Register'!BZ$3:BZ$242)=TRUE,\"P\",\"A\")","v":"A"},{"$f":"IF(Attendance($C44,'Daily Register'!CA$3:CA$242)=TRUE,\"P\",\"A\")","v":"A"},{"$f":"IF(Attendance($C44,'Daily Register'!CB$3:CB$242)=TRUE,\"P\",\"A\")","v":"A"},{"$f":"IF(Attendance($C44,'Daily Register'!CC$3:CC$242)=TRUE,\"P\",\"A\")","v":"A"},{"$f":"IF(Attendance($C44,'Daily Register'!CD$3:CD$242)=TRUE,\"P\",\"A\")","v":"A"},{"$f":"IF(Attendance($C44,'Daily Register'!CE$3:CE$242)=TRUE,\"P\",\"A\")","v":"A"},{"$f":"IF(Attendance($C44,'Daily Register'!CF$3:CF$242)=TRUE,\"P\",\"A\")","v":"A"},{"$f":"IF(Attendance($C44,'Daily Register'!CG$3:CG$242)=TRUE,\"P\",\"A\")","v":"A"},{"$f":"IF(Attendance($C44,'Daily Register'!CH$3:CH$242)=TRUE,\"P\",\"A\")","v":"A"},{"$f":"IF(Attendance($C44,'Daily Register'!CI$3:CI$242)=TRUE,\"P\",\"A\")","v":"A"},{"$f":"IF(Attendance($C44,'Daily Register'!CJ$3:CJ$242)=TRUE,\"P\",\"A\")","v":"A"},{"$f":"IF(Attendance($C44,'Daily Register'!CK$3:CK$242)=TRUE,\"P\",\"A\")","v":"A"},{"$f":"IF(Attendance($C44,'Daily Register'!CL$3:CL$242)=TRUE,\"P\",\"A\")","v":"A"},{"$f":"IF(Attendance($C44,'Daily Register'!CM$3:CM$242)=TRUE,\"P\",\"A\")","v":"A"},{"$f":"IF(Attendance($C44,'Daily Register'!CN$3:CN$242)=TRUE,\"P\",\"A\")","v":"A"},{"$f":"IF(Attendance($C44,'Daily Register'!CO$3:CO$242)=TRUE,\"P\",\"A\")","v":"A"},{"$f":"IF(Attendance($C44,'Daily Register'!CP$3:CP$242)=TRUE,\"P\",\"A\")","v":"A"},{"$f":"IF(Attendance($C44,'Daily Register'!CQ$3:CQ$242)=TRUE,\"P\",\"A\")","v":"A"},{"$f":"IF(Attendance($C44,'Daily Register'!CR$3:CR$242)=TRUE,\"P\",\"A\")","v":"A"},{"$f":"IF(Attendance($C44,'Daily Register'!CS$3:CS$242)=TRUE,\"P\",\"A\")","v":"A"},{"$f":"IF(Attendance($C44,'Daily Register'!CT$3:CT$242)=TRUE,\"P\",\"A\")","v":"A"},{"$f":"IF(Attendance($C44,'Daily Register'!CU$3:CU$242)=TRUE,\"P\",\"A\")","v":"A"},{"$f":"IF(Attendance($C44,'Daily Register'!CV$3:CV$242)=TRUE,\"P\",\"A\")","v":"A"},{"$f":"IF(Attendance($C44,'Daily Register'!CW$3:CW$242)=TRUE,\"P\",\"A\")","v":"A"},{"$f":"IF(Attendance($C44,'Daily Register'!CX$3:CX$242)=TRUE,\"P\",\"A\")","v":"A"},{"$f":"IF(Attendance($C44,'Daily Register'!CY$3:CY$242)=TRUE,\"P\",\"A\")","v":"A"},{"$f":"IF(Attendance($C44,'Daily Register'!CZ$3:CZ$242)=TRUE,\"P\",\"A\")","v":"A"},{"$f":"IF(Attendance($C44,'Daily Register'!DA$3:DA$242)=TRUE,\"P\",\"A\")","v":"A"},{"$f":"IF(Attendance($C44,'Daily Register'!DB$3:DB$242)=TRUE,\"P\",\"A\")","v":"A"},{"$f":"IF(Attendance($C44,'Daily Register'!DC$3:DC$242)=TRUE,\"P\",\"A\")","v":"A"},{"$f":"IF(Attendance($C44,'Daily Register'!DD$3:DD$242)=TRUE,\"P\",\"A\")","v":"A"},{"$f":"IF(Attendance($C44,'Daily Register'!DE$3:DE$242)=TRUE,\"P\",\"A\")","v":"A"},{"$f":"IF(Attendance($C44,'Daily Register'!DF$3:DF$242)=TRUE,\"P\",\"A\")","v":"A"},{"$f":"IF(Attendance($C44,'Daily Register'!DG$3:DG$242)=TRUE,\"P\",\"A\")","v":"A"},{"$f":"IF(Attendance($C44,'Daily Register'!DH$3:DH$242)=TRUE,\"P\",\"A\")","v":"A"},{"$f":"IF(Attendance($C44,'Daily Register'!DI$3:DI$242)=TRUE,\"P\",\"A\")","v":"A"},{"$f":"IF(Attendance($C44,'Daily Register'!DJ$3:DJ$242)=TRUE,\"P\",\"A\")","v":"A"},{"$f":"IF(Attendance($C44,'Daily Register'!DK$3:DK$242)=TRUE,\"P\",\"A\")","v":"A"},{"$f":"IF(Attendance($C44,'Daily Register'!DL$3:DL$242)=TRUE,\"P\",\"A\")","v":"A"},{"$f":"IF(Attendance($C44,'Daily Register'!DM$3:DM$242)=TRUE,\"P\",\"A\")","v":"A"},{"$f":"IF(Attendance($C44,'Daily Register'!DN$3:DN$242)=TRUE,\"P\",\"A\")","v":"A"},{"$f":"IF(Attendance($C44,'Daily Register'!DO$3:DO$242)=TRUE,\"P\",\"A\")","v":"A"},{"$f":"IF(Attendance($C44,'Daily Register'!DP$3:DP$242)=TRUE,\"P\",\"A\")","v":"A"},{"$f":"IF(Attendance($C44,'Daily Register'!DQ$3:DQ$242)=TRUE,\"P\",\"A\")","v":"A"},{"$f":"IF(Attendance($C44,'Daily Register'!DR$3:DR$242)=TRUE,\"P\",\"A\")","v":"A"},{"$f":"IF(Attendance($C44,'Daily Register'!DS$3:DS$242)=TRUE,\"P\",\"A\")","v":"A"},{"$f":"IF(Attendance($C44,'Daily Register'!DT$3:DT$242)=TRUE,\"P\",\"A\")","v":"A"},{"$f":"IF(Attendance($C44,'Daily Register'!DU$3:DU$242)=TRUE,\"P\",\"A\")","v":"A"},{"$f":"IF(Attendance($C44,'Daily Register'!DV$3:DV$242)=TRUE,\"P\",\"A\")","v":"A"},{"$f":"IF(Attendance($C44,'Daily Register'!DW$3:DW$242)=TRUE,\"P\",\"A\")","v":"A"},{"$f":"IF(Attendance($C44,'Daily Register'!DX$3:DX$242)=TRUE,\"P\",\"A\")","v":"A"},{"$f":"IF(Attendance($C44,'Daily Register'!DY$3:DY$242)=TRUE,\"P\",\"A\")","v":"A"},{"$f":"IF(Attendance($C44,'Daily Register'!DZ$3:DZ$242)=TRUE,\"P\",\"A\")","v":"A"},{"$f":"IF(Attendance($C44,'Daily Register'!EA$3:EA$242)=TRUE,\"P\",\"A\")","v":"A"},{"$f":"IF(Attendance($C44,'Daily Register'!EB$3:EB$242)=TRUE,\"P\",\"A\")","v":"A"},{"$f":"IF(Attendance($C44,'Daily Register'!EC$3:EC$242)=TRUE,\"P\",\"A\")","v":"A"},{"$f":"IF(Attendance($C44,'Daily Register'!ED$3:ED$242)=TRUE,\"P\",\"A\")","v":"A"},{"$f":"IF(Attendance($C44,'Daily Register'!EE$3:EE$242)=TRUE,\"P\",\"A\")","v":"A"},{"$f":"IF(Attendance($C44,'Daily Register'!EF$3:EF$242)=TRUE,\"P\",\"A\")","v":"A"},{"$f":"IF(Attendance($C44,'Daily Register'!EG$3:EG$242)=TRUE,\"P\",\"A\")","v":"A"},{"$f":"IF(Attendance($C44,'Daily Register'!EH$3:EH$242)=TRUE,\"P\",\"A\")","v":"A"},{"$f":"IF(Attendance($C44,'Daily Register'!EI$3:EI$242)=TRUE,\"P\",\"A\")","v":"A"},{"$f":"IF(Attendance($C44,'Daily Register'!EJ$3:EJ$242)=TRUE,\"P\",\"A\")","v":"A"},{"$f":"IF(Attendance($C44,'Daily Register'!EK$3:EK$242)=TRUE,\"P\",\"A\")","v":"A"},{"$f":"IF(Attendance($C44,'Daily Register'!EL$3:EL$242)=TRUE,\"P\",\"A\")","v":"A"},{"$f":"IF(Attendance($C44,'Daily Register'!EM$22:EM$242)=TRUE,\"P\",\"A\")","v":"A"},{"$f":"IF(Attendance($C44,'Daily Register'!EN$3:EN$242)=TRUE,\"P\",\"A\")","v":"A"},{"$f":"IF(Attendance($C44,'Daily Register'!EO$3:EO$242)=TRUE,\"P\",\"A\")","v":"A"},{"$f":"IF(Attendance($C44,'Daily Register'!EP$3:EP$242)=TRUE,\"P\",\"A\")","v":"A"},{"$f":"IF(Attendance($C44,'Daily Register'!EQ$3:EQ$242)=TRUE,\"P\",\"A\")","v":"A"},{"$f":"IF(Attendance($C44,'Daily Register'!ER$3:ER$242)=TRUE,\"P\",\"A\")","v":"A"},{"$f":"IF(Attendance($C44,'Daily Register'!ES$3:ES$242)=TRUE,\"P\",\"A\")","v":"A"},{"$f":"IF(Attendance($C44,'Daily Register'!ET$3:ET$242)=TRUE,\"P\",\"A\")","v":"A"},{"$f":"IF(Attendance($C44,'Daily Register'!EU$3:EU$242)=TRUE,\"P\",\"A\")","v":"A"},{"$f":"IF(Attendance($C44,'Daily Register'!EV$3:EV$242)=TRUE,\"P\",\"A\")","v":"A"},{"$f":"IF(Attendance($C44,'Daily Register'!EW$3:EW$242)=TRUE,\"P\",\"A\")","v":"A"},{"$f":"IF(Attendance($C44,'Daily Register'!EX$3:EX$242)=TRUE,\"P\",\"A\")","v":"A"},{"$f":"IF(Attendance($C44,'Daily Register'!EY$3:EY$242)=TRUE,\"P\",\"A\")","v":"A"},{"$f":"IF(Attendance($C44,'Daily Register'!EZ$3:EZ$242)=TRUE,\"P\",\"A\")","v":"A"},{"$f":"IF(Attendance($C44,'Daily Register'!FA$3:FA$242)=TRUE,\"P\",\"A\")","v":"A"},{"$f":"IF(Attendance($C44,'Daily Register'!FB$3:FB$242)=TRUE,\"P\",\"A\")","v":"A"},{"$f":"IF(Attendance($C44,'Daily Register'!FC$3:FC$242)=TRUE,\"P\",\"A\")","v":"A"},{"$f":"IF(Attendance($C44,'Daily Register'!FD$3:FD$242)=TRUE,\"P\",\"A\")","v":"A"},{"$f":"IF(Attendance($C44,'Daily Register'!FE$3:FE$242)=TRUE,\"P\",\"A\")","v":"A"},{"$f":"IF(Attendance($C44,'Daily Register'!FF$3:FF$242)=TRUE,\"P\",\"A\")","v":"A"},{"$f":"IF(Attendance($C44,'Daily Register'!FG$3:FG$242)=TRUE,\"P\",\"A\")","v":"A"},{"$f":"IF(Attendance($C44,'Daily Register'!FH$3:FH$242)=TRUE,\"P\",\"A\")","v":"A"},{"$f":"IF(Attendance($C44,'Daily Register'!FI$3:FI$242)=TRUE,\"P\",\"A\")","v":"A"},{"$f":"IF(Attendance($C44,'Daily Register'!FJ$3:FJ$242)=TRUE,\"P\",\"A\")","v":"A"},{"$f":"IF(Attendance($C44,'Daily Register'!FK$3:FK$242)=TRUE,\"P\",\"A\")","v":"A"},{"$f":"IF(Attendance($C44,'Daily Register'!FL$3:FL$242)=TRUE,\"P\",\"A\")","v":"A"},{"$f":"IF(Attendance($C44,'Daily Register'!FM$3:FM$242)=TRUE,\"P\",\"A\")","v":"A"},{"$f":"IF(Attendance($C44,'Daily Register'!FN$3:FN$242)=TRUE,\"P\",\"A\")","v":"A"},{"$f":"IF(Attendance($C44,'Daily Register'!FO$3:FO$242)=TRUE,\"P\",\"A\")","v":"A"},{"$f":"IF(Attendance($C44,'Daily Register'!FP$3:FP$242)=TRUE,\"P\",\"A\")","v":"A"},{"$f":"IF(Attendance($C44,'Daily Register'!FQ$3:FQ$242)=TRUE,\"P\",\"A\")","v":"A"},{"$f":"IF(Attendance($C44,'Daily Register'!FR$3:FR$242)=TRUE,\"P\",\"A\")","v":"A"},{"$f":"IF(Attendance($C44,'Daily Register'!FS$3:FS$242)=TRUE,\"P\",\"A\")","v":"A"},{"$f":"IF(Attendance($C44,'Daily Register'!FT$3:FT$242)=TRUE,\"P\",\"A\")","v":"A"},{"$f":"IF(Attendance($C44,'Daily Register'!FU$3:FU$242)=TRUE,\"P\",\"A\")","v":"A"},{"$f":"IF(Attendance($C44,'Daily Register'!FV$3:FV$242)=TRUE,\"P\",\"A\")","v":"A"},{"$f":"IF(Attendance($C44,'Daily Register'!FW$3:FW$242)=TRUE,\"P\",\"A\")","v":"A"},{"$f":"IF(Attendance($C44,'Daily Register'!FX$3:FX$242)=TRUE,\"P\",\"A\")","v":"A"},{"$f":"IF(Attendance($C44,'Daily Register'!FY$3:FY$242)=TRUE,\"P\",\"A\")","v":"A"},{"$f":"IF(Attendance($C44,'Daily Register'!FZ$3:FZ$242)=TRUE,\"P\",\"A\")","v":"A"},{"$f":"IF(Attendance($C44,'Daily Register'!GA$3:GA$242)=TRUE,\"P\",\"A\")","v":"A"},{"$f":"IF(Attendance($C44,'Daily Register'!GB$3:GB$242)=TRUE,\"P\",\"A\")","v":"A"},{"$f":"IF(Attendance($C44,'Daily Register'!GC$3:GC$242)=TRUE,\"P\",\"A\")","v":"A"},{"$f":"IF(Attendance($C44,'Daily Register'!GD$3:GD$242)=TRUE,\"P\",\"A\")","v":"A"},{"$f":"IF(Attendance($C44,'Daily Register'!GE$3:GE$242)=TRUE,\"P\",\"A\")","v":"A"},{"$f":"IF(Attendance($C44,'Daily Register'!GF$3:GF$242)=TRUE,\"P\",\"A\")","v":"A"},{"$f":"IF(Attendance($C44,'Daily Register'!GG$3:GG$242)=TRUE,\"P\",\"A\")","v":"A"},{"$f":"IF(Attendance($C44,'Daily Register'!GH$3:GH$242)=TRUE,\"P\",\"A\")","v":"A"},{"$f":"IF(Attendance($C44,'Daily Register'!GI$3:GI$242)=TRUE,\"P\",\"A\")","v":"A"},{"$f":"IF(Attendance($C44,'Daily Register'!GJ$3:GJ$242)=TRUE,\"P\",\"A\")","v":"A"},{"$f":"IF(Attendance($C44,'Daily Register'!GK$3:GK$242)=TRUE,\"P\",\"A\")","v":"A"},{"$f":"IF(Attendance($C44,'Daily Register'!GL$3:GL$242)=TRUE,\"P\",\"A\")","v":"A"},{"$f":"IF(Attendance($C44,'Daily Register'!GM$3:GM$242)=TRUE,\"P\",\"A\")","v":"A"},{"$f":"IF(Attendance($C44,'Daily Register'!GN$3:GN$242)=TRUE,\"P\",\"A\")","v":"A"},{"$f":"IF(Attendance($C44,'Daily Register'!GO$3:GO$242)=TRUE,\"P\",\"A\")","v":"A"},{"$f":"IF(Attendance($C44,'Daily Register'!GP$3:GP$242)=TRUE,\"P\",\"A\")","v":"A"},{"$f":"IF(Attendance($C44,'Daily Register'!GQ$3:GQ$242)=TRUE,\"P\",\"A\")","v":"A"},{"$f":"IF(Attendance($C44,'Daily Register'!GR$3:GR$242)=TRUE,\"P\",\"A\")","v":"A"},{"$f":"IF(Attendance($C44,'Daily Register'!GS$3:GS$242)=TRUE,\"P\",\"A\")","v":"A"},{"$f":"IF(Attendance($C44,'Daily Register'!GT$3:GT$242)=TRUE,\"P\",\"A\")","v":"A"},{"$f":"IF(Attendance($C44,'Daily Register'!GU$3:GU$242)=TRUE,\"P\",\"A\")","v":"A"},{"$f":"IF(Attendance($C44,'Daily Register'!GV$3:GV$242)=TRUE,\"P\",\"A\")","v":"A"},{"$f":"IF(Attendance($C44,'Daily Register'!GW$3:GW$242)=TRUE,\"P\",\"A\")","v":"A"},{"$f":"IF(Attendance($C44,'Daily Register'!GX$3:GX$242)=TRUE,\"P\",\"A\")","v":"A"},{"$f":"IF(Attendance($C44,'Daily Register'!GY$3:GY$242)=TRUE,\"P\",\"A\")","v":"A"},{"$f":"IF(Attendance($C44,'Daily Register'!GZ$3:GZ$242)=TRUE,\"P\",\"A\")","v":"A"},{"$f":"IF(Attendance($C44,'Daily Register'!HA$3:HA$242)=TRUE,\"P\",\"A\")","v":"A"},{"$f":"IF(Attendance($C44,'Daily Register'!HB$3:HB$242)=TRUE,\"P\",\"A\")","v":"A"},{"$f":"IF(Attendance($C44,'Daily Register'!HC$3:HC$242)=TRUE,\"P\",\"A\")","v":"A"},{"$f":"IF(Attendance($C44,'Daily Register'!HD$3:HD$242)=TRUE,\"P\",\"A\")","v":"A"},{"$f":"IF(Attendance($C44,'Daily Register'!HE$3:HE$242)=TRUE,\"P\",\"A\")","v":"A"},{"$f":"IF(Attendance($C44,'Daily Register'!HF$3:HF$242)=TRUE,\"P\",\"A\")","v":"A"},{"$f":"IF(Attendance($C44,'Daily Register'!HG$3:HG$242)=TRUE,\"P\",\"A\")","v":"A"},{"$f":"IF(Attendance($C44,'Daily Register'!HH$3:HH$242)=TRUE,\"P\",\"A\")","v":"A"},{"$f":"IF(Attendance($C44,'Daily Register'!HI$3:HI$242)=TRUE,\"P\",\"A\")","v":"A"},{"$f":"IF(Attendance($C44,'Daily Register'!HJ$3:HJ$242)=TRUE,\"P\",\"A\")","v":"A"},{"$f":"IF(Attendance($C44,'Daily Register'!HK$3:HK$242)=TRUE,\"P\",\"A\")","v":"A"},{"$f":"IF(Attendance($C44,'Daily Register'!HL$3:HL$242)=TRUE,\"P\",\"A\")","v":"A"},{"$f":"IF(Attendance($C44,'Daily Register'!HM$3:HM$242)=TRUE,\"P\",\"A\")","v":"A"},{"$f":"IF(Attendance($C44,'Daily Register'!HN$3:HN$242)=TRUE,\"P\",\"A\")","v":"A"},{"$f":"IF(Attendance($C44,'Daily Register'!HO$3:HO$242)=TRUE,\"P\",\"A\")","v":"A"},{"$f":"IF(Attendance($C44,'Daily Register'!HP$3:HP$242)=TRUE,\"P\",\"A\")","v":"A"},{"$f":"IF(Attendance($C44,'Daily Register'!HQ$3:HQ$242)=TRUE,\"P\",\"A\")","v":"A"},{"$f":"IF(Attendance($C44,'Daily Register'!HR$3:HR$242)=TRUE,\"P\",\"A\")","v":"A"},{"$f":"IF(Attendance($C44,'Daily Register'!HS$3:HS$242)=TRUE,\"P\",\"A\")","v":"A"},{"$f":"IF(Attendance($C44,'Daily Register'!HT$3:HT$242)=TRUE,\"P\",\"A\")","v":"A"},{"$f":"IF(Attendance($C44,'Daily Register'!HU$3:HU$242)=TRUE,\"P\",\"A\")","v":"A"},{"$f":"IF(Attendance($C44,'Daily Register'!HV$3:HV$242)=TRUE,\"P\",\"A\")","v":"A"},{"$f":"IF(Attendance($C44,'Daily Register'!HW$3:HW$242)=TRUE,\"P\",\"A\")","v":"A"},{"$f":"IF(Attendance($C44,'Daily Register'!HX$3:HX$242)=TRUE,\"P\",\"A\")","v":"A"},{"$f":"IF(Attendance($C44,'Daily Register'!HY$3:HY$242)=TRUE,\"P\",\"A\")","v":"A"},{"$f":"IF(Attendance($C44,'Daily Register'!HZ$3:HZ$242)=TRUE,\"P\",\"A\")","v":"A"},{"$f":"IF(Attendance($C44,'Daily Register'!IA$3:IA$242)=TRUE,\"P\",\"A\")","v":"A"},{"$f":"IF(Attendance($C44,'Daily Register'!IB$3:IB$242)=TRUE,\"P\",\"A\")","v":"A"},{"$f":"IF(Attendance($C44,'Daily Register'!IC$3:IC$242)=TRUE,\"P\",\"A\")","v":"A"},{"$f":"IF(Attendance($C44,'Daily Register'!ID$3:ID$242)=TRUE,\"P\",\"A\")","v":"A"},{"$f":"IF(Attendance($C44,'Daily Register'!IE$3:IE$242)=TRUE,\"P\",\"A\")","v":"A"},{"$f":"IF(Attendance($C44,'Daily Register'!IF$3:IF$242)=TRUE,\"P\",\"A\")","v":"A"},{"$f":"IF(Attendance($C44,'Daily Register'!IG$3:IG$242)=TRUE,\"P\",\"A\")","v":"A"},{"$f":"IF(Attendance($C44,'Daily Register'!IH$3:IH$242)=TRUE,\"P\",\"A\")","v":"A"},{"$f":"IF(Attendance($C44,'Daily Register'!II$3:II$242)=TRUE,\"P\",\"A\")","v":"A"},{"$f":"IF(Attendance($C44,'Daily Register'!IJ$3:IJ$242)=TRUE,\"P\",\"A\")","v":"A"},{"$f":"IF(Attendance($C44,'Daily Register'!IK$3:IK$242)=TRUE,\"P\",\"A\")","v":"A"},{"$f":"IF(Attendance($C44,'Daily Register'!IL$3:IL$242)=TRUE,\"P\",\"A\")","v":"A"},{"$f":"IF(Attendance($C44,'Daily Register'!IM$3:IM$242)=TRUE,\"P\",\"A\")","v":"A"},{"$f":"IF(Attendance($C44,'Daily Register'!IN$3:IN$242)=TRUE,\"P\",\"A\")","v":"A"},{"$f":"IF(Attendance($C44,'Daily Register'!IO$3:IO$242)=TRUE,\"P\",\"A\")","v":"A"},{"$f":"IF(Attendance($C44,'Daily Register'!IP$3:IP$242)=TRUE,\"P\",\"A\")","v":"A"},{"$f":"IF(Attendance($C44,'Daily Register'!IQ$3:IQ$242)=TRUE,\"P\",\"A\")","v":"A"},{"$f":"IF(Attendance($C44,'Daily Register'!IR$3:IR$242)=TRUE,\"P\",\"A\")","v":"A"},{"$f":"IF(Attendance($C44,'Daily Register'!IS$3:IS$242)=TRUE,\"P\",\"A\")","v":"A"},{"$f":"IF(Attendance($C44,'Daily Register'!IT$3:IT$242)=TRUE,\"P\",\"A\")","v":"A"},{"$f":"IF(Attendance($C44,'Daily Register'!IU$3:IU$242)=TRUE,\"P\",\"A\")","v":"A"},{"$f":"IF(Attendance($C44,'Daily Register'!IV$3:IV$242)=TRUE,\"P\",\"A\")","v":"A"},{"$f":"IF(Attendance($C44,'Daily Register'!IW$3:IW$242)=TRUE,\"P\",\"A\")","v":"A"},{"$f":"IF(Attendance($C44,'Daily Register'!IX$3:IX$242)=TRUE,\"P\",\"A\")","v":"A"},{"$f":"IF(Attendance($C44,'Daily Register'!IY$3:IY$242)=TRUE,\"P\",\"A\")","v":"A"},{"$f":"IF(Attendance($C44,'Daily Register'!IZ$3:IZ$242)=TRUE,\"P\",\"A\")","v":"A"},{"$f":"IF(Attendance($C44,'Daily Register'!JA$3:JA$242)=TRUE,\"P\",\"A\")","v":"A"},{"$f":"IF(Attendance($C44,'Daily Register'!JB$3:JB$242)=TRUE,\"P\",\"A\")","v":"A"},{"$f":"IF(Attendance($C44,'Daily Register'!JC$3:JC$242)=TRUE,\"P\",\"A\")","v":"A"},{"$f":"IF(Attendance($C44,'Daily Register'!JD$3:JD$242)=TRUE,\"P\",\"A\")","v":"A"},{"$f":"IF(Attendance($C44,'Daily Register'!JE$3:JE$242)=TRUE,\"P\",\"A\")","v":"A"},{"$f":"IF(Attendance($C44,'Daily Register'!JF$3:JF$242)=TRUE,\"P\",\"A\")","v":"A"},{"$f":"IF(Attendance($C44,'Daily Register'!JG$3:JG$242)=TRUE,\"P\",\"A\")","v":"A"},{"$f":"IF(Attendance($C44,'Daily Register'!JH$3:JH$242)=TRUE,\"P\",\"A\")","v":"A"},{"$f":"IF(Attendance($C44,'Daily Register'!JI$3:JI$242)=TRUE,\"P\",\"A\")","v":"A"},{"$f":"IF(Attendance($C44,'Daily Register'!JJ$3:JJ$242)=TRUE,\"P\",\"A\")","v":"A"},{"$f":"IF(Attendance($C44,'Daily Register'!JK$3:JK$242)=TRUE,\"P\",\"A\")","v":"A"},{"$f":"IF(Attendance($C44,'Daily Register'!JL$3:JL$242)=TRUE,\"P\",\"A\")","v":"A"},{"$f":"IF(Attendance($C44,'Daily Register'!JM$3:JM$242)=TRUE,\"P\",\"A\")","v":"A"},{"$f":"IF(Attendance($C44,'Daily Register'!JN$3:JN$242)=TRUE,\"P\",\"A\")","v":"A"},{"$f":"IF(Attendance($C44,'Daily Register'!JO$3:JO$242)=TRUE,\"P\",\"A\")","v":"A"},{"$f":"IF(Attendance($C44,'Daily Register'!JP$3:JP$242)=TRUE,\"P\",\"A\")","v":"A"},{"$f":"IF(Attendance($C44,'Daily Register'!JQ$3:JQ$242)=TRUE,\"P\",\"A\")","v":"A"},{"$f":"IF(Attendance($C44,'Daily Register'!JR$3:JR$242)=TRUE,\"P\",\"A\")","v":"A"},{"$f":"IF(Attendance($C44,'Daily Register'!JS$3:JS$242)=TRUE,\"P\",\"A\")","v":"A"},{"$f":"IF(Attendance($C44,'Daily Register'!JT$3:JT$242)=TRUE,\"P\",\"A\")","v":"A"},{"$f":"IF(Attendance($C44,'Daily Register'!JU$3:JU$242)=TRUE,\"P\",\"A\")","v":"A"},{"$f":"IF(Attendance($C44,'Daily Register'!JV$3:JV$242)=TRUE,\"P\",\"A\")","v":"A"},{"$f":"IF(Attendance($C44,'Daily Register'!JW$3:JW$242)=TRUE,\"P\",\"A\")","v":"A"},{"$f":"IF(Attendance($C44,'Daily Register'!JX$3:JX$242)=TRUE,\"P\",\"A\")","v":"A"},{"$f":"IF(Attendance($C44,'Daily Register'!JY$3:JY$242)=TRUE,\"P\",\"A\")","v":"A"},{"$f":"IF(Attendance($C44,'Daily Register'!JZ$3:JZ$242)=TRUE,\"P\",\"A\")","v":"A"},{"$f":"IF(Attendance($C44,'Daily Register'!KA$3:KA$242)=TRUE,\"P\",\"A\")","v":"A"},{"$f":"IF(Attendance($C44,'Daily Register'!KB$3:KB$242)=TRUE,\"P\",\"A\")","v":"A"},{"$f":"IF(Attendance($C44,'Daily Register'!KC$3:KC$242)=TRUE,\"P\",\"A\")","v":"A"},{"$f":"IF(Attendance($C44,'Daily Register'!KD$3:KD$242)=TRUE,\"P\",\"A\")","v":"A"},{"$f":"IF(Attendance($C44,'Daily Register'!KE$3:KE$242)=TRUE,\"P\",\"A\")","v":"A"},{"$f":"IF(Attendance($C44,'Daily Register'!KF$3:KF$242)=TRUE,\"P\",\"A\")","v":"A"},{"$f":"IF(Attendance($C44,'Daily Register'!KG$3:KG$242)=TRUE,\"P\",\"A\")","v":"A"},{"$f":"IF(Attendance($C44,'Daily Register'!KH$3:KH$242)=TRUE,\"P\",\"A\")","v":"A"},{"$f":"IF(Attendance($C44,'Daily Register'!KI$3:KI$242)=TRUE,\"P\",\"A\")","v":"A"},{"$f":"IF(Attendance($C44,'Daily Register'!KJ$3:KJ$242)=TRUE,\"P\",\"A\")","v":"A"},{"$f":"IF(Attendance($C44,'Daily Register'!KK$3:KK$242)=TRUE,\"P\",\"A\")","v":"A"},{"$f":"IF(Attendance($C44,'Daily Register'!KL$3:KL$242)=TRUE,\"P\",\"A\")","v":"A"},{"$f":"IF(Attendance($C44,'Daily Register'!KM$3:KM$242)=TRUE,\"P\",\"A\")","v":"A"},{"$f":"IF(Attendance($C44,'Daily Register'!KN$3:KN$242)=TRUE,\"P\",\"A\")","v":"A"},{"$f":"IF(Attendance($C44,'Daily Register'!KO$3:KO$242)=TRUE,\"P\",\"A\")","v":"A"},{"$f":"IF(Attendance($C44,'Daily Register'!KP$3:KP$242)=TRUE,\"P\",\"A\")","v":"A"},{"$f":"IF(Attendance($C44,'Daily Register'!KQ$3:KQ$242)=TRUE,\"P\",\"A\")","v":"A"},{"$f":"IF(Attendance($C44,'Daily Register'!KR$3:KR$242)=TRUE,\"P\",\"A\")","v":"A"},{"$f":"IF(Attendance($C44,'Daily Register'!KS$3:KS$242)=TRUE,\"P\",\"A\")","v":"A"},{"$f":"IF(Attendance($C44,'Daily Register'!KT$3:KT$242)=TRUE,\"P\",\"A\")","v":"A"},{"$f":"IF(Attendance($C44,'Daily Register'!KU$3:KU$242)=TRUE,\"P\",\"A\")","v":"A"},{"$f":"IF(Attendance($C44,'Daily Register'!KV$3:KV$242)=TRUE,\"P\",\"A\")","v":"A"},{"$f":"IF(Attendance($C44,'Daily Register'!KW$3:KW$242)=TRUE,\"P\",\"A\")","v":"A"},{"$f":"IF(Attendance($C44,'Daily Register'!KX$3:KX$242)=TRUE,\"P\",\"A\")","v":"A"},{"$f":"IF(Attendance($C44,'Daily Register'!KY$3:KY$242)=TRUE,\"P\",\"A\")","v":"A"},{"$f":"IF(Attendance($C44,'Daily Register'!KZ$3:KZ$242)=TRUE,\"P\",\"A\")","v":"A"},{"$f":"IF(Attendance($C44,'Daily Register'!LA$3:LA$242)=TRUE,\"P\",\"A\")","v":"A"},{"$f":"IF(Attendance($C44,'Daily Register'!LB$3:LB$242)=TRUE,\"P\",\"A\")","v":"A"},{"$f":"IF(Attendance($C44,'Daily Register'!LC$3:LC$242)=TRUE,\"P\",\"A\")","v":"A"},{"$f":"IF(Attendance($C44,'Daily Register'!LD$3:LD$242)=TRUE,\"P\",\"A\")","v":"A"},{"$f":"IF(Attendance($C44,'Daily Register'!LE$3:LE$242)=TRUE,\"P\",\"A\")","v":"A"},{"$f":"IF(Attendance($C44,'Daily Register'!LF$3:LF$242)=TRUE,\"P\",\"A\")","v":"A"},{"$f":"IF(Attendance($C44,'Daily Register'!LG$3:LG$242)=TRUE,\"P\",\"A\")","v":"A"},{"$f":"IF(Attendance($C44,'Daily Register'!LH$3:LH$242)=TRUE,\"P\",\"A\")","v":"A"},{"$f":"IF(Attendance($C44,'Daily Register'!LI$3:LI$242)=TRUE,\"P\",\"A\")","v":"A"},{"$f":"IF(Attendance($C44,'Daily Register'!LJ$3:LJ$242)=TRUE,\"P\",\"A\")","v":"A"},{"$f":"IF(Attendance($C44,'Daily Register'!LK$3:LK$242)=TRUE,\"P\",\"A\")","v":"A"},{"$f":"IF(Attendance($C44,'Daily Register'!LL$3:LL$242)=TRUE,\"P\",\"A\")","v":"A"},{"$f":"IF(Attendance($C44,'Daily Register'!LM$3:LM$242)=TRUE,\"P\",\"A\")","v":"A"},{"$f":"IF(Attendance($C44,'Daily Register'!LN$3:LN$242)=TRUE,\"P\",\"A\")","v":"A"},{"$f":"IF(Attendance($C44,'Daily Register'!LO$3:LO$242)=TRUE,\"P\",\"A\")","v":"A"},{"$f":"IF(Attendance($C44,'Daily Register'!LP$3:LP$242)=TRUE,\"P\",\"A\")","v":"A"},{"$f":"IF(Attendance($C44,'Daily Register'!LQ$3:LQ$242)=TRUE,\"P\",\"A\")","v":"A"},{"$f":"IF(Attendance($C44,'Daily Register'!LR$3:LR$242)=TRUE,\"P\",\"A\")","v":"A"},{"$f":"IF(Attendance($C44,'Daily Register'!LS$3:LS$242)=TRUE,\"P\",\"A\")","v":"A"},{"$f":"IF(Attendance($C44,'Daily Register'!LT$3:LT$242)=TRUE,\"P\",\"A\")","v":"A"},{"$f":"IF(Attendance($C44,'Daily Register'!LU$3:LU$242)=TRUE,\"P\",\"A\")","v":"A"},{"$f":"IF(Attendance($C44,'Daily Register'!LV$3:LV$242)=TRUE,\"P\",\"A\")","v":"A"},{"$f":"IF(Attendance($C44,'Daily Register'!LW$3:LW$242)=TRUE,\"P\",\"A\")","v":"A"},{"$f":"IF(Attendance($C44,'Daily Register'!LX$3:LX$242)=TRUE,\"P\",\"A\")","v":"A"},{"$f":"IF(Attendance($C44,'Daily Register'!LY$3:LY$242)=TRUE,\"P\",\"A\")","v":"A"},{"$f":"IF(Attendance($C44,'Daily Register'!LZ$3:LZ$242)=TRUE,\"P\",\"A\")","v":"A"},{"$f":"IF(Attendance($C44,'Daily Register'!MA$3:MA$242)=TRUE,\"P\",\"A\")","v":"A"},{"$f":"IF(Attendance($C44,'Daily Register'!MB$3:MB$242)=TRUE,\"P\",\"A\")","v":"A"},{"$f":"IF(Attendance($C44,'Daily Register'!MC$3:MC$242)=TRUE,\"P\",\"A\")","v":"A"},{"$f":"IF(Attendance($C44,'Daily Register'!MD$3:MD$242)=TRUE,\"P\",\"A\")","v":"A"},{"$f":"IF(Attendance($C44,'Daily Register'!ME$3:ME$242)=TRUE,\"P\",\"A\")","v":"A"},{"$f":"IF(Attendance($C44,'Daily Register'!MF$3:MF$242)=TRUE,\"P\",\"A\")","v":"A"},{"$f":"IF(Attendance($C44,'Daily Register'!MG$3:MG$242)=TRUE,\"P\",\"A\")","v":"A"},{"$f":"IF(Attendance($C44,'Daily Register'!MH$3:MH$242)=TRUE,\"P\",\"A\")","v":"A"},{"$f":"IF(Attendance($C44,'Daily Register'!MI$3:MI$242)=TRUE,\"P\",\"A\")","v":"A"},{"$f":"IF(Attendance($C44,'Daily Register'!MJ$3:MJ$242)=TRUE,\"P\",\"A\")","v":"A"},{"$f":"IF(Attendance($C44,'Daily Register'!MK$3:MK$242)=TRUE,\"P\",\"A\")","v":"A"},{"$f":"IF(Attendance($C44,'Daily Register'!ML$3:ML$242)=TRUE,\"P\",\"A\")","v":"A"},{"$f":"IF(Attendance($C44,'Daily Register'!MM$3:MM$242)=TRUE,\"P\",\"A\")","v":"A"},{"$f":"IF(Attendance($C44,'Daily Register'!MN$3:MN$242)=TRUE,\"P\",\"A\")","v":"A"},{"$f":"IF(Attendance($C44,'Daily Register'!MO$3:MO$242)=TRUE,\"P\",\"A\")","v":"A"},{"$f":"IF(Attendance($C44,'Daily Register'!MP$3:MP$242)=TRUE,\"P\",\"A\")","v":"A"},{"$f":"IF(Attendance($C44,'Daily Register'!MQ$3:MQ$242)=TRUE,\"P\",\"A\")","v":"A"},{"$f":"IF(Attendance($C44,'Daily Register'!MR$3:MR$242)=TRUE,\"P\",\"A\")","v":"A"},{"$f":"IF(Attendance($C44,'Daily Register'!MS$3:MS$242)=TRUE,\"P\",\"A\")","v":"A"},{"$f":"IF(Attendance($C44,'Daily Register'!MT$3:MT$242)=TRUE,\"P\",\"A\")","v":"A"},{"$f":"IF(Attendance($C44,'Daily Register'!MU$3:MU$242)=TRUE,\"P\",\"A\")","v":"A"},{"$f":"IF(Attendance($C44,'Daily Register'!MV$3:MV$242)=TRUE,\"P\",\"A\")","v":"A"},{"$f":"IF(Attendance($C44,'Daily Register'!MW$3:MW$242)=TRUE,\"P\",\"A\")","v":"A"},{"$f":"IF(Attendance($C44,'Daily Register'!MX$3:MX$242)=TRUE,\"P\",\"A\")","v":"A"},{"$f":"IF(Attendance($C44,'Daily Register'!MY$3:MY$242)=TRUE,\"P\",\"A\")","v":"A"},{"$f":"IF(Attendance($C44,'Daily Register'!MZ$3:MZ$242)=TRUE,\"P\",\"A\")","v":"A"},{"$f":"IF(Attendance($C44,'Daily Register'!NA$3:NA$242)=TRUE,\"P\",\"A\")","v":"A"},{"$f":"IF(Attendance($C44,'Daily Register'!NB$3:NB$242)=TRUE,\"P\",\"A\")","v":"A"}]
[0,null,42,null,{"$f":"IF(Attendance($C45,'Daily Register'!A$3:A$242)=TRUE,\"P\",\"A\")","v":"A"},{"$f":"IF(Attendance($C45,'Daily Register'!B$3:B$242)=TRUE,\"P\",\"A\")","v":"A"},{"$f":"IF(Attendance($C45,'Daily Register'!C$3:C$242)=TRUE,\"P\",\"A\")","v":"A"},{"$f":"IF(Attendance($C45,'Daily Register'!D$3:D$242)=TRUE,\"P\",\"A\")","v":"A"},{"$f":"IF(Attendance($C45,'Daily Register'!E$3:E$242)=TRUE,\"P\",\"A\")","v":"A"},{"$f":"IF(Attendance($C45,'Daily Register'!F$3:F$242)=TRUE,\"P\",\"A\")","v":"A"},{"$f":"IF(Attendance($C45,'Daily Register'!G$3:G$242)=TRUE,\"P\",\"A\")","v":"A"},{"$f":"IF(Attendance($C45,'Daily Register'!H$3:H$242)=TRUE,\"P\",\"A\")","v":"A"},{"$f":"IF(Attendance($C45,'Daily Register'!I$3:I$242)=TRUE,\"P\",\"A\")","v":"A"},{"$f":"IF(Attendance($C45,'Daily Register'!J$3:J$242)=TRUE,\"P\",\"A\")","v":"A"},{"$f":"IF(Attendance($C45,'Daily Register'!K$3:K$242)=TRUE,\"P\",\"A\")","v":"A"},{"$f":"IF(Attendance($C45,'Daily Register'!L$3:L$242)=TRUE,\"P\",\"A\")","v":"A"},{"$f":"IF(Attendance($C45,'Daily Register'!M$3:M$242)=TRUE,\"P\",\"A\")","v":"A"},{"$f":"IF(Attendance($C45,'Daily Register'!N$3:N$242)=TRUE,\"P\",\"A\")","v":"A"},{"$f":"IF(Attendance($C45,'Daily Register'!O$3:O$242)=TRUE,\"P\",\"A\")","v":"A"},{"$f":"IF(Attendance($C45,'Daily Register'!P$3:P$242)=TRUE,\"P\",\"A\")","v":"A"},{"$f":"IF(Attendance($C45,'Daily Register'!Q$3:Q$242)=TRUE,\"P\",\"A\")","v":"A"},{"$f":"IF(Attendance($C45,'Daily Register'!R$3:R$242)=TRUE,\"P\",\"A\")","v":"A"},{"$f":"IF(Attendance($C45,'Daily Register'!S$3:S$242)=TRUE,\"P\",\"A\")","v":"A"},{"$f":"IF(Attendance($C45,'Daily Register'!T$3:T$242)=TRUE,\"P\",\"A\")","v":"A"},{"$f":"IF(Attendance($C45,'Daily Register'!U$3:U$242)=TRUE,\"P\",\"A\")","v":"A"},{"$f":"IF(Attendance($C45,'Daily Register'!V$3:V$242)=TRUE,\"P\",\"A\")","v":"A"},{"$f":"IF(Attendance($C45,'Daily Register'!W$3:W$242)=TRUE,\"P\",\"A\")","v":"A"},{"$f":"IF(Attendance($C45,'Daily Register'!X$3:X$242)=TRUE,\"P\",\"A\")","v":"A"},{"$f":"IF(Attendance($C45,'Daily Register'!Y$3:Y$242)=TRUE,\"P\",\"A\")","v":"A"},{"$f":"IF(Attendance($C45,'Daily Register'!Z$3:Z$242)=TRUE,\"P\",\"A\")","v":"A"},{"$f":"IF(Attendance($C45,'Daily Register'!AA$3:AA$242)=TRUE,\"P\",\"A\")","v":"A"},{"$f":"IF(Attendance($C45,'Daily Register'!AB$3:AB$242)=TRUE,\"P\",\"A\")","v":"A"},{"$f":"IF(Attendance($C45,'Daily Register'!AC$3:AC$242)=TRUE,\"P\",\"A\")","v":"A"},{"$f":"IF(Attendance($C45,'Daily Register'!AD$3:AD$242)=TRUE,\"P\",\"A\")","v":"A"},{"$f":"IF(Attendance($C45,'Daily Register'!AE$3:AE$242)=TRUE,\"P\",\"A\")","v":"A"},{"$f":"IF(Attendance($C45,'Daily Register'!AF$3:AF$242)=TRUE,\"P\",\"A\")","v":"A"},{"$f":"IF(Attendance($C45,'Daily Register'!AG$3:AG$242)=TRUE,\"P\",\"A\")","v":"A"},{"$f":"IF(Attendance($C45,'Daily Register'!AH$3:AH$242)=TRUE,\"P\",\"A\")","v":"A"},{"$f":"IF(Attendance($C45,'Daily Register'!AI$3:AI$242)=TRUE,\"P\",\"A\")","v":"A"},{"$f":"IF(Attendance($C45,'Daily Register'!AJ$3:AJ$242)=TRUE,\"P\",\"A\")","v":"A"},{"$f":"IF(Attendance($C45,'Daily Register'!AK$3:AK$242)=TRUE,\"P\",\"A\")","v":"A"},{"$f":"IF(Attendance($C45,'Daily Register'!AL$3:AL$242)=TRUE,\"P\",\"A\")","v":"A"},{"$f":"IF(Attendance($C45,'Daily Register'!AM$3:AM$242)=TRUE,\"P\",\"A\")","v":"A"},{"$f":"IF(Attendance($C45,'Daily Register'!AN$3:AN$242)=TRUE,\"P\",\"A\")","v":"A"},{"$f":"IF(Attendance($C45,'Daily Register'!AO$3:AO$242)=TRUE,\"P\",\"A\")","v":"A"},{"$f":"IF(Attendance($C45,'Daily Register'!AP$3:AP$242)=TRUE,\"P\",\"A\")","v":"A"},{"$f":"IF(Attendance($C45,'Daily Register'!AQ$3:AQ$242)=TRUE,\"P\",\"A\")","v":"A"},{"$f":"IF(Attendance($C45,'Daily Register'!AR$3:AR$242)=TRUE,\"P\",\"A\")","v":"A"},{"$f":"IF(Attendance($C45,'Daily Register'!AS$3:AS$242)=TRUE,\"P\",\"A\")","v":"A"},{"$f":"IF(Attendance($C45,'Daily Register'!AT$3:AT$242)=TRUE,\"P\",\"A\")","v":"A"},{"$f":"IF(Attendance($C45,'Daily Register'!AU$3:AU$242)=TRUE,\"P\",\"A\")","v":"A"},{"$f":"IF(Attendance($C45,'Daily Register'!AV$3:AV$242)=TRUE,\"P\",\"A\")","v":"A"},{"$f":"IF(Attendance($C45,'Daily Register'!AW$3:AW$242)=TRUE,\"P\",\"A\")","v":"A"},{"$f":"IF(Attendance($C45,'Daily Register'!AX$3:AX$242)=TRUE,\"P\",\"A\")","v":"A"},{"$f":"IF(Attendance($C45,'Daily Register'!AY$3:AY$242)=TRUE,\"P\",\"A\")","v":"A"},{"$f":"IF(Attendance($C45,'Daily Register'!AZ$3:AZ$242)=TRUE,\"P\",\"A\")","v":"A"},{"$f":"IF(Attendance($C45,'Daily Register'!BA$3:BA$242)=TRUE,\"P\",\"A\")","v":"A"},{"$f":"IF(Attendance($C45,'Daily Register'!BB$3:BB$242)=TRUE,\"P\",\"A\")","v":"A"},{"$f":"IF(Attendance($C45,'Daily Register'!BC$3:BC$242)=TRUE,\"P\",\"A\")","v":"A"},{"$f":"IF(Attendance($C45,'Daily Register'!BD$3:BD$242)=TRUE,\"P\",\"A\")","v":"A"},{"$f":"IF(Attendance($C45,'Daily Register'!BE$3:BE$242)=TRUE,\"P\",\"A\")","v":"A"},{"$f":"IF(Attendance($C45,'Daily Register'!BF$3:BF$242)=TRUE,\"P\",\"A\")","v":"A"},{"$f":"IF(Attendance($C45,'Daily Register'!BG$3:BG$242)=TRUE,\"P\",\"A\")","v":"A"},{"$f":"IF(Attendance($C45,'Daily Register'!BH$3:BH$242)=TRUE,\"P\",\"A\")","v":"A"},{"$f":"IF(Attendance($C45,'Daily Register'!BI$3:BI$242)=TRUE,\"P\",\"A\")","v":"A"},{"$f":"IF(Attendance($C45,'Daily Register'!BJ$3:BJ$242)=TRUE,\"P\",\"A\")","v":"A"},{"$f":"IF(Attendance($C45,'Daily Register'!BK$3:BK$242)=TRUE,\"P\",\"A\")","v":"A"},{"$f":"IF(Attendance($C45,'Daily Register'!BL$3:BL$242)=TRUE,\"P\",\"A\")","v":"A"},{"$f":"IF(Attendance($C45,'Daily Register'!BM$3:BM$242)=TRUE,\"P\",\"A\")","v":"A"},{"$f":"IF(Attendance($C45,'Daily Register'!BN$3:BN$242)=TRUE,\"P\",\"A\")","v":"A"},{"$f":"IF(Attendance($C45,'Daily Register'!BO$3:BO$242)=TRUE,\"P\",\"A\")","v":"A"},{"$f":"IF(Attendance($C45,'Daily Register'!BP$3:BP$242)=TRUE,\"P\",\"A\")","v":"A"},{"$f":"IF(Attendance($C45,'Daily Register'!BQ$3:BQ$242)=TRUE,\"P\",\"A\")","v":"A"},{"$f":"IF(Attendance($C45,'Daily Register'!BR$3:BR$242)=TRUE,\"P\",\"A\")","v":"A"},{"$f":"IF(Attendance($C45,'Daily Register'!BS$3:BS$242)=TRUE,\"P\",\"A\")","v":"A"},{"$f":"IF(Attendance($C45,'Daily Register'!BT$3:BT$242)=TRUE,\"P\",\"A\")","v":"A"},{"$f":"IF(Attendance($C45,'Daily Register'!BU$3:BU$242)=TRUE,\"P\",\"A\")","v":"A"},{"$f":"IF(Attendance($C45,'Daily Register'!BV$3:BV$242)=TRUE,\"P\",\"A\")","v":"A"},{"$f":"IF(Attendance($C45,'Daily Register'!BW$3:BW$242)=TRUE,\"P\",\"A\")","v":"A"},{"$f":"IF(Attendance($C45,'Daily Register'!BX$3:BX$242)=TRUE,\"P\",\"A\")","v":"A"},{"$f":"IF(Attendance($C45,'Daily Register'!BY$3:BY$242)=TRUE,\"P\",\"A\")","v":"A"},{"$f":"IF(Attendance($C45,'Daily Register'!BZ$3:BZ$242)=TRUE,\"P\",\"A\")","v":"A"},{"$f":"IF(Attendance($C45,'Daily Register'!CA$3:CA$242)=TRUE,\"P\",\"A\")","v":"A"},{"$f":"IF(Attendance($C45,'Daily Register'!CB$3:CB$242)=TRUE,\"P\",\"A\")","v":"A"},{"$f":"IF(Attendance($C45,'Daily Register'!CC$3:CC$242)=TRUE,\"P\",\"A\")","v":"A"},{"$f":"IF(Attendance($C45,'Daily Register'!CD$3:CD$242)=TRUE,\"P\",\"A\")","v":"A"},{"$f":"IF(Attendance($C45,'Daily Register'!CE$3:CE$242)=TRUE,\"P\",\"A\")","v":"A"},{"$f":"IF(Attendance($C45,'Daily Register'!CF$3:CF$242)=TRUE,\"P\",\"A\")","v":"A"},{"$f":"IF(Attendance($C45,'Daily Register'!CG$3:CG$242)=TRUE,\"P\",\"A\")","v":"A"},{"$f":"IF(Attendance($C45,'Daily Register'!CH$3:CH$242)=TRUE,\"P\",\"A\")","v":"A"},{"$f":"IF(Attendance($C45,'Daily Register'!CI$3:CI$242)=TRUE,\"P\",\"A\")","v":"A"},{"$f":"IF(Attendance($C45,'Daily Register'!CJ$3:CJ$242)=TRUE,\"P\",\"A\")","v":"A"},{"$f":"IF(Attendance($C45,'Daily Register'!CK$3:CK$242)=TRUE,\"P\",\"A\")","v":"A"},{"$f":"IF(Attendance($C45,'Daily Register'!CL$3:CL$242)=TRUE,\"P\",\"A\")","v":"A"},{"$f":"IF(Attendance($C45,'Daily Register'!CM$3:CM$242)=TRUE,\"P\",\"A\")","v":"A"},{"$f":"IF(Attendance($C45,'Daily Register'!CN$3:CN$242)=TRUE,\"P\",\"A\")","v":"A"},{"$f":"IF(Attendance($C45,'Daily Register'!CO$3:CO$242)=TRUE,\"P\",\"A\")","v":"A"},{"$f":"IF(Attendance($C45,'Daily Register'!CP$3:CP$242)=TRUE,\"P\",\"A\")","v":"A"},{"$f":"IF(Attendance($C45,'Daily Register'!CQ$3:CQ$242)=TRUE,\"P\",\"A\")","v":"A"},{"$f":"IF(Attendance($C45,'Daily Register'!CR$3:CR$242)=TRUE,\"P\",\"A\")","v":"A"},{"$f":"IF(Attendance($C45,'Daily Register'!CS$3:CS$242)=TRUE,\"P\",\"A\")","v":"A"},{"$f":"IF(Attendance($C45,'Daily Register'!CT$3:CT$242)=TRUE,\"P\",\"A\")","v":"A"},{"$f":"IF(Attendance($C45,'Daily Register'!CU$3:CU$242)=TRUE,\"P\",\"A\")","v":"A"},{"$f":"IF(Attendance($C45,'Daily Register'!CV$3:CV$242)=TRUE,\"P\",\"A\")","v":"A"},{"$f":"IF(Attendance($C45,'Daily Register'!CW$3:CW$242)=TRUE,\"P\",\"A\")","v":"A"},{"$f":"IF(Attendance($C45,'Daily Register'!CX$3:CX$242)=TRUE,\"P\",\"A\")","v":"A"},{"$f":"IF(Attendance($C45,'Daily Register'!CY$3:CY$242)=TRUE,\"P\",\"A\")","v":"A"},{"$f":"IF(Attendance($C45,'Daily Register'!CZ$3:CZ$242)=TRUE,\"P\",\"A\")","v":"A"},{"$f":"IF(Attendance($C45,'Daily Register'!DA$3:DA$242)=TRUE,\"P\",\"A\")","v":"A"},{"$f":"IF(Attendance($C45,'Daily Register'!DB$3:DB$242)=TRUE,\"P\",\"A\")","v":"A"},{"$f":"IF(Attendance($C45,'Daily Register'!DC$3:DC$242)=TRUE,\"P\",\"A\")","v":"A"},{"$f":"IF(Attendance($C45,'Daily Register'!DD$3:DD$242)=TRUE,\"P\",\"A\")","v":"A"},{"$f":"IF(Attendance($C45,'Daily Register'!DE$3:DE$242)=TRUE,\"P\",\"A\")","v":"A"},{"$f":"IF(Attendance($C45,'Daily Register'!DF$3:DF$242)=TRUE,\"P\",\"A\")","v":"A"},{"$f":"IF(Attendance($C45,'Daily Register'!DG$3:DG$242)=TRUE,\"P\",\"A\")","v":"A"},{"$f":"IF(Attendance($C45,'Daily Register'!DH$3:DH$242)=TRUE,\"P\",\"A\")","v":"A"},{"$f":"IF(Attendance($C45,'Daily Register'!DI$3:DI$242)=TRUE,\"P\",\"A\")","v":"A"},{"$f":"IF(Attendance($C45,'Daily Register'!DJ$3:DJ$242)=TRUE,\"P\",\"A\")","v":"A"},{"$f":"IF(Attendance($C45,'Daily Register'!DK$3:DK$242)=TRUE,\"P\",\"A\")","v":"A"},{"$f":"IF(Attendance($C45,'Daily Register'!DL$3:DL$242)=TRUE,\"P\",\"A\")","v":"A"},{"$f":"IF(Attendance($C45,'Daily Register'!DM$3:DM$242)=TRUE,\"P\",\"A\")","v":"A"},{"$f":"IF(Attendance($C45,'Daily Register'!DN$3:DN$242)=TRUE,\"P\",\"A\")","v":"A"},{"$f":"IF(Attendance($C45,'Daily Register'!DO$3:DO$242)=TRUE,\"P\",\"A\")","v":"A"},{"$f":"IF(Attendance($C45,'Daily Register'!DP$3:DP$242)=TRUE,\"P\",\"A\")","v":"A"},{"$f":"IF(Attendance($C45,'Daily Register'!DQ$3:DQ$242)=TRUE,\"P\",\"A\")","v":"A"},{"$f":"IF(Attendance($C45,'Daily Register'!DR$3:DR$242)=TRUE,\"P\",\"A\")","v":"A"},{"$f":"IF(Attendance($C45,'Daily Register'!DS$3:DS$242)=TRUE,\"P\",\"A\")","v":"A"},{"$f":"IF(Attendance($C45,'Daily Register'!DT$3:DT$242)=TRUE,\"P\",\"A\")","v":"A"},{"$f":"IF(Attendance($C45,'Daily Register'!DU$3:DU$242)=TRUE,\"P\",\"A\")","v":"A"},{"$f":"IF(Attendance($C45,'Daily Register'!DV$3:DV$242)=TRUE,\"P\",\"A\")","v":"A"},{"$f":"IF(Attendance($C45,'Daily Register'!DW$3:DW$242)=TRUE,\"P\",\"A\")","v":"A"},{"$f":"IF(Attendance($C45,'Daily Register'!DX$3:DX$242)=TRUE,\"P\",\"A\")","v":"A"},{"$f":"IF(Attendance($C45,'Daily Register'!DY$3:DY$242)=TRUE,\"P\",\"A\")","v":"A"},{"$f":"IF(Attendance($C45,'Daily Register'!DZ$3:DZ$242)=TRUE,\"P\",\"A\")","v":"A"},{"$f":"IF(Attendance($C45,'Daily Register'!EA$3:EA$242)=TRUE,\"P\",\"A\")","v":"A"},{"$f":"IF(Attendance($C45,'Daily Register'!EB$3:EB$242)=TRUE,\"P\",\"A\")","v":"A"},{"$f":"IF(Attendance($C45,'Daily Register'!EC$3:EC$242)=TRUE,\"P\",\"A\")","v":"A"},{"$f":"IF(Attendance($C45,'Daily Register'!ED$3:ED$242)=TRUE,\"P\",\"A\")","v":"A"},{"$f":"IF(Attendance($C45,'Daily Register'!EE$3:EE$242)=TRUE,\"P\",\"A\")","v":"A"},{"$f":"IF(Attendance($C45,'Daily Register'!EF$3:EF$242)=TRUE,\"P\",\"A\")","v":"A"},{"$f":"IF(Attendance($C45,'Daily Register'!EG$3:EG$242)=TRUE,\"P\",\"A\")","v":"A"},{"$f":"IF(Attendance($C45,'Daily Register'!EH$3:EH$242)=TRUE,\"P\",\"A\")","v":"A"},{"$f":"IF(Attendance($C45,'Daily Register'!EI$3:EI$242)=TRUE,\"P\",\"A\")","v":"A"},{"$f":"IF(Attendance($C45,'Daily Register'!EJ$3:EJ$242)=TRUE,\"P\",\"A\")","v":"A"},{"$f":"IF(Attendance($C45,'Daily Register'!EK$3:EK$242)=TRUE,\"P\",\"A\")","v":"A"},{"$f":"IF(Attendance($C45,'Daily Register'!EL$3:EL$242)=TRUE,\"P\",\"A\")","v":"A"},{"$f":"IF(Attendance($C45,'Daily Register'!EM$22:EM$242)=TRUE,\"P\",\"A\")","v":"A"},{"$f":"IF(Attendance($C45,'Daily Register'!EN$3:EN$242)=TRUE,\"P\",\"A\")","v":"A"},{"$f":"IF(Attendance($C45,'Daily Register'!EO$3:EO$242)=TRUE,\"P\",\"A\")","v":"A"},{"$f":"IF(Attendance($C45,'Daily Register'!EP$3:EP$242)=TRUE,\"P\",\"A\")","v":"A"},{"$f":"IF(Attendance($C45,'Daily Register'!EQ$3:EQ$242)=TRUE,\"P\",\"A\")","v":"A"},{"$f":"IF(Attendance($C45,'Daily Register'!ER$3:ER$242)=TRUE,\"P\",\"A\")","v":"A"},{"$f":"IF(Attendance($C45,'Daily Register'!ES$3:ES$242)=TRUE,\"P\",\"A\")","v":"A"},{"$f":"IF(Attendance($C45,'Daily Register'!ET$3:ET$242)=TRUE,\"P\",\"A\")","v":"A"},{"$f":"IF(Attendance($C45,'Daily Register'!EU$3:EU$242)=TRUE,\"P\",\"A\")","v":"A"},{"$f":"IF(Attendance($C45,'Daily Register'!EV$3:EV$242)=TRUE,\"P\",\"A\")","v":"A"},{"$f":"IF(Attendance($C45,'Daily Register'!EW$3:EW$242)=TRUE,\"P\",\"A\")","v":"A"},{"$f":"IF(Attendance($C45,'Daily Register'!EX$3:EX$242)=TRUE,\"P\",\"A\")","v":"A"},{"$f":"IF(Attendance($C45,'Daily Register'!EY$3:EY$242)=TRUE,\"P\",\"A\")","v":"A"},{"$f":"IF(Attendance($C45,'Daily Register'!EZ$3:EZ$242)=TRUE,\"P\",\"A\")","v":"A"},{"$f":"IF(Attendance($C45,'Daily Register'!FA$3:FA$242)=TRUE,\"P\",\"A\")","v":"A"},{"$f":"IF(Attendance($C45,'Daily Register'!FB$3:FB$242)=TRUE,\"P\",\"A\")","v":"A"},{"$f":"IF(Attendance($C45,'Daily Register'!FC$3:FC$242)=TRUE,\"P\",\"A\")","v":"A"},{"$f":"IF(Attendance($C45,'Daily Register'!FD$3:FD$242)=TRUE,\"P\",\"A\")","v":"A"},{"$f":"IF(Attendance($C45,'Daily Register'!FE$3:FE$242)=TRUE,\"P\",\"A\")","v":"A"},{"$f":"IF(Attendance($C45,'Daily Register'!FF$3:FF$242)=TRUE,\"P\",\"A\")","v":"A"},{"$f":"IF(Attendance($C45,'Daily Register'!FG$3:FG$242)=TRUE,\"P\",\"A\")","v":"A"},{"$f":"IF(Attendance($C45,'Daily Register'!FH$3:FH$242)=TRUE,\"P\",\"A\")","v":"A"},{"$f":"IF(Attendance($C45,'Daily Register'!FI$3:FI$242)=TRUE,\"P\",\"A\")","v":"A"},{"$f":"IF(Attendance($C45,'Daily Register'!FJ$3:FJ$242)=TRUE,\"P\",\"A\")","v":"A"},{"$f":"IF(Attendance($C45,'Daily Register'!FK$3:FK$242)=TRUE,\"P\",\"A\")","v":"A"},{"$f":"IF(Attendance($C45,'Daily Register'!FL$3:FL$242)=TRUE,\"P\",\"A\")","v":"A"},{"$f":"IF(Attendance($C45,'Daily Register'!FM$3:FM$242)=TRUE,\"P\",\"A\")","v":"A"},{"$f":"IF(Attendance($C45,'Daily Register'!FN$3:FN$242)=TRUE,\"P\",\"A\")","v":"A"},{"$f":"IF(Attendance($C45,'Daily Register'!FO$3:FO$242)=TRUE,\"P\",\"A\")","v":"A"},{"$f":"IF(Attendance($C45,'Daily Register'!FP$3:FP$242)=TRUE,\"P\",\"A\")","v":"A"},{"$f":"IF(Attendance($C45,'Daily Register'!FQ$3:FQ$242)=TRUE,\"P\",\"A\")","v":"A"},{"$f":"IF(Attendance($C45,'Daily Register'!FR$3:FR$242)=TRUE,\"P\",\"A\")","v":"A"},{"$f":"IF(Attendance($C45,'Daily Register'!FS$3:FS$242)=TRUE,\"P\",\"A\")","v":"A"},{"$f":"IF(Attendance($C45,'Daily Register'!FT$3:FT$242)=TRUE,\"P\",\"A\")","v":"A"},{"$f":"IF(Attendance($C45,'Daily Register'!FU$3:FU$242)=TRUE,\"P\",\"A\")","v":"A"},{"$f":"IF(Attendance($C45,'Daily Register'!FV$3:FV$242)=TRUE,\"P\",\"A\")","v":"A"},{"$f":"IF(Attendance($C45,'Daily Register'!FW$3:FW$242)=TRUE,\"P\",\"A\")","v":"A"},{"$f":"IF(Attendance($C45,'Daily Register'!FX$3:FX$242)=TRUE,\"P\",\"A\")","v":"A"},{"$f":"IF(Attendance($C45,'Daily Register'!FY$3:FY$242)=TRUE,\"P\",\"A\")","v":"A"},{"$f":"IF(Attendance($C45,'Daily Register'!FZ$3:FZ$242)=TRUE,\"P\",\"A\")","v":"A"},{"$f":"IF(Attendance($C45,'Daily Register'!GA$3:GA$242)=TRUE,\"P\",\"A\")","v":"A"},{"$f":"IF(Attendance($C45,'Daily Register'!GB$3:GB$242)=TRUE,\"P\",\"A\")","v":"A"},{"$f":"IF(Attendance($C45,'Daily Register'!GC$3:GC$242)=TRUE,\"P\",\"A\")","v":"A"},{"$f":"IF(Attendance($C45,'Daily Register'!GD$3:GD$242)=TRUE,\"P\",\"A\")","v":"A"},{"$f":"IF(Attendance($C45,'Daily Register'!GE$3:GE$242)=TRUE,\"P\",\"A\")","v":"A"},{"$f":"IF(Attendance($C45,'Daily Register'!GF$3:GF$242)=TRUE,\"P\",\"A\")","v":"A"},{"$f":"IF(Attendance($C45,'Daily Register'!GG$3:GG$242)=TRUE,\"P\",\"A\")","v":"A"},{"$f":"IF(Attendance($C45,'Daily Register'!GH$3:GH$242)=TRUE,\"P\",\"A\")","v":"A"},{"$f":"IF(Attendance($C45,'Daily Register'!GI$3:GI$242)=TRUE,\"P\",\"A\")","v":"A"},{"$f":"IF(Attendance($C45,'Daily Register'!GJ$3:GJ$242)=TRUE,\"P\",\"A\")","v":"A"},{"$f":"IF(Attendance($C45,'Daily Register'!GK$3:GK$242)=TRUE,\"P\",\"A\")","v":"A"},{"$f":"IF(Attendance($C45,'Daily Register'!GL$3:GL$242)=TRUE,\"P\",\"A\")","v":"A"},{"$f":"IF(Attendance($C45,'Daily Register'!GM$3:GM$242)=TRUE,\"P\",\"A\")","v":"A"},{"$f":"IF(Attendance($C45,'Daily Register'!GN$3:GN$242)=TRUE,\"P\",\"A\")","v":"A"},{"$f":"IF(Attendance($C45,'Daily Register'!GO$3:GO$242)=TRUE,\"P\",\"A\")","v":"A"},{"$f":"IF(Attendance($C45,'Daily Register'!GP$3:GP$242)=TRUE,\"P\",\"A\")","v":"A"},{"$f":"IF(Attendance($C45,'Daily Register'!GQ$3:GQ$242)=TRUE,\"P\",\"A\")","v":"A"},{"$f":"IF(Attendance($C45,'Daily Register'!GR$3:GR$242)=TRUE,\"P\",\"A\")","v":"A"},{"$f":"IF(Attendance($C45,'Daily Register'!GS$3:GS$242)=TRUE,\"P\",\"A\")","v":"A"},{"$f":"IF(Attendance($C45,'Daily Register'!GT$3:GT$242)=TRUE,\"P\",\"A\")","v":"A"},{"$f":"IF(Attendance($C45,'Daily Register'!GU$3:GU$242)=TRUE,\"P\",\"A\")","v":"A"},{"$f":"IF(Attendance($C45,'Daily Register'!GV$3:GV$242)=TRUE,\"P\",\"A\")","v":"A"},{"$f":"IF(Attendance($C45,'Daily Register'!GW$3:GW$242)=TRUE,\"P\",\"A\")","v":"A"},{"$f":"IF(Attendance($C45,'Daily Register'!GX$3:GX$242)=TRUE,\"P\",\"A\")","v":"A"},{"$f":"IF(Attendance($C45,'Daily Register'!GY$3:GY$242)=TRUE,\"P\",\"A\")","v":"A"},{"$f":"IF(Attendance($C45,'Daily Register'!GZ$3:GZ$242)=TRUE,\"P\",\"A\")","v":"A"},{"$f":"IF(Attendance($C45,'Daily Register'!HA$3:HA$242)=TRUE,\"P\",\"A\")","v":"A"},{"$f":"IF(Attendance($C45,'Daily Register'!HB$3:HB$242)=TRUE,\"P\",\"A\")","v":"A"},{"$f":"IF(Attendance($C45,'Daily Register'!HC$3:HC$242)=TRUE,\"P\",\"A\")","v":"A"},{"$f":"IF(Attendance($C45,'Daily Register'!HD$3:HD$242)=TRUE,\"P\",\"A\")","v":"A"},{"$f":"IF(Attendance($C45,'Daily Register'!HE$3:HE$242)=TRUE,\"P\",\"A\")","v":"A"},{"$f":"IF(Attendance($C45,'Daily Register'!HF$3:HF$242)=TRUE,\"P\",\"A\")","v":"A"},{"$f":"IF(Attendance($C45,'Daily Register'!HG$3:HG$242)=TRUE,\"P\",\"A\")","v":"A"},{"$f":"IF(Attendance($C45,'Daily Register'!HH$3:HH$242)=TRUE,\"P\",\"A\")","v":"A"},{"$f":"IF(Attendance($C45,'Daily Register'!HI$3:HI$242)=TRUE,\"P\",\"A\")","v":"A"},{"$f":"IF(Attendance($C45,'Daily Register'!HJ$3:HJ$242)=TRUE,\"P\",\"A\")","v":"A"},{"$f":"IF(Attendance($C45,'Daily Register'!HK$3:HK$242)=TRUE,\"P\",\"A\")","v":"A"},{"$f":"IF(Attendance($C45,'Daily Register'!HL$3:HL$242)=TRUE,\"P\",\"A\")","v":"A"},{"$f":"IF(Attendance($C45,'Daily Register'!HM$3:HM$242)=TRUE,\"P\",\"A\")","v":"A"},{"$f":"IF(Attendance($C45,'Daily Register'!HN$3:HN$242)=TRUE,\"P\",\"A\")","v":"A"},{"$f":"IF(Attendance($C45,'Daily Register'!HO$3:HO$242)=TRUE,\"P\",\"A\")","v":"A"},{"$f":"IF(Attendance($C45,'Daily Register'!HP$3:HP$242)=TRUE,\"P\",\"A\")","v":"A"},{"$f":"IF(Attendance($C45,'Daily Register'!HQ$3:HQ$242)=TRUE,\"P\",\"A\")","v":"A"},{"$f":"IF(Attendance($C45,'Daily Register'!HR$3:HR$242)=TRUE,\"P\",\"A\")","v":"A"},{"$f":"IF(Attendance($C45,'Daily Register'!HS$3:HS$242)=TRUE,\"P\",\"A\")","v":"A"},{"$f":"IF(Attendance($C45,'Daily Register'!HT$3:HT$242)=TRUE,\"P\",\"A\")","v":"A"},{"$f":"IF(Attendance($C45,'Daily Register'!HU$3:HU$242)=TRUE,\"P\",\"A\")","v":"A"},{"$f":"IF(Attendance($C45,'Daily Register'!HV$3:HV$242)=TRUE,\"P\",\"A\")","v":"A"},{"$f":"IF(Attendance($C45,'Daily Register'!HW$3:HW$242)=TRUE,\"P\",\"A\")","v":"A"},{"$f":"IF(Attendance($C45,'Daily Register'!HX$3:HX$242)=TRUE,\"P\",\"A\")","v":"A"},{"$f":"IF(Attendance($C45,'Daily Register'!HY$3:HY$242)=TRUE,\"P\",\"A\")","v":"A"},{"$f":"IF(Attendance($C45,'Daily Register'!HZ$3:HZ$242)=TRUE,\"P\",\"A\")","v":"A"},{"$f":"IF(Attendance($C45,'Daily Register'!IA$3:IA$242)=TRUE,\"P\",\"A\")","v":"A"},{"$f":"IF(Attendance($C45,'Daily Register'!IB$3:IB$242)=TRUE,\"P\",\"A\")","v":"A"},{"$f":"IF(Attendance($C45,'Daily Register'!IC$3:IC$242)=TRUE,\"P\",\"A\")","v":"A"},{"$f":"IF(Attendance($C45,'Daily Register'!ID$3:ID$242)=TRUE,\"P\",\"A\")","v":"A"},{"$f":"IF(Attendance($C45,'Daily Register'!IE$3:IE$242)=TRUE,\"P\",\"A\")","v":"A"},{"$f":"IF(Attendance($C45,'Daily Register'!IF$3:IF$242)=TRUE,\"P\",\"A\")","v":"A"},{"$f":"IF(Attendance($C45,'Daily Register'!IG$3:IG$242)=TRUE,\"P\",\"A\")","v":"A"},{"$f":"IF(Attendance($C45,'Daily Register'!IH$3:IH$242)=TRUE,\"P\",\"A\")","v":"A"},{"$f":"IF(Attendance($C45,'Daily Register'!II$3:II$242)=TRUE,\"P\",\"A\")","v":"A"},{"$f":"IF(Attendance($C45,'Daily Register'!IJ$3:IJ$242)=TRUE,\"P\",\"A\")","v":"A"},{"$f":"IF(Attendance($C45,'Daily Register'!IK$3:IK$242)=TRUE,\"P\",\"A\")","v":"A"},{"$f":"IF(Attendance($C45,'Daily Register'!IL$3:IL$242)=TRUE,\"P\",\"A\")","v":"A"},{"$f":"IF(Attendance($C45,'Daily Register'!IM$3:IM$242)=TRUE,\"P\",\"A\")","v":"A"},{"$f":"IF(Attendance($C45,'Daily Register'!IN$3:IN$242)=TRUE,\"P\",\"A\")","v":"A"},{"$f":"IF(Attendance($C45,'Daily Register'!IO$3:IO$242)=TRUE,\"P\",\"A\")","v":"A"},{"$f":"IF(Attendance($C45,'Daily Register'!IP$3:IP$242)=TRUE,\"P\",\"A\")","v":"A"},{"$f":"IF(Attendance($C45,'Daily Register'!IQ$3:IQ$242)=TRUE,\"P\",\"A\")","v":"A"},{"$f":"IF(Attendance($C45,'Daily Register'!IR$3:IR$242)=TRUE,\"P\",\"A\")","v":"A"},{"$f":"IF(Attendance($C45,'Daily Register'!IS$3:IS$242)=TRUE,\"P\",\"A\")","v":"A"},{"$f":"IF(Attendance($C45,'Daily Register'!IT$3:IT$242)=TRUE,\"P\",\"A\")","v":"A"},{"$f":"IF(Attendance($C45,'Daily Register'!IU$3:IU$242)=TRUE,\"P\",\"A\")","v":"A"},{"$f":"IF(Attendance($C45,'Daily Register'!IV$3:IV$242)=TRUE,\"P\",\"A\")","v":"A"},{"$f":"IF(Attendance($C45,'Daily Register'!IW$3:IW$242)=TRUE,\"P\",\"A\")","v":"A"},{"$f":"IF(Attendance($C45,'Daily Register'!IX$3:IX$242)=TRUE,\"P\",\"A\")","v":"A"},{"$f":"IF(Attendance($C45,'Daily Register'!IY$3:IY$242)=TRUE,\"P\",\"A\")","v":"A"},{"$f":"IF(Attendance($C45,'Daily Register'!IZ$3:IZ$242)=TRUE,\"P\",\"A\")","v":"A"},{"$f":"IF(Attendance($C45,'Daily Register'!JA$3:JA$242)=TRUE,\"P\",\"A\")","v":"A"},{"$f":"IF(Attendance($C45,'Daily Register'!JB$3:JB$242)=TRUE,\"P\",\"A\")","v":"A"},{"$f":"IF(Attendance($C45,'Daily Register'!JC$3:JC$242)=TRUE,\"P\",\"A\")","v":"A"},{"$f":"IF(Attendance($C45,'Daily Register'!JD$3:JD$242)=TRUE,\"P\",\"A\")","v":"A"},{"$f":"IF(Attendance($C45,'Daily Register'!JE$3:JE$242)=TRUE,\"P\",\"A\")","v":"A"},{"$f":"IF(Attendance($C45,'Daily Register'!JF$3:JF$242)=TRUE,\"P\",\"A\")","v":"A"},{"$f":"IF(Attendance($C45,'Daily Register'!JG$3:JG$242)=TRUE,\"P\",\"A\")","v":"A"},{"$f":"IF(Attendance($C45,'Daily Register'!JH$3:JH$242)=TRUE,\"P\",\"A\")","v":"A"},{"$f":"IF(Attendance($C45,'Daily Register'!JI$3:JI$242)=TRUE,\"P\",\"A\")","v":"A"},{"$f":"IF(Attendance($C45,'Daily Register'!JJ$3:JJ$242)=TRUE,\"P\",\"A\")","v":"A"},{"$f":"IF(Attendance($C45,'Daily Register'!JK$3:JK$242)=TRUE,\"P\",\"A\")","v":"A"},{"$f":"IF(Attendance($C45,'Daily Register'!JL$3:JL$242)=TRUE,\"P\",\"A\")","v":"A"},{"$f":"IF(Attendance($C45,'Daily Register'!JM$3:JM$242)=TRUE,\"P\",\"A\")","v":"A"},{"$f":"IF(Attendance($C45,'Daily Register'!JN$3:JN$242)=TRUE,\"P\",\"A\")","v":"A"},{"$f":"IF(Attendance($C45,'Daily Register'!JO$3:JO$242)=TRUE,\"P\",\"A\")","v":"A"},{"$f":"IF(Attendance($C45,'Daily Register'!JP$3:JP$242)=TRUE,\"P\",\"A\")","v":"A"},{"$f":"IF(Attendance($C45,'Daily Register'!JQ$3:JQ$242)=TRUE,\"P\",\"A\")","v":"A"},{"$f":"IF(Attendance($C45,'Daily Register'!JR$3:JR$242)=TRUE,\"P\",\"A\")","v":"A"},{"$f":"IF(Attendance($C45,'Daily Register'!JS$3:JS$242)=TRUE,\"P\",\"A\")","v":"A"},{"$f":"IF(Attendance($C45,'Daily Register'!JT$3:JT$242)=TRUE,\"P\",\"A\")","v":"A"},{"$f":"IF(Attendance($C45,'Daily Register'!JU$3:JU$242)=TRUE,\"P\",\"A\")","v":"A"},{"$f":"IF(Attendance($C45,'Daily Register'!JV$3:JV$242)=TRUE,\"P\",\"A\")","v":"A"},{"$f":"IF(Attendance($C45,'Daily Register'!JW$3:JW$242)=TRUE,\"P\",\"A\")","v":"A"},{"$f":"IF(Attendance($C45,'Daily Register'!JX$3:JX$242)=TRUE,\"P\",\"A\")","v":"A"},{"$f":"IF(Attendance($C45,'Daily Register'!JY$3:JY$242)=TRUE,\"P\",\"A\")","v":"A"},{"$f":"IF(Attendance($C45,'Daily Register'!JZ$3:JZ$242)=TRUE,\"P\",\"A\")","v":"A"},{"$f":"IF(Attendance($C45,'Daily Register'!KA$3:KA$242)=TRUE,\"P\",\"A\")","v":"A"},{"$f":"IF(Attendance($C45,'Daily Register'!KB$3:KB$242)=TRUE,\"P\",\"A\")","v":"A"},{"$f":"IF(Attendance($C45,'Daily Register'!KC$3:KC$242)=TRUE,\"P\",\"A\")","v":"A"},{"$f":"IF(Attendance($C45,'Daily Register'!KD$3:KD$242)=TRUE,\"P\",\"A\")","v":"A"},{"$f":"IF(Attendance($C45,'Daily Register'!KE$3:KE$242)=TRUE,\"P\",\"A\")","v":"A"},{"$f":"IF(Attendance($C45,'Daily Register'!KF$3:KF$242)=TRUE,\"P\",\"A\")","v":"A"},{"$f":"IF(Attendance($C45,'Daily Register'!KG$3:KG$242)=TRUE,\"P\",\"A\")","v":"A"},{"$f":"IF(Attendance($C45,'Daily Register'!KH$3:KH$242)=TRUE,\"P\",\"A\")","v":"A"},{"$f":"IF(Attendance($C45,'Daily Register'!KI$3:KI$242)=TRUE,\"P\",\"A\")","v":"A"},{"$f":"IF(Attendance($C45,'Daily Register'!KJ$3:KJ$242)=TRUE,\"P\",\"A\")","v":"A"},{"$f":"IF(Attendance($C45,'Daily Register'!KK$3:KK$242)=TRUE,\"P\",\"A\")","v":"A"},{"$f":"IF(Attendance($C45,'Daily Register'!KL$3:KL$242)=TRUE,\"P\",\"A\")","v":"A"},{"$f":"IF(Attendance($C45,'Daily Register'!KM$3:KM$242)=TRUE,\"P\",\"A\")","v":"A"},{"$f":"IF(Attendance($C45,'Daily Register'!KN$3:KN$242)=TRUE,\"P\",\"A\")","v":"A"},{"$f":"IF(Attendance($C45,'Daily Register'!KO$3:KO$242)=TRUE,\"P\",\"A\")","v":"A"},{"$f":"IF(Attendance($C45,'Daily Register'!KP$3:KP$242)=TRUE,\"P\",\"A\")","v":"A"},{"$f":"IF(Attendance($C45,'Daily Register'!KQ$3:KQ$242)=TRUE,\"P\",\"A\")","v":"A"},{"$f":"IF(Attendance($C45,'Daily Register'!KR$3:KR$242)=TRUE,\"P\",\"A\")","v":"A"},{"$f":"IF(Attendance($C45,'Daily Register'!KS$3:KS$242)=TRUE,\"P\",\"A\")","v":"A"},{"$f":"IF(Attendance($C45,'Daily Register'!KT$3:KT$242)=TRUE,\"P\",\"A\")","v":"A"},{"$f":"IF(Attendance($C45,'Daily Register'!KU$3:KU$242)=TRUE,\"P\",\"A\")","v":"A"},{"$f":"IF(Attendance($C45,'Daily Register'!KV$3:KV$242)=TRUE,\"P\",\"A\")","v":"A"},{"$f":"IF(Attendance($C45,'Daily Register'!KW$3:KW$242)=TRUE,\"P\",\"A\")","v":"A"},{"$f":"IF(Attendance($C45,'Daily Register'!KX$3:KX$242)=TRUE,\"P\",\"A\")","v":"A"},{"$f":"IF(Attendance($C45,'Daily Register'!KY$3:KY$242)=TRUE,\"P\",\"A\")","v":"A"},{"$f":"IF(Attendance($C45,'Daily Register'!KZ$3:KZ$242)=TRUE,\"P\",\"A\")","v":"A"},{"$f":"IF(Attendance($C45,'Daily Register'!LA$3:LA$242)=TRUE,\"P\",\"A\")","v":"A"},{"$f":"IF(Attendance($C45,'Daily Register'!LB$3:LB$242)=TRUE,\"P\",\"A\")","v":"A"},{"$f":"IF(Attendance($C45,'Daily Register'!LC$3:LC$242)=TRUE,\"P\",\"A\")","v":"A"},{"$f":"IF(Attendance($C45,'Daily Register'!LD$3:LD$242)=TRUE,\"P\",\"A\")","v":"A"},{"$f":"IF(Attendance($C45,'Daily Register'!LE$3:LE$242)=TRUE,\"P\",\"A\")","v":"A"},{"$f":"IF(Attendance($C45,'Daily Register'!LF$3:LF$242)=TRUE,\"P\",\"A\")","v":"A"},{"$f":"IF(Attendance($C45,'Daily Register'!LG$3:LG$242)=TRUE,\"P\",\"A\")","v":"A"},{"$f":"IF(Attendance($C45,'Daily Register'!LH$3:LH$242)=TRUE,\"P\",\"A\")","v":"A"},{"$f":"IF(Attendance($C45,'Daily Register'!LI$3:LI$242)=TRUE,\"P\",\"A\")","v":"A"},{"$f":"IF(Attendance($C45,'Daily Register'!LJ$3:LJ$242)=TRUE,\"P\",\"A\")","v":"A"},{"$f":"IF(Attendance($C45,'Daily Register'!LK$3:LK$242)=TRUE,\"P\",\"A\")","v":"A"},{"$f":"IF(Attendance($C45,'Daily Register'!LL$3:LL$242)=TRUE,\"P\",\"A\")","v":"A"},{"$f":"IF(Attendance($C45,'Daily Register'!LM$3:LM$242)=TRUE,\"P\",\"A\")","v":"A"},{"$f":"IF(Attendance($C45,'Daily Register'!LN$3:LN$242)=TRUE,\"P\",\"A\")","v":"A"},{"$f":"IF(Attendance($C45,'Daily Register'!LO$3:LO$242)=TRUE,\"P\",\"A\")","v":"A"},{"$f":"IF(Attendance($C45,'Daily Register'!LP$3:LP$242)=TRUE,\"P\",\"A\")","v":"A"},{"$f":"IF(Attendance($C45,'Daily Register'!LQ$3:LQ$242)=TRUE,\"P\",\"A\")","v":"A"},{"$f":"IF(Attendance($C45,'Daily Register'!LR$3:LR$242)=TRUE,\"P\",\"A\")","v":"A"},{"$f":"IF(Attendance($C45,'Daily Register'!LS$3:LS$242)=TRUE,\"P\",\"A\")","v":"A"},{"$f":"IF(Attendance($C45,'Daily Register'!LT$3:LT$242)=TRUE,\"P\",\"A\")","v":"A"},{"$f":"IF(Attendance($C45,'Daily Register'!LU$3:LU$242)=TRUE,\"P\",\"A\")","v":"A"},{"$f":"IF(Attendance($C45,'Daily Register'!LV$3:LV$242)=TRUE,\"P\",\"A\")","v":"A"},{"$f":"IF(Attendance($C45,'Daily Register'!LW$3:LW$242)=TRUE,\"P\",\"A\")","v":"A"},{"$f":"IF(Attendance($C45,'Daily Register'!LX$3:LX$242)=TRUE,\"P\",\"A\")","v":"A"},{"$f":"IF(Attendance($C45,'Daily Register'!LY$3:LY$242)=TRUE,\"P\",\"A\")","v":"A"},{"$f":"IF(Attendance($C45,'Daily Register'!LZ$3:LZ$242)=TRUE,\"P\",\"A\")","v":"A"},{"$f":"IF(Attendance($C45,'Daily Register'!MA$3:MA$242)=TRUE,\"P\",\"A\")","v":"A"},{"$f":"IF(Attendance($C45,'Daily Register'!MB$3:MB$242)=TRUE,\"P\",\"A\")","v":"A"},{"$f":"IF(Attendance($C45,'Daily Register'!MC$3:MC$242)=TRUE,\"P\",\"A\")","v":"A"},{"$f":"IF(Attendance($C45,'Daily Register'!MD$3:MD$242)=TRUE,\"P\",\"A\")","v":"A"},{"$f":"IF(Attendance($C45,'Daily Register'!ME$3:ME$242)=TRUE,\"P\",\"A\")","v":"A"},{"$f":"IF(Attendance($C45,'Daily Register'!MF$3:MF$242)=TRUE,\"P\",\"A\")","v":"A"},{"$f":"IF(Attendance($C45,'Daily Register'!MG$3:MG$242)=TRUE,\"P\",\"A\")","v":"A"},{"$f":"IF(Attendance($C45,'Daily Register'!MH$3:MH$242)=TRUE,\"P\",\"A\")","v":"A"},{"$f":"IF(Attendance($C45,'Daily Register'!MI$3:MI$242)=TRUE,\"P\",\"A\")","v":"A"},{"$f":"IF(Attendance($C45,'Daily Register'!MJ$3:MJ$242)=TRUE,\"P\",\"A\")","v":"A"},{"$f":"IF(Attendance($C45,'Daily Register'!MK$3:MK$242)=TRUE,\"P\",\"A\")","v":"A"},{"$f":"IF(Attendance($C45,'Daily Register'!ML$3:ML$242)=TRUE,\"P\",\"A\")","v":"A"},{"$f":"IF(Attendance($C45,'Daily Register'!MM$3:MM$242)=TRUE,\"P\",\"A\")","v":"A"},{"$f":"IF(Attendance($C45,'Daily Register'!MN$3:MN$242)=TRUE,\"P\",\"A\")","v":"A"},{"$f":"IF(Attendance($C45,'Daily Register'!MO$3:MO$242)=TRUE,\"P\",\"A\")","v":"A"},{"$f":"IF(Attendance($C45,'Daily Register'!MP$3:MP$242)=TRUE,\"P\",\"A\")","v":"A"},{"$f":"IF(Attendance($C45,'Daily Register'!MQ$3:MQ$242)=TRUE,\"P\",\"A\")","v":"A"},{"$f":"IF(Attendance($C45,'Daily Register'!MR$3:MR$242)=TRUE,\"P\",\"A\")","v":"A"},{"$f":"IF(Attendance($C45,'Daily Register'!MS$3:MS$242)=TRUE,\"P\",\"A\")","v":"A"},{"$f":"IF(Attendance($C45,'Daily Register'!MT$3:MT$242)=TRUE,\"P\",\"A\")","v":"A"},{"$f":"IF(Attendance($C45,'Daily Register'!MU$3:MU$242)=TRUE,\"P\",\"A\")","v":"A"},{"$f":"IF(Attendance($C45,'Daily Register'!MV$3:MV$242)=TRUE,\"P\",\"A\")","v":"A"},{"$f":"IF(Attendance($C45,'Daily Register'!MW$3:MW$242)=TRUE,\"P\",\"A\")","v":"A"},{"$f":"IF(Attendance($C45,'Daily Register'!MX$3:MX$242)=TRUE,\"P\",\"A\")","v":"A"},{"$f":"IF(Attendance($C45,'Daily Register'!MY$3:MY$242)=TRUE,\"P\",\"A\")","v":"A"},{"$f":"IF(Attendance($C45,'Daily Register'!MZ$3:MZ$242)=TRUE,\"P\",\"A\")","v":"A"},{"$f":"IF(Attendance($C45,'Daily Register'!NA$3:NA$242)=TRUE,\"P\",\"A\")","v":"A"},{"$f":"IF(Attendance($C45,'Daily Register'!NB$3:NB$242)=TRUE,\"P\",\"A\")","v":"A"}]
[0,null,43,null,{"$f":"IF(Attendance($C46,'Daily Register'!A$3:A$242)=TRUE,\"P\",\"A\")","v":"A"},{"$f":"IF(Attendance($C46,'Daily Register'!B$3:B$242)=TRUE,\"P\",\"A\")","v":"A"},{"$f":"IF(Attendance($C46,'Daily Register'!C$3:C$242)=TRUE,\"P\",\"A\")","v":"A"},{"$f":"IF(Attendance($C46,'Daily Register'!D$3:D$242)=TRUE,\"P\",\"A\")","v":"A"},{"$f":"IF(Attendance($C46,'Daily Register'!E$3:E$242)=TRUE,\"P\",\"A\")","v":"A"},{"$f":"IF(Attendance($C46,'Daily Register'!F$3:F$242)=TRUE,\"P\",\"A\")","v":"A"},{"$f":"IF(Attendance($C46,'Daily Register'!G$3:G$242)=TRUE,\"P\",\"A\")","v":"A"},{"$f":"IF(Attendance($C46,'Daily Register'!H$3:H$242)=TRUE,\"P\",\"A\")","v":"A"},{"$f":"IF(Attendance($C46,'Daily Register'!I$3:I$242)=TRUE,\"P\",\"A\")","v":"A"},{"$f":"IF(Attendance($C46,'Daily Register'!J$3:J$242)=TRUE,\"P\",\"A\")","v":"A"},{"$f":"IF(Attendance($C46,'Daily Register'!K$3:K$242)=TRUE,\"P\",\"A\")","v":"A"},{"$f":"IF(Attendance($C46,'Daily Register'!L$3:L$242)=TRUE,\"P\",\"A\")","v":"A"},{"$f":"IF(Attendance($C46,'Daily Register'!M$3:M$242)=TRUE,\"P\",\"A\")","v":"A"},{"$f":"IF(Attendance($C46,'Daily Register'!N$3:N$242)=TRUE,\"P\",\"A\")","v":"A"},{"$f":"IF(Attendance($C46,'Daily Register'!O$3:O$242)=TRUE,\"P\",\"A\")","v":"A"},{"$f":"IF(Attendance($C46,'Daily Register'!P$3:P$242)=TRUE,\"P\",\"A\")","v":"A"},{"$f":"IF(Attendance($C46,'Daily Register'!Q$3:Q$242)=TRUE,\"P\",\"A\")","v":"A"},{"$f":"IF(Attendance($C46,'Daily Register'!R$3:R$242)=TRUE,\"P\",\"A\")","v":"A"},{"$f":"IF(Attendance($C46,'Daily Register'!S$3:S$242)=TRUE,\"P\",\"A\")","v":"A"},{"$f":"IF(Attendance($C46,'Daily Register'!T$3:T$242)=TRUE,\"P\",\"A\")","v":"A"},{"$f":"IF(Attendance($C46,'Daily Register'!U$3:U$242)=TRUE,\"P\",\"A\")","v":"A"},{"$f":"IF(Attendance($C46,'Daily Register'!V$3:V$242)=TRUE,\"P\",\"A\")","v":"A"},{"$f":"IF(Attendance($C46,'Daily Register'!W$3:W$242)=TRUE,\"P\",\"A\")","v":"A"},{"$f":"IF(Attendance($C46,'Daily Register'!X$3:X$242)=TRUE,\"P\",\"A\")","v":"A"},{"$f":"IF(Attendance($C46,'Daily Register'!Y$3:Y$242)=TRUE,\"P\",\"A\")","v":"A"},{"$f":"IF(Attendance($C46,'Daily Register'!Z$3:Z$242)=TRUE,\"P\",\"A\")","v":"A"},{"$f":"IF(Attendance($C46,'Daily Register'!AA$3:AA$242)=TRUE,\"P\",\"A\")","v":"A"},{"$f":"IF(Attendance($C46,'Daily Register'!AB$3:AB$242)=TRUE,\"P\",\"A\")","v":"A"},{"$f":"IF(Attendance($C46,'Daily Register'!AC$3:AC$242)=TRUE,\"P\",\"A\")","v":"A"},{"$f":"IF(Attendance($C46,'Daily Register'!AD$3:AD$242)=TRUE,\"P\",\"A\")","v":"A"},{"$f":"IF(Attendance($C46,'Daily Register'!AE$3:AE$242)=TRUE,\"P\",\"A\")","v":"A"},{"$f":"IF(Attendance($C46,'Daily Register'!AF$3:AF$242)=TRUE,\"P\",\"A\")","v":"A"},{"$f":"IF(Attendance($C46,'Daily Register'!AG$3:AG$242)=TRUE,\"P\",\"A\")","v":"A"},{"$f":"IF(Attendance($C46,'Daily Register'!AH$3:AH$242)=TRUE,\"P\",\"A\")","v":"A"},{"$f":"IF(Attendance($C46,'Daily Register'!AI$3:AI$242)=TRUE,\"P\",\"A\")","v":"A"},{"$f":"IF(Attendance($C46,'Daily Register'!AJ$3:AJ$242)=TRUE,\"P\",\"A\")","v":"A"},{"$f":"IF(Attendance($C46,'Daily Register'!AK$3:AK$242)=TRUE,\"P\",\"A\")","v":"A"},{"$f":"IF(Attendance($C46,'Daily Register'!AL$3:AL$242)=TRUE,\"P\",\"A\")","v":"A"},{"$f":"IF(Attendance($C46,'Daily Register'!AM$3:AM$242)=TRUE,\"P\",\"A\")","v":"A"},{"$f":"IF(Attendance($C46,'Daily Register'!AN$3:AN$242)=TRUE,\"P\",\"A\")","v":"A"},{"$f":"IF(Attendance($C46,'Daily Register'!AO$3:AO$242)=TRUE,\"P\",\"A\")","v":"A"},{"$f":"IF(Attendance($C46,'Daily Register'!AP$3:AP$242)=TRUE,\"P\",\"A\")","v":"A"},{"$f":"IF(Attendance($C46,'Daily Register'!AQ$3:AQ$242)=TRUE,\"P\",\"A\")","v":"A"},{"$f":"IF(Attendance($C46,'Daily Register'!AR$3:AR$242)=TRUE,\"P\",\"A\")","v":"A"},{"$f":"IF(Attendance($C46,'Daily Register'!AS$3:AS$242)=TRUE,\"P\",\"A\")","v":"A"},{"$f":"IF(Attendance($C46,'Daily Register'!AT$3:AT$242)=TRUE,\"P\",\"A\")","v":"A"},{"$f":"IF(Attendance($C46,'Daily Register'!AU$3:AU$242)=TRUE,\"P\",\"A\")","v":"A"},{"$f":"IF(Attendance($C46,'Daily Register'!AV$3:AV$242)=TRUE,\"P\",\"A\")","v":"A"},{"$f":"IF(Attendance($C46,'Daily Register'!AW$3:AW$242)=TRUE,\"P\",\"A\")","v":"A"},{"$f":"IF(Attendance($C46,'Daily Register'!AX$3:AX$242)=TRUE,\"P\",\"A\")","v":"A"},{"$f":"IF(Attendance($C46,'Daily Register'!AY$3:AY$242)=TRUE,\"P\",\"A\")","v":"A"},{"$f":"IF(Attendance($C46,'Daily Register'!AZ$3:AZ$242)=TRUE,\"P\",\"A\")","v":"A"},{"$f":"IF(Attendance($C46,'Daily Register'!BA$3:BA$242)=TRUE,\"P\",\"A\")","v":"A"},{"$f":"IF(Attendance($C46,'Daily Register'!BB$3:BB$242)=TRUE,\"P\",\"A\")","v":"A"},{"$f":"IF(Attendance($C46,'Daily Register'!BC$3:BC$242)=TRUE,\"P\",\"A\")","v":"A"},{"$f":"IF(Attendance($C46,'Daily Register'!BD$3:BD$242)=TRUE,\"P\",\"A\")","v":"A"},{"$f":"IF(Attendance($C46,'Daily Register'!BE$3:BE$242)=TRUE,\"P\",\"A\")","v":"A"},{"$f":"IF(Attendance($C46,'Daily Register'!BF$3:BF$242)=TRUE,\"P\",\"A\")","v":"A"},{"$f":"IF(Attendance($C46,'Daily Register'!BG$3:BG$242)=TRUE,\"P\",\"A\")","v":"A"},{"$f":"IF(Attendance($C46,'Daily Register'!BH$3:BH$242)=TRUE,\"P\",\"A\")","v":"A"},{"$f":"IF(Attendance($C46,'Daily Register'!BI$3:BI$242)=TRUE,\"P\",\"A\")","v":"A"},{"$f":"IF(Attendance($C46,'Daily Register'!BJ$3:BJ$242)=TRUE,\"P\",\"A\")","v":"A"},{"$f":"IF(Attendance($C46,'Daily Register'!BK$3:BK$242)=TRUE,\"P\",\"A\")","v":"A"},{"$f":"IF(Attendance($C46,'Daily Register'!BL$3:BL$242)=TRUE,\"P\",\"A\")","v":"A"},{"$f":"IF(Attendance($C46,'Daily Register'!BM$3:BM$242)=TRUE,\"P\",\"A\")","v":"A"},{"$f":"IF(Attendance($C46,'Daily Register'!BN$3:BN$242)=TRUE,\"P\",\"A\")","v":"A"},{"$f":"IF(Attendance($C46,'Daily Register'!BO$3:BO$242)=TRUE,\"P\",\"A\")","v":"A"},{"$f":"IF(Attendance($C46,'Daily Register'!BP$3:BP$242)=TRUE,\"P\",\"A\")","v":"A"},{"$f":"IF(Attendance($C46,'Daily Register'!BQ$3:BQ$242)=TRUE,\"P\",\"A\")","v":"A"},{"$f":"IF(Attendance($C46,'Daily Register'!BR$3:BR$242)=TRUE,\"P\",\"A\")","v":"A"},{"$f":"IF(Attendance($C46,'Daily Register'!BS$3:BS$242)=TRUE,\"P\",\"A\")","v":"A"},{"$f":"IF(Attendance($C46,'Daily Register'!BT$3:BT$242)=TRUE,\"P\",\"A\")","v":"A"},{"$f":"IF(Attendance($C46,'Daily Register'!BU$3:BU$242)=TRUE,\"P\",\"A\")","v":"A"},{"$f":"IF(Attendance($C46,'Daily Register'!BV$3:BV$242)=TRUE,\"P\",\"A\")","v":"A"},{"$f":"IF(Attendance($C46,'Daily Register'!BW$3:BW$242)=TRUE,\"P\",\"A\")","v":"A"},{"$f":"IF(Attendance($C46,'Daily Register'!BX$3:BX$242)=TRUE,\"P\",\"A\")","v":"A"},{"$f":"IF(Attendance($C46,'Daily Register'!BY$3:BY$242)=TRUE,\"P\",\"A\")","v":"A"},{"$f":"IF(Attendance($C46,'Daily Register'!BZ$3:BZ$242)=TRUE,\"P\",\"A\")","v":"A"},{"$f":"IF(Attendance($C46,'Daily Register'!CA$3:CA$242)=TRUE,\"P\",\"A\")","v":"A"},{"$f":"IF(Attendance($C46,'Daily Register'!CB$3:CB$242)=TRUE,\"P\",\"A\")","v":"A"},{"$f":"IF(Attendance($C46,'Daily Register'!CC$3:CC$242)=TRUE,\"P\",\"A\")","v":"A"},{"$f":"IF(Attendance($C46,'Daily Register'!CD$3:CD$242)=TRUE,\"P\",\"A\")","v":"A"},{"$f":"IF(Attendance($C46,'Daily Register'!CE$3:CE$242)=TRUE,\"P\",\"A\")","v":"A"},{"$f":"IF(Attendance($C46,'Daily Register'!CF$3:CF$242)=TRUE,\"P\",\"A\")","v":"A"},{"$f":"IF(Attendance($C46,'Daily Register'!CG$3:CG$242)=TRUE,\"P\",\"A\")","v":"A"},{"$f":"IF(Attendance($C46,'Daily Register'!CH$3:CH$242)=TRUE,\"P\",\"A\")","v":"A"},{"$f":"IF(Attendance($C46,'Daily Register'!CI$3:CI$242)=TRUE,\"P\",\"A\")","v":"A"},{"$f":"IF(Attendance($C46,'Daily Register'!CJ$3:CJ$242)=TRUE,\"P\",\"A\")","v":"A"},{"$f":"IF(Attendance($C46,'Daily Register'!CK$3:CK$242)=TRUE,\"P\",\"A\")","v":"A"},{"$f":"IF(Attendance($C46,'Daily Register'!CL$3:CL$242)=TRUE,\"P\",\"A\")","v":"A"},{"$f":"IF(Attendance($C46,'Daily Register'!CM$3:CM$242)=TRUE,\"P\",\"A\")","v":"A"},{"$f":"IF(Attendance($C46,'Daily Register'!CN$3:CN$242)=TRUE,\"P\",\"A\")","v":"A"},{"$f":"IF(Attendance($C46,'Daily Register'!CO$3:CO$242)=TRUE,\"P\",\"A\")","v":"A"},{"$f":"IF(Attendance($C46,'Daily Register'!CP$3:CP$242)=TRUE,\"P\",\"A\")","v":"A"},{"$f":"IF(Attendance($C46,'Daily Register'!CQ$3:CQ$242)=TRUE,\"P\",\"A\")","v":"A"},{"$f":"IF(Attendance($C46,'Daily Register'!CR$3:CR$242)=TRUE,\"P\",\"A\")","v":"A"},{"$f":"IF(Attendance($C46,'Daily Register'!CS$3:CS$242)=TRUE,\"P\",\"A\")","v":"A"},{"$f":"IF(Attendance($C46,'Daily Register'!CT$3:CT$242)=TRUE,\"P\",\"A\")","v":"A"},{"$f":"IF(Attendance($C46,'Daily Register'!CU$3:CU$242)=TRUE,\"P\",\"A\")","v":"A"},{"$f":"IF(Attendance($C46,'Daily Register'!CV$3:CV$242)=TRUE,\"P\",\"A\")","v":"A"},{"$f":"IF(Attendance($C46,'Daily Register'!CW$3:CW$242)=TRUE,\"P\",\"A\")","v":"A"},{"$f":"IF(Attendance($C46,'Daily Register'!CX$3:CX$242)=TRUE,\"P\",\"A\")","v":"A"},{"$f":"IF(Attendance($C46,'Daily Register'!CY$3:CY$242)=TRUE,\"P\",\"A\")","v":"A"},{"$f":"IF(Attendance($C46,'Daily Register'!CZ$3:CZ$242)=TRUE,\"P\",\"A\")","v":"A"},{"$f":"IF(Attendance($C46,'Daily Register'!DA$3:DA$242)=TRUE,\"P\",\"A\")","v":"A"},{"$f":"IF(Attendance($C46,'Daily Register'!DB$3:DB$242)=TRUE,\"P\",\"A\")","v":"A"},{"$f":"IF(Attendance($C46,'Daily Register'!DC$3:DC$242)=TRUE,\"P\",\"A\")","v":"A"},{"$f":"IF(Attendance($C46,'Daily Register'!DD$3:DD$242)=TRUE,\"P\",\"A\")","v":"A"},{"$f":"IF(Attendance($C46,'Daily Register'!DE$3:DE$242)=TRUE,\"P\",\"A\")","v":"A"},{"$f":"IF(Attendance($C46,'Daily Register'!DF$3:DF$242)=TRUE,\"P\",\"A\")","v":"A"},{"$f":"IF(Attendance($C46,'Daily Register'!DG$3:DG$242)=TRUE,\"P\",\"A\")","v":"A"},{"$f":"IF(Attendance($C46,'Daily Register'!DH$3:DH$242)=TRUE,\"P\",\"A\")","v":"A"},{"$f":"IF(Attendance($C46,'Daily Register'!DI$3:DI$242)=TRUE,\"P\",\"A\")","v":"A"},{"$f":"IF(Attendance($C46,'Daily Register'!DJ$3:DJ$242)=TRUE,\"P\",\"A\")","v":"A"},{"$f":"IF(Attendance($C46,'Daily Register'!DK$3:DK$242)=TRUE,\"P\",\"A\")","v":"A"},{"$f":"IF(Attendance($C46,'Daily Register'!DL$3:DL$242)=TRUE,\"P\",\"A\")","v":"A"},{"$f":"IF(Attendance($C46,'Daily Register'!DM$3:DM$242)=TRUE,\"P\",\"A\")","v":"A"},{"$f":"IF(Attendance($C46,'Daily Register'!DN$3:DN$242)=TRUE,\"P\",\"A\")","v":"A"},{"$f":"IF(Attendance($C46,'Daily Register'!DO$3:DO$242)=TRUE,\"P\",\"A\")","v":"A"},{"$f":"IF(Attendance($C46,'Daily Register'!DP$3:DP$242)=TRUE,\"P\",\"A\")","v":"A"},{"$f":"IF(Attendance($C46,'Daily Register'!DQ$3:DQ$242)=TRUE,\"P\",\"A\")","v":"A"},{"$f":"IF(Attendance($C46,'Daily Register'!DR$3:DR$242)=TRUE,\"P\",\"A\")","v":"A"},{"$f":"IF(Attendance($C46,'Daily Register'!DS$3:DS$242)=TRUE,\"P\",\"A\")","v":"A"},{"$f":"IF(Attendance($C46,'Daily Register'!DT$3:DT$242)=TRUE,\"P\",\"A\")","v":"A"},{"$f":"IF(Attendance($C46,'Daily Register'!DU$3:DU$242)=TRUE,\"P\",\"A\")","v":"A"},{"$f":"IF(Attendance($C46,'Daily Register'!DV$3:DV$242)=TRUE,\"P\",\"A\")","v":"A"},{"$f":"IF(Attendance($C46,'Daily Register'!DW$3:DW$242)=TRUE,\"P\",\"A\")","v":"A"},{"$f":"IF(Attendance($C46,'Daily Register'!DX$3:DX$242)=TRUE,\"P\",\"A\")","v":"A"},{"$f":"IF(Attendance($C46,'Daily Register'!DY$3:DY$242)=TRUE,\"P\",\"A\")","v":"A"},{"$f":"IF(Attendance($C46,'Daily Register'!DZ$3:DZ$242)=TRUE,\"P\",\"A\")","v":"A"},{"$f":"IF(Attendance($C46,'Daily Register'!EA$3:EA$242)=TRUE,\"P\",\"A\")","v":"A"},{"$f":"IF(Attendance($C46,'Daily Register'!EB$3:EB$242)=TRUE,\"P\",\"A\")","v":"A"},{"$f":"IF(Attendance($C46,'Daily Register'!EC$3:EC$242)=TRUE,\"P\",\"A\")","v":"A"},{"$f":"IF(Attendance($C46,'Daily Register'!ED$3:ED$242)=TRUE,\"P\",\"A\")","v":"A"},{"$f":"IF(Attendance($C46,'Daily Register'!EE$3:EE$242)=TRUE,\"P\",\"A\")","v":"A"},{"$f":"IF(Attendance($C46,'Daily Register'!EF$3:EF$242)=TRUE,\"P\",\"A\")","v":"A"},{"$f":"IF(Attendance($C46,'Daily Register'!EG$3:EG$242)=TRUE,\"P\",\"A\")","v":"A"},{"$f":"IF(Attendance($C46,'Daily Register'!EH$3:EH$242)=TRUE,\"P\",\"A\")","v":"A"},{"$f":"IF(Attendance($C46,'Daily Register'!EI$3:EI$242)=TRUE,\"P\",\"A\")","v":"A"},{"$f":"IF(Attendance($C46,'Daily Register'!EJ$3:EJ$242)=TRUE,\"P\",\"A\")","v":"A"},{"$f":"IF(Attendance($C46,'Daily Register'!EK$3:EK$242)=TRUE,\"P\",\"A\")","v":"A"},{"$f":"IF(Attendance($C46,'Daily Register'!EL$3:EL$242)=TRUE,\"P\",\"A\")","v":"A"},{"$f":"IF(Attendance($C46,'Daily Register'!EM$22:EM$242)=TRUE,\"P\",\"A\")","v":"A"},{"$f":"IF(Attendance($C46,'Daily Register'!EN$3:EN$242)=TRUE,\"P\",\"A\")","v":"A"},{"$f":"IF(Attendance($C46,'Daily Register'!EO$3:EO$242)=TRUE,\"P\",\"A\")","v":"A"},{"$f":"IF(Attendance($C46,'Daily Register'!EP$3:EP$242)=TRUE,\"P\",\"A\")","v":"A"},{"$f":"IF(Attendance($C46,'Daily Register'!EQ$3:EQ$242)=TRUE,\"P\",\"A\")","v":"A"},{"$f":"IF(Attendance($C46,'Daily Register'!ER$3:ER$242)=TRUE,\"P\",\"A\")","v":"A"},{"$f":"IF(Attendance($C46,'Daily Register'!ES$3:ES$242)=TRUE,\"P\",\"A\")","v":"A"},{"$f":"IF(Attendance($C46,'Daily Register'!ET$3:ET$242)=TRUE,\"P\",\"A\")","v":"A"},{"$f":"IF(Attendance($C46,'Daily Register'!EU$3:EU$242)=TRUE,\"P\",\"A\")","v":"A"},{"$f":"IF(Attendance($C46,'Daily Register'!EV$3:EV$242)=TRUE,\"P\",\"A\")","v":"A"},{"$f":"IF(Attendance($C46,'Daily Register'!EW$3:EW$242)=TRUE,\"P\",\"A\")","v":"A"},{"$f":"IF(Attendance($C46,'Daily Register'!EX$3:EX$242)=TRUE,\"P\",\"A\")","v":"A"},{"$f":"IF(Attendance($C46,'Daily Register'!EY$3:EY$242)=TRUE,\"P\",\"A\")","v":"A"},{"$f":"IF(Attendance($C46,'Daily Register'!EZ$3:EZ$242)=TRUE,\"P\",\"A\")","v":"A"},{"$f":"IF(Attendance($C46,'Daily Register'!FA$3:FA$242)=TRUE,\"P\",\"A\")","v":"A"},{"$f":"IF(Attendance($C46,'Daily Register'!FB$3:FB$242)=TRUE,\"P\",\"A\")","v":"A"},{"$f":"IF(Attendance($C46,'Daily Register'!FC$3:FC$242)=TRUE,\"P\",\"A\")","v":"A"},{"$f":"IF(Attendance($C46,'Daily Register'!FD$3:FD$242)=TRUE,\"P\",\"A\")","v":"A"},{"$f":"IF(Attendance($C46,'Daily Register'!FE$3:FE$242)=TRUE,\"P\",\"A\")","v":"A"},{"$f":"IF(Attendance($C46,'Daily Register'!FF$3:FF$242)=TRUE,\"P\",\"A\")","v":"A"},{"$f":"IF(Attendance($C46,'Daily Register'!FG$3:FG$242)=TRUE,\"P\",\"A\")","v":"A"},{"$f":"IF(Attendance($C46,'Daily Register'!FH$3:FH$242)=TRUE,\"P\",\"A\")","v":"A"},{"$f":"IF(Attendance($C46,'Daily Register'!FI$3:FI$242)=TRUE,\"P\",\"A\")","v":"A"},{"$f":"IF(Attendance($C46,'Daily Register'!FJ$3:FJ$242)=TRUE,\"P\",\"A\")","v":"A"},{"$f":"IF(Attendance($C46,'Daily Register'!FK$3:FK$242)=TRUE,\"P\",\"A\")","v":"A"},{"$f":"IF(Attendance($C46,'Daily Register'!FL$3:FL$242)=TRUE,\"P\",\"A\")","v":"A"},{"$f":"IF(Attendance($C46,'Daily Register'!FM$3:FM$242)=TRUE,\"P\",\"A\")","v":"A"},{"$f":"IF(Attendance($C46,'Daily Register'!FN$3:FN$242)=TRUE,\"P\",\"A\")","v":"A"},{"$f":"IF(Attendance($C46,'Daily Register'!FO$3:FO$242)=TRUE,\"P\",\"A\")","v":"A"},{"$f":"IF(Attendance($C46,'Daily Register'!FP$3:FP$242)=TRUE,\"P\",\"A\")","v":"A"},{"$f":"IF(Attendance($C46,'Daily Register'!FQ$3:FQ$242)=TRUE,\"P\",\"A\")","v":"A"},{"$f":"IF(Attendance($C46,'Daily Register'!FR$3:FR$242)=TRUE,\"P\",\"A\")","v":"A"},{"$f":"IF(Attendance($C46,'Daily Register'!FS$3:FS$242)=TRUE,\"P\",\"A\")","v":"A"},{"$f":"IF(Attendance($C46,'Daily Register'!FT$3:FT$242)=TRUE,\"P\",\"A\")","v":"A"},{"$f":"IF(Attendance($C46,'Daily Register'!FU$3:FU$242)=TRUE,\"P\",\"A\")","v":"A"},{"$f":"IF(Attendance($C46,'Daily Register'!FV$3:FV$242)=TRUE,\"P\",\"A\")","v":"A"},{"$f":"IF(Attendance($C46,'Daily Register'!FW$3:FW$242)=TRUE,\"P\",\"A\")","v":"A"},{"$f":"IF(Attendance($C46,'Daily Register'!FX$3:FX$242)=TRUE,\"P\",\"A\")","v":"A"},{"$f":"IF(Attendance($C46,'Daily Register'!FY$3:FY$242)=TRUE,\"P\",\"A\")","v":"A"},{"$f":"IF(Attendance($C46,'Daily Register'!FZ$3:FZ$242)=TRUE,\"P\",\"A\")","v":"A"},{"$f":"IF(Attendance($C46,'Daily Register'!GA$3:GA$242)=TRUE,\"P\",\"A\")","v":"A"},{"$f":"IF(Attendance($C46,'Daily Register'!GB$3:GB$242)=TRUE,\"P\",\"A\")","v":"A"},{"$f":"IF(Attendance($C46,'Daily Register'!GC$3:GC$242)=TRUE,\"P\",\"A\")","v":"A"},{"$f":"IF(Attendance($C46,'Daily Register'!GD$3:GD$242)=TRUE,\"P\",\"A\")","v":"A"},{"$f":"IF(Attendance($C46,'Daily Register'!GE$3:GE$242)=TRUE,\"P\",\"A\")","v":"A"},{"$f":"IF(Attendance($C46,'Daily Register'!GF$3:GF$242)=TRUE,\"P\",\"A\")","v":"A"},{"$f":"IF(Attendance($C46,'Daily Register'!GG$3:GG$242)=TRUE,\"P\",\"A\")","v":"A"},{"$f":"IF(Attendance($C46,'Daily Register'!GH$3:GH$242)=TRUE,\"P\",\"A\")","v":"A"},{"$f":"IF(Attendance($C46,'Daily Register'!GI$3:GI$242)=TRUE,\"P\",\"A\")","v":"A"},{"$f":"IF(Attendance($C46,'Daily Register'!GJ$3:GJ$242)=TRUE,\"P\",\"A\")","v":"A"},{"$f":"IF(Attendance($C46,'Daily Register'!GK$3:GK$242)=TRUE,\"P\",\"A\")","v":"A"},{"$f":"IF(Attendance($C46,'Daily Register'!GL$3:GL$242)=TRUE,\"P\",\"A\")","v":"A"},{"$f":"IF(Attendance($C46,'Daily Register'!GM$3:GM$242)=TRUE,\"P\",\"A\")","v":"A"},{"$f":"IF(Attendance($C46,'Daily Register'!GN$3:GN$242)=TRUE,\"P\",\"A\")","v":"A"},{"$f":"IF(Attendance($C46,'Daily Register'!GO$3:GO$242)=TRUE,\"P\",\"A\")","v":"A"},{"$f":"IF(Attendance($C46,'Daily Register'!GP$3:GP$242)=TRUE,\"P\",\"A\")","v":"A"},{"$f":"IF(Attendance($C46,'Daily Register'!GQ$3:GQ$242)=TRUE,\"P\",\"A\")","v":"A"},{"$f":"IF(Attendance($C46,'Daily Register'!GR$3:GR$242)=TRUE,\"P\",\"A\")","v":"A"},{"$f":"IF(Attendance($C46,'Daily Register'!GS$3:GS$242)=TRUE,\"P\",\"A\")","v":"A"},{"$f":"IF(Attendance($C46,'Daily Register'!GT$3:GT$242)=TRUE,\"P\",\"A\")","v":"A"},{"$f":"IF(Attendance($C46,'Daily Register'!GU$3:GU$242)=TRUE,\"P\",\"A\")","v":"A"},{"$f":"IF(Attendance($C46,'Daily Register'!GV$3:GV$242)=TRUE,\"P\",\"A\")","v":"A"},{"$f":"IF(Attendance($C46,'Daily Register'!GW$3:GW$242)=TRUE,\"P\",\"A\")","v":"A"},{"$f":"IF(Attendance($C46,'Daily Register'!GX$3:GX$242)=TRUE,\"P\",\"A\")","v":"A"},{"$f":"IF(Attendance($C46,'Daily Register'!GY$3:GY$242)=TRUE,\"P\",\"A\")","v":"A"},{"$f":"IF(Attendance($C46,'Daily Register'!GZ$3:GZ$242)=TRUE,\"P\",\"A\")","v":"A"},{"$f":"IF(Attendance($C46,'Daily Register'!HA$3:HA$242)=TRUE,\"P\",\"A\")","v":"A"},{"$f":"IF(Attendance($C46,'Daily Register'!HB$3:HB$242)=TRUE,\"P\",\"A\")","v":"A"},{"$f":"IF(Attendance($C46,'Daily Register'!HC$3:HC$242)=TRUE,\"P\",\"A\")","v":"A"},{"$f":"IF(Attendance($C46,'Daily Register'!HD$3:HD$242)=TRUE,\"P\",\"A\")","v":"A"},{"$f":"IF(Attendance($C46,'Daily Register'!HE$3:HE$242)=TRUE,\"P\",\"A\")","v":"A"},{"$f":"IF(Attendance($C46,'Daily Register'!HF$3:HF$242)=TRUE,\"P\",\"A\")","v":"A"},{"$f":"IF(Attendance($C46,'Daily Register'!HG$3:HG$242)=TRUE,\"P\",\"A\")","v":"A"},{"$f":"IF(Attendance($C46,'Daily Register'!HH$3:HH$242)=TRUE,\"P\",\"A\")","v":"A"},{"$f":"IF(Attendance($C46,'Daily Register'!HI$3:HI$242)=TRUE,\"P\",\"A\")","v":"A"},{"$f":"IF(Attendance($C46,'Daily Register'!HJ$3:HJ$242)=TRUE,\"P\",\"A\")","v":"A"},{"$f":"IF(Attendance($C46,'Daily Register'!HK$3:HK$242)=TRUE,\"P\",\"A\")","v":"A"},{"$f":"IF(Attendance($C46,'Daily Register'!HL$3:HL$242)=TRUE,\"P\",\"A\")","v":"A"},{"$f":"IF(Attendance($C46,'Daily Register'!HM$3:HM$242)=TRUE,\"P\",\"A\")","v":"A"},{"$f":"IF(Attendance($C46,'Daily Register'!HN$3:HN$242)=TRUE,\"P\",\"A\")","v":"A"},{"$f":"IF(Attendance($C46,'Daily Register'!HO$3:HO$242)=TRUE,\"P\",\"A\")","v":"A"},{"$f":"IF(Attendance($C46,'Daily Register'!HP$3:HP$242)=TRUE,\"P\",\"A\")","v":"A"},{"$f":"IF(Attendance($C46,'Daily Register'!HQ$3:HQ$242)=TRUE,\"P\",\"A\")","v":"A"},{"$f":"IF(Attendance($C46,'Daily Register'!HR$3:HR$242)=TRUE,\"P\",\"A\")","v":"A"},{"$f":"IF(Attendance($C46,'Daily Register'!HS$3:HS$242)=TRUE,\"P\",\"A\")","v":"A"},{"$f":"IF(Attendance($C46,'Daily Register'!HT$3:HT$242)=TRUE,\"P\",\"A\")","v":"A"},{"$f":"IF(Attendance($C46,'Daily Register'!HU$3:HU$242)=TRUE,\"P\",\"A\")","v":"A"},{"$f":"IF(Attendance($C46,'Daily Register'!HV$3:HV$242)=TRUE,\"P\",\"A\")","v":"A"},{"$f":"IF(Attendance($C46,'Daily Register'!HW$3:HW$242)=TRUE,\"P\",\"A\")","v":"A"},{"$f":"IF(Attendance($C46,'Daily Register'!HX$3:HX$242)=TRUE,\"P\",\"A\")","v":"A"},{"$f":"IF(Attendance($C46,'Daily Register'!HY$3:HY$242)=TRUE,\"P\",\"A\")","v":"A"},{"$f":"IF(Attendance($C46,'Daily Register'!HZ$3:HZ$242)=TRUE,\"P\",\"A\")","v":"A"},{"$f":"IF(Attendance($C46,'Daily Register'!IA$3:IA$242)=TRUE,\"P\",\"A\")","v":"A"},{"$f":"IF(Attendance($C46,'Daily Register'!IB$3:IB$242)=TRUE,\"P\",\"A\")","v":"A"},{"$f":"IF(Attendance($C46,'Daily Register'!IC$3:IC$242)=TRUE,\"P\",\"A\")","v":"A"},{"$f":"IF(Attendance($C46,'Daily Register'!ID$3:ID$242)=TRUE,\"P\",\"A\")","v":"A"},{"$f":"IF(Attendance($C46,'Daily Register'!IE$3:IE$242)=TRUE,\"P\",\"A\")","v":"A"},{"$f":"IF(Attendance($C46,'Daily Register'!IF$3:IF$242)=TRUE,\"P\",\"A\")","v":"A"},{"$f":"IF(Attendance($C46,'Daily Register'!IG$3:IG$242)=TRUE,\"P\",\"A\")","v":"A"},{"$f":"IF(Attendance($C46,'Daily Register'!IH$3:IH$242)=TRUE,\"P\",\"A\")","v":"A"},{"$f":"IF(Attendance($C46,'Daily Register'!II$3:II$242)=TRUE,\"P\",\"A\")","v":"A"},{"$f":"IF(Attendance($C46,'Daily Register'!IJ$3:IJ$242)=TRUE,\"P\",\"A\")","v":"A"},{"$f":"IF(Attendance($C46,'Daily Register'!IK$3:IK$242)=TRUE,\"P\",\"A\")","v":"A"},{"$f":"IF(Attendance($C46,'Daily Register'!IL$3:IL$242)=TRUE,\"P\",\"A\")","v":"A"},{"$f":"IF(Attendance($C46,'Daily Register'!IM$3:IM$242)=TRUE,\"P\",\"A\")","v":"A"},{"$f":"IF(Attendance($C46,'Daily Register'!IN$3:IN$242)=TRUE,\"P\",\"A\")","v":"A"},{"$f":"IF(Attendance($C46,'Daily Register'!IO$3:IO$242)=TRUE,\"P\",\"A\")","v":"A"},{"$f":"IF(Attendance($C46,'Daily Register'!IP$3:IP$242)=TRUE,\"P\",\"A\")","v":"A"},{"$f":"IF(Attendance($C46,'Daily Register'!IQ$3:IQ$242)=TRUE,\"P\",\"A\")","v":"A"},{"$f":"IF(Attendance($C46,'Daily Register'!IR$3:IR$242)=TRUE,\"P\",\"A\")","v":"A"},{"$f":"IF(Attendance($C46,'Daily Register'!IS$3:IS$242)=TRUE,\"P\",\"A\")","v":"A"},{"$f":"IF(Attendance($C46,'Daily Register'!IT$3:IT$242)=TRUE,\"P\",\"A\")","v":"A"},{"$f":"IF(Attendance($C46,'Daily Register'!IU$3:IU$242)=TRUE,\"P\",\"A\")","v":"A"},{"$f":"IF(Attendance($C46,'Daily Register'!IV$3:IV$242)=TRUE,\"P\",\"A\")","v":"A"},{"$f":"IF(Attendance($C46,'Daily Register'!IW$3:IW$242)=TRUE,\"P\",\"A\")","v":"A"},{"$f":"IF(Attendance($C46,'Daily Register'!IX$3:IX$242)=TRUE,\"P\",\"A\")","v":"A"},{"$f":"IF(Attendance($C46,'Daily Register'!IY$3:IY$242)=TRUE,\"P\",\"A\")","v":"A"},{"$f":"IF(Attendance($C46,'Daily Register'!IZ$3:IZ$242)=TRUE,\"P\",\"A\")","v":"A"},{"$f":"IF(Attendance($C46,'Daily Register'!JA$3:JA$242)=TRUE,\"P\",\"A\")","v":"A"},{"$f":"IF(Attendance($C46,'Daily Register'!JB$3:JB$242)=TRUE,\"P\",\"A\")","v":"A"},{"$f":"IF(Attendance($C46,'Daily Register'!JC$3:JC$242)=TRUE,\"P\",\"A\")","v":"A"},{"$f":"IF(Attendance($C46,'Daily Register'!JD$3:JD$242)=TRUE,\"P\",\"A\")","v":"A"},{"$f":"IF(Attendance($C46,'Daily Register'!JE$3:JE$242)=TRUE,\"P\",\"A\")","v":"A"},{"$f":"IF(Attendance($C46,'Daily Register'!JF$3:JF$242)=TRUE,\"P\",\"A\")","v":"A"},{"$f":"IF(Attendance($C46,'Daily Register'!JG$3:JG$242)=TRUE,\"P\",\"A\")","v":"A"},{"$f":"IF(Attendance($C46,'Daily Register'!JH$3:JH$242)=TRUE,\"P\",\"A\")","v":"A"},{"$f":"IF(Attendance($C46,'Daily Register'!JI$3:JI$242)=TRUE,\"P\",\"A\")","v":"A"},{"$f":"IF(Attendance($C46,'Daily Register'!JJ$3:JJ$242)=TRUE,\"P\",\"A\")","v":"A"},{"$f":"IF(Attendance($C46,'Daily Register'!JK$3:JK$242)=TRUE,\"P\",\"A\")","v":"A"},{"$f":"IF(Attendance($C46,'Daily Register'!JL$3:JL$242)=TRUE,\"P\",\"A\")","v":"A"},{"$f":"IF(Attendance($C46,'Daily Register'!JM$3:JM$242)=TRUE,\"P\",\"A\")","v":"A"},{"$f":"IF(Attendance($C46,'Daily Register'!JN$3:JN$242)=TRUE,\"P\",\"A\")","v":"A"},{"$f":"IF(Attendance($C46,'Daily Register'!JO$3:JO$242)=TRUE,\"P\",\"A\")","v":"A"},{"$f":"IF(Attendance($C46,'Daily Register'!JP$3:JP$242)=TRUE,\"P\",\"A\")","v":"A"},{"$f":"IF(Attendance($C46,'Daily Register'!JQ$3:JQ$242)=TRUE,\"P\",\"A\")","v":"A"},{"$f":"IF(Attendance($C46,'Daily Register'!JR$3:JR$242)=TRUE,\"P\",\"A\")","v":"A"},{"$f":"IF(Attendance($C46,'Daily Register'!JS$3:JS$242)=TRUE,\"P\",\"A\")","v":"A"},{"$f":"IF(Attendance($C46,'Daily Register'!JT$3:JT$242)=TRUE,\"P\",\"A\")","v":"A"},{"$f":"IF(Attendance($C46,'Daily Register'!JU$3:JU$242)=TRUE,\"P\",\"A\")","v":"A"},{"$f":"IF(Attendance($C46,'Daily Register'!JV$3:JV$242)=TRUE,\"P\",\"A\")","v":"A"},{"$f":"IF(Attendance($C46,'Daily Register'!JW$3:JW$242)=TRUE,\"P\",\"A\")","v":"A"},{"$f":"IF(Attendance($C46,'Daily Register'!JX$3:JX$242)=TRUE,\"P\",\"A\")","v":"A"},{"$f":"IF(Attendance($C46,'Daily Register'!JY$3:JY$242)=TRUE,\"P\",\"A\")","v":"A"},{"$f":"IF(Attendance($C46,'Daily Register'!JZ$3:JZ$242)=TRUE,\"P\",\"A\")","v":"A"},{"$f":"IF(Attendance($C46,'Daily Register'!KA$3:KA$242)=TRUE,\"P\",\"A\")","v":"A"},{"$f":"IF(Attendance($C46,'Daily Register'!KB$3:KB$242)=TRUE,\"P\",\"A\")","v":"A"},{"$f":"IF(Attendance($C46,'Daily Register'!KC$3:KC$242)=TRUE,\"P\",\"A\")","v":"A"},{"$f":"IF(Attendance($C46,'Daily Register'!KD$3:KD$242)=TRUE,\"P\",\"A\")","v":"A"},{"$f":"IF(Attendance($C46,'Daily Register'!KE$3:KE$242)=TRUE,\"P\",\"A\")","v":"A"},{"$f":"IF(Attendance($C46,'Daily Register'!KF$3:KF$242)=TRUE,\"P\",\"A\")","v":"A"},{"$f":"IF(Attendance($C46,'Daily Register'!KG$3:KG$242)=TRUE,\"P\",\"A\")","v":"A"},{"$f":"IF(Attendance($C46,'Daily Register'!KH$3:KH$242)=TRUE,\"P\",\"A\")","v":"A"},{"$f":"IF(Attendance($C46,'Daily Register'!KI$3:KI$242)=TRUE,\"P\",\"A\")","v":"A"},{"$f":"IF(Attendance($C46,'Daily Register'!KJ$3:KJ$242)=TRUE,\"P\",\"A\")","v":"A"},{"$f":"IF(Attendance($C46,'Daily Register'!KK$3:KK$242)=TRUE,\"P\",\"A\")","v":"A"},{"$f":"IF(Attendance($C46,'Daily Register'!KL$3:KL$242)=TRUE,\"P\",\"A\")","v":"A"},{"$f":"IF(Attendance($C46,'Daily Register'!KM$3:KM$242)=TRUE,\"P\",\"A\")","v":"A"},{"$f":"IF(Attendance($C46,'Daily Register'!KN$3:KN$242)=TRUE,\"P\",\"A\")","v":"A"},{"$f":"IF(Attendance($C46,'Daily Register'!KO$3:KO$242)=TRUE,\"P\",\"A\")","v":"A"},{"$f":"IF(Attendance($C46,'Daily Register'!KP$3:KP$242)=TRUE,\"P\",\"A\")","v":"A"},{"$f":"IF(Attendance($C46,'Daily Register'!KQ$3:KQ$242)=TRUE,\"P\",\"A\")","v":"A"},{"$f":"IF(Attendance($C46,'Daily Register'!KR$3:KR$242)=TRUE,\"P\",\"A\")","v":"A"},{"$f":"IF(Attendance($C46,'Daily Register'!KS$3:KS$242)=TRUE,\"P\",\"A\")","v":"A"},{"$f":"IF(Attendance($C46,'Daily Register'!KT$3:KT$242)=TRUE,\"P\",\"A\")","v":"A"},{"$f":"IF(Attendance($C46,'Daily Register'!KU$3:KU$242)=TRUE,\"P\",\"A\")","v":"A"},{"$f":"IF(Attendance($C46,'Daily Register'!KV$3:KV$242)=TRUE,\"P\",\"A\")","v":"A"},{"$f":"IF(Attendance($C46,'Daily Register'!KW$3:KW$242)=TRUE,\"P\",\"A\")","v":"A"},{"$f":"IF(Attendance($C46,'Daily Register'!KX$3:KX$242)=TRUE,\"P\",\"A\")","v":"A"},{"$f":"IF(Attendance($C46,'Daily Register'!KY$3:KY$242)=TRUE,\"P\",\"A\")","v":"A"},{"$f":"IF(Attendance($C46,'Daily Register'!KZ$3:KZ$242)=TRUE,\"P\",\"A\")","v":"A"},{"$f":"IF(Attendance($C46,'Daily Register'!LA$3:LA$242)=TRUE,\"P\",\"A\")","v":"A"},{"$f":"IF(Attendance($C46,'Daily Register'!LB$3:LB$242)=TRUE,\"P\",\"A\")","v":"A"},{"$f":"IF(Attendance($C46,'Daily Register'!LC$3:LC$242)=TRUE,\"P\",\"A\")","v":"A"},{"$f":"IF(Attendance($C46,'Daily Register'!LD$3:LD$242)=TRUE,\"P\",\"A\")","v":"A"},{"$f":"IF(Attendance($C46,'Daily Register'!LE$3:LE$242)=TRUE,\"P\",\"A\")","v":"A"},{"$f":"IF(Attendance($C46,'Daily Register'!LF$3:LF$242)=TRUE,\"P\",\"A\")","v":"A"},{"$f":"IF(Attendance($C46,'Daily Register'!LG$3:LG$242)=TRUE,\"P\",\"A\")","v":"A"},{"$f":"IF(Attendance($C46,'Daily Register'!LH$3:LH$242)=TRUE,\"P\",\"A\")","v":"A"},{"$f":"IF(Attendance($C46,'Daily Register'!LI$3:LI$242)=TRUE,\"P\",\"A\")","v":"A"},{"$f":"IF(Attendance($C46,'Daily Register'!LJ$3:LJ$242)=TRUE,\"P\",\"A\")","v":"A"},{"$f":"IF(Attendance($C46,'Daily Register'!LK$3:LK$242)=TRUE,\"P\",\"A\")","v":"A"},{"$f":"IF(Attendance($C46,'Daily Register'!LL$3:LL$242)=TRUE,\"P\",\"A\")","v":"A"},{"$f":"IF(Attendance($C46,'Daily Register'!LM$3:LM$242)=TRUE,\"P\",\"A\")","v":"A"},{"$f":"IF(Attendance($C46,'Daily Register'!LN$3:LN$242)=TRUE,\"P\",\"A\")","v":"A"},{"$f":"IF(Attendance($C46,'Daily Register'!LO$3:LO$242)=TRUE,\"P\",\"A\")","v":"A"},{"$f":"IF(Attendance($C46,'Daily Register'!LP$3:LP$242)=TRUE,\"P\",\"A\")","v":"A"},{"$f":"IF(Attendance($C46,'Daily Register'!LQ$3:LQ$242)=TRUE,\"P\",\"A\")","v":"A"},{"$f":"IF(Attendance($C46,'Daily Register'!LR$3:LR$242)=TRUE,\"P\",\"A\")","v":"A"},{"$f":"IF(Attendance($C46,'Daily Register'!LS$3:LS$242)=TRUE,\"P\",\"A\")","v":"A"},{"$f":"IF(Attendance($C46,'Daily Register'!LT$3:LT$242)=TRUE,\"P\",\"A\")","v":"A"},{"$f":"IF(Attendance($C46,'Daily Register'!LU$3:LU$242)=TRUE,\"P\",\"A\")","v":"A"},{"$f":"IF(Attendance($C46,'Daily Register'!LV$3:LV$242)=TRUE,\"P\",\"A\")","v":"A"},{"$f":"IF(Attendance($C46,'Daily Register'!LW$3:LW$242)=TRUE,\"P\",\"A\")","v":"A"},{"$f":"IF(Attendance($C46,'Daily Register'!LX$3:LX$242)=TRUE,\"P\",\"A\")","v":"A"},{"$f":"IF(Attendance($C46,'Daily Register'!LY$3:LY$242)=TRUE,\"P\",\"A\")","v":"A"},{"$f":"IF(Attendance($C46,'Daily Register'!LZ$3:LZ$242)=TRUE,\"P\",\"A\")","v":"A"},{"$f":"IF(Attendance($C46,'Daily Register'!MA$3:MA$242)=TRUE,\"P\",\"A\")","v":"A"},{"$f":"IF(Attendance($C46,'Daily Register'!MB$3:MB$242)=TRUE,\"P\",\"A\")","v":"A"},{"$f":"IF(Attendance($C46,'Daily Register'!MC$3:MC$242)=TRUE,\"P\",\"A\")","v":"A"},{"$f":"IF(Attendance($C46,'Daily Register'!MD$3:MD$242)=TRUE,\"P\",\"A\")","v":"A"},{"$f":"IF(Attendance($C46,'Daily Register'!ME$3:ME$242)=TRUE,\"P\",\"A\")","v":"A"},{"$f":"IF(Attendance($C46,'Daily Register'!MF$3:MF$242)=TRUE,\"P\",\"A\")","v":"A"},{"$f":"IF(Attendance($C46,'Daily Register'!MG$3:MG$242)=TRUE,\"P\",\"A\")","v":"A"},{"$f":"IF(Attendance($C46,'Daily Register'!MH$3:MH$242)=TRUE,\"P\",\"A\")","v":"A"},{"$f":"IF(Attendance($C46,'Daily Register'!MI$3:MI$242)=TRUE,\"P\",\"A\")","v":"A"},{"$f":"IF(Attendance($C46,'Daily Register'!MJ$3:MJ$242)=TRUE,\"P\",\"A\")","v":"A"},{"$f":"IF(Attendance($C46,'Daily Register'!MK$3:MK$242)=TRUE,\"P\",\"A\")","v":"A"},{"$f":"IF(Attendance($C46,'Daily Register'!ML$3:ML$242)=TRUE,\"P\",\"A\")","v":"A"},{"$f":"IF(Attendance($C46,'Daily Register'!MM$3:MM$242)=TRUE,\"P\",\"A\")","v":"A"},{"$f":"IF(Attendance($C46,'Daily Register'!MN$3:MN$242)=TRUE,\"P\",\"A\")","v":"A"},{"$f":"IF(Attendance($C46,'Daily Register'!MO$3:MO$242)=TRUE,\"P\",\"A\")","v":"A"},{"$f":"IF(Attendance($C46,'Daily Register'!MP$3:MP$242)=TRUE,\"P\",\"A\")","v":"A"},{"$f":"IF(Attendance($C46,'Daily Register'!MQ$3:MQ$242)=TRUE,\"P\",\"A\")","v":"A"},{"$f":"IF(Attendance($C46,'Daily Register'!MR$3:MR$242)=TRUE,\"P\",\"A\")","v":"A"},{"$f":"IF(Attendance($C46,'Daily Register'!MS$3:MS$242)=TRUE,\"P\",\"A\")","v":"A"},{"$f":"IF(Attendance($C46,'Daily Register'!MT$3:MT$242)=TRUE,\"P\",\"A\")","v":"A"},{"$f":"IF(Attendance($C46,'Daily Register'!MU$3:MU$242)=TRUE,\"P\",\"A\")","v":"A"},{"$f":"IF(Attendance($C46,'Daily Register'!MV$3:MV$242)=TRUE,\"P\",\"A\")","v":"A"},{"$f":"IF(Attendance($C46,'Daily Register'!MW$3:MW$242)=TRUE,\"P\",\"A\")","v":"A"},{"$f":"IF(Attendance($C46,'Daily Register'!MX$3:MX$242)=TRUE,\"P\",\"A\")","v":"A"},{"$f":"IF(Attendance($C46,'Daily Register'!MY$3:MY$242)=TRUE,\"P\",\"A\")","v":"A"},{"$f":"IF(Attendance($C46,'Daily Register'!MZ$3:MZ$242)=TRUE,\"P\",\"A\")","v":"A"},{"$f":"IF(Attendance($C46,'Daily Register'!NA$3:NA$242)=TRUE,\"P\",\"A\")","v":"A"},{"$f":"IF(Attendance($C46,'Daily Register'!NB$3:NB$242)=TRUE,\"P\",\"A\")","v":"A"}]
[0,null,44,null,{"$f":"IF(Attendance($C47,'Daily Register'!A$3:A$242)=TRUE,\"P\",\"A\")","v":"A"},{"$f":"IF(Attendance($C47,'Daily Register'!B$3:B$242)=TRUE,\"P\",\"A\")","v":"A"},{"$f":"IF(Attendance($C47,'Daily Register'!C$3:C$242)=TRUE,\"P\",\"A\")","v":"A"},{"$f":"IF(Attendance($C47,'Daily Register'!D$3:D$242)=TRUE,\"P\",\"A\")","v":"A"},{"$f":"IF(Attendance($C47,'Daily Register'!E$3:E$242)=TRUE,\"P\",\"A\")","v":"A"},{"$f":"IF(Attendance($C47,'Daily Register'!F$3:F$242)=TRUE,\"P\",\"A\")","v":"A"},{"$f":"IF(Attendance($C47,'Daily Register'!G$3:G$242)=TRUE,\"P\",\"A\")","v":"A"},{"$f":"IF(Attendance($C47,'Daily Register'!H$3:H$242)=TRUE,\"P\",\"A\")","v":"A"},{"$f":"IF(Attendance($C47,'Daily Register'!I$3:I$242)=TRUE,\"P\",\"A\")","v":"A"},{"$f":"IF(Attendance($C47,'Daily Register'!J$3:J$242)=TRUE,\"P\",\"A\")","v":"A"},{"$f":"IF(Attendance($C47,'Daily Register'!K$3:K$242)=TRUE,\"P\",\"A\")","v":"A"},{"$f":"IF(Attendance($C47,'Daily Register'!L$3:L$242)=TRUE,\"P\",\"A\")","v":"A"},{"$f":"IF(Attendance($C47,'Daily Register'!M$3:M$242)=TRUE,\"P\",\"A\")","v":"A"},{"$f":"IF(Attendance($C47,'Daily Register'!N$3:N$242)=TRUE,\"P\",\"A\")","v":"A"},{"$f":"IF(Attendance($C47,'Daily Register'!O$3:O$242)=TRUE,\"P\",\"A\")","v":"A"},{"$f":"IF(Attendance($C47,'Daily Register'!P$3:P$242)=TRUE,\"P\",\"A\")","v":"A"},{"$f":"IF(Attendance($C47,'Daily Register'!Q$3:Q$242)=TRUE,\"P\",\"A\")","v":"A"},{"$f":"IF(Attendance($C47,'Daily Register'!R$3:R$242)=TRUE,\"P\",\"A\")","v":"A"},{"$f":"IF(Attendance($C47,'Daily Register'!S$3:S$242)=TRUE,\"P\",\"A\")","v":"A"},{"$f":"IF(Attendance($C47,'Daily Register'!T$3:T$242)=TRUE,\"P\",\"A\")","v":"A"},{"$f":"IF(Attendance($C47,'Daily Register'!U$3:U$242)=TRUE,\"P\",\"A\")","v":"A"},{"$f":"IF(Attendance($C47,'Daily Register'!V$3:V$242)=TRUE,\"P\",\"A\")","v":"A"},{"$f":"IF(Attendance($C47,'Daily Register'!W$3:W$242)=TRUE,\"P\",\"A\")","v":"A"},{"$f":"IF(Attendance($C47,'Daily Register'!X$3:X$242)=TRUE,\"P\",\"A\")","v":"A"},{"$f":"IF(Attendance($C47,'Daily Register'!Y$3:Y$242)=TRUE,\"P\",\"A\")","v":"A"},{"$f":"IF(Attendance($C47,'Daily Register'!Z$3:Z$242)=TRUE,\"P\",\"A\")","v":"A"},{"$f":"IF(Attendance($C47,'Daily Register'!AA$3:AA$242)=TRUE,\"P\",\"A\")","v":"A"},{"$f":"IF(Attendance($C47,'Daily Register'!AB$3:AB$242)=TRUE,\"P\",\"A\")","v":"A"},{"$f":"IF(Attendance($C47,'Daily Register'!AC$3:AC$242)=TRUE,\"P\",\"A\")","v":"A"},{"$f":"IF(Attendance($C47,'Daily Register'!AD$3:AD$242)=TRUE,\"P\",\"A\")","v":"A"},{"$f":"IF(Attendance($C47,'Daily Register'!AE$3:AE$242)=TRUE,\"P\",\"A\")","v":"A"},{"$f":"IF(Attendance($C47,'Daily Register'!AF$3:AF$242)=TRUE,\"P\",\"A\")","v":"A"},{"$f":"IF(Attendance($C47,'Daily Register'!AG$3:AG$242)=TRUE,\"P\",\"A\")","v":"A"},{"$f":"IF(Attendance($C47,'Daily Register'!AH$3:AH$242)=TRUE,\"P\",\"A\")","v":"A"},{"$f":"IF(Attendance($C47,'Daily Register'!AI$3:AI$242)=TRUE,\"P\",\"A\")","v":"A"},{"$f":"IF(Attendance($C47,'Daily Register'!AJ$3:AJ$242)=TRUE,\"P\",\"A\")","v":"A"},{"$f":"IF(Attendance($C47,'Daily Register'!AK$3:AK$242)=TRUE,\"P\",\"A\")","v":"A"},{"$f":"IF(Attendance($C47,'Daily Register'!AL$3:AL$242)=TRUE,\"P\",\"A\")","v":"A"},{"$f":"IF(Attendance($C47,'Daily Register'!AM$3:AM$242)=TRUE,\"P\",\"A\")","v":"A"},{"$f":"IF(Attendance($C47,'Daily Register'!AN$3:AN$242)=TRUE,\"P\",\"A\")","v":"A"},{"$f":"IF(Attendance($C47,'Daily Register'!AO$3:AO$242)=TRUE,\"P\",\"A\")","v":"A"},{"$f":"IF(Attendance($C47,'Daily Register'!AP$3:AP$242)=TRUE,\"P\",\"A\")","v":"A"},{"$f":"IF(Attendance($C47,'Daily Register'!AQ$3:AQ$242)=TRUE,\"P\",\"A\")","v":"A"},{"$f":"IF(Attendance($C47,'Daily Register'!AR$3:AR$242)=TRUE,\"P\",\"A\")","v":"A"},{"$f":"IF(Attendance($C47,'Daily Register'!AS$3:AS$242)=TRUE,\"P\",\"A\")","v":"A"},{"$f":"IF(Attendance($C47,'Daily Register'!AT$3:AT$242)=TRUE,\"P\",\"A\")","v":"A"},{"$f":"IF(Attendance($C47,'Daily Register'!AU$3:AU$242)=TRUE,\"P\",\"A\")","v":"A"},{"$f":"IF(Attendance($C47,'Daily Register'!AV$3:AV$242)=TRUE,\"P\",\"A\")","v":"A"},{"$f":"IF(Attendance($C47,'Daily Register'!AW$3:AW$242)=TRUE,\"P\",\"A\")","v":"A"},{"$f":"IF(Attendance($C47,'Daily Register'!AX$3:AX$242)=TRUE,\"P\",\"A\")","v":"A"},{"$f":"IF(Attendance($C47,'Daily Register'!AY$3:AY$242)=TRUE,\"P\",\"A\")","v":"A"},{"$f":"IF(Attendance($C47,'Daily Register'!AZ$3:AZ$242)=TRUE,\"P\",\"A\")","v":"A"},{"$f":"IF(Attendance($C47,'Daily Register'!BA$3:BA$242)=TRUE,\"P\",\"A\")","v":"A"},{"$f":"IF(Attendance($C47,'Daily Register'!BB$3:BB$242)=TRUE,\"P\",\"A\")","v":"A"},{"$f":"IF(Attendance($C47,'Daily Register'!BC$3:BC$242)=TRUE,\"P\",\"A\")","v":"A"},{"$f":"IF(Attendance($C47,'Daily Register'!BD$3:BD$242)=TRUE,\"P\",\"A\")","v":"A"},{"$f":"IF(Attendance($C47,'Daily Register'!BE$3:BE$242)=TRUE,\"P\",\"A\")","v":"A"},{"$f":"IF(Attendance($C47,'Daily Register'!BF$3:BF$242)=TRUE,\"P\",\"A\")","v":"A"},{"$f":"IF(Attendance($C47,'Daily Register'!BG$3:BG$242)=TRUE,\"P\",\"A\")","v":"A"},{"$f":"IF(Attendance($C47,'Daily Register'!BH$3:BH$242)=TRUE,\"P\",\"A\")","v":"A"},{"$f":"IF(Attendance($C47,'Daily Register'!BI$3:BI$242)=TRUE,\"P\",\"A\")","v":"A"},{"$f":"IF(Attendance($C47,'Daily Register'!BJ$3:BJ$242)=TRUE,\"P\",\"A\")","v":"A"},{"$f":"IF(Attendance($C47,'Daily Register'!BK$3:BK$242)=TRUE,\"P\",\"A\")","v":"A"},{"$f":"IF(Attendance($C47,'Daily Register'!BL$3:BL$242)=TRUE,\"P\",\"A\")","v":"A"},{"$f":"IF(Attendance($C47,'Daily Register'!BM$3:BM$242)=TRUE,\"P\",\"A\")","v":"A"},{"$f":"IF(Attendance($C47,'Daily Register'!BN$3:BN$242)=TRUE,\"P\",\"A\")","v":"A"},{"$f":"IF(Attendance($C47,'Daily Register'!BO$3:BO$242)=TRUE,\"P\",\"A\")","v":"A"},{"$f":"IF(Attendance($C47,'Daily Register'!BP$3:BP$242)=TRUE,\"P\",\"A\")","v":"A"},{"$f":"IF(Attendance($C47,'Daily Register'!BQ$3:BQ$242)=TRUE,\"P\",\"A\")","v":"A"},{"$f":"IF(Attendance($C47,'Daily Register'!BR$3:BR$242)=TRUE,\"P\",\"A\")","v":"A"},{"$f":"IF(Attendance($C47,'Daily Register'!BS$3:BS$242)=TRUE,\"P\",\"A\")","v":"A"},{"$f":"IF(Attendance($C47,'Daily Register'!BT$3:BT$242)=TRUE,\"P\",\"A\")","v":"A"},{"$f":"IF(Attendance($C47,'Daily Register'!BU$3:BU$242)=TRUE,\"P\",\"A\")","v":"A"},{"$f":"IF(Attendance($C47,'Daily Register'!BV$3:BV$242)=TRUE,\"P\",\"A\")","v":"A"},{"$f":"IF(Attendance($C47,'Daily Register'!BW$3:BW$242)=TRUE,\"P\",\"A\")","v":"A"},{"$f":"IF(Attendance($C47,'Daily Register'!BX$3:BX$242)=TRUE,\"P\",\"A\")","v":"A"},{"$f":"IF(Attendance($C47,'Daily Register'!BY$3:BY$242)=TRUE,\"P\",\"A\")","v":"A"},{"$f":"IF(Attendance($C47,'Daily Register'!BZ$3:BZ$242)=TRUE,\"P\",\"A\")","v":"A"},{"$f":"IF(Attendance($C47,'Daily Register'!CA$3:CA$242)=TRUE,\"P\",\"A\")","v":"A"},{"$f":"IF(Attendance($C47,'Daily Register'!CB$3:CB$242)=TRUE,\"P\",\"A\")","v":"A"},{"$f":"IF(Attendance($C47,'Daily Register'!CC$3:CC$242)=TRUE,\"P\",\"A\")","v":"A"},{"$f":"IF(Attendance($C47,'Daily Register'!CD$3:CD$242)=TRUE,\"P\",\"A\")","v":"A"},{"$f":"IF(Attendance($C47,'Daily Register'!CE$3:CE$242)=TRUE,\"P\",\"A\")","v":"A"},{"$f":"IF(Attendance($C47,'Daily Register'!CF$3:CF$242)=TRUE,\"P\",\"A\")","v":"A"},{"$f":"IF(Attendance($C47,'Daily Register'!CG$3:CG$242)=TRUE,\"P\",\"A\")","v":"A"},{"$f":"IF(Attendance($C47,'Daily Register'!CH$3:CH$242)=TRUE,\"P\",\"A\")","v":"A"},{"$f":"IF(Attendance($C47,'Daily Register'!CI$3:CI$242)=TRUE,\"P\",\"A\")","v":"A"},{"$f":"IF(Attendance($C47,'Daily Register'!CJ$3:CJ$242)=TRUE,\"P\",\"A\")","v":"A"},{"$f":"IF(Attendance($C47,'Daily Register'!CK$3:CK$242)=TRUE,\"P\",\"A\")","v":"A"},{"$f":"IF(Attendance($C47,'Daily Register'!CL$3:CL$242)=TRUE,\"P\",\"A\")","v":"A"},{"$f":"IF(Attendance($C47,'Daily Register'!CM$3:CM$242)=TRUE,\"P\",\"A\")","v":"A"},{"$f":"IF(Attendance($C47,'Daily Register'!CN$3:CN$242)=TRUE,\"P\",\"A\")","v":"A"},{"$f":"IF(Attendance($C47,'Daily Register'!CO$3:CO$242)=TRUE,\"P\",\"A\")","v":"A"},{"$f":"IF(Attendance($C47,'Daily Register'!CP$3:CP$242)=TRUE,\"P\",\"A\")","v":"A"},{"$f":"IF(Attendance($C47,'Daily Register'!CQ$3:CQ$242)=TRUE,\"P\",\"A\")","v":"A"},{"$f":"IF(Attendance($C47,'Daily Register'!CR$3:CR$242)=TRUE,\"P\",\"A\")","v":"A"},{"$f":"IF(Attendance($C47,'Daily Register'!CS$3:CS$242)=TRUE,\"P\",\"A\")","v":"A"},{"$f":"IF(Attendance($C47,'Daily Register'!CT$3:CT$242)=TRUE,\"P\",\"A\")","v":"A"},{"$f":"IF(Attendance($C47,'Daily Register'!CU$3:CU$242)=TRUE,\"P\",\"A\")","v":"A"},{"$f":"IF(Attendance($C47,'Daily Register'!CV$3:CV$242)=TRUE,\"P\",\"A\")","v":"A"},{"$f":"IF(Attendance($C47,'Daily Register'!CW$3:CW$242)=TRUE,\"P\",\"A\")","v":"A"},{"$f":"IF(Attendance($C47,'Daily Register'!CX$3:CX$242)=TRUE,\"P\",\"A\")","v":"A"},{"$f":"IF(Attendance($C47,'Daily Register'!CY$3:CY$242)=TRUE,\"P\",\"A\")","v":"A"},{"$f":"IF(Attendance($C47,'Daily Register'!CZ$3:CZ$242)=TRUE,\"P\",\"A\")","v":"A"},{"$f":"IF(Attendance($C47,'Daily Register'!DA$3:DA$242)=TRUE,\"P\",\"A\")","v":"A"},{"$f":"IF(Attendance($C47,'Daily Register'!DB$3:DB$242)=TRUE,\"P\",\"A\")","v":"A"},{"$f":"IF(Attendance($C47,'Daily Register'!DC$3:DC$242)=TRUE,\"P\",\"A\")","v":"A"},{"$f":"IF(Attendance($C47,'Daily Register'!DD$3:DD$242)=TRUE,\"P\",\"A\")","v":"A"},{"$f":"IF(Attendance($C47,'Daily Register'!DE$3:DE$242)=TRUE,\"P\",\"A\")","v":"A"},{"$f":"IF(Attendance($C47,'Daily Register'!DF$3:DF$242)=TRUE,\"P\",\"A\")","v":"A"},{"$f":"IF(Attendance($C47,'Daily Register'!DG$3:DG$242)=TRUE,\"P\",\"A\")","v":"A"},{"$f":"IF(Attendance($C47,'Daily Register'!DH$3:DH$242)=TRUE,\"P\",\"A\")","v":"A"},{"$f":"IF(Attendance($C47,'Daily Register'!DI$3:DI$242)=TRUE,\"P\",\"A\")","v":"A"},{"$f":"IF(Attendance($C47,'Daily Register'!DJ$3:DJ$242)=TRUE,\"P\",\"A\")","v":"A"},{"$f":"IF(Attendance($C47,'Daily Register'!DK$3:DK$242)=TRUE,\"P\",\"A\")","v":"A"},{"$f":"IF(Attendance($C47,'Daily Register'!DL$3:DL$242)=TRUE,\"P\",\"A\")","v":"A"},{"$f":"IF(Attendance($C47,'Daily Register'!DM$3:DM$242)=TRUE,\"P\",\"A\")","v":"A"},{"$f":"IF(Attendance($C47,'Daily Register'!DN$3:DN$242)=TRUE,\"P\",\"A\")","v":"A"},{"$f":"IF(Attendance($C47,'Daily Register'!DO$3:DO$242)=TRUE,\"P\",\"A\")","v":"A"},{"$f":"IF(Attendance($C47,'Daily Register'!DP$3:DP$242)=TRUE,\"P\",\"A\")","v":"A"},{"$f":"IF(Attendance($C47,'Daily Register'!DQ$3:DQ$242)=TRUE,\"P\",\"A\")","v":"A"},{"$f":"IF(Attendance($C47,'Daily Register'!DR$3:DR$242)=TRUE,\"P\",\"A\")","v":"A"},{"$f":"IF(Attendance($C47,'Daily Register'!DS$3:DS$242)=TRUE,\"P\",\"A\")","v":"A"},{"$f":"IF(Attendance($C47,'Daily Register'!DT$3:DT$242)=TRUE,\"P\",\"A\")","v":"A"},{"$f":"IF(Attendance($C47,'Daily Register'!DU$3:DU$242)=TRUE,\"P\",\"A\")","v":"A"},{"$f":"IF(Attendance($C47,'Daily Register'!DV$3:DV$242)=TRUE,\"P\",\"A\")","v":"A"},{"$f":"IF(Attendance($C47,'Daily Register'!DW$3:DW$242)=TRUE,\"P\",\"A\")","v":"A"},{"$f":"IF(Attendance($C47,'Daily Register'!DX$3:DX$242)=TRUE,\"P\",\"A\")","v":"A"},{"$f":"IF(Attendance($C47,'Daily Register'!DY$3:DY$242)=TRUE,\"P\",\"A\")","v":"A"},{"$f":"IF(Attendance($C47,'Daily Register'!DZ$3:DZ$242)=TRUE,\"P\",\"A\")","v":"A"},{"$f":"IF(Attendance($C47,'Daily Register'!EA$3:EA$242)=TRUE,\"P\",\"A\")","v":"A"},{"$f":"IF(Attendance($C47,'Daily Register'!EB$3:EB$242)=TRUE,\"P\",\"A\")","v":"A"},{"$f":"IF(Attendance($C47,'Daily Register'!EC$3:EC$242)=TRUE,\"P\",\"A\")","v":"A"},{"$f":"IF(Attendance($C47,'Daily Register'!ED$3:ED$242)=TRUE,\"P\",\"A\")","v":"A"},{"$f":"IF(Attendance($C47,'Daily Register'!EE$3:EE$242)=TRUE,\"P\",\"A\")","v":"A"},{"$f":"IF(Attendance($C47,'Daily Register'!EF$3:EF$242)=TRUE,\"P\",\"A\")","v":"A"},{"$f":"IF(Attendance($C47,'Daily Register'!EG$3:EG$242)=TRUE,\"P\",\"A\")","v":"A"},{"$f":"IF(Attendance($C47,'Daily Register'!EH$3:EH$242)=TRUE,\"P\",\"A\")","v":"A"},{"$f":"IF(Attendance($C47,'Daily Register'!EI$3:EI$242)=TRUE,\"P\",\"A\")","v":"A"},{"$f":"IF(Attendance($C47,'Daily Register'!EJ$3:EJ$242)=TRUE,\"P\",\"A\")","v":"A"},{"$f":"IF(Attendance($C47,'Daily Register'!EK$3:EK$242)=TRUE,\"P\",\"A\")","v":"A"},{"$f":"IF(Attendance($C47,'Daily Register'!EL$3:EL$242)=TRUE,\"P\",\"A\")","v":"A"},{"$f":"IF(Attendance($C47,'Daily Register'!EM$22:EM$242)=TRUE,\"P\",\"A\")","v":"A"},{"$f":"IF(Attendance($C47,'Daily Register'!EN$3:EN$242)=TRUE,\"P\",\"A\")","v":"A"},{"$f":"IF(Attendance($C47,'Daily Register'!EO$3:EO$242)=TRUE,\"P\",\"A\")","v":"A"},{"$f":"IF(Attendance($C47,'Daily Register'!EP$3:EP$242)=TRUE,\"P\",\"A\")","v":"A"},{"$f":"IF(Attendance($C47,'Daily Register'!EQ$3:EQ$242)=TRUE,\"P\",\"A\")","v":"A"},{"$f":"IF(Attendance($C47,'Daily Register'!ER$3:ER$242)=TRUE,\"P\",\"A\")","v":"A"},{"$f":"IF(Attendance($C47,'Daily Register'!ES$3:ES$242)=TRUE,\"P\",\"A\")","v":"A"},{"$f":"IF(Attendance($C47,'Daily Register'!ET$3:ET$242)=TRUE,\"P\",\"A\")","v":"A"},{"$f":"IF(Attendance($C47,'Daily Register'!EU$3:EU$242)=TRUE,\"P\",\"A\")","v":"A"},{"$f":"IF(Attendance($C47,'Daily Register'!EV$3:EV$242)=TRUE,\"P\",\"A\")","v":"A"},{"$f":"IF(Attendance($C47,'Daily Register'!EW$3:EW$242)=TRUE,\"P\",\"A\")","v":"A"},{"$f":"IF(Attendance($C47,'Daily Register'!EX$3:EX$242)=TRUE,\"P\",\"A\")","v":"A"},{"$f":"IF(Attendance($C47,'Daily Register'!EY$3:EY$242)=TRUE,\"P\",\"A\")","v":"A"},{"$f":"IF(Attendance($C47,'Daily Register'!EZ$3:EZ$242)=TRUE,\"P\",\"A\")","v":"A"},{"$f":"IF(Attendance($C47,'Daily Register'!FA$3:FA$242)=TRUE,\"P\",\"A\")","v":"A"},{"$f":"IF(Attendance($C47,'Daily Register'!FB$3:FB$242)=TRUE,\"P\",\"A\")","v":"A"},{"$f":"IF(Attendance($C47,'Daily Register'!FC$3:FC$242)=TRUE,\"P\",\"A\")","v":"A"},{"$f":"IF(Attendance($C47,'Daily Register'!FD$3:FD$242)=TRUE,\"P\",\"A\")","v":"A"},{"$f":"IF(Attendance($C47,'Daily Register'!FE$3:FE$242)=TRUE,\"P\",\"A\")","v":"A"},{"$f":"IF(Attendance($C47,'Daily Register'!FF$3:FF$242)=TRUE,\"P\",\"A\")","v":"A"},{"$f":"IF(Attendance($C47,'Daily Register'!FG$3:FG$242)=TRUE,\"P\",\"A\")","v":"A"},{"$f":"IF(Attendance($C47,'Daily Register'!FH$3:FH$242)=TRUE,\"P\",\"A\")","v":"A"},{"$f":"IF(Attendance($C47,'Daily Register'!FI$3:FI$242)=TRUE,\"P\",\"A\")","v":"A"},{"$f":"IF(Attendance($C47,'Daily Register'!FJ$3:FJ$242)=TRUE,\"P\",\"A\")","v":"A"},{"$f":"IF(Attendance($C47,'Daily Register'!FK$3:FK$242)=TRUE,\"P\",\"A\")","v":"A"},{"$f":"IF(Attendance($C47,'Daily Register'!FL$3:FL$242)=TRUE,\"P\",\"A\")","v":"A"},{"$f":"IF(Attendance($C47,'Daily Register'!FM$3:FM$242)=TRUE,\"P\",\"A\")","v":"A"},{"$f":"IF(Attendance($C47,'Daily Register'!FN$3:FN$242)=TRUE,\"P\",\"A\")","v":"A"},{"$f":"IF(Attendance($C47,'Daily Register'!FO$3:FO$242)=TRUE,\"P\",\"A\")","v":"A"},{"$f":"IF(Attendance($C47,'Daily Register'!FP$3:FP$242)=TRUE,\"P\",\"A\")","v":"A"},{"$f":"IF(Attendance($C47,'Daily Register'!FQ$3:FQ$242)=TRUE,\"P\",\"A\")","v":"A"},{"$f":"IF(Attendance($C47,'Daily Register'!FR$3:FR$242)=TRUE,\"P\",\"A\")","v":"A"},{"$f":"IF(Attendance($C47,'Daily Register'!FS$3:FS$242)=TRUE,\"P\",\"A\")","v":"A"},{"$f":"IF(Attendance($C47,'Daily Register'!FT$3:FT$242)=TRUE,\"P\",\"A\")","v":"A"},{"$f":"IF(Attendance($C47,'Daily Register'!FU$3:FU$242)=TRUE,\"P\",\"A\")","v":"A"},{"$f":"IF(Attendance($C47,'Daily Register'!FV$3:FV$242)=TRUE,\"P\",\"A\")","v":"A"},{"$f":"IF(Attendance($C47,'Daily Register'!FW$3:FW$242)=TRUE,\"P\",\"A\")","v":"A"},{"$f":"IF(Attendance($C47,'Daily Register'!FX$3:FX$242)=TRUE,\"P\",\"A\")","v":"A"},{"$f":"IF(Attendance($C47,'Daily Register'!FY$3:FY$242)=TRUE,\"P\",\"A\")","v":"A"},{"$f":"IF(Attendance($C47,'Daily Register'!FZ$3:FZ$242)=TRUE,\"P\",\"A\")","v":"A"},{"$f":"IF(Attendance($C47,'Daily Register'!GA$3:GA$242)=TRUE,\"P\",\"A\")","v":"A"},{"$f":"IF(Attendance($C47,'Daily Register'!GB$3:GB$242)=TRUE,\"P\",\"A\")","v":"A"},{"$f":"IF(Attendance($C47,'Daily Register'!GC$3:GC$242)=TRUE,\"P\",\"A\")","v":"A"},{"$f":"IF(Attendance($C47,'Daily Register'!GD$3:GD$242)=TRUE,\"P\",\"A\")","v":"A"},{"$f":"IF(Attendance($C47,'Daily Register'!GE$3:GE$242)=TRUE,\"P\",\"A\")","v":"A"},{"$f":"IF(Attendance($C47,'Daily Register'!GF$3:GF$242)=TRUE,\"P\",\"A\")","v":"A"},{"$f":"IF(Attendance($C47,'Daily Register'!GG$3:GG$242)=TRUE,\"P\",\"A\")","v":"A"},{"$f":"IF(Attendance($C47,'Daily Register'!GH$3:GH$242)=TRUE,\"P\",\"A\")","v":"A"},{"$f":"IF(Attendance($C47,'Daily Register'!GI$3:GI$242)=TRUE,\"P\",\"A\")","v":"A"},{"$f":"IF(Attendance($C47,'Daily Register'!GJ$3:GJ$242)=TRUE,\"P\",\"A\")","v":"A"},{"$f":"IF(Attendance($C47,'Daily Register'!GK$3:GK$242)=TRUE,\"P\",\"A\")","v":"A"},{"$f":"IF(Attendance($C47,'Daily Register'!GL$3:GL$242)=TRUE,\"P\",\"A\")","v":"A"},{"$f":"IF(Attendance($C47,'Daily Register'!GM$3:GM$242)=TRUE,\"P\",\"A\")","v":"A"},{"$f":"IF(Attendance($C47,'Daily Register'!GN$3:GN$242)=TRUE,\"P\",\"A\")","v":"A"},{"$f":"IF(Attendance($C47,'Daily Register'!GO$3:GO$242)=TRUE,\"P\",\"A\")","v":"A"},{"$f":"IF(Attendance($C47,'Daily Register'!GP$3:GP$242)=TRUE,\"P\",\"A\")","v":"A"},{"$f":"IF(Attendance($C47,'Daily Register'!GQ$3:GQ$242)=TRUE,\"P\",\"A\")","v":"A"},{"$f":"IF(Attendance($C47,'Daily Register'!GR$3:GR$242)=TRUE,\"P\",\"A\")","v":"A"},{"$f":"IF(Attendance($C47,'Daily Register'!GS$3:GS$242)=TRUE,\"P\",\"A\")","v":"A"},{"$f":"IF(Attendance($C47,'Daily Register'!GT$3:GT$242)=TRUE,\"P\",\"A\")","v":"A"},{"$f":"IF(Attendance($C47,'Daily Register'!GU$3:GU$242)=TRUE,\"P\",\"A\")","v":"A"},{"$f":"IF(Attendance($C47,'Daily Register'!GV$3:GV$242)=TRUE,\"P\",\"A\")","v":"A"},{"$f":"IF(Attendance($C47,'Daily Register'!GW$3:GW$242)=TRUE,\"P\",\"A\")","v":"A"},{"$f":"IF(Attendance($C47,'Daily Register'!GX$3:GX$242)=TRUE,\"P\",\"A\")","v":"A"},{"$f":"IF(Attendance($C47,'Daily Register'!GY$3:GY$242)=TRUE,\"P\",\"A\")","v":"A"},{"$f":"IF(Attendance($C47,'Daily Register'!GZ$3:GZ$242)=TRUE,\"P\",\"A\")","v":"A"},{"$f":"IF(Attendance($C47,'Daily Register'!HA$3:HA$242)=TRUE,\"P\",\"A\")","v":"A"},{"$f":"IF(Attendance($C47,'Daily Register'!HB$3:HB$242)=TRUE,\"P\",\"A\")","v":"A"},{"$f":"IF(Attendance($C47,'Daily Register'!HC$3:HC$242)=TRUE,\"P\",\"A\")","v":"A"},{"$f":"IF(Attendance($C47,'Daily Register'!HD$3:HD$242)=TRUE,\"P\",\"A\")","v":"A"},{"$f":"IF(Attendance($C47,'Daily Register'!HE$3:HE$242)=TRUE,\"P\",\"A\")","v":"A"},{"$f":"IF(Attendance($C47,'Daily Register'!HF$3:HF$242)=TRUE,\"P\",\"A\")","v":"A"},{"$f":"IF(Attendance($C47,'Daily Register'!HG$3:HG$242)=TRUE,\"P\",\"A\")","v":"A"},{"$f":"IF(Attendance($C47,'Daily Register'!HH$3:HH$242)=TRUE,\"P\",\"A\")","v":"A"},{"$f":"IF(Attendance($C47,'Daily Register'!HI$3:HI$242)=TRUE,\"P\",\"A\")","v":"A"},{"$f":"IF(Attendance($C47,'Daily Register'!HJ$3:HJ$242)=TRUE,\"P\",\"A\")","v":"A"},{"$f":"IF(Attendance($C47,'Daily Register'!HK$3:HK$242)=TRUE,\"P\",\"A\")","v":"A"},{"$f":"IF(Attendance($C47,'Daily Register'!HL$3:HL$242)=TRUE,\"P\",\"A\")","v":"A"},{"$f":"IF(Attendance($C47,'Daily Register'!HM$3:HM$242)=TRUE,\"P\",\"A\")","v":"A"},{"$f":"IF(Attendance($C47,'Daily Register'!HN$3:HN$242)=TRUE,\"P\",\"A\")","v":"A"},{"$f":"IF(Attendance($C47,'Daily Register'!HO$3:HO$242)=TRUE,\"P\",\"A\")","v":"A"},{"$f":"IF(Attendance($C47,'Daily Register'!HP$3:HP$242)=TRUE,\"P\",\"A\")","v":"A"},{"$f":"IF(Attendance($C47,'Daily Register'!HQ$3:HQ$242)=TRUE,\"P\",\"A\")","v":"A"},{"$f":"IF(Attendance($C47,'Daily Register'!HR$3:HR$242)=TRUE,\"P\",\"A\")","v":"A"},{"$f":"IF(Attendance($C47,'Daily Register'!HS$3:HS$242)=TRUE,\"P\",\"A\")","v":"A"},{"$f":"IF(Attendance($C47,'Daily Register'!HT$3:HT$242)=TRUE,\"P\",\"A\")","v":"A"},{"$f":"IF(Attendance($C47,'Daily Register'!HU$3:HU$242)=TRUE,\"P\",\"A\")","v":"A"},{"$f":"IF(Attendance($C47,'Daily Register'!HV$3:HV$242)=TRUE,\"P\",\"A\")","v":"A"},{"$f":"IF(Attendance($C47,'Daily Register'!HW$3:HW$242)=TRUE,\"P\",\"A\")","v":"A"},{"$f":"IF(Attendance($C47,'Daily Register'!HX$3:HX$242)=TRUE,\"P\",\"A\")","v":"A"},{"$f":"IF(Attendance($C47,'Daily Register'!HY$3:HY$242)=TRUE,\"P\",\"A\")","v":"A"},{"$f":"IF(Attendance($C47,'Daily Register'!HZ$3:HZ$242)=TRUE,\"P\",\"A\")","v":"A"},{"$f":"IF(Attendance($C47,'Daily Register'!IA$3:IA$242)=TRUE,\"P\",\"A\")","v":"A"},{"$f":"IF(Attendance($C47,'Daily Register'!IB$3:IB$242)=TRUE,\"P\",\"A\")","v":"A"},{"$f":"IF(Attendance($C47,'Daily Register'!IC$3:IC$242)=TRUE,\"P\",\"A\")","v":"A"},{"$f":"IF(Attendance($C47,'Daily Register'!ID$3:ID$242)=TRUE,\"P\",\"A\")","v":"A"},{"$f":"IF(Attendance($C47,'Daily Register'!IE$3:IE$242)=TRUE,\"P\",\"A\")","v":"A"},{"$f":"IF(Attendance($C47,'Daily Register'!IF$3:IF$242)=TRUE,\"P\",\"A\")","v":"A"},{"$f":"IF(Attendance($C47,'Daily Register'!IG$3:IG$242)=TRUE,\"P\",\"A\")","v":"A"},{"$f":"IF(Attendance($C47,'Daily Register'!IH$3:IH$242)=TRUE,\"P\",\"A\")","v":"A"},{"$f":"IF(Attendance($C47,'Daily Register'!II$3:II$242)=TRUE,\"P\",\"A\")","v":"A"},{"$f":"IF(Attendance($C47,'Daily Register'!IJ$3:IJ$242)=TRUE,\"P\",\"A\")","v":"A"},{"$f":"IF(Attendance($C47,'Daily Register'!IK$3:IK$242)=TRUE,\"P\",\"A\")","v":"A"},{"$f":"IF(Attendance($C47,'Daily Register'!IL$3:IL$242)=TRUE,\"P\",\"A\")","v":"A"},{"$f":"IF(Attendance($C47,'Daily Register'!IM$3:IM$242)=TRUE,\"P\",\"A\")","v":"A"},{"$f":"IF(Attendance($C47,'Daily Register'!IN$3:IN$242)=TRUE,\"P\",\"A\")","v":"A"},{"$f":"IF(Attendance($C47,'Daily Register'!IO$3:IO$242)=TRUE,\"P\",\"A\")","v":"A"},{"$f":"IF(Attendance($C47,'Daily Register'!IP$3:IP$242)=TRUE,\"P\",\"A\")","v":"A"},{"$f":"IF(Attendance($C47,'Daily Register'!IQ$3:IQ$242)=TRUE,\"P\",\"A\")","v":"A"},{"$f":"IF(Attendance($C47,'Daily Register'!IR$3:IR$242)=TRUE,\"P\",\"A\")","v":"A"},{"$f":"IF(Attendance($C47,'Daily Register'!IS$3:IS$242)=TRUE,\"P\",\"A\")","v":"A"},{"$f":"IF(Attendance($C47,'Daily Register'!IT$3:IT$242)=TRUE,\"P\",\"A\")","v":"A"},{"$f":"IF(Attendance($C47,'Daily Register'!IU$3:IU$242)=TRUE,\"P\",\"A\")","v":"A"},{"$f":"IF(Attendance($C47,'Daily Register'!IV$3:IV$242)=TRUE,\"P\",\"A\")","v":"A"},{"$f":"IF(Attendance($C47,'Daily Register'!IW$3:IW$242)=TRUE,\"P\",\"A\")","v":"A"},{"$f":"IF(Attendance($C47,'Daily Register'!IX$3:IX$242)=TRUE,\"P\",\"A\")","v":"A"},{"$f":"IF(Attendance($C47,'Daily Register'!IY$3:IY$242)=TRUE,\"P\",\"A\")","v":"A"},{"$f":"IF(Attendance($C47,'Daily Register'!IZ$3:IZ$242)=TRUE,\"P\",\"A\")","v":"A"},{"$f":"IF(Attendance($C47,'Daily Register'!JA$3:JA$242)=TRUE,\"P\",\"A\")","v":"A"},{"$f":"IF(Attendance($C47,'Daily Register'!JB$3:JB$242)=TRUE,\"P\",\"A\")","v":"A"},{"$f":"IF(Attendance($C47,'Daily Register'!JC$3:JC$242)=TRUE,\"P\",\"A\")","v":"A"},{"$f":"IF(Attendance($C47,'Daily Register'!JD$3:JD$242)=TRUE,\"P\",\"A\")","v":"A"},{"$f":"IF(Attendance($C47,'Daily Register'!JE$3:JE$242)=TRUE,\"P\",\"A\")","v":"A"},{"$f":"IF(Attendance($C47,'Daily Register'!JF$3:JF$242)=TRUE,\"P\",\"A\")","v":"A"},{"$f":"IF(Attendance($C47,'Daily Register'!JG$3:JG$242)=TRUE,\"P\",\"A\")","v":"A"},{"$f":"IF(Attendance($C47,'Daily Register'!JH$3:JH$242)=TRUE,\"P\",\"A\")","v":"A"},{"$f":"IF(Attendance($C47,'Daily Register'!JI$3:JI$242)=TRUE,\"P\",\"A\")","v":"A"},{"$f":"IF(Attendance($C47,'Daily Register'!JJ$3:JJ$242)=TRUE,\"P\",\"A\")","v":"A"},{"$f":"IF(Attendance($C47,'Daily Register'!JK$3:JK$242)=TRUE,\"P\",\"A\")","v":"A"},{"$f":"IF(Attendance($C47,'Daily Register'!JL$3:JL$242)=TRUE,\"P\",\"A\")","v":"A"},{"$f":"IF(Attendance($C47,'Daily Register'!JM$3:JM$242)=TRUE,\"P\",\"A\")","v":"A"},{"$f":"IF(Attendance($C47,'Daily Register'!JN$3:JN$242)=TRUE,\"P\",\"A\")","v":"A"},{"$f":"IF(Attendance($C47,'Daily Register'!JO$3:JO$242)=TRUE,\"P\",\"A\")","v":"A"},{"$f":"IF(Attendance($C47,'Daily Register'!JP$3:JP$242)=TRUE,\"P\",\"A\")","v":"A"},{"$f":"IF(Attendance($C47,'Daily Register'!JQ$3:JQ$242)=TRUE,\"P\",\"A\")","v":"A"},{"$f":"IF(Attendance($C47,'Daily Register'!JR$3:JR$242)=TRUE,\"P\",\"A\")","v":"A"},{"$f":"IF(Attendance($C47,'Daily Register'!JS$3:JS$242)=TRUE,\"P\",\"A\")","v":"A"},{"$f":"IF(Attendance($C47,'Daily Register'!JT$3:JT$242)=TRUE,\"P\",\"A\")","v":"A"},{"$f":"IF(Attendance($C47,'Daily Register'!JU$3:JU$242)=TRUE,\"P\",\"A\")","v":"A"},{"$f":"IF(Attendance($C47,'Daily Register'!JV$3:JV$242)=TRUE,\"P\",\"A\")","v":"A"},{"$f":"IF(Attendance($C47,'Daily Register'!JW$3:JW$242)=TRUE,\"P\",\"A\")","v":"A"},{"$f":"IF(Attendance($C47,'Daily Register'!JX$3:JX$242)=TRUE,\"P\",\"A\")","v":"A"},{"$f":"IF(Attendance($C47,'Daily Register'!JY$3:JY$242)=TRUE,\"P\",\"A\")","v":"A"},{"$f":"IF(Attendance($C47,'Daily Register'!JZ$3:JZ$242)=TRUE,\"P\",\"A\")","v":"A"},{"$f":"IF(Attendance($C47,'Daily Register'!KA$3:KA$242)=TRUE,\"P\",\"A\")","v":"A"},{"$f":"IF(Attendance($C47,'Daily Register'!KB$3:KB$242)=TRUE,\"P\",\"A\")","v":"A"},{"$f":"IF(Attendance($C47,'Daily Register'!KC$3:KC$242)=TRUE,\"P\",\"A\")","v":"A"},{"$f":"IF(Attendance($C47,'Daily Register'!KD$3:KD$242)=TRUE,\"P\",\"A\")","v":"A"},{"$f":"IF(Attendance($C47,'Daily Register'!KE$3:KE$242)=TRUE,\"P\",\"A\")","v":"A"},{"$f":"IF(Attendance($C47,'Daily Register'!KF$3:KF$242)=TRUE,\"P\",\"A\")","v":"A"},{"$f":"IF(Attendance($C47,'Daily Register'!KG$3:KG$242)=TRUE,\"P\",\"A\")","v":"A"},{"$f":"IF(Attendance($C47,'Daily Register'!KH$3:KH$242)=TRUE,\"P\",\"A\")","v":"A"},{"$f":"IF(Attendance($C47,'Daily Register'!KI$3:KI$242)=TRUE,\"P\",\"A\")","v":"A"},{"$f":"IF(Attendance($C47,'Daily Register'!KJ$3:KJ$242)=TRUE,\"P\",\"A\")","v":"A"},{"$f":"IF(Attendance($C47,'Daily Register'!KK$3:KK$242)=TRUE,\"P\",\"A\")","v":"A"},{"$f":"IF(Attendance($C47,'Daily Register'!KL$3:KL$242)=TRUE,\"P\",\"A\")","v":"A"},{"$f":"IF(Attendance($C47,'Daily Register'!KM$3:KM$242)=TRUE,\"P\",\"A\")","v":"A"},{"$f":"IF(Attendance($C47,'Daily Register'!KN$3:KN$242)=TRUE,\"P\",\"A\")","v":"A"},{"$f":"IF(Attendance($C47,'Daily Register'!KO$3:KO$242)=TRUE,\"P\",\"A\")","v":"A"},{"$f":"IF(Attendance($C47,'Daily Register'!KP$3:KP$242)=TRUE,\"P\",\"A\")","v":"A"},{"$f":"IF(Attendance($C47,'Daily Register'!KQ$3:KQ$242)=TRUE,\"P\",\"A\")","v":"A"},{"$f":"IF(Attendance($C47,'Daily Register'!KR$3:KR$242)=TRUE,\"P\",\"A\")","v":"A"},{"$f":"IF(Attendance($C47,'Daily Register'!KS$3:KS$242)=TRUE,\"P\",\"A\")","v":"A"},{"$f":"IF(Attendance($C47,'Daily Register'!KT$3:KT$242)=TRUE,\"P\",\"A\")","v":"A"},{"$f":"IF(Attendance($C47,'Daily Register'!KU$3:KU$242)=TRUE,\"P\",\"A\")","v":"A"},{"$f":"IF(Attendance($C47,'Daily Register'!KV$3:KV$242)=TRUE,\"P\",\"A\")","v":"A"},{"$f":"IF(Attendance($C47,'Daily Register'!KW$3:KW$242)=TRUE,\"P\",\"A\")","v":"A"},{"$f":"IF(Attendance($C47,'Daily Register'!KX$3:KX$242)=TRUE,\"P\",\"A\")","v":"A"},{"$f":"IF(Attendance($C47,'Daily Register'!KY$3:KY$242)=TRUE,\"P\",\"A\")","v":"A"},{"$f":"IF(Attendance($C47,'Daily Register'!KZ$3:KZ$242)=TRUE,\"P\",\"A\")","v":"A"},{"$f":"IF(Attendance($C47,'Daily Register'!LA$3:LA$242)=TRUE,\"P\",\"A\")","v":"A"},{"$f":"IF(Attendance($C47,'Daily Register'!LB$3:LB$242)=TRUE,\"P\",\"A\")","v":"A"},{"$f":"IF(Attendance($C47,'Daily Register'!LC$3:LC$242)=TRUE,\"P\",\"A\")","v":"A"},{"$f":"IF(Attendance($C47,'Daily Register'!LD$3:LD$242)=TRUE,\"P\",\"A\")","v":"A"},{"$f":"IF(Attendance($C47,'Daily Register'!LE$3:LE$242)=TRUE,\"P\",\"A\")","v":"A"},{"$f":"IF(Attendance($C47,'Daily Register'!LF$3:LF$242)=TRUE,\"P\",\"A\")","v":"A"},{"$f":"IF(Attendance($C47,'Daily Register'!LG$3:LG$242)=TRUE,\"P\",\"A\")","v":"A"},{"$f":"IF(Attendance($C47,'Daily Register'!LH$3:LH$242)=TRUE,\"P\",\"A\")","v":"A"},{"$f":"IF(Attendance($C47,'Daily Register'!LI$3:LI$242)=TRUE,\"P\",\"A\")","v":"A"},{"$f":"IF(Attendance($C47,'Daily Register'!LJ$3:LJ$242)=TRUE,\"P\",\"A\")","v":"A"},{"$f":"IF(Attendance($C47,'Daily Register'!LK$3:LK$242)=TRUE,\"P\",\"A\")","v":"A"},{"$f":"IF(Attendance($C47,'Daily Register'!LL$3:LL$242)=TRUE,\"P\",\"A\")","v":"A"},{"$f":"IF(Attendance($C47,'Daily Register'!LM$3:LM$242)=TRUE,\"P\",\"A\")","v":"A"},{"$f":"IF(Attendance($C47,'Daily Register'!LN$3:LN$242)=TRUE,\"P\",\"A\")","v":"A"},{"$f":"IF(Attendance($C47,'Daily Register'!LO$3:LO$242)=TRUE,\"P\",\"A\")","v":"A"},{"$f":"IF(Attendance($C47,'Daily Register'!LP$3:LP$242)=TRUE,\"P\",\"A\")","v":"A"},{"$f":"IF(Attendance($C47,'Daily Register'!LQ$3:LQ$242)=TRUE,\"P\",\"A\")","v":"A"},{"$f":"IF(Attendance($C47,'Daily Register'!LR$3:LR$242)=TRUE,\"P\",\"A\")","v":"A"},{"$f":"IF(Attendance($C47,'Daily Register'!LS$3:LS$242)=TRUE,\"P\",\"A\")","v":"A"},{"$f":"IF(Attendance($C47,'Daily Register'!LT$3:LT$242)=TRUE,\"P\",\"A\")","v":"A"},{"$f":"IF(Attendance($C47,'Daily Register'!LU$3:LU$242)=TRUE,\"P\",\"A\")","v":"A"},{"$f":"IF(Attendance($C47,'Daily Register'!LV$3:LV$242)=TRUE,\"P\",\"A\")","v":"A"},{"$f":"IF(Attendance($C47,'Daily Register'!LW$3:LW$242)=TRUE,\"P\",\"A\")","v":"A"},{"$f":"IF(Attendance($C47,'Daily Register'!LX$3:LX$242)=TRUE,\"P\",\"A\")","v":"A"},{"$f":"IF(Attendance($C47,'Daily Register'!LY$3:LY$242)=TRUE,\"P\",\"A\")","v":"A"},{"$f":"IF(Attendance($C47,'Daily Register'!LZ$3:LZ$242)=TRUE,\"P\",\"A\")","v":"A"},{"$f":"IF(Attendance($C47,'Daily Register'!MA$3:MA$242)=TRUE,\"P\",\"A\")","v":"A"},{"$f":"IF(Attendance($C47,'Daily Register'!MB$3:MB$242)=TRUE,\"P\",\"A\")","v":"A"},{"$f":"IF(Attendance($C47,'Daily Register'!MC$3:MC$242)=TRUE,\"P\",\"A\")","v":"A"},{"$f":"IF(Attendance($C47,'Daily Register'!MD$3:MD$242)=TRUE,\"P\",\"A\")","v":"A"},{"$f":"IF(Attendance($C47,'Daily Register'!ME$3:ME$242)=TRUE,\"P\",\"A\")","v":"A"},{"$f":"IF(Attendance($C47,'Daily Register'!MF$3:MF$242)=TRUE,\"P\",\"A\")","v":"A"},{"$f":"IF(Attendance($C47,'Daily Register'!MG$3:MG$242)=TRUE,\"P\",\"A\")","v":"A"},{"$f":"IF(Attendance($C47,'Daily Register'!MH$3:MH$242)=TRUE,\"P\",\"A\")","v":"A"},{"$f":"IF(Attendance($C47,'Daily Register'!MI$3:MI$242)=TRUE,\"P\",\"A\")","v":"A"},{"$f":"IF(Attendance($C47,'Daily Register'!MJ$3:MJ$242)=TRUE,\"P\",\"A\")","v":"A"},{"$f":"IF(Attendance($C47,'Daily Register'!MK$3:MK$242)=TRUE,\"P\",\"A\")","v":"A"},{"$f":"IF(Attendance($C47,'Daily Register'!ML$3:ML$242)=TRUE,\"P\",\"A\")","v":"A"},{"$f":"IF(Attendance($C47,'Daily Register'!MM$3:MM$242)=TRUE,\"P\",\"A\")","v":"A"},{"$f":"IF(Attendance($C47,'Daily Register'!MN$3:MN$242)=TRUE,\"P\",\"A\")","v":"A"},{"$f":"IF(Attendance($C47,'Daily Register'!MO$3:MO$242)=TRUE,\"P\",\"A\")","v":"A"},{"$f":"IF(Attendance($C47,'Daily Register'!MP$3:MP$242)=TRUE,\"P\",\"A\")","v":"A"},{"$f":"IF(Attendance($C47,'Daily Register'!MQ$3:MQ$242)=TRUE,\"P\",\"A\")","v":"A"},{"$f":"IF(Attendance($C47,'Daily Register'!MR$3:MR$242)=TRUE,\"P\",\"A\")","v":"A"},{"$f":"IF(Attendance($C47,'Daily Register'!MS$3:MS$242)=TRUE,\"P\",\"A\")","v":"A"},{"$f":"IF(Attendance($C47,'Daily Register'!MT$3:MT$242)=TRUE,\"P\",\"A\")","v":"A"},{"$f":"IF(Attendance($C47,'Daily Register'!MU$3:MU$242)=TRUE,\"P\",\"A\")","v":"A"},{"$f":"IF(Attendance($C47,'Daily Register'!MV$3:MV$242)=TRUE,\"P\",\"A\")","v":"A"},{"$f":"IF(Attendance($C47,'Daily Register'!MW$3:MW$242)=TRUE,\"P\",\"A\")","v":"A"},{"$f":"IF(Attendance($C47,'Daily Register'!MX$3:MX$242)=TRUE,\"P\",\"A\")","v":"A"},{"$f":"IF(Attendance($C47,'Daily Register'!MY$3:MY$242)=TRUE,\"P\",\"A\")","v":"A"},{"$f":"IF(Attendance($C47,'Daily Register'!MZ$3:MZ$242)=TRUE,\"P\",\"A\")","v":"A"},{"$f":"IF(Attendance($C47,'Daily Register'!NA$3:NA$242)=TRUE,\"P\",\"A\")","v":"A"},{"$f":"IF(Attendance($C47,'Daily Register'!NB$3:NB$242)=TRUE,\"P\",\"A\")","v":"A"}]
[0,null,45,null,{"$f":"IF(Attendance($C48,'Daily Register'!A$3:A$242)=TRUE,\"P\",\"A\")","v":"A"},{"$f":"IF(Attendance($C48,'Daily Register'!B$3:B$242)=TRUE,\"P\",\"A\")","v":"A"},{"$f":"IF(Attendance($C48,'Daily Register'!C$3:C$242)=TRUE,\"P\",\"A\")","v":"A"},{"$f":"IF(Attendance($C48,'Daily Register'!D$3:D$242)=TRUE,\"P\",\"A\")","v":"A"},{"$f":"IF(Attendance($C48,'Daily Register'!E$3:E$242)=TRUE,\"P\",\"A\")","v":"A"},{"$f":"IF(Attendance($C48,'Daily Register'!F$3:F$242)=TRUE,\"P\",\"A\")","v":"A"},{"$f":"IF(Attendance($C48,'Daily Register'!G$3:G$242)=TRUE,\"P\",\"A\")","v":"A"},{"$f":"IF(Attendance($C48,'Daily Register'!H$3:H$242)=TRUE,\"P\",\"A\")","v":"A"},{"$f":"IF(Attendance($C48,'Daily Register'!I$3:I$242)=TRUE,\"P\",\"A\")","v":"A"},{"$f":"IF(Attendance($C48,'Daily Register'!J$3:J$242)=TRUE,\"P\",\"A\")","v":"A"},{"$f":"IF(Attendance($C48,'Daily Register'!K$3:K$242)=TRUE,\"P\",\"A\")","v":"A"},{"$f":"IF(Attendance($C48,'Daily Register'!L$3:L$242)=TRUE,\"P\",\"A\")","v":"A"},{"$f":"IF(Attendance($C48,'Daily Register'!M$3:M$242)=TRUE,\"P\",\"A\")","v":"A"},{"$f":"IF(Attendance($C48,'Daily Register'!N$3:N$242)=TRUE,\"P\",\"A\")","v":"A"},{"$f":"IF(Attendance($C48,'Daily Register'!O$3:O$242)=TRUE,\"P\",\"A\")","v":"A"},{"$f":"IF(Attendance($C48,'Daily Register'!P$3:P$242)=TRUE,\"P\",\"A\")","v":"A"},{"$f":"IF(Attendance($C48,'Daily Register'!Q$3:Q$242)=TRUE,\"P\",\"A\")","v":"A"},{"$f":"IF(Attendance($C48,'Daily Register'!R$3:R$242)=TRUE,\"P\",\"A\")","v":"A"},{"$f":"IF(Attendance($C48,'Daily Register'!S$3:S$242)=TRUE,\"P\",\"A\")","v":"A"},{"$f":"IF(Attendance($C48,'Daily Register'!T$3:T$242)=TRUE,\"P\",\"A\")","v":"A"},{"$f":"IF(Attendance($C48,'Daily Register'!U$3:U$242)=TRUE,\"P\",\"A\")","v":"A"},{"$f":"IF(Attendance($C48,'Daily Register'!V$3:V$242)=TRUE,\"P\",\"A\")","v":"A"},{"$f":"IF(Attendance($C48,'Daily Register'!W$3:W$242)=TRUE,\"P\",\"A\")","v":"A"},{"$f":"IF(Attendance($C48,'Daily Register'!X$3:X$242)=TRUE,\"P\",\"A\")","v":"A"},{"$f":"IF(Attendance($C48,'Daily Register'!Y$3:Y$242)=TRUE,\"P\",\"A\")","v":"A"},{"$f":"IF(Attendance($C48,'Daily Register'!Z$3:Z$242)=TRUE,\"P\",\"A\")","v":"A"},{"$f":"IF(Attendance($C48,'Daily Register'!AA$3:AA$242)=TRUE,\"P\",\"A\")","v":"A"},{"$f":"IF(Attendance($C48,'Daily Register'!AB$3:AB$242)=TRUE,\"P\",\"A\")","v":"A"},{"$f":"IF(Attendance($C48,'Daily Register'!AC$3:AC$242)=TRUE,\"P\",\"A\")","v":"A"},{"$f":"IF(Attendance($C48,'Daily Register'!AD$3:AD$242)=TRUE,\"P\",\"A\")","v":"A"},{"$f":"IF(Attendance($C48,'Daily Register'!AE$3:AE$242)=TRUE,\"P\",\"A\")","v":"A"},{"$f":"IF(Attendance($C48,'Daily Register'!AF$3:AF$242)=TRUE,\"P\",\"A\")","v":"A"},{"$f":"IF(Attendance($C48,'Daily Register'!AG$3:AG$242)=TRUE,\"P\",\"A\")","v":"A"},{"$f":"IF(Attendance($C48,'Daily Register'!AH$3:AH$242)=TRUE,\"P\",\"A\")","v":"A"},{"$f":"IF(Attendance($C48,'Daily Register'!AI$3:AI$242)=TRUE,\"P\",\"A\")","v":"A"},{"$f":"IF(Attendance($C48,'Daily Register'!AJ$3:AJ$242)=TRUE,\"P\",\"A\")","v":"A"},{"$f":"IF(Attendance($C48,'Daily Register'!AK$3:AK$242)=TRUE,\"P\",\"A\")","v":"A"},{"$f":"IF(Attendance($C48,'Daily Register'!AL$3:AL$242)=TRUE,\"P\",\"A\")","v":"A"},{"$f":"IF(Attendance($C48,'Daily Register'!AM$3:AM$242)=TRUE,\"P\",\"A\")","v":"A"},{"$f":"IF(Attendance($C48,'Daily Register'!AN$3:AN$242)=TRUE,\"P\",\"A\")","v":"A"},{"$f":"IF(Attendance($C48,'Daily Register'!AO$3:AO$242)=TRUE,\"P\",\"A\")","v":"A"},{"$f":"IF(Attendance($C48,'Daily Register'!AP$3:AP$242)=TRUE,\"P\",\"A\")","v":"A"},{"$f":"IF(Attendance($C48,'Daily Register'!AQ$3:AQ$242)=TRUE,\"P\",\"A\")","v":"A"},{"$f":"IF(Attendance($C48,'Daily Register'!AR$3:AR$242)=TRUE,\"P\",\"A\")","v":"A"},{"$f":"IF(Attendance($C48,'Daily Register'!AS$3:AS$242)=TRUE,\"P\",\"A\")","v":"A"},{"$f":"IF(Attendance($C48,'Daily Register'!AT$3:AT$242)=TRUE,\"P\",\"A\")","v":"A"},{"$f":"IF(Attendance($C48,'Daily Register'!AU$3:AU$242)=TRUE,\"P\",\"A\")","v":"A"},{"$f":"IF(Attendance($C48,'Daily Register'!AV$3:AV$242)=TRUE,\"P\",\"A\")","v":"A"},{"$f":"IF(Attendance($C48,'Daily Register'!AW$3:AW$242)=TRUE,\"P\",\"A\")","v":"A"},{"$f":"IF(Attendance($C48,'Daily Register'!AX$3:AX$242)=TRUE,\"P\",\"A\")","v":"A"},{"$f":"IF(Attendance($C48,'Daily Register'!AY$3:AY$242)=TRUE,\"P\",\"A\")","v":"A"},{"$f":"IF(Attendance($C48,'Daily Register'!AZ$3:AZ$242)=TRUE,\"P\",\"A\")","v":"A"},{"$f":"IF(Attendance($C48,'Daily Register'!BA$3:BA$242)=TRUE,\"P\",\"A\")","v":"A"},{"$f":"IF(Attendance($C48,'Daily Register'!BB$3:BB$242)=TRUE,\"P\",\"A\")","v":"A"},{"$f":"IF(Attendance($C48,'Daily Register'!BC$3:BC$242)=TRUE,\"P\",\"A\")","v":"A"},{"$f":"IF(Attendance($C48,'Daily Register'!BD$3:BD$242)=TRUE,\"P\",\"A\")","v":"A"},{"$f":"IF(Attendance($C48,'Daily Register'!BE$3:BE$242)=TRUE,\"P\",\"A\")","v":"A"},{"$f":"IF(Attendance($C48,'Daily Register'!BF$3:BF$242)=TRUE,\"P\",\"A\")","v":"A"},{"$f":"IF(Attendance($C48,'Daily Register'!BG$3:BG$242)=TRUE,\"P\",\"A\")","v":"A"},{"$f":"IF(Attendance($C48,'Daily Register'!BH$3:BH$242)=TRUE,\"P\",\"A\")","v":"A"},{"$f":"IF(Attendance($C48,'Daily Register'!BI$3:BI$242)=TRUE,\"P\",\"A\")","v":"A"},{"$f":"IF(Attendance($C48,'Daily Register'!BJ$3:BJ$242)=TRUE,\"P\",\"A\")","v":"A"},{"$f":"IF(Attendance($C48,'Daily Register'!BK$3:BK$242)=TRUE,\"P\",\"A\")","v":"A"},{"$f":"IF(Attendance($C48,'Daily Register'!BL$3:BL$242)=TRUE,\"P\",\"A\")","v":"A"},{"$f":"IF(Attendance($C48,'Daily Register'!BM$3:BM$242)=TRUE,\"P\",\"A\")","v":"A"},{"$f":"IF(Attendance($C48,'Daily Register'!BN$3:BN$242)=TRUE,\"P\",\"A\")","v":"A"},{"$f":"IF(Attendance($C48,'Daily Register'!BO$3:BO$242)=TRUE,\"P\",\"A\")","v":"A"},{"$f":"IF(Attendance($C48,'Daily Register'!BP$3:BP$242)=TRUE,\"P\",\"A\")","v":"A"},{"$f":"IF(Attendance($C48,'Daily Register'!BQ$3:BQ$242)=TRUE,\"P\",\"A\")","v":"A"},{"$f":"IF(Attendance($C48,'Daily Register'!BR$3:BR$242)=TRUE,\"P\",\"A\")","v":"A"},{"$f":"IF(Attendance($C48,'Daily Register'!BS$3:BS$242)=TRUE,\"P\",\"A\")","v":"A"},{"$f":"IF(Attendance($C48,'Daily Register'!BT$3:BT$242)=TRUE,\"P\",\"A\")","v":"A"},{"$f":"IF(Attendance($C48,'Daily Register'!BU$3:BU$242)=TRUE,\"P\",\"A\")","v":"A"},{"$f":"IF(Attendance($C48,'Daily Register'!BV$3:BV$242)=TRUE,\"P\",\"A\")","v":"A"},{"$f":"IF(Attendance($C48,'Daily Register'!BW$3:BW$242)=TRUE,\"P\",\"A\")","v":"A"},{"$f":"IF(Attendance($C48,'Daily Register'!BX$3:BX$242)=TRUE,\"P\",\"A\")","v":"A"},{"$f":"IF(Attendance($C48,'Daily Register'!BY$3:BY$242)=TRUE,\"P\",\"A\")","v":"A"},{"$f":"IF(Attendance($C48,'Daily Register'!BZ$3:BZ$242)=TRUE,\"P\",\"A\")","v":"A"},{"$f":"IF(Attendance($C48,'Daily Register'!CA$3:CA$242)=TRUE,\"P\",\"A\")","v":"A"},{"$f":"IF(Attendance($C48,'Daily Register'!CB$3:CB$242)=TRUE,\"P\",\"A\")","v":"A"},{"$f":"IF(Attendance($C48,'Daily Register'!CC$3:CC$242)=TRUE,\"P\",\"A\")","v":"A"},{"$f":"IF(Attendance($C48,'Daily Register'!CD$3:CD$242)=TRUE,\"P\",\"A\")","v":"A"},{"$f":"IF(Attendance($C48,'Daily Register'!CE$3:CE$242)=TRUE,\"P\",\"A\")","v":"A"},{"$f":"IF(Attendance($C48,'Daily Register'!CF$3:CF$242)=TRUE,\"P\",\"A\")","v":"A"},{"$f":"IF(Attendance($C48,'Daily Register'!CG$3:CG$242)=TRUE,\"P\",\"A\")","v":"A"},{"$f":"IF(Attendance($C48,'Daily Register'!CH$3:CH$242)=TRUE,\"P\",\"A\")","v":"A"},{"$f":"IF(Attendance($C48,'Daily Register'!CI$3:CI$242)=TRUE,\"P\",\"A\")","v":"A"},{"$f":"IF(Attendance($C48,'Daily Register'!CJ$3:CJ$242)=TRUE,\"P\",\"A\")","v":"A"},{"$f":"IF(Attendance($C48,'Daily Register'!CK$3:CK$242)=TRUE,\"P\",\"A\")","v":"A"},{"$f":"IF(Attendance($C48,'Daily Register'!CL$3:CL$242)=TRUE,\"P\",\"A\")","v":"A"},{"$f":"IF(Attendance($C48,'Daily Register'!CM$3:CM$242)=TRUE,\"P\",\"A\")","v":"A"},{"$f":"IF(Attendance($C48,'Daily Register'!CN$3:CN$242)=TRUE,\"P\",\"A\")","v":"A"},{"$f":"IF(Attendance($C48,'Daily Register'!CO$3:CO$242)=TRUE,\"P\",\"A\")","v":"A"},{"$f":"IF(Attendance($C48,'Daily Register'!CP$3:CP$242)=TRUE,\"P\",\"A\")","v":"A"},{"$f":"IF(Attendance($C48,'Daily Register'!CQ$3:CQ$242)=TRUE,\"P\",\"A\")","v":"A"},{"$f":"IF(Attendance($C48,'Daily Register'!CR$3:CR$242)=TRUE,\"P\",\"A\")","v":"A"},{"$f":"IF(Attendance($C48,'Daily Register'!CS$3:CS$242)=TRUE,\"P\",\"A\")","v":"A"},{"$f":"IF(Attendance($C48,'Daily Register'!CT$3:CT$242)=TRUE,\"P\",\"A\")","v":"A"},{"$f":"IF(Attendance($C48,'Daily Register'!CU$3:CU$242)=TRUE,\"P\",\"A\")","v":"A"},{"$f":"IF(Attendance($C48,'Daily Register'!CV$3:CV$242)=TRUE,\"P\",\"A\")","v":"A"},{"$f":"IF(Attendance($C48,'Daily Register'!CW$3:CW$242)=TRUE,\"P\",\"A\")","v":"A"},{"$f":"IF(Attendance($C48,'Daily Register'!CX$3:CX$242)=TRUE,\"P\",\"A\")","v":"A"},{"$f":"IF(Attendance($C48,'Daily Register'!CY$3:CY$242)=TRUE,\"P\",\"A\")","v":"A"},{"$f":"IF(Attendance($C48,'Daily Register'!CZ$3:CZ$242)=TRUE,\"P\",\"A\")","v":"A"},{"$f":"IF(Attendance($C48,'Daily Register'!DA$3:DA$242)=TRUE,\"P\",\"A\")","v":"A"},{"$f":"IF(Attendance($C48,'Daily Register'!DB$3:DB$242)=TRUE,\"P\",\"A\")","v":"A"},{"$f":"IF(Attendance($C48,'Daily Register'!DC$3:DC$242)=TRUE,\"P\",\"A\")","v":"A"},{"$f":"IF(Attendance($C48,'Daily Register'!DD$3:DD$242)=TRUE,\"P\",\"A\")","v":"A"},{"$f":"IF(Attendance($C48,'Daily Register'!DE$3:DE$242)=TRUE,\"P\",\"A\")","v":"A"},{"$f":"IF(Attendance($C48,'Daily Register'!DF$3:DF$242)=TRUE,\"P\",\"A\")","v":"A"},{"$f":"IF(Attendance($C48,'Daily Register'!DG$3:DG$242)=TRUE,\"P\",\"A\")","v":"A"},{"$f":"IF(Attendance($C48,'Daily Register'!DH$3:DH$242)=TRUE,\"P\",\"A\")","v":"A"},{"$f":"IF(Attendance($C48,'Daily Register'!DI$3:DI$242)=TRUE,\"P\",\"A\")","v":"A"},{"$f":"IF(Attendance($C48,'Daily Register'!DJ$3:DJ$242)=TRUE,\"P\",\"A\")","v":"A"},{"$f":"IF(Attendance($C48,'Daily Register'!DK$3:DK$242)=TRUE,\"P\",\"A\")","v":"A"},{"$f":"IF(Attendance($C48,'Daily Register'!DL$3:DL$242)=TRUE,\"P\",\"A\")","v":"A"},{"$f":"IF(Attendance($C48,'Daily Register'!DM$3:DM$242)=TRUE,\"P\",\"A\")","v":"A"},{"$f":"IF(Attendance($C48,'Daily Register'!DN$3:DN$242)=TRUE,\"P\",\"A\")","v":"A"},{"$f":"IF(Attendance($C48,'Daily Register'!DO$3:DO$242)=TRUE,\"P\",\"A\")","v":"A"},{"$f":"IF(Attendance($C48,'Daily Register'!DP$3:DP$242)=TRUE,\"P\",\"A\")","v":"A"},{"$f":"IF(Attendance($C48,'Daily Register'!DQ$3:DQ$242)=TRUE,\"P\",\"A\")","v":"A"},{"$f":"IF(Attendance($C48,'Daily Register'!DR$3:DR$242)=TRUE,\"P\",\"A\")","v":"A"},{"$f":"IF(Attendance($C48,'Daily Register'!DS$3:DS$242)=TRUE,\"P\",\"A\")","v":"A"},{"$f":"IF(Attendance($C48,'Daily Register'!DT$3:DT$242)=TRUE,\"P\",\"A\")","v":"A"},{"$f":"IF(Attendance($C48,'Daily Register'!DU$3:DU$242)=TRUE,\"P\",\"A\")","v":"A"},{"$f":"IF(Attendance($C48,'Daily Register'!DV$3:DV$242)=TRUE,\"P\",\"A\")","v":"A"},{"$f":"IF(Attendance($C48,'Daily Register'!DW$3:DW$242)=TRUE,\"P\",\"A\")","v":"A"},{"$f":"IF(Attendance($C48,'Daily Register'!DX$3:DX$242)=TRUE,\"P\",\"A\")","v":"A"},{"$f":"IF(Attendance($C48,'Daily Register'!DY$3:DY$242)=TRUE,\"P\",\"A\")","v":"A"},{"$f":"IF(Attendance($C48,'Daily Register'!DZ$3:DZ$242)=TRUE,\"P\",\"A\")","v":"A"},{"$f":"IF(Attendance($C48,'Daily Register'!EA$3:EA$242)=TRUE,\"P\",\"A\")","v":"A"},{"$f":"IF(Attendance($C48,'Daily Register'!EB$3:EB$242)=TRUE,\"P\",\"A\")","v":"A"},{"$f":"IF(Attendance($C48,'Daily Register'!EC$3:EC$242)=TRUE,\"P\",\"A\")","v":"A"},{"$f":"IF(Attendance($C48,'Daily Register'!ED$3:ED$242)=TRUE,\"P\",\"A\")","v":"A"},{"$f":"IF(Attendance($C48,'Daily Register'!EE$3:EE$242)=TRUE,\"P\",\"A\")","v":"A"},{"$f":"IF(Attendance($C48,'Daily Register'!EF$3:EF$242)=TRUE,\"P\",\"A\")","v":"A"},{"$f":"IF(Attendance($C48,'Daily Register'!EG$3:EG$242)=TRUE,\"P\",\"A\")","v":"A"},{"$f":"IF(Attendance($C48,'Daily Register'!EH$3:EH$242)=TRUE,\"P\",\"A\")","v":"A"},{"$f":"IF(Attendance($C48,'Daily Register'!EI$3:EI$242)=TRUE,\"P\",\"A\")","v":"A"},{"$f":"IF(Attendance($C48,'Daily Register'!EJ$3:EJ$242)=TRUE,\"P\",\"A\")","v":"A"},{"$f":"IF(Attendance($C48,'Daily Register'!EK$3:EK$242)=TRUE,\"P\",\"A\")","v":"A"},{"$f":"IF(Attendance($C48,'Daily Register'!EL$3:EL$242)=TRUE,\"P\",\"A\")","v":"A"},{"$f":"IF(Attendance($C48,'Daily Register'!EM$22:EM$242)=TRUE,\"P\",\"A\")","v":"A"},{"$f":"IF(Attendance($C48,'Daily Register'!EN$3:EN$242)=TRUE,\"P\",\"A\")","v":"A"},{"$f":"IF(Attendance($C48,'Daily Register'!EO$3:EO$242)=TRUE,\"P\",\"A\")","v":"A"},{"$f":"IF(Attendance($C48,'Daily Register'!EP$3:EP$242)=TRUE,\"P\",\"A\")","v":"A"},{"$f":"IF(Attendance($C48,'Daily Register'!EQ$3:EQ$242)=TRUE,\"P\",\"A\")","v":"A"},{"$f":"IF(Attendance($C48,'Daily Register'!ER$3:ER$242)=TRUE,\"P\",\"A\")","v":"A"},{"$f":"IF(Attendance($C48,'Daily Register'!ES$3:ES$242)=TRUE,\"P\",\"A\")","v":"A"},{"$f":"IF(Attendance($C48,'Daily Register'!ET$3:ET$242)=TRUE,\"P\",\"A\")","v":"A"},{"$f":"IF(Attendance($C48,'Daily Register'!EU$3:EU$242)=TRUE,\"P\",\"A\")","v":"A"},{"$f":"IF(Attendance($C48,'Daily Register'!EV$3:EV$242)=TRUE,\"P\",\"A\")","v":"A"},{"$f":"IF(Attendance($C48,'Daily Register'!EW$3:EW$242)=TRUE,\"P\",\"A\")","v":"A"},{"$f":"IF(Attendance($C48,'Daily Register'!EX$3:EX$242)=TRUE,\"P\",\"A\")","v":"A"},{"$f":"IF(Attendance($C48,'Daily Register'!EY$3:EY$242)=TRUE,\"P\",\"A\")","v":"A"},{"$f":"IF(Attendance($C48,'Daily Register'!EZ$3:EZ$242)=TRUE,\"P\",\"A\")","v":"A"},{"$f":"IF(Attendance($C48,'Daily Register'!FA$3:FA$242)=TRUE,\"P\",\"A\")","v":"A"},{"$f":"IF(Attendance($C48,'Daily Register'!FB$3:FB$242)=TRUE,\"P\",\"A\")","v":"A"},{"$f":"IF(Attendance($C48,'Daily Register'!FC$3:FC$242)=TRUE,\"P\",\"A\")","v":"A"},{"$f":"IF(Attendance($C48,'Daily Register'!FD$3:FD$242)=TRUE,\"P\",\"A\")","v":"A"},{"$f":"IF(Attendance($C48,'Daily Register'!FE$3:FE$242)=TRUE,\"P\",\"A\")","v":"A"},{"$f":"IF(Attendance($C48,'Daily Register'!FF$3:FF$242)=TRUE,\"P\",\"A\")","v":"A"},{"$f":"IF(Attendance($C48,'Daily Register'!FG$3:FG$242)=TRUE,\"P\",\"A\")","v":"A"},{"$f":"IF(Attendance($C48,'Daily Register'!FH$3:FH$242)=TRUE,\"P\",\"A\")","v":"A"},{"$f":"IF(Attendance($C48,'Daily Register'!FI$3:FI$242)=TRUE,\"P\",\"A\")","v":"A"},{"$f":"IF(Attendance($C48,'Daily Register'!FJ$3:FJ$242)=TRUE,\"P\",\"A\")","v":"A"},{"$f":"IF(Attendance($C48,'Daily Register'!FK$3:FK$242)=TRUE,\"P\",\"A\")","v":"A"},{"$f":"IF(Attendance($C48,'Daily Register'!FL$3:FL$242)=TRUE,\"P\",\"A\")","v":"A"},{"$f":"IF(Attendance($C48,'Daily Register'!FM$3:FM$242)=TRUE,\"P\",\"A\")","v":"A"},{"$f":"IF(Attendance($C48,'Daily Register'!FN$3:FN$242)=TRUE,\"P\",\"A\")","v":"A"},{"$f":"IF(Attendance($C48,'Daily Register'!FO$3:FO$242)=TRUE,\"P\",\"A\")","v":"A"},{"$f":"IF(Attendance($C48,'Daily Register'!FP$3:FP$242)=TRUE,\"P\",\"A\")","v":"A"},{"$f":"IF(Attendance($C48,'Daily Register'!FQ$3:FQ$242)=TRUE,\"P\",\"A\")","v":"A"},{"$f":"IF(Attendance($C48,'Daily Register'!FR$3:FR$242)=TRUE,\"P\",\"A\")","v":"A"},{"$f":"IF(Attendance($C48,'Daily Register'!FS$3:FS$242)=TRUE,\"P\",\"A\")","v":"A"},{"$f":"IF(Attendance($C48,'Daily Register'!FT$3:FT$242)=TRUE,\"P\",\"A\")","v":"A"},{"$f":"IF(Attendance($C48,'Daily Register'!FU$3:FU$242)=TRUE,\"P\",\"A\")","v":"A"},{"$f":"IF(Attendance($C48,'Daily Register'!FV$3:FV$242)=TRUE,\"P\",\"A\")","v":"A"},{"$f":"IF(Attendance($C48,'Daily Register'!FW$3:FW$242)=TRUE,\"P\",\"A\")","v":"A"},{"$f":"IF(Attendance($C48,'Daily Register'!FX$3:FX$242)=TRUE,\"P\",\"A\")","v":"A"},{"$f":"IF(Attendance($C48,'Daily Register'!FY$3:FY$242)=TRUE,\"P\",\"A\")","v":"A"},{"$f":"IF(Attendance($C48,'Daily Register'!FZ$3:FZ$242)=TRUE,\"P\",\"A\")","v":"A"},{"$f":"IF(Attendance($C48,'Daily Register'!GA$3:GA$242)=TRUE,\"P\",\"A\")","v":"A"},{"$f":"IF(Attendance($C48,'Daily Register'!GB$3:GB$242)=TRUE,\"P\",\"A\")","v":"A"},{"$f":"IF(Attendance($C48,'Daily Register'!GC$3:GC$242)=TRUE,\"P\",\"A\")","v":"A"},{"$f":"IF(Attendance($C48,'Daily Register'!GD$3:GD$242)=TRUE,\"P\",\"A\")","v":"A"},{"$f":"IF(Attendance($C48,'Daily Register'!GE$3:GE$242)=TRUE,\"P\",\"A\")","v":"A"},{"$f":"IF(Attendance($C48,'Daily Register'!GF$3:GF$242)=TRUE,\"P\",\"A\")","v":"A"},{"$f":"IF(Attendance($C48,'Daily Register'!GG$3:GG$242)=TRUE,\"P\",\"A\")","v":"A"},{"$f":"IF(Attendance($C48,'Daily Register'!GH$3:GH$242)=TRUE,\"P\",\"A\")","v":"A"},{"$f":"IF(Attendance($C48,'Daily Register'!GI$3:GI$242)=TRUE,\"P\",\"A\")","v":"A"},{"$f":"IF(Attendance($C48,'Daily Register'!GJ$3:GJ$242)=TRUE,\"P\",\"A\")","v":"A"},{"$f":"IF(Attendance($C48,'Daily Register'!GK$3:GK$242)=TRUE,\"P\",\"A\")","v":"A"},{"$f":"IF(Attendance($C48,'Daily Register'!GL$3:GL$242)=TRUE,\"P\",\"A\")","v":"A"},{"$f":"IF(Attendance($C48,'Daily Register'!GM$3:GM$242)=TRUE,\"P\",\"A\")","v":"A"},{"$f":"IF(Attendance($C48,'Daily Register'!GN$3:GN$242)=TRUE,\"P\",\"A\")","v":"A"},{"$f":"IF(Attendance($C48,'Daily Register'!GO$3:GO$242)=TRUE,\"P\",\"A\")","v":"A"},{"$f":"IF(Attendance($C48,'Daily Register'!GP$3:GP$242)=TRUE,\"P\",\"A\")","v":"A"},{"$f":"IF(Attendance($C48,'Daily Register'!GQ$3:GQ$242)=TRUE,\"P\",\"A\")","v":"A"},{"$f":"IF(Attendance($C48,'Daily Register'!GR$3:GR$242)=TRUE,\"P\",\"A\")","v":"A"},{"$f":"IF(Attendance($C48,'Daily Register'!GS$3:GS$242)=TRUE,\"P\",\"A\")","v":"A"},{"$f":"IF(Attendance($C48,'Daily Register'!GT$3:GT$242)=TRUE,\"P\",\"A\")","v":"A"},{"$f":"IF(Attendance($C48,'Daily Register'!GU$3:GU$242)=TRUE,\"P\",\"A\")","v":"A"},{"$f":"IF(Attendance($C48,'Daily Register'!GV$3:GV$242)=TRUE,\"P\",\"A\")","v":"A"},{"$f":"IF(Attendance($C48,'Daily Register'!GW$3:GW$242)=TRUE,\"P\",\"A\")","v":"A"},{"$f":"IF(Attendance($C48,'Daily Register'!GX$3:GX$242)=TRUE,\"P\",\"A\")","v":"A"},{"$f":"IF(Attendance($C48,'Daily Register'!GY$3:GY$242)=TRUE,\"P\",\"A\")","v":"A"},{"$f":"IF(Attendance($C48,'Daily Register'!GZ$3:GZ$242)=TRUE,\"P\",\"A\")","v":"A"},{"$f":"IF(Attendance($C48,'Daily Register'!HA$3:HA$242)=TRUE,\"P\",\"A\")","v":"A"},{"$f":"IF(Attendance($C48,'Daily Register'!HB$3:HB$242)=TRUE,\"P\",\"A\")","v":"A"},{"$f":"IF(Attendance($C48,'Daily Register'!HC$3:HC$242)=TRUE,\"P\",\"A\")","v":"A"},{"$f":"IF(Attendance($C48,'Daily Register'!HD$3:HD$242)=TRUE,\"P\",\"A\")","v":"A"},{"$f":"IF(Attendance($C48,'Daily Register'!HE$3:HE$242)=TRUE,\"P\",\"A\")","v":"A"},{"$f":"IF(Attendance($C48,'Daily Register'!HF$3:HF$242)=TRUE,\"P\",\"A\")","v":"A"},{"$f":"IF(Attendance($C48,'Daily Register'!HG$3:HG$242)=TRUE,\"P\",\"A\")","v":"A"},{"$f":"IF(Attendance($C48,'Daily Register'!HH$3:HH$242)=TRUE,\"P\",\"A\")","v":"A"},{"$f":"IF(Attendance($C48,'Daily Register'!HI$3:HI$242)=TRUE,\"P\",\"A\")","v":"A"},{"$f":"IF(Attendance($C48,'Daily Register'!HJ$3:HJ$242)=TRUE,\"P\",\"A\")","v":"A"},{"$f":"IF(Attendance($C48,'Daily Register'!HK$3:HK$242)=TRUE,\"P\",\"A\")","v":"A"},{"$f":"IF(Attendance($C48,'Daily Register'!HL$3:HL$242)=TRUE,\"P\",\"A\")","v":"A"},{"$f":"IF(Attendance($C48,'Daily Register'!HM$3:HM$242)=TRUE,\"P\",\"A\")","v":"A"},{"$f":"IF(Attendance($C48,'Daily Register'!HN$3:HN$242)=TRUE,\"P\",\"A\")","v":"A"},{"$f":"IF(Attendance($C48,'Daily Register'!HO$3:HO$242)=TRUE,\"P\",\"A\")","v":"A"},{"$f":"IF(Attendance($C48,'Daily Register'!HP$3:HP$242)=TRUE,\"P\",\"A\")","v":"A"},{"$f":"IF(Attendance($C48,'Daily Register'!HQ$3:HQ$242)=TRUE,\"P\",\"A\")","v":"A"},{"$f":"IF(Attendance($C48,'Daily Register'!HR$3:HR$242)=TRUE,\"P\",\"A\")","v":"A"},{"$f":"IF(Attendance($C48,'Daily Register'!HS$3:HS$242)=TRUE,\"P\",\"A\")","v":"A"},{"$f":"IF(Attendance($C48,'Daily Register'!HT$3:HT$242)=TRUE,\"P\",\"A\")","v":"A"},{"$f":"IF(Attendance($C48,'Daily Register'!HU$3:HU$242)=TRUE,\"P\",\"A\")","v":"A"},{"$f":"IF(Attendance($C48,'Daily Register'!HV$3:HV$242)=TRUE,\"P\",\"A\")","v":"A"},{"$f":"IF(Attendance($C48,'Daily Register'!HW$3:HW$242)=TRUE,\"P\",\"A\")","v":"A"},{"$f":"IF(Attendance($C48,'Daily Register'!HX$3:HX$242)=TRUE,\"P\",\"A\")","v":"A"},{"$f":"IF(Attendance($C48,'Daily Register'!HY$3:HY$242)=TRUE,\"P\",\"A\")","v":"A"},{"$f":"IF(Attendance($C48,'Daily Register'!HZ$3:HZ$242)=TRUE,\"P\",\"A\")","v":"A"},{"$f":"IF(Attendance($C48,'Daily Register'!IA$3:IA$242)=TRUE,\"P\",\"A\")","v":"A"},{"$f":"IF(Attendance($C48,'Daily Register'!IB$3:IB$242)=TRUE,\"P\",\"A\")","v":"A"},{"$f":"IF(Attendance($C48,'Daily Register'!IC$3:IC$242)=TRUE,\"P\",\"A\")","v":"A"},{"$f":"IF(Attendance($C48,'Daily Register'!ID$3:ID$242)=TRUE,\"P\",\"A\")","v":"A"},{"$f":"IF(Attendance($C48,'Daily Register'!IE$3:IE$242)=TRUE,\"P\",\"A\")","v":"A"},{"$f":"IF(Attendance($C48,'Daily Register'!IF$3:IF$242)=TRUE,\"P\",\"A\")","v":"A"},{"$f":"IF(Attendance($C48,'Daily Register'!IG$3:IG$242)=TRUE,\"P\",\"A\")","v":"A"},{"$f":"IF(Attendance($C48,'Daily Register'!IH$3:IH$242)=TRUE,\"P\",\"A\")","v":"A"},{"$f":"IF(Attendance($C48,'Daily Register'!II$3:II$242)=TRUE,\"P\",\"A\")","v":"A"},{"$f":"IF(Attendance($C48,'Daily Register'!IJ$3:IJ$242)=TRUE,\"P\",\"A\")","v":"A"},{"$f":"IF(Attendance($C48,'Daily Register'!IK$3:IK$242)=TRUE,\"P\",\"A\")","v":"A"},{"$f":"IF(Attendance($C48,'Daily Register'!IL$3:IL$242)=TRUE,\"P\",\"A\")","v":"A"},{"$f":"IF(Attendance($C48,'Daily Register'!IM$3:IM$242)=TRUE,\"P\",\"A\")","v":"A"},{"$f":"IF(Attendance($C48,'Daily Register'!IN$3:IN$242)=TRUE,\"P\",\"A\")","v":"A"},{"$f":"IF(Attendance($C48,'Daily Register'!IO$3:IO$242)=TRUE,\"P\",\"A\")","v":"A"},{"$f":"IF(Attendance($C48,'Daily Register'!IP$3:IP$242)=TRUE,\"P\",\"A\")","v":"A"},{"$f":"IF(Attendance($C48,'Daily Register'!IQ$3:IQ$242)=TRUE,\"P\",\"A\")","v":"A"},{"$f":"IF(Attendance($C48,'Daily Register'!IR$3:IR$242)=TRUE,\"P\",\"A\")","v":"A"},{"$f":"IF(Attendance($C48,'Daily Register'!IS$3:IS$242)=TRUE,\"P\",\"A\")","v":"A"},{"$f":"IF(Attendance($C48,'Daily Register'!IT$3:IT$242)=TRUE,\"P\",\"A\")","v":"A"},{"$f":"IF(Attendance($C48,'Daily Register'!IU$3:IU$242)=TRUE,\"P\",\"A\")","v":"A"},{"$f":"IF(Attendance($C48,'Daily Register'!IV$3:IV$242)=TRUE,\"P\",\"A\")","v":"A"},{"$f":"IF(Attendance($C48,'Daily Register'!IW$3:IW$242)=TRUE,\"P\",\"A\")","v":"A"},{"$f":"IF(Attendance($C48,'Daily Register'!IX$3:IX$242)=TRUE,\"P\",\"A\")","v":"A"},{"$f":"IF(Attendance($C48,'Daily Register'!IY$3:IY$242)=TRUE,\"P\",\"A\")","v":"A"},{"$f":"IF(Attendance($C48,'Daily Register'!IZ$3:IZ$242)=TRUE,\"P\",\"A\")","v":"A"},{"$f":"IF(Attendance($C48,'Daily Register'!JA$3:JA$242)=TRUE,\"P\",\"A\")","v":"A"},{"$f":"IF(Attendance($C48,'Daily Register'!JB$3:JB$242)=TRUE,\"P\",\"A\")","v":"A"},{"$f":"IF(Attendance($C48,'Daily Register'!JC$3:JC$242)=TRUE,\"P\",\"A\")","v":"A"},{"$f":"IF(Attendance($C48,'Daily Register'!JD$3:JD$242)=TRUE,\"P\",\"A\")","v":"A"},{"$f":"IF(Attendance($C48,'Daily Register'!JE$3:JE$242)=TRUE,\"P\",\"A\")","v":"A"},{"$f":"IF(Attendance($C48,'Daily Register'!JF$3:JF$242)=TRUE,\"P\",\"A\")","v":"A"},{"$f":"IF(Attendance($C48,'Daily Register'!JG$3:JG$242)=TRUE,\"P\",\"A\")","v":"A"},{"$f":"IF(Attendance($C48,'Daily Register'!JH$3:JH$242)=TRUE,\"P\",\"A\")","v":"A"},{"$f":"IF(Attendance($C48,'Daily Register'!JI$3:JI$242)=TRUE,\"P\",\"A\")","v":"A"},{"$f":"IF(Attendance($C48,'Daily Register'!JJ$3:JJ$242)=TRUE,\"P\",\"A\")","v":"A"},{"$f":"IF(Attendance($C48,'Daily Register'!JK$3:JK$242)=TRUE,\"P\",\"A\")","v":"A"},{"$f":"IF(Attendance($C48,'Daily Register'!JL$3:JL$242)=TRUE,\"P\",\"A\")","v":"A"},{"$f":"IF(Attendance($C48,'Daily Register'!JM$3:JM$242)=TRUE,\"P\",\"A\")","v":"A"},{"$f":"IF(Attendance($C48,'Daily Register'!JN$3:JN$242)=TRUE,\"P\",\"A\")","v":"A"},{"$f":"IF(Attendance($C48,'Daily Register'!JO$3:JO$242)=TRUE,\"P\",\"A\")","v":"A"},{"$f":"IF(Attendance($C48,'Daily Register'!JP$3:JP$242)=TRUE,\"P\",\"A\")","v":"A"},{"$f":"IF(Attendance($C48,'Daily Register'!JQ$3:JQ$242)=TRUE,\"P\",\"A\")","v":"A"},{"$f":"IF(Attendance($C48,'Daily Register'!JR$3:JR$242)=TRUE,\"P\",\"A\")","v":"A"},{"$f":"IF(Attendance($C48,'Daily Register'!JS$3:JS$242)=TRUE,\"P\",\"A\")","v":"A"},{"$f":"IF(Attendance($C48,'Daily Register'!JT$3:JT$242)=TRUE,\"P\",\"A\")","v":"A"},{"$f":"IF(Attendance($C48,'Daily Register'!JU$3:JU$242)=TRUE,\"P\",\"A\")","v":"A"},{"$f":"IF(Attendance($C48,'Daily Register'!JV$3:JV$242)=TRUE,\"P\",\"A\")","v":"A"},{"$f":"IF(Attendance($C48,'Daily Register'!JW$3:JW$242)=TRUE,\"P\",\"A\")","v":"A"},{"$f":"IF(Attendance($C48,'Daily Register'!JX$3:JX$242)=TRUE,\"P\",\"A\")","v":"A"},{"$f":"IF(Attendance($C48,'Daily Register'!JY$3:JY$242)=TRUE,\"P\",\"A\")","v":"A"},{"$f":"IF(Attendance($C48,'Daily Register'!JZ$3:JZ$242)=TRUE,\"P\",\"A\")","v":"A"},{"$f":"IF(Attendance($C48,'Daily Register'!KA$3:KA$242)=TRUE,\"P\",\"A\")","v":"A"},{"$f":"IF(Attendance($C48,'Daily Register'!KB$3:KB$242)=TRUE,\"P\",\"A\")","v":"A"},{"$f":"IF(Attendance($C48,'Daily Register'!KC$3:KC$242)=TRUE,\"P\",\"A\")","v":"A"},{"$f":"IF(Attendance($C48,'Daily Register'!KD$3:KD$242)=TRUE,\"P\",\"A\")","v":"A"},{"$f":"IF(Attendance($C48,'Daily Register'!KE$3:KE$242)=TRUE,\"P\",\"A\")","v":"A"},{"$f":"IF(Attendance($C48,'Daily Register'!KF$3:KF$242)=TRUE,\"P\",\"A\")","v":"A"},{"$f":"IF(Attendance($C48,'Daily Register'!KG$3:KG$242)=TRUE,\"P\",\"A\")","v":"A"},{"$f":"IF(Attendance($C48,'Daily Register'!KH$3:KH$242)=TRUE,\"P\",\"A\")","v":"A"},{"$f":"IF(Attendance($C48,'Daily Register'!KI$3:KI$242)=TRUE,\"P\",\"A\")","v":"A"},{"$f":"IF(Attendance($C48,'Daily Register'!KJ$3:KJ$242)=TRUE,\"P\",\"A\")","v":"A"},{"$f":"IF(Attendance($C48,'Daily Register'!KK$3:KK$242)=TRUE,\"P\",\"A\")","v":"A"},{"$f":"IF(Attendance($C48,'Daily Register'!KL$3:KL$242)=TRUE,\"P\",\"A\")","v":"A"},{"$f":"IF(Attendance($C48,'Daily Register'!KM$3:KM$242)=TRUE,\"P\",\"A\")","v":"A"},{"$f":"IF(Attendance($C48,'Daily Register'!KN$3:KN$242)=TRUE,\"P\",\"A\")","v":"A"},{"$f":"IF(Attendance($C48,'Daily Register'!KO$3:KO$242)=TRUE,\"P\",\"A\")","v":"A"},{"$f":"IF(Attendance($C48,'Daily Register'!KP$3:KP$242)=TRUE,\"P\",\"A\")","v":"A"},{"$f":"IF(Attendance($C48,'Daily Register'!KQ$3:KQ$242)=TRUE,\"P\",\"A\")","v":"A"},{"$f":"IF(Attendance($C48,'Daily Register'!KR$3:KR$242)=TRUE,\"P\",\"A\")","v":"A"},{"$f":"IF(Attendance($C48,'Daily Register'!KS$3:KS$242)=TRUE,\"P\",\"A\")","v":"A"},{"$f":"IF(Attendance($C48,'Daily Register'!KT$3:KT$242)=TRUE,\"P\",\"A\")","v":"A"},{"$f":"IF(Attendance($C48,'Daily Register'!KU$3:KU$242)=TRUE,\"P\",\"A\")","v":"A"},{"$f":"IF(Attendance($C48,'Daily Register'!KV$3:KV$242)=TRUE,\"P\",\"A\")","v":"A"},{"$f":"IF(Attendance($C48,'Daily Register'!KW$3:KW$242)=TRUE,\"P\",\"A\")","v":"A"},{"$f":"IF(Attendance($C48,'Daily Register'!KX$3:KX$242)=TRUE,\"P\",\"A\")","v":"A"},{"$f":"IF(Attendance($C48,'Daily Register'!KY$3:KY$242)=TRUE,\"P\",\"A\")","v":"A"},{"$f":"IF(Attendance($C48,'Daily Register'!KZ$3:KZ$242)=TRUE,\"P\",\"A\")","v":"A"},{"$f":"IF(Attendance($C48,'Daily Register'!LA$3:LA$242)=TRUE,\"P\",\"A\")","v":"A"},{"$f":"IF(Attendance($C48,'Daily Register'!LB$3:LB$242)=TRUE,\"P\",\"A\")","v":"A"},{"$f":"IF(Attendance($C48,'Daily Register'!LC$3:LC$242)=TRUE,\"P\",\"A\")","v":"A"},{"$f":"IF(Attendance($C48,'Daily Register'!LD$3:LD$242)=TRUE,\"P\",\"A\")","v":"A"},{"$f":"IF(Attendance($C48,'Daily Register'!LE$3:LE$242)=TRUE,\"P\",\"A\")","v":"A"},{"$f":"IF(Attendance($C48,'Daily Register'!LF$3:LF$242)=TRUE,\"P\",\"A\")","v":"A"},{"$f":"IF(Attendance($C48,'Daily Register'!LG$3:LG$242)=TRUE,\"P\",\"A\")","v":"A"},{"$f":"IF(Attendance($C48,'Daily Register'!LH$3:LH$242)=TRUE,\"P\",\"A\")","v":"A"},{"$f":"IF(Attendance($C48,'Daily Register'!LI$3:LI$242)=TRUE,\"P\",\"A\")","v":"A"},{"$f":"IF(Attendance($C48,'Daily Register'!LJ$3:LJ$242)=TRUE,\"P\",\"A\")","v":"A"},{"$f":"IF(Attendance($C48,'Daily Register'!LK$3:LK$242)=TRUE,\"P\",\"A\")","v":"A"},{"$f":"IF(Attendance($C48,'Daily Register'!LL$3:LL$242)=TRUE,\"P\",\"A\")","v":"A"},{"$f":"IF(Attendance($C48,'Daily Register'!LM$3:LM$242)=TRUE,\"P\",\"A\")","v":"A"},{"$f":"IF(Attendance($C48,'Daily Register'!LN$3:LN$242)=TRUE,\"P\",\"A\")","v":"A"},{"$f":"IF(Attendance($C48,'Daily Register'!LO$3:LO$242)=TRUE,\"P\",\"A\")","v":"A"},{"$f":"IF(Attendance($C48,'Daily Register'!LP$3:LP$242)=TRUE,\"P\",\"A\")","v":"A"},{"$f":"IF(Attendance($C48,'Daily Register'!LQ$3:LQ$242)=TRUE,\"P\",\"A\")","v":"A"},{"$f":"IF(Attendance($C48,'Daily Register'!LR$3:LR$242)=TRUE,\"P\",\"A\")","v":"A"},{"$f":"IF(Attendance($C48,'Daily Register'!LS$3:LS$242)=TRUE,\"P\",\"A\")","v":"A"},{"$f":"IF(Attendance($C48,'Daily Register'!LT$3:LT$242)=TRUE,\"P\",\"A\")","v":"A"},{"$f":"IF(Attendance($C48,'Daily Register'!LU$3:LU$242)=TRUE,\"P\",\"A\")","v":"A"},{"$f":"IF(Attendance($C48,'Daily Register'!LV$3:LV$242)=TRUE,\"P\",\"A\")","v":"A"},{"$f":"IF(Attendance($C48,'Daily Register'!LW$3:LW$242)=TRUE,\"P\",\"A\")","v":"A"},{"$f":"IF(Attendance($C48,'Daily Register'!LX$3:LX$242)=TRUE,\"P\",\"A\")","v":"A"},{"$f":"IF(Attendance($C48,'Daily Register'!LY$3:LY$242)=TRUE,\"P\",\"A\")","v":"A"},{"$f":"IF(Attendance($C48,'Daily Register'!LZ$3:LZ$242)=TRUE,\"P\",\"A\")","v":"A"},{"$f":"IF(Attendance($C48,'Daily Register'!MA$3:MA$242)=TRUE,\"P\",\"A\")","v":"A"},{"$f":"IF(Attendance($C48,'Daily Register'!MB$3:MB$242)=TRUE,\"P\",\"A\")","v":"A"},{"$f":"IF(Attendance($C48,'Daily Register'!MC$3:MC$242)=TRUE,\"P\",\"A\")","v":"A"},{"$f":"IF(Attendance($C48,'Daily Register'!MD$3:MD$242)=TRUE,\"P\",\"A\")","v":"A"},{"$f":"IF(Attendance($C48,'Daily Register'!ME$3:ME$242)=TRUE,\"P\",\"A\")","v":"A"},{"$f":"IF(Attendance($C48,'Daily Register'!MF$3:MF$242)=TRUE,\"P\",\"A\")","v":"A"},{"$f":"IF(Attendance($C48,'Daily Register'!MG$3:MG$242)=TRUE,\"P\",\"A\")","v":"A"},{"$f":"IF(Attendance($C48,'Daily Register'!MH$3:MH$242)=TRUE,\"P\",\"A\")","v":"A"},{"$f":"IF(Attendance($C48,'Daily Register'!MI$3:MI$242)=TRUE,\"P\",\"A\")","v":"A"},{"$f":"IF(Attendance($C48,'Daily Register'!MJ$3:MJ$242)=TRUE,\"P\",\"A\")","v":"A"},{"$f":"IF(Attendance($C48,'Daily Register'!MK$3:MK$242)=TRUE,\"P\",\"A\")","v":"A"},{"$f":"IF(Attendance($C48,'Daily Register'!ML$3:ML$242)=TRUE,\"P\",\"A\")","v":"A"},{"$f":"IF(Attendance($C48,'Daily Register'!MM$3:MM$242)=TRUE,\"P\",\"A\")","v":"A"},{"$f":"IF(Attendance($C48,'Daily Register'!MN$3:MN$242)=TRUE,\"P\",\"A\")","v":"A"},{"$f":"IF(Attendance($C48,'Daily Register'!MO$3:MO$242)=TRUE,\"P\",\"A\")","v":"A"},{"$f":"IF(Attendance($C48,'Daily Register'!MP$3:MP$242)=TRUE,\"P\",\"A\")","v":"A"},{"$f":"IF(Attendance($C48,'Daily Register'!MQ$3:MQ$242)=TRUE,\"P\",\"A\")","v":"A"},{"$f":"IF(Attendance($C48,'Daily Register'!MR$3:MR$242)=TRUE,\"P\",\"A\")","v":"A"},{"$f":"IF(Attendance($C48,'Daily Register'!MS$3:MS$242)=TRUE,\"P\",\"A\")","v":"A"},{"$f":"IF(Attendance($C48,'Daily Register'!MT$3:MT$242)=TRUE,\"P\",\"A\")","v":"A"},{"$f":"IF(Attendance($C48,'Daily Register'!MU$3:MU$242)=TRUE,\"P\",\"A\")","v":"A"},{"$f":"IF(Attendance($C48,'Daily Register'!MV$3:MV$242)=TRUE,\"P\",\"A\")","v":"A"},{"$f":"IF(Attendance($C48,'Daily Register'!MW$3:MW$242)=TRUE,\"P\",\"A\")","v":"A"},{"$f":"IF(Attendance($C48,'Daily Register'!MX$3:MX$242)=TRUE,\"P\",\"A\")","v":"A"},{"$f":"IF(Attendance($C48,'Daily Register'!MY$3:MY$242)=TRUE,\"P\",\"A\")","v":"A"},{"$f":"IF(Attendance($C48,'Daily Register'!MZ$3:MZ$242)=TRUE,\"P\",\"A\")","v":"A"},{"$f":"IF(Attendance($C48,'Daily Register'!NA$3:NA$242)=TRUE,\"P\",\"A\")","v":"A"},{"$f":"IF(Attendance($C48,'Daily Register'!NB$3:NB$242)=TRUE,\"P\",\"A\")","v":"A"}]
[0,null,46,null,{"$f":"IF(Attendance($C49,'Daily Register'!A$3:A$242)=TRUE,\"P\",\"A\")","v":"A"},{"$f":"IF(Attendance($C49,'Daily Register'!B$3:B$242)=TRUE,\"P\",\"A\")","v":"A"},{"$f":"IF(Attendance($C49,'Daily Register'!C$3:C$242)=TRUE,\"P\",\"A\")","v":"A"},{"$f":"IF(Attendance($C49,'Daily Register'!D$3:D$242)=TRUE,\"P\",\"A\")","v":"A"},{"$f":"IF(Attendance($C49,'Daily Register'!E$3:E$242)=TRUE,\"P\",\"A\")","v":"A"},{"$f":"IF(Attendance($C49,'Daily Register'!F$3:F$242)=TRUE,\"P\",\"A\")","v":"A"},{"$f":"IF(Attendance($C49,'Daily Register'!G$3:G$242)=TRUE,\"P\",\"A\")","v":"A"},{"$f":"IF(Attendance($C49,'Daily Register'!H$3:H$242)=TRUE,\"P\",\"A\")","v":"A"},{"$f":"IF(Attendance($C49,'Daily Register'!I$3:I$242)=TRUE,\"P\",\"A\")","v":"A"},{"$f":"IF(Attendance($C49,'Daily Register'!J$3:J$242)=TRUE,\"P\",\"A\")","v":"A"},{"$f":"IF(Attendance($C49,'Daily Register'!K$3:K$242)=TRUE,\"P\",\"A\")","v":"A"},{"$f":"IF(Attendance($C49,'Daily Register'!L$3:L$242)=TRUE,\"P\",\"A\")","v":"A"},{"$f":"IF(Attendance($C49,'Daily Register'!M$3:M$242)=TRUE,\"P\",\"A\")","v":"A"},{"$f":"IF(Attendance($C49,'Daily Register'!N$3:N$242)=TRUE,\"P\",\"A\")","v":"A"},{"$f":"IF(Attendance($C49,'Daily Register'!O$3:O$242)=TRUE,\"P\",\"A\")","v":"A"},{"$f":"IF(Attendance($C49,'Daily Register'!P$3:P$242)=TRUE,\"P\",\"A\")","v":"A"},{"$f":"IF(Attendance($C49,'Daily Register'!Q$3:Q$242)=TRUE,\"P\",\"A\")","v":"A"},{"$f":"IF(Attendance($C49,'Daily Register'!R$3:R$242)=TRUE,\"P\",\"A\")","v":"A"},{"$f":"IF(Attendance($C49,'Daily Register'!S$3:S$242)=TRUE,\"P\",\"A\")","v":"A"},{"$f":"IF(Attendance($C49,'Daily Register'!T$3:T$242)=TRUE,\"P\",\"A\")","v":"A"},{"$f":"IF(Attendance($C49,'Daily Register'!U$3:U$242)=TRUE,\"P\",\"A\")","v":"A"},{"$f":"IF(Attendance($C49,'Daily Register'!V$3:V$242)=TRUE,\"P\",\"A\")","v":"A"},{"$f":"IF(Attendance($C49,'Daily Register'!W$3:W$242)=TRUE,\"P\",\"A\")","v":"A"},{"$f":"IF(Attendance($C49,'Daily Register'!X$3:X$242)=TRUE,\"P\",\"A\")","v":"A"},{"$f":"IF(Attendance($C49,'Daily Register'!Y$3:Y$242)=TRUE,\"P\",\"A\")","v":"A"},{"$f":"IF(Attendance($C49,'Daily Register'!Z$3:Z$242)=TRUE,\"P\",\"A\")","v":"A"},{"$f":"IF(Attendance($C49,'Daily Register'!AA$3:AA$242)=TRUE,\"P\",\"A\")","v":"A"},{"$f":"IF(Attendance($C49,'Daily Register'!AB$3:AB$242)=TRUE,\"P\",\"A\")","v":"A"},{"$f":"IF(Attendance($C49,'Daily Register'!AC$3:AC$242)=TRUE,\"P\",\"A\")","v":"A"},{"$f":"IF(Attendance($C49,'Daily Register'!AD$3:AD$242)=TRUE,\"P\",\"A\")","v":"A"},{"$f":"IF(Attendance($C49,'Daily Register'!AE$3:AE$242)=TRUE,\"P\",\"A\")","v":"A"},{"$f":"IF(Attendance($C49,'Daily Register'!AF$3:AF$242)=TRUE,\"P\",\"A\")","v":"A"},{"$f":"IF(Attendance($C49,'Daily Register'!AG$3:AG$242)=TRUE,\"P\",\"A\")","v":"A"},{"$f":"IF(Attendance($C49,'Daily Register'!AH$3:AH$242)=TRUE,\"P\",\"A\")","v":"A"},{"$f":"IF(Attendance($C49,'Daily Register'!AI$3:AI$242)=TRUE,\"P\",\"A\")","v":"A"},{"$f":"IF(Attendance($C49,'Daily Register'!AJ$3:AJ$242)=TRUE,\"P\",\"A\")","v":"A"},{"$f":"IF(Attendance($C49,'Daily Register'!AK$3:AK$242)=TRUE,\"P\",\"A\")","v":"A"},{"$f":"IF(Attendance($C49,'Daily Register'!AL$3:AL$242)=TRUE,\"P\",\"A\")","v":"A"},{"$f":"IF(Attendance($C49,'Daily Register'!AM$3:AM$242)=TRUE,\"P\",\"A\")","v":"A"},{"$f":"IF(Attendance($C49,'Daily Register'!AN$3:AN$242)=TRUE,\"P\",\"A\")","v":"A"},{"$f":"IF(Attendance($C49,'Daily Register'!AO$3:AO$242)=TRUE,\"P\",\"A\")","v":"A"},{"$f":"IF(Attendance($C49,'Daily Register'!AP$3:AP$242)=TRUE,\"P\",\"A\")","v":"A"},{"$f":"IF(Attendance($C49,'Daily Register'!AQ$3:AQ$242)=TRUE,\"P\",\"A\")","v":"A"},{"$f":"IF(Attendance($C49,'Daily Register'!AR$3:AR$242)=TRUE,\"P\",\"A\")","v":"A"},{"$f":"IF(Attendance($C49,'Daily Register'!AS$3:AS$242)=TRUE,\"P\",\"A\")","v":"A"},{"$f":"IF(Attendance($C49,'Daily Register'!AT$3:AT$242)=TRUE,\"P\",\"A\")","v":"A"},{"$f":"IF(Attendance($C49,'Daily Register'!AU$3:AU$242)=TRUE,\"P\",\"A\")","v":"A"},{"$f":"IF(Attendance($C49,'Daily Register'!AV$3:AV$242)=TRUE,\"P\",\"A\")","v":"A"},{"$f":"IF(Attendance($C49,'Daily Register'!AW$3:AW$242)=TRUE,\"P\",\"A\")","v":"A"},{"$f":"IF(Attendance($C49,'Daily Register'!AX$3:AX$242)=TRUE,\"P\",\"A\")","v":"A"},{"$f":"IF(Attendance($C49,'Daily Register'!AY$3:AY$242)=TRUE,\"P\",\"A\")","v":"A"},{"$f":"IF(Attendance($C49,'Daily Register'!AZ$3:AZ$242)=TRUE,\"P\",\"A\")","v":"A"},{"$f":"IF(Attendance($C49,'Daily Register'!BA$3:BA$242)=TRUE,\"P\",\"A\")","v":"A"},{"$f":"IF(Attendance($C49,'Daily Register'!BB$3:BB$242)=TRUE,\"P\",\"A\")","v":"A"},{"$f":"IF(Attendance($C49,'Daily Register'!BC$3:BC$242)=TRUE,\"P\",\"A\")","v":"A"},{"$f":"IF(Attendance($C49,'Daily Register'!BD$3:BD$242)=TRUE,\"P\",\"A\")","v":"A"},{"$f":"IF(Attendance($C49,'Daily Register'!BE$3:BE$242)=TRUE,\"P\",\"A\")","v":"A"},{"$f":"IF(Attendance($C49,'Daily Register'!BF$3:BF$242)=TRUE,\"P\",\"A\")","v":"A"},{"$f":"IF(Attendance($C49,'Daily Register'!BG$3:BG$242)=TRUE,\"P\",\"A\")","v":"A"},{"$f":"IF(Attendance($C49,'Daily Register'!BH$3:BH$242)=TRUE,\"P\",\"A\")","v":"A"},{"$f":"IF(Attendance($C49,'Daily Register'!BI$3:BI$242)=TRUE,\"P\",\"A\")","v":"A"},{"$f":"IF(Attendance($C49,'Daily Register'!BJ$3:BJ$242)=TRUE,\"P\",\"A\")","v":"A"},{"$f":"IF(Attendance($C49,'Daily Register'!BK$3:BK$242)=TRUE,\"P\",\"A\")","v":"A"},{"$f":"IF(Attendance($C49,'Daily Register'!BL$3:BL$242)=TRUE,\"P\",\"A\")","v":"A"},{"$f":"IF(Attendance($C49,'Daily Register'!BM$3:BM$242)=TRUE,\"P\",\"A\")","v":"A"},{"$f":"IF(Attendance($C49,'Daily Register'!BN$3:BN$242)=TRUE,\"P\",\"A\")","v":"A"},{"$f":"IF(Attendance($C49,'Daily Register'!BO$3:BO$242)=TRUE,\"P\",\"A\")","v":"A"},{"$f":"IF(Attendance($C49,'Daily Register'!BP$3:BP$242)=TRUE,\"P\",\"A\")","v":"A"},{"$f":"IF(Attendance($C49,'Daily Register'!BQ$3:BQ$242)=TRUE,\"P\",\"A\")","v":"A"},{"$f":"IF(Attendance($C49,'Daily Register'!BR$3:BR$242)=TRUE,\"P\",\"A\")","v":"A"},{"$f":"IF(Attendance($C49,'Daily Register'!BS$3:BS$242)=TRUE,\"P\",\"A\")","v":"A"},{"$f":"IF(Attendance($C49,'Daily Register'!BT$3:BT$242)=TRUE,\"P\",\"A\")","v":"A"},{"$f":"IF(Attendance($C49,'Daily Register'!BU$3:BU$242)=TRUE,\"P\",\"A\")","v":"A"},{"$f":"IF(Attendance($C49,'Daily Register'!BV$3:BV$242)=TRUE,\"P\",\"A\")","v":"A"},{"$f":"IF(Attendance($C49,'Daily Register'!BW$3:BW$242)=TRUE,\"P\",\"A\")","v":"A"},{"$f":"IF(Attendance($C49,'Daily Register'!BX$3:BX$242)=TRUE,\"P\",\"A\")","v":"A"},{"$f":"IF(Attendance($C49,'Daily Register'!BY$3:BY$242)=TRUE,\"P\",\"A\")","v":"A"},{"$f":"IF(Attendance($C49,'Daily Register'!BZ$3:BZ$242)=TRUE,\"P\",\"A\")","v":"A"},{"$f":"IF(Attendance($C49,'Daily Register'!CA$3:CA$242)=TRUE,\"P\",\"A\")","v":"A"},{"$f":"IF(Attendance($C49,'Daily Register'!CB$3:CB$242)=TRUE,\"P\",\"A\")","v":"A"},{"$f":"IF(Attendance($C49,'Daily Register'!CC$3:CC$242)=TRUE,\"P\",\"A\")","v":"A"},{"$f":"IF(Attendance($C49,'Daily Register'!CD$3:CD$242)=TRUE,\"P\",\"A\")","v":"A"},{"$f":"IF(Attendance($C49,'Daily Register'!CE$3:CE$242)=TRUE,\"P\",\"A\")","v":"A"},{"$f":"IF(Attendance($C49,'Daily Register'!CF$3:CF$242)=TRUE,\"P\",\"A\")","v":"A"},{"$f":"IF(Attendance($C49,'Daily Register'!CG$3:CG$242)=TRUE,\"P\",\"A\")","v":"A"},{"$f":"IF(Attendance($C49,'Daily Register'!CH$3:CH$242)=TRUE,\"P\",\"A\")","v":"A"},{"$f":"IF(Attendance($C49,'Daily Register'!CI$3:CI$242)=TRUE,\"P\",\"A\")","v":"A"},{"$f":"IF(Attendance($C49,'Daily Register'!CJ$3:CJ$242)=TRUE,\"P\",\"A\")","v":"A"},{"$f":"IF(Attendance($C49,'Daily Register'!CK$3:CK$242)=TRUE,\"P\",\"A\")","v":"A"},{"$f":"IF(Attendance($C49,'Daily Register'!CL$3:CL$242)=TRUE,\"P\",\"A\")","v":"A"},{"$f":"IF(Attendance($C49,'Daily Register'!CM$3:CM$242)=TRUE,\"P\",\"A\")","v":"A"},{"$f":"IF(Attendance($C49,'Daily Register'!CN$3:CN$242)=TRUE,\"P\",\"A\")","v":"A"},{"$f":"IF(Attendance($C49,'Daily Register'!CO$3:CO$242)=TRUE,\"P\",\"A\")","v":"A"},{"$f":"IF(Attendance($C49,'Daily Register'!CP$3:CP$242)=TRUE,\"P\",\"A\")","v":"A"},{"$f":"IF(Attendance($C49,'Daily Register'!CQ$3:CQ$242)=TRUE,\"P\",\"A\")","v":"A"},{"$f":"IF(Attendance($C49,'Daily Register'!CR$3:CR$242)=TRUE,\"P\",\"A\")","v":"A"},{"$f":"IF(Attendance($C49,'Daily Register'!CS$3:CS$242)=TRUE,\"P\",\"A\")","v":"A"},{"$f":"IF(Attendance($C49,'Daily Register'!CT$3:CT$242)=TRUE,\"P\",\"A\")","v":"A"},{"$f":"IF(Attendance($C49,'Daily Register'!CU$3:CU$242)=TRUE,\"P\",\"A\")","v":"A"},{"$f":"IF(Attendance($C49,'Daily Register'!CV$3:CV$242)=TRUE,\"P\",\"A\")","v":"A"},{"$f":"IF(Attendance($C49,'Daily Register'!CW$3:CW$242)=TRUE,\"P\",\"A\")","v":"A"},{"$f":"IF(Attendance($C49,'Daily Register'!CX$3:CX$242)=TRUE,\"P\",\"A\")","v":"A"},{"$f":"IF(Attendance($C49,'Daily Register'!CY$3:CY$242)=TRUE,\"P\",\"A\")","v":"A"},{"$f":"IF(Attendance($C49,'Daily Register'!CZ$3:CZ$242)=TRUE,\"P\",\"A\")","v":"A"},{"$f":"IF(Attendance($C49,'Daily Register'!DA$3:DA$242)=TRUE,\"P\",\"A\")","v":"A"},{"$f":"IF(Attendance($C49,'Daily Register'!DB$3:DB$242)=TRUE,\"P\",\"A\")","v":"A"},{"$f":"IF(Attendance($C49,'Daily Register'!DC$3:DC$242)=TRUE,\"P\",\"A\")","v":"A"},{"$f":"IF(Attendance($C49,'Daily Register'!DD$3:DD$242)=TRUE,\"P\",\"A\")","v":"A"},{"$f":"IF(Attendance($C49,'Daily Register'!DE$3:DE$242)=TRUE,\"P\",\"A\")","v":"A"},{"$f":"IF(Attendance($C49,'Daily Register'!DF$3:DF$242)=TRUE,\"P\",\"A\")","v":"A"},{"$f":"IF(Attendance($C49,'Daily Register'!DG$3:DG$242)=TRUE,\"P\",\"A\")","v":"A"},{"$f":"IF(Attendance($C49,'Daily Register'!DH$3:DH$242)=TRUE,\"P\",\"A\")","v":"A"},{"$f":"IF(Attendance($C49,'Daily Register'!DI$3:DI$242)=TRUE,\"P\",\"A\")","v":"A"},{"$f":"IF(Attendance($C49,'Daily Register'!DJ$3:DJ$242)=TRUE,\"P\",\"A\")","v":"A"},{"$f":"IF(Attendance($C49,'Daily Register'!DK$3:DK$242)=TRUE,\"P\",\"A\")","v":"A"},{"$f":"IF(Attendance($C49,'Daily Register'!DL$3:DL$242)=TRUE,\"P\",\"A\")","v":"A"},{"$f":"IF(Attendance($C49,'Daily Register'!DM$3:DM$242)=TRUE,\"P\",\"A\")","v":"A"},{"$f":"IF(Attendance($C49,'Daily Register'!DN$3:DN$242)=TRUE,\"P\",\"A\")","v":"A"},{"$f":"IF(Attendance($C49,'Daily Register'!DO$3:DO$242)=TRUE,\"P\",\"A\")","v":"A"},{"$f":"IF(Attendance($C49,'Daily Register'!DP$3:DP$242)=TRUE,\"P\",\"A\")","v":"A"},{"$f":"IF(Attendance($C49,'Daily Register'!DQ$3:DQ$242)=TRUE,\"P\",\"A\")","v":"A"},{"$f":"IF(Attendance($C49,'Daily Register'!DR$3:DR$242)=TRUE,\"P\",\"A\")","v":"A"},{"$f":"IF(Attendance($C49,'Daily Register'!DS$3:DS$242)=TRUE,\"P\",\"A\")","v":"A"},{"$f":"IF(Attendance($C49,'Daily Register'!DT$3:DT$242)=TRUE,\"P\",\"A\")","v":"A"},{"$f":"IF(Attendance($C49,'Daily Register'!DU$3:DU$242)=TRUE,\"P\",\"A\")","v":"A"},{"$f":"IF(Attendance($C49,'Daily Register'!DV$3:DV$242)=TRUE,\"P\",\"A\")","v":"A"},{"$f":"IF(Attendance($C49,'Daily Register'!DW$3:DW$242)=TRUE,\"P\",\"A\")","v":"A"},{"$f":"IF(Attendance($C49,'Daily Register'!DX$3:DX$242)=TRUE,\"P\",\"A\")","v":"A"},{"$f":"IF(Attendance($C49,'Daily Register'!DY$3:DY$242)=TRUE,\"P\",\"A\")","v":"A"},{"$f":"IF(Attendance($C49,'Daily Register'!DZ$3:DZ$242)=TRUE,\"P\",\"A\")","v":"A"},{"$f":"IF(Attendance($C49,'Daily Register'!EA$3:EA$242)=TRUE,\"P\",\"A\")","v":"A"},{"$f":"IF(Attendance($C49,'Daily Register'!EB$3:EB$242)=TRUE,\"P\",\"A\")","v":"A"},{"$f":"IF(Attendance($C49,'Daily Register'!EC$3:EC$242)=TRUE,\"P\",\"A\")","v":"A"},{"$f":"IF(Attendance($C49,'Daily Register'!ED$3:ED$242)=TRUE,\"P\",\"A\")","v":"A"},{"$f":"IF(Attendance($C49,'Daily Register'!EE$3:EE$242)=TRUE,\"P\",\"A\")","v":"A"},{"$f":"IF(Attendance($C49,'Daily Register'!EF$3:EF$242)=TRUE,\"P\",\"A\")","v":"A"},{"$f":"IF(Attendance($C49,'Daily Register'!EG$3:EG$242)=TRUE,\"P\",\"A\")","v":"A"},{"$f":"IF(Attendance($C49,'Daily Register'!EH$3:EH$242)=TRUE,\"P\",\"A\")","v":"A"},{"$f":"IF(Attendance($C49,'Daily Register'!EI$3:EI$242)=TRUE,\"P\",\"A\")","v":"A"},{"$f":"IF(Attendance($C49,'Daily Register'!EJ$3:EJ$242)=TRUE,\"P\",\"A\")","v":"A"},{"$f":"IF(Attendance($C49,'Daily Register'!EK$3:EK$242)=TRUE,\"P\",\"A\")","v":"A"},{"$f":"IF(Attendance($C49,'Daily Register'!EL$3:EL$242)=TRUE,\"P\",\"A\")","v":"A"},{"$f":"IF(Attendance($C49,'Daily Register'!EM$22:EM$242)=TRUE,\"P\",\"A\")","v":"A"},{"$f":"IF(Attendance($C49,'Daily Register'!EN$3:EN$242)=TRUE,\"P\",\"A\")","v":"A"},{"$f":"IF(Attendance($C49,'Daily Register'!EO$3:EO$242)=TRUE,\"P\",\"A\")","v":"A"},{"$f":"IF(Attendance($C49,'Daily Register'!EP$3:EP$242)=TRUE,\"P\",\"A\")","v":"A"},{"$f":"IF(Attendance($C49,'Daily Register'!EQ$3:EQ$242)=TRUE,\"P\",\"A\")","v":"A"},{"$f":"IF(Attendance($C49,'Daily Register'!ER$3:ER$242)=TRUE,\"P\",\"A\")","v":"A"},{"$f":"IF(Attendance($C49,'Daily Register'!ES$3:ES$242)=TRUE,\"P\",\"A\")","v":"A"},{"$f":"IF(Attendance($C49,'Daily Register'!ET$3:ET$242)=TRUE,\"P\",\"A\")","v":"A"},{"$f":"IF(Attendance($C49,'Daily Register'!EU$3:EU$242)=TRUE,\"P\",\"A\")","v":"A"},{"$f":"IF(Attendance($C49,'Daily Register'!EV$3:EV$242)=TRUE,\"P\",\"A\")","v":"A"},{"$f":"IF(Attendance($C49,'Daily Register'!EW$3:EW$242)=TRUE,\"P\",\"A\")","v":"A"},{"$f":"IF(Attendance($C49,'Daily Register'!EX$3:EX$242)=TRUE,\"P\",\"A\")","v":"A"},{"$f":"IF(Attendance($C49,'Daily Register'!EY$3:EY$242)=TRUE,\"P\",\"A\")","v":"A"},{"$f":"IF(Attendance($C49,'Daily Register'!EZ$3:EZ$242)=TRUE,\"P\",\"A\")","v":"A"},{"$f":"IF(Attendance($C49,'Daily Register'!FA$3:FA$242)=TRUE,\"P\",\"A\")","v":"A"},{"$f":"IF(Attendance($C49,'Daily Register'!FB$3:FB$242)=TRUE,\"P\",\"A\")","v":"A"},{"$f":"IF(Attendance($C49,'Daily Register'!FC$3:FC$242)=TRUE,\"P\",\"A\")","v":"A"},{"$f":"IF(Attendance($C49,'Daily Register'!FD$3:FD$242)=TRUE,\"P\",\"A\")","v":"A"},{"$f":"IF(Attendance($C49,'Daily Register'!FE$3:FE$242)=TRUE,\"P\",\"A\")","v":"A"},{"$f":"IF(Attendance($C49,'Daily Register'!FF$3:FF$242)=TRUE,\"P\",\"A\")","v":"A"},{"$f":"IF(Attendance($C49,'Daily Register'!FG$3:FG$242)=TRUE,\"P\",\"A\")","v":"A"},{"$f":"IF(Attendance($C49,'Daily Register'!FH$3:FH$242)=TRUE,\"P\",\"A\")","v":"A"},{"$f":"IF(Attendance($C49,'Daily Register'!FI$3:FI$242)=TRUE,\"P\",\"A\")","v":"A"},{"$f":"IF(Attendance($C49,'Daily Register'!FJ$3:FJ$242)=TRUE,\"P\",\"A\")","v":"A"},{"$f":"IF(Attendance($C49,'Daily Register'!FK$3:FK$242)=TRUE,\"P\",\"A\")","v":"A"},{"$f":"IF(Attendance($C49,'Daily Register'!FL$3:FL$242)=TRUE,\"P\",\"A\")","v":"A"},{"$f":"IF(Attendance($C49,'Daily Register'!FM$3:FM$242)=TRUE,\"P\",\"A\")","v":"A"},{"$f":"IF(Attendance($C49,'Daily Register'!FN$3:FN$242)=TRUE,\"P\",\"A\")","v":"A"},{"$f":"IF(Attendance($C49,'Daily Register'!FO$3:FO$242)=TRUE,\"P\",\"A\")","v":"A"},{"$f":"IF(Attendance($C49,'Daily Register'!FP$3:FP$242)=TRUE,\"P\",\"A\")","v":"A"},{"$f":"IF(Attendance($C49,'Daily Register'!FQ$3:FQ$242)=TRUE,\"P\",\"A\")","v":"A"},{"$f":"IF(Attendance($C49,'Daily Register'!FR$3:FR$242)=TRUE,\"P\",\"A\")","v":"A"},{"$f":"IF(Attendance($C49,'Daily Register'!FS$3:FS$242)=TRUE,\"P\",\"A\")","v":"A"},{"$f":"IF(Attendance($C49,'Daily Register'!FT$3:FT$242)=TRUE,\"P\",\"A\")","v":"A"},{"$f":"IF(Attendance($C49,'Daily Register'!FU$3:FU$242)=TRUE,\"P\",\"A\")","v":"A"},{"$f":"IF(Attendance($C49,'Daily Register'!FV$3:FV$242)=TRUE,\"P\",\"A\")","v":"A"},{"$f":"IF(Attendance($C49,'Daily Register'!FW$3:FW$242)=TRUE,\"P\",\"A\")","v":"A"},{"$f":"IF(Attendance($C49,'Daily Register'!FX$3:FX$242)=TRUE,\"P\",\"A\")","v":"A"},{"$f":"IF(Attendance($C49,'Daily Register'!FY$3:FY$242)=TRUE,\"P\",\"A\")","v":"A"},{"$f":"IF(Attendance($C49,'Daily Register'!FZ$3:FZ$242)=TRUE,\"P\",\"A\")","v":"A"},{"$f":"IF(Attendance($C49,'Daily Register'!GA$3:GA$242)=TRUE,\"P\",\"A\")","v":"A"},{"$f":"IF(Attendance($C49,'Daily Register'!GB$3:GB$242)=TRUE,\"P\",\"A\")","v":"A"},{"$f":"IF(Attendance($C49,'Daily Register'!GC$3:GC$242)=TRUE,\"P\",\"A\")","v":"A"},{"$f":"IF(Attendance($C49,'Daily Register'!GD$3:GD$242)=TRUE,\"P\",\"A\")","v":"A"},{"$f":"IF(Attendance($C49,'Daily Register'!GE$3:GE$242)=TRUE,\"P\",\"A\")","v":"A"},{"$f":"IF(Attendance($C49,'Daily Register'!GF$3:GF$242)=TRUE,\"P\",\"A\")","v":"A"},{"$f":"IF(Attendance($C49,'Daily Register'!GG$3:GG$242)=TRUE,\"P\",\"A\")","v":"A"},{"$f":"IF(Attendance($C49,'Daily Register'!GH$3:GH$242)=TRUE,\"P\",\"A\")","v":"A"},{"$f":"IF(Attendance($C49,'Daily Register'!GI$3:GI$242)=TRUE,\"P\",\"A\")","v":"A"},{"$f":"IF(Attendance($C49,'Daily Register'!GJ$3:GJ$242)=TRUE,\"P\",\"A\")","v":"A"},{"$f":"IF(Attendance($C49,'Daily Register'!GK$3:GK$242)=TRUE,\"P\",\"A\")","v":"A"},{"$f":"IF(Attendance($C49,'Daily Register'!GL$3:GL$242)=TRUE,\"P\",\"A\")","v":"A"},{"$f":"IF(Attendance($C49,'Daily Register'!GM$3:GM$242)=TRUE,\"P\",\"A\")","v":"A"},{"$f":"IF(Attendance($C49,'Daily Register'!GN$3:GN$242)=TRUE,\"P\",\"A\")","v":"A"},{"$f":"IF(Attendance($C49,'Daily Register'!GO$3:GO$242)=TRUE,\"P\",\"A\")","v":"A"},{"$f":"IF(Attendance($C49,'Daily Register'!GP$3:GP$242)=TRUE,\"P\",\"A\")","v":"A"},{"$f":"IF(Attendance($C49,'Daily Register'!GQ$3:GQ$242)=TRUE,\"P\",\"A\")","v":"A"},{"$f":"IF(Attendance($C49,'Daily Register'!GR$3:GR$242)=TRUE,\"P\",\"A\")","v":"A"},{"$f":"IF(Attendance($C49,'Daily Register'!GS$3:GS$242)=TRUE,\"P\",\"A\")","v":"A"},{"$f":"IF(Attendance($C49,'Daily Register'!GT$3:GT$242)=TRUE,\"P\",\"A\")","v":"A"},{"$f":"IF(Attendance($C49,'Daily Register'!GU$3:GU$242)=TRUE,\"P\",\"A\")","v":"A"},{"$f":"IF(Attendance($C49,'Daily Register'!GV$3:GV$242)=TRUE,\"P\",\"A\")","v":"A"},{"$f":"IF(Attendance($C49,'Daily Register'!GW$3:GW$242)=TRUE,\"P\",\"A\")","v":"A"},{"$f":"IF(Attendance($C49,'Daily Register'!GX$3:GX$242)=TRUE,\"P\",\"A\")","v":"A"},{"$f":"IF(Attendance($C49,'Daily Register'!GY$3:GY$242)=TRUE,\"P\",\"A\")","v":"A"},{"$f":"IF(Attendance($C49,'Daily Register'!GZ$3:GZ$242)=TRUE,\"P\",\"A\")","v":"A"},{"$f":"IF(Attendance($C49,'Daily Register'!HA$3:HA$242)=TRUE,\"P\",\"A\")","v":"A"},{"$f":"IF(Attendance($C49,'Daily Register'!HB$3:HB$242)=TRUE,\"P\",\"A\")","v":"A"},{"$f":"IF(Attendance($C49,'Daily Register'!HC$3:HC$242)=TRUE,\"P\",\"A\")","v":"A"},{"$f":"IF(Attendance($C49,'Daily Register'!HD$3:HD$242)=TRUE,\"P\",\"A\")","v":"A"},{"$f":"IF(Attendance($C49,'Daily Register'!HE$3:HE$242)=TRUE,\"P\",\"A\")","v":"A"},{"$f":"IF(Attendance($C49,'Daily Register'!HF$3:HF$242)=TRUE,\"P\",\"A\")","v":"A"},{"$f":"IF(Attendance($C49,'Daily Register'!HG$3:HG$242)=TRUE,\"P\",\"A\")","v":"A"},{"$f":"IF(Attendance($C49,'Daily Register'!HH$3:HH$242)=TRUE,\"P\",\"A\")","v":"A"},{"$f":"IF(Attendance($C49,'Daily Register'!HI$3:HI$242)=TRUE,\"P\",\"A\")","v":"A"},{"$f":"IF(Attendance($C49,'Daily Register'!HJ$3:HJ$242)=TRUE,\"P\",\"A\")","v":"A"},{"$f":"IF(Attendance($C49,'Daily Register'!HK$3:HK$242)=TRUE,\"P\",\"A\")","v":"A"},{"$f":"IF(Attendance($C49,'Daily Register'!HL$3:HL$242)=TRUE,\"P\",\"A\")","v":"A"},{"$f":"IF(Attendance($C49,'Daily Register'!HM$3:HM$242)=TRUE,\"P\",\"A\")","v":"A"},{"$f":"IF(Attendance($C49,'Daily Register'!HN$3:HN$242)=TRUE,\"P\",\"A\")","v":"A"},{"$f":"IF(Attendance($C49,'Daily Register'!HO$3:HO$242)=TRUE,\"P\",\"A\")","v":"A"},{"$f":"IF(Attendance($C49,'Daily Register'!HP$3:HP$242)=TRUE,\"P\",\"A\")","v":"A"},{"$f":"IF(Attendance($C49,'Daily Register'!HQ$3:HQ$242)=TRUE,\"P\",\"A\")","v":"A"},{"$f":"IF(Attendance($C49,'Daily Register'!HR$3:HR$242)=TRUE,\"P\",\"A\")","v":"A"},{"$f":"IF(Attendance($C49,'Daily Register'!HS$3:HS$242)=TRUE,\"P\",\"A\")","v":"A"},{"$f":"IF(Attendance($C49,'Daily Register'!HT$3:HT$242)=TRUE,\"P\",\"A\")","v":"A"},{"$f":"IF(Attendance($C49,'Daily Register'!HU$3:HU$242)=TRUE,\"P\",\"A\")","v":"A"},{"$f":"IF(Attendance($C49,'Daily Register'!HV$3:HV$242)=TRUE,\"P\",\"A\")","v":"A"},{"$f":"IF(Attendance($C49,'Daily Register'!HW$3:HW$242)=TRUE,\"P\",\"A\")","v":"A"},{"$f":"IF(Attendance($C49,'Daily Register'!HX$3:HX$242)=TRUE,\"P\",\"A\")","v":"A"},{"$f":"IF(Attendance($C49,'Daily Register'!HY$3:HY$242)=TRUE,\"P\",\"A\")","v":"A"},{"$f":"IF(Attendance($C49,'Daily Register'!HZ$3:HZ$242)=TRUE,\"P\",\"A\")","v":"A"},{"$f":"IF(Attendance($C49,'Daily Register'!IA$3:IA$242)=TRUE,\"P\",\"A\")","v":"A"},{"$f":"IF(Attendance($C49,'Daily Register'!IB$3:IB$242)=TRUE,\"P\",\"A\")","v":"A"},{"$f":"IF(Attendance($C49,'Daily Register'!IC$3:IC$242)=TRUE,\"P\",\"A\")","v":"A"},{"$f":"IF(Attendance($C49,'Daily Register'!ID$3:ID$242)=TRUE,\"P\",\"A\")","v":"A"},{"$f":"IF(Attendance($C49,'Daily Register'!IE$3:IE$242)=TRUE,\"P\",\"A\")","v":"A"},{"$f":"IF(Attendance($C49,'Daily Register'!IF$3:IF$242)=TRUE,\"P\",\"A\")","v":"A"},{"$f":"IF(Attendance($C49,'Daily Register'!IG$3:IG$242)=TRUE,\"P\",\"A\")","v":"A"},{"$f":"IF(Attendance($C49,'Daily Register'!IH$3:IH$242)=TRUE,\"P\",\"A\")","v":"A"},{"$f":"IF(Attendance($C49,'Daily Register'!II$3:II$242)=TRUE,\"P\",\"A\")","v":"A"},{"$f":"IF(Attendance($C49,'Daily Register'!IJ$3:IJ$242)=TRUE,\"P\",\"A\")","v":"A"},{"$f":"IF(Attendance($C49,'Daily Register'!IK$3:IK$242)=TRUE,\"P\",\"A\")","v":"A"},{"$f":"IF(Attendance($C49,'Daily Register'!IL$3:IL$242)=TRUE,\"P\",\"A\")","v":"A"},{"$f":"IF(Attendance($C49,'Daily Register'!IM$3:IM$242)=TRUE,\"P\",\"A\")","v":"A"},{"$f":"IF(Attendance($C49,'Daily Register'!IN$3:IN$242)=TRUE,\"P\",\"A\")","v":"A"},{"$f":"IF(Attendance($C49,'Daily Register'!IO$3:IO$242)=TRUE,\"P\",\"A\")","v":"A"},{"$f":"IF(Attendance($C49,'Daily Register'!IP$3:IP$242)=TRUE,\"P\",\"A\")","v":"A"},{"$f":"IF(Attendance($C49,'Daily Register'!IQ$3:IQ$242)=TRUE,\"P\",\"A\")","v":"A"},{"$f":"IF(Attendance($C49,'Daily Register'!IR$3:IR$242)=TRUE,\"P\",\"A\")","v":"A"},{"$f":"IF(Attendance($C49,'Daily Register'!IS$3:IS$242)=TRUE,\"P\",\"A\")","v":"A"},{"$f":"IF(Attendance($C49,'Daily Register'!IT$3:IT$242)=TRUE,\"P\",\"A\")","v":"A"},{"$f":"IF(Attendance($C49,'Daily Register'!IU$3:IU$242)=TRUE,\"P\",\"A\")","v":"A"},{"$f":"IF(Attendance($C49,'Daily Register'!IV$3:IV$242)=TRUE,\"P\",\"A\")","v":"A"},{"$f":"IF(Attendance($C49,'Daily Register'!IW$3:IW$242)=TRUE,\"P\",\"A\")","v":"A"},{"$f":"IF(Attendance($C49,'Daily Register'!IX$3:IX$242)=TRUE,\"P\",\"A\")","v":"A"},{"$f":"IF(Attendance($C49,'Daily Register'!IY$3:IY$242)=TRUE,\"P\",\"A\")","v":"A"},{"$f":"IF(Attendance($C49,'Daily Register'!IZ$3:IZ$242)=TRUE,\"P\",\"A\")","v":"A"},{"$f":"IF(Attendance($C49,'Daily Register'!JA$3:JA$242)=TRUE,\"P\",\"A\")","v":"A"},{"$f":"IF(Attendance($C49,'Daily Register'!JB$3:JB$242)=TRUE,\"P\",\"A\")","v":"A"},{"$f":"IF(Attendance($C49,'Daily Register'!JC$3:JC$242)=TRUE,\"P\",\"A\")","v":"A"},{"$f":"IF(Attendance($C49,'Daily Register'!JD$3:JD$242)=TRUE,\"P\",\"A\")","v":"A"},{"$f":"IF(Attendance($C49,'Daily Register'!JE$3:JE$242)=TRUE,\"P\",\"A\")","v":"A"},{"$f":"IF(Attendance($C49,'Daily Register'!JF$3:JF$242)=TRUE,\"P\",\"A\")","v":"A"},{"$f":"IF(Attendance($C49,'Daily Register'!JG$3:JG$242)=TRUE,\"P\",\"A\")","v":"A"},{"$f":"IF(Attendance($C49,'Daily Register'!JH$3:JH$242)=TRUE,\"P\",\"A\")","v":"A"},{"$f":"IF(Attendance($C49,'Daily Register'!JI$3:JI$242)=TRUE,\"P\",\"A\")","v":"A"},{"$f":"IF(Attendance($C49,'Daily Register'!JJ$3:JJ$242)=TRUE,\"P\",\"A\")","v":"A"},{"$f":"IF(Attendance($C49,'Daily Register'!JK$3:JK$242)=TRUE,\"P\",\"A\")","v":"A"},{"$f":"IF(Attendance($C49,'Daily Register'!JL$3:JL$242)=TRUE,\"P\",\"A\")","v":"A"},{"$f":"IF(Attendance($C49,'Daily Register'!JM$3:JM$242)=TRUE,\"P\",\"A\")","v":"A"},{"$f":"IF(Attendance($C49,'Daily Register'!JN$3:JN$242)=TRUE,\"P\",\"A\")","v":"A"},{"$f":"IF(Attendance($C49,'Daily Register'!JO$3:JO$242)=TRUE,\"P\",\"A\")","v":"A"},{"$f":"IF(Attendance($C49,'Daily Register'!JP$3:JP$242)=TRUE,\"P\",\"A\")","v":"A"},{"$f":"IF(Attendance($C49,'Daily Register'!JQ$3:JQ$242)=TRUE,\"P\",\"A\")","v":"A"},{"$f":"IF(Attendance($C49,'Daily Register'!JR$3:JR$242)=TRUE,\"P\",\"A\")","v":"A"},{"$f":"IF(Attendance($C49,'Daily Register'!JS$3:JS$242)=TRUE,\"P\",\"A\")","v":"A"},{"$f":"IF(Attendance($C49,'Daily Register'!JT$3:JT$242)=TRUE,\"P\",\"A\")","v":"A"},{"$f":"IF(Attendance($C49,'Daily Register'!JU$3:JU$242)=TRUE,\"P\",\"A\")","v":"A"},{"$f":"IF(Attendance($C49,'Daily Register'!JV$3:JV$242)=TRUE,\"P\",\"A\")","v":"A"},{"$f":"IF(Attendance($C49,'Daily Register'!JW$3:JW$242)=TRUE,\"P\",\"A\")","v":"A"},{"$f":"IF(Attendance($C49,'Daily Register'!JX$3:JX$242)=TRUE,\"P\",\"A\")","v":"A"},{"$f":"IF(Attendance($C49,'Daily Register'!JY$3:JY$242)=TRUE,\"P\",\"A\")","v":"A"},{"$f":"IF(Attendance($C49,'Daily Register'!JZ$3:JZ$242)=TRUE,\"P\",\"A\")","v":"A"},{"$f":"IF(Attendance($C49,'Daily Register'!KA$3:KA$242)=TRUE,\"P\",\"A\")","v":"A"},{"$f":"IF(Attendance($C49,'Daily Register'!KB$3:KB$242)=TRUE,\"P\",\"A\")","v":"A"},{"$f":"IF(Attendance($C49,'Daily Register'!KC$3:KC$242)=TRUE,\"P\",\"A\")","v":"A"},{"$f":"IF(Attendance($C49,'Daily Register'!KD$3:KD$242)=TRUE,\"P\",\"A\")","v":"A"},{"$f":"IF(Attendance($C49,'Daily Register'!KE$3:KE$242)=TRUE,\"P\",\"A\")","v":"A"},{"$f":"IF(Attendance($C49,'Daily Register'!KF$3:KF$242)=TRUE,\"P\",\"A\")","v":"A"},{"$f":"IF(Attendance($C49,'Daily Register'!KG$3:KG$242)=TRUE,\"P\",\"A\")","v":"A"},{"$f":"IF(Attendance($C49,'Daily Register'!KH$3:KH$242)=TRUE,\"P\",\"A\")","v":"A"},{"$f":"IF(Attendance($C49,'Daily Register'!KI$3:KI$242)=TRUE,\"P\",\"A\")","v":"A"},{"$f":"IF(Attendance($C49,'Daily Register'!KJ$3:KJ$242)=TRUE,\"P\",\"A\")","v":"A"},{"$f":"IF(Attendance($C49,'Daily Register'!KK$3:KK$242)=TRUE,\"P\",\"A\")","v":"A"},{"$f":"IF(Attendance($C49,'Daily Register'!KL$3:KL$242)=TRUE,\"P\",\"A\")","v":"A"},{"$f":"IF(Attendance($C49,'Daily Register'!KM$3:KM$242)=TRUE,\"P\",\"A\")","v":"A"},{"$f":"IF(Attendance($C49,'Daily Register'!KN$3:KN$242)=TRUE,\"P\",\"A\")","v":"A"},{"$f":"IF(Attendance($C49,'Daily Register'!KO$3:KO$242)=TRUE,\"P\",\"A\")","v":"A"},{"$f":"IF(Attendance($C49,'Daily Register'!KP$3:KP$242)=TRUE,\"P\",\"A\")","v":"A"},{"$f":"IF(Attendance($C49,'Daily Register'!KQ$3:KQ$242)=TRUE,\"P\",\"A\")","v":"A"},{"$f":"IF(Attendance($C49,'Daily Register'!KR$3:KR$242)=TRUE,\"P\",\"A\")","v":"A"},{"$f":"IF(Attendance($C49,'Daily Register'!KS$3:KS$242)=TRUE,\"P\",\"A\")","v":"A"},{"$f":"IF(Attendance($C49,'Daily Register'!KT$3:KT$242)=TRUE,\"P\",\"A\")","v":"A"},{"$f":"IF(Attendance($C49,'Daily Register'!KU$3:KU$242)=TRUE,\"P\",\"A\")","v":"A"},{"$f":"IF(Attendance($C49,'Daily Register'!KV$3:KV$242)=TRUE,\"P\",\"A\")","v":"A"},{"$f":"IF(Attendance($C49,'Daily Register'!KW$3:KW$242)=TRUE,\"P\",\"A\")","v":"A"},{"$f":"IF(Attendance($C49,'Daily Register'!KX$3:KX$242)=TRUE,\"P\",\"A\")","v":"A"},{"$f":"IF(Attendance($C49,'Daily Register'!KY$3:KY$242)=TRUE,\"P\",\"A\")","v":"A"},{"$f":"IF(Attendance($C49,'Daily Register'!KZ$3:KZ$242)=TRUE,\"P\",\"A\")","v":"A"},{"$f":"IF(Attendance($C49,'Daily Register'!LA$3:LA$242)=TRUE,\"P\",\"A\")","v":"A"},{"$f":"IF(Attendance($C49,'Daily Register'!LB$3:LB$242)=TRUE,\"P\",\"A\")","v":"A"},{"$f":"IF(Attendance($C49,'Daily Register'!LC$3:LC$242)=TRUE,\"P\",\"A\")","v":"A"},{"$f":"IF(Attendance($C49,'Daily Register'!LD$3:LD$242)=TRUE,\"P\",\"A\")","v":"A"},{"$f":"IF(Attendance($C49,'Daily Register'!LE$3:LE$242)=TRUE,\"P\",\"A\")","v":"A"},{"$f":"IF(Attendance($C49,'Daily Register'!LF$3:LF$242)=TRUE,\"P\",\"A\")","v":"A"},{"$f":"IF(Attendance($C49,'Daily Register'!LG$3:LG$242)=TRUE,\"P\",\"A\")","v":"A"},{"$f":"IF(Attendance($C49,'Daily Register'!LH$3:LH$242)=TRUE,\"P\",\"A\")","v":"A"},{"$f":"IF(Attendance($C49,'Daily Register'!LI$3:LI$242)=TRUE,\"P\",\"A\")","v":"A"},{"$f":"IF(Attendance($C49,'Daily Register'!LJ$3:LJ$242)=TRUE,\"P\",\"A\")","v":"A"},{"$f":"IF(Attendance($C49,'Daily Register'!LK$3:LK$242)=TRUE,\"P\",\"A\")","v":"A"},{"$f":"IF(Attendance($C49,'Daily Register'!LL$3:LL$242)=TRUE,\"P\",\"A\")","v":"A"},{"$f":"IF(Attendance($C49,'Daily Register'!LM$3:LM$242)=TRUE,\"P\",\"A\")","v":"A"},{"$f":"IF(Attendance($C49,'Daily Register'!LN$3:LN$242)=TRUE,\"P\",\"A\")","v":"A"},{"$f":"IF(Attendance($C49,'Daily Register'!LO$3:LO$242)=TRUE,\"P\",\"A\")","v":"A"},{"$f":"IF(Attendance($C49,'Daily Register'!LP$3:LP$242)=TRUE,\"P\",\"A\")","v":"A"},{"$f":"IF(Attendance($C49,'Daily Register'!LQ$3:LQ$242)=TRUE,\"P\",\"A\")","v":"A"},{"$f":"IF(Attendance($C49,'Daily Register'!LR$3:LR$242)=TRUE,\"P\",\"A\")","v":"A"},{"$f":"IF(Attendance($C49,'Daily Register'!LS$3:LS$242)=TRUE,\"P\",\"A\")","v":"A"},{"$f":"IF(Attendance($C49,'Daily Register'!LT$3:LT$242)=TRUE,\"P\",\"A\")","v":"A"},{"$f":"IF(Attendance($C49,'Daily Register'!LU$3:LU$242)=TRUE,\"P\",\"A\")","v":"A"},{"$f":"IF(Attendance($C49,'Daily Register'!LV$3:LV$242)=TRUE,\"P\",\"A\")","v":"A"},{"$f":"IF(Attendance($C49,'Daily Register'!LW$3:LW$242)=TRUE,\"P\",\"A\")","v":"A"},{"$f":"IF(Attendance($C49,'Daily Register'!LX$3:LX$242)=TRUE,\"P\",\"A\")","v":"A"},{"$f":"IF(Attendance($C49,'Daily Register'!LY$3:LY$242)=TRUE,\"P\",\"A\")","v":"A"},{"$f":"IF(Attendance($C49,'Daily Register'!LZ$3:LZ$242)=TRUE,\"P\",\"A\")","v":"A"},{"$f":"IF(Attendance($C49,'Daily Register'!MA$3:MA$242)=TRUE,\"P\",\"A\")","v":"A"},{"$f":"IF(Attendance($C49,'Daily Register'!MB$3:MB$242)=TRUE,\"P\",\"A\")","v":"A"},{"$f":"IF(Attendance($C49,'Daily Register'!MC$3:MC$242)=TRUE,\"P\",\"A\")","v":"A"},{"$f":"IF(Attendance($C49,'Daily Register'!MD$3:MD$242)=TRUE,\"P\",\"A\")","v":"A"},{"$f":"IF(Attendance($C49,'Daily Register'!ME$3:ME$242)=TRUE,\"P\",\"A\")","v":"A"},{"$f":"IF(Attendance($C49,'Daily Register'!MF$3:MF$242)=TRUE,\"P\",\"A\")","v":"A"},{"$f":"IF(Attendance($C49,'Daily Register'!MG$3:MG$242)=TRUE,\"P\",\"A\")","v":"A"},{"$f":"IF(Attendance($C49,'Daily Register'!MH$3:MH$242)=TRUE,\"P\",\"A\")","v":"A"},{"$f":"IF(Attendance($C49,'Daily Register'!MI$3:MI$242)=TRUE,\"P\",\"A\")","v":"A"},{"$f":"IF(Attendance($C49,'Daily Register'!MJ$3:MJ$242)=TRUE,\"P\",\"A\")","v":"A"},{"$f":"IF(Attendance($C49,'Daily Register'!MK$3:MK$242)=TRUE,\"P\",\"A\")","v":"A"},{"$f":"IF(Attendance($C49,'Daily Register'!ML$3:ML$242)=TRUE,\"P\",\"A\")","v":"A"},{"$f":"IF(Attendance($C49,'Daily Register'!MM$3:MM$242)=TRUE,\"P\",\"A\")","v":"A"},{"$f":"IF(Attendance($C49,'Daily Register'!MN$3:MN$242)=TRUE,\"P\",\"A\")","v":"A"},{"$f":"IF(Attendance($C49,'Daily Register'!MO$3:MO$242)=TRUE,\"P\",\"A\")","v":"A"},{"$f":"IF(Attendance($C49,'Daily Register'!MP$3:MP$242)=TRUE,\"P\",\"A\")","v":"A"},{"$f":"IF(Attendance($C49,'Daily Register'!MQ$3:MQ$242)=TRUE,\"P\",\"A\")","v":"A"},{"$f":"IF(Attendance($C49,'Daily Register'!MR$3:MR$242)=TRUE,\"P\",\"A\")","v":"A"},{"$f":"IF(Attendance($C49,'Daily Register'!MS$3:MS$242)=TRUE,\"P\",\"A\")","v":"A"},{"$f":"IF(Attendance($C49,'Daily Register'!MT$3:MT$242)=TRUE,\"P\",\"A\")","v":"A"},{"$f":"IF(Attendance($C49,'Daily Register'!MU$3:MU$242)=TRUE,\"P\",\"A\")","v":"A"},{"$f":"IF(Attendance($C49,'Daily Register'!MV$3:MV$242)=TRUE,\"P\",\"A\")","v":"A"},{"$f":"IF(Attendance($C49,'Daily Register'!MW$3:MW$242)=TRUE,\"P\",\"A\")","v":"A"},{"$f":"IF(Attendance($C49,'Daily Register'!MX$3:MX$242)=TRUE,\"P\",\"A\")","v":"A"},{"$f":"IF(Attendance($C49,'Daily Register'!MY$3:MY$242)=TRUE,\"P\",\"A\")","v":"A"},{"$f":"IF(Attendance($C49,'Daily Register'!MZ$3:MZ$242)=TRUE,\"P\",\"A\")","v":"A"},{"$f":"IF(Attendance($C49,'Daily Register'!NA$3:NA$242)=TRUE,\"P\",\"A\")","v":"A"},{"$f":"IF(Attendance($C49,'Daily Register'!NB$3:NB$242)=TRUE,\"P\",\"A\")","v":"A"}]
[0,null,47,null,{"$f":"IF(Attendance($C50,'Daily Register'!A$3:A$242)=TRUE,\"P\",\"A\")","v":"A"},{"$f":"IF(Attendance($C50,'Daily Register'!B$3:B$242)=TRUE,\"P\",\"A\")","v":"A"},{"$f":"IF(Attendance($C50,'Daily Register'!C$3:C$242)=TRUE,\"P\",\"A\")","v":"A"},{"$f":"IF(Attendance($C50,'Daily Register'!D$3:D$242)=TRUE,\"P\",\"A\")","v":"A"},{"$f":"IF(Attendance($C50,'Daily Register'!E$3:E$242)=TRUE,\"P\",\"A\")","v":"A"},{"$f":"IF(Attendance($C50,'Daily Register'!F$3:F$242)=TRUE,\"P\",\"A\")","v":"A"},{"$f":"IF(Attendance($C50,'Daily Register'!G$3:G$242)=TRUE,\"P\",\"A\")","v":"A"},{"$f":"IF(Attendance($C50,'Daily Register'!H$3:H$242)=TRUE,\"P\",\"A\")","v":"A"},{"$f":"IF(Attendance($C50,'Daily Register'!I$3:I$242)=TRUE,\"P\",\"A\")","v":"A"},{"$f":"IF(Attendance($C50,'Daily Register'!J$3:J$242)=TRUE,\"P\",\"A\")","v":"A"},{"$f":"IF(Attendance($C50,'Daily Register'!K$3:K$242)=TRUE,\"P\",\"A\")","v":"A"},{"$f":"IF(Attendance($C50,'Daily Register'!L$3:L$242)=TRUE,\"P\",\"A\")","v":"A"},{"$f":"IF(Attendance($C50,'Daily Register'!M$3:M$242)=TRUE,\"P\",\"A\")","v":"A"},{"$f":"IF(Attendance($C50,'Daily Register'!N$3:N$242)=TRUE,\"P\",\"A\")","v":"A"},{"$f":"IF(Attendance($C50,'Daily Register'!O$3:O$242)=TRUE,\"P\",\"A\")","v":"A"},{"$f":"IF(Attendance($C50,'Daily Register'!P$3:P$242)=TRUE,\"P\",\"A\")","v":"A"},{"$f":"IF(Attendance($C50,'Daily Register'!Q$3:Q$242)=TRUE,\"P\",\"A\")","v":"A"},{"$f":"IF(Attendance($C50,'Daily Register'!R$3:R$242)=TRUE,\"P\",\"A\")","v":"A"},{"$f":"IF(Attendance($C50,'Daily Register'!S$3:S$242)=TRUE,\"P\",\"A\")","v":"A"},{"$f":"IF(Attendance($C50,'Daily Register'!T$3:T$242)=TRUE,\"P\",\"A\")","v":"A"},{"$f":"IF(Attendance($C50,'Daily Register'!U$3:U$242)=TRUE,\"P\",\"A\")","v":"A"},{"$f":"IF(Attendance($C50,'Daily Register'!V$3:V$242)=TRUE,\"P\",\"A\")","v":"A"},{"$f":"IF(Attendance($C50,'Daily Register'!W$3:W$242)=TRUE,\"P\",\"A\")","v":"A"},{"$f":"IF(Attendance($C50,'Daily Register'!X$3:X$242)=TRUE,\"P\",\"A\")","v":"A"},{"$f":"IF(Attendance($C50,'Daily Register'!Y$3:Y$242)=TRUE,\"P\",\"A\")","v":"A"},{"$f":"IF(Attendance($C50,'Daily Register'!Z$3:Z$242)=TRUE,\"P\",\"A\")","v":"A"},{"$f":"IF(Attendance($C50,'Daily Register'!AA$3:AA$242)=TRUE,\"P\",\"A\")","v":"A"},{"$f":"IF(Attendance($C50,'Daily Register'!AB$3:AB$242)=TRUE,\"P\",\"A\")","v":"A"},{"$f":"IF(Attendance($C50,'Daily Register'!AC$3:AC$242)=TRUE,\"P\",\"A\")","v":"A"},{"$f":"IF(Attendance($C50,'Daily Register'!AD$3:AD$242)=TRUE,\"P\",\"A\")","v":"A"},{"$f":"IF(Attendance($C50,'Daily Register'!AE$3:AE$242)=TRUE,\"P\",\"A\")","v":"A"},{"$f":"IF(Attendance($C50,'Daily Register'!AF$3:AF$242)=TRUE,\"P\",\"A\")","v":"A"},{"$f":"IF(Attendance($C50,'Daily Register'!AG$3:AG$242)=TRUE,\"P\",\"A\")","v":"A"},{"$f":"IF(Attendance($C50,'Daily Register'!AH$3:AH$242)=TRUE,\"P\",\"A\")","v":"A"},{"$f":"IF(Attendance($C50,'Daily Register'!AI$3:AI$242)=TRUE,\"P\",\"A\")","v":"A"},{"$f":"IF(Attendance($C50,'Daily Register'!AJ$3:AJ$242)=TRUE,\"P\",\"A\")","v":"A"},{"$f":"IF(Attendance($C50,'Daily Register'!AK$3:AK$242)=TRUE,\"P\",\"A\")","v":"A"},{"$f":"IF(Attendance($C50,'Daily Register'!AL$3:AL$242)=TRUE,\"P\",\"A\")","v":"A"},{"$f":"IF(Attendance($C50,'Daily Register'!AM$3:AM$242)=TRUE,\"P\",\"A\")","v":"A"},{"$f":"IF(Attendance($C50,'Daily Register'!AN$3:AN$242)=TRUE,\"P\",\"A\")","v":"A"},{"$f":"IF(Attendance($C50,'Daily Register'!AO$3:AO$242)=TRUE,\"P\",\"A\")","v":"A"},{"$f":"IF(Attendance($C50,'Daily Register'!AP$3:AP$242)=TRUE,\"P\",\"A\")","v":"A"},{"$f":"IF(Attendance($C50,'Daily Register'!AQ$3:AQ$242)=TRUE,\"P\",\"A\")","v":"A"},{"$f":"IF(Attendance($C50,'Daily Register'!AR$3:AR$242)=TRUE,\"P\",\"A\")","v":"A"},{"$f":"IF(Attendance($C50,'Daily Register'!AS$3:AS$242)=TRUE,\"P\",\"A\")","v":"A"},{"$f":"IF(Attendance($C50,'Daily Register'!AT$3:AT$242)=TRUE,\"P\",\"A\")","v":"A"},{"$f":"IF(Attendance($C50,'Daily Register'!AU$3:AU$242)=TRUE,\"P\",\"A\")","v":"A"},{"$f":"IF(Attendance($C50,'Daily Register'!AV$3:AV$242)=TRUE,\"P\",\"A\")","v":"A"},{"$f":"IF(Attendance($C50,'Daily Register'!AW$3:AW$242)=TRUE,\"P\",\"A\")","v":"A"},{"$f":"IF(Attendance($C50,'Daily Register'!AX$3:AX$242)=TRUE,\"P\",\"A\")","v":"A"},{"$f":"IF(Attendance($C50,'Daily Register'!AY$3:AY$242)=TRUE,\"P\",\"A\")","v":"A"},{"$f":"IF(Attendance($C50,'Daily Register'!AZ$3:AZ$242)=TRUE,\"P\",\"A\")","v":"A"},{"$f":"IF(Attendance($C50,'Daily Register'!BA$3:BA$242)=TRUE,\"P\",\"A\")","v":"A"},{"$f":"IF(Attendance($C50,'Daily Register'!BB$3:BB$242)=TRUE,\"P\",\"A\")","v":"A"},{"$f":"IF(Attendance($C50,'Daily Register'!BC$3:BC$242)=TRUE,\"P\",\"A\")","v":"A"},{"$f":"IF(Attendance($C50,'Daily Register'!BD$3:BD$242)=TRUE,\"P\",\"A\")","v":"A"},{"$f":"IF(Attendance($C50,'Daily Register'!BE$3:BE$242)=TRUE,\"P\",\"A\")","v":"A"},{"$f":"IF(Attendance($C50,'Daily Register'!BF$3:BF$242)=TRUE,\"P\",\"A\")","v":"A"},{"$f":"IF(Attendance($C50,'Daily Register'!BG$3:BG$242)=TRUE,\"P\",\"A\")","v":"A"},{"$f":"IF(Attendance($C50,'Daily Register'!BH$3:BH$242)=TRUE,\"P\",\"A\")","v":"A"},{"$f":"IF(Attendance($C50,'Daily Register'!BI$3:BI$242)=TRUE,\"P\",\"A\")","v":"A"},{"$f":"IF(Attendance($C50,'Daily Register'!BJ$3:BJ$242)=TRUE,\"P\",\"A\")","v":"A"},{"$f":"IF(Attendance($C50,'Daily Register'!BK$3:BK$242)=TRUE,\"P\",\"A\")","v":"A"},{"$f":"IF(Attendance($C50,'Daily Register'!BL$3:BL$242)=TRUE,\"P\",\"A\")","v":"A"},{"$f":"IF(Attendance($C50,'Daily Register'!BM$3:BM$242)=TRUE,\"P\",\"A\")","v":"A"},{"$f":"IF(Attendance($C50,'Daily Register'!BN$3:BN$242)=TRUE,\"P\",\"A\")","v":"A"},{"$f":"IF(Attendance($C50,'Daily Register'!BO$3:BO$242)=TRUE,\"P\",\"A\")","v":"A"},{"$f":"IF(Attendance($C50,'Daily Register'!BP$3:BP$242)=TRUE,\"P\",\"A\")","v":"A"},{"$f":"IF(Attendance($C50,'Daily Register'!BQ$3:BQ$242)=TRUE,\"P\",\"A\")","v":"A"},{"$f":"IF(Attendance($C50,'Daily Register'!BR$3:BR$242)=TRUE,\"P\",\"A\")","v":"A"},{"$f":"IF(Attendance($C50,'Daily Register'!BS$3:BS$242)=TRUE,\"P\",\"A\")","v":"A"},{"$f":"IF(Attendance($C50,'Daily Register'!BT$3:BT$242)=TRUE,\"P\",\"A\")","v":"A"},{"$f":"IF(Attendance($C50,'Daily Register'!BU$3:BU$242)=TRUE,\"P\",\"A\")","v":"A"},{"$f":"IF(Attendance($C50,'Daily Register'!BV$3:BV$242)=TRUE,\"P\",\"A\")","v":"A"},{"$f":"IF(Attendance($C50,'Daily Register'!BW$3:BW$242)=TRUE,\"P\",\"A\")","v":"A"},{"$f":"IF(Attendance($C50,'Daily Register'!BX$3:BX$242)=TRUE,\"P\",\"A\")","v":"A"},{"$f":"IF(Attendance($C50,'Daily Register'!BY$3:BY$242)=TRUE,\"P\",\"A\")","v":"A"},{"$f":"IF(Attendance($C50,'Daily Register'!BZ$3:BZ$242)=TRUE,\"P\",\"A\")","v":"A"},{"$f":"IF(Attendance($C50,'Daily Register'!CA$3:CA$242)=TRUE,\"P\",\"A\")","v":"A"},{"$f":"IF(Attendance($C50,'Daily Register'!CB$3:CB$242)=TRUE,\"P\",\"A\")","v":"A"},{"$f":"IF(Attendance($C50,'Daily Register'!CC$3:CC$242)=TRUE,\"P\",\"A\")","v":"A"},{"$f":"IF(Attendance($C50,'Daily Register'!CD$3:CD$242)=TRUE,\"P\",\"A\")","v":"A"},{"$f":"IF(Attendance($C50,'Daily Register'!CE$3:CE$242)=TRUE,\"P\",\"A\")","v":"A"},{"$f":"IF(Attendance($C50,'Daily Register'!CF$3:CF$242)=TRUE,\"P\",\"A\")","v":"A"},{"$f":"IF(Attendance($C50,'Daily Register'!CG$3:CG$242)=TRUE,\"P\",\"A\")","v":"A"},{"$f":"IF(Attendance($C50,'Daily Register'!CH$3:CH$242)=TRUE,\"P\",\"A\")","v":"A"},{"$f":"IF(Attendance($C50,'Daily Register'!CI$3:CI$242)=TRUE,\"P\",\"A\")","v":"A"},{"$f":"IF(Attendance($C50,'Daily Register'!CJ$3:CJ$242)=TRUE,\"P\",\"A\")","v":"A"},{"$f":"IF(Attendance($C50,'Daily Register'!CK$3:CK$242)=TRUE,\"P\",\"A\")","v":"A"},{"$f":"IF(Attendance($C50,'Daily Register'!CL$3:CL$242)=TRUE,\"P\",\"A\")","v":"A"},{"$f":"IF(Attendance($C50,'Daily Register'!CM$3:CM$242)=TRUE,\"P\",\"A\")","v":"A"},{"$f":"IF(Attendance($C50,'Daily Register'!CN$3:CN$242)=TRUE,\"P\",\"A\")","v":"A"},{"$f":"IF(Attendance($C50,'Daily Register'!CO$3:CO$242)=TRUE,\"P\",\"A\")","v":"A"},{"$f":"IF(Attendance($C50,'Daily Register'!CP$3:CP$242)=TRUE,\"P\",\"A\")","v":"A"},{"$f":"IF(Attendance($C50,'Daily Register'!CQ$3:CQ$242)=TRUE,\"P\",\"A\")","v":"A"},{"$f":"IF(Attendance($C50,'Daily Register'!CR$3:CR$242)=TRUE,\"P\",\"A\")","v":"A"},{"$f":"IF(Attendance($C50,'Daily Register'!CS$3:CS$242)=TRUE,\"P\",\"A\")","v":"A"},{"$f":"IF(Attendance($C50,'Daily Register'!CT$3:CT$242)=TRUE,\"P\",\"A\")","v":"A"},{"$f":"IF(Attendance($C50,'Daily Register'!CU$3:CU$242)=TRUE,\"P\",\"A\")","v":"A"},{"$f":"IF(Attendance($C50,'Daily Register'!CV$3:CV$242)=TRUE,\"P\",\"A\")","v":"A"},{"$f":"IF(Attendance($C50,'Daily Register'!CW$3:CW$242)=TRUE,\"P\",\"A\")","v":"A"},{"$f":"IF(Attendance($C50,'Daily Register'!CX$3:CX$242)=TRUE,\"P\",\"A\")","v":"A"},{"$f":"IF(Attendance($C50,'Daily Register'!CY$3:CY$242)=TRUE,\"P\",\"A\")","v":"A"},{"$f":"IF(Attendance($C50,'Daily Register'!CZ$3:CZ$242)=TRUE,\"P\",\"A\")","v":"A"},{"$f":"IF(Attendance($C50,'Daily Register'!DA$3:DA$242)=TRUE,\"P\",\"A\")","v":"A"},{"$f":"IF(Attendance($C50,'Daily Register'!DB$3:DB$242)=TRUE,\"P\",\"A\")","v":"A"},{"$f":"IF(Attendance($C50,'Daily Register'!DC$3:DC$242)=TRUE,\"P\",\"A\")","v":"A"},{"$f":"IF(Attendance($C50,'Daily Register'!DD$3:DD$242)=TRUE,\"P\",\"A\")","v":"A"},{"$f":"IF(Attendance($C50,'Daily Register'!DE$3:DE$242)=TRUE,\"P\",\"A\")","v":"A"},{"$f":"IF(Attendance($C50,'Daily Register'!DF$3:DF$242)=TRUE,\"P\",\"A\")","v":"A"},{"$f":"IF(Attendance($C50,'Daily Register'!DG$3:DG$242)=TRUE,\"P\",\"A\")","v":"A"},{"$f":"IF(Attendance($C50,'Daily Register'!DH$3:DH$242)=TRUE,\"P\",\"A\")","v":"A"},{"$f":"IF(Attendance($C50,'Daily Register'!DI$3:DI$242)=TRUE,\"P\",\"A\")","v":"A"},{"$f":"IF(Attendance($C50,'Daily Register'!DJ$3:DJ$242)=TRUE,\"P\",\"A\")","v":"A"},{"$f":"IF(Attendance($C50,'Daily Register'!DK$3:DK$242)=TRUE,\"P\",\"A\")","v":"A"},{"$f":"IF(Attendance($C50,'Daily Register'!DL$3:DL$242)=TRUE,\"P\",\"A\")","v":"A"},{"$f":"IF(Attendance($C50,'Daily Register'!DM$3:DM$242)=TRUE,\"P\",\"A\")","v":"A"},{"$f":"IF(Attendance($C50,'Daily Register'!DN$3:DN$242)=TRUE,\"P\",\"A\")","v":"A"},{"$f":"IF(Attendance($C50,'Daily Register'!DO$3:DO$242)=TRUE,\"P\",\"A\")","v":"A"},{"$f":"IF(Attendance($C50,'Daily Register'!DP$3:DP$242)=TRUE,\"P\",\"A\")","v":"A"},{"$f":"IF(Attendance($C50,'Daily Register'!DQ$3:DQ$242)=TRUE,\"P\",\"A\")","v":"A"},{"$f":"IF(Attendance($C50,'Daily Register'!DR$3:DR$242)=TRUE,\"P\",\"A\")","v":"A"},{"$f":"IF(Attendance($C50,'Daily Register'!DS$3:DS$242)=TRUE,\"P\",\"A\")","v":"A"},{"$f":"IF(Attendance($C50,'Daily Register'!DT$3:DT$242)=TRUE,\"P\",\"A\")","v":"A"},{"$f":"IF(Attendance($C50,'Daily Register'!DU$3:DU$242)=TRUE,\"P\",\"A\")","v":"A"},{"$f":"IF(Attendance($C50,'Daily Register'!DV$3:DV$242)=TRUE,\"P\",\"A\")","v":"A"},{"$f":"IF(Attendance($C50,'Daily Register'!DW$3:DW$242)=TRUE,\"P\",\"A\")","v":"A"},{"$f":"IF(Attendance($C50,'Daily Register'!DX$3:DX$242)=TRUE,\"P\",\"A\")","v":"A"},{"$f":"IF(Attendance($C50,'Daily Register'!DY$3:DY$242)=TRUE,\"P\",\"A\")","v":"A"},{"$f":"IF(Attendance($C50,'Daily Register'!DZ$3:DZ$242)=TRUE,\"P\",\"A\")","v":"A"},{"$f":"IF(Attendance($C50,'Daily Register'!EA$3:EA$242)=TRUE,\"P\",\"A\")","v":"A"},{"$f":"IF(Attendance($C50,'Daily Register'!EB$3:EB$242)=TRUE,\"P\",\"A\")","v":"A"},{"$f":"IF(Attendance($C50,'Daily Register'!EC$3:EC$242)=TRUE,\"P\",\"A\")","v":"A"},{"$f":"IF(Attendance($C50,'Daily Register'!ED$3:ED$242)=TRUE,\"P\",\"A\")","v":"A"},{"$f":"IF(Attendance($C50,'Daily Register'!EE$3:EE$242)=TRUE,\"P\",\"A\")","v":"A"},{"$f":"IF(Attendance($C50,'Daily Register'!EF$3:EF$242)=TRUE,\"P\",\"A\")","v":"A"},{"$f":"IF(Attendance($C50,'Daily Register'!EG$3:EG$242)=TRUE,\"P\",\"A\")","v":"A"},{"$f":"IF(Attendance($C50,'Daily Register'!EH$3:EH$242)=TRUE,\"P\",\"A\")","v":"A"},{"$f":"IF(Attendance($C50,'Daily Register'!EI$3:EI$242)=TRUE,\"P\",\"A\")","v":"A"},{"$f":"IF(Attendance($C50,'Daily Register'!EJ$3:EJ$242)=TRUE,\"P\",\"A\")","v":"A"},{"$f":"IF(Attendance($C50,'Daily Register'!EK$3:EK$242)=TRUE,\"P\",\"A\")","v":"A"},{"$f":"IF(Attendance($C50,'Daily Register'!EL$3:EL$242)=TRUE,\"P\",\"A\")","v":"A"},{"$f":"IF(Attendance($C50,'Daily Register'!EM$22:EM$242)=TRUE,\"P\",\"A\")","v":"A"},{"$f":"IF(Attendance($C50,'Daily Register'!EN$3:EN$242)=TRUE,\"P\",\"A\")","v":"A"},{"$f":"IF(Attendance($C50,'Daily Register'!EO$3:EO$242)=TRUE,\"P\",\"A\")","v":"A"},{"$f":"IF(Attendance($C50,'Daily Register'!EP$3:EP$242)=TRUE,\"P\",\"A\")","v":"A"},{"$f":"IF(Attendance($C50,'Daily Register'!EQ$3:EQ$242)=TRUE,\"P\",\"A\")","v":"A"},{"$f":"IF(Attendance($C50,'Daily Register'!ER$3:ER$242)=TRUE,\"P\",\"A\")","v":"A"},{"$f":"IF(Attendance($C50,'Daily Register'!ES$3:ES$242)=TRUE,\"P\",\"A\")","v":"A"},{"$f":"IF(Attendance($C50,'Daily Register'!ET$3:ET$242)=TRUE,\"P\",\"A\")","v":"A"},{"$f":"IF(Attendance($C50,'Daily Register'!EU$3:EU$242)=TRUE,\"P\",\"A\")","v":"A"},{"$f":"IF(Attendance($C50,'Daily Register'!EV$3:EV$242)=TRUE,\"P\",\"A\")","v":"A"},{"$f":"IF(Attendance($C50,'Daily Register'!EW$3:EW$242)=TRUE,\"P\",\"A\")","v":"A"},{"$f":"IF(Attendance($C50,'Daily Register'!EX$3:EX$242)=TRUE,\"P\",\"A\")","v":"A"},{"$f":"IF(Attendance($C50,'Daily Register'!EY$3:EY$242)=TRUE,\"P\",\"A\")","v":"A"},{"$f":"IF(Attendance($C50,'Daily Register'!EZ$3:EZ$242)=TRUE,\"P\",\"A\")","v":"A"},{"$f":"IF(Attendance($C50,'Daily Register'!FA$3:FA$242)=TRUE,\"P\",\"A\")","v":"A"},{"$f":"IF(Attendance($C50,'Daily Register'!FB$3:FB$242)=TRUE,\"P\",\"A\")","v":"A"},{"$f":"IF(Attendance($C50,'Daily Register'!FC$3:FC$242)=TRUE,\"P\",\"A\")","v":"A"},{"$f":"IF(Attendance($C50,'Daily Register'!FD$3:FD$242)=TRUE,\"P\",\"A\")","v":"A"},{"$f":"IF(Attendance($C50,'Daily Register'!FE$3:FE$242)=TRUE,\"P\",\"A\")","v":"A"},{"$f":"IF(Attendance($C50,'Daily Register'!FF$3:FF$242)=TRUE,\"P\",\"A\")","v":"A"},{"$f":"IF(Attendance($C50,'Daily Register'!FG$3:FG$242)=TRUE,\"P\",\"A\")","v":"A"},{"$f":"IF(Attendance($C50,'Daily Register'!FH$3:FH$242)=TRUE,\"P\",\"A\")","v":"A"},{"$f":"IF(Attendance($C50,'Daily Register'!FI$3:FI$242)=TRUE,\"P\",\"A\")","v":"A"},{"$f":"IF(Attendance($C50,'Daily Register'!FJ$3:FJ$242)=TRUE,\"P\",\"A\")","v":"A"},{"$f":"IF(Attendance($C50,'Daily Register'!FK$3:FK$242)=TRUE,\"P\",\"A\")","v":"A"},{"$f":"IF(Attendance($C50,'Daily Register'!FL$3:FL$242)=TRUE,\"P\",\"A\")","v":"A"},{"$f":"IF(Attendance($C50,'Daily Register'!FM$3:FM$242)=TRUE,\"P\",\"A\")","v":"A"},{"$f":"IF(Attendance($C50,'Daily Register'!FN$3:FN$242)=TRUE,\"P\",\"A\")","v":"A"},{"$f":"IF(Attendance($C50,'Daily Register'!FO$3:FO$242)=TRUE,\"P\",\"A\")","v":"A"},{"$f":"IF(Attendance($C50,'Daily Register'!FP$3:FP$242)=TRUE,\"P\",\"A\")","v":"A"},{"$f":"IF(Attendance($C50,'Daily Register'!FQ$3:FQ$242)=TRUE,\"P\",\"A\")","v":"A"},{"$f":"IF(Attendance($C50,'Daily Register'!FR$3:FR$242)=TRUE,\"P\",\"A\")","v":"A"},{"$f":"IF(Attendance($C50,'Daily Register'!FS$3:FS$242)=TRUE,\"P\",\"A\")","v":"A"},{"$f":"IF(Attendance($C50,'Daily Register'!FT$3:FT$242)=TRUE,\"P\",\"A\")","v":"A"},{"$f":"IF(Attendance($C50,'Daily Register'!FU$3:FU$242)=TRUE,\"P\",\"A\")","v":"A"},{"$f":"IF(Attendance($C50,'Daily Register'!FV$3:FV$242)=TRUE,\"P\",\"A\")","v":"A"},{"$f":"IF(Attendance($C50,'Daily Register'!FW$3:FW$242)=TRUE,\"P\",\"A\")","v":"A"},{"$f":"IF(Attendance($C50,'Daily Register'!FX$3:FX$242)=TRUE,\"P\",\"A\")","v":"A"},{"$f":"IF(Attendance($C50,'Daily Register'!FY$3:FY$242)=TRUE,\"P\",\"A\")","v":"A"},{"$f":"IF(Attendance($C50,'Daily Register'!FZ$3:FZ$242)=TRUE,\"P\",\"A\")","v":"A"},{"$f":"IF(Attendance($C50,'Daily Register'!GA$3:GA$242)=TRUE,\"P\",\"A\")","v":"A"},{"$f":"IF(Attendance($C50,'Daily Register'!GB$3:GB$242)=TRUE,\"P\",\"A\")","v":"A"},{"$f":"IF(Attendance($C50,'Daily Register'!GC$3:GC$242)=TRUE,\"P\",\"A\")","v":"A"},{"$f":"IF(Attendance($C50,'Daily Register'!GD$3:GD$242)=TRUE,\"P\",\"A\")","v":"A"},{"$f":"IF(Attendance($C50,'Daily Register'!GE$3:GE$242)=TRUE,\"P\",\"A\")","v":"A"},{"$f":"IF(Attendance($C50,'Daily Register'!GF$3:GF$242)=TRUE,\"P\",\"A\")","v":"A"},{"$f":"IF(Attendance($C50,'Daily Register'!GG$3:GG$242)=TRUE,\"P\",\"A\")","v":"A"},{"$f":"IF(Attendance($C50,'Daily Register'!GH$3:GH$242)=TRUE,\"P\",\"A\")","v":"A"},{"$f":"IF(Attendance($C50,'Daily Register'!GI$3:GI$242)=TRUE,\"P\",\"A\")","v":"A"},{"$f":"IF(Attendance($C50,'Daily Register'!GJ$3:GJ$242)=TRUE,\"P\",\"A\")","v":"A"},{"$f":"IF(Attendance($C50,'Daily Register'!GK$3:GK$242)=TRUE,\"P\",\"A\")","v":"A"},{"$f":"IF(Attendance($C50,'Daily Register'!GL$3:GL$242)=TRUE,\"P\",\"A\")","v":"A"},{"$f":"IF(Attendance($C50,'Daily Register'!GM$3:GM$242)=TRUE,\"P\",\"A\")","v":"A"},{"$f":"IF(Attendance($C50,'Daily Register'!GN$3:GN$242)=TRUE,\"P\",\"A\")","v":"A"},{"$f":"IF(Attendance($C50,'Daily Register'!GO$3:GO$242)=TRUE,\"P\",\"A\")","v":"A"},{"$f":"IF(Attendance($C50,'Daily Register'!GP$3:GP$242)=TRUE,\"P\",\"A\")","v":"A"},{"$f":"IF(Attendance($C50,'Daily Register'!GQ$3:GQ$242)=TRUE,\"P\",\"A\")","v":"A"},{"$f":"IF(Attendance($C50,'Daily Register'!GR$3:GR$242)=TRUE,\"P\",\"A\")","v":"A"},{"$f":"IF(Attendance($C50,'Daily Register'!GS$3:GS$242)=TRUE,\"P\",\"A\")","v":"A"},{"$f":"IF(Attendance($C50,'Daily Register'!GT$3:GT$242)=TRUE,\"P\",\"A\")","v":"A"},{"$f":"IF(Attendance($C50,'Daily Register'!GU$3:GU$242)=TRUE,\"P\",\"A\")","v":"A"},{"$f":"IF(Attendance($C50,'Daily Register'!GV$3:GV$242)=TRUE,\"P\",\"A\")","v":"A"},{"$f":"IF(Attendance($C50,'Daily Register'!GW$3:GW$242)=TRUE,\"P\",\"A\")","v":"A"},{"$f":"IF(Attendance($C50,'Daily Register'!GX$3:GX$242)=TRUE,\"P\",\"A\")","v":"A"},{"$f":"IF(Attendance($C50,'Daily Register'!GY$3:GY$242)=TRUE,\"P\",\"A\")","v":"A"},{"$f":"IF(Attendance($C50,'Daily Register'!GZ$3:GZ$242)=TRUE,\"P\",\"A\")","v":"A"},{"$f":"IF(Attendance($C50,'Daily Register'!HA$3:HA$242)=TRUE,\"P\",\"A\")","v":"A"},{"$f":"IF(Attendance($C50,'Daily Register'!HB$3:HB$242)=TRUE,\"P\",\"A\")","v":"A"},{"$f":"IF(Attendance($C50,'Daily Register'!HC$3:HC$242)=TRUE,\"P\",\"A\")","v":"A"},{"$f":"IF(Attendance($C50,'Daily Register'!HD$3:HD$242)=TRUE,\"P\",\"A\")","v":"A"},{"$f":"IF(Attendance($C50,'Daily Register'!HE$3:HE$242)=TRUE,\"P\",\"A\")","v":"A"},{"$f":"IF(Attendance($C50,'Daily Register'!HF$3:HF$242)=TRUE,\"P\",\"A\")","v":"A"},{"$f":"IF(Attendance($C50,'Daily Register'!HG$3:HG$242)=TRUE,\"P\",\"A\")","v":"A"},{"$f":"IF(Attendance($C50,'Daily Register'!HH$3:HH$242)=TRUE,\"P\",\"A\")","v":"A"},{"$f":"IF(Attendance($C50,'Daily Register'!HI$3:HI$242)=TRUE,\"P\",\"A\")","v":"A"},{"$f":"IF(Attendance($C50,'Daily Register'!HJ$3:HJ$242)=TRUE,\"P\",\"A\")","v":"A"},{"$f":"IF(Attendance($C50,'Daily Register'!HK$3:HK$242)=TRUE,\"P\",\"A\")","v":"A"},{"$f":"IF(Attendance($C50,'Daily Register'!HL$3:HL$242)=TRUE,\"P\",\"A\")","v":"A"},{"$f":"IF(Attendance($C50,'Daily Register'!HM$3:HM$242)=TRUE,\"P\",\"A\")","v":"A"},{"$f":"IF(Attendance($C50,'Daily Register'!HN$3:HN$242)=TRUE,\"P\",\"A\")","v":"A"},{"$f":"IF(Attendance($C50,'Daily Register'!HO$3:HO$242)=TRUE,\"P\",\"A\")","v":"A"},{"$f":"IF(Attendance($C50,'Daily Register'!HP$3:HP$242)=TRUE,\"P\",\"A\")","v":"A"},{"$f":"IF(Attendance($C50,'Daily Register'!HQ$3:HQ$242)=TRUE,\"P\",\"A\")","v":"A"},{"$f":"IF(Attendance($C50,'Daily Register'!HR$3:HR$242)=TRUE,\"P\",\"A\")","v":"A"},{"$f":"IF(Attendance($C50,'Daily Register'!HS$3:HS$242)=TRUE,\"P\",\"A\")","v":"A"},{"$f":"IF(Attendance($C50,'Daily Register'!HT$3:HT$242)=TRUE,\"P\",\"A\")","v":"A"},{"$f":"IF(Attendance($C50,'Daily Register'!HU$3:HU$242)=TRUE,\"P\",\"A\")","v":"A"},{"$f":"IF(Attendance($C50,'Daily Register'!HV$3:HV$242)=TRUE,\"P\",\"A\")","v":"A"},{"$f":"IF(Attendance($C50,'Daily Register'!HW$3:HW$242)=TRUE,\"P\",\"A\")","v":"A"},{"$f":"IF(Attendance($C50,'Daily Register'!HX$3:HX$242)=TRUE,\"P\",\"A\")","v":"A"},{"$f":"IF(Attendance($C50,'Daily Register'!HY$3:HY$242)=TRUE,\"P\",\"A\")","v":"A"},{"$f":"IF(Attendance($C50,'Daily Register'!HZ$3:HZ$242)=TRUE,\"P\",\"A\")","v":"A"},{"$f":"IF(Attendance($C50,'Daily Register'!IA$3:IA$242)=TRUE,\"P\",\"A\")","v":"A"},{"$f":"IF(Attendance($C50,'Daily Register'!IB$3:IB$242)=TRUE,\"P\",\"A\")","v":"A"},{"$f":"IF(Attendance($C50,'Daily Register'!IC$3:IC$242)=TRUE,\"P\",\"A\")","v":"A"},{"$f":"IF(Attendance($C50,'Daily Register'!ID$3:ID$242)=TRUE,\"P\",\"A\")","v":"A"},{"$f":"IF(Attendance($C50,'Daily Register'!IE$3:IE$242)=TRUE,\"P\",\"A\")","v":"A"},{"$f":"IF(Attendance($C50,'Daily Register'!IF$3:IF$242)=TRUE,\"P\",\"A\")","v":"A"},{"$f":"IF(Attendance($C50,'Daily Register'!IG$3:IG$242)=TRUE,\"P\",\"A\")","v":"A"},{"$f":"IF(Attendance($C50,'Daily Register'!IH$3:IH$242)=TRUE,\"P\",\"A\")","v":"A"},{"$f":"IF(Attendance($C50,'Daily Register'!II$3:II$242)=TRUE,\"P\",\"A\")","v":"A"},{"$f":"IF(Attendance($C50,'Daily Register'!IJ$3:IJ$242)=TRUE,\"P\",\"A\")","v":"A"},{"$f":"IF(Attendance($C50,'Daily Register'!IK$3:IK$242)=TRUE,\"P\",\"A\")","v":"A"},{"$f":"IF(Attendance($C50,'Daily Register'!IL$3:IL$242)=TRUE,\"P\",\"A\")","v":"A"},{"$f":"IF(Attendance($C50,'Daily Register'!IM$3:IM$242)=TRUE,\"P\",\"A\")","v":"A"},{"$f":"IF(Attendance($C50,'Daily Register'!IN$3:IN$242)=TRUE,\"P\",\"A\")","v":"A"},{"$f":"IF(Attendance($C50,'Daily Register'!IO$3:IO$242)=TRUE,\"P\",\"A\")","v":"A"},{"$f":"IF(Attendance($C50,'Daily Register'!IP$3:IP$242)=TRUE,\"P\",\"A\")","v":"A"},{"$f":"IF(Attendance($C50,'Daily Register'!IQ$3:IQ$242)=TRUE,\"P\",\"A\")","v":"A"},{"$f":"IF(Attendance($C50,'Daily Register'!IR$3:IR$242)=TRUE,\"P\",\"A\")","v":"A"},{"$f":"IF(Attendance($C50,'Daily Register'!IS$3:IS$242)=TRUE,\"P\",\"A\")","v":"A"},{"$f":"IF(Attendance($C50,'Daily Register'!IT$3:IT$242)=TRUE,\"P\",\"A\")","v":"A"},{"$f":"IF(Attendance($C50,'Daily Register'!IU$3:IU$242)=TRUE,\"P\",\"A\")","v":"A"},{"$f":"IF(Attendance($C50,'Daily Register'!IV$3:IV$242)=TRUE,\"P\",\"A\")","v":"A"},{"$f":"IF(Attendance($C50,'Daily Register'!IW$3:IW$242)=TRUE,\"P\",\"A\")","v":"A"},{"$f":"IF(Attendance($C50,'Daily Register'!IX$3:IX$242)=TRUE,\"P\",\"A\")","v":"A"},{"$f":"IF(Attendance($C50,'Daily Register'!IY$3:IY$242)=TRUE,\"P\",\"A\")","v":"A"},{"$f":"IF(Attendance($C50,'Daily Register'!IZ$3:IZ$242)=TRUE,\"P\",\"A\")","v":"A"},{"$f":"IF(Attendance($C50,'Daily Register'!JA$3:JA$242)=TRUE,\"P\",\"A\")","v":"A"},{"$f":"IF(Attendance($C50,'Daily Register'!JB$3:JB$242)=TRUE,\"P\",\"A\")","v":"A"},{"$f":"IF(Attendance($C50,'Daily Register'!JC$3:JC$242)=TRUE,\"P\",\"A\")","v":"A"},{"$f":"IF(Attendance($C50,'Daily Register'!JD$3:JD$242)=TRUE,\"P\",\"A\")","v":"A"},{"$f":"IF(Attendance($C50,'Daily Register'!JE$3:JE$242)=TRUE,\"P\",\"A\")","v":"A"},{"$f":"IF(Attendance($C50,'Daily Register'!JF$3:JF$242)=TRUE,\"P\",\"A\")","v":"A"},{"$f":"IF(Attendance($C50,'Daily Register'!JG$3:JG$242)=TRUE,\"P\",\"A\")","v":"A"},{"$f":"IF(Attendance($C50,'Daily Register'!JH$3:JH$242)=TRUE,\"P\",\"A\")","v":"A"},{"$f":"IF(Attendance($C50,'Daily Register'!JI$3:JI$242)=TRUE,\"P\",\"A\")","v":"A"},{"$f":"IF(Attendance($C50,'Daily Register'!JJ$3:JJ$242)=TRUE,\"P\",\"A\")","v":"A"},{"$f":"IF(Attendance($C50,'Daily Register'!JK$3:JK$242)=TRUE,\"P\",\"A\")","v":"A"},{"$f":"IF(Attendance($C50,'Daily Register'!JL$3:JL$242)=TRUE,\"P\",\"A\")","v":"A"},{"$f":"IF(Attendance($C50,'Daily Register'!JM$3:JM$242)=TRUE,\"P\",\"A\")","v":"A"},{"$f":"IF(Attendance($C50,'Daily Register'!JN$3:JN$242)=TRUE,\"P\",\"A\")","v":"A"},{"$f":"IF(Attendance($C50,'Daily Register'!JO$3:JO$242)=TRUE,\"P\",\"A\")","v":"A"},{"$f":"IF(Attendance($C50,'Daily Register'!JP$3:JP$242)=TRUE,\"P\",\"A\")","v":"A"},{"$f":"IF(Attendance($C50,'Daily Register'!JQ$3:JQ$242)=TRUE,\"P\",\"A\")","v":"A"},{"$f":"IF(Attendance($C50,'Daily Register'!JR$3:JR$242)=TRUE,\"P\",\"A\")","v":"A"},{"$f":"IF(Attendance($C50,'Daily Register'!JS$3:JS$242)=TRUE,\"P\",\"A\")","v":"A"},{"$f":"IF(Attendance($C50,'Daily Register'!JT$3:JT$242)=TRUE,\"P\",\"A\")","v":"A"},{"$f":"IF(Attendance($C50,'Daily Register'!JU$3:JU$242)=TRUE,\"P\",\"A\")","v":"A"},{"$f":"IF(Attendance($C50,'Daily Register'!JV$3:JV$242)=TRUE,\"P\",\"A\")","v":"A"},{"$f":"IF(Attendance($C50,'Daily Register'!JW$3:JW$242)=TRUE,\"P\",\"A\")","v":"A"},{"$f":"IF(Attendance($C50,'Daily Register'!JX$3:JX$242)=TRUE,\"P\",\"A\")","v":"A"},{"$f":"IF(Attendance($C50,'Daily Register'!JY$3:JY$242)=TRUE,\"P\",\"A\")","v":"A"},{"$f":"IF(Attendance($C50,'Daily Register'!JZ$3:JZ$242)=TRUE,\"P\",\"A\")","v":"A"},{"$f":"IF(Attendance($C50,'Daily Register'!KA$3:KA$242)=TRUE,\"P\",\"A\")","v":"A"},{"$f":"IF(Attendance($C50,'Daily Register'!KB$3:KB$242)=TRUE,\"P\",\"A\")","v":"A"},{"$f":"IF(Attendance($C50,'Daily Register'!KC$3:KC$242)=TRUE,\"P\",\"A\")","v":"A"},{"$f":"IF(Attendance($C50,'Daily Register'!KD$3:KD$242)=TRUE,\"P\",\"A\")","v":"A"},{"$f":"IF(Attendance($C50,'Daily Register'!KE$3:KE$242)=TRUE,\"P\",\"A\")","v":"A"},{"$f":"IF(Attendance($C50,'Daily Register'!KF$3:KF$242)=TRUE,\"P\",\"A\")","v":"A"},{"$f":"IF(Attendance($C50,'Daily Register'!KG$3:KG$242)=TRUE,\"P\",\"A\")","v":"A"},{"$f":"IF(Attendance($C50,'Daily Register'!KH$3:KH$242)=TRUE,\"P\",\"A\")","v":"A"},{"$f":"IF(Attendance($C50,'Daily Register'!KI$3:KI$242)=TRUE,\"P\",\"A\")","v":"A"},{"$f":"IF(Attendance($C50,'Daily Register'!KJ$3:KJ$242)=TRUE,\"P\",\"A\")","v":"A"},{"$f":"IF(Attendance($C50,'Daily Register'!KK$3:KK$242)=TRUE,\"P\",\"A\")","v":"A"},{"$f":"IF(Attendance($C50,'Daily Register'!KL$3:KL$242)=TRUE,\"P\",\"A\")","v":"A"},{"$f":"IF(Attendance($C50,'Daily Register'!KM$3:KM$242)=TRUE,\"P\",\"A\")","v":"A"},{"$f":"IF(Attendance($C50,'Daily Register'!KN$3:KN$242)=TRUE,\"P\",\"A\")","v":"A"},{"$f":"IF(Attendance($C50,'Daily Register'!KO$3:KO$242)=TRUE,\"P\",\"A\")","v":"A"},{"$f":"IF(Attendance($C50,'Daily Register'!KP$3:KP$242)=TRUE,\"P\",\"A\")","v":"A"},{"$f":"IF(Attendance($C50,'Daily Register'!KQ$3:KQ$242)=TRUE,\"P\",\"A\")","v":"A"},{"$f":"IF(Attendance($C50,'Daily Register'!KR$3:KR$242)=TRUE,\"P\",\"A\")","v":"A"},{"$f":"IF(Attendance($C50,'Daily Register'!KS$3:KS$242)=TRUE,\"P\",\"A\")","v":"A"},{"$f":"IF(Attendance($C50,'Daily Register'!KT$3:KT$242)=TRUE,\"P\",\"A\")","v":"A"},{"$f":"IF(Attendance($C50,'Daily Register'!KU$3:KU$242)=TRUE,\"P\",\"A\")","v":"A"},{"$f":"IF(Attendance($C50,'Daily Register'!KV$3:KV$242)=TRUE,\"P\",\"A\")","v":"A"},{"$f":"IF(Attendance($C50,'Daily Register'!KW$3:KW$242)=TRUE,\"P\",\"A\")","v":"A"},{"$f":"IF(Attendance($C50,'Daily Register'!KX$3:KX$242)=TRUE,\"P\",\"A\")","v":"A"},{"$f":"IF(Attendance($C50,'Daily Register'!KY$3:KY$242)=TRUE,\"P\",\"A\")","v":"A"},{"$f":"IF(Attendance($C50,'Daily Register'!KZ$3:KZ$242)=TRUE,\"P\",\"A\")","v":"A"},{"$f":"IF(Attendance($C50,'Daily Register'!LA$3:LA$242)=TRUE,\"P\",\"A\")","v":"A"},{"$f":"IF(Attendance($C50,'Daily Register'!LB$3:LB$242)=TRUE,\"P\",\"A\")","v":"A"},{"$f":"IF(Attendance($C50,'Daily Register'!LC$3:LC$242)=TRUE,\"P\",\"A\")","v":"A"},{"$f":"IF(Attendance($C50,'Daily Register'!LD$3:LD$242)=TRUE,\"P\",\"A\")","v":"A"},{"$f":"IF(Attendance($C50,'Daily Register'!LE$3:LE$242)=TRUE,\"P\",\"A\")","v":"A"},{"$f":"IF(Attendance($C50,'Daily Register'!LF$3:LF$242)=TRUE,\"P\",\"A\")","v":"A"},{"$f":"IF(Attendance($C50,'Daily Register'!LG$3:LG$242)=TRUE,\"P\",\"A\")","v":"A"},{"$f":"IF(Attendance($C50,'Daily Register'!LH$3:LH$242)=TRUE,\"P\",\"A\")","v":"A"},{"$f":"IF(Attendance($C50,'Daily Register'!LI$3:LI$242)=TRUE,\"P\",\"A\")","v":"A"},{"$f":"IF(Attendance($C50,'Daily Register'!LJ$3:LJ$242)=TRUE,\"P\",\"A\")","v":"A"},{"$f":"IF(Attendance($C50,'Daily Register'!LK$3:LK$242)=TRUE,\"P\",\"A\")","v":"A"},{"$f":"IF(Attendance($C50,'Daily Register'!LL$3:LL$242)=TRUE,\"P\",\"A\")","v":"A"},{"$f":"IF(Attendance($C50,'Daily Register'!LM$3:LM$242)=TRUE,\"P\",\"A\")","v":"A"},{"$f":"IF(Attendance($C50,'Daily Register'!LN$3:LN$242)=TRUE,\"P\",\"A\")","v":"A"},{"$f":"IF(Attendance($C50,'Daily Register'!LO$3:LO$242)=TRUE,\"P\",\"A\")","v":"A"},{"$f":"IF(Attendance($C50,'Daily Register'!LP$3:LP$242)=TRUE,\"P\",\"A\")","v":"A"},{"$f":"IF(Attendance($C50,'Daily Register'!LQ$3:LQ$242)=TRUE,\"P\",\"A\")","v":"A"},{"$f":"IF(Attendance($C50,'Daily Register'!LR$3:LR$242)=TRUE,\"P\",\"A\")","v":"A"},{"$f":"IF(Attendance($C50,'Daily Register'!LS$3:LS$242)=TRUE,\"P\",\"A\")","v":"A"},{"$f":"IF(Attendance($C50,'Daily Register'!LT$3:LT$242)=TRUE,\"P\",\"A\")","v":"A"},{"$f":"IF(Attendance($C50,'Daily Register'!LU$3:LU$242)=TRUE,\"P\",\"A\")","v":"A"},{"$f":"IF(Attendance($C50,'Daily Register'!LV$3:LV$242)=TRUE,\"P\",\"A\")","v":"A"},{"$f":"IF(Attendance($C50,'Daily Register'!LW$3:LW$242)=TRUE,\"P\",\"A\")","v":"A"},{"$f":"IF(Attendance($C50,'Daily Register'!LX$3:LX$242)=TRUE,\"P\",\"A\")","v":"A"},{"$f":"IF(Attendance($C50,'Daily Register'!LY$3:LY$242)=TRUE,\"P\",\"A\")","v":"A"},{"$f":"IF(Attendance($C50,'Daily Register'!LZ$3:LZ$242)=TRUE,\"P\",\"A\")","v":"A"},{"$f":"IF(Attendance($C50,'Daily Register'!MA$3:MA$242)=TRUE,\"P\",\"A\")","v":"A"},{"$f":"IF(Attendance($C50,'Daily Register'!MB$3:MB$242)=TRUE,\"P\",\"A\")","v":"A"},{"$f":"IF(Attendance($C50,'Daily Register'!MC$3:MC$242)=TRUE,\"P\",\"A\")","v":"A"},{"$f":"IF(Attendance($C50,'Daily Register'!MD$3:MD$242)=TRUE,\"P\",\"A\")","v":"A"},{"$f":"IF(Attendance($C50,'Daily Register'!ME$3:ME$242)=TRUE,\"P\",\"A\")","v":"A"},{"$f":"IF(Attendance($C50,'Daily Register'!MF$3:MF$242)=TRUE,\"P\",\"A\")","v":"A"},{"$f":"IF(Attendance($C50,'Daily Register'!MG$3:MG$242)=TRUE,\"P\",\"A\")","v":"A"},{"$f":"IF(Attendance($C50,'Daily Register'!MH$3:MH$242)=TRUE,\"P\",\"A\")","v":"A"},{"$f":"IF(Attendance($C50,'Daily Register'!MI$3:MI$242)=TRUE,\"P\",\"A\")","v":"A"},{"$f":"IF(Attendance($C50,'Daily Register'!MJ$3:MJ$242)=TRUE,\"P\",\"A\")","v":"A"},{"$f":"IF(Attendance($C50,'Daily Register'!MK$3:MK$242)=TRUE,\"P\",\"A\")","v":"A"},{"$f":"IF(Attendance($C50,'Daily Register'!ML$3:ML$242)=TRUE,\"P\",\"A\")","v":"A"},{"$f":"IF(Attendance($C50,'Daily Register'!MM$3:MM$242)=TRUE,\"P\",\"A\")","v":"A"},{"$f":"IF(Attendance($C50,'Daily Register'!MN$3:MN$242)=TRUE,\"P\",\"A\")","v":"A"},{"$f":"IF(Attendance($C50,'Daily Register'!MO$3:MO$242)=TRUE,\"P\",\"A\")","v":"A"},{"$f":"IF(Attendance($C50,'Daily Register'!MP$3:MP$242)=TRUE,\"P\",\"A\")","v":"A"},{"$f":"IF(Attendance($C50,'Daily Register'!MQ$3:MQ$242)=TRUE,\"P\",\"A\")","v":"A"},{"$f":"IF(Attendance($C50,'Daily Register'!MR$3:MR$242)=TRUE,\"P\",\"A\")","v":"A"},{"$f":"IF(Attendance($C50,'Daily Register'!MS$3:MS$242)=TRUE,\"P\",\"A\")","v":"A"},{"$f":"IF(Attendance($C50,'Daily Register'!MT$3:MT$242)=TRUE,\"P\",\"A\")","v":"A"},{"$f":"IF(Attendance($C50,'Daily Register'!MU$3:MU$242)=TRUE,\"P\",\"A\")","v":"A"},{"$f":"IF(Attendance($C50,'Daily Register'!MV$3:MV$242)=TRUE,\"P\",\"A\")","v":"A"},{"$f":"IF(Attendance($C50,'Daily Register'!MW$3:MW$242)=TRUE,\"P\",\"A\")","v":"A"},{"$f":"IF(Attendance($C50,'Daily Register'!MX$3:MX$242)=TRUE,\"P\",\"A\")","v":"A"},{"$f":"IF(Attendance($C50,'Daily Register'!MY$3:MY$242)=TRUE,\"P\",\"A\")","v":"A"},{"$f":"IF(Attendance($C50,'Daily Register'!MZ$3:MZ$242)=TRUE,\"P\",\"A\")","v":"A"},{"$f":"IF(Attendance($C50,'Daily Register'!NA$3:NA$242)=TRUE,\"P\",\"A\")","v":"A"},{"$f":"IF(Attendance($C50,'Daily Register'!NB$3:NB$242)=TRUE,\"P\",\"A\")","v":"A"}]
[0,null,48,null,{"$f":"IF(Attendance($C51,'Daily Register'!A$3:A$242)=TRUE,\"P\",\"A\")","v":"A"},{"$f":"IF(Attendance($C51,'Daily Register'!B$3:B$242)=TRUE,\"P\",\"A\")","v":"A"},{"$f":"IF(Attendance($C51,'Daily Register'!C$3:C$242)=TRUE,\"P\",\"A\")","v":"A"},{"$f":"IF(Attendance($C51,'Daily Register'!D$3:D$242)=TRUE,\"P\",\"A\")","v":"A"},{"$f":"IF(Attendance($C51,'Daily Register'!E$3:E$242)=TRUE,\"P\",\"A\")","v":"A"},{"$f":"IF(Attendance($C51,'Daily Register'!F$3:F$242)=TRUE,\"P\",\"A\")","v":"A"},{"$f":"IF(Attendance($C51,'Daily Register'!G$3:G$242)=TRUE,\"P\",\"A\")","v":"A"},{"$f":"IF(Attendance($C51,'Daily Register'!H$3:H$242)=TRUE,\"P\",\"A\")","v":"A"},{"$f":"IF(Attendance($C51,'Daily Register'!I$3:I$242)=TRUE,\"P\",\"A\")","v":"A"},{"$f":"IF(Attendance($C51,'Daily Register'!J$3:J$242)=TRUE,\"P\",\"A\")","v":"A"},{"$f":"IF(Attendance($C51,'Daily Register'!K$3:K$242)=TRUE,\"P\",\"A\")","v":"A"},{"$f":"IF(Attendance($C51,'Daily Register'!L$3:L$242)=TRUE,\"P\",\"A\")","v":"A"},{"$f":"IF(Attendance($C51,'Daily Register'!M$3:M$242)=TRUE,\"P\",\"A\")","v":"A"},{"$f":"IF(Attendance($C51,'Daily Register'!N$3:N$242)=TRUE,\"P\",\"A\")","v":"A"},{"$f":"IF(Attendance($C51,'Daily Register'!O$3:O$242)=TRUE,\"P\",\"A\")","v":"A"},{"$f":"IF(Attendance($C51,'Daily Register'!P$3:P$242)=TRUE,\"P\",\"A\")","v":"A"},{"$f":"IF(Attendance($C51,'Daily Register'!Q$3:Q$242)=TRUE,\"P\",\"A\")","v":"A"},{"$f":"IF(Attendance($C51,'Daily Register'!R$3:R$242)=TRUE,\"P\",\"A\")","v":"A"},{"$f":"IF(Attendance($C51,'Daily Register'!S$3:S$242)=TRUE,\"P\",\"A\")","v":"A"},{"$f":"IF(Attendance($C51,'Daily Register'!T$3:T$242)=TRUE,\"P\",\"A\")","v":"A"},{"$f":"IF(Attendance($C51,'Daily Register'!U$3:U$242)=TRUE,\"P\",\"A\")","v":"A"},{"$f":"IF(Attendance($C51,'Daily Register'!V$3:V$242)=TRUE,\"P\",\"A\")","v":"A"},{"$f":"IF(Attendance($C51,'Daily Register'!W$3:W$242)=TRUE,\"P\",\"A\")","v":"A"},{"$f":"IF(Attendance($C51,'Daily Register'!X$3:X$242)=TRUE,\"P\",\"A\")","v":"A"},{"$f":"IF(Attendance($C51,'Daily Register'!Y$3:Y$242)=TRUE,\"P\",\"A\")","v":"A"},{"$f":"IF(Attendance($C51,'Daily Register'!Z$3:Z$242)=TRUE,\"P\",\"A\")","v":"A"},{"$f":"IF(Attendance($C51,'Daily Register'!AA$3:AA$242)=TRUE,\"P\",\"A\")","v":"A"},{"$f":"IF(Attendance($C51,'Daily Register'!AB$3:AB$242)=TRUE,\"P\",\"A\")","v":"A"},{"$f":"IF(Attendance($C51,'Daily Register'!AC$3:AC$242)=TRUE,\"P\",\"A\")","v":"A"},{"$f":"IF(Attendance($C51,'Daily Register'!AD$3:AD$242)=TRUE,\"P\",\"A\")","v":"A"},{"$f":"IF(Attendance($C51,'Daily Register'!AE$3:AE$242)=TRUE,\"P\",\"A\")","v":"A"},{"$f":"IF(Attendance($C51,'Daily Register'!AF$3:AF$242)=TRUE,\"P\",\"A\")","v":"A"},{"$f":"IF(Attendance($C51,'Daily Register'!AG$3:AG$242)=TRUE,\"P\",\"A\")","v":"A"},{"$f":"IF(Attendance($C51,'Daily Register'!AH$3:AH$242)=TRUE,\"P\",\"A\")","v":"A"},{"$f":"IF(Attendance($C51,'Daily Register'!AI$3:AI$242)=TRUE,\"P\",\"A\")","v":"A"},{"$f":"IF(Attendance($C51,'Daily Register'!AJ$3:AJ$242)=TRUE,\"P\",\"A\")","v":"A"},{"$f":"IF(Attendance($C51,'Daily Register'!AK$3:AK$242)=TRUE,\"P\",\"A\")","v":"A"},{"$f":"IF(Attendance($C51,'Daily Register'!AL$3:AL$242)=TRUE,\"P\",\"A\")","v":"A"},{"$f":"IF(Attendance($C51,'Daily Register'!AM$3:AM$242)=TRUE,\"P\",\"A\")","v":"A"},{"$f":"IF(Attendance($C51,'Daily Register'!AN$3:AN$242)=TRUE,\"P\",\"A\")","v":"A"},{"$f":"IF(Attendance($C51,'Daily Register'!AO$3:AO$242)=TRUE,\"P\",\"A\")","v":"A"},{"$f":"IF(Attendance($C51,'Daily Register'!AP$3:AP$242)=TRUE,\"P\",\"A\")","v":"A"},{"$f":"IF(Attendance($C51,'Daily Register'!AQ$3:AQ$242)=TRUE,\"P\",\"A\")","v":"A"},{"$f":"IF(Attendance($C51,'Daily Register'!AR$3:AR$242)=TRUE,\"P\",\"A\")","v":"A"},{"$f":"IF(Attendance($C51,'Daily Register'!AS$3:AS$242)=TRUE,\"P\",\"A\")","v":"A"},{"$f":"IF(Attendance($C51,'Daily Register'!AT$3:AT$242)=TRUE,\"P\",\"A\")","v":"A"},{"$f":"IF(Attendance($C51,'Daily Register'!AU$3:AU$242)=TRUE,\"P\",\"A\")","v":"A"},{"$f":"IF(Attendance($C51,'Daily Register'!AV$3:AV$242)=TRUE,\"P\",\"A\")","v":"A"},{"$f":"IF(Attendance($C51,'Daily Register'!AW$3:AW$242)=TRUE,\"P\",\"A\")","v":"A"},{"$f":"IF(Attendance($C51,'Daily Register'!AX$3:AX$242)=TRUE,\"P\",\"A\")","v":"A"},{"$f":"IF(Attendance($C51,'Daily Register'!AY$3:AY$242)=TRUE,\"P\",\"A\")","v":"A"},{"$f":"IF(Attendance($C51,'Daily Register'!AZ$3:AZ$242)=TRUE,\"P\",\"A\")","v":"A"},{"$f":"IF(Attendance($C51,'Daily Register'!BA$3:BA$242)=TRUE,\"P\",\"A\")","v":"A"},{"$f":"IF(Attendance($C51,'Daily Register'!BB$3:BB$242)=TRUE,\"P\",\"A\")","v":"A"},{"$f":"IF(Attendance($C51,'Daily Register'!BC$3:BC$242)=TRUE,\"P\",\"A\")","v":"A"},{"$f":"IF(Attendance($C51,'Daily Register'!BD$3:BD$242)=TRUE,\"P\",\"A\")","v":"A"},{"$f":"IF(Attendance($C51,'Daily Register'!BE$3:BE$242)=TRUE,\"P\",\"A\")","v":"A"},{"$f":"IF(Attendance($C51,'Daily Register'!BF$3:BF$242)=TRUE,\"P\",\"A\")","v":"A"},{"$f":"IF(Attendance($C51,'Daily Register'!BG$3:BG$242)=TRUE,\"P\",\"A\")","v":"A"},{"$f":"IF(Attendance($C51,'Daily Register'!BH$3:BH$242)=TRUE,\"P\",\"A\")","v":"A"},{"$f":"IF(Attendance($C51,'Daily Register'!BI$3:BI$242)=TRUE,\"P\",\"A\")","v":"A"},{"$f":"IF(Attendance($C51,'Daily Register'!BJ$3:BJ$242)=TRUE,\"P\",\"A\")","v":"A"},{"$f":"IF(Attendance($C51,'Daily Register'!BK$3:BK$242)=TRUE,\"P\",\"A\")","v":"A"},{"$f":"IF(Attendance($C51,'Daily Register'!BL$3:BL$242)=TRUE,\"P\",\"A\")","v":"A"},{"$f":"IF(Attendance($C51,'Daily Register'!BM$3:BM$242)=TRUE,\"P\",\"A\")","v":"A"},{"$f":"IF(Attendance($C51,'Daily Register'!BN$3:BN$242)=TRUE,\"P\",\"A\")","v":"A"},{"$f":"IF(Attendance($C51,'Daily Register'!BO$3:BO$242)=TRUE,\"P\",\"A\")","v":"A"},{"$f":"IF(Attendance($C51,'Daily Register'!BP$3:BP$242)=TRUE,\"P\",\"A\")","v":"A"},{"$f":"IF(Attendance($C51,'Daily Register'!BQ$3:BQ$242)=TRUE,\"P\",\"A\")","v":"A"},{"$f":"IF(Attendance($C51,'Daily Register'!BR$3:BR$242)=TRUE,\"P\",\"A\")","v":"A"},{"$f":"IF(Attendance($C51,'Daily Register'!BS$3:BS$242)=TRUE,\"P\",\"A\")","v":"A"},{"$f":"IF(Attendance($C51,'Daily Register'!BT$3:BT$242)=TRUE,\"P\",\"A\")","v":"A"},{"$f":"IF(Attendance($C51,'Daily Register'!BU$3:BU$242)=TRUE,\"P\",\"A\")","v":"A"},{"$f":"IF(Attendance($C51,'Daily Register'!BV$3:BV$242)=TRUE,\"P\",\"A\")","v":"A"},{"$f":"IF(Attendance($C51,'Daily Register'!BW$3:BW$242)=TRUE,\"P\",\"A\")","v":"A"},{"$f":"IF(Attendance($C51,'Daily Register'!BX$3:BX$242)=TRUE,\"P\",\"A\")","v":"A"},{"$f":"IF(Attendance($C51,'Daily Register'!BY$3:BY$242)=TRUE,\"P\",\"A\")","v":"A"},{"$f":"IF(Attendance($C51,'Daily Register'!BZ$3:BZ$242)=TRUE,\"P\",\"A\")","v":"A"},{"$f":"IF(Attendance($C51,'Daily Register'!CA$3:CA$242)=TRUE,\"P\",\"A\")","v":"A"},{"$f":"IF(Attendance($C51,'Daily Register'!CB$3:CB$242)=TRUE,\"P\",\"A\")","v":"A"},{"$f":"IF(Attendance($C51,'Daily Register'!CC$3:CC$242)=TRUE,\"P\",\"A\")","v":"A"},{"$f":"IF(Attendance($C51,'Daily Register'!CD$3:CD$242)=TRUE,\"P\",\"A\")","v":"A"},{"$f":"IF(Attendance($C51,'Daily Register'!CE$3:CE$242)=TRUE,\"P\",\"A\")","v":"A"},{"$f":"IF(Attendance($C51,'Daily Register'!CF$3:CF$242)=TRUE,\"P\",\"A\")","v":"A"},{"$f":"IF(Attendance($C51,'Daily Register'!CG$3:CG$242)=TRUE,\"P\",\"A\")","v":"A"},{"$f":"IF(Attendance($C51,'Daily Register'!CH$3:CH$242)=TRUE,\"P\",\"A\")","v":"A"},{"$f":"IF(Attendance($C51,'Daily Register'!CI$3:CI$242)=TRUE,\"P\",\"A\")","v":"A"},{"$f":"IF(Attendance($C51,'Daily Register'!CJ$3:CJ$242)=TRUE,\"P\",\"A\")","v":"A"},{"$f":"IF(Attendance($C51,'Daily Register'!CK$3:CK$242)=TRUE,\"P\",\"A\")","v":"A"},{"$f":"IF(Attendance($C51,'Daily Register'!CL$3:CL$242)=TRUE,\"P\",\"A\")","v":"A"},{"$f":"IF(Attendance($C51,'Daily Register'!CM$3:CM$242)=TRUE,\"P\",\"A\")","v":"A"},{"$f":"IF(Attendance($C51,'Daily Register'!CN$3:CN$242)=TRUE,\"P\",\"A\")","v":"A"},{"$f":"IF(Attendance($C51,'Daily Register'!CO$3:CO$242)=TRUE,\"P\",\"A\")","v":"A"},{"$f":"IF(Attendance($C51,'Daily Register'!CP$3:CP$242)=TRUE,\"P\",\"A\")","v":"A"},{"$f":"IF(Attendance($C51,'Daily Register'!CQ$3:CQ$242)=TRUE,\"P\",\"A\")","v":"A"},{"$f":"IF(Attendance($C51,'Daily Register'!CR$3:CR$242)=TRUE,\"P\",\"A\")","v":"A"},{"$f":"IF(Attendance($C51,'Daily Register'!CS$3:CS$242)=TRUE,\"P\",\"A\")","v":"A"},{"$f":"IF(Attendance($C51,'Daily Register'!CT$3:CT$242)=TRUE,\"P\",\"A\")","v":"A"},{"$f":"IF(Attendance($C51,'Daily Register'!CU$3:CU$242)=TRUE,\"P\",\"A\")","v":"A"},{"$f":"IF(Attendance($C51,'Daily Register'!CV$3:CV$242)=TRUE,\"P\",\"A\")","v":"A"},{"$f":"IF(Attendance($C51,'Daily Register'!CW$3:CW$242)=TRUE,\"P\",\"A\")","v":"A"},{"$f":"IF(Attendance($C51,'Daily Register'!CX$3:CX$242)=TRUE,\"P\",\"A\")","v":"A"},{"$f":"IF(Attendance($C51,'Daily Register'!CY$3:CY$242)=TRUE,\"P\",\"A\")","v":"A"},{"$f":"IF(Attendance($C51,'Daily Register'!CZ$3:CZ$242)=TRUE,\"P\",\"A\")","v":"A"},{"$f":"IF(Attendance($C51,'Daily Register'!DA$3:DA$242)=TRUE,\"P\",\"A\")","v":"A"},{"$f":"IF(Attendance($C51,'Daily Register'!DB$3:DB$242)=TRUE,\"P\",\"A\")","v":"A"},{"$f":"IF(Attendance($C51,'Daily Register'!DC$3:DC$242)=TRUE,\"P\",\"A\")","v":"A"},{"$f":"IF(Attendance($C51,'Daily Register'!DD$3:DD$242)=TRUE,\"P\",\"A\")","v":"A"},{"$f":"IF(Attendance($C51,'Daily Register'!DE$3:DE$242)=TRUE,\"P\",\"A\")","v":"A"},{"$f":"IF(Attendance($C51,'Daily Register'!DF$3:DF$242)=TRUE,\"P\",\"A\")","v":"A"},{"$f":"IF(Attendance($C51,'Daily Register'!DG$3:DG$242)=TRUE,\"P\",\"A\")","v":"A"},{"$f":"IF(Attendance($C51,'Daily Register'!DH$3:DH$242)=TRUE,\"P\",\"A\")","v":"A"},{"$f":"IF(Attendance($C51,'Daily Register'!DI$3:DI$242)=TRUE,\"P\",\"A\")","v":"A"},{"$f":"IF(Attendance($C51,'Daily Register'!DJ$3:DJ$242)=TRUE,\"P\",\"A\")","v":"A"},{"$f":"IF(Attendance($C51,'Daily Register'!DK$3:DK$242)=TRUE,\"P\",\"A\")","v":"A"},{"$f":"IF(Attendance($C51,'Daily Register'!DL$3:DL$242)=TRUE,\"P\",\"A\")","v":"A"},{"$f":"IF(Attendance($C51,'Daily Register'!DM$3:DM$242)=TRUE,\"P\",\"A\")","v":"A"},{"$f":"IF(Attendance($C51,'Daily Register'!DN$3:DN$242)=TRUE,\"P\",\"A\")","v":"A"},{"$f":"IF(Attendance($C51,'Daily Register'!DO$3:DO$242)=TRUE,\"P\",\"A\")","v":"A"},{"$f":"IF(Attendance($C51,'Daily Register'!DP$3:DP$242)=TRUE,\"P\",\"A\")","v":"A"},{"$f":"IF(Attendance($C51,'Daily Register'!DQ$3:DQ$242)=TRUE,\"P\",\"A\")","v":"A"},{"$f":"IF(Attendance($C51,'Daily Register'!DR$3:DR$242)=TRUE,\"P\",\"A\")","v":"A"},{"$f":"IF(Attendance($C51,'Daily Register'!DS$3:DS$242)=TRUE,\"P\",\"A\")","v":"A"},{"$f":"IF(Attendance($C51,'Daily Register'!DT$3:DT$242)=TRUE,\"P\",\"A\")","v":"A"},{"$f":"IF(Attendance($C51,'Daily Register'!DU$3:DU$242)=TRUE,\"P\",\"A\")","v":"A"},{"$f":"IF(Attendance($C51,'Daily Register'!DV$3:DV$242)=TRUE,\"P\",\"A\")","v":"A"},{"$f":"IF(Attendance($C51,'Daily Register'!DW$3:DW$242)=TRUE,\"P\",\"A\")","v":"A"},{"$f":"IF(Attendance($C51,'Daily Register'!DX$3:DX$242)=TRUE,\"P\",\"A\")","v":"A"},{"$f":"IF(Attendance($C51,'Daily Register'!DY$3:DY$242)=TRUE,\"P\",\"A\")","v":"A"},{"$f":"IF(Attendance($C51,'Daily Register'!DZ$3:DZ$242)=TRUE,\"P\",\"A\")","v":"A"},{"$f":"IF(Attendance($C51,'Daily Register'!EA$3:EA$242)=TRUE,\"P\",\"A\")","v":"A"},{"$f":"IF(Attendance($C51,'Daily Register'!EB$3:EB$242)=TRUE,\"P\",\"A\")","v":"A"},{"$f":"IF(Attendance($C51,'Daily Register'!EC$3:EC$242)=TRUE,\"P\",\"A\")","v":"A"},{"$f":"IF(Attendance($C51,'Daily Register'!ED$3:ED$242)=TRUE,\"P\",\"A\")","v":"A"},{"$f":"IF(Attendance($C51,'Daily Register'!EE$3:EE$242)=TRUE,\"P\",\"A\")","v":"A"},{"$f":"IF(Attendance($C51,'Daily Register'!EF$3:EF$242)=TRUE,\"P\",\"A\")","v":"A"},{"$f":"IF(Attendance($C51,'Daily Register'!EG$3:EG$242)=TRUE,\"P\",\"A\")","v":"A"},{"$f":"IF(Attendance($C51,'Daily Register'!EH$3:EH$242)=TRUE,\"P\",\"A\")","v":"A"},{"$f":"IF(Attendance($C51,'Daily Register'!EI$3:EI$242)=TRUE,\"P\",\"A\")","v":"A"},{"$f":"IF(Attendance($C51,'Daily Register'!EJ$3:EJ$242)=TRUE,\"P\",\"A\")","v":"A"},{"$f":"IF(Attendance($C51,'Daily Register'!EK$3:EK$242)=TRUE,\"P\",\"A\")","v":"A"},{"$f":"IF(Attendance($C51,'Daily Register'!EL$3:EL$242)=TRUE,\"P\",\"A\")","v":"A"},{"$f":"IF(Attendance($C51,'Daily Register'!EM$22:EM$242)=TRUE,\"P\",\"A\")","v":"A"},{"$f":"IF(Attendance($C51,'Daily Register'!EN$3:EN$242)=TRUE,\"P\",\"A\")","v":"A"},{"$f":"IF(Attendance($C51,'Daily Register'!EO$3:EO$242)=TRUE,\"P\",\"A\")","v":"A"},{"$f":"IF(Attendance($C51,'Daily Register'!EP$3:EP$242)=TRUE,\"P\",\"A\")","v":"A"},{"$f":"IF(Attendance($C51,'Daily Register'!EQ$3:EQ$242)=TRUE,\"P\",\"A\")","v":"A"},{"$f":"IF(Attendance($C51,'Daily Register'!ER$3:ER$242)=TRUE,\"P\",\"A\")","v":"A"},{"$f":"IF(Attendance($C51,'Daily Register'!ES$3:ES$242)=TRUE,\"P\",\"A\")","v":"A"},{"$f":"IF(Attendance($C51,'Daily Register'!ET$3:ET$242)=TRUE,\"P\",\"A\")","v":"A"},{"$f":"IF(Attendance($C51,'Daily Register'!EU$3:EU$242)=TRUE,\"P\",\"A\")","v":"A"},{"$f":"IF(Attendance($C51,'Daily Register'!EV$3:EV$242)=TRUE,\"P\",\"A\")","v":"A"},{"$f":"IF(Attendance($C51,'Daily Register'!EW$3:EW$242)=TRUE,\"P\",\"A\")","v":"A"},{"$f":"IF(Attendance($C51,'Daily Register'!EX$3:EX$242)=TRUE,\"P\",\"A\")","v":"A"},{"$f":"IF(Attendance($C51,'Daily Register'!EY$3:EY$242)=TRUE,\"P\",\"A\")","v":"A"},{"$f":"IF(Attendance($C51,'Daily Register'!EZ$3:EZ$242)=TRUE,\"P\",\"A\")","v":"A"},{"$f":"IF(Attendance($C51,'Daily Register'!FA$3:FA$242)=TRUE,\"P\",\"A\")","v":"A"},{"$f":"IF(Attendance($C51,'Daily Register'!FB$3:FB$242)=TRUE,\"P\",\"A\")","v":"A"},{"$f":"IF(Attendance($C51,'Daily Register'!FC$3:FC$242)=TRUE,\"P\",\"A\")","v":"A"},{"$f":"IF(Attendance($C51,'Daily Register'!FD$3:FD$242)=TRUE,\"P\",\"A\")","v":"A"},{"$f":"IF(Attendance($C51,'Daily Register'!FE$3:FE$242)=TRUE,\"P\",\"A\")","v":"A"},{"$f":"IF(Attendance($C51,'Daily Register'!FF$3:FF$242)=TRUE,\"P\",\"A\")","v":"A"},{"$f":"IF(Attendance($C51,'Daily Register'!FG$3:FG$242)=TRUE,\"P\",\"A\")","v":"A"},{"$f":"IF(Attendance($C51,'Daily Register'!FH$3:FH$242)=TRUE,\"P\",\"A\")","v":"A"},{"$f":"IF(Attendance($C51,'Daily Register'!FI$3:FI$242)=TRUE,\"P\",\"A\")","v":"A"},{"$f":"IF(Attendance($C51,'Daily Register'!FJ$3:FJ$242)=TRUE,\"P\",\"A\")","v":"A"},{"$f":"IF(Attendance($C51,'Daily Register'!FK$3:FK$242)=TRUE,\"P\",\"A\")","v":"A"},{"$f":"IF(Attendance($C51,'Daily Register'!FL$3:FL$242)=TRUE,\"P\",\"A\")","v":"A"},{"$f":"IF(Attendance($C51,'Daily Register'!FM$3:FM$242)=TRUE,\"P\",\"A\")","v":"A"},{"$f":"IF(Attendance($C51,'Daily Register'!FN$3:FN$242)=TRUE,\"P\",\"A\")","v":"A"},{"$f":"IF(Attendance($C51,'Daily Register'!FO$3:FO$242)=TRUE,\"P\",\"A\")","v":"A"},{"$f":"IF(Attendance($C51,'Daily Register'!FP$3:FP$242)=TRUE,\"P\",\"A\")","v":"A"},{"$f":"IF(Attendance($C51,'Daily Register'!FQ$3:FQ$242)=TRUE,\"P\",\"A\")","v":"A"},{"$f":"IF(Attendance($C51,'Daily Register'!FR$3:FR$242)=TRUE,\"P\",\"A\")","v":"A"},{"$f":"IF(Attendance($C51,'Daily Register'!FS$3:FS$242)=TRUE,\"P\",\"A\")","v":"A"},{"$f":"IF(Attendance($C51,'Daily Register'!FT$3:FT$242)=TRUE,\"P\",\"A\")","v":"A"},{"$f":"IF(Attendance($C51,'Daily Register'!FU$3:FU$242)=TRUE,\"P\",\"A\")","v":"A"},{"$f":"IF(Attendance($C51,'Daily Register'!FV$3:FV$242)=TRUE,\"P\",\"A\")","v":"A"},{"$f":"IF(Attendance($C51,'Daily Register'!FW$3:FW$242)=TRUE,\"P\",\"A\")","v":"A"},{"$f":"IF(Attendance($C51,'Daily Register'!FX$3:FX$242)=TRUE,\"P\",\"A\")","v":"A"},{"$f":"IF(Attendance($C51,'Daily Register'!FY$3:FY$242)=TRUE,\"P\",\"A\")","v":"A"},{"$f":"IF(Attendance($C51,'Daily Register'!FZ$3:FZ$242)=TRUE,\"P\",\"A\")","v":"A"},{"$f":"IF(Attendance($C51,'Daily Register'!GA$3:GA$242)=TRUE,\"P\",\"A\")","v":"A"},{"$f":"IF(Attendance($C51,'Daily Register'!GB$3:GB$242)=TRUE,\"P\",\"A\")","v":"A"},{"$f":"IF(Attendance($C51,'Daily Register'!GC$3:GC$242)=TRUE,\"P\",\"A\")","v":"A"},{"$f":"IF(Attendance($C51,'Daily Register'!GD$3:GD$242)=TRUE,\"P\",\"A\")","v":"A"},{"$f":"IF(Attendance($C51,'Daily Register'!GE$3:GE$242)=TRUE,\"P\",\"A\")","v":"A"},{"$f":"IF(Attendance($C51,'Daily Register'!GF$3:GF$242)=TRUE,\"P\",\"A\")","v":"A"},{"$f":"IF(Attendance($C51,'Daily Register'!GG$3:GG$242)=TRUE,\"P\",\"A\")","v":"A"},{"$f":"IF(Attendance($C51,'Daily Register'!GH$3:GH$242)=TRUE,\"P\",\"A\")","v":"A"},{"$f":"IF(Attendance($C51,'Daily Register'!GI$3:GI$242)=TRUE,\"P\",\"A\")","v":"A"},{"$f":"IF(Attendance($C51,'Daily Register'!GJ$3:GJ$242)=TRUE,\"P\",\"A\")","v":"A"},{"$f":"IF(Attendance($C51,'Daily Register'!GK$3:GK$242)=TRUE,\"P\",\"A\")","v":"A"},{"$f":"IF(Attendance($C51,'Daily Register'!GL$3:GL$242)=TRUE,\"P\",\"A\")","v":"A"},{"$f":"IF(Attendance($C51,'Daily Register'!GM$3:GM$242)=TRUE,\"P\",\"A\")","v":"A"},{"$f":"IF(Attendance($C51,'Daily Register'!GN$3:GN$242)=TRUE,\"P\",\"A\")","v":"A"},{"$f":"IF(Attendance($C51,'Daily Register'!GO$3:GO$242)=TRUE,\"P\",\"A\")","v":"A"},{"$f":"IF(Attendance($C51,'Daily Register'!GP$3:GP$242)=TRUE,\"P\",\"A\")","v":"A"},{"$f":"IF(Attendance($C51,'Daily Register'!GQ$3:GQ$242)=TRUE,\"P\",\"A\")","v":"A"},{"$f":"IF(Attendance($C51,'Daily Register'!GR$3:GR$242)=TRUE,\"P\",\"A\")","v":"A"},{"$f":"IF(Attendance($C51,'Daily Register'!GS$3:GS$242)=TRUE,\"P\",\"A\")","v":"A"},{"$f":"IF(Attendance($C51,'Daily Register'!GT$3:GT$242)=TRUE,\"P\",\"A\")","v":"A"},{"$f":"IF(Attendance($C51,'Daily Register'!GU$3:GU$242)=TRUE,\"P\",\"A\")","v":"A"},{"$f":"IF(Attendance($C51,'Daily Register'!GV$3:GV$242)=TRUE,\"P\",\"A\")","v":"A"},{"$f":"IF(Attendance($C51,'Daily Register'!GW$3:GW$242)=TRUE,\"P\",\"A\")","v":"A"},{"$f":"IF(Attendance($C51,'Daily Register'!GX$3:GX$242)=TRUE,\"P\",\"A\")","v":"A"},{"$f":"IF(Attendance($C51,'Daily Register'!GY$3:GY$242)=TRUE,\"P\",\"A\")","v":"A"},{"$f":"IF(Attendance($C51,'Daily Register'!GZ$3:GZ$242)=TRUE,\"P\",\"A\")","v":"A"},{"$f":"IF(Attendance($C51,'Daily Register'!HA$3:HA$242)=TRUE,\"P\",\"A\")","v":"A"},{"$f":"IF(Attendance($C51,'Daily Register'!HB$3:HB$242)=TRUE,\"P\",\"A\")","v":"A"},{"$f":"IF(Attendance($C51,'Daily Register'!HC$3:HC$242)=TRUE,\"P\",\"A\")","v":"A"},{"$f":"IF(Attendance($C51,'Daily Register'!HD$3:HD$242)=TRUE,\"P\",\"A\")","v":"A"},{"$f":"IF(Attendance($C51,'Daily Register'!HE$3:HE$242)=TRUE,\"P\",\"A\")","v":"A"},{"$f":"IF(Attendance($C51,'Daily Register'!HF$3:HF$242)=TRUE,\"P\",\"A\")","v":"A"},{"$f":"IF(Attendance($C51,'Daily Register'!HG$3:HG$242)=TRUE,\"P\",\"A\")","v":"A"},{"$f":"IF(Attendance($C51,'Daily Register'!HH$3:HH$242)=TRUE,\"P\",\"A\")","v":"A"},{"$f":"IF(Attendance($C51,'Daily Register'!HI$3:HI$242)=TRUE,\"P\",\"A\")","v":"A"},{"$f":"IF(Attendance($C51,'Daily Register'!HJ$3:HJ$242)=TRUE,\"P\",\"A\")","v":"A"},{"$f":"IF(Attendance($C51,'Daily Register'!HK$3:HK$242)=TRUE,\"P\",\"A\")","v":"A"},{"$f":"IF(Attendance($C51,'Daily Register'!HL$3:HL$242)=TRUE,\"P\",\"A\")","v":"A"},{"$f":"IF(Attendance($C51,'Daily Register'!HM$3:HM$242)=TRUE,\"P\",\"A\")","v":"A"},{"$f":"IF(Attendance($C51,'Daily Register'!HN$3:HN$242)=TRUE,\"P\",\"A\")","v":"A"},{"$f":"IF(Attendance($C51,'Daily Register'!HO$3:HO$242)=TRUE,\"P\",\"A\")","v":"A"},{"$f":"IF(Attendance($C51,'Daily Register'!HP$3:HP$242)=TRUE,\"P\",\"A\")","v":"A"},{"$f":"IF(Attendance($C51,'Daily Register'!HQ$3:HQ$242)=TRUE,\"P\",\"A\")","v":"A"},{"$f":"IF(Attendance($C51,'Daily Register'!HR$3:HR$242)=TRUE,\"P\",\"A\")","v":"A"},{"$f":"IF(Attendance($C51,'Daily Register'!HS$3:HS$242)=TRUE,\"P\",\"A\")","v":"A"},{"$f":"IF(Attendance($C51,'Daily Register'!HT$3:HT$242)=TRUE,\"P\",\"A\")","v":"A"},{"$f":"IF(Attendance($C51,'Daily Register'!HU$3:HU$242)=TRUE,\"P\",\"A\")","v":"A"},{"$f":"IF(Attendance($C51,'Daily Register'!HV$3:HV$242)=TRUE,\"P\",\"A\")","v":"A"},{"$f":"IF(Attendance($C51,'Daily Register'!HW$3:HW$242)=TRUE,\"P\",\"A\")","v":"A"},{"$f":"IF(Attendance($C51,'Daily Register'!HX$3:HX$242)=TRUE,\"P\",\"A\")","v":"A"},{"$f":"IF(Attendance($C51,'Daily Register'!HY$3:HY$242)=TRUE,\"P\",\"A\")","v":"A"},{"$f":"IF(Attendance($C51,'Daily Register'!HZ$3:HZ$242)=TRUE,\"P\",\"A\")","v":"A"},{"$f":"IF(Attendance($C51,'Daily Register'!IA$3:IA$242)=TRUE,\"P\",\"A\")","v":"A"},{"$f":"IF(Attendance($C51,'Daily Register'!IB$3:IB$242)=TRUE,\"P\",\"A\")","v":"A"},{"$f":"IF(Attendance($C51,'Daily Register'!IC$3:IC$242)=TRUE,\"P\",\"A\")","v":"A"},{"$f":"IF(Attendance($C51,'Daily Register'!ID$3:ID$242)=TRUE,\"P\",\"A\")","v":"A"},{"$f":"IF(Attendance($C51,'Daily Register'!IE$3:IE$242)=TRUE,\"P\",\"A\")","v":"A"},{"$f":"IF(Attendance($C51,'Daily Register'!IF$3:IF$242)=TRUE,\"P\",\"A\")","v":"A"},{"$f":"IF(Attendance($C51,'Daily Register'!IG$3:IG$242)=TRUE,\"P\",\"A\")","v":"A"},{"$f":"IF(Attendance($C51,'Daily Register'!IH$3:IH$242)=TRUE,\"P\",\"A\")","v":"A"},{"$f":"IF(Attendance($C51,'Daily Register'!II$3:II$242)=TRUE,\"P\",\"A\")","v":"A"},{"$f":"IF(Attendance($C51,'Daily Register'!IJ$3:IJ$242)=TRUE,\"P\",\"A\")","v":"A"},{"$f":"IF(Attendance($C51,'Daily Register'!IK$3:IK$242)=TRUE,\"P\",\"A\")","v":"A"},{"$f":"IF(Attendance($C51,'Daily Register'!IL$3:IL$242)=TRUE,\"P\",\"A\")","v":"A"},{"$f":"IF(Attendance($C51,'Daily Register'!IM$3:IM$242)=TRUE,\"P\",\"A\")","v":"A"},{"$f":"IF(Attendance($C51,'Daily Register'!IN$3:IN$242)=TRUE,\"P\",\"A\")","v":"A"},{"$f":"IF(Attendance($C51,'Daily Register'!IO$3:IO$242)=TRUE,\"P\",\"A\")","v":"A"},{"$f":"IF(Attendance($C51,'Daily Register'!IP$3:IP$242)=TRUE,\"P\",\"A\")","v":"A"},{"$f":"IF(Attendance($C51,'Daily Register'!IQ$3:IQ$242)=TRUE,\"P\",\"A\")","v":"A"},{"$f":"IF(Attendance($C51,'Daily Register'!IR$3:IR$242)=TRUE,\"P\",\"A\")","v":"A"},{"$f":"IF(Attendance($C51,'Daily Register'!IS$3:IS$242)=TRUE,\"P\",\"A\")","v":"A"},{"$f":"IF(Attendance($C51,'Daily Register'!IT$3:IT$242)=TRUE,\"P\",\"A\")","v":"A"},{"$f":"IF(Attendance($C51,'Daily Register'!IU$3:IU$242)=TRUE,\"P\",\"A\")","v":"A"},{"$f":"IF(Attendance($C51,'Daily Register'!IV$3:IV$242)=TRUE,\"P\",\"A\")","v":"A"},{"$f":"IF(Attendance($C51,'Daily Register'!IW$3:IW$242)=TRUE,\"P\",\"A\")","v":"A"},{"$f":"IF(Attendance($C51,'Daily Register'!IX$3:IX$242)=TRUE,\"P\",\"A\")","v":"A"},{"$f":"IF(Attendance($C51,'Daily Register'!IY$3:IY$242)=TRUE,\"P\",\"A\")","v":"A"},{"$f":"IF(Attendance($C51,'Daily Register'!IZ$3:IZ$242)=TRUE,\"P\",\"A\")","v":"A"},{"$f":"IF(Attendance($C51,'Daily Register'!JA$3:JA$242)=TRUE,\"P\",\"A\")","v":"A"},{"$f":"IF(Attendance($C51,'Daily Register'!JB$3:JB$242)=TRUE,\"P\",\"A\")","v":"A"},{"$f":"IF(Attendance($C51,'Daily Register'!JC$3:JC$242)=TRUE,\"P\",\"A\")","v":"A"},{"$f":"IF(Attendance($C51,'Daily Register'!JD$3:JD$242)=TRUE,\"P\",\"A\")","v":"A"},{"$f":"IF(Attendance($C51,'Daily Register'!JE$3:JE$242)=TRUE,\"P\",\"A\")","v":"A"},{"$f":"IF(Attendance($C51,'Daily Register'!JF$3:JF$242)=TRUE,\"P\",\"A\")","v":"A"},{"$f":"IF(Attendance($C51,'Daily Register'!JG$3:JG$242)=TRUE,\"P\",\"A\")","v":"A"},{"$f":"IF(Attendance($C51,'Daily Register'!JH$3:JH$242)=TRUE,\"P\",\"A\")","v":"A"},{"$f":"IF(Attendance($C51,'Daily Register'!JI$3:JI$242)=TRUE,\"P\",\"A\")","v":"A"},{"$f":"IF(Attendance($C51,'Daily Register'!JJ$3:JJ$242)=TRUE,\"P\",\"A\")","v":"A"},{"$f":"IF(Attendance($C51,'Daily Register'!JK$3:JK$242)=TRUE,\"P\",\"A\")","v":"A"},{"$f":"IF(Attendance($C51,'Daily Register'!JL$3:JL$242)=TRUE,\"P\",\"A\")","v":"A"},{"$f":"IF(Attendance($C51,'Daily Register'!JM$3:JM$242)=TRUE,\"P\",\"A\")","v":"A"},{"$f":"IF(Attendance($C51,'Daily Register'!JN$3:JN$242)=TRUE,\"P\",\"A\")","v":"A"},{"$f":"IF(Attendance($C51,'Daily Register'!JO$3:JO$242)=TRUE,\"P\",\"A\")","v":"A"},{"$f":"IF(Attendance($C51,'Daily Register'!JP$3:JP$242)=TRUE,\"P\",\"A\")","v":"A"},{"$f":"IF(Attendance($C51,'Daily Register'!JQ$3:JQ$242)=TRUE,\"P\",\"A\")","v":"A"},{"$f":"IF(Attendance($C51,'Daily Register'!JR$3:JR$242)=TRUE,\"P\",\"A\")","v":"A"},{"$f":"IF(Attendance($C51,'Daily Register'!JS$3:JS$242)=TRUE,\"P\",\"A\")","v":"A"},{"$f":"IF(Attendance($C51,'Daily Register'!JT$3:JT$242)=TRUE,\"P\",\"A\")","v":"A"},{"$f":"IF(Attendance($C51,'Daily Register'!JU$3:JU$242)=TRUE,\"P\",\"A\")","v":"A"},{"$f":"IF(Attendance($C51,'Daily Register'!JV$3:JV$242)=TRUE,\"P\",\"A\")","v":"A"},{"$f":"IF(Attendance($C51,'Daily Register'!JW$3:JW$242)=TRUE,\"P\",\"A\")","v":"A"},{"$f":"IF(Attendance($C51,'Daily Register'!JX$3:JX$242)=TRUE,\"P\",\"A\")","v":"A"},{"$f":"IF(Attendance($C51,'Daily Register'!JY$3:JY$242)=TRUE,\"P\",\"A\")","v":"A"},{"$f":"IF(Attendance($C51,'Daily Register'!JZ$3:JZ$242)=TRUE,\"P\",\"A\")","v":"A"},{"$f":"IF(Attendance($C51,'Daily Register'!KA$3:KA$242)=TRUE,\"P\",\"A\")","v":"A"},{"$f":"IF(Attendance($C51,'Daily Register'!KB$3:KB$242)=TRUE,\"P\",\"A\")","v":"A"},{"$f":"IF(Attendance($C51,'Daily Register'!KC$3:KC$242)=TRUE,\"P\",\"A\")","v":"A"},{"$f":"IF(Attendance($C51,'Daily Register'!KD$3:KD$242)=TRUE,\"P\",\"A\")","v":"A"},{"$f":"IF(Attendance($C51,'Daily Register'!KE$3:KE$242)=TRUE,\"P\",\"A\")","v":"A"},{"$f":"IF(Attendance($C51,'Daily Register'!KF$3:KF$242)=TRUE,\"P\",\"A\")","v":"A"},{"$f":"IF(Attendance($C51,'Daily Register'!KG$3:KG$242)=TRUE,\"P\",\"A\")","v":"A"},{"$f":"IF(Attendance($C51,'Daily Register'!KH$3:KH$242)=TRUE,\"P\",\"A\")","v":"A"},{"$f":"IF(Attendance($C51,'Daily Register'!KI$3:KI$242)=TRUE,\"P\",\"A\")","v":"A"},{"$f":"IF(Attendance($C51,'Daily Register'!KJ$3:KJ$242)=TRUE,\"P\",\"A\")","v":"A"},{"$f":"IF(Attendance($C51,'Daily Register'!KK$3:KK$242)=TRUE,\"P\",\"A\")","v":"A"},{"$f":"IF(Attendance($C51,'Daily Register'!KL$3:KL$242)=TRUE,\"P\",\"A\")","v":"A"},{"$f":"IF(Attendance($C51,'Daily Register'!KM$3:KM$242)=TRUE,\"P\",\"A\")","v":"A"},{"$f":"IF(Attendance($C51,'Daily Register'!KN$3:KN$242)=TRUE,\"P\",\"A\")","v":"A"},{"$f":"IF(Attendance($C51,'Daily Register'!KO$3:KO$242)=TRUE,\"P\",\"A\")","v":"A"},{"$f":"IF(Attendance($C51,'Daily Register'!KP$3:KP$242)=TRUE,\"P\",\"A\")","v":"A"},{"$f":"IF(Attendance($C51,'Daily Register'!KQ$3:KQ$242)=TRUE,\"P\",\"A\")","v":"A"},{"$f":"IF(Attendance($C51,'Daily Register'!KR$3:KR$242)=TRUE,\"P\",\"A\")","v":"A"},{"$f":"IF(Attendance($C51,'Daily Register'!KS$3:KS$242)=TRUE,\"P\",\"A\")","v":"A"},{"$f":"IF(Attendance($C51,'Daily Register'!KT$3:KT$242)=TRUE,\"P\",\"A\")","v":"A"},{"$f":"IF(Attendance($C51,'Daily Register'!KU$3:KU$242)=TRUE,\"P\",\"A\")","v":"A"},{"$f":"IF(Attendance($C51,'Daily Register'!KV$3:KV$242)=TRUE,\"P\",\"A\")","v":"A"},{"$f":"IF(Attendance($C51,'Daily Register'!KW$3:KW$242)=TRUE,\"P\",\"A\")","v":"A"},{"$f":"IF(Attendance($C51,'Daily Register'!KX$3:KX$242)=TRUE,\"P\",\"A\")","v":"A"},{"$f":"IF(Attendance($C51,'Daily Register'!KY$3:KY$242)=TRUE,\"P\",\"A\")","v":"A"},{"$f":"IF(Attendance($C51,'Daily Register'!KZ$3:KZ$242)=TRUE,\"P\",\"A\")","v":"A"},{"$f":"IF(Attendance($C51,'Daily Register'!LA$3:LA$242)=TRUE,\"P\",\"A\")","v":"A"},{"$f":"IF(Attendance($C51,'Daily Register'!LB$3:LB$242)=TRUE,\"P\",\"A\")","v":"A"},{"$f":"IF(Attendance($C51,'Daily Register'!LC$3:LC$242)=TRUE,\"P\",\"A\")","v":"A"},{"$f":"IF(Attendance($C51,'Daily Register'!LD$3:LD$242)=TRUE,\"P\",\"A\")","v":"A"},{"$f":"IF(Attendance($C51,'Daily Register'!LE$3:LE$242)=TRUE,\"P\",\"A\")","v":"A"},{"$f":"IF(Attendance($C51,'Daily Register'!LF$3:LF$242)=TRUE,\"P\",\"A\")","v":"A"},{"$f":"IF(Attendance($C51,'Daily Register'!LG$3:LG$242)=TRUE,\"P\",\"A\")","v":"A"},{"$f":"IF(Attendance($C51,'Daily Register'!LH$3:LH$242)=TRUE,\"P\",\"A\")","v":"A"},{"$f":"IF(Attendance($C51,'Daily Register'!LI$3:LI$242)=TRUE,\"P\",\"A\")","v":"A"},{"$f":"IF(Attendance($C51,'Daily Register'!LJ$3:LJ$242)=TRUE,\"P\",\"A\")","v":"A"},{"$f":"IF(Attendance($C51,'Daily Register'!LK$3:LK$242)=TRUE,\"P\",\"A\")","v":"A"},{"$f":"IF(Attendance($C51,'Daily Register'!LL$3:LL$242)=TRUE,\"P\",\"A\")","v":"A"},{"$f":"IF(Attendance($C51,'Daily Register'!LM$3:LM$242)=TRUE,\"P\",\"A\")","v":"A"},{"$f":"IF(Attendance($C51,'Daily Register'!LN$3:LN$242)=TRUE,\"P\",\"A\")","v":"A"},{"$f":"IF(Attendance($C51,'Daily Register'!LO$3:LO$242)=TRUE,\"P\",\"A\")","v":"A"},{"$f":"IF(Attendance($C51,'Daily Register'!LP$3:LP$242)=TRUE,\"P\",\"A\")","v":"A"},{"$f":"IF(Attendance($C51,'Daily Register'!LQ$3:LQ$242)=TRUE,\"P\",\"A\")","v":"A"},{"$f":"IF(Attendance($C51,'Daily Register'!LR$3:LR$242)=TRUE,\"P\",\"A\")","v":"A"},{"$f":"IF(Attendance($C51,'Daily Register'!LS$3:LS$242)=TRUE,\"P\",\"A\")","v":"A"},{"$f":"IF(Attendance($C51,'Daily Register'!LT$3:LT$242)=TRUE,\"P\",\"A\")","v":"A"},{"$f":"IF(Attendance($C51,'Daily Register'!LU$3:LU$242)=TRUE,\"P\",\"A\")","v":"A"},{"$f":"IF(Attendance($C51,'Daily Register'!LV$3:LV$242)=TRUE,\"P\",\"A\")","v":"A"},{"$f":"IF(Attendance($C51,'Daily Register'!LW$3:LW$242)=TRUE,\"P\",\"A\")","v":"A"},{"$f":"IF(Attendance($C51,'Daily Register'!LX$3:LX$242)=TRUE,\"P\",\"A\")","v":"A"},{"$f":"IF(Attendance($C51,'Daily Register'!LY$3:LY$242)=TRUE,\"P\",\"A\")","v":"A"},{"$f":"IF(Attendance($C51,'Daily Register'!LZ$3:LZ$242)=TRUE,\"P\",\"A\")","v":"A"},{"$f":"IF(Attendance($C51,'Daily Register'!MA$3:MA$242)=TRUE,\"P\",\"A\")","v":"A"},{"$f":"IF(Attendance($C51,'Daily Register'!MB$3:MB$242)=TRUE,\"P\",\"A\")","v":"A"},{"$f":"IF(Attendance($C51,'Daily Register'!MC$3:MC$242)=TRUE,\"P\",\"A\")","v":"A"},{"$f":"IF(Attendance($C51,'Daily Register'!MD$3:MD$242)=TRUE,\"P\",\"A\")","v":"A"},{"$f":"IF(Attendance($C51,'Daily Register'!ME$3:ME$242)=TRUE,\"P\",\"A\")","v":"A"},{"$f":"IF(Attendance($C51,'Daily Register'!MF$3:MF$242)=TRUE,\"P\",\"A\")","v":"A"},{"$f":"IF(Attendance($C51,'Daily Register'!MG$3:MG$242)=TRUE,\"P\",\"A\")","v":"A"},{"$f":"IF(Attendance($C51,'Daily Register'!MH$3:MH$242)=TRUE,\"P\",\"A\")","v":"A"},{"$f":"IF(Attendance($C51,'Daily Register'!MI$3:MI$242)=TRUE,\"P\",\"A\")","v":"A"},{"$f":"IF(Attendance($C51,'Daily Register'!MJ$3:MJ$242)=TRUE,\"P\",\"A\")","v":"A"},{"$f":"IF(Attendance($C51,'Daily Register'!MK$3:MK$242)=TRUE,\"P\",\"A\")","v":"A"},{"$f":"IF(Attendance($C51,'Daily Register'!ML$3:ML$242)=TRUE,\"P\",\"A\")","v":"A"},{"$f":"IF(Attendance($C51,'Daily Register'!MM$3:MM$242)=TRUE,\"P\",\"A\")","v":"A"},{"$f":"IF(Attendance($C51,'Daily Register'!MN$3:MN$242)=TRUE,\"P\",\"A\")","v":"A"},{"$f":"IF(Attendance($C51,'Daily Register'!MO$3:MO$242)=TRUE,\"P\",\"A\")","v":"A"},{"$f":"IF(Attendance($C51,'Daily Register'!MP$3:MP$242)=TRUE,\"P\",\"A\")","v":"A"},{"$f":"IF(Attendance($C51,'Daily Register'!MQ$3:MQ$242)=TRUE,\"P\",\"A\")","v":"A"},{"$f":"IF(Attendance($C51,'Daily Register'!MR$3:MR$242)=TRUE,\"P\",\"A\")","v":"A"},{"$f":"IF(Attendance($C51,'Daily Register'!MS$3:MS$242)=TRUE,\"P\",\"A\")","v":"A"},{"$f":"IF(Attendance($C51,'Daily Register'!MT$3:MT$242)=TRUE,\"P\",\"A\")","v":"A"},{"$f":"IF(Attendance($C51,'Daily Register'!MU$3:MU$242)=TRUE,\"P\",\"A\")","v":"A"},{"$f":"IF(Attendance($C51,'Daily Register'!MV$3:MV$242)=TRUE,\"P\",\"A\")","v":"A"},{"$f":"IF(Attendance($C51,'Daily Register'!MW$3:MW$242)=TRUE,\"P\",\"A\")","v":"A"},{"$f":"IF(Attendance($C51,'Daily Register'!MX$3:MX$242)=TRUE,\"P\",\"A\")","v":"A"},{"$f":"IF(Attendance($C51,'Daily Register'!MY$3:MY$242)=TRUE,\"P\",\"A\")","v":"A"},{"$f":"IF(Attendance($C51,'Daily Register'!MZ$3:MZ$242)=TRUE,\"P\",\"A\")","v":"A"},{"$f":"IF(Attendance($C51,'Daily Register'!NA$3:NA$242)=TRUE,\"P\",\"A\")","v":"A"},{"$f":"IF(Attendance($C51,'Daily Register'!NB$3:NB$242)=TRUE,\"P\",\"A\")","v":"A"}]
[0,null,49,null,{"$f":"IF(Attendance($C52,'Daily Register'!A$3:A$242)=TRUE,\"P\",\"A\")","v":"A"},{"$f":"IF(Attendance($C52,'Daily Register'!B$3:B$242)=TRUE,\"P\",\"A\")","v":"A"},{"$f":"IF(Attendance($C52,'Daily Register'!C$3:C$242)=TRUE,\"P\",\"A\")","v":"A"},{"$f":"IF(Attendance($C52,'Daily Register'!D$3:D$242)=TRUE,\"P\",\"A\")","v":"A"},{"$f":"IF(Attendance($C52,'Daily Register'!E$3:E$242)=TRUE,\"P\",\"A\")","v":"A"},{"$f":"IF(Attendance($C52,'Daily Register'!F$3:F$242)=TRUE,\"P\",\"A\")","v":"A"},{"$f":"IF(Attendance($C52,'Daily Register'!G$3:G$242)=TRUE,\"P\",\"A\")","v":"A"},{"$f":"IF(Attendance($C52,'Daily Register'!H$3:H$242)=TRUE,\"P\",\"A\")","v":"A"},{"$f":"IF(Attendance($C52,'Daily Register'!I$3:I$242)=TRUE,\"P\",\"A\")","v":"A"},{"$f":"IF(Attendance($C52,'Daily Register'!J$3:J$242)=TRUE,\"P\",\"A\")","v":"A"},{"$f":"IF(Attendance($C52,'Daily Register'!K$3:K$242)=TRUE,\"P\",\"A\")","v":"A"},{"$f":"IF(Attendance($C52,'Daily Register'!L$3:L$242)=TRUE,\"P\",\"A\")","v":"A"},{"$f":"IF(Attendance($C52,'Daily Register'!M$3:M$242)=TRUE,\"P\",\"A\")","v":"A"},{"$f":"IF(Attendance($C52,'Daily Register'!N$3:N$242)=TRUE,\"P\",\"A\")","v":"A"},{"$f":"IF(Attendance($C52,'Daily Register'!O$3:O$242)=TRUE,\"P\",\"A\")","v":"A"},{"$f":"IF(Attendance($C52,'Daily Register'!P$3:P$242)=TRUE,\"P\",\"A\")","v":"A"},{"$f":"IF(Attendance($C52,'Daily Register'!Q$3:Q$242)=TRUE,\"P\",\"A\")","v":"A"},{"$f":"IF(Attendance($C52,'Daily Register'!R$3:R$242)=TRUE,\"P\",\"A\")","v":"A"},{"$f":"IF(Attendance($C52,'Daily Register'!S$3:S$242)=TRUE,\"P\",\"A\")","v":"A"},{"$f":"IF(Attendance($C52,'Daily Register'!T$3:T$242)=TRUE,\"P\",\"A\")","v":"A"},{"$f":"IF(Attendance($C52,'Daily Register'!U$3:U$242)=TRUE,\"P\",\"A\")","v":"A"},{"$f":"IF(Attendance($C52,'Daily Register'!V$3:V$242)=TRUE,\"P\",\"A\")","v":"A"},{"$f":"IF(Attendance($C52,'Daily Register'!W$3:W$242)=TRUE,\"P\",\"A\")","v":"A"},{"$f":"IF(Attendance($C52,'Daily Register'!X$3:X$242)=TRUE,\"P\",\"A\")","v":"A"},{"$f":"IF(Attendance($C52,'Daily Register'!Y$3:Y$242)=TRUE,\"P\",\"A\")","v":"A"},{"$f":"IF(Attendance($C52,'Daily Register'!Z$3:Z$242)=TRUE,\"P\",\"A\")","v":"A"},{"$f":"IF(Attendance($C52,'Daily Register'!AA$3:AA$242)=TRUE,\"P\",\"A\")","v":"A"},{"$f":"IF(Attendance($C52,'Daily Register'!AB$3:AB$242)=TRUE,\"P\",\"A\")","v":"A"},{"$f":"IF(Attendance($C52,'Daily Register'!AC$3:AC$242)=TRUE,\"P\",\"A\")","v":"A"},{"$f":"IF(Attendance($C52,'Daily Register'!AD$3:AD$242)=TRUE,\"P\",\"A\")","v":"A"},{"$f":"IF(Attendance($C52,'Daily Register'!AE$3:AE$242)=TRUE,\"P\",\"A\")","v":"A"},{"$f":"IF(Attendance($C52,'Daily Register'!AF$3:AF$242)=TRUE,\"P\",\"A\")","v":"A"},{"$f":"IF(Attendance($C52,'Daily Register'!AG$3:AG$242)=TRUE,\"P\",\"A\")","v":"A"},{"$f":"IF(Attendance($C52,'Daily Register'!AH$3:AH$242)=TRUE,\"P\",\"A\")","v":"A"},{"$f":"IF(Attendance($C52,'Daily Register'!AI$3:AI$242)=TRUE,\"P\",\"A\")","v":"A"},{"$f":"IF(Attendance($C52,'Daily Register'!AJ$3:AJ$242)=TRUE,\"P\",\"A\")","v":"A"},{"$f":"IF(Attendance($C52,'Daily Register'!AK$3:AK$242)=TRUE,\"P\",\"A\")","v":"A"},{"$f":"IF(Attendance($C52,'Daily Register'!AL$3:AL$242)=TRUE,\"P\",\"A\")","v":"A"},{"$f":"IF(Attendance($C52,'Daily Register'!AM$3:AM$242)=TRUE,\"P\",\"A\")","v":"A"},{"$f":"IF(Attendance($C52,'Daily Register'!AN$3:AN$242)=TRUE,\"P\",\"A\")","v":"A"},{"$f":"IF(Attendance($C52,'Daily Register'!AO$3:AO$242)=TRUE,\"P\",\"A\")","v":"A"},{"$f":"IF(Attendance($C52,'Daily Register'!AP$3:AP$242)=TRUE,\"P\",\"A\")","v":"A"},{"$f":"IF(Attendance($C52,'Daily Register'!AQ$3:AQ$242)=TRUE,\"P\",\"A\")","v":"A"},{"$f":"IF(Attendance($C52,'Daily Register'!AR$3:AR$242)=TRUE,\"P\",\"A\")","v":"A"},{"$f":"IF(Attendance($C52,'Daily Register'!AS$3:AS$242)=TRUE,\"P\",\"A\")","v":"A"},{"$f":"IF(Attendance($C52,'Daily Register'!AT$3:AT$242)=TRUE,\"P\",\"A\")","v":"A"},{"$f":"IF(Attendance($C52,'Daily Register'!AU$3:AU$242)=TRUE,\"P\",\"A\")","v":"A"},{"$f":"IF(Attendance($C52,'Daily Register'!AV$3:AV$242)=TRUE,\"P\",\"A\")","v":"A"},{"$f":"IF(Attendance($C52,'Daily Register'!AW$3:AW$242)=TRUE,\"P\",\"A\")","v":"A"},{"$f":"IF(Attendance($C52,'Daily Register'!AX$3:AX$242)=TRUE,\"P\",\"A\")","v":"A"},{"$f":"IF(Attendance($C52,'Daily Register'!AY$3:AY$242)=TRUE,\"P\",\"A\")","v":"A"},{"$f":"IF(Attendance($C52,'Daily Register'!AZ$3:AZ$242)=TRUE,\"P\",\"A\")","v":"A"},{"$f":"IF(Attendance($C52,'Daily Register'!BA$3:BA$242)=TRUE,\"P\",\"A\")","v":"A"},{"$f":"IF(Attendance($C52,'Daily Register'!BB$3:BB$242)=TRUE,\"P\",\"A\")","v":"A"},{"$f":"IF(Attendance($C52,'Daily Register'!BC$3:BC$242)=TRUE,\"P\",\"A\")","v":"A"},{"$f":"IF(Attendance($C52,'Daily Register'!BD$3:BD$242)=TRUE,\"P\",\"A\")","v":"A"},{"$f":"IF(Attendance($C52,'Daily Register'!BE$3:BE$242)=TRUE,\"P\",\"A\")","v":"A"},{"$f":"IF(Attendance($C52,'Daily Register'!BF$3:BF$242)=TRUE,\"P\",\"A\")","v":"A"},{"$f":"IF(Attendance($C52,'Daily Register'!BG$3:BG$242)=TRUE,\"P\",\"A\")","v":"A"},{"$f":"IF(Attendance($C52,'Daily Register'!BH$3:BH$242)=TRUE,\"P\",\"A\")","v":"A"},{"$f":"IF(Attendance($C52,'Daily Register'!BI$3:BI$242)=TRUE,\"P\",\"A\")","v":"A"},{"$f":"IF(Attendance($C52,'Daily Register'!BJ$3:BJ$242)=TRUE,\"P\",\"A\")","v":"A"},{"$f":"IF(Attendance($C52,'Daily Register'!BK$3:BK$242)=TRUE,\"P\",\"A\")","v":"A"},{"$f":"IF(Attendance($C52,'Daily Register'!BL$3:BL$242)=TRUE,\"P\",\"A\")","v":"A"},{"$f":"IF(Attendance($C52,'Daily Register'!BM$3:BM$242)=TRUE,\"P\",\"A\")","v":"A"},{"$f":"IF(Attendance($C52,'Daily Register'!BN$3:BN$242)=TRUE,\"P\",\"A\")","v":"A"},{"$f":"IF(Attendance($C52,'Daily Register'!BO$3:BO$242)=TRUE,\"P\",\"A\")","v":"A"},{"$f":"IF(Attendance($C52,'Daily Register'!BP$3:BP$242)=TRUE,\"P\",\"A\")","v":"A"},{"$f":"IF(Attendance($C52,'Daily Register'!BQ$3:BQ$242)=TRUE,\"P\",\"A\")","v":"A"},{"$f":"IF(Attendance($C52,'Daily Register'!BR$3:BR$242)=TRUE,\"P\",\"A\")","v":"A"},{"$f":"IF(Attendance($C52,'Daily Register'!BS$3:BS$242)=TRUE,\"P\",\"A\")","v":"A"},{"$f":"IF(Attendance($C52,'Daily Register'!BT$3:BT$242)=TRUE,\"P\",\"A\")","v":"A"},{"$f":"IF(Attendance($C52,'Daily Register'!BU$3:BU$242)=TRUE,\"P\",\"A\")","v":"A"},{"$f":"IF(Attendance($C52,'Daily Register'!BV$3:BV$242)=TRUE,\"P\",\"A\")","v":"A"},{"$f":"IF(Attendance($C52,'Daily Register'!BW$3:BW$242)=TRUE,\"P\",\"A\")","v":"A"},{"$f":"IF(Attendance($C52,'Daily Register'!BX$3:BX$242)=TRUE,\"P\",\"A\")","v":"A"},{"$f":"IF(Attendance($C52,'Daily Register'!BY$3:BY$242)=TRUE,\"P\",\"A\")","v":"A"},{"$f":"IF(Attendance($C52,'Daily Register'!BZ$3:BZ$242)=TRUE,\"P\",\"A\")","v":"A"},{"$f":"IF(Attendance($C52,'Daily Register'!CA$3:CA$242)=TRUE,\"P\",\"A\")","v":"A"},{"$f":"IF(Attendance($C52,'Daily Register'!CB$3:CB$242)=TRUE,\"P\",\"A\")","v":"A"},{"$f":"IF(Attendance($C52,'Daily Register'!CC$3:CC$242)=TRUE,\"P\",\"A\")","v":"A"},{"$f":"IF(Attendance($C52,'Daily Register'!CD$3:CD$242)=TRUE,\"P\",\"A\")","v":"A"},{"$f":"IF(Attendance($C52,'Daily Register'!CE$3:CE$242)=TRUE,\"P\",\"A\")","v":"A"},{"$f":"IF(Attendance($C52,'Daily Register'!CF$3:CF$242)=TRUE,\"P\",\"A\")","v":"A"},{"$f":"IF(Attendance($C52,'Daily Register'!CG$3:CG$242)=TRUE,\"P\",\"A\")","v":"A"},{"$f":"IF(Attendance($C52,'Daily Register'!CH$3:CH$242)=TRUE,\"P\",\"A\")","v":"A"},{"$f":"IF(Attendance($C52,'Daily Register'!CI$3:CI$242)=TRUE,\"P\",\"A\")","v":"A"},{"$f":"IF(Attendance($C52,'Daily Register'!CJ$3:CJ$242)=TRUE,\"P\",\"A\")","v":"A"},{"$f":"IF(Attendance($C52,'Daily Register'!CK$3:CK$242)=TRUE,\"P\",\"A\")","v":"A"},{"$f":"IF(Attendance($C52,'Daily Register'!CL$3:CL$242)=TRUE,\"P\",\"A\")","v":"A"},{"$f":"IF(Attendance($C52,'Daily Register'!CM$3:CM$242)=TRUE,\"P\",\"A\")","v":"A"},{"$f":"IF(Attendance($C52,'Daily Register'!CN$3:CN$242)=TRUE,\"P\",\"A\")","v":"A"},{"$f":"IF(Attendance($C52,'Daily Register'!CO$3:CO$242)=TRUE,\"P\",\"A\")","v":"A"},{"$f":"IF(Attendance($C52,'Daily Register'!CP$3:CP$242)=TRUE,\"P\",\"A\")","v":"A"},{"$f":"IF(Attendance($C52,'Daily Register'!CQ$3:CQ$242)=TRUE,\"P\",\"A\")","v":"A"},{"$f":"IF(Attendance($C52,'Daily Register'!CR$3:CR$242)=TRUE,\"P\",\"A\")","v":"A"},{"$f":"IF(Attendance($C52,'Daily Register'!CS$3:CS$242)=TRUE,\"P\",\"A\")","v":"A"},{"$f":"IF(Attendance($C52,'Daily Register'!CT$3:CT$242)=TRUE,\"P\",\"A\")","v":"A"},{"$f":"IF(Attendance($C52,'Daily Register'!CU$3:CU$242)=TRUE,\"P\",\"A\")","v":"A"},{"$f":"IF(Attendance($C52,'Daily Register'!CV$3:CV$242)=TRUE,\"P\",\"A\")","v":"A"},{"$f":"IF(Attendance($C52,'Daily Register'!CW$3:CW$242)=TRUE,\"P\",\"A\")","v":"A"},{"$f":"IF(Attendance($C52,'Daily Register'!CX$3:CX$242)=TRUE,\"P\",\"A\")","v":"A"},{"$f":"IF(Attendance($C52,'Daily Register'!CY$3:CY$242)=TRUE,\"P\",\"A\")","v":"A"},{"$f":"IF(Attendance($C52,'Daily Register'!CZ$3:CZ$242)=TRUE,\"P\",\"A\")","v":"A"},{"$f":"IF(Attendance($C52,'Daily Register'!DA$3:DA$242)=TRUE,\"P\",\"A\")","v":"A"},{"$f":"IF(Attendance($C52,'Daily Register'!DB$3:DB$242)=TRUE,\"P\",\"A\")","v":"A"},{"$f":"IF(Attendance($C52,'Daily Register'!DC$3:DC$242)=TRUE,\"P\",\"A\")","v":"A"},{"$f":"IF(Attendance($C52,'Daily Register'!DD$3:DD$242)=TRUE,\"P\",\"A\")","v":"A"},{"$f":"IF(Attendance($C52,'Daily Register'!DE$3:DE$242)=TRUE,\"P\",\"A\")","v":"A"},{"$f":"IF(Attendance($C52,'Daily Register'!DF$3:DF$242)=TRUE,\"P\",\"A\")","v":"A"},{"$f":"IF(Attendance($C52,'Daily Register'!DG$3:DG$242)=TRUE,\"P\",\"A\")","v":"A"},{"$f":"IF(Attendance($C52,'Daily Register'!DH$3:DH$242)=TRUE,\"P\",\"A\")","v":"A"},{"$f":"IF(Attendance($C52,'Daily Register'!DI$3:DI$242)=TRUE,\"P\",\"A\")","v":"A"},{"$f":"IF(Attendance($C52,'Daily Register'!DJ$3:DJ$242)=TRUE,\"P\",\"A\")","v":"A"},{"$f":"IF(Attendance($C52,'Daily Register'!DK$3:DK$242)=TRUE,\"P\",\"A\")","v":"A"},{"$f":"IF(Attendance($C52,'Daily Register'!DL$3:DL$242)=TRUE,\"P\",\"A\")","v":"A"},{"$f":"IF(Attendance($C52,'Daily Register'!DM$3:DM$242)=TRUE,\"P\",\"A\")","v":"A"},{"$f":"IF(Attendance($C52,'Daily Register'!DN$3:DN$242)=TRUE,\"P\",\"A\")","v":"A"},{"$f":"IF(Attendance($C52,'Daily Register'!DO$3:DO$242)=TRUE,\"P\",\"A\")","v":"A"},{"$f":"IF(Attendance($C52,'Daily Register'!DP$3:DP$242)=TRUE,\"P\",\"A\")","v":"A"},{"$f":"IF(Attendance($C52,'Daily Register'!DQ$3:DQ$242)=TRUE,\"P\",\"A\")","v":"A"},{"$f":"IF(Attendance($C52,'Daily Register'!DR$3:DR$242)=TRUE,\"P\",\"A\")","v":"A"},{"$f":"IF(Attendance($C52,'Daily Register'!DS$3:DS$242)=TRUE,\"P\",\"A\")","v":"A"},{"$f":"IF(Attendance($C52,'Daily Register'!DT$3:DT$242)=TRUE,\"P\",\"A\")","v":"A"},{"$f":"IF(Attendance($C52,'Daily Register'!DU$3:DU$242)=TRUE,\"P\",\"A\")","v":"A"},{"$f":"IF(Attendance($C52,'Daily Register'!DV$3:DV$242)=TRUE,\"P\",\"A\")","v":"A"},{"$f":"IF(Attendance($C52,'Daily Register'!DW$3:DW$242)=TRUE,\"P\",\"A\")","v":"A"},{"$f":"IF(Attendance($C52,'Daily Register'!DX$3:DX$242)=TRUE,\"P\",\"A\")","v":"A"},{"$f":"IF(Attendance($C52,'Daily Register'!DY$3:DY$242)=TRUE,\"P\",\"A\")","v":"A"},{"$f":"IF(Attendance($C52,'Daily Register'!DZ$3:DZ$242)=TRUE,\"P\",\"A\")","v":"A"},{"$f":"IF(Attendance($C52,'Daily Register'!EA$3:EA$242)=TRUE,\"P\",\"A\")","v":"A"},{"$f":"IF(Attendance($C52,'Daily Register'!EB$3:EB$242)=TRUE,\"P\",\"A\")","v":"A"},{"$f":"IF(Attendance($C52,'Daily Register'!EC$3:EC$242)=TRUE,\"P\",\"A\")","v":"A"},{"$f":"IF(Attendance($C52,'Daily Register'!ED$3:ED$242)=TRUE,\"P\",\"A\")","v":"A"},{"$f":"IF(Attendance($C52,'Daily Register'!EE$3:EE$242)=TRUE,\"P\",\"A\")","v":"A"},{"$f":"IF(Attendance($C52,'Daily Register'!EF$3:EF$242)=TRUE,\"P\",\"A\")","v":"A"},{"$f":"IF(Attendance($C52,'Daily Register'!EG$3:EG$242)=TRUE,\"P\",\"A\")","v":"A"},{"$f":"IF(Attendance($C52,'Daily Register'!EH$3:EH$242)=TRUE,\"P\",\"A\")","v":"A"},{"$f":"IF(Attendance($C52,'Daily Register'!EI$3:EI$242)=TRUE,\"P\",\"A\")","v":"A"},{"$f":"IF(Attendance($C52,'Daily Register'!EJ$3:EJ$242)=TRUE,\"P\",\"A\")","v":"A"},{"$f":"IF(Attendance($C52,'Daily Register'!EK$3:EK$242)=TRUE,\"P\",\"A\")","v":"A"},{"$f":"IF(Attendance($C52,'Daily Register'!EL$3:EL$242)=TRUE,\"P\",\"A\")","v":"A"},{"$f":"IF(Attendance($C52,'Daily Register'!EM$22:EM$242)=TRUE,\"P\",\"A\")","v":"A"},{"$f":"IF(Attendance($C52,'Daily Register'!EN$3:EN$242)=TRUE,\"P\",\"A\")","v":"A"},{"$f":"IF(Attendance($C52,'Daily Register'!EO$3:EO$242)=TRUE,\"P\",\"A\")","v":"A"},{"$f":"IF(Attendance($C52,'Daily Register'!EP$3:EP$242)=TRUE,\"P\",\"A\")","v":"A"},{"$f":"IF(Attendance($C52,'Daily Register'!EQ$3:EQ$242)=TRUE,\"P\",\"A\")","v":"A"},{"$f":"IF(Attendance($C52,'Daily Register'!ER$3:ER$242)=TRUE,\"P\",\"A\")","v":"A"},{"$f":"IF(Attendance($C52,'Daily Register'!ES$3:ES$242)=TRUE,\"P\",\"A\")","v":"A"},{"$f":"IF(Attendance($C52,'Daily Register'!ET$3:ET$242)=TRUE,\"P\",\"A\")","v":"A"},{"$f":"IF(Attendance($C52,'Daily Register'!EU$3:EU$242)=TRUE,\"P\",\"A\")","v":"A"},{"$f":"IF(Attendance($C52,'Daily Register'!EV$3:EV$242)=TRUE,\"P\",\"A\")","v":"A"},{"$f":"IF(Attendance($C52,'Daily Register'!EW$3:EW$242)=TRUE,\"P\",\"A\")","v":"A"},{"$f":"IF(Attendance($C52,'Daily Register'!EX$3:EX$242)=TRUE,\"P\",\"A\")","v":"A"},{"$f":"IF(Attendance($C52,'Daily Register'!EY$3:EY$242)=TRUE,\"P\",\"A\")","v":"A"},{"$f":"IF(Attendance($C52,'Daily Register'!EZ$3:EZ$242)=TRUE,\"P\",\"A\")","v":"A"},{"$f":"IF(Attendance($C52,'Daily Register'!FA$3:FA$242)=TRUE,\"P\",\"A\")","v":"A"},{"$f":"IF(Attendance($C52,'Daily Register'!FB$3:FB$242)=TRUE,\"P\",\"A\")","v":"A"},{"$f":"IF(Attendance($C52,'Daily Register'!FC$3:FC$242)=TRUE,\"P\",\"A\")","v":"A"},{"$f":"IF(Attendance($C52,'Daily Register'!FD$3:FD$242)=TRUE,\"P\",\"A\")","v":"A"},{"$f":"IF(Attendance($C52,'Daily Register'!FE$3:FE$242)=TRUE,\"P\",\"A\")","v":"A"},{"$f":"IF(Attendance($C52,'Daily Register'!FF$3:FF$242)=TRUE,\"P\",\"A\")","v":"A"},{"$f":"IF(Attendance($C52,'Daily Register'!FG$3:FG$242)=TRUE,\"P\",\"A\")","v":"A"},{"$f":"IF(Attendance($C52,'Daily Register'!FH$3:FH$242)=TRUE,\"P\",\"A\")","v":"A"},{"$f":"IF(Attendance($C52,'Daily Register'!FI$3:FI$242)=TRUE,\"P\",\"A\")","v":"A"},{"$f":"IF(Attendance($C52,'Daily Register'!FJ$3:FJ$242)=TRUE,\"P\",\"A\")","v":"A"},{"$f":"IF(Attendance($C52,'Daily Register'!FK$3:FK$242)=TRUE,\"P\",\"A\")","v":"A"},{"$f":"IF(Attendance($C52,'Daily Register'!FL$3:FL$242)=TRUE,\"P\",\"A\")","v":"A"},{"$f":"IF(Attendance($C52,'Daily Register'!FM$3:FM$242)=TRUE,\"P\",\"A\")","v":"A"},{"$f":"IF(Attendance($C52,'Daily Register'!FN$3:FN$242)=TRUE,\"P\",\"A\")","v":"A"},{"$f":"IF(Attendance($C52,'Daily Register'!FO$3:FO$242)=TRUE,\"P\",\"A\")","v":"A"},{"$f":"IF(Attendance($C52,'Daily Register'!FP$3:FP$242)=TRUE,\"P\",\"A\")","v":"A"},{"$f":"IF(Attendance($C52,'Daily Register'!FQ$3:FQ$242)=TRUE,\"P\",\"A\")","v":"A"},{"$f":"IF(Attendance($C52,'Daily Register'!FR$3:FR$242)=TRUE,\"P\",\"A\")","v":"A"},{"$f":"IF(Attendance($C52,'Daily Register'!FS$3:FS$242)=TRUE,\"P\",\"A\")","v":"A"},{"$f":"IF(Attendance($C52,'Daily Register'!FT$3:FT$242)=TRUE,\"P\",\"A\")","v":"A"},{"$f":"IF(Attendance($C52,'Daily Register'!FU$3:FU$242)=TRUE,\"P\",\"A\")","v":"A"},{"$f":"IF(Attendance($C52,'Daily Register'!FV$3:FV$242)=TRUE,\"P\",\"A\")","v":"A"},{"$f":"IF(Attendance($C52,'Daily Register'!FW$3:FW$242)=TRUE,\"P\",\"A\")","v":"A"},{"$f":"IF(Attendance($C52,'Daily Register'!FX$3:FX$242)=TRUE,\"P\",\"A\")","v":"A"},{"$f":"IF(Attendance($C52,'Daily Register'!FY$3:FY$242)=TRUE,\"P\",\"A\")","v":"A"},{"$f":"IF(Attendance($C52,'Daily Register'!FZ$3:FZ$242)=TRUE,\"P\",\"A\")","v":"A"},{"$f":"IF(Attendance($C52,'Daily Register'!GA$3:GA$242)=TRUE,\"P\",\"A\")","v":"A"},{"$f":"IF(Attendance($C52,'Daily Register'!GB$3:GB$242)=TRUE,\"P\",\"A\")","v":"A"},{"$f":"IF(Attendance($C52,'Daily Register'!GC$3:GC$242)=TRUE,\"P\",\"A\")","v":"A"},{"$f":"IF(Attendance($C52,'Daily Register'!GD$3:GD$242)=TRUE,\"P\",\"A\")","v":"A"},{"$f":"IF(Attendance($C52,'Daily Register'!GE$3:GE$242)=TRUE,\"P\",\"A\")","v":"A"},{"$f":"IF(Attendance($C52,'Daily Register'!GF$3:GF$242)=TRUE,\"P\",\"A\")","v":"A"},{"$f":"IF(Attendance($C52,'Daily Register'!GG$3:GG$242)=TRUE,\"P\",\"A\")","v":"A"},{"$f":"IF(Attendance($C52,'Daily Register'!GH$3:GH$242)=TRUE,\"P\",\"A\")","v":"A"},{"$f":"IF(Attendance($C52,'Daily Register'!GI$3:GI$242)=TRUE,\"P\",\"A\")","v":"A"},{"$f":"IF(Attendance($C52,'Daily Register'!GJ$3:GJ$242)=TRUE,\"P\",\"A\")","v":"A"},{"$f":"IF(Attendance($C52,'Daily Register'!GK$3:GK$242)=TRUE,\"P\",\"A\")","v":"A"},{"$f":"IF(Attendance($C52,'Daily Register'!GL$3:GL$242)=TRUE,\"P\",\"A\")","v":"A"},{"$f":"IF(Attendance($C52,'Daily Register'!GM$3:GM$242)=TRUE,\"P\",\"A\")","v":"A"},{"$f":"IF(Attendance($C52,'Daily Register'!GN$3:GN$242)=TRUE,\"P\",\"A\")","v":"A"},{"$f":"IF(Attendance($C52,'Daily Register'!GO$3:GO$242)=TRUE,\"P\",\"A\")","v":"A"},{"$f":"IF(Attendance($C52,'Daily Register'!GP$3:GP$242)=TRUE,\"P\",\"A\")","v":"A"},{"$f":"IF(Attendance($C52,'Daily Register'!GQ$3:GQ$242)=TRUE,\"P\",\"A\")","v":"A"},{"$f":"IF(Attendance($C52,'Daily Register'!GR$3:GR$242)=TRUE,\"P\",\"A\")","v":"A"},{"$f":"IF(Attendance($C52,'Daily Register'!GS$3:GS$242)=TRUE,\"P\",\"A\")","v":"A"},{"$f":"IF(Attendance($C52,'Daily Register'!GT$3:GT$242)=TRUE,\"P\",\"A\")","v":"A"},{"$f":"IF(Attendance($C52,'Daily Register'!GU$3:GU$242)=TRUE,\"P\",\"A\")","v":"A"},{"$f":"IF(Attendance($C52,'Daily Register'!GV$3:GV$242)=TRUE,\"P\",\"A\")","v":"A"},{"$f":"IF(Attendance($C52,'Daily Register'!GW$3:GW$242)=TRUE,\"P\",\"A\")","v":"A"},{"$f":"IF(Attendance($C52,'Daily Register'!GX$3:GX$242)=TRUE,\"P\",\"A\")","v":"A"},{"$f":"IF(Attendance($C52,'Daily Register'!GY$3:GY$242)=TRUE,\"P\",\"A\")","v":"A"},{"$f":"IF(Attendance($C52,'Daily Register'!GZ$3:GZ$242)=TRUE,\"P\",\"A\")","v":"A"},{"$f":"IF(Attendance($C52,'Daily Register'!HA$3:HA$242)=TRUE,\"P\",\"A\")","v":"A"},{"$f":"IF(Attendance($C52,'Daily Register'!HB$3:HB$242)=TRUE,\"P\",\"A\")","v":"A"},{"$f":"IF(Attendance($C52,'Daily Register'!HC$3:HC$242)=TRUE,\"P\",\"A\")","v":"A"},{"$f":"IF(Attendance($C52,'Daily Register'!HD$3:HD$242)=TRUE,\"P\",\"A\")","v":"A"},{"$f":"IF(Attendance($C52,'Daily Register'!HE$3:HE$242)=TRUE,\"P\",\"A\")","v":"A"},{"$f":"IF(Attendance($C52,'Daily Register'!HF$3:HF$242)=TRUE,\"P\",\"A\")","v":"A"},{"$f":"IF(Attendance($C52,'Daily Register'!HG$3:HG$242)=TRUE,\"P\",\"A\")","v":"A"},{"$f":"IF(Attendance($C52,'Daily Register'!HH$3:HH$242)=TRUE,\"P\",\"A\")","v":"A"},{"$f":"IF(Attendance($C52,'Daily Register'!HI$3:HI$242)=TRUE,\"P\",\"A\")","v":"A"},{"$f":"IF(Attendance($C52,'Daily Register'!HJ$3:HJ$242)=TRUE,\"P\",\"A\")","v":"A"},{"$f":"IF(Attendance($C52,'Daily Register'!HK$3:HK$242)=TRUE,\"P\",\"A\")","v":"A"},{"$f":"IF(Attendance($C52,'Daily Register'!HL$3:HL$242)=TRUE,\"P\",\"A\")","v":"A"},{"$f":"IF(Attendance($C52,'Daily Register'!HM$3:HM$242)=TRUE,\"P\",\"A\")","v":"A"},{"$f":"IF(Attendance($C52,'Daily Register'!HN$3:HN$242)=TRUE,\"P\",\"A\")","v":"A"},{"$f":"IF(Attendance($C52,'Daily Register'!HO$3:HO$242)=TRUE,\"P\",\"A\")","v":"A"},{"$f":"IF(Attendance($C52,'Daily Register'!HP$3:HP$242)=TRUE,\"P\",\"A\")","v":"A"},{"$f":"IF(Attendance($C52,'Daily Register'!HQ$3:HQ$242)=TRUE,\"P\",\"A\")","v":"A"},{"$f":"IF(Attendance($C52,'Daily Register'!HR$3:HR$242)=TRUE,\"P\",\"A\")","v":"A"},{"$f":"IF(Attendance($C52,'Daily Register'!HS$3:HS$242)=TRUE,\"P\",\"A\")","v":"A"},{"$f":"IF(Attendance($C52,'Daily Register'!HT$3:HT$242)=TRUE,\"P\",\"A\")","v":"A"},{"$f":"IF(Attendance($C52,'Daily Register'!HU$3:HU$242)=TRUE,\"P\",\"A\")","v":"A"},{"$f":"IF(Attendance($C52,'Daily Register'!HV$3:HV$242)=TRUE,\"P\",\"A\")","v":"A"},{"$f":"IF(Attendance($C52,'Daily Register'!HW$3:HW$242)=TRUE,\"P\",\"A\")","v":"A"},{"$f":"IF(Attendance($C52,'Daily Register'!HX$3:HX$242)=TRUE,\"P\",\"A\")","v":"A"},{"$f":"IF(Attendance($C52,'Daily Register'!HY$3:HY$242)=TRUE,\"P\",\"A\")","v":"A"},{"$f":"IF(Attendance($C52,'Daily Register'!HZ$3:HZ$242)=TRUE,\"P\",\"A\")","v":"A"},{"$f":"IF(Attendance($C52,'Daily Register'!IA$3:IA$242)=TRUE,\"P\",\"A\")","v":"A"},{"$f":"IF(Attendance($C52,'Daily Register'!IB$3:IB$242)=TRUE,\"P\",\"A\")","v":"A"},{"$f":"IF(Attendance($C52,'Daily Register'!IC$3:IC$242)=TRUE,\"P\",\"A\")","v":"A"},{"$f":"IF(Attendance($C52,'Daily Register'!ID$3:ID$242)=TRUE,\"P\",\"A\")","v":"A"},{"$f":"IF(Attendance($C52,'Daily Register'!IE$3:IE$242)=TRUE,\"P\",\"A\")","v":"A"},{"$f":"IF(Attendance($C52,'Daily Register'!IF$3:IF$242)=TRUE,\"P\",\"A\")","v":"A"},{"$f":"IF(Attendance($C52,'Daily Register'!IG$3:IG$242)=TRUE,\"P\",\"A\")","v":"A"},{"$f":"IF(Attendance($C52,'Daily Register'!IH$3:IH$242)=TRUE,\"P\",\"A\")","v":"A"},{"$f":"IF(Attendance($C52,'Daily Register'!II$3:II$242)=TRUE,\"P\",\"A\")","v":"A"},{"$f":"IF(Attendance($C52,'Daily Register'!IJ$3:IJ$242)=TRUE,\"P\",\"A\")","v":"A"},{"$f":"IF(Attendance($C52,'Daily Register'!IK$3:IK$242)=TRUE,\"P\",\"A\")","v":"A"},{"$f":"IF(Attendance($C52,'Daily Register'!IL$3:IL$242)=TRUE,\"P\",\"A\")","v":"A"},{"$f":"IF(Attendance($C52,'Daily Register'!IM$3:IM$242)=TRUE,\"P\",\"A\")","v":"A"},{"$f":"IF(Attendance($C52,'Daily Register'!IN$3:IN$242)=TRUE,\"P\",\"A\")","v":"A"},{"$f":"IF(Attendance($C52,'Daily Register'!IO$3:IO$242)=TRUE,\"P\",\"A\")","v":"A"},{"$f":"IF(Attendance($C52,'Daily Register'!IP$3:IP$242)=TRUE,\"P\",\"A\")","v":"A"},{"$f":"IF(Attendance($C52,'Daily Register'!IQ$3:IQ$242)=TRUE,\"P\",\"A\")","v":"A"},{"$f":"IF(Attendance($C52,'Daily Register'!IR$3:IR$242)=TRUE,\"P\",\"A\")","v":"A"},{"$f":"IF(Attendance($C52,'Daily Register'!IS$3:IS$242)=TRUE,\"P\",\"A\")","v":"A"},{"$f":"IF(Attendance($C52,'Daily Register'!IT$3:IT$242)=TRUE,\"P\",\"A\")","v":"A"},{"$f":"IF(Attendance($C52,'Daily Register'!IU$3:IU$242)=TRUE,\"P\",\"A\")","v":"A"},{"$f":"IF(Attendance($C52,'Daily Register'!IV$3:IV$242)=TRUE,\"P\",\"A\")","v":"A"},{"$f":"IF(Attendance($C52,'Daily Register'!IW$3:IW$242)=TRUE,\"P\",\"A\")","v":"A"},{"$f":"IF(Attendance($C52,'Daily Register'!IX$3:IX$242)=TRUE,\"P\",\"A\")","v":"A"},{"$f":"IF(Attendance($C52,'Daily Register'!IY$3:IY$242)=TRUE,\"P\",\"A\")","v":"A"},{"$f":"IF(Attendance($C52,'Daily Register'!IZ$3:IZ$242)=TRUE,\"P\",\"A\")","v":"A"},{"$f":"IF(Attendance($C52,'Daily Register'!JA$3:JA$242)=TRUE,\"P\",\"A\")","v":"A"},{"$f":"IF(Attendance($C52,'Daily Register'!JB$3:JB$242)=TRUE,\"P\",\"A\")","v":"A"},{"$f":"IF(Attendance($C52,'Daily Register'!JC$3:JC$242)=TRUE,\"P\",\"A\")","v":"A"},{"$f":"IF(Attendance($C52,'Daily Register'!JD$3:JD$242)=TRUE,\"P\",\"A\")","v":"A"},{"$f":"IF(Attendance($C52,'Daily Register'!JE$3:JE$242)=TRUE,\"P\",\"A\")","v":"A"},{"$f":"IF(Attendance($C52,'Daily Register'!JF$3:JF$242)=TRUE,\"P\",\"A\")","v":"A"},{"$f":"IF(Attendance($C52,'Daily Register'!JG$3:JG$242)=TRUE,\"P\",\"A\")","v":"A"},{"$f":"IF(Attendance($C52,'Daily Register'!JH$3:JH$242)=TRUE,\"P\",\"A\")","v":"A"},{"$f":"IF(Attendance($C52,'Daily Register'!JI$3:JI$242)=TRUE,\"P\",\"A\")","v":"A"},{"$f":"IF(Attendance($C52,'Daily Register'!JJ$3:JJ$242)=TRUE,\"P\",\"A\")","v":"A"},{"$f":"IF(Attendance($C52,'Daily Register'!JK$3:JK$242)=TRUE,\"P\",\"A\")","v":"A"},{"$f":"IF(Attendance($C52,'Daily Register'!JL$3:JL$242)=TRUE,\"P\",\"A\")","v":"A"},{"$f":"IF(Attendance($C52,'Daily Register'!JM$3:JM$242)=TRUE,\"P\",\"A\")","v":"A"},{"$f":"IF(Attendance($C52,'Daily Register'!JN$3:JN$242)=TRUE,\"P\",\"A\")","v":"A"},{"$f":"IF(Attendance($C52,'Daily Register'!JO$3:JO$242)=TRUE,\"P\",\"A\")","v":"A"},{"$f":"IF(Attendance($C52,'Daily Register'!JP$3:JP$242)=TRUE,\"P\",\"A\")","v":"A"},{"$f":"IF(Attendance($C52,'Daily Register'!JQ$3:JQ$242)=TRUE,\"P\",\"A\")","v":"A"},{"$f":"IF(Attendance($C52,'Daily Register'!JR$3:JR$242)=TRUE,\"P\",\"A\")","v":"A"},{"$f":"IF(Attendance($C52,'Daily Register'!JS$3:JS$242)=TRUE,\"P\",\"A\")","v":"A"},{"$f":"IF(Attendance($C52,'Daily Register'!JT$3:JT$242)=TRUE,\"P\",\"A\")","v":"A"},{"$f":"IF(Attendance($C52,'Daily Register'!JU$3:JU$242)=TRUE,\"P\",\"A\")","v":"A"},{"$f":"IF(Attendance($C52,'Daily Register'!JV$3:JV$242)=TRUE,\"P\",\"A\")","v":"A"},{"$f":"IF(Attendance($C52,'Daily Register'!JW$3:JW$242)=TRUE,\"P\",\"A\")","v":"A"},{"$f":"IF(Attendance($C52,'Daily Register'!JX$3:JX$242)=TRUE,\"P\",\"A\")","v":"A"},{"$f":"IF(Attendance($C52,'Daily Register'!JY$3:JY$242)=TRUE,\"P\",\"A\")","v":"A"},{"$f":"IF(Attendance($C52,'Daily Register'!JZ$3:JZ$242)=TRUE,\"P\",\"A\")","v":"A"},{"$f":"IF(Attendance($C52,'Daily Register'!KA$3:KA$242)=TRUE,\"P\",\"A\")","v":"A"},{"$f":"IF(Attendance($C52,'Daily Register'!KB$3:KB$242)=TRUE,\"P\",\"A\")","v":"A"},{"$f":"IF(Attendance($C52,'Daily Register'!KC$3:KC$242)=TRUE,\"P\",\"A\")","v":"A"},{"$f":"IF(Attendance($C52,'Daily Register'!KD$3:KD$242)=TRUE,\"P\",\"A\")","v":"A"},{"$f":"IF(Attendance($C52,'Daily Register'!KE$3:KE$242)=TRUE,\"P\",\"A\")","v":"A"},{"$f":"IF(Attendance($C52,'Daily Register'!KF$3:KF$242)=TRUE,\"P\",\"A\")","v":"A"},{"$f":"IF(Attendance($C52,'Daily Register'!KG$3:KG$242)=TRUE,\"P\",\"A\")","v":"A"},{"$f":"IF(Attendance($C52,'Daily Register'!KH$3:KH$242)=TRUE,\"P\",\"A\")","v":"A"},{"$f":"IF(Attendance($C52,'Daily Register'!KI$3:KI$242)=TRUE,\"P\",\"A\")","v":"A"},{"$f":"IF(Attendance($C52,'Daily Register'!KJ$3:KJ$242)=TRUE,\"P\",\"A\")","v":"A"},{"$f":"IF(Attendance($C52,'Daily Register'!KK$3:KK$242)=TRUE,\"P\",\"A\")","v":"A"},{"$f":"IF(Attendance($C52,'Daily Register'!KL$3:KL$242)=TRUE,\"P\",\"A\")","v":"A"},{"$f":"IF(Attendance($C52,'Daily Register'!KM$3:KM$242)=TRUE,\"P\",\"A\")","v":"A"},{"$f":"IF(Attendance($C52,'Daily Register'!KN$3:KN$242)=TRUE,\"P\",\"A\")","v":"A"},{"$f":"IF(Attendance($C52,'Daily Register'!KO$3:KO$242)=TRUE,\"P\",\"A\")","v":"A"},{"$f":"IF(Attendance($C52,'Daily Register'!KP$3:KP$242)=TRUE,\"P\",\"A\")","v":"A"},{"$f":"IF(Attendance($C52,'Daily Register'!KQ$3:KQ$242)=TRUE,\"P\",\"A\")","v":"A"},{"$f":"IF(Attendance($C52,'Daily Register'!KR$3:KR$242)=TRUE,\"P\",\"A\")","v":"A"},{"$f":"IF(Attendance($C52,'Daily Register'!KS$3:KS$242)=TRUE,\"P\",\"A\")","v":"A"},{"$f":"IF(Attendance($C52,'Daily Register'!KT$3:KT$242)=TRUE,\"P\",\"A\")","v":"A"},{"$f":"IF(Attendance($C52,'Daily Register'!KU$3:KU$242)=TRUE,\"P\",\"A\")","v":"A"},{"$f":"IF(Attendance($C52,'Daily Register'!KV$3:KV$242)=TRUE,\"P\",\"A\")","v":"A"},{"$f":"IF(Attendance($C52,'Daily Register'!KW$3:KW$242)=TRUE,\"P\",\"A\")","v":"A"},{"$f":"IF(Attendance($C52,'Daily Register'!KX$3:KX$242)=TRUE,\"P\",\"A\")","v":"A"},{"$f":"IF(Attendance($C52,'Daily Register'!KY$3:KY$242)=TRUE,\"P\",\"A\")","v":"A"},{"$f":"IF(Attendance($C52,'Daily Register'!KZ$3:KZ$242)=TRUE,\"P\",\"A\")","v":"A"},{"$f":"IF(Attendance($C52,'Daily Register'!LA$3:LA$242)=TRUE,\"P\",\"A\")","v":"A"},{"$f":"IF(Attendance($C52,'Daily Register'!LB$3:LB$242)=TRUE,\"P\",\"A\")","v":"A"},{"$f":"IF(Attendance($C52,'Daily Register'!LC$3:LC$242)=TRUE,\"P\",\"A\")","v":"A"},{"$f":"IF(Attendance($C52,'Daily Register'!LD$3:LD$242)=TRUE,\"P\",\"A\")","v":"A"},{"$f":"IF(Attendance($C52,'Daily Register'!LE$3:LE$242)=TRUE,\"P\",\"A\")","v":"A"},{"$f":"IF(Attendance($C52,'Daily Register'!LF$3:LF$242)=TRUE,\"P\",\"A\")","v":"A"},{"$f":"IF(Attendance($C52,'Daily Register'!LG$3:LG$242)=TRUE,\"P\",\"A\")","v":"A"},{"$f":"IF(Attendance($C52,'Daily Register'!LH$3:LH$242)=TRUE,\"P\",\"A\")","v":"A"},{"$f":"IF(Attendance($C52,'Daily Register'!LI$3:LI$242)=TRUE,\"P\",\"A\")","v":"A"},{"$f":"IF(Attendance($C52,'Daily Register'!LJ$3:LJ$242)=TRUE,\"P\",\"A\")","v":"A"},{"$f":"IF(Attendance($C52,'Daily Register'!LK$3:LK$242)=TRUE,\"P\",\"A\")","v":"A"},{"$f":"IF(Attendance($C52,'Daily Register'!LL$3:LL$242)=TRUE,\"P\",\"A\")","v":"A"},{"$f":"IF(Attendance($C52,'Daily Register'!LM$3:LM$242)=TRUE,\"P\",\"A\")","v":"A"},{"$f":"IF(Attendance($C52,'Daily Register'!LN$3:LN$242)=TRUE,\"P\",\"A\")","v":"A"},{"$f":"IF(Attendance($C52,'Daily Register'!LO$3:LO$242)=TRUE,\"P\",\"A\")","v":"A"},{"$f":"IF(Attendance($C52,'Daily Register'!LP$3:LP$242)=TRUE,\"P\",\"A\")","v":"A"},{"$f":"IF(Attendance($C52,'Daily Register'!LQ$3:LQ$242)=TRUE,\"P\",\"A\")","v":"A"},{"$f":"IF(Attendance($C52,'Daily Register'!LR$3:LR$242)=TRUE,\"P\",\"A\")","v":"A"},{"$f":"IF(Attendance($C52,'Daily Register'!LS$3:LS$242)=TRUE,\"P\",\"A\")","v":"A"},{"$f":"IF(Attendance($C52,'Daily Register'!LT$3:LT$242)=TRUE,\"P\",\"A\")","v":"A"},{"$f":"IF(Attendance($C52,'Daily Register'!LU$3:LU$242)=TRUE,\"P\",\"A\")","v":"A"},{"$f":"IF(Attendance($C52,'Daily Register'!LV$3:LV$242)=TRUE,\"P\",\"A\")","v":"A"},{"$f":"IF(Attendance($C52,'Daily Register'!LW$3:LW$242)=TRUE,\"P\",\"A\")","v":"A"},{"$f":"IF(Attendance($C52,'Daily Register'!LX$3:LX$242)=TRUE,\"P\",\"A\")","v":"A"},{"$f":"IF(Attendance($C52,'Daily Register'!LY$3:LY$242)=TRUE,\"P\",\"A\")","v":"A"},{"$f":"IF(Attendance($C52,'Daily Register'!LZ$3:LZ$242)=TRUE,\"P\",\"A\")","v":"A"},{"$f":"IF(Attendance($C52,'Daily Register'!MA$3:MA$242)=TRUE,\"P\",\"A\")","v":"A"},{"$f":"IF(Attendance($C52,'Daily Register'!MB$3:MB$242)=TRUE,\"P\",\"A\")","v":"A"},{"$f":"IF(Attendance($C52,'Daily Register'!MC$3:MC$242)=TRUE,\"P\",\"A\")","v":"A"},{"$f":"IF(Attendance($C52,'Daily Register'!MD$3:MD$242)=TRUE,\"P\",\"A\")","v":"A"},{"$f":"IF(Attendance($C52,'Daily Register'!ME$3:ME$242)=TRUE,\"P\",\"A\")","v":"A"},{"$f":"IF(Attendance($C52,'Daily Register'!MF$3:MF$242)=TRUE,\"P\",\"A\")","v":"A"},{"$f":"IF(Attendance($C52,'Daily Register'!MG$3:MG$242)=TRUE,\"P\",\"A\")","v":"A"},{"$f":"IF(Attendance($C52,'Daily Register'!MH$3:MH$242)=TRUE,\"P\",\"A\")","v":"A"},{"$f":"IF(Attendance($C52,'Daily Register'!MI$3:MI$242)=TRUE,\"P\",\"A\")","v":"A"},{"$f":"IF(Attendance($C52,'Daily Register'!MJ$3:MJ$242)=TRUE,\"P\",\"A\")","v":"A"},{"$f":"IF(Attendance($C52,'Daily Register'!MK$3:MK$242)=TRUE,\"P\",\"A\")","v":"A"},{"$f":"IF(Attendance($C52,'Daily Register'!ML$3:ML$242)=TRUE,\"P\",\"A\")","v":"A"},{"$f":"IF(Attendance($C52,'Daily Register'!MM$3:MM$242)=TRUE,\"P\",\"A\")","v":"A"},{"$f":"IF(Attendance($C52,'Daily Register'!MN$3:MN$242)=TRUE,\"P\",\"A\")","v":"A"},{"$f":"IF(Attendance($C52,'Daily Register'!MO$3:MO$242)=TRUE,\"P\",\"A\")","v":"A"},{"$f":"IF(Attendance($C52,'Daily Register'!MP$3:MP$242)=TRUE,\"P\",\"A\")","v":"A"},{"$f":"IF(Attendance($C52,'Daily Register'!MQ$3:MQ$242)=TRUE,\"P\",\"A\")","v":"A"},{"$f":"IF(Attendance($C52,'Daily Register'!MR$3:MR$242)=TRUE,\"P\",\"A\")","v":"A"},{"$f":"IF(Attendance($C52,'Daily Register'!MS$3:MS$242)=TRUE,\"P\",\"A\")","v":"A"},{"$f":"IF(Attendance($C52,'Daily Register'!MT$3:MT$242)=TRUE,\"P\",\"A\")","v":"A"},{"$f":"IF(Attendance($C52,'Daily Register'!MU$3:MU$242)=TRUE,\"P\",\"A\")","v":"A"},{"$f":"IF(Attendance($C52,'Daily Register'!MV$3:MV$242)=TRUE,\"P\",\"A\")","v":"A"},{"$f":"IF(Attendance($C52,'Daily Register'!MW$3:MW$242)=TRUE,\"P\",\"A\")","v":"A"},{"$f":"IF(Attendance($C52,'Daily Register'!MX$3:MX$242)=TRUE,\"P\",\"A\")","v":"A"},{"$f":"IF(Attendance($C52,'Daily Register'!MY$3:MY$242)=TRUE,\"P\",\"A\")","v":"A"},{"$f":"IF(Attendance($C52,'Daily Register'!MZ$3:MZ$242)=TRUE,\"P\",\"A\")","v":"A"},{"$f":"IF(Attendance($C52,'Daily Register'!NA$3:NA$242)=TRUE,\"P\",\"A\")","v":"A"},{"$f":"IF(Attendance($C52,'Daily Register'!NB$3:NB$242)=TRUE,\"P\",\"A\")","v":"A"}]
[0,null,50,null,{"$f":"IF(Attendance($C53,'Daily Register'!A$3:A$242)=TRUE,\"P\",\"A\")","v":"A"},{"$f":"IF(Attendance($C53,'Daily Register'!B$3:B$242)=TRUE,\"P\",\"A\")","v":"A"},{"$f":"IF(Attendance($C53,'Daily Register'!C$3:C$242)=TRUE,\"P\",\"A\")","v":"A"},{"$f":"IF(Attendance($C53,'Daily Register'!D$3:D$242)=TRUE,\"P\",\"A\")","v":"A"},{"$f":"IF(Attendance($C53,'Daily Register'!E$3:E$242)=TRUE,\"P\",\"A\")","v":"A"},{"$f":"IF(Attendance($C53,'Daily Register'!F$3:F$242)=TRUE,\"P\",\"A\")","v":"A"},{"$f":"IF(Attendance($C53,'Daily Register'!G$3:G$242)=TRUE,\"P\",\"A\")","v":"A"},{"$f":"IF(Attendance($C53,'Daily Register'!H$3:H$242)=TRUE,\"P\",\"A\")","v":"A"},{"$f":"IF(Attendance($C53,'Daily Register'!I$3:I$242)=TRUE,\"P\",\"A\")","v":"A"},{"$f":"IF(Attendance($C53,'Daily Register'!J$3:J$242)=TRUE,\"P\",\"A\")","v":"A"},{"$f":"IF(Attendance($C53,'Daily Register'!K$3:K$242)=TRUE,\"P\",\"A\")","v":"A"},{"$f":"IF(Attendance($C53,'Daily Register'!L$3:L$242)=TRUE,\"P\",\"A\")","v":"A"},{"$f":"IF(Attendance($C53,'Daily Register'!M$3:M$242)=TRUE,\"P\",\"A\")","v":"A"},{"$f":"IF(Attendance($C53,'Daily Register'!N$3:N$242)=TRUE,\"P\",\"A\")","v":"A"},{"$f":"IF(Attendance($C53,'Daily Register'!O$3:O$242)=TRUE,\"P\",\"A\")","v":"A"},{"$f":"IF(Attendance($C53,'Daily Register'!P$3:P$242)=TRUE,\"P\",\"A\")","v":"A"},{"$f":"IF(Attendance($C53,'Daily Register'!Q$3:Q$242)=TRUE,\"P\",\"A\")","v":"A"},{"$f":"IF(Attendance($C53,'Daily Register'!R$3:R$242)=TRUE,\"P\",\"A\")","v":"A"},{"$f":"IF(Attendance($C53,'Daily Register'!S$3:S$242)=TRUE,\"P\",\"A\")","v":"A"},{"$f":"IF(Attendance($C53,'Daily Register'!T$3:T$242)=TRUE,\"P\",\"A\")","v":"A"},{"$f":"IF(Attendance($C53,'Daily Register'!U$3:U$242)=TRUE,\"P\",\"A\")","v":"A"},{"$f":"IF(Attendance($C53,'Daily Register'!V$3:V$242)=TRUE,\"P\",\"A\")","v":"A"},{"$f":"IF(Attendance($C53,'Daily Register'!W$3:W$242)=TRUE,\"P\",\"A\")","v":"A"},{"$f":"IF(Attendance($C53,'Daily Register'!X$3:X$242)=TRUE,\"P\",\"A\")","v":"A"},{"$f":"IF(Attendance($C53,'Daily Register'!Y$3:Y$242)=TRUE,\"P\",\"A\")","v":"A"},{"$f":"IF(Attendance($C53,'Daily Register'!Z$3:Z$242)=TRUE,\"P\",\"A\")","v":"A"},{"$f":"IF(Attendance($C53,'Daily Register'!AA$3:AA$242)=TRUE,\"P\",\"A\")","v":"A"},{"$f":"IF(Attendance($C53,'Daily Register'!AB$3:AB$242)=TRUE,\"P\",\"A\")","v":"A"},{"$f":"IF(Attendance($C53,'Daily Register'!AC$3:AC$242)=TRUE,\"P\",\"A\")","v":"A"},{"$f":"IF(Attendance($C53,'Daily Register'!AD$3:AD$242)=TRUE,\"P\",\"A\")","v":"A"},{"$f":"IF(Attendance($C53,'Daily Register'!AE$3:AE$242)=TRUE,\"P\",\"A\")","v":"A"},{"$f":"IF(Attendance($C53,'Daily Register'!AF$3:AF$242)=TRUE,\"P\",\"A\")","v":"A"},{"$f":"IF(Attendance($C53,'Daily Register'!AG$3:AG$242)=TRUE,\"P\",\"A\")","v":"A"},{"$f":"IF(Attendance($C53,'Daily Register'!AH$3:AH$242)=TRUE,\"P\",\"A\")","v":"A"},{"$f":"IF(Attendance($C53,'Daily Register'!AI$3:AI$242)=TRUE,\"P\",\"A\")","v":"A"},{"$f":"IF(Attendance($C53,'Daily Register'!AJ$3:AJ$242)=TRUE,\"P\",\"A\")","v":"A"},{"$f":"IF(Attendance($C53,'Daily Register'!AK$3:AK$242)=TRUE,\"P\",\"A\")","v":"A"},{"$f":"IF(Attendance($C53,'Daily Register'!AL$3:AL$242)=TRUE,\"P\",\"A\")","v":"A"},{"$f":"IF(Attendance($C53,'Daily Register'!AM$3:AM$242)=TRUE,\"P\",\"A\")","v":"A"},{"$f":"IF(Attendance($C53,'Daily Register'!AN$3:AN$242)=TRUE,\"P\",\"A\")","v":"A"},{"$f":"IF(Attendance($C53,'Daily Register'!AO$3:AO$242)=TRUE,\"P\",\"A\")","v":"A"},{"$f":"IF(Attendance($C53,'Daily Register'!AP$3:AP$242)=TRUE,\"P\",\"A\")","v":"A"},{"$f":"IF(Attendance($C53,'Daily Register'!AQ$3:AQ$242)=TRUE,\"P\",\"A\")","v":"A"},{"$f":"IF(Attendance($C53,'Daily Register'!AR$3:AR$242)=TRUE,\"P\",\"A\")","v":"A"},{"$f":"IF(Attendance($C53,'Daily Register'!AS$3:AS$242)=TRUE,\"P\",\"A\")","v":"A"},{"$f":"IF(Attendance($C53,'Daily Register'!AT$3:AT$242)=TRUE,\"P\",\"A\")","v":"A"},{"$f":"IF(Attendance($C53,'Daily Register'!AU$3:AU$242)=TRUE,\"P\",\"A\")","v":"A"},{"$f":"IF(Attendance($C53,'Daily Register'!AV$3:AV$242)=TRUE,\"P\",\"A\")","v":"A"},{"$f":"IF(Attendance($C53,'Daily Register'!AW$3:AW$242)=TRUE,\"P\",\"A\")","v":"A"},{"$f":"IF(Attendance($C53,'Daily Register'!AX$3:AX$242)=TRUE,\"P\",\"A\")","v":"A"},{"$f":"IF(Attendance($C53,'Daily Register'!AY$3:AY$242)=TRUE,\"P\",\"A\")","v":"A"},{"$f":"IF(Attendance($C53,'Daily Register'!AZ$3:AZ$242)=TRUE,\"P\",\"A\")","v":"A"},{"$f":"IF(Attendance($C53,'Daily Register'!BA$3:BA$242)=TRUE,\"P\",\"A\")","v":"A"},{"$f":"IF(Attendance($C53,'Daily Register'!BB$3:BB$242)=TRUE,\"P\",\"A\")","v":"A"},{"$f":"IF(Attendance($C53,'Daily Register'!BC$3:BC$242)=TRUE,\"P\",\"A\")","v":"A"},{"$f":"IF(Attendance($C53,'Daily Register'!BD$3:BD$242)=TRUE,\"P\",\"A\")","v":"A"},{"$f":"IF(Attendance($C53,'Daily Register'!BE$3:BE$242)=TRUE,\"P\",\"A\")","v":"A"},{"$f":"IF(Attendance($C53,'Daily Register'!BF$3:BF$242)=TRUE,\"P\",\"A\")","v":"A"},{"$f":"IF(Attendance($C53,'Daily Register'!BG$3:BG$242)=TRUE,\"P\",\"A\")","v":"A"},{"$f":"IF(Attendance($C53,'Daily Register'!BH$3:BH$242)=TRUE,\"P\",\"A\")","v":"A"},{"$f":"IF(Attendance($C53,'Daily Register'!BI$3:BI$242)=TRUE,\"P\",\"A\")","v":"A"},{"$f":"IF(Attendance($C53,'Daily Register'!BJ$3:BJ$242)=TRUE,\"P\",\"A\")","v":"A"},{"$f":"IF(Attendance($C53,'Daily Register'!BK$3:BK$242)=TRUE,\"P\",\"A\")","v":"A"},{"$f":"IF(Attendance($C53,'Daily Register'!BL$3:BL$242)=TRUE,\"P\",\"A\")","v":"A"},{"$f":"IF(Attendance($C53,'Daily Register'!BM$3:BM$242)=TRUE,\"P\",\"A\")","v":"A"},{"$f":"IF(Attendance($C53,'Daily Register'!BN$3:BN$242)=TRUE,\"P\",\"A\")","v":"A"},{"$f":"IF(Attendance($C53,'Daily Register'!BO$3:BO$242)=TRUE,\"P\",\"A\")","v":"A"},{"$f":"IF(Attendance($C53,'Daily Register'!BP$3:BP$242)=TRUE,\"P\",\"A\")","v":"A"},{"$f":"IF(Attendance($C53,'Daily Register'!BQ$3:BQ$242)=TRUE,\"P\",\"A\")","v":"A"},{"$f":"IF(Attendance($C53,'Daily Register'!BR$3:BR$242)=TRUE,\"P\",\"A\")","v":"A"},{"$f":"IF(Attendance($C53,'Daily Register'!BS$3:BS$242)=TRUE,\"P\",\"A\")","v":"A"},{"$f":"IF(Attendance($C53,'Daily Register'!BT$3:BT$242)=TRUE,\"P\",\"A\")","v":"A"},{"$f":"IF(Attendance($C53,'Daily Register'!BU$3:BU$242)=TRUE,\"P\",\"A\")","v":"A"},{"$f":"IF(Attendance($C53,'Daily Register'!BV$3:BV$242)=TRUE,\"P\",\"A\")","v":"A"},{"$f":"IF(Attendance($C53,'Daily Register'!BW$3:BW$242)=TRUE,\"P\",\"A\")","v":"A"},{"$f":"IF(Attendance($C53,'Daily Register'!BX$3:BX$242)=TRUE,\"P\",\"A\")","v":"A"},{"$f":"IF(Attendance($C53,'Daily Register'!BY$3:BY$242)=TRUE,\"P\",\"A\")","v":"A"},{"$f":"IF(Attendance($C53,'Daily Register'!BZ$3:BZ$242)=TRUE,\"P\",\"A\")","v":"A"},{"$f":"IF(Attendance($C53,'Daily Register'!CA$3:CA$242)=TRUE,\"P\",\"A\")","v":"A"},{"$f":"IF(Attendance($C53,'Daily Register'!CB$3:CB$242)=TRUE,\"P\",\"A\")","v":"A"},{"$f":"IF(Attendance($C53,'Daily Register'!CC$3:CC$242)=TRUE,\"P\",\"A\")","v":"A"},{"$f":"IF(Attendance($C53,'Daily Register'!CD$3:CD$242)=TRUE,\"P\",\"A\")","v":"A"},{"$f":"IF(Attendance($C53,'Daily Register'!CE$3:CE$242)=TRUE,\"P\",\"A\")","v":"A"},{"$f":"IF(Attendance($C53,'Daily Register'!CF$3:CF$242)=TRUE,\"P\",\"A\")","v":"A"},{"$f":"IF(Attendance($C53,'Daily Register'!CG$3:CG$242)=TRUE,\"P\",\"A\")","v":"A"},{"$f":"IF(Attendance($C53,'Daily Register'!CH$3:CH$242)=TRUE,\"P\",\"A\")","v":"A"},{"$f":"IF(Attendance($C53,'Daily Register'!CI$3:CI$242)=TRUE,\"P\",\"A\")","v":"A"},{"$f":"IF(Attendance($C53,'Daily Register'!CJ$3:CJ$242)=TRUE,\"P\",\"A\")","v":"A"},{"$f":"IF(Attendance($C53,'Daily Register'!CK$3:CK$242)=TRUE,\"P\",\"A\")","v":"A"},{"$f":"IF(Attendance($C53,'Daily Register'!CL$3:CL$242)=TRUE,\"P\",\"A\")","v":"A"},{"$f":"IF(Attendance($C53,'Daily Register'!CM$3:CM$242)=TRUE,\"P\",\"A\")","v":"A"},{"$f":"IF(Attendance($C53,'Daily Register'!CN$3:CN$242)=TRUE,\"P\",\"A\")","v":"A"},{"$f":"IF(Attendance($C53,'Daily Register'!CO$3:CO$242)=TRUE,\"P\",\"A\")","v":"A"},{"$f":"IF(Attendance($C53,'Daily Register'!CP$3:CP$242)=TRUE,\"P\",\"A\")","v":"A"},{"$f":"IF(Attendance($C53,'Daily Register'!CQ$3:CQ$242)=TRUE,\"P\",\"A\")","v":"A"},{"$f":"IF(Attendance($C53,'Daily Register'!CR$3:CR$242)=TRUE,\"P\",\"A\")","v":"A"},{"$f":"IF(Attendance($C53,'Daily Register'!CS$3:CS$242)=TRUE,\"P\",\"A\")","v":"A"},{"$f":"IF(Attendance($C53,'Daily Register'!CT$3:CT$242)=TRUE,\"P\",\"A\")","v":"A"},{"$f":"IF(Attendance($C53,'Daily Register'!CU$3:CU$242)=TRUE,\"P\",\"A\")","v":"A"},{"$f":"IF(Attendance($C53,'Daily Register'!CV$3:CV$242)=TRUE,\"P\",\"A\")","v":"A"},{"$f":"IF(Attendance($C53,'Daily Register'!CW$3:CW$242)=TRUE,\"P\",\"A\")","v":"A"},{"$f":"IF(Attendance($C53,'Daily Register'!CX$3:CX$242)=TRUE,\"P\",\"A\")","v":"A"},{"$f":"IF(Attendance($C53,'Daily Register'!CY$3:CY$242)=TRUE,\"P\",\"A\")","v":"A"},{"$f":"IF(Attendance($C53,'Daily Register'!CZ$3:CZ$242)=TRUE,\"P\",\"A\")","v":"A"},{"$f":"IF(Attendance($C53,'Daily Register'!DA$3:DA$242)=TRUE,\"P\",\"A\")","v":"A"},{"$f":"IF(Attendance($C53,'Daily Register'!DB$3:DB$242)=TRUE,\"P\",\"A\")","v":"A"},{"$f":"IF(Attendance($C53,'Daily Register'!DC$3:DC$242)=TRUE,\"P\",\"A\")","v":"A"},{"$f":"IF(Attendance($C53,'Daily Register'!DD$3:DD$242)=TRUE,\"P\",\"A\")","v":"A"},{"$f":"IF(Attendance($C53,'Daily Register'!DE$3:DE$242)=TRUE,\"P\",\"A\")","v":"A"},{"$f":"IF(Attendance($C53,'Daily Register'!DF$3:DF$242)=TRUE,\"P\",\"A\")","v":"A"},{"$f":"IF(Attendance($C53,'Daily Register'!DG$3:DG$242)=TRUE,\"P\",\"A\")","v":"A"},{"$f":"IF(Attendance($C53,'Daily Register'!DH$3:DH$242)=TRUE,\"P\",\"A\")","v":"A"},{"$f":"IF(Attendance($C53,'Daily Register'!DI$3:DI$242)=TRUE,\"P\",\"A\")","v":"A"},{"$f":"IF(Attendance($C53,'Daily Register'!DJ$3:DJ$242)=TRUE,\"P\",\"A\")","v":"A"},{"$f":"IF(Attendance($C53,'Daily Register'!DK$3:DK$242)=TRUE,\"P\",\"A\")","v":"A"},{"$f":"IF(Attendance($C53,'Daily Register'!DL$3:DL$242)=TRUE,\"P\",\"A\")","v":"A"},{"$f":"IF(Attendance($C53,'Daily Register'!DM$3:DM$242)=TRUE,\"P\",\"A\")","v":"A"},{"$f":"IF(Attendance($C53,'Daily Register'!DN$3:DN$242)=TRUE,\"P\",\"A\")","v":"A"},{"$f":"IF(Attendance($C53,'Daily Register'!DO$3:DO$242)=TRUE,\"P\",\"A\")","v":"A"},{"$f":"IF(Attendance($C53,'Daily Register'!DP$3:DP$242)=TRUE,\"P\",\"A\")","v":"A"},{"$f":"IF(Attendance($C53,'Daily Register'!DQ$3:DQ$242)=TRUE,\"P\",\"A\")","v":"A"},{"$f":"IF(Attendance($C53,'Daily Register'!DR$3:DR$242)=TRUE,\"P\",\"A\")","v":"A"},{"$f":"IF(Attendance($C53,'Daily Register'!DS$3:DS$242)=TRUE,\"P\",\"A\")","v":"A"},{"$f":"IF(Attendance($C53,'Daily Register'!DT$3:DT$242)=TRUE,\"P\",\"A\")","v":"A"},{"$f":"IF(Attendance($C53,'Daily Register'!DU$3:DU$242)=TRUE,\"P\",\"A\")","v":"A"},{"$f":"IF(Attendance($C53,'Daily Register'!DV$3:DV$242)=TRUE,\"P\",\"A\")","v":"A"},{"$f":"IF(Attendance($C53,'Daily Register'!DW$3:DW$242)=TRUE,\"P\",\"A\")","v":"A"},{"$f":"IF(Attendance($C53,'Daily Register'!DX$3:DX$242)=TRUE,\"P\",\"A\")","v":"A"},{"$f":"IF(Attendance($C53,'Daily Register'!DY$3:DY$242)=TRUE,\"P\",\"A\")","v":"A"},{"$f":"IF(Attendance($C53,'Daily Register'!DZ$3:DZ$242)=TRUE,\"P\",\"A\")","v":"A"},{"$f":"IF(Attendance($C53,'Daily Register'!EA$3:EA$242)=TRUE,\"P\",\"A\")","v":"A"},{"$f":"IF(Attendance($C53,'Daily Register'!EB$3:EB$242)=TRUE,\"P\",\"A\")","v":"A"},{"$f":"IF(Attendance($C53,'Daily Register'!EC$3:EC$242)=TRUE,\"P\",\"A\")","v":"A"},{"$f":"IF(Attendance($C53,'Daily Register'!ED$3:ED$242)=TRUE,\"P\",\"A\")","v":"A"},{"$f":"IF(Attendance($C53,'Daily Register'!EE$3:EE$242)=TRUE,\"P\",\"A\")","v":"A"},{"$f":"IF(Attendance($C53,'Daily Register'!EF$3:EF$242)=TRUE,\"P\",\"A\")","v":"A"},{"$f":"IF(Attendance($C53,'Daily Register'!EG$3:EG$242)=TRUE,\"P\",\"A\")","v":"A"},{"$f":"IF(Attendance($C53,'Daily Register'!EH$3:EH$242)=TRUE,\"P\",\"A\")","v":"A"},{"$f":"IF(Attendance($C53,'Daily Register'!EI$3:EI$242)=TRUE,\"P\",\"A\")","v":"A"},{"$f":"IF(Attendance($C53,'Daily Register'!EJ$3:EJ$242)=TRUE,\"P\",\"A\")","v":"A"},{"$f":"IF(Attendance($C53,'Daily Register'!EK$3:EK$242)=TRUE,\"P\",\"A\")","v":"A"},{"$f":"IF(Attendance($C53,'Daily Register'!EL$3:EL$242)=TRUE,\"P\",\"A\")","v":"A"},{"$f":"IF(Attendance($C53,'Daily Register'!EM$22:EM$242)=TRUE,\"P\",\"A\")","v":"A"},{"$f":"IF(Attendance($C53,'Daily Register'!EN$3:EN$242)=TRUE,\"P\",\"A\")","v":"A"},{"$f":"IF(Attendance($C53,'Daily Register'!EO$3:EO$242)=TRUE,\"P\",\"A\")","v":"A"},{"$f":"IF(Attendance($C53,'Daily Register'!EP$3:EP$242)=TRUE,\"P\",\"A\")","v":"A"},{"$f":"IF(Attendance($C53,'Daily Register'!EQ$3:EQ$242)=TRUE,\"P\",\"A\")","v":"A"},{"$f":"IF(Attendance($C53,'Daily Register'!ER$3:ER$242)=TRUE,\"P\",\"A\")","v":"A"},{"$f":"IF(Attendance($C53,'Daily Register'!ES$3:ES$242)=TRUE,\"P\",\"A\")","v":"A"},{"$f":"IF(Attendance($C53,'Daily Register'!ET$3:ET$242)=TRUE,\"P\",\"A\")","v":"A"},{"$f":"IF(Attendance($C53,'Daily Register'!EU$3:EU$242)=TRUE,\"P\",\"A\")","v":"A"},{"$f":"IF(Attendance($C53,'Daily Register'!EV$3:EV$242)=TRUE,\"P\",\"A\")","v":"A"},{"$f":"IF(Attendance($C53,'Daily Register'!EW$3:EW$242)=TRUE,\"P\",\"A\")","v":"A"},{"$f":"IF(Attendance($C53,'Daily Register'!EX$3:EX$242)=TRUE,\"P\",\"A\")","v":"A"},{"$f":"IF(Attendance($C53,'Daily Register'!EY$3:EY$242)=TRUE,\"P\",\"A\")","v":"A"},{"$f":"IF(Attendance($C53,'Daily Register'!EZ$3:EZ$242)=TRUE,\"P\",\"A\")","v":"A"},{"$f":"IF(Attendance($C53,'Daily Register'!FA$3:FA$242)=TRUE,\"P\",\"A\")","v":"A"},{"$f":"IF(Attendance($C53,'Daily Register'!FB$3:FB$242)=TRUE,\"P\",\"A\")","v":"A"},{"$f":"IF(Attendance($C53,'Daily Register'!FC$3:FC$242)=TRUE,\"P\",\"A\")","v":"A"},{"$f":"IF(Attendance($C53,'Daily Register'!FD$3:FD$242)=TRUE,\"P\",\"A\")","v":"A"},{"$f":"IF(Attendance($C53,'Daily Register'!FE$3:FE$242)=TRUE,\"P\",\"A\")","v":"A"},{"$f":"IF(Attendance($C53,'Daily Register'!FF$3:FF$242)=TRUE,\"P\",\"A\")","v":"A"},{"$f":"IF(Attendance($C53,'Daily Register'!FG$3:FG$242)=TRUE,\"P\",\"A\")","v":"A"},{"$f":"IF(Attendance($C53,'Daily Register'!FH$3:FH$242)=TRUE,\"P\",\"A\")","v":"A"},{"$f":"IF(Attendance($C53,'Daily Register'!FI$3:FI$242)=TRUE,\"P\",\"A\")","v":"A"},{"$f":"IF(Attendance($C53,'Daily Register'!FJ$3:FJ$242)=TRUE,\"P\",\"A\")","v":"A"},{"$f":"IF(Attendance($C53,'Daily Register'!FK$3:FK$242)=TRUE,\"P\",\"A\")","v":"A"},{"$f":"IF(Attendance($C53,'Daily Register'!FL$3:FL$242)=TRUE,\"P\",\"A\")","v":"A"},{"$f":"IF(Attendance($C53,'Daily Register'!FM$3:FM$242)=TRUE,\"P\",\"A\")","v":"A"},{"$f":"IF(Attendance($C53,'Daily Register'!FN$3:FN$242)=TRUE,\"P\",\"A\")","v":"A"},{"$f":"IF(Attendance($C53,'Daily Register'!FO$3:FO$242)=TRUE,\"P\",\"A\")","v":"A"},{"$f":"IF(Attendance($C53,'Daily Register'!FP$3:FP$242)=TRUE,\"P\",\"A\")","v":"A"},{"$f":"IF(Attendance($C53,'Daily Register'!FQ$3:FQ$242)=TRUE,\"P\",\"A\")","v":"A"},{"$f":"IF(Attendance($C53,'Daily Register'!FR$3:FR$242)=TRUE,\"P\",\"A\")","v":"A"},{"$f":"IF(Attendance($C53,'Daily Register'!FS$3:FS$242)=TRUE,\"P\",\"A\")","v":"A"},{"$f":"IF(Attendance($C53,'Daily Register'!FT$3:FT$242)=TRUE,\"P\",\"A\")","v":"A"},{"$f":"IF(Attendance($C53,'Daily Register'!FU$3:FU$242)=TRUE,\"P\",\"A\")","v":"A"},{"$f":"IF(Attendance($C53,'Daily Register'!FV$3:FV$242)=TRUE,\"P\",\"A\")","v":"A"},{"$f":"IF(Attendance($C53,'Daily Register'!FW$3:FW$242)=TRUE,\"P\",\"A\")","v":"A"},{"$f":"IF(Attendance($C53,'Daily Register'!FX$3:FX$242)=TRUE,\"P\",\"A\")","v":"A"},{"$f":"IF(Attendance($C53,'Daily Register'!FY$3:FY$242)=TRUE,\"P\",\"A\")","v":"A"},{"$f":"IF(Attendance($C53,'Daily Register'!FZ$3:FZ$242)=TRUE,\"P\",\"A\")","v":"A"},{"$f":"IF(Attendance($C53,'Daily Register'!GA$3:GA$242)=TRUE,\"P\",\"A\")","v":"A"},{"$f":"IF(Attendance($C53,'Daily Register'!GB$3:GB$242)=TRUE,\"P\",\"A\")","v":"A"},{"$f":"IF(Attendance($C53,'Daily Register'!GC$3:GC$242)=TRUE,\"P\",\"A\")","v":"A"},{"$f":"IF(Attendance($C53,'Daily Register'!GD$3:GD$242)=TRUE,\"P\",\"A\")","v":"A"},{"$f":"IF(Attendance($C53,'Daily Register'!GE$3:GE$242)=TRUE,\"P\",\"A\")","v":"A"},{"$f":"IF(Attendance($C53,'Daily Register'!GF$3:GF$242)=TRUE,\"P\",\"A\")","v":"A"},{"$f":"IF(Attendance($C53,'Daily Register'!GG$3:GG$242)=TRUE,\"P\",\"A\")","v":"A"},{"$f":"IF(Attendance($C53,'Daily Register'!GH$3:GH$242)=TRUE,\"P\",\"A\")","v":"A"},{"$f":"IF(Attendance($C53,'Daily Register'!GI$3:GI$242)=TRUE,\"P\",\"A\")","v":"A"},{"$f":"IF(Attendance($C53,'Daily Register'!GJ$3:GJ$242)=TRUE,\"P\",\"A\")","v":"A"},{"$f":"IF(Attendance($C53,'Daily Register'!GK$3:GK$242)=TRUE,\"P\",\"A\")","v":"A"},{"$f":"IF(Attendance($C53,'Daily Register'!GL$3:GL$242)=TRUE,\"P\",\"A\")","v":"A"},{"$f":"IF(Attendance($C53,'Daily Register'!GM$3:GM$242)=TRUE,\"P\",\"A\")","v":"A"},{"$f":"IF(Attendance($C53,'Daily Register'!GN$3:GN$242)=TRUE,\"P\",\"A\")","v":"A"},{"$f":"IF(Attendance($C53,'Daily Register'!GO$3:GO$242)=TRUE,\"P\",\"A\")","v":"A"},{"$f":"IF(Attendance($C53,'Daily Register'!GP$3:GP$242)=TRUE,\"P\",\"A\")","v":"A"},{"$f":"IF(Attendance($C53,'Daily Register'!GQ$3:GQ$242)=TRUE,\"P\",\"A\")","v":"A"},{"$f":"IF(Attendance($C53,'Daily Register'!GR$3:GR$242)=TRUE,\"P\",\"A\")","v":"A"},{"$f":"IF(Attendance($C53,'Daily Register'!GS$3:GS$242)=TRUE,\"P\",\"A\")","v":"A"},{"$f":"IF(Attendance($C53,'Daily Register'!GT$3:GT$242)=TRUE,\"P\",\"A\")","v":"A"},{"$f":"IF(Attendance($C53,'Daily Register'!GU$3:GU$242)=TRUE,\"P\",\"A\")","v":"A"},{"$f":"IF(Attendance($C53,'Daily Register'!GV$3:GV$242)=TRUE,\"P\",\"A\")","v":"A"},{"$f":"IF(Attendance($C53,'Daily Register'!GW$3:GW$242)=TRUE,\"P\",\"A\")","v":"A"},{"$f":"IF(Attendance($C53,'Daily Register'!GX$3:GX$242)=TRUE,\"P\",\"A\")","v":"A"},{"$f":"IF(Attendance($C53,'Daily Register'!GY$3:GY$242)=TRUE,\"P\",\"A\")","v":"A"},{"$f":"IF(Attendance($C53,'Daily Register'!GZ$3:GZ$242)=TRUE,\"P\",\"A\")","v":"A"},{"$f":"IF(Attendance($C53,'Daily Register'!HA$3:HA$242)=TRUE,\"P\",\"A\")","v":"A"},{"$f":"IF(Attendance($C53,'Daily Register'!HB$3:HB$242)=TRUE,\"P\",\"A\")","v":"A"},{"$f":"IF(Attendance($C53,'Daily Register'!HC$3:HC$242)=TRUE,\"P\",\"A\")","v":"A"},{"$f":"IF(Attendance($C53,'Daily Register'!HD$3:HD$242)=TRUE,\"P\",\"A\")","v":"A"},{"$f":"IF(Attendance($C53,'Daily Register'!HE$3:HE$242)=TRUE,\"P\",\"A\")","v":"A"},{"$f":"IF(Attendance($C53,'Daily Register'!HF$3:HF$242)=TRUE,\"P\",\"A\")","v":"A"},{"$f":"IF(Attendance($C53,'Daily Register'!HG$3:HG$242)=TRUE,\"P\",\"A\")","v":"A"},{"$f":"IF(Attendance($C53,'Daily Register'!HH$3:HH$242)=TRUE,\"P\",\"A\")","v":"A"},{"$f":"IF(Attendance($C53,'Daily Register'!HI$3:HI$242)=TRUE,\"P\",\"A\")","v":"A"},{"$f":"IF(Attendance($C53,'Daily Register'!HJ$3:HJ$242)=TRUE,\"P\",\"A\")","v":"A"},{"$f":"IF(Attendance($C53,'Daily Register'!HK$3:HK$242)=TRUE,\"P\",\"A\")","v":"A"},{"$f":"IF(Attendance($C53,'Daily Register'!HL$3:HL$242)=TRUE,\"P\",\"A\")","v":"A"},{"$f":"IF(Attendance($C53,'Daily Register'!HM$3:HM$242)=TRUE,\"P\",\"A\")","v":"A"},{"$f":"IF(Attendance($C53,'Daily Register'!HN$3:HN$242)=TRUE,\"P\",\"A\")","v":"A"},{"$f":"IF(Attendance($C53,'Daily Register'!HO$3:HO$242)=TRUE,\"P\",\"A\")","v":"A"},{"$f":"IF(Attendance($C53,'Daily Register'!HP$3:HP$242)=TRUE,\"P\",\"A\")","v":"A"},{"$f":"IF(Attendance($C53,'Daily Register'!HQ$3:HQ$242)=TRUE,\"P\",\"A\")","v":"A"},{"$f":"IF(Attendance($C53,'Daily Register'!HR$3:HR$242)=TRUE,\"P\",\"A\")","v":"A"},{"$f":"IF(Attendance($C53,'Daily Register'!HS$3:HS$242)=TRUE,\"P\",\"A\")","v":"A"},{"$f":"IF(Attendance($C53,'Daily Register'!HT$3:HT$242)=TRUE,\"P\",\"A\")","v":"A"},{"$f":"IF(Attendance($C53,'Daily Register'!HU$3:HU$242)=TRUE,\"P\",\"A\")","v":"A"},{"$f":"IF(Attendance($C53,'Daily Register'!HV$3:HV$242)=TRUE,\"P\",\"A\")","v":"A"},{"$f":"IF(Attendance($C53,'Daily Register'!HW$3:HW$242)=TRUE,\"P\",\"A\")","v":"A"},{"$f":"IF(Attendance($C53,'Daily Register'!HX$3:HX$242)=TRUE,\"P\",\"A\")","v":"A"},{"$f":"IF(Attendance($C53,'Daily Register'!HY$3:HY$242)=TRUE,\"P\",\"A\")","v":"A"},{"$f":"IF(Attendance($C53,'Daily Register'!HZ$3:HZ$242)=TRUE,\"P\",\"A\")","v":"A"},{"$f":"IF(Attendance($C53,'Daily Register'!IA$3:IA$242)=TRUE,\"P\",\"A\")","v":"A"},{"$f":"IF(Attendance($C53,'Daily Register'!IB$3:IB$242)=TRUE,\"P\",\"A\")","v":"A"},{"$f":"IF(Attendance($C53,'Daily Register'!IC$3:IC$242)=TRUE,\"P\",\"A\")","v":"A"},{"$f":"IF(Attendance($C53,'Daily Register'!ID$3:ID$242)=TRUE,\"P\",\"A\")","v":"A"},{"$f":"IF(Attendance($C53,'Daily Register'!IE$3:IE$242)=TRUE,\"P\",\"A\")","v":"A"},{"$f":"IF(Attendance($C53,'Daily Register'!IF$3:IF$242)=TRUE,\"P\",\"A\")","v":"A"},{"$f":"IF(Attendance($C53,'Daily Register'!IG$3:IG$242)=TRUE,\"P\",\"A\")","v":"A"},{"$f":"IF(Attendance($C53,'Daily Register'!IH$3:IH$242)=TRUE,\"P\",\"A\")","v":"A"},{"$f":"IF(Attendance($C53,'Daily Register'!II$3:II$242)=TRUE,\"P\",\"A\")","v":"A"},{"$f":"IF(Attendance($C53,'Daily Register'!IJ$3:IJ$242)=TRUE,\"P\",\"A\")","v":"A"},{"$f":"IF(Attendance($C53,'Daily Register'!IK$3:IK$242)=TRUE,\"P\",\"A\")","v":"A"},{"$f":"IF(Attendance($C53,'Daily Register'!IL$3:IL$242)=TRUE,\"P\",\"A\")","v":"A"},{"$f":"IF(Attendance($C53,'Daily Register'!IM$3:IM$242)=TRUE,\"P\",\"A\")","v":"A"},{"$f":"IF(Attendance($C53,'Daily Register'!IN$3:IN$242)=TRUE,\"P\",\"A\")","v":"A"},{"$f":"IF(Attendance($C53,'Daily Register'!IO$3:IO$242)=TRUE,\"P\",\"A\")","v":"A"},{"$f":"IF(Attendance($C53,'Daily Register'!IP$3:IP$242)=TRUE,\"P\",\"A\")","v":"A"},{"$f":"IF(Attendance($C53,'Daily Register'!IQ$3:IQ$242)=TRUE,\"P\",\"A\")","v":"A"},{"$f":"IF(Attendance($C53,'Daily Register'!IR$3:IR$242)=TRUE,\"P\",\"A\")","v":"A"},{"$f":"IF(Attendance($C53,'Daily Register'!IS$3:IS$242)=TRUE,\"P\",\"A\")","v":"A"},{"$f":"IF(Attendance($C53,'Daily Register'!IT$3:IT$242)=TRUE,\"P\",\"A\")","v":"A"},{"$f":"IF(Attendance($C53,'Daily Register'!IU$3:IU$242)=TRUE,\"P\",\"A\")","v":"A"},{"$f":"IF(Attendance($C53,'Daily Register'!IV$3:IV$242)=TRUE,\"P\",\"A\")","v":"A"},{"$f":"IF(Attendance($C53,'Daily Register'!IW$3:IW$242)=TRUE,\"P\",\"A\")","v":"A"},{"$f":"IF(Attendance($C53,'Daily Register'!IX$3:IX$242)=TRUE,\"P\",\"A\")","v":"A"},{"$f":"IF(Attendance($C53,'Daily Register'!IY$3:IY$242)=TRUE,\"P\",\"A\")","v":"A"},{"$f":"IF(Attendance($C53,'Daily Register'!IZ$3:IZ$242)=TRUE,\"P\",\"A\")","v":"A"},{"$f":"IF(Attendance($C53,'Daily Register'!JA$3:JA$242)=TRUE,\"P\",\"A\")","v":"A"},{"$f":"IF(Attendance($C53,'Daily Register'!JB$3:JB$242)=TRUE,\"P\",\"A\")","v":"A"},{"$f":"IF(Attendance($C53,'Daily Register'!JC$3:JC$242)=TRUE,\"P\",\"A\")","v":"A"},{"$f":"IF(Attendance($C53,'Daily Register'!JD$3:JD$242)=TRUE,\"P\",\"A\")","v":"A"},{"$f":"IF(Attendance($C53,'Daily Register'!JE$3:JE$242)=TRUE,\"P\",\"A\")","v":"A"},{"$f":"IF(Attendance($C53,'Daily Register'!JF$3:JF$242)=TRUE,\"P\",\"A\")","v":"A"},{"$f":"IF(Attendance($C53,'Daily Register'!JG$3:JG$242)=TRUE,\"P\",\"A\")","v":"A"},{"$f":"IF(Attendance($C53,'Daily Register'!JH$3:JH$242)=TRUE,\"P\",\"A\")","v":"A"},{"$f":"IF(Attendance($C53,'Daily Register'!JI$3:JI$242)=TRUE,\"P\",\"A\")","v":"A"},{"$f":"IF(Attendance($C53,'Daily Register'!JJ$3:JJ$242)=TRUE,\"P\",\"A\")","v":"A"},{"$f":"IF(Attendance($C53,'Daily Register'!JK$3:JK$242)=TRUE,\"P\",\"A\")","v":"A"},{"$f":"IF(Attendance($C53,'Daily Register'!JL$3:JL$242)=TRUE,\"P\",\"A\")","v":"A"},{"$f":"IF(Attendance($C53,'Daily Register'!JM$3:JM$242)=TRUE,\"P\",\"A\")","v":"A"},{"$f":"IF(Attendance($C53,'Daily Register'!JN$3:JN$242)=TRUE,\"P\",\"A\")","v":"A"},{"$f":"IF(Attendance($C53,'Daily Register'!JO$3:JO$242)=TRUE,\"P\",\"A\")","v":"A"},{"$f":"IF(Attendance($C53,'Daily Register'!JP$3:JP$242)=TRUE,\"P\",\"A\")","v":"A"},{"$f":"IF(Attendance($C53,'Daily Register'!JQ$3:JQ$242)=TRUE,\"P\",\"A\")","v":"A"},{"$f":"IF(Attendance($C53,'Daily Register'!JR$3:JR$242)=TRUE,\"P\",\"A\")","v":"A"},{"$f":"IF(Attendance($C53,'Daily Register'!JS$3:JS$242)=TRUE,\"P\",\"A\")","v":"A"},{"$f":"IF(Attendance($C53,'Daily Register'!JT$3:JT$242)=TRUE,\"P\",\"A\")","v":"A"},{"$f":"IF(Attendance($C53,'Daily Register'!JU$3:JU$242)=TRUE,\"P\",\"A\")","v":"A"},{"$f":"IF(Attendance($C53,'Daily Register'!JV$3:JV$242)=TRUE,\"P\",\"A\")","v":"A"},{"$f":"IF(Attendance($C53,'Daily Register'!JW$3:JW$242)=TRUE,\"P\",\"A\")","v":"A"},{"$f":"IF(Attendance($C53,'Daily Register'!JX$3:JX$242)=TRUE,\"P\",\"A\")","v":"A"},{"$f":"IF(Attendance($C53,'Daily Register'!JY$3:JY$242)=TRUE,\"P\",\"A\")","v":"A"},{"$f":"IF(Attendance($C53,'Daily Register'!JZ$3:JZ$242)=TRUE,\"P\",\"A\")","v":"A"},{"$f":"IF(Attendance($C53,'Daily Register'!KA$3:KA$242)=TRUE,\"P\",\"A\")","v":"A"},{"$f":"IF(Attendance($C53,'Daily Register'!KB$3:KB$242)=TRUE,\"P\",\"A\")","v":"A"},{"$f":"IF(Attendance($C53,'Daily Register'!KC$3:KC$242)=TRUE,\"P\",\"A\")","v":"A"},{"$f":"IF(Attendance($C53,'Daily Register'!KD$3:KD$242)=TRUE,\"P\",\"A\")","v":"A"},{"$f":"IF(Attendance($C53,'Daily Register'!KE$3:KE$242)=TRUE,\"P\",\"A\")","v":"A"},{"$f":"IF(Attendance($C53,'Daily Register'!KF$3:KF$242)=TRUE,\"P\",\"A\")","v":"A"},{"$f":"IF(Attendance($C53,'Daily Register'!KG$3:KG$242)=TRUE,\"P\",\"A\")","v":"A"},{"$f":"IF(Attendance($C53,'Daily Register'!KH$3:KH$242)=TRUE,\"P\",\"A\")","v":"A"},{"$f":"IF(Attendance($C53,'Daily Register'!KI$3:KI$242)=TRUE,\"P\",\"A\")","v":"A"},{"$f":"IF(Attendance($C53,'Daily Register'!KJ$3:KJ$242)=TRUE,\"P\",\"A\")","v":"A"},{"$f":"IF(Attendance($C53,'Daily Register'!KK$3:KK$242)=TRUE,\"P\",\"A\")","v":"A"},{"$f":"IF(Attendance($C53,'Daily Register'!KL$3:KL$242)=TRUE,\"P\",\"A\")","v":"A"},{"$f":"IF(Attendance($C53,'Daily Register'!KM$3:KM$242)=TRUE,\"P\",\"A\")","v":"A"},{"$f":"IF(Attendance($C53,'Daily Register'!KN$3:KN$242)=TRUE,\"P\",\"A\")","v":"A"},{"$f":"IF(Attendance($C53,'Daily Register'!KO$3:KO$242)=TRUE,\"P\",\"A\")","v":"A"},{"$f":"IF(Attendance($C53,'Daily Register'!KP$3:KP$242)=TRUE,\"P\",\"A\")","v":"A"},{"$f":"IF(Attendance($C53,'Daily Register'!KQ$3:KQ$242)=TRUE,\"P\",\"A\")","v":"A"},{"$f":"IF(Attendance($C53,'Daily Register'!KR$3:KR$242)=TRUE,\"P\",\"A\")","v":"A"},{"$f":"IF(Attendance($C53,'Daily Register'!KS$3:KS$242)=TRUE,\"P\",\"A\")","v":"A"},{"$f":"IF(Attendance($C53,'Daily Register'!KT$3:KT$242)=TRUE,\"P\",\"A\")","v":"A"},{"$f":"IF(Attendance($C53,'Daily Register'!KU$3:KU$242)=TRUE,\"P\",\"A\")","v":"A"},{"$f":"IF(Attendance($C53,'Daily Register'!KV$3:KV$242)=TRUE,\"P\",\"A\")","v":"A"},{"$f":"IF(Attendance($C53,'Daily Register'!KW$3:KW$242)=TRUE,\"P\",\"A\")","v":"A"},{"$f":"IF(Attendance($C53,'Daily Register'!KX$3:KX$242)=TRUE,\"P\",\"A\")","v":"A"},{"$f":"IF(Attendance($C53,'Daily Register'!KY$3:KY$242)=TRUE,\"P\",\"A\")","v":"A"},{"$f":"IF(Attendance($C53,'Daily Register'!KZ$3:KZ$242)=TRUE,\"P\",\"A\")","v":"A"},{"$f":"IF(Attendance($C53,'Daily Register'!LA$3:LA$242)=TRUE,\"P\",\"A\")","v":"A"},{"$f":"IF(Attendance($C53,'Daily Register'!LB$3:LB$242)=TRUE,\"P\",\"A\")","v":"A"},{"$f":"IF(Attendance($C53,'Daily Register'!LC$3:LC$242)=TRUE,\"P\",\"A\")","v":"A"},{"$f":"IF(Attendance($C53,'Daily Register'!LD$3:LD$242)=TRUE,\"P\",\"A\")","v":"A"},{"$f":"IF(Attendance($C53,'Daily Register'!LE$3:LE$242)=TRUE,\"P\",\"A\")","v":"A"},{"$f":"IF(Attendance($C53,'Daily Register'!LF$3:LF$242)=TRUE,\"P\",\"A\")","v":"A"},{"$f":"IF(Attendance($C53,'Daily Register'!LG$3:LG$242)=TRUE,\"P\",\"A\")","v":"A"},{"$f":"IF(Attendance($C53,'Daily Register'!LH$3:LH$242)=TRUE,\"P\",\"A\")","v":"A"},{"$f":"IF(Attendance($C53,'Daily Register'!LI$3:LI$242)=TRUE,\"P\",\"A\")","v":"A"},{"$f":"IF(Attendance($C53,'Daily Register'!LJ$3:LJ$242)=TRUE,\"P\",\"A\")","v":"A"},{"$f":"IF(Attendance($C53,'Daily Register'!LK$3:LK$242)=TRUE,\"P\",\"A\")","v":"A"},{"$f":"IF(Attendance($C53,'Daily Register'!LL$3:LL$242)=TRUE,\"P\",\"A\")","v":"A"},{"$f":"IF(Attendance($C53,'Daily Register'!LM$3:LM$242)=TRUE,\"P\",\"A\")","v":"A"},{"$f":"IF(Attendance($C53,'Daily Register'!LN$3:LN$242)=TRUE,\"P\",\"A\")","v":"A"},{"$f":"IF(Attendance($C53,'Daily Register'!LO$3:LO$242)=TRUE,\"P\",\"A\")","v":"A"},{"$f":"IF(Attendance($C53,'Daily Register'!LP$3:LP$242)=TRUE,\"P\",\"A\")","v":"A"},{"$f":"IF(Attendance($C53,'Daily Register'!LQ$3:LQ$242)=TRUE,\"P\",\"A\")","v":"A"},{"$f":"IF(Attendance($C53,'Daily Register'!LR$3:LR$242)=TRUE,\"P\",\"A\")","v":"A"},{"$f":"IF(Attendance($C53,'Daily Register'!LS$3:LS$242)=TRUE,\"P\",\"A\")","v":"A"},{"$f":"IF(Attendance($C53,'Daily Register'!LT$3:LT$242)=TRUE,\"P\",\"A\")","v":"A"},{"$f":"IF(Attendance($C53,'Daily Register'!LU$3:LU$242)=TRUE,\"P\",\"A\")","v":"A"},{"$f":"IF(Attendance($C53,'Daily Register'!LV$3:LV$242)=TRUE,\"P\",\"A\")","v":"A"},{"$f":"IF(Attendance($C53,'Daily Register'!LW$3:LW$242)=TRUE,\"P\",\"A\")","v":"A"},{"$f":"IF(Attendance($C53,'Daily Register'!LX$3:LX$242)=TRUE,\"P\",\"A\")","v":"A"},{"$f":"IF(Attendance($C53,'Daily Register'!LY$3:LY$242)=TRUE,\"P\",\"A\")","v":"A"},{"$f":"IF(Attendance($C53,'Daily Register'!LZ$3:LZ$242)=TRUE,\"P\",\"A\")","v":"A"},{"$f":"IF(Attendance($C53,'Daily Register'!MA$3:MA$242)=TRUE,\"P\",\"A\")","v":"A"},{"$f":"IF(Attendance($C53,'Daily Register'!MB$3:MB$242)=TRUE,\"P\",\"A\")","v":"A"},{"$f":"IF(Attendance($C53,'Daily Register'!MC$3:MC$242)=TRUE,\"P\",\"A\")","v":"A"},{"$f":"IF(Attendance($C53,'Daily Register'!MD$3:MD$242)=TRUE,\"P\",\"A\")","v":"A"},{"$f":"IF(Attendance($C53,'Daily Register'!ME$3:ME$242)=TRUE,\"P\",\"A\")","v":"A"},{"$f":"IF(Attendance($C53,'Daily Register'!MF$3:MF$242)=TRUE,\"P\",\"A\")","v":"A"},{"$f":"IF(Attendance($C53,'Daily Register'!MG$3:MG$242)=TRUE,\"P\",\"A\")","v":"A"},{"$f":"IF(Attendance($C53,'Daily Register'!MH$3:MH$242)=TRUE,\"P\",\"A\")","v":"A"},{"$f":"IF(Attendance($C53,'Daily Register'!MI$3:MI$242)=TRUE,\"P\",\"A\")","v":"A"},{"$f":"IF(Attendance($C53,'Daily Register'!MJ$3:MJ$242)=TRUE,\"P\",\"A\")","v":"A"},{"$f":"IF(Attendance($C53,'Daily Register'!MK$3:MK$242)=TRUE,\"P\",\"A\")","v":"A"},{"$f":"IF(Attendance($C53,'Daily Register'!ML$3:ML$242)=TRUE,\"P\",\"A\")","v":"A"},{"$f":"IF(Attendance($C53,'Daily Register'!MM$3:MM$242)=TRUE,\"P\",\"A\")","v":"A"},{"$f":"IF(Attendance($C53,'Daily Register'!MN$3:MN$242)=TRUE,\"P\",\"A\")","v":"A"},{"$f":"IF(Attendance($C53,'Daily Register'!MO$3:MO$242)=TRUE,\"P\",\"A\")","v":"A"},{"$f":"IF(Attendance($C53,'Daily Register'!MP$3:MP$242)=TRUE,\"P\",\"A\")","v":"A"},{"$f":"IF(Attendance($C53,'Daily Register'!MQ$3:MQ$242)=TRUE,\"P\",\"A\")","v":"A"},{"$f":"IF(Attendance($C53,'Daily Register'!MR$3:MR$242)=TRUE,\"P\",\"A\")","v":"A"},{"$f":"IF(Attendance($C53,'Daily Register'!MS$3:MS$242)=TRUE,\"P\",\"A\")","v":"A"},{"$f":"IF(Attendance($C53,'Daily Register'!MT$3:MT$242)=TRUE,\"P\",\"A\")","v":"A"},{"$f":"IF(Attendance($C53,'Daily Register'!MU$3:MU$242)=TRUE,\"P\",\"A\")","v":"A"},{"$f":"IF(Attendance($C53,'Daily Register'!MV$3:MV$242)=TRUE,\"P\",\"A\")","v":"A"},{"$f":"IF(Attendance($C53,'Daily Register'!MW$3:MW$242)=TRUE,\"P\",\"A\")","v":"A"},{"$f":"IF(Attendance($C53,'Daily Register'!MX$3:MX$242)=TRUE,\"P\",\"A\")","v":"A"},{"$f":"IF(Attendance($C53,'Daily Register'!MY$3:MY$242)=TRUE,\"P\",\"A\")","v":"A"},{"$f":"IF(Attendance($C53,'Daily Register'!MZ$3:MZ$242)=TRUE,\"P\",\"A\")","v":"A"},{"$f":"IF(Attendance($C53,'Daily Register'!NA$3:NA$242)=TRUE,\"P\",\"A\")","v":"A"},{"$f":"IF(Attendance($C53,'Daily Register'!NB$3:NB$242)=TRUE,\"P\",\"A\")","v":"A"}]
[0,null,51,null,{"$f":"IF(Attendance($C54,'Daily Register'!A$3:A$242)=TRUE,\"P\",\"A\")","v":"A"},{"$f":"IF(Attendance($C54,'Daily Register'!B$3:B$242)=TRUE,\"P\",\"A\")","v":"A"},{"$f":"IF(Attendance($C54,'Daily Register'!C$3:C$242)=TRUE,\"P\",\"A\")","v":"A"},{"$f":"IF(Attendance($C54,'Daily Register'!D$3:D$242)=TRUE,\"P\",\"A\")","v":"A"},{"$f":"IF(Attendance($C54,'Daily Register'!E$3:E$242)=TRUE,\"P\",\"A\")","v":"A"},{"$f":"IF(Attendance($C54,'Daily Register'!F$3:F$242)=TRUE,\"P\",\"A\")","v":"A"},{"$f":"IF(Attendance($C54,'Daily Register'!G$3:G$242)=TRUE,\"P\",\"A\")","v":"A"},{"$f":"IF(Attendance($C54,'Daily Register'!H$3:H$242)=TRUE,\"P\",\"A\")","v":"A"},{"$f":"IF(Attendance($C54,'Daily Register'!I$3:I$242)=TRUE,\"P\",\"A\")","v":"A"},{"$f":"IF(Attendance($C54,'Daily Register'!J$3:J$242)=TRUE,\"P\",\"A\")","v":"A"},{"$f":"IF(Attendance($C54,'Daily Register'!K$3:K$242)=TRUE,\"P\",\"A\")","v":"A"},{"$f":"IF(Attendance($C54,'Daily Register'!L$3:L$242)=TRUE,\"P\",\"A\")","v":"A"},{"$f":"IF(Attendance($C54,'Daily Register'!M$3:M$242)=TRUE,\"P\",\"A\")","v":"A"},{"$f":"IF(Attendance($C54,'Daily Register'!N$3:N$242)=TRUE,\"P\",\"A\")","v":"A"},{"$f":"IF(Attendance($C54,'Daily Register'!O$3:O$242)=TRUE,\"P\",\"A\")","v":"A"},{"$f":"IF(Attendance($C54,'Daily Register'!P$3:P$242)=TRUE,\"P\",\"A\")","v":"A"},{"$f":"IF(Attendance($C54,'Daily Register'!Q$3:Q$242)=TRUE,\"P\",\"A\")","v":"A"},{"$f":"IF(Attendance($C54,'Daily Register'!R$3:R$242)=TRUE,\"P\",\"A\")","v":"A"},{"$f":"IF(Attendance($C54,'Daily Register'!S$3:S$242)=TRUE,\"P\",\"A\")","v":"A"},{"$f":"IF(Attendance($C54,'Daily Register'!T$3:T$242)=TRUE,\"P\",\"A\")","v":"A"},{"$f":"IF(Attendance($C54,'Daily Register'!U$3:U$242)=TRUE,\"P\",\"A\")","v":"A"},{"$f":"IF(Attendance($C54,'Daily Register'!V$3:V$242)=TRUE,\"P\",\"A\")","v":"A"},{"$f":"IF(Attendance($C54,'Daily Register'!W$3:W$242)=TRUE,\"P\",\"A\")","v":"A"},{"$f":"IF(Attendance($C54,'Daily Register'!X$3:X$242)=TRUE,\"P\",\"A\")","v":"A"},{"$f":"IF(Attendance($C54,'Daily Register'!Y$3:Y$242)=TRUE,\"P\",\"A\")","v":"A"},{"$f":"IF(Attendance($C54,'Daily Register'!Z$3:Z$242)=TRUE,\"P\",\"A\")","v":"A"},{"$f":"IF(Attendance($C54,'Daily Register'!AA$3:AA$242)=TRUE,\"P\",\"A\")","v":"A"},{"$f":"IF(Attendance($C54,'Daily Register'!AB$3:AB$242)=TRUE,\"P\",\"A\")","v":"A"},{"$f":"IF(Attendance($C54,'Daily Register'!AC$3:AC$242)=TRUE,\"P\",\"A\")","v":"A"},{"$f":"IF(Attendance($C54,'Daily Register'!AD$3:AD$242)=TRUE,\"P\",\"A\")","v":"A"},{"$f":"IF(Attendance($C54,'Daily Register'!AE$3:AE$242)=TRUE,\"P\",\"A\")","v":"A"},{"$f":"IF(Attendance($C54,'Daily Register'!AF$3:AF$242)=TRUE,\"P\",\"A\")","v":"A"},{"$f":"IF(Attendance($C54,'Daily Register'!AG$3:AG$242)=TRUE,\"P\",\"A\")","v":"A"},{"$f":"IF(Attendance($C54,'Daily Register'!AH$3:AH$242)=TRUE,\"P\",\"A\")","v":"A"},{"$f":"IF(Attendance($C54,'Daily Register'!AI$3:AI$242)=TRUE,\"P\",\"A\")","v":"A"},{"$f":"IF(Attendance($C54,'Daily Register'!AJ$3:AJ$242)=TRUE,\"P\",\"A\")","v":"A"},{"$f":"IF(Attendance($C54,'Daily Register'!AK$3:AK$242)=TRUE,\"P\",\"A\")","v":"A"},{"$f":"IF(Attendance($C54,'Daily Register'!AL$3:AL$242)=TRUE,\"P\",\"A\")","v":"A"},{"$f":"IF(Attendance($C54,'Daily Register'!AM$3:AM$242)=TRUE,\"P\",\"A\")","v":"A"},{"$f":"IF(Attendance($C54,'Daily Register'!AN$3:AN$242)=TRUE,\"P\",\"A\")","v":"A"},{"$f":"IF(Attendance($C54,'Daily Register'!AO$3:AO$242)=TRUE,\"P\",\"A\")","v":"A"},{"$f":"IF(Attendance($C54,'Daily Register'!AP$3:AP$242)=TRUE,\"P\",\"A\")","v":"A"},{"$f":"IF(Attendance($C54,'Daily Register'!AQ$3:AQ$242)=TRUE,\"P\",\"A\")","v":"A"},{"$f":"IF(Attendance($C54,'Daily Register'!AR$3:AR$242)=TRUE,\"P\",\"A\")","v":"A"},{"$f":"IF(Attendance($C54,'Daily Register'!AS$3:AS$242)=TRUE,\"P\",\"A\")","v":"A"},{"$f":"IF(Attendance($C54,'Daily Register'!AT$3:AT$242)=TRUE,\"P\",\"A\")","v":"A"},{"$f":"IF(Attendance($C54,'Daily Register'!AU$3:AU$242)=TRUE,\"P\",\"A\")","v":"A"},{"$f":"IF(Attendance($C54,'Daily Register'!AV$3:AV$242)=TRUE,\"P\",\"A\")","v":"A"},{"$f":"IF(Attendance($C54,'Daily Register'!AW$3:AW$242)=TRUE,\"P\",\"A\")","v":"A"},{"$f":"IF(Attendance($C54,'Daily Register'!AX$3:AX$242)=TRUE,\"P\",\"A\")","v":"A"},{"$f":"IF(Attendance($C54,'Daily Register'!AY$3:AY$242)=TRUE,\"P\",\"A\")","v":"A"},{"$f":"IF(Attendance($C54,'Daily Register'!AZ$3:AZ$242)=TRUE,\"P\",\"A\")","v":"A"},{"$f":"IF(Attendance($C54,'Daily Register'!BA$3:BA$242)=TRUE,\"P\",\"A\")","v":"A"},{"$f":"IF(Attendance($C54,'Daily Register'!BB$3:BB$242)=TRUE,\"P\",\"A\")","v":"A"},{"$f":"IF(Attendance($C54,'Daily Register'!BC$3:BC$242)=TRUE,\"P\",\"A\")","v":"A"},{"$f":"IF(Attendance($C54,'Daily Register'!BD$3:BD$242)=TRUE,\"P\",\"A\")","v":"A"},{"$f":"IF(Attendance($C54,'Daily Register'!BE$3:BE$242)=TRUE,\"P\",\"A\")","v":"A"},{"$f":"IF(Attendance($C54,'Daily Register'!BF$3:BF$242)=TRUE,\"P\",\"A\")","v":"A"},{"$f":"IF(Attendance($C54,'Daily Register'!BG$3:BG$242)=TRUE,\"P\",\"A\")","v":"A"},{"$f":"IF(Attendance($C54,'Daily Register'!BH$3:BH$242)=TRUE,\"P\",\"A\")","v":"A"},{"$f":"IF(Attendance($C54,'Daily Register'!BI$3:BI$242)=TRUE,\"P\",\"A\")","v":"A"},{"$f":"IF(Attendance($C54,'Daily Register'!BJ$3:BJ$242)=TRUE,\"P\",\"A\")","v":"A"},{"$f":"IF(Attendance($C54,'Daily Register'!BK$3:BK$242)=TRUE,\"P\",\"A\")","v":"A"},{"$f":"IF(Attendance($C54,'Daily Register'!BL$3:BL$242)=TRUE,\"P\",\"A\")","v":"A"},{"$f":"IF(Attendance($C54,'Daily Register'!BM$3:BM$242)=TRUE,\"P\",\"A\")","v":"A"},{"$f":"IF(Attendance($C54,'Daily Register'!BN$3:BN$242)=TRUE,\"P\",\"A\")","v":"A"},{"$f":"IF(Attendance($C54,'Daily Register'!BO$3:BO$242)=TRUE,\"P\",\"A\")","v":"A"},{"$f":"IF(Attendance($C54,'Daily Register'!BP$3:BP$242)=TRUE,\"P\",\"A\")","v":"A"},{"$f":"IF(Attendance($C54,'Daily Register'!BQ$3:BQ$242)=TRUE,\"P\",\"A\")","v":"A"},{"$f":"IF(Attendance($C54,'Daily Register'!BR$3:BR$242)=TRUE,\"P\",\"A\")","v":"A"},{"$f":"IF(Attendance($C54,'Daily Register'!BS$3:BS$242)=TRUE,\"P\",\"A\")","v":"A"},{"$f":"IF(Attendance($C54,'Daily Register'!BT$3:BT$242)=TRUE,\"P\",\"A\")","v":"A"},{"$f":"IF(Attendance($C54,'Daily Register'!BU$3:BU$242)=TRUE,\"P\",\"A\")","v":"A"},{"$f":"IF(Attendance($C54,'Daily Register'!BV$3:BV$242)=TRUE,\"P\",\"A\")","v":"A"},{"$f":"IF(Attendance($C54,'Daily Register'!BW$3:BW$242)=TRUE,\"P\",\"A\")","v":"A"},{"$f":"IF(Attendance($C54,'Daily Register'!BX$3:BX$242)=TRUE,\"P\",\"A\")","v":"A"},{"$f":"IF(Attendance($C54,'Daily Register'!BY$3:BY$242)=TRUE,\"P\",\"A\")","v":"A"},{"$f":"IF(Attendance($C54,'Daily Register'!BZ$3:BZ$242)=TRUE,\"P\",\"A\")","v":"A"},{"$f":"IF(Attendance($C54,'Daily Register'!CA$3:CA$242)=TRUE,\"P\",\"A\")","v":"A"},{"$f":"IF(Attendance($C54,'Daily Register'!CB$3:CB$242)=TRUE,\"P\",\"A\")","v":"A"},{"$f":"IF(Attendance($C54,'Daily Register'!CC$3:CC$242)=TRUE,\"P\",\"A\")","v":"A"},{"$f":"IF(Attendance($C54,'Daily Register'!CD$3:CD$242)=TRUE,\"P\",\"A\")","v":"A"},{"$f":"IF(Attendance($C54,'Daily Register'!CE$3:CE$242)=TRUE,\"P\",\"A\")","v":"A"},{"$f":"IF(Attendance($C54,'Daily Register'!CF$3:CF$242)=TRUE,\"P\",\"A\")","v":"A"},{"$f":"IF(Attendance($C54,'Daily Register'!CG$3:CG$242)=TRUE,\"P\",\"A\")","v":"A"},{"$f":"IF(Attendance($C54,'Daily Register'!CH$3:CH$242)=TRUE,\"P\",\"A\")","v":"A"},{"$f":"IF(Attendance($C54,'Daily Register'!CI$3:CI$242)=TRUE,\"P\",\"A\")","v":"A"},{"$f":"IF(Attendance($C54,'Daily Register'!CJ$3:CJ$242)=TRUE,\"P\",\"A\")","v":"A"},{"$f":"IF(Attendance($C54,'Daily Register'!CK$3:CK$242)=TRUE,\"P\",\"A\")","v":"A"},{"$f":"IF(Attendance($C54,'Daily Register'!CL$3:CL$242)=TRUE,\"P\",\"A\")","v":"A"},{"$f":"IF(Attendance($C54,'Daily Register'!CM$3:CM$242)=TRUE,\"P\",\"A\")","v":"A"},{"$f":"IF(Attendance($C54,'Daily Register'!CN$3:CN$242)=TRUE,\"P\",\"A\")","v":"A"},{"$f":"IF(Attendance($C54,'Daily Register'!CO$3:CO$242)=TRUE,\"P\",\"A\")","v":"A"},{"$f":"IF(Attendance($C54,'Daily Register'!CP$3:CP$242)=TRUE,\"P\",\"A\")","v":"A"},{"$f":"IF(Attendance($C54,'Daily Register'!CQ$3:CQ$242)=TRUE,\"P\",\"A\")","v":"A"},{"$f":"IF(Attendance($C54,'Daily Register'!CR$3:CR$242)=TRUE,\"P\",\"A\")","v":"A"},{"$f":"IF(Attendance($C54,'Daily Register'!CS$3:CS$242)=TRUE,\"P\",\"A\")","v":"A"},{"$f":"IF(Attendance($C54,'Daily Register'!CT$3:CT$242)=TRUE,\"P\",\"A\")","v":"A"},{"$f":"IF(Attendance($C54,'Daily Register'!CU$3:CU$242)=TRUE,\"P\",\"A\")","v":"A"},{"$f":"IF(Attendance($C54,'Daily Register'!CV$3:CV$242)=TRUE,\"P\",\"A\")","v":"A"},{"$f":"IF(Attendance($C54,'Daily Register'!CW$3:CW$242)=TRUE,\"P\",\"A\")","v":"A"},{"$f":"IF(Attendance($C54,'Daily Register'!CX$3:CX$242)=TRUE,\"P\",\"A\")","v":"A"},{"$f":"IF(Attendance($C54,'Daily Register'!CY$3:CY$242)=TRUE,\"P\",\"A\")","v":"A"},{"$f":"IF(Attendance($C54,'Daily Register'!CZ$3:CZ$242)=TRUE,\"P\",\"A\")","v":"A"},{"$f":"IF(Attendance($C54,'Daily Register'!DA$3:DA$242)=TRUE,\"P\",\"A\")","v":"A"},{"$f":"IF(Attendance($C54,'Daily Register'!DB$3:DB$242)=TRUE,\"P\",\"A\")","v":"A"},{"$f":"IF(Attendance($C54,'Daily Register'!DC$3:DC$242)=TRUE,\"P\",\"A\")","v":"A"},{"$f":"IF(Attendance($C54,'Daily Register'!DD$3:DD$242)=TRUE,\"P\",\"A\")","v":"A"},{"$f":"IF(Attendance($C54,'Daily Register'!DE$3:DE$242)=TRUE,\"P\",\"A\")","v":"A"},{"$f":"IF(Attendance($C54,'Daily Register'!DF$3:DF$242)=TRUE,\"P\",\"A\")","v":"A"},{"$f":"IF(Attendance($C54,'Daily Register'!DG$3:DG$242)=TRUE,\"P\",\"A\")","v":"A"},{"$f":"IF(Attendance($C54,'Daily Register'!DH$3:DH$242)=TRUE,\"P\",\"A\")","v":"A"},{"$f":"IF(Attendance($C54,'Daily Register'!DI$3:DI$242)=TRUE,\"P\",\"A\")","v":"A"},{"$f":"IF(Attendance($C54,'Daily Register'!DJ$3:DJ$242)=TRUE,\"P\",\"A\")","v":"A"},{"$f":"IF(Attendance($C54,'Daily Register'!DK$3:DK$242)=TRUE,\"P\",\"A\")","v":"A"},{"$f":"IF(Attendance($C54,'Daily Register'!DL$3:DL$242)=TRUE,\"P\",\"A\")","v":"A"},{"$f":"IF(Attendance($C54,'Daily Register'!DM$3:DM$242)=TRUE,\"P\",\"A\")","v":"A"},{"$f":"IF(Attendance($C54,'Daily Register'!DN$3:DN$242)=TRUE,\"P\",\"A\")","v":"A"},{"$f":"IF(Attendance($C54,'Daily Register'!DO$3:DO$242)=TRUE,\"P\",\"A\")","v":"A"},{"$f":"IF(Attendance($C54,'Daily Register'!DP$3:DP$242)=TRUE,\"P\",\"A\")","v":"A"},{"$f":"IF(Attendance($C54,'Daily Register'!DQ$3:DQ$242)=TRUE,\"P\",\"A\")","v":"A"},{"$f":"IF(Attendance($C54,'Daily Register'!DR$3:DR$242)=TRUE,\"P\",\"A\")","v":"A"},{"$f":"IF(Attendance($C54,'Daily Register'!DS$3:DS$242)=TRUE,\"P\",\"A\")","v":"A"},{"$f":"IF(Attendance($C54,'Daily Register'!DT$3:DT$242)=TRUE,\"P\",\"A\")","v":"A"},{"$f":"IF(Attendance($C54,'Daily Register'!DU$3:DU$242)=TRUE,\"P\",\"A\")","v":"A"},{"$f":"IF(Attendance($C54,'Daily Register'!DV$3:DV$242)=TRUE,\"P\",\"A\")","v":"A"},{"$f":"IF(Attendance($C54,'Daily Register'!DW$3:DW$242)=TRUE,\"P\",\"A\")","v":"A"},{"$f":"IF(Attendance($C54,'Daily Register'!DX$3:DX$242)=TRUE,\"P\",\"A\")","v":"A"},{"$f":"IF(Attendance($C54,'Daily Register'!DY$3:DY$242)=TRUE,\"P\",\"A\")","v":"A"},{"$f":"IF(Attendance($C54,'Daily Register'!DZ$3:DZ$242)=TRUE,\"P\",\"A\")","v":"A"},{"$f":"IF(Attendance($C54,'Daily Register'!EA$3:EA$242)=TRUE,\"P\",\"A\")","v":"A"},{"$f":"IF(Attendance($C54,'Daily Register'!EB$3:EB$242)=TRUE,\"P\",\"A\")","v":"A"},{"$f":"IF(Attendance($C54,'Daily Register'!EC$3:EC$242)=TRUE,\"P\",\"A\")","v":"A"},{"$f":"IF(Attendance($C54,'Daily Register'!ED$3:ED$242)=TRUE,\"P\",\"A\")","v":"A"},{"$f":"IF(Attendance($C54,'Daily Register'!EE$3:EE$242)=TRUE,\"P\",\"A\")","v":"A"},{"$f":"IF(Attendance($C54,'Daily Register'!EF$3:EF$242)=TRUE,\"P\",\"A\")","v":"A"},{"$f":"IF(Attendance($C54,'Daily Register'!EG$3:EG$242)=TRUE,\"P\",\"A\")","v":"A"},{"$f":"IF(Attendance($C54,'Daily Register'!EH$3:EH$242)=TRUE,\"P\",\"A\")","v":"A"},{"$f":"IF(Attendance($C54,'Daily Register'!EI$3:EI$242)=TRUE,\"P\",\"A\")","v":"A"},{"$f":"IF(Attendance($C54,'Daily Register'!EJ$3:EJ$242)=TRUE,\"P\",\"A\")","v":"A"},{"$f":"IF(Attendance($C54,'Daily Register'!EK$3:EK$242)=TRUE,\"P\",\"A\")","v":"A"},{"$f":"IF(Attendance($C54,'Daily Register'!EL$3:EL$242)=TRUE,\"P\",\"A\")","v":"A"},{"$f":"IF(Attendance($C54,'Daily Register'!EM$22:EM$242)=TRUE,\"P\",\"A\")","v":"A"},{"$f":"IF(Attendance($C54,'Daily Register'!EN$3:EN$242)=TRUE,\"P\",\"A\")","v":"A"},{"$f":"IF(Attendance($C54,'Daily Register'!EO$3:EO$242)=TRUE,\"P\",\"A\")","v":"A"},{"$f":"IF(Attendance($C54,'Daily Register'!EP$3:EP$242)=TRUE,\"P\",\"A\")","v":"A"},{"$f":"IF(Attendance($C54,'Daily Register'!EQ$3:EQ$242)=TRUE,\"P\",\"A\")","v":"A"},{"$f":"IF(Attendance($C54,'Daily Register'!ER$3:ER$242)=TRUE,\"P\",\"A\")","v":"A"},{"$f":"IF(Attendance($C54,'Daily Register'!ES$3:ES$242)=TRUE,\"P\",\"A\")","v":"A"},{"$f":"IF(Attendance($C54,'Daily Register'!ET$3:ET$242)=TRUE,\"P\",\"A\")","v":"A"},{"$f":"IF(Attendance($C54,'Daily Register'!EU$3:EU$242)=TRUE,\"P\",\"A\")","v":"A"},{"$f":"IF(Attendance($C54,'Daily Register'!EV$3:EV$242)=TRUE,\"P\",\"A\")","v":"A"},{"$f":"IF(Attendance($C54,'Daily Register'!EW$3:EW$242)=TRUE,\"P\",\"A\")","v":"A"},{"$f":"IF(Attendance($C54,'Daily Register'!EX$3:EX$242)=TRUE,\"P\",\"A\")","v":"A"},{"$f":"IF(Attendance($C54,'Daily Register'!EY$3:EY$242)=TRUE,\"P\",\"A\")","v":"A"},{"$f":"IF(Attendance($C54,'Daily Register'!EZ$3:EZ$242)=TRUE,\"P\",\"A\")","v":"A"},{"$f":"IF(Attendance($C54,'Daily Register'!FA$3:FA$242)=TRUE,\"P\",\"A\")","v":"A"},{"$f":"IF(Attendance($C54,'Daily Register'!FB$3:FB$242)=TRUE,\"P\",\"A\")","v":"A"},{"$f":"IF(Attendance($C54,'Daily Register'!FC$3:FC$242)=TRUE,\"P\",\"A\")","v":"A"},{"$f":"IF(Attendance($C54,'Daily Register'!FD$3:FD$242)=TRUE,\"P\",\"A\")","v":"A"},{"$f":"IF(Attendance($C54,'Daily Register'!FE$3:FE$242)=TRUE,\"P\",\"A\")","v":"A"},{"$f":"IF(Attendance($C54,'Daily Register'!FF$3:FF$242)=TRUE,\"P\",\"A\")","v":"A"},{"$f":"IF(Attendance($C54,'Daily Register'!FG$3:FG$242)=TRUE,\"P\",\"A\")","v":"A"},{"$f":"IF(Attendance($C54,'Daily Register'!FH$3:FH$242)=TRUE,\"P\",\"A\")","v":"A"},{"$f":"IF(Attendance($C54,'Daily Register'!FI$3:FI$242)=TRUE,\"P\",\"A\")","v":"A"},{"$f":"IF(Attendance($C54,'Daily Register'!FJ$3:FJ$242)=TRUE,\"P\",\"A\")","v":"A"},{"$f":"IF(Attendance($C54,'Daily Register'!FK$3:FK$242)=TRUE,\"P\",\"A\")","v":"A"},{"$f":"IF(Attendance($C54,'Daily Register'!FL$3:FL$242)=TRUE,\"P\",\"A\")","v":"A"},{"$f":"IF(Attendance($C54,'Daily Register'!FM$3:FM$242)=TRUE,\"P\",\"A\")","v":"A"},{"$f":"IF(Attendance($C54,'Daily Register'!FN$3:FN$242)=TRUE,\"P\",\"A\")","v":"A"},{"$f":"IF(Attendance($C54,'Daily Register'!FO$3:FO$242)=TRUE,\"P\",\"A\")","v":"A"},{"$f":"IF(Attendance($C54,'Daily Register'!FP$3:FP$242)=TRUE,\"P\",\"A\")","v":"A"},{"$f":"IF(Attendance($C54,'Daily Register'!FQ$3:FQ$242)=TRUE,\"P\",\"A\")","v":"A"},{"$f":"IF(Attendance($C54,'Daily Register'!FR$3:FR$242)=TRUE,\"P\",\"A\")","v":"A"},{"$f":"IF(Attendance($C54,'Daily Register'!FS$3:FS$242)=TRUE,\"P\",\"A\")","v":"A"},{"$f":"IF(Attendance($C54,'Daily Register'!FT$3:FT$242)=TRUE,\"P\",\"A\")","v":"A"},{"$f":"IF(Attendance($C54,'Daily Register'!FU$3:FU$242)=TRUE,\"P\",\"A\")","v":"A"},{"$f":"IF(Attendance($C54,'Daily Register'!FV$3:FV$242)=TRUE,\"P\",\"A\")","v":"A"},{"$f":"IF(Attendance($C54,'Daily Register'!FW$3:FW$242)=TRUE,\"P\",\"A\")","v":"A"},{"$f":"IF(Attendance($C54,'Daily Register'!FX$3:FX$242)=TRUE,\"P\",\"A\")","v":"A"},{"$f":"IF(Attendance($C54,'Daily Register'!FY$3:FY$242)=TRUE,\"P\",\"A\")","v":"A"},{"$f":"IF(Attendance($C54,'Daily Register'!FZ$3:FZ$242)=TRUE,\"P\",\"A\")","v":"A"},{"$f":"IF(Attendance($C54,'Daily Register'!GA$3:GA$242)=TRUE,\"P\",\"A\")","v":"A"},{"$f":"IF(Attendance($C54,'Daily Register'!GB$3:GB$242)=TRUE,\"P\",\"A\")","v":"A"},{"$f":"IF(Attendance($C54,'Daily Register'!GC$3:GC$242)=TRUE,\"P\",\"A\")","v":"A"},{"$f":"IF(Attendance($C54,'Daily Register'!GD$3:GD$242)=TRUE,\"P\",\"A\")","v":"A"},{"$f":"IF(Attendance($C54,'Daily Register'!GE$3:GE$242)=TRUE,\"P\",\"A\")","v":"A"},{"$f":"IF(Attendance($C54,'Daily Register'!GF$3:GF$242)=TRUE,\"P\",\"A\")","v":"A"},{"$f":"IF(Attendance($C54,'Daily Register'!GG$3:GG$242)=TRUE,\"P\",\"A\")","v":"A"},{"$f":"IF(Attendance($C54,'Daily Register'!GH$3:GH$242)=TRUE,\"P\",\"A\")","v":"A"},{"$f":"IF(Attendance($C54,'Daily Register'!GI$3:GI$242)=TRUE,\"P\",\"A\")","v":"A"},{"$f":"IF(Attendance($C54,'Daily Register'!GJ$3:GJ$242)=TRUE,\"P\",\"A\")","v":"A"},{"$f":"IF(Attendance($C54,'Daily Register'!GK$3:GK$242)=TRUE,\"P\",\"A\")","v":"A"},{"$f":"IF(Attendance($C54,'Daily Register'!GL$3:GL$242)=TRUE,\"P\",\"A\")","v":"A"},{"$f":"IF(Attendance($C54,'Daily Register'!GM$3:GM$242)=TRUE,\"P\",\"A\")","v":"A"},{"$f":"IF(Attendance($C54,'Daily Register'!GN$3:GN$242)=TRUE,\"P\",\"A\")","v":"A"},{"$f":"IF(Attendance($C54,'Daily Register'!GO$3:GO$242)=TRUE,\"P\",\"A\")","v":"A"},{"$f":"IF(Attendance($C54,'Daily Register'!GP$3:GP$242)=TRUE,\"P\",\"A\")","v":"A"},{"$f":"IF(Attendance($C54,'Daily Register'!GQ$3:GQ$242)=TRUE,\"P\",\"A\")","v":"A"},{"$f":"IF(Attendance($C54,'Daily Register'!GR$3:GR$242)=TRUE,\"P\",\"A\")","v":"A"},{"$f":"IF(Attendance($C54,'Daily Register'!GS$3:GS$242)=TRUE,\"P\",\"A\")","v":"A"},{"$f":"IF(Attendance($C54,'Daily Register'!GT$3:GT$242)=TRUE,\"P\",\"A\")","v":"A"},{"$f":"IF(Attendance($C54,'Daily Register'!GU$3:GU$242)=TRUE,\"P\",\"A\")","v":"A"},{"$f":"IF(Attendance($C54,'Daily Register'!GV$3:GV$242)=TRUE,\"P\",\"A\")","v":"A"},{"$f":"IF(Attendance($C54,'Daily Register'!GW$3:GW$242)=TRUE,\"P\",\"A\")","v":"A"},{"$f":"IF(Attendance($C54,'Daily Register'!GX$3:GX$242)=TRUE,\"P\",\"A\")","v":"A"},{"$f":"IF(Attendance($C54,'Daily Register'!GY$3:GY$242)=TRUE,\"P\",\"A\")","v":"A"},{"$f":"IF(Attendance($C54,'Daily Register'!GZ$3:GZ$242)=TRUE,\"P\",\"A\")","v":"A"},{"$f":"IF(Attendance($C54,'Daily Register'!HA$3:HA$242)=TRUE,\"P\",\"A\")","v":"A"},{"$f":"IF(Attendance($C54,'Daily Register'!HB$3:HB$242)=TRUE,\"P\",\"A\")","v":"A"},{"$f":"IF(Attendance($C54,'Daily Register'!HC$3:HC$242)=TRUE,\"P\",\"A\")","v":"A"},{"$f":"IF(Attendance($C54,'Daily Register'!HD$3:HD$242)=TRUE,\"P\",\"A\")","v":"A"},{"$f":"IF(Attendance($C54,'Daily Register'!HE$3:HE$242)=TRUE,\"P\",\"A\")","v":"A"},{"$f":"IF(Attendance($C54,'Daily Register'!HF$3:HF$242)=TRUE,\"P\",\"A\")","v":"A"},{"$f":"IF(Attendance($C54,'Daily Register'!HG$3:HG$242)=TRUE,\"P\",\"A\")","v":"A"},{"$f":"IF(Attendance($C54,'Daily Register'!HH$3:HH$242)=TRUE,\"P\",\"A\")","v":"A"},{"$f":"IF(Attendance($C54,'Daily Register'!HI$3:HI$242)=TRUE,\"P\",\"A\")","v":"A"},{"$f":"IF(Attendance($C54,'Daily Register'!HJ$3:HJ$242)=TRUE,\"P\",\"A\")","v":"A"},{"$f":"IF(Attendance($C54,'Daily Register'!HK$3:HK$242)=TRUE,\"P\",\"A\")","v":"A"},{"$f":"IF(Attendance($C54,'Daily Register'!HL$3:HL$242)=TRUE,\"P\",\"A\")","v":"A"},{"$f":"IF(Attendance($C54,'Daily Register'!HM$3:HM$242)=TRUE,\"P\",\"A\")","v":"A"},{"$f":"IF(Attendance($C54,'Daily Register'!HN$3:HN$242)=TRUE,\"P\",\"A\")","v":"A"},{"$f":"IF(Attendance($C54,'Daily Register'!HO$3:HO$242)=TRUE,\"P\",\"A\")","v":"A"},{"$f":"IF(Attendance($C54,'Daily Register'!HP$3:HP$242)=TRUE,\"P\",\"A\")","v":"A"},{"$f":"IF(Attendance($C54,'Daily Register'!HQ$3:HQ$242)=TRUE,\"P\",\"A\")","v":"A"},{"$f":"IF(Attendance($C54,'Daily Register'!HR$3:HR$242)=TRUE,\"P\",\"A\")","v":"A"},{"$f":"IF(Attendance($C54,'Daily Register'!HS$3:HS$242)=TRUE,\"P\",\"A\")","v":"A"},{"$f":"IF(Attendance($C54,'Daily Register'!HT$3:HT$242)=TRUE,\"P\",\"A\")","v":"A"},{"$f":"IF(Attendance($C54,'Daily Register'!HU$3:HU$242)=TRUE,\"P\",\"A\")","v":"A"},{"$f":"IF(Attendance($C54,'Daily Register'!HV$3:HV$242)=TRUE,\"P\",\"A\")","v":"A"},{"$f":"IF(Attendance($C54,'Daily Register'!HW$3:HW$242)=TRUE,\"P\",\"A\")","v":"A"},{"$f":"IF(Attendance($C54,'Daily Register'!HX$3:HX$242)=TRUE,\"P\",\"A\")","v":"A"},{"$f":"IF(Attendance($C54,'Daily Register'!HY$3:HY$242)=TRUE,\"P\",\"A\")","v":"A"},{"$f":"IF(Attendance($C54,'Daily Register'!HZ$3:HZ$242)=TRUE,\"P\",\"A\")","v":"A"},{"$f":"IF(Attendance($C54,'Daily Register'!IA$3:IA$242)=TRUE,\"P\",\"A\")","v":"A"},{"$f":"IF(Attendance($C54,'Daily Register'!IB$3:IB$242)=TRUE,\"P\",\"A\")","v":"A"},{"$f":"IF(Attendance($C54,'Daily Register'!IC$3:IC$242)=TRUE,\"P\",\"A\")","v":"A"},{"$f":"IF(Attendance($C54,'Daily Register'!ID$3:ID$242)=TRUE,\"P\",\"A\")","v":"A"},{"$f":"IF(Attendance($C54,'Daily Register'!IE$3:IE$242)=TRUE,\"P\",\"A\")","v":"A"},{"$f":"IF(Attendance($C54,'Daily Register'!IF$3:IF$242)=TRUE,\"P\",\"A\")","v":"A"},{"$f":"IF(Attendance($C54,'Daily Register'!IG$3:IG$242)=TRUE,\"P\",\"A\")","v":"A"},{"$f":"IF(Attendance($C54,'Daily Register'!IH$3:IH$242)=TRUE,\"P\",\"A\")","v":"A"},{"$f":"IF(Attendance($C54,'Daily Register'!II$3:II$242)=TRUE,\"P\",\"A\")","v":"A"},{"$f":"IF(Attendance($C54,'Daily Register'!IJ$3:IJ$242)=TRUE,\"P\",\"A\")","v":"A"},{"$f":"IF(Attendance($C54,'Daily Register'!IK$3:IK$242)=TRUE,\"P\",\"A\")","v":"A"},{"$f":"IF(Attendance($C54,'Daily Register'!IL$3:IL$242)=TRUE,\"P\",\"A\")","v":"A"},{"$f":"IF(Attendance($C54,'Daily Register'!IM$3:IM$242)=TRUE,\"P\",\"A\")","v":"A"},{"$f":"IF(Attendance($C54,'Daily Register'!IN$3:IN$242)=TRUE,\"P\",\"A\")","v":"A"},{"$f":"IF(Attendance($C54,'Daily Register'!IO$3:IO$242)=TRUE,\"P\",\"A\")","v":"A"},{"$f":"IF(Attendance($C54,'Daily Register'!IP$3:IP$242)=TRUE,\"P\",\"A\")","v":"A"},{"$f":"IF(Attendance($C54,'Daily Register'!IQ$3:IQ$242)=TRUE,\"P\",\"A\")","v":"A"},{"$f":"IF(Attendance($C54,'Daily Register'!IR$3:IR$242)=TRUE,\"P\",\"A\")","v":"A"},{"$f":"IF(Attendance($C54,'Daily Register'!IS$3:IS$242)=TRUE,\"P\",\"A\")","v":"A"},{"$f":"IF(Attendance($C54,'Daily Register'!IT$3:IT$242)=TRUE,\"P\",\"A\")","v":"A"},{"$f":"IF(Attendance($C54,'Daily Register'!IU$3:IU$242)=TRUE,\"P\",\"A\")","v":"A"},{"$f":"IF(Attendance($C54,'Daily Register'!IV$3:IV$242)=TRUE,\"P\",\"A\")","v":"A"},{"$f":"IF(Attendance($C54,'Daily Register'!IW$3:IW$242)=TRUE,\"P\",\"A\")","v":"A"},{"$f":"IF(Attendance($C54,'Daily Register'!IX$3:IX$242)=TRUE,\"P\",\"A\")","v":"A"},{"$f":"IF(Attendance($C54,'Daily Register'!IY$3:IY$242)=TRUE,\"P\",\"A\")","v":"A"},{"$f":"IF(Attendance($C54,'Daily Register'!IZ$3:IZ$242)=TRUE,\"P\",\"A\")","v":"A"},{"$f":"IF(Attendance($C54,'Daily Register'!JA$3:JA$242)=TRUE,\"P\",\"A\")","v":"A"},{"$f":"IF(Attendance($C54,'Daily Register'!JB$3:JB$242)=TRUE,\"P\",\"A\")","v":"A"},{"$f":"IF(Attendance($C54,'Daily Register'!JC$3:JC$242)=TRUE,\"P\",\"A\")","v":"A"},{"$f":"IF(Attendance($C54,'Daily Register'!JD$3:JD$242)=TRUE,\"P\",\"A\")","v":"A"},{"$f":"IF(Attendance($C54,'Daily Register'!JE$3:JE$242)=TRUE,\"P\",\"A\")","v":"A"},{"$f":"IF(Attendance($C54,'Daily Register'!JF$3:JF$242)=TRUE,\"P\",\"A\")","v":"A"},{"$f":"IF(Attendance($C54,'Daily Register'!JG$3:JG$242)=TRUE,\"P\",\"A\")","v":"A"},{"$f":"IF(Attendance($C54,'Daily Register'!JH$3:JH$242)=TRUE,\"P\",\"A\")","v":"A"},{"$f":"IF(Attendance($C54,'Daily Register'!JI$3:JI$242)=TRUE,\"P\",\"A\")","v":"A"},{"$f":"IF(Attendance($C54,'Daily Register'!JJ$3:JJ$242)=TRUE,\"P\",\"A\")","v":"A"},{"$f":"IF(Attendance($C54,'Daily Register'!JK$3:JK$242)=TRUE,\"P\",\"A\")","v":"A"},{"$f":"IF(Attendance($C54,'Daily Register'!JL$3:JL$242)=TRUE,\"P\",\"A\")","v":"A"},{"$f":"IF(Attendance($C54,'Daily Register'!JM$3:JM$242)=TRUE,\"P\",\"A\")","v":"A"},{"$f":"IF(Attendance($C54,'Daily Register'!JN$3:JN$242)=TRUE,\"P\",\"A\")","v":"A"},{"$f":"IF(Attendance($C54,'Daily Register'!JO$3:JO$242)=TRUE,\"P\",\"A\")","v":"A"},{"$f":"IF(Attendance($C54,'Daily Register'!JP$3:JP$242)=TRUE,\"P\",\"A\")","v":"A"},{"$f":"IF(Attendance($C54,'Daily Register'!JQ$3:JQ$242)=TRUE,\"P\",\"A\")","v":"A"},{"$f":"IF(Attendance($C54,'Daily Register'!JR$3:JR$242)=TRUE,\"P\",\"A\")","v":"A"},{"$f":"IF(Attendance($C54,'Daily Register'!JS$3:JS$242)=TRUE,\"P\",\"A\")","v":"A"},{"$f":"IF(Attendance($C54,'Daily Register'!JT$3:JT$242)=TRUE,\"P\",\"A\")","v":"A"},{"$f":"IF(Attendance($C54,'Daily Register'!JU$3:JU$242)=TRUE,\"P\",\"A\")","v":"A"},{"$f":"IF(Attendance($C54,'Daily Register'!JV$3:JV$242)=TRUE,\"P\",\"A\")","v":"A"},{"$f":"IF(Attendance($C54,'Daily Register'!JW$3:JW$242)=TRUE,\"P\",\"A\")","v":"A"},{"$f":"IF(Attendance($C54,'Daily Register'!JX$3:JX$242)=TRUE,\"P\",\"A\")","v":"A"},{"$f":"IF(Attendance($C54,'Daily Register'!JY$3:JY$242)=TRUE,\"P\",\"A\")","v":"A"},{"$f":"IF(Attendance($C54,'Daily Register'!JZ$3:JZ$242)=TRUE,\"P\",\"A\")","v":"A"},{"$f":"IF(Attendance($C54,'Daily Register'!KA$3:KA$242)=TRUE,\"P\",\"A\")","v":"A"},{"$f":"IF(Attendance($C54,'Daily Register'!KB$3:KB$242)=TRUE,\"P\",\"A\")","v":"A"},{"$f":"IF(Attendance($C54,'Daily Register'!KC$3:KC$242)=TRUE,\"P\",\"A\")","v":"A"},{"$f":"IF(Attendance($C54,'Daily Register'!KD$3:KD$242)=TRUE,\"P\",\"A\")","v":"A"},{"$f":"IF(Attendance($C54,'Daily Register'!KE$3:KE$242)=TRUE,\"P\",\"A\")","v":"A"},{"$f":"IF(Attendance($C54,'Daily Register'!KF$3:KF$242)=TRUE,\"P\",\"A\")","v":"A"},{"$f":"IF(Attendance($C54,'Daily Register'!KG$3:KG$242)=TRUE,\"P\",\"A\")","v":"A"},{"$f":"IF(Attendance($C54,'Daily Register'!KH$3:KH$242)=TRUE,\"P\",\"A\")","v":"A"},{"$f":"IF(Attendance($C54,'Daily Register'!KI$3:KI$242)=TRUE,\"P\",\"A\")","v":"A"},{"$f":"IF(Attendance($C54,'Daily Register'!KJ$3:KJ$242)=TRUE,\"P\",\"A\")","v":"A"},{"$f":"IF(Attendance($C54,'Daily Register'!KK$3:KK$242)=TRUE,\"P\",\"A\")","v":"A"},{"$f":"IF(Attendance($C54,'Daily Register'!KL$3:KL$242)=TRUE,\"P\",\"A\")","v":"A"},{"$f":"IF(Attendance($C54,'Daily Register'!KM$3:KM$242)=TRUE,\"P\",\"A\")","v":"A"},{"$f":"IF(Attendance($C54,'Daily Register'!KN$3:KN$242)=TRUE,\"P\",\"A\")","v":"A"},{"$f":"IF(Attendance($C54,'Daily Register'!KO$3:KO$242)=TRUE,\"P\",\"A\")","v":"A"},{"$f":"IF(Attendance($C54,'Daily Register'!KP$3:KP$242)=TRUE,\"P\",\"A\")","v":"A"},{"$f":"IF(Attendance($C54,'Daily Register'!KQ$3:KQ$242)=TRUE,\"P\",\"A\")","v":"A"},{"$f":"IF(Attendance($C54,'Daily Register'!KR$3:KR$242)=TRUE,\"P\",\"A\")","v":"A"},{"$f":"IF(Attendance($C54,'Daily Register'!KS$3:KS$242)=TRUE,\"P\",\"A\")","v":"A"},{"$f":"IF(Attendance($C54,'Daily Register'!KT$3:KT$242)=TRUE,\"P\",\"A\")","v":"A"},{"$f":"IF(Attendance($C54,'Daily Register'!KU$3:KU$242)=TRUE,\"P\",\"A\")","v":"A"},{"$f":"IF(Attendance($C54,'Daily Register'!KV$3:KV$242)=TRUE,\"P\",\"A\")","v":"A"},{"$f":"IF(Attendance($C54,'Daily Register'!KW$3:KW$242)=TRUE,\"P\",\"A\")","v":"A"},{"$f":"IF(Attendance($C54,'Daily Register'!KX$3:KX$242)=TRUE,\"P\",\"A\")","v":"A"},{"$f":"IF(Attendance($C54,'Daily Register'!KY$3:KY$242)=TRUE,\"P\",\"A\")","v":"A"},{"$f":"IF(Attendance($C54,'Daily Register'!KZ$3:KZ$242)=TRUE,\"P\",\"A\")","v":"A"},{"$f":"IF(Attendance($C54,'Daily Register'!LA$3:LA$242)=TRUE,\"P\",\"A\")","v":"A"},{"$f":"IF(Attendance($C54,'Daily Register'!LB$3:LB$242)=TRUE,\"P\",\"A\")","v":"A"},{"$f":"IF(Attendance($C54,'Daily Register'!LC$3:LC$242)=TRUE,\"P\",\"A\")","v":"A"},{"$f":"IF(Attendance($C54,'Daily Register'!LD$3:LD$242)=TRUE,\"P\",\"A\")","v":"A"},{"$f":"IF(Attendance($C54,'Daily Register'!LE$3:LE$242)=TRUE,\"P\",\"A\")","v":"A"},{"$f":"IF(Attendance($C54,'Daily Register'!LF$3:LF$242)=TRUE,\"P\",\"A\")","v":"A"},{"$f":"IF(Attendance($C54,'Daily Register'!LG$3:LG$242)=TRUE,\"P\",\"A\")","v":"A"},{"$f":"IF(Attendance($C54,'Daily Register'!LH$3:LH$242)=TRUE,\"P\",\"A\")","v":"A"},{"$f":"IF(Attendance($C54,'Daily Register'!LI$3:LI$242)=TRUE,\"P\",\"A\")","v":"A"},{"$f":"IF(Attendance($C54,'Daily Register'!LJ$3:LJ$242)=TRUE,\"P\",\"A\")","v":"A"},{"$f":"IF(Attendance($C54,'Daily Register'!LK$3:LK$242)=TRUE,\"P\",\"A\")","v":"A"},{"$f":"IF(Attendance($C54,'Daily Register'!LL$3:LL$242)=TRUE,\"P\",\"A\")","v":"A"},{"$f":"IF(Attendance($C54,'Daily Register'!LM$3:LM$242)=TRUE,\"P\",\"A\")","v":"A"},{"$f":"IF(Attendance($C54,'Daily Register'!LN$3:LN$242)=TRUE,\"P\",\"A\")","v":"A"},{"$f":"IF(Attendance($C54,'Daily Register'!LO$3:LO$242)=TRUE,\"P\",\"A\")","v":"A"},{"$f":"IF(Attendance($C54,'Daily Register'!LP$3:LP$242)=TRUE,\"P\",\"A\")","v":"A"},{"$f":"IF(Attendance($C54,'Daily Register'!LQ$3:LQ$242)=TRUE,\"P\",\"A\")","v":"A"},{"$f":"IF(Attendance($C54,'Daily Register'!LR$3:LR$242)=TRUE,\"P\",\"A\")","v":"A"},{"$f":"IF(Attendance($C54,'Daily Register'!LS$3:LS$242)=TRUE,\"P\",\"A\")","v":"A"},{"$f":"IF(Attendance($C54,'Daily Register'!LT$3:LT$242)=TRUE,\"P\",\"A\")","v":"A"},{"$f":"IF(Attendance($C54,'Daily Register'!LU$3:LU$242)=TRUE,\"P\",\"A\")","v":"A"},{"$f":"IF(Attendance($C54,'Daily Register'!LV$3:LV$242)=TRUE,\"P\",\"A\")","v":"A"},{"$f":"IF(Attendance($C54,'Daily Register'!LW$3:LW$242)=TRUE,\"P\",\"A\")","v":"A"},{"$f":"IF(Attendance($C54,'Daily Register'!LX$3:LX$242)=TRUE,\"P\",\"A\")","v":"A"},{"$f":"IF(Attendance($C54,'Daily Register'!LY$3:LY$242)=TRUE,\"P\",\"A\")","v":"A"},{"$f":"IF(Attendance($C54,'Daily Register'!LZ$3:LZ$242)=TRUE,\"P\",\"A\")","v":"A"},{"$f":"IF(Attendance($C54,'Daily Register'!MA$3:MA$242)=TRUE,\"P\",\"A\")","v":"A"},{"$f":"IF(Attendance($C54,'Daily Register'!MB$3:MB$242)=TRUE,\"P\",\"A\")","v":"A"},{"$f":"IF(Attendance($C54,'Daily Register'!MC$3:MC$242)=TRUE,\"P\",\"A\")","v":"A"},{"$f":"IF(Attendance($C54,'Daily Register'!MD$3:MD$242)=TRUE,\"P\",\"A\")","v":"A"},{"$f":"IF(Attendance($C54,'Daily Register'!ME$3:ME$242)=TRUE,\"P\",\"A\")","v":"A"},{"$f":"IF(Attendance($C54,'Daily Register'!MF$3:MF$242)=TRUE,\"P\",\"A\")","v":"A"},{"$f":"IF(Attendance($C54,'Daily Register'!MG$3:MG$242)=TRUE,\"P\",\"A\")","v":"A"},{"$f":"IF(Attendance($C54,'Daily Register'!MH$3:MH$242)=TRUE,\"P\",\"A\")","v":"A"},{"$f":"IF(Attendance($C54,'Daily Register'!MI$3:MI$242)=TRUE,\"P\",\"A\")","v":"A"},{"$f":"IF(Attendance($C54,'Daily Register'!MJ$3:MJ$242)=TRUE,\"P\",\"A\")","v":"A"},{"$f":"IF(Attendance($C54,'Daily Register'!MK$3:MK$242)=TRUE,\"P\",\"A\")","v":"A"},{"$f":"IF(Attendance($C54,'Daily Register'!ML$3:ML$242)=TRUE,\"P\",\"A\")","v":"A"},{"$f":"IF(Attendance($C54,'Daily Register'!MM$3:MM$242)=TRUE,\"P\",\"A\")","v":"A"},{"$f":"IF(Attendance($C54,'Daily Register'!MN$3:MN$242)=TRUE,\"P\",\"A\")","v":"A"},{"$f":"IF(Attendance($C54,'Daily Register'!MO$3:MO$242)=TRUE,\"P\",\"A\")","v":"A"},{"$f":"IF(Attendance($C54,'Daily Register'!MP$3:MP$242)=TRUE,\"P\",\"A\")","v":"A"},{"$f":"IF(Attendance($C54,'Daily Register'!MQ$3:MQ$242)=TRUE,\"P\",\"A\")","v":"A"},{"$f":"IF(Attendance($C54,'Daily Register'!MR$3:MR$242)=TRUE,\"P\",\"A\")","v":"A"},{"$f":"IF(Attendance($C54,'Daily Register'!MS$3:MS$242)=TRUE,\"P\",\"A\")","v":"A"},{"$f":"IF(Attendance($C54,'Daily Register'!MT$3:MT$242)=TRUE,\"P\",\"A\")","v":"A"},{"$f":"IF(Attendance($C54,'Daily Register'!MU$3:MU$242)=TRUE,\"P\",\"A\")","v":"A"},{"$f":"IF(Attendance($C54,'Daily Register'!MV$3:MV$242)=TRUE,\"P\",\"A\")","v":"A"},{"$f":"IF(Attendance($C54,'Daily Register'!MW$3:MW$242)=TRUE,\"P\",\"A\")","v":"A"},{"$f":"IF(Attendance($C54,'Daily Register'!MX$3:MX$242)=TRUE,\"P\",\"A\")","v":"A"},{"$f":"IF(Attendance($C54,'Daily Register'!MY$3:MY$242)=TRUE,\"P\",\"A\")","v":"A"},{"$f":"IF(Attendance($C54,'Daily Register'!MZ$3:MZ$242)=TRUE,\"P\",\"A\")","v":"A"},{"$f":"IF(Attendance($C54,'Daily Register'!NA$3:NA$242)=TRUE,\"P\",\"A\")","v":"A"},{"$f":"IF(Attendance($C54,'Daily Register'!NB$3:NB$242)=TRUE,\"P\",\"A\")","v":"A"}]
[0,null,52,null,{"$f":"IF(Attendance($C55,'Daily Register'!A$3:A$242)=TRUE,\"P\",\"A\")","v":"A"},{"$f":"IF(Attendance($C55,'Daily Register'!B$3:B$242)=TRUE,\"P\",\"A\")","v":"A"},{"$f":"IF(Attendance($C55,'Daily Register'!C$3:C$242)=TRUE,\"P\",\"A\")","v":"A"},{"$f":"IF(Attendance($C55,'Daily Register'!D$3:D$242)=TRUE,\"P\",\"A\")","v":"A"},{"$f":"IF(Attendance($C55,'Daily Register'!E$3:E$242)=TRUE,\"P\",\"A\")","v":"A"},{"$f":"IF(Attendance($C55,'Daily Register'!F$3:F$242)=TRUE,\"P\",\"A\")","v":"A"},{"$f":"IF(Attendance($C55,'Daily Register'!G$3:G$242)=TRUE,\"P\",\"A\")","v":"A"},{"$f":"IF(Attendance($C55,'Daily Register'!H$3:H$242)=TRUE,\"P\",\"A\")","v":"A"},{"$f":"IF(Attendance($C55,'Daily Register'!I$3:I$242)=TRUE,\"P\",\"A\")","v":"A"},{"$f":"IF(Attendance($C55,'Daily Register'!J$3:J$242)=TRUE,\"P\",\"A\")","v":"A"},{"$f":"IF(Attendance($C55,'Daily Register'!K$3:K$242)=TRUE,\"P\",\"A\")","v":"A"},{"$f":"IF(Attendance($C55,'Daily Register'!L$3:L$242)=TRUE,\"P\",\"A\")","v":"A"},{"$f":"IF(Attendance($C55,'Daily Register'!M$3:M$242)=TRUE,\"P\",\"A\")","v":"A"},{"$f":"IF(Attendance($C55,'Daily Register'!N$3:N$242)=TRUE,\"P\",\"A\")","v":"A"},{"$f":"IF(Attendance($C55,'Daily Register'!O$3:O$242)=TRUE,\"P\",\"A\")","v":"A"},{"$f":"IF(Attendance($C55,'Daily Register'!P$3:P$242)=TRUE,\"P\",\"A\")","v":"A"},{"$f":"IF(Attendance($C55,'Daily Register'!Q$3:Q$242)=TRUE,\"P\",\"A\")","v":"A"},{"$f":"IF(Attendance($C55,'Daily Register'!R$3:R$242)=TRUE,\"P\",\"A\")","v":"A"},{"$f":"IF(Attendance($C55,'Daily Register'!S$3:S$242)=TRUE,\"P\",\"A\")","v":"A"},{"$f":"IF(Attendance($C55,'Daily Register'!T$3:T$242)=TRUE,\"P\",\"A\")","v":"A"},{"$f":"IF(Attendance($C55,'Daily Register'!U$3:U$242)=TRUE,\"P\",\"A\")","v":"A"},{"$f":"IF(Attendance($C55,'Daily Register'!V$3:V$242)=TRUE,\"P\",\"A\")","v":"A"},{"$f":"IF(Attendance($C55,'Daily Register'!W$3:W$242)=TRUE,\"P\",\"A\")","v":"A"},{"$f":"IF(Attendance($C55,'Daily Register'!X$3:X$242)=TRUE,\"P\",\"A\")","v":"A"},{"$f":"IF(Attendance($C55,'Daily Register'!Y$3:Y$242)=TRUE,\"P\",\"A\")","v":"A"},{"$f":"IF(Attendance($C55,'Daily Register'!Z$3:Z$242)=TRUE,\"P\",\"A\")","v":"A"},{"$f":"IF(Attendance($C55,'Daily Register'!AA$3:AA$242)=TRUE,\"P\",\"A\")","v":"A"},{"$f":"IF(Attendance($C55,'Daily Register'!AB$3:AB$242)=TRUE,\"P\",\"A\")","v":"A"},{"$f":"IF(Attendance($C55,'Daily Register'!AC$3:AC$242)=TRUE,\"P\",\"A\")","v":"A"},{"$f":"IF(Attendance($C55,'Daily Register'!AD$3:AD$242)=TRUE,\"P\",\"A\")","v":"A"},{"$f":"IF(Attendance($C55,'Daily Register'!AE$3:AE$242)=TRUE,\"P\",\"A\")","v":"A"},{"$f":"IF(Attendance($C55,'Daily Register'!AF$3:AF$242)=TRUE,\"P\",\"A\")","v":"A"},{"$f":"IF(Attendance($C55,'Daily Register'!AG$3:AG$242)=TRUE,\"P\",\"A\")","v":"A"},{"$f":"IF(Attendance($C55,'Daily Register'!AH$3:AH$242)=TRUE,\"P\",\"A\")","v":"A"},{"$f":"IF(Attendance($C55,'Daily Register'!AI$3:AI$242)=TRUE,\"P\",\"A\")","v":"A"},{"$f":"IF(Attendance($C55,'Daily Register'!AJ$3:AJ$242)=TRUE,\"P\",\"A\")","v":"A"},{"$f":"IF(Attendance($C55,'Daily Register'!AK$3:AK$242)=TRUE,\"P\",\"A\")","v":"A"},{"$f":"IF(Attendance($C55,'Daily Register'!AL$3:AL$242)=TRUE,\"P\",\"A\")","v":"A"},{"$f":"IF(Attendance($C55,'Daily Register'!AM$3:AM$242)=TRUE,\"P\",\"A\")","v":"A"},{"$f":"IF(Attendance($C55,'Daily Register'!AN$3:AN$242)=TRUE,\"P\",\"A\")","v":"A"},{"$f":"IF(Attendance($C55,'Daily Register'!AO$3:AO$242)=TRUE,\"P\",\"A\")","v":"A"},{"$f":"IF(Attendance($C55,'Daily Register'!AP$3:AP$242)=TRUE,\"P\",\"A\")","v":"A"},{"$f":"IF(Attendance($C55,'Daily Register'!AQ$3:AQ$242)=TRUE,\"P\",\"A\")","v":"A"},{"$f":"IF(Attendance($C55,'Daily Register'!AR$3:AR$242)=TRUE,\"P\",\"A\")","v":"A"},{"$f":"IF(Attendance($C55,'Daily Register'!AS$3:AS$242)=TRUE,\"P\",\"A\")","v":"A"},{"$f":"IF(Attendance($C55,'Daily Register'!AT$3:AT$242)=TRUE,\"P\",\"A\")","v":"A"},{"$f":"IF(Attendance($C55,'Daily Register'!AU$3:AU$242)=TRUE,\"P\",\"A\")","v":"A"},{"$f":"IF(Attendance($C55,'Daily Register'!AV$3:AV$242)=TRUE,\"P\",\"A\")","v":"A"},{"$f":"IF(Attendance($C55,'Daily Register'!AW$3:AW$242)=TRUE,\"P\",\"A\")","v":"A"},{"$f":"IF(Attendance($C55,'Daily Register'!AX$3:AX$242)=TRUE,\"P\",\"A\")","v":"A"},{"$f":"IF(Attendance($C55,'Daily Register'!AY$3:AY$242)=TRUE,\"P\",\"A\")","v":"A"},{"$f":"IF(Attendance($C55,'Daily Register'!AZ$3:AZ$242)=TRUE,\"P\",\"A\")","v":"A"},{"$f":"IF(Attendance($C55,'Daily Register'!BA$3:BA$242)=TRUE,\"P\",\"A\")","v":"A"},{"$f":"IF(Attendance($C55,'Daily Register'!BB$3:BB$242)=TRUE,\"P\",\"A\")","v":"A"},{"$f":"IF(Attendance($C55,'Daily Register'!BC$3:BC$242)=TRUE,\"P\",\"A\")","v":"A"},{"$f":"IF(Attendance($C55,'Daily Register'!BD$3:BD$242)=TRUE,\"P\",\"A\")","v":"A"},{"$f":"IF(Attendance($C55,'Daily Register'!BE$3:BE$242)=TRUE,\"P\",\"A\")","v":"A"},{"$f":"IF(Attendance($C55,'Daily Register'!BF$3:BF$242)=TRUE,\"P\",\"A\")","v":"A"},{"$f":"IF(Attendance($C55,'Daily Register'!BG$3:BG$242)=TRUE,\"P\",\"A\")","v":"A"},{"$f":"IF(Attendance($C55,'Daily Register'!BH$3:BH$242)=TRUE,\"P\",\"A\")","v":"A"},{"$f":"IF(Attendance($C55,'Daily Register'!BI$3:BI$242)=TRUE,\"P\",\"A\")","v":"A"},{"$f":"IF(Attendance($C55,'Daily Register'!BJ$3:BJ$242)=TRUE,\"P\",\"A\")","v":"A"},{"$f":"IF(Attendance($C55,'Daily Register'!BK$3:BK$242)=TRUE,\"P\",\"A\")","v":"A"},{"$f":"IF(Attendance($C55,'Daily Register'!BL$3:BL$242)=TRUE,\"P\",\"A\")","v":"A"},{"$f":"IF(Attendance($C55,'Daily Register'!BM$3:BM$242)=TRUE,\"P\",\"A\")","v":"A"},{"$f":"IF(Attendance($C55,'Daily Register'!BN$3:BN$242)=TRUE,\"P\",\"A\")","v":"A"},{"$f":"IF(Attendance($C55,'Daily Register'!BO$3:BO$242)=TRUE,\"P\",\"A\")","v":"A"},{"$f":"IF(Attendance($C55,'Daily Register'!BP$3:BP$242)=TRUE,\"P\",\"A\")","v":"A"},{"$f":"IF(Attendance($C55,'Daily Register'!BQ$3:BQ$242)=TRUE,\"P\",\"A\")","v":"A"},{"$f":"IF(Attendance($C55,'Daily Register'!BR$3:BR$242)=TRUE,\"P\",\"A\")","v":"A"},{"$f":"IF(Attendance($C55,'Daily Register'!BS$3:BS$242)=TRUE,\"P\",\"A\")","v":"A"},{"$f":"IF(Attendance($C55,'Daily Register'!BT$3:BT$242)=TRUE,\"P\",\"A\")","v":"A"},{"$f":"IF(Attendance($C55,'Daily Register'!BU$3:BU$242)=TRUE,\"P\",\"A\")","v":"A"},{"$f":"IF(Attendance($C55,'Daily Register'!BV$3:BV$242)=TRUE,\"P\",\"A\")","v":"A"},{"$f":"IF(Attendance($C55,'Daily Register'!BW$3:BW$242)=TRUE,\"P\",\"A\")","v":"A"},{"$f":"IF(Attendance($C55,'Daily Register'!BX$3:BX$242)=TRUE,\"P\",\"A\")","v":"A"},{"$f":"IF(Attendance($C55,'Daily Register'!BY$3:BY$242)=TRUE,\"P\",\"A\")","v":"A"},{"$f":"IF(Attendance($C55,'Daily Register'!BZ$3:BZ$242)=TRUE,\"P\",\"A\")","v":"A"},{"$f":"IF(Attendance($C55,'Daily Register'!CA$3:CA$242)=TRUE,\"P\",\"A\")","v":"A"},{"$f":"IF(Attendance($C55,'Daily Register'!CB$3:CB$242)=TRUE,\"P\",\"A\")","v":"A"},{"$f":"IF(Attendance($C55,'Daily Register'!CC$3:CC$242)=TRUE,\"P\",\"A\")","v":"A"},{"$f":"IF(Attendance($C55,'Daily Register'!CD$3:CD$242)=TRUE,\"P\",\"A\")","v":"A"},{"$f":"IF(Attendance($C55,'Daily Register'!CE$3:CE$242)=TRUE,\"P\",\"A\")","v":"A"},{"$f":"IF(Attendance($C55,'Daily Register'!CF$3:CF$242)=TRUE,\"P\",\"A\")","v":"A"},{"$f":"IF(Attendance($C55,'Daily Register'!CG$3:CG$242)=TRUE,\"P\",\"A\")","v":"A"},{"$f":"IF(Attendance($C55,'Daily Register'!CH$3:CH$242)=TRUE,\"P\",\"A\")","v":"A"},{"$f":"IF(Attendance($C55,'Daily Register'!CI$3:CI$242)=TRUE,\"P\",\"A\")","v":"A"},{"$f":"IF(Attendance($C55,'Daily Register'!CJ$3:CJ$242)=TRUE,\"P\",\"A\")","v":"A"},{"$f":"IF(Attendance($C55,'Daily Register'!CK$3:CK$242)=TRUE,\"P\",\"A\")","v":"A"},{"$f":"IF(Attendance($C55,'Daily Register'!CL$3:CL$242)=TRUE,\"P\",\"A\")","v":"A"},{"$f":"IF(Attendance($C55,'Daily Register'!CM$3:CM$242)=TRUE,\"P\",\"A\")","v":"A"},{"$f":"IF(Attendance($C55,'Daily Register'!CN$3:CN$242)=TRUE,\"P\",\"A\")","v":"A"},{"$f":"IF(Attendance($C55,'Daily Register'!CO$3:CO$242)=TRUE,\"P\",\"A\")","v":"A"},{"$f":"IF(Attendance($C55,'Daily Register'!CP$3:CP$242)=TRUE,\"P\",\"A\")","v":"A"},{"$f":"IF(Attendance($C55,'Daily Register'!CQ$3:CQ$242)=TRUE,\"P\",\"A\")","v":"A"},{"$f":"IF(Attendance($C55,'Daily Register'!CR$3:CR$242)=TRUE,\"P\",\"A\")","v":"A"},{"$f":"IF(Attendance($C55,'Daily Register'!CS$3:CS$242)=TRUE,\"P\",\"A\")","v":"A"},{"$f":"IF(Attendance($C55,'Daily Register'!CT$3:CT$242)=TRUE,\"P\",\"A\")","v":"A"},{"$f":"IF(Attendance($C55,'Daily Register'!CU$3:CU$242)=TRUE,\"P\",\"A\")","v":"A"},{"$f":"IF(Attendance($C55,'Daily Register'!CV$3:CV$242)=TRUE,\"P\",\"A\")","v":"A"},{"$f":"IF(Attendance($C55,'Daily Register'!CW$3:CW$242)=TRUE,\"P\",\"A\")","v":"A"},{"$f":"IF(Attendance($C55,'Daily Register'!CX$3:CX$242)=TRUE,\"P\",\"A\")","v":"A"},{"$f":"IF(Attendance($C55,'Daily Register'!CY$3:CY$242)=TRUE,\"P\",\"A\")","v":"A"},{"$f":"IF(Attendance($C55,'Daily Register'!CZ$3:CZ$242)=TRUE,\"P\",\"A\")","v":"A"},{"$f":"IF(Attendance($C55,'Daily Register'!DA$3:DA$242)=TRUE,\"P\",\"A\")","v":"A"},{"$f":"IF(Attendance($C55,'Daily Register'!DB$3:DB$242)=TRUE,\"P\",\"A\")","v":"A"},{"$f":"IF(Attendance($C55,'Daily Register'!DC$3:DC$242)=TRUE,\"P\",\"A\")","v":"A"},{"$f":"IF(Attendance($C55,'Daily Register'!DD$3:DD$242)=TRUE,\"P\",\"A\")","v":"A"},{"$f":"IF(Attendance($C55,'Daily Register'!DE$3:DE$242)=TRUE,\"P\",\"A\")","v":"A"},{"$f":"IF(Attendance($C55,'Daily Register'!DF$3:DF$242)=TRUE,\"P\",\"A\")","v":"A"},{"$f":"IF(Attendance($C55,'Daily Register'!DG$3:DG$242)=TRUE,\"P\",\"A\")","v":"A"},{"$f":"IF(Attendance($C55,'Daily Register'!DH$3:DH$242)=TRUE,\"P\",\"A\")","v":"A"},{"$f":"IF(Attendance($C55,'Daily Register'!DI$3:DI$242)=TRUE,\"P\",\"A\")","v":"A"},{"$f":"IF(Attendance($C55,'Daily Register'!DJ$3:DJ$242)=TRUE,\"P\",\"A\")","v":"A"},{"$f":"IF(Attendance($C55,'Daily Register'!DK$3:DK$242)=TRUE,\"P\",\"A\")","v":"A"},{"$f":"IF(Attendance($C55,'Daily Register'!DL$3:DL$242)=TRUE,\"P\",\"A\")","v":"A"},{"$f":"IF(Attendance($C55,'Daily Register'!DM$3:DM$242)=TRUE,\"P\",\"A\")","v":"A"},{"$f":"IF(Attendance($C55,'Daily Register'!DN$3:DN$242)=TRUE,\"P\",\"A\")","v":"A"},{"$f":"IF(Attendance($C55,'Daily Register'!DO$3:DO$242)=TRUE,\"P\",\"A\")","v":"A"},{"$f":"IF(Attendance($C55,'Daily Register'!DP$3:DP$242)=TRUE,\"P\",\"A\")","v":"A"},{"$f":"IF(Attendance($C55,'Daily Register'!DQ$3:DQ$242)=TRUE,\"P\",\"A\")","v":"A"},{"$f":"IF(Attendance($C55,'Daily Register'!DR$3:DR$242)=TRUE,\"P\",\"A\")","v":"A"},{"$f":"IF(Attendance($C55,'Daily Register'!DS$3:DS$242)=TRUE,\"P\",\"A\")","v":"A"},{"$f":"IF(Attendance($C55,'Daily Register'!DT$3:DT$242)=TRUE,\"P\",\"A\")","v":"A"},{"$f":"IF(Attendance($C55,'Daily Register'!DU$3:DU$242)=TRUE,\"P\",\"A\")","v":"A"},{"$f":"IF(Attendance($C55,'Daily Register'!DV$3:DV$242)=TRUE,\"P\",\"A\")","v":"A"},{"$f":"IF(Attendance($C55,'Daily Register'!DW$3:DW$242)=TRUE,\"P\",\"A\")","v":"A"},{"$f":"IF(Attendance($C55,'Daily Register'!DX$3:DX$242)=TRUE,\"P\",\"A\")","v":"A"},{"$f":"IF(Attendance($C55,'Daily Register'!DY$3:DY$242)=TRUE,\"P\",\"A\")","v":"A"},{"$f":"IF(Attendance($C55,'Daily Register'!DZ$3:DZ$242)=TRUE,\"P\",\"A\")","v":"A"},{"$f":"IF(Attendance($C55,'Daily Register'!EA$3:EA$242)=TRUE,\"P\",\"A\")","v":"A"},{"$f":"IF(Attendance($C55,'Daily Register'!EB$3:EB$242)=TRUE,\"P\",\"A\")","v":"A"},{"$f":"IF(Attendance($C55,'Daily Register'!EC$3:EC$242)=TRUE,\"P\",\"A\")","v":"A"},{"$f":"IF(Attendance($C55,'Daily Register'!ED$3:ED$242)=TRUE,\"P\",\"A\")","v":"A"},{"$f":"IF(Attendance($C55,'Daily Register'!EE$3:EE$242)=TRUE,\"P\",\"A\")","v":"A"},{"$f":"IF(Attendance($C55,'Daily Register'!EF$3:EF$242)=TRUE,\"P\",\"A\")","v":"A"},{"$f":"IF(Attendance($C55,'Daily Register'!EG$3:EG$242)=TRUE,\"P\",\"A\")","v":"A"},{"$f":"IF(Attendance($C55,'Daily Register'!EH$3:EH$242)=TRUE,\"P\",\"A\")","v":"A"},{"$f":"IF(Attendance($C55,'Daily Register'!EI$3:EI$242)=TRUE,\"P\",\"A\")","v":"A"},{"$f":"IF(Attendance($C55,'Daily Register'!EJ$3:EJ$242)=TRUE,\"P\",\"A\")","v":"A"},{"$f":"IF(Attendance($C55,'Daily Register'!EK$3:EK$242)=TRUE,\"P\",\"A\")","v":"A"},{"$f":"IF(Attendance($C55,'Daily Register'!EL$3:EL$242)=TRUE,\"P\",\"A\")","v":"A"},{"$f":"IF(Attendance($C55,'Daily Register'!EM$22:EM$242)=TRUE,\"P\",\"A\")","v":"A"},{"$f":"IF(Attendance($C55,'Daily Register'!EN$3:EN$242)=TRUE,\"P\",\"A\")","v":"A"},{"$f":"IF(Attendance($C55,'Daily Register'!EO$3:EO$242)=TRUE,\"P\",\"A\")","v":"A"},{"$f":"IF(Attendance($C55,'Daily Register'!EP$3:EP$242)=TRUE,\"P\",\"A\")","v":"A"},{"$f":"IF(Attendance($C55,'Daily Register'!EQ$3:EQ$242)=TRUE,\"P\",\"A\")","v":"A"},{"$f":"IF(Attendance($C55,'Daily Register'!ER$3:ER$242)=TRUE,\"P\",\"A\")","v":"A"},{"$f":"IF(Attendance($C55,'Daily Register'!ES$3:ES$242)=TRUE,\"P\",\"A\")","v":"A"},{"$f":"IF(Attendance($C55,'Daily Register'!ET$3:ET$242)=TRUE,\"P\",\"A\")","v":"A"},{"$f":"IF(Attendance($C55,'Daily Register'!EU$3:EU$242)=TRUE,\"P\",\"A\")","v":"A"},{"$f":"IF(Attendance($C55,'Daily Register'!EV$3:EV$242)=TRUE,\"P\",\"A\")","v":"A"},{"$f":"IF(Attendance($C55,'Daily Register'!EW$3:EW$242)=TRUE,\"P\",\"A\")","v":"A"},{"$f":"IF(Attendance($C55,'Daily Register'!EX$3:EX$242)=TRUE,\"P\",\"A\")","v":"A"},{"$f":"IF(Attendance($C55,'Daily Register'!EY$3:EY$242)=TRUE,\"P\",\"A\")","v":"A"},{"$f":"IF(Attendance($C55,'Daily Register'!EZ$3:EZ$242)=TRUE,\"P\",\"A\")","v":"A"},{"$f":"IF(Attendance($C55,'Daily Register'!FA$3:FA$242)=TRUE,\"P\",\"A\")","v":"A"},{"$f":"IF(Attendance($C55,'Daily Register'!FB$3:FB$242)=TRUE,\"P\",\"A\")","v":"A"},{"$f":"IF(Attendance($C55,'Daily Register'!FC$3:FC$242)=TRUE,\"P\",\"A\")","v":"A"},{"$f":"IF(Attendance($C55,'Daily Register'!FD$3:FD$242)=TRUE,\"P\",\"A\")","v":"A"},{"$f":"IF(Attendance($C55,'Daily Register'!FE$3:FE$242)=TRUE,\"P\",\"A\")","v":"A"},{"$f":"IF(Attendance($C55,'Daily Register'!FF$3:FF$242)=TRUE,\"P\",\"A\")","v":"A"},{"$f":"IF(Attendance($C55,'Daily Register'!FG$3:FG$242)=TRUE,\"P\",\"A\")","v":"A"},{"$f":"IF(Attendance($C55,'Daily Register'!FH$3:FH$242)=TRUE,\"P\",\"A\")","v":"A"},{"$f":"IF(Attendance($C55,'Daily Register'!FI$3:FI$242)=TRUE,\"P\",\"A\")","v":"A"},{"$f":"IF(Attendance($C55,'Daily Register'!FJ$3:FJ$242)=TRUE,\"P\",\"A\")","v":"A"},{"$f":"IF(Attendance($C55,'Daily Register'!FK$3:FK$242)=TRUE,\"P\",\"A\")","v":"A"},{"$f":"IF(Attendance($C55,'Daily Register'!FL$3:FL$242)=TRUE,\"P\",\"A\")","v":"A"},{"$f":"IF(Attendance($C55,'Daily Register'!FM$3:FM$242)=TRUE,\"P\",\"A\")","v":"A"},{"$f":"IF(Attendance($C55,'Daily Register'!FN$3:FN$242)=TRUE,\"P\",\"A\")","v":"A"},{"$f":"IF(Attendance($C55,'Daily Register'!FO$3:FO$242)=TRUE,\"P\",\"A\")","v":"A"},{"$f":"IF(Attendance($C55,'Daily Register'!FP$3:FP$242)=TRUE,\"P\",\"A\")","v":"A"},{"$f":"IF(Attendance($C55,'Daily Register'!FQ$3:FQ$242)=TRUE,\"P\",\"A\")","v":"A"},{"$f":"IF(Attendance($C55,'Daily Register'!FR$3:FR$242)=TRUE,\"P\",\"A\")","v":"A"},{"$f":"IF(Attendance($C55,'Daily Register'!FS$3:FS$242)=TRUE,\"P\",\"A\")","v":"A"},{"$f":"IF(Attendance($C55,'Daily Register'!FT$3:FT$242)=TRUE,\"P\",\"A\")","v":"A"},{"$f":"IF(Attendance($C55,'Daily Register'!FU$3:FU$242)=TRUE,\"P\",\"A\")","v":"A"},{"$f":"IF(Attendance($C55,'Daily Register'!FV$3:FV$242)=TRUE,\"P\",\"A\")","v":"A"},{"$f":"IF(Attendance($C55,'Daily Register'!FW$3:FW$242)=TRUE,\"P\",\"A\")","v":"A"},{"$f":"IF(Attendance($C55,'Daily Register'!FX$3:FX$242)=TRUE,\"P\",\"A\")","v":"A"},{"$f":"IF(Attendance($C55,'Daily Register'!FY$3:FY$242)=TRUE,\"P\",\"A\")","v":"A"},{"$f":"IF(Attendance($C55,'Daily Register'!FZ$3:FZ$242)=TRUE,\"P\",\"A\")","v":"A"},{"$f":"IF(Attendance($C55,'Daily Register'!GA$3:GA$242)=TRUE,\"P\",\"A\")","v":"A"},{"$f":"IF(Attendance($C55,'Daily Register'!GB$3:GB$242)=TRUE,\"P\",\"A\")","v":"A"},{"$f":"IF(Attendance($C55,'Daily Register'!GC$3:GC$242)=TRUE,\"P\",\"A\")","v":"A"},{"$f":"IF(Attendance($C55,'Daily Register'!GD$3:GD$242)=TRUE,\"P\",\"A\")","v":"A"},{"$f":"IF(Attendance($C55,'Daily Register'!GE$3:GE$242)=TRUE,\"P\",\"A\")","v":"A"},{"$f":"IF(Attendance($C55,'Daily Register'!GF$3:GF$242)=TRUE,\"P\",\"A\")","v":"A"},{"$f":"IF(Attendance($C55,'Daily Register'!GG$3:GG$242)=TRUE,\"P\",\"A\")","v":"A"},{"$f":"IF(Attendance($C55,'Daily Register'!GH$3:GH$242)=TRUE,\"P\",\"A\")","v":"A"},{"$f":"IF(Attendance($C55,'Daily Register'!GI$3:GI$242)=TRUE,\"P\",\"A\")","v":"A"},{"$f":"IF(Attendance($C55,'Daily Register'!GJ$3:GJ$242)=TRUE,\"P\",\"A\")","v":"A"},{"$f":"IF(Attendance($C55,'Daily Register'!GK$3:GK$242)=TRUE,\"P\",\"A\")","v":"A"},{"$f":"IF(Attendance($C55,'Daily Register'!GL$3:GL$242)=TRUE,\"P\",\"A\")","v":"A"},{"$f":"IF(Attendance($C55,'Daily Register'!GM$3:GM$242)=TRUE,\"P\",\"A\")","v":"A"},{"$f":"IF(Attendance($C55,'Daily Register'!GN$3:GN$242)=TRUE,\"P\",\"A\")","v":"A"},{"$f":"IF(Attendance($C55,'Daily Register'!GO$3:GO$242)=TRUE,\"P\",\"A\")","v":"A"},{"$f":"IF(Attendance($C55,'Daily Register'!GP$3:GP$242)=TRUE,\"P\",\"A\")","v":"A"},{"$f":"IF(Attendance($C55,'Daily Register'!GQ$3:GQ$242)=TRUE,\"P\",\"A\")","v":"A"},{"$f":"IF(Attendance($C55,'Daily Register'!GR$3:GR$242)=TRUE,\"P\",\"A\")","v":"A"},{"$f":"IF(Attendance($C55,'Daily Register'!GS$3:GS$242)=TRUE,\"P\",\"A\")","v":"A"},{"$f":"IF(Attendance($C55,'Daily Register'!GT$3:GT$242)=TRUE,\"P\",\"A\")","v":"A"},{"$f":"IF(Attendance($C55,'Daily Register'!GU$3:GU$242)=TRUE,\"P\",\"A\")","v":"A"},{"$f":"IF(Attendance($C55,'Daily Register'!GV$3:GV$242)=TRUE,\"P\",\"A\")","v":"A"},{"$f":"IF(Attendance($C55,'Daily Register'!GW$3:GW$242)=TRUE,\"P\",\"A\")","v":"A"},{"$f":"IF(Attendance($C55,'Daily Register'!GX$3:GX$242)=TRUE,\"P\",\"A\")","v":"A"},{"$f":"IF(Attendance($C55,'Daily Register'!GY$3:GY$242)=TRUE,\"P\",\"A\")","v":"A"},{"$f":"IF(Attendance($C55,'Daily Register'!GZ$3:GZ$242)=TRUE,\"P\",\"A\")","v":"A"},{"$f":"IF(Attendance($C55,'Daily Register'!HA$3:HA$242)=TRUE,\"P\",\"A\")","v":"A"},{"$f":"IF(Attendance($C55,'Daily Register'!HB$3:HB$242)=TRUE,\"P\",\"A\")","v":"A"},{"$f":"IF(Attendance($C55,'Daily Register'!HC$3:HC$242)=TRUE,\"P\",\"A\")","v":"A"},{"$f":"IF(Attendance($C55,'Daily Register'!HD$3:HD$242)=TRUE,\"P\",\"A\")","v":"A"},{"$f":"IF(Attendance($C55,'Daily Register'!HE$3:HE$242)=TRUE,\"P\",\"A\")","v":"A"},{"$f":"IF(Attendance($C55,'Daily Register'!HF$3:HF$242)=TRUE,\"P\",\"A\")","v":"A"},{"$f":"IF(Attendance($C55,'Daily Register'!HG$3:HG$242)=TRUE,\"P\",\"A\")","v":"A"},{"$f":"IF(Attendance($C55,'Daily Register'!HH$3:HH$242)=TRUE,\"P\",\"A\")","v":"A"},{"$f":"IF(Attendance($C55,'Daily Register'!HI$3:HI$242)=TRUE,\"P\",\"A\")","v":"A"},{"$f":"IF(Attendance($C55,'Daily Register'!HJ$3:HJ$242)=TRUE,\"P\",\"A\")","v":"A"},{"$f":"IF(Attendance($C55,'Daily Register'!HK$3:HK$242)=TRUE,\"P\",\"A\")","v":"A"},{"$f":"IF(Attendance($C55,'Daily Register'!HL$3:HL$242)=TRUE,\"P\",\"A\")","v":"A"},{"$f":"IF(Attendance($C55,'Daily Register'!HM$3:HM$242)=TRUE,\"P\",\"A\")","v":"A"},{"$f":"IF(Attendance($C55,'Daily Register'!HN$3:HN$242)=TRUE,\"P\",\"A\")","v":"A"},{"$f":"IF(Attendance($C55,'Daily Register'!HO$3:HO$242)=TRUE,\"P\",\"A\")","v":"A"},{"$f":"IF(Attendance($C55,'Daily Register'!HP$3:HP$242)=TRUE,\"P\",\"A\")","v":"A"},{"$f":"IF(Attendance($C55,'Daily Register'!HQ$3:HQ$242)=TRUE,\"P\",\"A\")","v":"A"},{"$f":"IF(Attendance($C55,'Daily Register'!HR$3:HR$242)=TRUE,\"P\",\"A\")","v":"A"},{"$f":"IF(Attendance($C55,'Daily Register'!HS$3:HS$242)=TRUE,\"P\",\"A\")","v":"A"},{"$f":"IF(Attendance($C55,'Daily Register'!HT$3:HT$242)=TRUE,\"P\",\"A\")","v":"A"},{"$f":"IF(Attendance($C55,'Daily Register'!HU$3:HU$242)=TRUE,\"P\",\"A\")","v":"A"},{"$f":"IF(Attendance($C55,'Daily Register'!HV$3:HV$242)=TRUE,\"P\",\"A\")","v":"A"},{"$f":"IF(Attendance($C55,'Daily Register'!HW$3:HW$242)=TRUE,\"P\",\"A\")","v":"A"},{"$f":"IF(Attendance($C55,'Daily Register'!HX$3:HX$242)=TRUE,\"P\",\"A\")","v":"A"},{"$f":"IF(Attendance($C55,'Daily Register'!HY$3:HY$242)=TRUE,\"P\",\"A\")","v":"A"},{"$f":"IF(Attendance($C55,'Daily Register'!HZ$3:HZ$242)=TRUE,\"P\",\"A\")","v":"A"},{"$f":"IF(Attendance($C55,'Daily Register'!IA$3:IA$242)=TRUE,\"P\",\"A\")","v":"A"},{"$f":"IF(Attendance($C55,'Daily Register'!IB$3:IB$242)=TRUE,\"P\",\"A\")","v":"A"},{"$f":"IF(Attendance($C55,'Daily Register'!IC$3:IC$242)=TRUE,\"P\",\"A\")","v":"A"},{"$f":"IF(Attendance($C55,'Daily Register'!ID$3:ID$242)=TRUE,\"P\",\"A\")","v":"A"},{"$f":"IF(Attendance($C55,'Daily Register'!IE$3:IE$242)=TRUE,\"P\",\"A\")","v":"A"},{"$f":"IF(Attendance($C55,'Daily Register'!IF$3:IF$242)=TRUE,\"P\",\"A\")","v":"A"},{"$f":"IF(Attendance($C55,'Daily Register'!IG$3:IG$242)=TRUE,\"P\",\"A\")","v":"A"},{"$f":"IF(Attendance($C55,'Daily Register'!IH$3:IH$242)=TRUE,\"P\",\"A\")","v":"A"},{"$f":"IF(Attendance($C55,'Daily Register'!II$3:II$242)=TRUE,\"P\",\"A\")","v":"A"},{"$f":"IF(Attendance($C55,'Daily Register'!IJ$3:IJ$242)=TRUE,\"P\",\"A\")","v":"A"},{"$f":"IF(Attendance($C55,'Daily Register'!IK$3:IK$242)=TRUE,\"P\",\"A\")","v":"A"},{"$f":"IF(Attendance($C55,'Daily Register'!IL$3:IL$242)=TRUE,\"P\",\"A\")","v":"A"},{"$f":"IF(Attendance($C55,'Daily Register'!IM$3:IM$242)=TRUE,\"P\",\"A\")","v":"A"},{"$f":"IF(Attendance($C55,'Daily Register'!IN$3:IN$242)=TRUE,\"P\",\"A\")","v":"A"},{"$f":"IF(Attendance($C55,'Daily Register'!IO$3:IO$242)=TRUE,\"P\",\"A\")","v":"A"},{"$f":"IF(Attendance($C55,'Daily Register'!IP$3:IP$242)=TRUE,\"P\",\"A\")","v":"A"},{"$f":"IF(Attendance($C55,'Daily Register'!IQ$3:IQ$242)=TRUE,\"P\",\"A\")","v":"A"},{"$f":"IF(Attendance($C55,'Daily Register'!IR$3:IR$242)=TRUE,\"P\",\"A\")","v":"A"},{"$f":"IF(Attendance($C55,'Daily Register'!IS$3:IS$242)=TRUE,\"P\",\"A\")","v":"A"},{"$f":"IF(Attendance($C55,'Daily Register'!IT$3:IT$242)=TRUE,\"P\",\"A\")","v":"A"},{"$f":"IF(Attendance($C55,'Daily Register'!IU$3:IU$242)=TRUE,\"P\",\"A\")","v":"A"},{"$f":"IF(Attendance($C55,'Daily Register'!IV$3:IV$242)=TRUE,\"P\",\"A\")","v":"A"},{"$f":"IF(Attendance($C55,'Daily Register'!IW$3:IW$242)=TRUE,\"P\",\"A\")","v":"A"},{"$f":"IF(Attendance($C55,'Daily Register'!IX$3:IX$242)=TRUE,\"P\",\"A\")","v":"A"},{"$f":"IF(Attendance($C55,'Daily Register'!IY$3:IY$242)=TRUE,\"P\",\"A\")","v":"A"},{"$f":"IF(Attendance($C55,'Daily Register'!IZ$3:IZ$242)=TRUE,\"P\",\"A\")","v":"A"},{"$f":"IF(Attendance($C55,'Daily Register'!JA$3:JA$242)=TRUE,\"P\",\"A\")","v":"A"},{"$f":"IF(Attendance($C55,'Daily Register'!JB$3:JB$242)=TRUE,\"P\",\"A\")","v":"A"},{"$f":"IF(Attendance($C55,'Daily Register'!JC$3:JC$242)=TRUE,\"P\",\"A\")","v":"A"},{"$f":"IF(Attendance($C55,'Daily Register'!JD$3:JD$242)=TRUE,\"P\",\"A\")","v":"A"},{"$f":"IF(Attendance($C55,'Daily Register'!JE$3:JE$242)=TRUE,\"P\",\"A\")","v":"A"},{"$f":"IF(Attendance($C55,'Daily Register'!JF$3:JF$242)=TRUE,\"P\",\"A\")","v":"A"},{"$f":"IF(Attendance($C55,'Daily Register'!JG$3:JG$242)=TRUE,\"P\",\"A\")","v":"A"},{"$f":"IF(Attendance($C55,'Daily Register'!JH$3:JH$242)=TRUE,\"P\",\"A\")","v":"A"},{"$f":"IF(Attendance($C55,'Daily Register'!JI$3:JI$242)=TRUE,\"P\",\"A\")","v":"A"},{"$f":"IF(Attendance($C55,'Daily Register'!JJ$3:JJ$242)=TRUE,\"P\",\"A\")","v":"A"},{"$f":"IF(Attendance($C55,'Daily Register'!JK$3:JK$242)=TRUE,\"P\",\"A\")","v":"A"},{"$f":"IF(Attendance($C55,'Daily Register'!JL$3:JL$242)=TRUE,\"P\",\"A\")","v":"A"},{"$f":"IF(Attendance($C55,'Daily Register'!JM$3:JM$242)=TRUE,\"P\",\"A\")","v":"A"},{"$f":"IF(Attendance($C55,'Daily Register'!JN$3:JN$242)=TRUE,\"P\",\"A\")","v":"A"},{"$f":"IF(Attendance($C55,'Daily Register'!JO$3:JO$242)=TRUE,\"P\",\"A\")","v":"A"},{"$f":"IF(Attendance($C55,'Daily Register'!JP$3:JP$242)=TRUE,\"P\",\"A\")","v":"A"},{"$f":"IF(Attendance($C55,'Daily Register'!JQ$3:JQ$242)=TRUE,\"P\",\"A\")","v":"A"},{"$f":"IF(Attendance($C55,'Daily Register'!JR$3:JR$242)=TRUE,\"P\",\"A\")","v":"A"},{"$f":"IF(Attendance($C55,'Daily Register'!JS$3:JS$242)=TRUE,\"P\",\"A\")","v":"A"},{"$f":"IF(Attendance($C55,'Daily Register'!JT$3:JT$242)=TRUE,\"P\",\"A\")","v":"A"},{"$f":"IF(Attendance($C55,'Daily Register'!JU$3:JU$242)=TRUE,\"P\",\"A\")","v":"A"},{"$f":"IF(Attendance($C55,'Daily Register'!JV$3:JV$242)=TRUE,\"P\",\"A\")","v":"A"},{"$f":"IF(Attendance($C55,'Daily Register'!JW$3:JW$242)=TRUE,\"P\",\"A\")","v":"A"},{"$f":"IF(Attendance($C55,'Daily Register'!JX$3:JX$242)=TRUE,\"P\",\"A\")","v":"A"},{"$f":"IF(Attendance($C55,'Daily Register'!JY$3:JY$242)=TRUE,\"P\",\"A\")","v":"A"},{"$f":"IF(Attendance($C55,'Daily Register'!JZ$3:JZ$242)=TRUE,\"P\",\"A\")","v":"A"},{"$f":"IF(Attendance($C55,'Daily Register'!KA$3:KA$242)=TRUE,\"P\",\"A\")","v":"A"},{"$f":"IF(Attendance($C55,'Daily Register'!KB$3:KB$242)=TRUE,\"P\",\"A\")","v":"A"},{"$f":"IF(Attendance($C55,'Daily Register'!KC$3:KC$242)=TRUE,\"P\",\"A\")","v":"A"},{"$f":"IF(Attendance($C55,'Daily Register'!KD$3:KD$242)=TRUE,\"P\",\"A\")","v":"A"},{"$f":"IF(Attendance($C55,'Daily Register'!KE$3:KE$242)=TRUE,\"P\",\"A\")","v":"A"},{"$f":"IF(Attendance($C55,'Daily Register'!KF$3:KF$242)=TRUE,\"P\",\"A\")","v":"A"},{"$f":"IF(Attendance($C55,'Daily Register'!KG$3:KG$242)=TRUE,\"P\",\"A\")","v":"A"},{"$f":"IF(Attendance($C55,'Daily Register'!KH$3:KH$242)=TRUE,\"P\",\"A\")","v":"A"},{"$f":"IF(Attendance($C55,'Daily Register'!KI$3:KI$242)=TRUE,\"P\",\"A\")","v":"A"},{"$f":"IF(Attendance($C55,'Daily Register'!KJ$3:KJ$242)=TRUE,\"P\",\"A\")","v":"A"},{"$f":"IF(Attendance($C55,'Daily Register'!KK$3:KK$242)=TRUE,\"P\",\"A\")","v":"A"},{"$f":"IF(Attendance($C55,'Daily Register'!KL$3:KL$242)=TRUE,\"P\",\"A\")","v":"A"},{"$f":"IF(Attendance($C55,'Daily Register'!KM$3:KM$242)=TRUE,\"P\",\"A\")","v":"A"},{"$f":"IF(Attendance($C55,'Daily Register'!KN$3:KN$242)=TRUE,\"P\",\"A\")","v":"A"},{"$f":"IF(Attendance($C55,'Daily Register'!KO$3:KO$242)=TRUE,\"P\",\"A\")","v":"A"},{"$f":"IF(Attendance($C55,'Daily Register'!KP$3:KP$242)=TRUE,\"P\",\"A\")","v":"A"},{"$f":"IF(Attendance($C55,'Daily Register'!KQ$3:KQ$242)=TRUE,\"P\",\"A\")","v":"A"},{"$f":"IF(Attendance($C55,'Daily Register'!KR$3:KR$242)=TRUE,\"P\",\"A\")","v":"A"},{"$f":"IF(Attendance($C55,'Daily Register'!KS$3:KS$242)=TRUE,\"P\",\"A\")","v":"A"},{"$f":"IF(Attendance($C55,'Daily Register'!KT$3:KT$242)=TRUE,\"P\",\"A\")","v":"A"},{"$f":"IF(Attendance($C55,'Daily Register'!KU$3:KU$242)=TRUE,\"P\",\"A\")","v":"A"},{"$f":"IF(Attendance($C55,'Daily Register'!KV$3:KV$242)=TRUE,\"P\",\"A\")","v":"A"},{"$f":"IF(Attendance($C55,'Daily Register'!KW$3:KW$242)=TRUE,\"P\",\"A\")","v":"A"},{"$f":"IF(Attendance($C55,'Daily Register'!KX$3:KX$242)=TRUE,\"P\",\"A\")","v":"A"},{"$f":"IF(Attendance($C55,'Daily Register'!KY$3:KY$242)=TRUE,\"P\",\"A\")","v":"A"},{"$f":"IF(Attendance($C55,'Daily Register'!KZ$3:KZ$242)=TRUE,\"P\",\"A\")","v":"A"},{"$f":"IF(Attendance($C55,'Daily Register'!LA$3:LA$242)=TRUE,\"P\",\"A\")","v":"A"},{"$f":"IF(Attendance($C55,'Daily Register'!LB$3:LB$242)=TRUE,\"P\",\"A\")","v":"A"},{"$f":"IF(Attendance($C55,'Daily Register'!LC$3:LC$242)=TRUE,\"P\",\"A\")","v":"A"},{"$f":"IF(Attendance($C55,'Daily Register'!LD$3:LD$242)=TRUE,\"P\",\"A\")","v":"A"},{"$f":"IF(Attendance($C55,'Daily Register'!LE$3:LE$242)=TRUE,\"P\",\"A\")","v":"A"},{"$f":"IF(Attendance($C55,'Daily Register'!LF$3:LF$242)=TRUE,\"P\",\"A\")","v":"A"},{"$f":"IF(Attendance($C55,'Daily Register'!LG$3:LG$242)=TRUE,\"P\",\"A\")","v":"A"},{"$f":"IF(Attendance($C55,'Daily Register'!LH$3:LH$242)=TRUE,\"P\",\"A\")","v":"A"},{"$f":"IF(Attendance($C55,'Daily Register'!LI$3:LI$242)=TRUE,\"P\",\"A\")","v":"A"},{"$f":"IF(Attendance($C55,'Daily Register'!LJ$3:LJ$242)=TRUE,\"P\",\"A\")","v":"A"},{"$f":"IF(Attendance($C55,'Daily Register'!LK$3:LK$242)=TRUE,\"P\",\"A\")","v":"A"},{"$f":"IF(Attendance($C55,'Daily Register'!LL$3:LL$242)=TRUE,\"P\",\"A\")","v":"A"},{"$f":"IF(Attendance($C55,'Daily Register'!LM$3:LM$242)=TRUE,\"P\",\"A\")","v":"A"},{"$f":"IF(Attendance($C55,'Daily Register'!LN$3:LN$242)=TRUE,\"P\",\"A\")","v":"A"},{"$f":"IF(Attendance($C55,'Daily Register'!LO$3:LO$242)=TRUE,\"P\",\"A\")","v":"A"},{"$f":"IF(Attendance($C55,'Daily Register'!LP$3:LP$242)=TRUE,\"P\",\"A\")","v":"A"},{"$f":"IF(Attendance($C55,'Daily Register'!LQ$3:LQ$242)=TRUE,\"P\",\"A\")","v":"A"},{"$f":"IF(Attendance($C55,'Daily Register'!LR$3:LR$242)=TRUE,\"P\",\"A\")","v":"A"},{"$f":"IF(Attendance($C55,'Daily Register'!LS$3:LS$242)=TRUE,\"P\",\"A\")","v":"A"},{"$f":"IF(Attendance($C55,'Daily Register'!LT$3:LT$242)=TRUE,\"P\",\"A\")","v":"A"},{"$f":"IF(Attendance($C55,'Daily Register'!LU$3:LU$242)=TRUE,\"P\",\"A\")","v":"A"},{"$f":"IF(Attendance($C55,'Daily Register'!LV$3:LV$242)=TRUE,\"P\",\"A\")","v":"A"},{"$f":"IF(Attendance($C55,'Daily Register'!LW$3:LW$242)=TRUE,\"P\",\"A\")","v":"A"},{"$f":"IF(Attendance($C55,'Daily Register'!LX$3:LX$242)=TRUE,\"P\",\"A\")","v":"A"},{"$f":"IF(Attendance($C55,'Daily Register'!LY$3:LY$242)=TRUE,\"P\",\"A\")","v":"A"},{"$f":"IF(Attendance($C55,'Daily Register'!LZ$3:LZ$242)=TRUE,\"P\",\"A\")","v":"A"},{"$f":"IF(Attendance($C55,'Daily Register'!MA$3:MA$242)=TRUE,\"P\",\"A\")","v":"A"},{"$f":"IF(Attendance($C55,'Daily Register'!MB$3:MB$242)=TRUE,\"P\",\"A\")","v":"A"},{"$f":"IF(Attendance($C55,'Daily Register'!MC$3:MC$242)=TRUE,\"P\",\"A\")","v":"A"},{"$f":"IF(Attendance($C55,'Daily Register'!MD$3:MD$242)=TRUE,\"P\",\"A\")","v":"A"},{"$f":"IF(Attendance($C55,'Daily Register'!ME$3:ME$242)=TRUE,\"P\",\"A\")","v":"A"},{"$f":"IF(Attendance($C55,'Daily Register'!MF$3:MF$242)=TRUE,\"P\",\"A\")","v":"A"},{"$f":"IF(Attendance($C55,'Daily Register'!MG$3:MG$242)=TRUE,\"P\",\"A\")","v":"A"},{"$f":"IF(Attendance($C55,'Daily Register'!MH$3:MH$242)=TRUE,\"P\",\"A\")","v":"A"},{"$f":"IF(Attendance($C55,'Daily Register'!MI$3:MI$242)=TRUE,\"P\",\"A\")","v":"A"},{"$f":"IF(Attendance($C55,'Daily Register'!MJ$3:MJ$242)=TRUE,\"P\",\"A\")","v":"A"},{"$f":"IF(Attendance($C55,'Daily Register'!MK$3:MK$242)=TRUE,\"P\",\"A\")","v":"A"},{"$f":"IF(Attendance($C55,'Daily Register'!ML$3:ML$242)=TRUE,\"P\",\"A\")","v":"A"},{"$f":"IF(Attendance($C55,'Daily Register'!MM$3:MM$242)=TRUE,\"P\",\"A\")","v":"A"},{"$f":"IF(Attendance($C55,'Daily Register'!MN$3:MN$242)=TRUE,\"P\",\"A\")","v":"A"},{"$f":"IF(Attendance($C55,'Daily Register'!MO$3:MO$242)=TRUE,\"P\",\"A\")","v":"A"},{"$f":"IF(Attendance($C55,'Daily Register'!MP$3:MP$242)=TRUE,\"P\",\"A\")","v":"A"},{"$f":"IF(Attendance($C55,'Daily Register'!MQ$3:MQ$242)=TRUE,\"P\",\"A\")","v":"A"},{"$f":"IF(Attendance($C55,'Daily Register'!MR$3:MR$242)=TRUE,\"P\",\"A\")","v":"A"},{"$f":"IF(Attendance($C55,'Daily Register'!MS$3:MS$242)=TRUE,\"P\",\"A\")","v":"A"},{"$f":"IF(Attendance($C55,'Daily Register'!MT$3:MT$242)=TRUE,\"P\",\"A\")","v":"A"},{"$f":"IF(Attendance($C55,'Daily Register'!MU$3:MU$242)=TRUE,\"P\",\"A\")","v":"A"},{"$f":"IF(Attendance($C55,'Daily Register'!MV$3:MV$242)=TRUE,\"P\",\"A\")","v":"A"},{"$f":"IF(Attendance($C55,'Daily Register'!MW$3:MW$242)=TRUE,\"P\",\"A\")","v":"A"},{"$f":"IF(Attendance($C55,'Daily Register'!MX$3:MX$242)=TRUE,\"P\",\"A\")","v":"A"},{"$f":"IF(Attendance($C55,'Daily Register'!MY$3:MY$242)=TRUE,\"P\",\"A\")","v":"A"},{"$f":"IF(Attendance($C55,'Daily Register'!MZ$3:MZ$242)=TRUE,\"P\",\"A\")","v":"A"},{"$f":"IF(Attendance($C55,'Daily Register'!NA$3:NA$242)=TRUE,\"P\",\"A\")","v":"A"},{"$f":"IF(Attendance($C55,'Daily Register'!NB$3:NB$242)=TRUE,\"P\",\"A\")","v":"A"}]
[0,null,53,null,{"$f":"IF(Attendance($C56,'Daily Register'!A$3:A$242)=TRUE,\"P\",\"A\")","v":"A"},{"$f":"IF(Attendance($C56,'Daily Register'!B$3:B$242)=TRUE,\"P\",\"A\")","v":"A"},{"$f":"IF(Attendance($C56,'Daily Register'!C$3:C$242)=TRUE,\"P\",\"A\")","v":"A"},{"$f":"IF(Attendance($C56,'Daily Register'!D$3:D$242)=TRUE,\"P\",\"A\")","v":"A"},{"$f":"IF(Attendance($C56,'Daily Register'!E$3:E$242)=TRUE,\"P\",\"A\")","v":"A"},{"$f":"IF(Attendance($C56,'Daily Register'!F$3:F$242)=TRUE,\"P\",\"A\")","v":"A"},{"$f":"IF(Attendance($C56,'Daily Register'!G$3:G$242)=TRUE,\"P\",\"A\")","v":"A"},{"$f":"IF(Attendance($C56,'Daily Register'!H$3:H$242)=TRUE,\"P\",\"A\")","v":"A"},{"$f":"IF(Attendance($C56,'Daily Register'!I$3:I$242)=TRUE,\"P\",\"A\")","v":"A"},{"$f":"IF(Attendance($C56,'Daily Register'!J$3:J$242)=TRUE,\"P\",\"A\")","v":"A"},{"$f":"IF(Attendance($C56,'Daily Register'!K$3:K$242)=TRUE,\"P\",\"A\")","v":"A"},{"$f":"IF(Attendance($C56,'Daily Register'!L$3:L$242)=TRUE,\"P\",\"A\")","v":"A"},{"$f":"IF(Attendance($C56,'Daily Register'!M$3:M$242)=TRUE,\"P\",\"A\")","v":"A"},{"$f":"IF(Attendance($C56,'Daily Register'!N$3:N$242)=TRUE,\"P\",\"A\")","v":"A"},{"$f":"IF(Attendance($C56,'Daily Register'!O$3:O$242)=TRUE,\"P\",\"A\")","v":"A"},{"$f":"IF(Attendance($C56,'Daily Register'!P$3:P$242)=TRUE,\"P\",\"A\")","v":"A"},{"$f":"IF(Attendance($C56,'Daily Register'!Q$3:Q$242)=TRUE,\"P\",\"A\")","v":"A"},{"$f":"IF(Attendance($C56,'Daily Register'!R$3:R$242)=TRUE,\"P\",\"A\")","v":"A"},{"$f":"IF(Attendance($C56,'Daily Register'!S$3:S$242)=TRUE,\"P\",\"A\")","v":"A"},{"$f":"IF(Attendance($C56,'Daily Register'!T$3:T$242)=TRUE,\"P\",\"A\")","v":"A"},{"$f":"IF(Attendance($C56,'Daily Register'!U$3:U$242)=TRUE,\"P\",\"A\")","v":"A"},{"$f":"IF(Attendance($C56,'Daily Register'!V$3:V$242)=TRUE,\"P\",\"A\")","v":"A"},{"$f":"IF(Attendance($C56,'Daily Register'!W$3:W$242)=TRUE,\"P\",\"A\")","v":"A"},{"$f":"IF(Attendance($C56,'Daily Register'!X$3:X$242)=TRUE,\"P\",\"A\")","v":"A"},{"$f":"IF(Attendance($C56,'Daily Register'!Y$3:Y$242)=TRUE,\"P\",\"A\")","v":"A"},{"$f":"IF(Attendance($C56,'Daily Register'!Z$3:Z$242)=TRUE,\"P\",\"A\")","v":"A"},{"$f":"IF(Attendance($C56,'Daily Register'!AA$3:AA$242)=TRUE,\"P\",\"A\")","v":"A"},{"$f":"IF(Attendance($C56,'Daily Register'!AB$3:AB$242)=TRUE,\"P\",\"A\")","v":"A"},{"$f":"IF(Attendance($C56,'Daily Register'!AC$3:AC$242)=TRUE,\"P\",\"A\")","v":"A"},{"$f":"IF(Attendance($C56,'Daily Register'!AD$3:AD$242)=TRUE,\"P\",\"A\")","v":"A"},{"$f":"IF(Attendance($C56,'Daily Register'!AE$3:AE$242)=TRUE,\"P\",\"A\")","v":"A"},{"$f":"IF(Attendance($C56,'Daily Register'!AF$3:AF$242)=TRUE,\"P\",\"A\")","v":"A"},{"$f":"IF(Attendance($C56,'Daily Register'!AG$3:AG$242)=TRUE,\"P\",\"A\")","v":"A"},{"$f":"IF(Attendance($C56,'Daily Register'!AH$3:AH$242)=TRUE,\"P\",\"A\")","v":"A"},{"$f":"IF(Attendance($C56,'Daily Register'!AI$3:AI$242)=TRUE,\"P\",\"A\")","v":"A"},{"$f":"IF(Attendance($C56,'Daily Register'!AJ$3:AJ$242)=TRUE,\"P\",\"A\")","v":"A"},{"$f":"IF(Attendance($C56,'Daily Register'!AK$3:AK$242)=TRUE,\"P\",\"A\")","v":"A"},{"$f":"IF(Attendance($C56,'Daily Register'!AL$3:AL$242)=TRUE,\"P\",\"A\")","v":"A"},{"$f":"IF(Attendance($C56,'Daily Register'!AM$3:AM$242)=TRUE,\"P\",\"A\")","v":"A"},{"$f":"IF(Attendance($C56,'Daily Register'!AN$3:AN$242)=TRUE,\"P\",\"A\")","v":"A"},{"$f":"IF(Attendance($C56,'Daily Register'!AO$3:AO$242)=TRUE,\"P\",\"A\")","v":"A"},{"$f":"IF(Attendance($C56,'Daily Register'!AP$3:AP$242)=TRUE,\"P\",\"A\")","v":"A"},{"$f":"IF(Attendance($C56,'Daily Register'!AQ$3:AQ$242)=TRUE,\"P\",\"A\")","v":"A"},{"$f":"IF(Attendance($C56,'Daily Register'!AR$3:AR$242)=TRUE,\"P\",\"A\")","v":"A"},{"$f":"IF(Attendance($C56,'Daily Register'!AS$3:AS$242)=TRUE,\"P\",\"A\")","v":"A"},{"$f":"IF(Attendance($C56,'Daily Register'!AT$3:AT$242)=TRUE,\"P\",\"A\")","v":"A"},{"$f":"IF(Attendance($C56,'Daily Register'!AU$3:AU$242)=TRUE,\"P\",\"A\")","v":"A"},{"$f":"IF(Attendance($C56,'Daily Register'!AV$3:AV$242)=TRUE,\"P\",\"A\")","v":"A"},{"$f":"IF(Attendance($C56,'Daily Register'!AW$3:AW$242)=TRUE,\"P\",\"A\")","v":"A"},{"$f":"IF(Attendance($C56,'Daily Register'!AX$3:AX$242)=TRUE,\"P\",\"A\")","v":"A"},{"$f":"IF(Attendance($C56,'Daily Register'!AY$3:AY$242)=TRUE,\"P\",\"A\")","v":"A"},{"$f":"IF(Attendance($C56,'Daily Register'!AZ$3:AZ$242)=TRUE,\"P\",\"A\")","v":"A"},{"$f":"IF(Attendance($C56,'Daily Register'!BA$3:BA$242)=TRUE,\"P\",\"A\")","v":"A"},{"$f":"IF(Attendance($C56,'Daily Register'!BB$3:BB$242)=TRUE,\"P\",\"A\")","v":"A"},{"$f":"IF(Attendance($C56,'Daily Register'!BC$3:BC$242)=TRUE,\"P\",\"A\")","v":"A"},{"$f":"IF(Attendance($C56,'Daily Register'!BD$3:BD$242)=TRUE,\"P\",\"A\")","v":"A"},{"$f":"IF(Attendance($C56,'Daily Register'!BE$3:BE$242)=TRUE,\"P\",\"A\")","v":"A"},{"$f":"IF(Attendance($C56,'Daily Register'!BF$3:BF$242)=TRUE,\"P\",\"A\")","v":"A"},{"$f":"IF(Attendance($C56,'Daily Register'!BG$3:BG$242)=TRUE,\"P\",\"A\")","v":"A"},{"$f":"IF(Attendance($C56,'Daily Register'!BH$3:BH$242)=TRUE,\"P\",\"A\")","v":"A"},{"$f":"IF(Attendance($C56,'Daily Register'!BI$3:BI$242)=TRUE,\"P\",\"A\")","v":"A"},{"$f":"IF(Attendance($C56,'Daily Register'!BJ$3:BJ$242)=TRUE,\"P\",\"A\")","v":"A"},{"$f":"IF(Attendance($C56,'Daily Register'!BK$3:BK$242)=TRUE,\"P\",\"A\")","v":"A"},{"$f":"IF(Attendance($C56,'Daily Register'!BL$3:BL$242)=TRUE,\"P\",\"A\")","v":"A"},{"$f":"IF(Attendance($C56,'Daily Register'!BM$3:BM$242)=TRUE,\"P\",\"A\")","v":"A"},{"$f":"IF(Attendance($C56,'Daily Register'!BN$3:BN$242)=TRUE,\"P\",\"A\")","v":"A"},{"$f":"IF(Attendance($C56,'Daily Register'!BO$3:BO$242)=TRUE,\"P\",\"A\")","v":"A"},{"$f":"IF(Attendance($C56,'Daily Register'!BP$3:BP$242)=TRUE,\"P\",\"A\")","v":"A"},{"$f":"IF(Attendance($C56,'Daily Register'!BQ$3:BQ$242)=TRUE,\"P\",\"A\")","v":"A"},{"$f":"IF(Attendance($C56,'Daily Register'!BR$3:BR$242)=TRUE,\"P\",\"A\")","v":"A"},{"$f":"IF(Attendance($C56,'Daily Register'!BS$3:BS$242)=TRUE,\"P\",\"A\")","v":"A"},{"$f":"IF(Attendance($C56,'Daily Register'!BT$3:BT$242)=TRUE,\"P\",\"A\")","v":"A"},{"$f":"IF(Attendance($C56,'Daily Register'!BU$3:BU$242)=TRUE,\"P\",\"A\")","v":"A"},{"$f":"IF(Attendance($C56,'Daily Register'!BV$3:BV$242)=TRUE,\"P\",\"A\")","v":"A"},{"$f":"IF(Attendance($C56,'Daily Register'!BW$3:BW$242)=TRUE,\"P\",\"A\")","v":"A"},{"$f":"IF(Attendance($C56,'Daily Register'!BX$3:BX$242)=TRUE,\"P\",\"A\")","v":"A"},{"$f":"IF(Attendance($C56,'Daily Register'!BY$3:BY$242)=TRUE,\"P\",\"A\")","v":"A"},{"$f":"IF(Attendance($C56,'Daily Register'!BZ$3:BZ$242)=TRUE,\"P\",\"A\")","v":"A"},{"$f":"IF(Attendance($C56,'Daily Register'!CA$3:CA$242)=TRUE,\"P\",\"A\")","v":"A"},{"$f":"IF(Attendance($C56,'Daily Register'!CB$3:CB$242)=TRUE,\"P\",\"A\")","v":"A"},{"$f":"IF(Attendance($C56,'Daily Register'!CC$3:CC$242)=TRUE,\"P\",\"A\")","v":"A"},{"$f":"IF(Attendance($C56,'Daily Register'!CD$3:CD$242)=TRUE,\"P\",\"A\")","v":"A"},{"$f":"IF(Attendance($C56,'Daily Register'!CE$3:CE$242)=TRUE,\"P\",\"A\")","v":"A"},{"$f":"IF(Attendance($C56,'Daily Register'!CF$3:CF$242)=TRUE,\"P\",\"A\")","v":"A"},{"$f":"IF(Attendance($C56,'Daily Register'!CG$3:CG$242)=TRUE,\"P\",\"A\")","v":"A"},{"$f":"IF(Attendance($C56,'Daily Register'!CH$3:CH$242)=TRUE,\"P\",\"A\")","v":"A"},{"$f":"IF(Attendance($C56,'Daily Register'!CI$3:CI$242)=TRUE,\"P\",\"A\")","v":"A"},{"$f":"IF(Attendance($C56,'Daily Register'!CJ$3:CJ$242)=TRUE,\"P\",\"A\")","v":"A"},{"$f":"IF(Attendance($C56,'Daily Register'!CK$3:CK$242)=TRUE,\"P\",\"A\")","v":"A"},{"$f":"IF(Attendance($C56,'Daily Register'!CL$3:CL$242)=TRUE,\"P\",\"A\")","v":"A"},{"$f":"IF(Attendance($C56,'Daily Register'!CM$3:CM$242)=TRUE,\"P\",\"A\")","v":"A"},{"$f":"IF(Attendance($C56,'Daily Register'!CN$3:CN$242)=TRUE,\"P\",\"A\")","v":"A"},{"$f":"IF(Attendance($C56,'Daily Register'!CO$3:CO$242)=TRUE,\"P\",\"A\")","v":"A"},{"$f":"IF(Attendance($C56,'Daily Register'!CP$3:CP$242)=TRUE,\"P\",\"A\")","v":"A"},{"$f":"IF(Attendance($C56,'Daily Register'!CQ$3:CQ$242)=TRUE,\"P\",\"A\")","v":"A"},{"$f":"IF(Attendance($C56,'Daily Register'!CR$3:CR$242)=TRUE,\"P\",\"A\")","v":"A"},{"$f":"IF(Attendance($C56,'Daily Register'!CS$3:CS$242)=TRUE,\"P\",\"A\")","v":"A"},{"$f":"IF(Attendance($C56,'Daily Register'!CT$3:CT$242)=TRUE,\"P\",\"A\")","v":"A"},{"$f":"IF(Attendance($C56,'Daily Register'!CU$3:CU$242)=TRUE,\"P\",\"A\")","v":"A"},{"$f":"IF(Attendance($C56,'Daily Register'!CV$3:CV$242)=TRUE,\"P\",\"A\")","v":"A"},{"$f":"IF(Attendance($C56,'Daily Register'!CW$3:CW$242)=TRUE,\"P\",\"A\")","v":"A"},{"$f":"IF(Attendance($C56,'Daily Register'!CX$3:CX$242)=TRUE,\"P\",\"A\")","v":"A"},{"$f":"IF(Attendance($C56,'Daily Register'!CY$3:CY$242)=TRUE,\"P\",\"A\")","v":"A"},{"$f":"IF(Attendance($C56,'Daily Register'!CZ$3:CZ$242)=TRUE,\"P\",\"A\")","v":"A"},{"$f":"IF(Attendance($C56,'Daily Register'!DA$3:DA$242)=TRUE,\"P\",\"A\")","v":"A"},{"$f":"IF(Attendance($C56,'Daily Register'!DB$3:DB$242)=TRUE,\"P\",\"A\")","v":"A"},{"$f":"IF(Attendance($C56,'Daily Register'!DC$3:DC$242)=TRUE,\"P\",\"A\")","v":"A"},{"$f":"IF(Attendance($C56,'Daily Register'!DD$3:DD$242)=TRUE,\"P\",\"A\")","v":"A"},{"$f":"IF(Attendance($C56,'Daily Register'!DE$3:DE$242)=TRUE,\"P\",\"A\")","v":"A"},{"$f":"IF(Attendance($C56,'Daily Register'!DF$3:DF$242)=TRUE,\"P\",\"A\")","v":"A"},{"$f":"IF(Attendance($C56,'Daily Register'!DG$3:DG$242)=TRUE,\"P\",\"A\")","v":"A"},{"$f":"IF(Attendance($C56,'Daily Register'!DH$3:DH$242)=TRUE,\"P\",\"A\")","v":"A"},{"$f":"IF(Attendance($C56,'Daily Register'!DI$3:DI$242)=TRUE,\"P\",\"A\")","v":"A"},{"$f":"IF(Attendance($C56,'Daily Register'!DJ$3:DJ$242)=TRUE,\"P\",\"A\")","v":"A"},{"$f":"IF(Attendance($C56,'Daily Register'!DK$3:DK$242)=TRUE,\"P\",\"A\")","v":"A"},{"$f":"IF(Attendance($C56,'Daily Register'!DL$3:DL$242)=TRUE,\"P\",\"A\")","v":"A"},{"$f":"IF(Attendance($C56,'Daily Register'!DM$3:DM$242)=TRUE,\"P\",\"A\")","v":"A"},{"$f":"IF(Attendance($C56,'Daily Register'!DN$3:DN$242)=TRUE,\"P\",\"A\")","v":"A"},{"$f":"IF(Attendance($C56,'Daily Register'!DO$3:DO$242)=TRUE,\"P\",\"A\")","v":"A"},{"$f":"IF(Attendance($C56,'Daily Register'!DP$3:DP$242)=TRUE,\"P\",\"A\")","v":"A"},{"$f":"IF(Attendance($C56,'Daily Register'!DQ$3:DQ$242)=TRUE,\"P\",\"A\")","v":"A"},{"$f":"IF(Attendance($C56,'Daily Register'!DR$3:DR$242)=TRUE,\"P\",\"A\")","v":"A"},{"$f":"IF(Attendance($C56,'Daily Register'!DS$3:DS$242)=TRUE,\"P\",\"A\")","v":"A"},{"$f":"IF(Attendance($C56,'Daily Register'!DT$3:DT$242)=TRUE,\"P\",\"A\")","v":"A"},{"$f":"IF(Attendance($C56,'Daily Register'!DU$3:DU$242)=TRUE,\"P\",\"A\")","v":"A"},{"$f":"IF(Attendance($C56,'Daily Register'!DV$3:DV$242)=TRUE,\"P\",\"A\")","v":"A"},{"$f":"IF(Attendance($C56,'Daily Register'!DW$3:DW$242)=TRUE,\"P\",\"A\")","v":"A"},{"$f":"IF(Attendance($C56,'Daily Register'!DX$3:DX$242)=TRUE,\"P\",\"A\")","v":"A"},{"$f":"IF(Attendance($C56,'Daily Register'!DY$3:DY$242)=TRUE,\"P\",\"A\")","v":"A"},{"$f":"IF(Attendance($C56,'Daily Register'!DZ$3:DZ$242)=TRUE,\"P\",\"A\")","v":"A"},{"$f":"IF(Attendance($C56,'Daily Register'!EA$3:EA$242)=TRUE,\"P\",\"A\")","v":"A"},{"$f":"IF(Attendance($C56,'Daily Register'!EB$3:EB$242)=TRUE,\"P\",\"A\")","v":"A"},{"$f":"IF(Attendance($C56,'Daily Register'!EC$3:EC$242)=TRUE,\"P\",\"A\")","v":"A"},{"$f":"IF(Attendance($C56,'Daily Register'!ED$3:ED$242)=TRUE,\"P\",\"A\")","v":"A"},{"$f":"IF(Attendance($C56,'Daily Register'!EE$3:EE$242)=TRUE,\"P\",\"A\")","v":"A"},{"$f":"IF(Attendance($C56,'Daily Register'!EF$3:EF$242)=TRUE,\"P\",\"A\")","v":"A"},{"$f":"IF(Attendance($C56,'Daily Register'!EG$3:EG$242)=TRUE,\"P\",\"A\")","v":"A"},{"$f":"IF(Attendance($C56,'Daily Register'!EH$3:EH$242)=TRUE,\"P\",\"A\")","v":"A"},{"$f":"IF(Attendance($C56,'Daily Register'!EI$3:EI$242)=TRUE,\"P\",\"A\")","v":"A"},{"$f":"IF(Attendance($C56,'Daily Register'!EJ$3:EJ$242)=TRUE,\"P\",\"A\")","v":"A"},{"$f":"IF(Attendance($C56,'Daily Register'!EK$3:EK$242)=TRUE,\"P\",\"A\")","v":"A"},{"$f":"IF(Attendance($C56,'Daily Register'!EL$3:EL$242)=TRUE,\"P\",\"A\")","v":"A"},{"$f":"IF(Attendance($C56,'Daily Register'!EM$22:EM$242)=TRUE,\"P\",\"A\")","v":"A"},{"$f":"IF(Attendance($C56,'Daily Register'!EN$3:EN$242)=TRUE,\"P\",\"A\")","v":"A"},{"$f":"IF(Attendance($C56,'Daily Register'!EO$3:EO$242)=TRUE,\"P\",\"A\")","v":"A"},{"$f":"IF(Attendance($C56,'Daily Register'!EP$3:EP$242)=TRUE,\"P\",\"A\")","v":"A"},{"$f":"IF(Attendance($C56,'Daily Register'!EQ$3:EQ$242)=TRUE,\"P\",\"A\")","v":"A"},{"$f":"IF(Attendance($C56,'Daily Register'!ER$3:ER$242)=TRUE,\"P\",\"A\")","v":"A"},{"$f":"IF(Attendance($C56,'Daily Register'!ES$3:ES$242)=TRUE,\"P\",\"A\")","v":"A"},{"$f":"IF(Attendance($C56,'Daily Register'!ET$3:ET$242)=TRUE,\"P\",\"A\")","v":"A"},{"$f":"IF(Attendance($C56,'Daily Register'!EU$3:EU$242)=TRUE,\"P\",\"A\")","v":"A"},{"$f":"IF(Attendance($C56,'Daily Register'!EV$3:EV$242)=TRUE,\"P\",\"A\")","v":"A"},{"$f":"IF(Attendance($C56,'Daily Register'!EW$3:EW$242)=TRUE,\"P\",\"A\")","v":"A"},{"$f":"IF(Attendance($C56,'Daily Register'!EX$3:EX$242)=TRUE,\"P\",\"A\")","v":"A"},{"$f":"IF(Attendance($C56,'Daily Register'!EY$3:EY$242)=TRUE,\"P\",\"A\")","v":"A"},{"$f":"IF(Attendance($C56,'Daily Register'!EZ$3:EZ$242)=TRUE,\"P\",\"A\")","v":"A"},{"$f":"IF(Attendance($C56,'Daily Register'!FA$3:FA$242)=TRUE,\"P\",\"A\")","v":"A"},{"$f":"IF(Attendance($C56,'Daily Register'!FB$3:FB$242)=TRUE,\"P\",\"A\")","v":"A"},{"$f":"IF(Attendance($C56,'Daily Register'!FC$3:FC$242)=TRUE,\"P\",\"A\")","v":"A"},{"$f":"IF(Attendance($C56,'Daily Register'!FD$3:FD$242)=TRUE,\"P\",\"A\")","v":"A"},{"$f":"IF(Attendance($C56,'Daily Register'!FE$3:FE$242)=TRUE,\"P\",\"A\")","v":"A"},{"$f":"IF(Attendance($C56,'Daily Register'!FF$3:FF$242)=TRUE,\"P\",\"A\")","v":"A"},{"$f":"IF(Attendance($C56,'Daily Register'!FG$3:FG$242)=TRUE,\"P\",\"A\")","v":"A"},{"$f":"IF(Attendance($C56,'Daily Register'!FH$3:FH$242)=TRUE,\"P\",\"A\")","v":"A"},{"$f":"IF(Attendance($C56,'Daily Register'!FI$3:FI$242)=TRUE,\"P\",\"A\")","v":"A"},{"$f":"IF(Attendance($C56,'Daily Register'!FJ$3:FJ$242)=TRUE,\"P\",\"A\")","v":"A"},{"$f":"IF(Attendance($C56,'Daily Register'!FK$3:FK$242)=TRUE,\"P\",\"A\")","v":"A"},{"$f":"IF(Attendance($C56,'Daily Register'!FL$3:FL$242)=TRUE,\"P\",\"A\")","v":"A"},{"$f":"IF(Attendance($C56,'Daily Register'!FM$3:FM$242)=TRUE,\"P\",\"A\")","v":"A"},{"$f":"IF(Attendance($C56,'Daily Register'!FN$3:FN$242)=TRUE,\"P\",\"A\")","v":"A"},{"$f":"IF(Attendance($C56,'Daily Register'!FO$3:FO$242)=TRUE,\"P\",\"A\")","v":"A"},{"$f":"IF(Attendance($C56,'Daily Register'!FP$3:FP$242)=TRUE,\"P\",\"A\")","v":"A"},{"$f":"IF(Attendance($C56,'Daily Register'!FQ$3:FQ$242)=TRUE,\"P\",\"A\")","v":"A"},{"$f":"IF(Attendance($C56,'Daily Register'!FR$3:FR$242)=TRUE,\"P\",\"A\")","v":"A"},{"$f":"IF(Attendance($C56,'Daily Register'!FS$3:FS$242)=TRUE,\"P\",\"A\")","v":"A"},{"$f":"IF(Attendance($C56,'Daily Register'!FT$3:FT$242)=TRUE,\"P\",\"A\")","v":"A"},{"$f":"IF(Attendance($C56,'Daily Register'!FU$3:FU$242)=TRUE,\"P\",\"A\")","v":"A"},{"$f":"IF(Attendance($C56,'Daily Register'!FV$3:FV$242)=TRUE,\"P\",\"A\")","v":"A"},{"$f":"IF(Attendance($C56,'Daily Register'!FW$3:FW$242)=TRUE,\"P\",\"A\")","v":"A"},{"$f":"IF(Attendance($C56,'Daily Register'!FX$3:FX$242)=TRUE,\"P\",\"A\")","v":"A"},{"$f":"IF(Attendance($C56,'Daily Register'!FY$3:FY$242)=TRUE,\"P\",\"A\")","v":"A"},{"$f":"IF(Attendance($C56,'Daily Register'!FZ$3:FZ$242)=TRUE,\"P\",\"A\")","v":"A"},{"$f":"IF(Attendance($C56,'Daily Register'!GA$3:GA$242)=TRUE,\"P\",\"A\")","v":"A"},{"$f":"IF(Attendance($C56,'Daily Register'!GB$3:GB$242)=TRUE,\"P\",\"A\")","v":"A"},{"$f":"IF(Attendance($C56,'Daily Register'!GC$3:GC$242)=TRUE,\"P\",\"A\")","v":"A"},{"$f":"IF(Attendance($C56,'Daily Register'!GD$3:GD$242)=TRUE,\"P\",\"A\")","v":"A"},{"$f":"IF(Attendance($C56,'Daily Register'!GE$3:GE$242)=TRUE,\"P\",\"A\")","v":"A"},{"$f":"IF(Attendance($C56,'Daily Register'!GF$3:GF$242)=TRUE,\"P\",\"A\")","v":"A"},{"$f":"IF(Attendance($C56,'Daily Register'!GG$3:GG$242)=TRUE,\"P\",\"A\")","v":"A"},{"$f":"IF(Attendance($C56,'Daily Register'!GH$3:GH$242)=TRUE,\"P\",\"A\")","v":"A"},{"$f":"IF(Attendance($C56,'Daily Register'!GI$3:GI$242)=TRUE,\"P\",\"A\")","v":"A"},{"$f":"IF(Attendance($C56,'Daily Register'!GJ$3:GJ$242)=TRUE,\"P\",\"A\")","v":"A"},{"$f":"IF(Attendance($C56,'Daily Register'!GK$3:GK$242)=TRUE,\"P\",\"A\")","v":"A"},{"$f":"IF(Attendance($C56,'Daily Register'!GL$3:GL$242)=TRUE,\"P\",\"A\")","v":"A"},{"$f":"IF(Attendance($C56,'Daily Register'!GM$3:GM$242)=TRUE,\"P\",\"A\")","v":"A"},{"$f":"IF(Attendance($C56,'Daily Register'!GN$3:GN$242)=TRUE,\"P\",\"A\")","v":"A"},{"$f":"IF(Attendance($C56,'Daily Register'!GO$3:GO$242)=TRUE,\"P\",\"A\")","v":"A"},{"$f":"IF(Attendance($C56,'Daily Register'!GP$3:GP$242)=TRUE,\"P\",\"A\")","v":"A"},{"$f":"IF(Attendance($C56,'Daily Register'!GQ$3:GQ$242)=TRUE,\"P\",\"A\")","v":"A"},{"$f":"IF(Attendance($C56,'Daily Register'!GR$3:GR$242)=TRUE,\"P\",\"A\")","v":"A"},{"$f":"IF(Attendance($C56,'Daily Register'!GS$3:GS$242)=TRUE,\"P\",\"A\")","v":"A"},{"$f":"IF(Attendance($C56,'Daily Register'!GT$3:GT$242)=TRUE,\"P\",\"A\")","v":"A"},{"$f":"IF(Attendance($C56,'Daily Register'!GU$3:GU$242)=TRUE,\"P\",\"A\")","v":"A"},{"$f":"IF(Attendance($C56,'Daily Register'!GV$3:GV$242)=TRUE,\"P\",\"A\")","v":"A"},{"$f":"IF(Attendance($C56,'Daily Register'!GW$3:GW$242)=TRUE,\"P\",\"A\")","v":"A"},{"$f":"IF(Attendance($C56,'Daily Register'!GX$3:GX$242)=TRUE,\"P\",\"A\")","v":"A"},{"$f":"IF(Attendance($C56,'Daily Register'!GY$3:GY$242)=TRUE,\"P\",\"A\")","v":"A"},{"$f":"IF(Attendance($C56,'Daily Register'!GZ$3:GZ$242)=TRUE,\"P\",\"A\")","v":"A"},{"$f":"IF(Attendance($C56,'Daily Register'!HA$3:HA$242)=TRUE,\"P\",\"A\")","v":"A"},{"$f":"IF(Attendance($C56,'Daily Register'!HB$3:HB$242)=TRUE,\"P\",\"A\")","v":"A"},{"$f":"IF(Attendance($C56,'Daily Register'!HC$3:HC$242)=TRUE,\"P\",\"A\")","v":"A"},{"$f":"IF(Attendance($C56,'Daily Register'!HD$3:HD$242)=TRUE,\"P\",\"A\")","v":"A"},{"$f":"IF(Attendance($C56,'Daily Register'!HE$3:HE$242)=TRUE,\"P\",\"A\")","v":"A"},{"$f":"IF(Attendance($C56,'Daily Register'!HF$3:HF$242)=TRUE,\"P\",\"A\")","v":"A"},{"$f":"IF(Attendance($C56,'Daily Register'!HG$3:HG$242)=TRUE,\"P\",\"A\")","v":"A"},{"$f":"IF(Attendance($C56,'Daily Register'!HH$3:HH$242)=TRUE,\"P\",\"A\")","v":"A"},{"$f":"IF(Attendance($C56,'Daily Register'!HI$3:HI$242)=TRUE,\"P\",\"A\")","v":"A"},{"$f":"IF(Attendance($C56,'Daily Register'!HJ$3:HJ$242)=TRUE,\"P\",\"A\")","v":"A"},{"$f":"IF(Attendance($C56,'Daily Register'!HK$3:HK$242)=TRUE,\"P\",\"A\")","v":"A"},{"$f":"IF(Attendance($C56,'Daily Register'!HL$3:HL$242)=TRUE,\"P\",\"A\")","v":"A"},{"$f":"IF(Attendance($C56,'Daily Register'!HM$3:HM$242)=TRUE,\"P\",\"A\")","v":"A"},{"$f":"IF(Attendance($C56,'Daily Register'!HN$3:HN$242)=TRUE,\"P\",\"A\")","v":"A"},{"$f":"IF(Attendance($C56,'Daily Register'!HO$3:HO$242)=TRUE,\"P\",\"A\")","v":"A"},{"$f":"IF(Attendance($C56,'Daily Register'!HP$3:HP$242)=TRUE,\"P\",\"A\")","v":"A"},{"$f":"IF(Attendance($C56,'Daily Register'!HQ$3:HQ$242)=TRUE,\"P\",\"A\")","v":"A"},{"$f":"IF(Attendance($C56,'Daily Register'!HR$3:HR$242)=TRUE,\"P\",\"A\")","v":"A"},{"$f":"IF(Attendance($C56,'Daily Register'!HS$3:HS$242)=TRUE,\"P\",\"A\")","v":"A"},{"$f":"IF(Attendance($C56,'Daily Register'!HT$3:HT$242)=TRUE,\"P\",\"A\")","v":"A"},{"$f":"IF(Attendance($C56,'Daily Register'!HU$3:HU$242)=TRUE,\"P\",\"A\")","v":"A"},{"$f":"IF(Attendance($C56,'Daily Register'!HV$3:HV$242)=TRUE,\"P\",\"A\")","v":"A"},{"$f":"IF(Attendance($C56,'Daily Register'!HW$3:HW$242)=TRUE,\"P\",\"A\")","v":"A"},{"$f":"IF(Attendance($C56,'Daily Register'!HX$3:HX$242)=TRUE,\"P\",\"A\")","v":"A"},{"$f":"IF(Attendance($C56,'Daily Register'!HY$3:HY$242)=TRUE,\"P\",\"A\")","v":"A"},{"$f":"IF(Attendance($C56,'Daily Register'!HZ$3:HZ$242)=TRUE,\"P\",\"A\")","v":"A"},{"$f":"IF(Attendance($C56,'Daily Register'!IA$3:IA$242)=TRUE,\"P\",\"A\")","v":"A"},{"$f":"IF(Attendance($C56,'Daily Register'!IB$3:IB$242)=TRUE,\"P\",\"A\")","v":"A"},{"$f":"IF(Attendance($C56,'Daily Register'!IC$3:IC$242)=TRUE,\"P\",\"A\")","v":"A"},{"$f":"IF(Attendance($C56,'Daily Register'!ID$3:ID$242)=TRUE,\"P\",\"A\")","v":"A"},{"$f":"IF(Attendance($C56,'Daily Register'!IE$3:IE$242)=TRUE,\"P\",\"A\")","v":"A"},{"$f":"IF(Attendance($C56,'Daily Register'!IF$3:IF$242)=TRUE,\"P\",\"A\")","v":"A"},{"$f":"IF(Attendance($C56,'Daily Register'!IG$3:IG$242)=TRUE,\"P\",\"A\")","v":"A"},{"$f":"IF(Attendance($C56,'Daily Register'!IH$3:IH$242)=TRUE,\"P\",\"A\")","v":"A"},{"$f":"IF(Attendance($C56,'Daily Register'!II$3:II$242)=TRUE,\"P\",\"A\")","v":"A"},{"$f":"IF(Attendance($C56,'Daily Register'!IJ$3:IJ$242)=TRUE,\"P\",\"A\")","v":"A"},{"$f":"IF(Attendance($C56,'Daily Register'!IK$3:IK$242)=TRUE,\"P\",\"A\")","v":"A"},{"$f":"IF(Attendance($C56,'Daily Register'!IL$3:IL$242)=TRUE,\"P\",\"A\")","v":"A"},{"$f":"IF(Attendance($C56,'Daily Register'!IM$3:IM$242)=TRUE,\"P\",\"A\")","v":"A"},{"$f":"IF(Attendance($C56,'Daily Register'!IN$3:IN$242)=TRUE,\"P\",\"A\")","v":"A"},{"$f":"IF(Attendance($C56,'Daily Register'!IO$3:IO$242)=TRUE,\"P\",\"A\")","v":"A"},{"$f":"IF(Attendance($C56,'Daily Register'!IP$3:IP$242)=TRUE,\"P\",\"A\")","v":"A"},{"$f":"IF(Attendance($C56,'Daily Register'!IQ$3:IQ$242)=TRUE,\"P\",\"A\")","v":"A"},{"$f":"IF(Attendance($C56,'Daily Register'!IR$3:IR$242)=TRUE,\"P\",\"A\")","v":"A"},{"$f":"IF(Attendance($C56,'Daily Register'!IS$3:IS$242)=TRUE,\"P\",\"A\")","v":"A"},{"$f":"IF(Attendance($C56,'Daily Register'!IT$3:IT$242)=TRUE,\"P\",\"A\")","v":"A"},{"$f":"IF(Attendance($C56,'Daily Register'!IU$3:IU$242)=TRUE,\"P\",\"A\")","v":"A"},{"$f":"IF(Attendance($C56,'Daily Register'!IV$3:IV$242)=TRUE,\"P\",\"A\")","v":"A"},{"$f":"IF(Attendance($C56,'Daily Register'!IW$3:IW$242)=TRUE,\"P\",\"A\")","v":"A"},{"$f":"IF(Attendance($C56,'Daily Register'!IX$3:IX$242)=TRUE,\"P\",\"A\")","v":"A"},{"$f":"IF(Attendance($C56,'Daily Register'!IY$3:IY$242)=TRUE,\"P\",\"A\")","v":"A"},{"$f":"IF(Attendance($C56,'Daily Register'!IZ$3:IZ$242)=TRUE,\"P\",\"A\")","v":"A"},{"$f":"IF(Attendance($C56,'Daily Register'!JA$3:JA$242)=TRUE,\"P\",\"A\")","v":"A"},{"$f":"IF(Attendance($C56,'Daily Register'!JB$3:JB$242)=TRUE,\"P\",\"A\")","v":"A"},{"$f":"IF(Attendance($C56,'Daily Register'!JC$3:JC$242)=TRUE,\"P\",\"A\")","v":"A"},{"$f":"IF(Attendance($C56,'Daily Register'!JD$3:JD$242)=TRUE,\"P\",\"A\")","v":"A"},{"$f":"IF(Attendance($C56,'Daily Register'!JE$3:JE$242)=TRUE,\"P\",\"A\")","v":"A"},{"$f":"IF(Attendance($C56,'Daily Register'!JF$3:JF$242)=TRUE,\"P\",\"A\")","v":"A"},{"$f":"IF(Attendance($C56,'Daily Register'!JG$3:JG$242)=TRUE,\"P\",\"A\")","v":"A"},{"$f":"IF(Attendance($C56,'Daily Register'!JH$3:JH$242)=TRUE,\"P\",\"A\")","v":"A"},{"$f":"IF(Attendance($C56,'Daily Register'!JI$3:JI$242)=TRUE,\"P\",\"A\")","v":"A"},{"$f":"IF(Attendance($C56,'Daily Register'!JJ$3:JJ$242)=TRUE,\"P\",\"A\")","v":"A"},{"$f":"IF(Attendance($C56,'Daily Register'!JK$3:JK$242)=TRUE,\"P\",\"A\")","v":"A"},{"$f":"IF(Attendance($C56,'Daily Register'!JL$3:JL$242)=TRUE,\"P\",\"A\")","v":"A"},{"$f":"IF(Attendance($C56,'Daily Register'!JM$3:JM$242)=TRUE,\"P\",\"A\")","v":"A"},{"$f":"IF(Attendance($C56,'Daily Register'!JN$3:JN$242)=TRUE,\"P\",\"A\")","v":"A"},{"$f":"IF(Attendance($C56,'Daily Register'!JO$3:JO$242)=TRUE,\"P\",\"A\")","v":"A"},{"$f":"IF(Attendance($C56,'Daily Register'!JP$3:JP$242)=TRUE,\"P\",\"A\")","v":"A"},{"$f":"IF(Attendance($C56,'Daily Register'!JQ$3:JQ$242)=TRUE,\"P\",\"A\")","v":"A"},{"$f":"IF(Attendance($C56,'Daily Register'!JR$3:JR$242)=TRUE,\"P\",\"A\")","v":"A"},{"$f":"IF(Attendance($C56,'Daily Register'!JS$3:JS$242)=TRUE,\"P\",\"A\")","v":"A"},{"$f":"IF(Attendance($C56,'Daily Register'!JT$3:JT$242)=TRUE,\"P\",\"A\")","v":"A"},{"$f":"IF(Attendance($C56,'Daily Register'!JU$3:JU$242)=TRUE,\"P\",\"A\")","v":"A"},{"$f":"IF(Attendance($C56,'Daily Register'!JV$3:JV$242)=TRUE,\"P\",\"A\")","v":"A"},{"$f":"IF(Attendance($C56,'Daily Register'!JW$3:JW$242)=TRUE,\"P\",\"A\")","v":"A"},{"$f":"IF(Attendance($C56,'Daily Register'!JX$3:JX$242)=TRUE,\"P\",\"A\")","v":"A"},{"$f":"IF(Attendance($C56,'Daily Register'!JY$3:JY$242)=TRUE,\"P\",\"A\")","v":"A"},{"$f":"IF(Attendance($C56,'Daily Register'!JZ$3:JZ$242)=TRUE,\"P\",\"A\")","v":"A"},{"$f":"IF(Attendance($C56,'Daily Register'!KA$3:KA$242)=TRUE,\"P\",\"A\")","v":"A"},{"$f":"IF(Attendance($C56,'Daily Register'!KB$3:KB$242)=TRUE,\"P\",\"A\")","v":"A"},{"$f":"IF(Attendance($C56,'Daily Register'!KC$3:KC$242)=TRUE,\"P\",\"A\")","v":"A"},{"$f":"IF(Attendance($C56,'Daily Register'!KD$3:KD$242)=TRUE,\"P\",\"A\")","v":"A"},{"$f":"IF(Attendance($C56,'Daily Register'!KE$3:KE$242)=TRUE,\"P\",\"A\")","v":"A"},{"$f":"IF(Attendance($C56,'Daily Register'!KF$3:KF$242)=TRUE,\"P\",\"A\")","v":"A"},{"$f":"IF(Attendance($C56,'Daily Register'!KG$3:KG$242)=TRUE,\"P\",\"A\")","v":"A"},{"$f":"IF(Attendance($C56,'Daily Register'!KH$3:KH$242)=TRUE,\"P\",\"A\")","v":"A"},{"$f":"IF(Attendance($C56,'Daily Register'!KI$3:KI$242)=TRUE,\"P\",\"A\")","v":"A"},{"$f":"IF(Attendance($C56,'Daily Register'!KJ$3:KJ$242)=TRUE,\"P\",\"A\")","v":"A"},{"$f":"IF(Attendance($C56,'Daily Register'!KK$3:KK$242)=TRUE,\"P\",\"A\")","v":"A"},{"$f":"IF(Attendance($C56,'Daily Register'!KL$3:KL$242)=TRUE,\"P\",\"A\")","v":"A"},{"$f":"IF(Attendance($C56,'Daily Register'!KM$3:KM$242)=TRUE,\"P\",\"A\")","v":"A"},{"$f":"IF(Attendance($C56,'Daily Register'!KN$3:KN$242)=TRUE,\"P\",\"A\")","v":"A"},{"$f":"IF(Attendance($C56,'Daily Register'!KO$3:KO$242)=TRUE,\"P\",\"A\")","v":"A"},{"$f":"IF(Attendance($C56,'Daily Register'!KP$3:KP$242)=TRUE,\"P\",\"A\")","v":"A"},{"$f":"IF(Attendance($C56,'Daily Register'!KQ$3:KQ$242)=TRUE,\"P\",\"A\")","v":"A"},{"$f":"IF(Attendance($C56,'Daily Register'!KR$3:KR$242)=TRUE,\"P\",\"A\")","v":"A"},{"$f":"IF(Attendance($C56,'Daily Register'!KS$3:KS$242)=TRUE,\"P\",\"A\")","v":"A"},{"$f":"IF(Attendance($C56,'Daily Register'!KT$3:KT$242)=TRUE,\"P\",\"A\")","v":"A"},{"$f":"IF(Attendance($C56,'Daily Register'!KU$3:KU$242)=TRUE,\"P\",\"A\")","v":"A"},{"$f":"IF(Attendance($C56,'Daily Register'!KV$3:KV$242)=TRUE,\"P\",\"A\")","v":"A"},{"$f":"IF(Attendance($C56,'Daily Register'!KW$3:KW$242)=TRUE,\"P\",\"A\")","v":"A"},{"$f":"IF(Attendance($C56,'Daily Register'!KX$3:KX$242)=TRUE,\"P\",\"A\")","v":"A"},{"$f":"IF(Attendance($C56,'Daily Register'!KY$3:KY$242)=TRUE,\"P\",\"A\")","v":"A"},{"$f":"IF(Attendance($C56,'Daily Register'!KZ$3:KZ$242)=TRUE,\"P\",\"A\")","v":"A"},{"$f":"IF(Attendance($C56,'Daily Register'!LA$3:LA$242)=TRUE,\"P\",\"A\")","v":"A"},{"$f":"IF(Attendance($C56,'Daily Register'!LB$3:LB$242)=TRUE,\"P\",\"A\")","v":"A"},{"$f":"IF(Attendance($C56,'Daily Register'!LC$3:LC$242)=TRUE,\"P\",\"A\")","v":"A"},{"$f":"IF(Attendance($C56,'Daily Register'!LD$3:LD$242)=TRUE,\"P\",\"A\")","v":"A"},{"$f":"IF(Attendance($C56,'Daily Register'!LE$3:LE$242)=TRUE,\"P\",\"A\")","v":"A"},{"$f":"IF(Attendance($C56,'Daily Register'!LF$3:LF$242)=TRUE,\"P\",\"A\")","v":"A"},{"$f":"IF(Attendance($C56,'Daily Register'!LG$3:LG$242)=TRUE,\"P\",\"A\")","v":"A"},{"$f":"IF(Attendance($C56,'Daily Register'!LH$3:LH$242)=TRUE,\"P\",\"A\")","v":"A"},{"$f":"IF(Attendance($C56,'Daily Register'!LI$3:LI$242)=TRUE,\"P\",\"A\")","v":"A"},{"$f":"IF(Attendance($C56,'Daily Register'!LJ$3:LJ$242)=TRUE,\"P\",\"A\")","v":"A"},{"$f":"IF(Attendance($C56,'Daily Register'!LK$3:LK$242)=TRUE,\"P\",\"A\")","v":"A"},{"$f":"IF(Attendance($C56,'Daily Register'!LL$3:LL$242)=TRUE,\"P\",\"A\")","v":"A"},{"$f":"IF(Attendance($C56,'Daily Register'!LM$3:LM$242)=TRUE,\"P\",\"A\")","v":"A"},{"$f":"IF(Attendance($C56,'Daily Register'!LN$3:LN$242)=TRUE,\"P\",\"A\")","v":"A"},{"$f":"IF(Attendance($C56,'Daily Register'!LO$3:LO$242)=TRUE,\"P\",\"A\")","v":"A"},{"$f":"IF(Attendance($C56,'Daily Register'!LP$3:LP$242)=TRUE,\"P\",\"A\")","v":"A"},{"$f":"IF(Attendance($C56,'Daily Register'!LQ$3:LQ$242)=TRUE,\"P\",\"A\")","v":"A"},{"$f":"IF(Attendance($C56,'Daily Register'!LR$3:LR$242)=TRUE,\"P\",\"A\")","v":"A"},{"$f":"IF(Attendance($C56,'Daily Register'!LS$3:LS$242)=TRUE,\"P\",\"A\")","v":"A"},{"$f":"IF(Attendance($C56,'Daily Register'!LT$3:LT$242)=TRUE,\"P\",\"A\")","v":"A"},{"$f":"IF(Attendance($C56,'Daily Register'!LU$3:LU$242)=TRUE,\"P\",\"A\")","v":"A"},{"$f":"IF(Attendance($C56,'Daily Register'!LV$3:LV$242)=TRUE,\"P\",\"A\")","v":"A"},{"$f":"IF(Attendance($C56,'Daily Register'!LW$3:LW$242)=TRUE,\"P\",\"A\")","v":"A"},{"$f":"IF(Attendance($C56,'Daily Register'!LX$3:LX$242)=TRUE,\"P\",\"A\")","v":"A"},{"$f":"IF(Attendance($C56,'Daily Register'!LY$3:LY$242)=TRUE,\"P\",\"A\")","v":"A"},{"$f":"IF(Attendance($C56,'Daily Register'!LZ$3:LZ$242)=TRUE,\"P\",\"A\")","v":"A"},{"$f":"IF(Attendance($C56,'Daily Register'!MA$3:MA$242)=TRUE,\"P\",\"A\")","v":"A"},{"$f":"IF(Attendance($C56,'Daily Register'!MB$3:MB$242)=TRUE,\"P\",\"A\")","v":"A"},{"$f":"IF(Attendance($C56,'Daily Register'!MC$3:MC$242)=TRUE,\"P\",\"A\")","v":"A"},{"$f":"IF(Attendance($C56,'Daily Register'!MD$3:MD$242)=TRUE,\"P\",\"A\")","v":"A"},{"$f":"IF(Attendance($C56,'Daily Register'!ME$3:ME$242)=TRUE,\"P\",\"A\")","v":"A"},{"$f":"IF(Attendance($C56,'Daily Register'!MF$3:MF$242)=TRUE,\"P\",\"A\")","v":"A"},{"$f":"IF(Attendance($C56,'Daily Register'!MG$3:MG$242)=TRUE,\"P\",\"A\")","v":"A"},{"$f":"IF(Attendance($C56,'Daily Register'!MH$3:MH$242)=TRUE,\"P\",\"A\")","v":"A"},{"$f":"IF(Attendance($C56,'Daily Register'!MI$3:MI$242)=TRUE,\"P\",\"A\")","v":"A"},{"$f":"IF(Attendance($C56,'Daily Register'!MJ$3:MJ$242)=TRUE,\"P\",\"A\")","v":"A"},{"$f":"IF(Attendance($C56,'Daily Register'!MK$3:MK$242)=TRUE,\"P\",\"A\")","v":"A"},{"$f":"IF(Attendance($C56,'Daily Register'!ML$3:ML$242)=TRUE,\"P\",\"A\")","v":"A"},{"$f":"IF(Attendance($C56,'Daily Register'!MM$3:MM$242)=TRUE,\"P\",\"A\")","v":"A"},{"$f":"IF(Attendance($C56,'Daily Register'!MN$3:MN$242)=TRUE,\"P\",\"A\")","v":"A"},{"$f":"IF(Attendance($C56,'Daily Register'!MO$3:MO$242)=TRUE,\"P\",\"A\")","v":"A"},{"$f":"IF(Attendance($C56,'Daily Register'!MP$3:MP$242)=TRUE,\"P\",\"A\")","v":"A"},{"$f":"IF(Attendance($C56,'Daily Register'!MQ$3:MQ$242)=TRUE,\"P\",\"A\")","v":"A"},{"$f":"IF(Attendance($C56,'Daily Register'!MR$3:MR$242)=TRUE,\"P\",\"A\")","v":"A"},{"$f":"IF(Attendance($C56,'Daily Register'!MS$3:MS$242)=TRUE,\"P\",\"A\")","v":"A"},{"$f":"IF(Attendance($C56,'Daily Register'!MT$3:MT$242)=TRUE,\"P\",\"A\")","v":"A"},{"$f":"IF(Attendance($C56,'Daily Register'!MU$3:MU$242)=TRUE,\"P\",\"A\")","v":"A"},{"$f":"IF(Attendance($C56,'Daily Register'!MV$3:MV$242)=TRUE,\"P\",\"A\")","v":"A"},{"$f":"IF(Attendance($C56,'Daily Register'!MW$3:MW$242)=TRUE,\"P\",\"A\")","v":"A"},{"$f":"IF(Attendance($C56,'Daily Register'!MX$3:MX$242)=TRUE,\"P\",\"A\")","v":"A"},{"$f":"IF(Attendance($C56,'Daily Register'!MY$3:MY$242)=TRUE,\"P\",\"A\")","v":"A"},{"$f":"IF(Attendance($C56,'Daily Register'!MZ$3:MZ$242)=TRUE,\"P\",\"A\")","v":"A"},{"$f":"IF(Attendance($C56,'Daily Register'!NA$3:NA$242)=TRUE,\"P\",\"A\")","v":"A"},{"$f":"IF(Attendance($C56,'Daily Register'!NB$3:NB$242)=TRUE,\"P\",\"A\")","v":"A"}]
[0,null,54,null,{"$f":"IF(Attendance($C57,'Daily Register'!A$3:A$242)=TRUE,\"P\",\"A\")","v":"A"},{"$f":"IF(Attendance($C57,'Daily Register'!B$3:B$242)=TRUE,\"P\",\"A\")","v":"A"},{"$f":"IF(Attendance($C57,'Daily Register'!C$3:C$242)=TRUE,\"P\",\"A\")","v":"A"},{"$f":"IF(Attendance($C57,'Daily Register'!D$3:D$242)=TRUE,\"P\",\"A\")","v":"A"},{"$f":"IF(Attendance($C57,'Daily Register'!E$3:E$242)=TRUE,\"P\",\"A\")","v":"A"},{"$f":"IF(Attendance($C57,'Daily Register'!F$3:F$242)=TRUE,\"P\",\"A\")","v":"A"},{"$f":"IF(Attendance($C57,'Daily Register'!G$3:G$242)=TRUE,\"P\",\"A\")","v":"A"},{"$f":"IF(Attendance($C57,'Daily Register'!H$3:H$242)=TRUE,\"P\",\"A\")","v":"A"},{"$f":"IF(Attendance($C57,'Daily Register'!I$3:I$242)=TRUE,\"P\",\"A\")","v":"A"},{"$f":"IF(Attendance($C57,'Daily Register'!J$3:J$242)=TRUE,\"P\",\"A\")","v":"A"},{"$f":"IF(Attendance($C57,'Daily Register'!K$3:K$242)=TRUE,\"P\",\"A\")","v":"A"},{"$f":"IF(Attendance($C57,'Daily Register'!L$3:L$242)=TRUE,\"P\",\"A\")","v":"A"},{"$f":"IF(Attendance($C57,'Daily Register'!M$3:M$242)=TRUE,\"P\",\"A\")","v":"A"},{"$f":"IF(Attendance($C57,'Daily Register'!N$3:N$242)=TRUE,\"P\",\"A\")","v":"A"},{"$f":"IF(Attendance($C57,'Daily Register'!O$3:O$242)=TRUE,\"P\",\"A\")","v":"A"},{"$f":"IF(Attendance($C57,'Daily Register'!P$3:P$242)=TRUE,\"P\",\"A\")","v":"A"},{"$f":"IF(Attendance($C57,'Daily Register'!Q$3:Q$242)=TRUE,\"P\",\"A\")","v":"A"},{"$f":"IF(Attendance($C57,'Daily Register'!R$3:R$242)=TRUE,\"P\",\"A\")","v":"A"},{"$f":"IF(Attendance($C57,'Daily Register'!S$3:S$242)=TRUE,\"P\",\"A\")","v":"A"},{"$f":"IF(Attendance($C57,'Daily Register'!T$3:T$242)=TRUE,\"P\",\"A\")","v":"A"},{"$f":"IF(Attendance($C57,'Daily Register'!U$3:U$242)=TRUE,\"P\",\"A\")","v":"A"},{"$f":"IF(Attendance($C57,'Daily Register'!V$3:V$242)=TRUE,\"P\",\"A\")","v":"A"},{"$f":"IF(Attendance($C57,'Daily Register'!W$3:W$242)=TRUE,\"P\",\"A\")","v":"A"},{"$f":"IF(Attendance($C57,'Daily Register'!X$3:X$242)=TRUE,\"P\",\"A\")","v":"A"},{"$f":"IF(Attendance($C57,'Daily Register'!Y$3:Y$242)=TRUE,\"P\",\"A\")","v":"A"},{"$f":"IF(Attendance($C57,'Daily Register'!Z$3:Z$242)=TRUE,\"P\",\"A\")","v":"A"},{"$f":"IF(Attendance($C57,'Daily Register'!AA$3:AA$242)=TRUE,\"P\",\"A\")","v":"A"},{"$f":"IF(Attendance($C57,'Daily Register'!AB$3:AB$242)=TRUE,\"P\",\"A\")","v":"A"},{"$f":"IF(Attendance($C57,'Daily Register'!AC$3:AC$242)=TRUE,\"P\",\"A\")","v":"A"},{"$f":"IF(Attendance($C57,'Daily Register'!AD$3:AD$242)=TRUE,\"P\",\"A\")","v":"A"},{"$f":"IF(Attendance($C57,'Daily Register'!AE$3:AE$242)=TRUE,\"P\",\"A\")","v":"A"},{"$f":"IF(Attendance($C57,'Daily Register'!AF$3:AF$242)=TRUE,\"P\",\"A\")","v":"A"},{"$f":"IF(Attendance($C57,'Daily Register'!AG$3:AG$242)=TRUE,\"P\",\"A\")","v":"A"},{"$f":"IF(Attendance($C57,'Daily Register'!AH$3:AH$242)=TRUE,\"P\",\"A\")","v":"A"},{"$f":"IF(Attendance($C57,'Daily Register'!AI$3:AI$242)=TRUE,\"P\",\"A\")","v":"A"},{"$f":"IF(Attendance($C57,'Daily Register'!AJ$3:AJ$242)=TRUE,\"P\",\"A\")","v":"A"},{"$f":"IF(Attendance($C57,'Daily Register'!AK$3:AK$242)=TRUE,\"P\",\"A\")","v":"A"},{"$f":"IF(Attendance($C57,'Daily Register'!AL$3:AL$242)=TRUE,\"P\",\"A\")","v":"A"},{"$f":"IF(Attendance($C57,'Daily Register'!AM$3:AM$242)=TRUE,\"P\",\"A\")","v":"A"},{"$f":"IF(Attendance($C57,'Daily Register'!AN$3:AN$242)=TRUE,\"P\",\"A\")","v":"A"},{"$f":"IF(Attendance($C57,'Daily Register'!AO$3:AO$242)=TRUE,\"P\",\"A\")","v":"A"},{"$f":"IF(Attendance($C57,'Daily Register'!AP$3:AP$242)=TRUE,\"P\",\"A\")","v":"A"},{"$f":"IF(Attendance($C57,'Daily Register'!AQ$3:AQ$242)=TRUE,\"P\",\"A\")","v":"A"},{"$f":"IF(Attendance($C57,'Daily Register'!AR$3:AR$242)=TRUE,\"P\",\"A\")","v":"A"},{"$f":"IF(Attendance($C57,'Daily Register'!AS$3:AS$242)=TRUE,\"P\",\"A\")","v":"A"},{"$f":"IF(Attendance($C57,'Daily Register'!AT$3:AT$242)=TRUE,\"P\",\"A\")","v":"A"},{"$f":"IF(Attendance($C57,'Daily Register'!AU$3:AU$242)=TRUE,\"P\",\"A\")","v":"A"},{"$f":"IF(Attendance($C57,'Daily Register'!AV$3:AV$242)=TRUE,\"P\",\"A\")","v":"A"},{"$f":"IF(Attendance($C57,'Daily Register'!AW$3:AW$242)=TRUE,\"P\",\"A\")","v":"A"},{"$f":"IF(Attendance($C57,'Daily Register'!AX$3:AX$242)=TRUE,\"P\",\"A\")","v":"A"},{"$f":"IF(Attendance($C57,'Daily Register'!AY$3:AY$242)=TRUE,\"P\",\"A\")","v":"A"},{"$f":"IF(Attendance($C57,'Daily Register'!AZ$3:AZ$242)=TRUE,\"P\",\"A\")","v":"A"},{"$f":"IF(Attendance($C57,'Daily Register'!BA$3:BA$242)=TRUE,\"P\",\"A\")","v":"A"},{"$f":"IF(Attendance($C57,'Daily Register'!BB$3:BB$242)=TRUE,\"P\",\"A\")","v":"A"},{"$f":"IF(Attendance($C57,'Daily Register'!BC$3:BC$242)=TRUE,\"P\",\"A\")","v":"A"},{"$f":"IF(Attendance($C57,'Daily Register'!BD$3:BD$242)=TRUE,\"P\",\"A\")","v":"A"},{"$f":"IF(Attendance($C57,'Daily Register'!BE$3:BE$242)=TRUE,\"P\",\"A\")","v":"A"},{"$f":"IF(Attendance($C57,'Daily Register'!BF$3:BF$242)=TRUE,\"P\",\"A\")","v":"A"},{"$f":"IF(Attendance($C57,'Daily Register'!BG$3:BG$242)=TRUE,\"P\",\"A\")","v":"A"},{"$f":"IF(Attendance($C57,'Daily Register'!BH$3:BH$242)=TRUE,\"P\",\"A\")","v":"A"},{"$f":"IF(Attendance($C57,'Daily Register'!BI$3:BI$242)=TRUE,\"P\",\"A\")","v":"A"},{"$f":"IF(Attendance($C57,'Daily Register'!BJ$3:BJ$242)=TRUE,\"P\",\"A\")","v":"A"},{"$f":"IF(Attendance($C57,'Daily Register'!BK$3:BK$242)=TRUE,\"P\",\"A\")","v":"A"},{"$f":"IF(Attendance($C57,'Daily Register'!BL$3:BL$242)=TRUE,\"P\",\"A\")","v":"A"},{"$f":"IF(Attendance($C57,'Daily Register'!BM$3:BM$242)=TRUE,\"P\",\"A\")","v":"A"},{"$f":"IF(Attendance($C57,'Daily Register'!BN$3:BN$242)=TRUE,\"P\",\"A\")","v":"A"},{"$f":"IF(Attendance($C57,'Daily Register'!BO$3:BO$242)=TRUE,\"P\",\"A\")","v":"A"},{"$f":"IF(Attendance($C57,'Daily Register'!BP$3:BP$242)=TRUE,\"P\",\"A\")","v":"A"},{"$f":"IF(Attendance($C57,'Daily Register'!BQ$3:BQ$242)=TRUE,\"P\",\"A\")","v":"A"},{"$f":"IF(Attendance($C57,'Daily Register'!BR$3:BR$242)=TRUE,\"P\",\"A\")","v":"A"},{"$f":"IF(Attendance($C57,'Daily Register'!BS$3:BS$242)=TRUE,\"P\",\"A\")","v":"A"},{"$f":"IF(Attendance($C57,'Daily Register'!BT$3:BT$242)=TRUE,\"P\",\"A\")","v":"A"},{"$f":"IF(Attendance($C57,'Daily Register'!BU$3:BU$242)=TRUE,\"P\",\"A\")","v":"A"},{"$f":"IF(Attendance($C57,'Daily Register'!BV$3:BV$242)=TRUE,\"P\",\"A\")","v":"A"},{"$f":"IF(Attendance($C57,'Daily Register'!BW$3:BW$242)=TRUE,\"P\",\"A\")","v":"A"},{"$f":"IF(Attendance($C57,'Daily Register'!BX$3:BX$242)=TRUE,\"P\",\"A\")","v":"A"},{"$f":"IF(Attendance($C57,'Daily Register'!BY$3:BY$242)=TRUE,\"P\",\"A\")","v":"A"},{"$f":"IF(Attendance($C57,'Daily Register'!BZ$3:BZ$242)=TRUE,\"P\",\"A\")","v":"A"},{"$f":"IF(Attendance($C57,'Daily Register'!CA$3:CA$242)=TRUE,\"P\",\"A\")","v":"A"},{"$f":"IF(Attendance($C57,'Daily Register'!CB$3:CB$242)=TRUE,\"P\",\"A\")","v":"A"},{"$f":"IF(Attendance($C57,'Daily Register'!CC$3:CC$242)=TRUE,\"P\",\"A\")","v":"A"},{"$f":"IF(Attendance($C57,'Daily Register'!CD$3:CD$242)=TRUE,\"P\",\"A\")","v":"A"},{"$f":"IF(Attendance($C57,'Daily Register'!CE$3:CE$242)=TRUE,\"P\",\"A\")","v":"A"},{"$f":"IF(Attendance($C57,'Daily Register'!CF$3:CF$242)=TRUE,\"P\",\"A\")","v":"A"},{"$f":"IF(Attendance($C57,'Daily Register'!CG$3:CG$242)=TRUE,\"P\",\"A\")","v":"A"},{"$f":"IF(Attendance($C57,'Daily Register'!CH$3:CH$242)=TRUE,\"P\",\"A\")","v":"A"},{"$f":"IF(Attendance($C57,'Daily Register'!CI$3:CI$242)=TRUE,\"P\",\"A\")","v":"A"},{"$f":"IF(Attendance($C57,'Daily Register'!CJ$3:CJ$242)=TRUE,\"P\",\"A\")","v":"A"},{"$f":"IF(Attendance($C57,'Daily Register'!CK$3:CK$242)=TRUE,\"P\",\"A\")","v":"A"},{"$f":"IF(Attendance($C57,'Daily Register'!CL$3:CL$242)=TRUE,\"P\",\"A\")","v":"A"},{"$f":"IF(Attendance($C57,'Daily Register'!CM$3:CM$242)=TRUE,\"P\",\"A\")","v":"A"},{"$f":"IF(Attendance($C57,'Daily Register'!CN$3:CN$242)=TRUE,\"P\",\"A\")","v":"A"},{"$f":"IF(Attendance($C57,'Daily Register'!CO$3:CO$242)=TRUE,\"P\",\"A\")","v":"A"},{"$f":"IF(Attendance($C57,'Daily Register'!CP$3:CP$242)=TRUE,\"P\",\"A\")","v":"A"},{"$f":"IF(Attendance($C57,'Daily Register'!CQ$3:CQ$242)=TRUE,\"P\",\"A\")","v":"A"},{"$f":"IF(Attendance($C57,'Daily Register'!CR$3:CR$242)=TRUE,\"P\",\"A\")","v":"A"},{"$f":"IF(Attendance($C57,'Daily Register'!CS$3:CS$242)=TRUE,\"P\",\"A\")","v":"A"},{"$f":"IF(Attendance($C57,'Daily Register'!CT$3:CT$242)=TRUE,\"P\",\"A\")","v":"A"},{"$f":"IF(Attendance($C57,'Daily Register'!CU$3:CU$242)=TRUE,\"P\",\"A\")","v":"A"},{"$f":"IF(Attendance($C57,'Daily Register'!CV$3:CV$242)=TRUE,\"P\",\"A\")","v":"A"},{"$f":"IF(Attendance($C57,'Daily Register'!CW$3:CW$242)=TRUE,\"P\",\"A\")","v":"A"},{"$f":"IF(Attendance($C57,'Daily Register'!CX$3:CX$242)=TRUE,\"P\",\"A\")","v":"A"},{"$f":"IF(Attendance($C57,'Daily Register'!CY$3:CY$242)=TRUE,\"P\",\"A\")","v":"A"},{"$f":"IF(Attendance($C57,'Daily Register'!CZ$3:CZ$242)=TRUE,\"P\",\"A\")","v":"A"},{"$f":"IF(Attendance($C57,'Daily Register'!DA$3:DA$242)=TRUE,\"P\",\"A\")","v":"A"},{"$f":"IF(Attendance($C57,'Daily Register'!DB$3:DB$242)=TRUE,\"P\",\"A\")","v":"A"},{"$f":"IF(Attendance($C57,'Daily Register'!DC$3:DC$242)=TRUE,\"P\",\"A\")","v":"A"},{"$f":"IF(Attendance($C57,'Daily Register'!DD$3:DD$242)=TRUE,\"P\",\"A\")","v":"A"},{"$f":"IF(Attendance($C57,'Daily Register'!DE$3:DE$242)=TRUE,\"P\",\"A\")","v":"A"},{"$f":"IF(Attendance($C57,'Daily Register'!DF$3:DF$242)=TRUE,\"P\",\"A\")","v":"A"},{"$f":"IF(Attendance($C57,'Daily Register'!DG$3:DG$242)=TRUE,\"P\",\"A\")","v":"A"},{"$f":"IF(Attendance($C57,'Daily Register'!DH$3:DH$242)=TRUE,\"P\",\"A\")","v":"A"},{"$f":"IF(Attendance($C57,'Daily Register'!DI$3:DI$242)=TRUE,\"P\",\"A\")","v":"A"},{"$f":"IF(Attendance($C57,'Daily Register'!DJ$3:DJ$242)=TRUE,\"P\",\"A\")","v":"A"},{"$f":"IF(Attendance($C57,'Daily Register'!DK$3:DK$242)=TRUE,\"P\",\"A\")","v":"A"},{"$f":"IF(Attendance($C57,'Daily Register'!DL$3:DL$242)=TRUE,\"P\",\"A\")","v":"A"},{"$f":"IF(Attendance($C57,'Daily Register'!DM$3:DM$242)=TRUE,\"P\",\"A\")","v":"A"},{"$f":"IF(Attendance($C57,'Daily Register'!DN$3:DN$242)=TRUE,\"P\",\"A\")","v":"A"},{"$f":"IF(Attendance($C57,'Daily Register'!DO$3:DO$242)=TRUE,\"P\",\"A\")","v":"A"},{"$f":"IF(Attendance($C57,'Daily Register'!DP$3:DP$242)=TRUE,\"P\",\"A\")","v":"A"},{"$f":"IF(Attendance($C57,'Daily Register'!DQ$3:DQ$242)=TRUE,\"P\",\"A\")","v":"A"},{"$f":"IF(Attendance($C57,'Daily Register'!DR$3:DR$242)=TRUE,\"P\",\"A\")","v":"A"},{"$f":"IF(Attendance($C57,'Daily Register'!DS$3:DS$242)=TRUE,\"P\",\"A\")","v":"A"},{"$f":"IF(Attendance($C57,'Daily Register'!DT$3:DT$242)=TRUE,\"P\",\"A\")","v":"A"},{"$f":"IF(Attendance($C57,'Daily Register'!DU$3:DU$242)=TRUE,\"P\",\"A\")","v":"A"},{"$f":"IF(Attendance($C57,'Daily Register'!DV$3:DV$242)=TRUE,\"P\",\"A\")","v":"A"},{"$f":"IF(Attendance($C57,'Daily Register'!DW$3:DW$242)=TRUE,\"P\",\"A\")","v":"A"},{"$f":"IF(Attendance($C57,'Daily Register'!DX$3:DX$242)=TRUE,\"P\",\"A\")","v":"A"},{"$f":"IF(Attendance($C57,'Daily Register'!DY$3:DY$242)=TRUE,\"P\",\"A\")","v":"A"},{"$f":"IF(Attendance($C57,'Daily Register'!DZ$3:DZ$242)=TRUE,\"P\",\"A\")","v":"A"},{"$f":"IF(Attendance($C57,'Daily Register'!EA$3:EA$242)=TRUE,\"P\",\"A\")","v":"A"},{"$f":"IF(Attendance($C57,'Daily Register'!EB$3:EB$242)=TRUE,\"P\",\"A\")","v":"A"},{"$f":"IF(Attendance($C57,'Daily Register'!EC$3:EC$242)=TRUE,\"P\",\"A\")","v":"A"},{"$f":"IF(Attendance($C57,'Daily Register'!ED$3:ED$242)=TRUE,\"P\",\"A\")","v":"A"},{"$f":"IF(Attendance($C57,'Daily Register'!EE$3:EE$242)=TRUE,\"P\",\"A\")","v":"A"},{"$f":"IF(Attendance($C57,'Daily Register'!EF$3:EF$242)=TRUE,\"P\",\"A\")","v":"A"},{"$f":"IF(Attendance($C57,'Daily Register'!EG$3:EG$242)=TRUE,\"P\",\"A\")","v":"A"},{"$f":"IF(Attendance($C57,'Daily Register'!EH$3:EH$242)=TRUE,\"P\",\"A\")","v":"A"},{"$f":"IF(Attendance($C57,'Daily Register'!EI$3:EI$242)=TRUE,\"P\",\"A\")","v":"A"},{"$f":"IF(Attendance($C57,'Daily Register'!EJ$3:EJ$242)=TRUE,\"P\",\"A\")","v":"A"},{"$f":"IF(Attendance($C57,'Daily Register'!EK$3:EK$242)=TRUE,\"P\",\"A\")","v":"A"},{"$f":"IF(Attendance($C57,'Daily Register'!EL$3:EL$242)=TRUE,\"P\",\"A\")","v":"A"},{"$f":"IF(Attendance($C57,'Daily Register'!EM$22:EM$242)=TRUE,\"P\",\"A\")","v":"A"},{"$f":"IF(Attendance($C57,'Daily Register'!EN$3:EN$242)=TRUE,\"P\",\"A\")","v":"A"},{"$f":"IF(Attendance($C57,'Daily Register'!EO$3:EO$242)=TRUE,\"P\",\"A\")","v":"A"},{"$f":"IF(Attendance($C57,'Daily Register'!EP$3:EP$242)=TRUE,\"P\",\"A\")","v":"A"},{"$f":"IF(Attendance($C57,'Daily Register'!EQ$3:EQ$242)=TRUE,\"P\",\"A\")","v":"A"},{"$f":"IF(Attendance($C57,'Daily Register'!ER$3:ER$242)=TRUE,\"P\",\"A\")","v":"A"},{"$f":"IF(Attendance($C57,'Daily Register'!ES$3:ES$242)=TRUE,\"P\",\"A\")","v":"A"},{"$f":"IF(Attendance($C57,'Daily Register'!ET$3:ET$242)=TRUE,\"P\",\"A\")","v":"A"},{"$f":"IF(Attendance($C57,'Daily Register'!EU$3:EU$242)=TRUE,\"P\",\"A\")","v":"A"},{"$f":"IF(Attendance($C57,'Daily Register'!EV$3:EV$242)=TRUE,\"P\",\"A\")","v":"A"},{"$f":"IF(Attendance($C57,'Daily Register'!EW$3:EW$242)=TRUE,\"P\",\"A\")","v":"A"},{"$f":"IF(Attendance($C57,'Daily Register'!EX$3:EX$242)=TRUE,\"P\",\"A\")","v":"A"},{"$f":"IF(Attendance($C57,'Daily Register'!EY$3:EY$242)=TRUE,\"P\",\"A\")","v":"A"},{"$f":"IF(Attendance($C57,'Daily Register'!EZ$3:EZ$242)=TRUE,\"P\",\"A\")","v":"A"},{"$f":"IF(Attendance($C57,'Daily Register'!FA$3:FA$242)=TRUE,\"P\",\"A\")","v":"A"},{"$f":"IF(Attendance($C57,'Daily Register'!FB$3:FB$242)=TRUE,\"P\",\"A\")","v":"A"},{"$f":"IF(Attendance($C57,'Daily Register'!FC$3:FC$242)=TRUE,\"P\",\"A\")","v":"A"},{"$f":"IF(Attendance($C57,'Daily Register'!FD$3:FD$242)=TRUE,\"P\",\"A\")","v":"A"},{"$f":"IF(Attendance($C57,'Daily Register'!FE$3:FE$242)=TRUE,\"P\",\"A\")","v":"A"},{"$f":"IF(Attendance($C57,'Daily Register'!FF$3:FF$242)=TRUE,\"P\",\"A\")","v":"A"},{"$f":"IF(Attendance($C57,'Daily Register'!FG$3:FG$242)=TRUE,\"P\",\"A\")","v":"A"},{"$f":"IF(Attendance($C57,'Daily Register'!FH$3:FH$242)=TRUE,\"P\",\"A\")","v":"A"},{"$f":"IF(Attendance($C57,'Daily Register'!FI$3:FI$242)=TRUE,\"P\",\"A\")","v":"A"},{"$f":"IF(Attendance($C57,'Daily Register'!FJ$3:FJ$242)=TRUE,\"P\",\"A\")","v":"A"},{"$f":"IF(Attendance($C57,'Daily Register'!FK$3:FK$242)=TRUE,\"P\",\"A\")","v":"A"},{"$f":"IF(Attendance($C57,'Daily Register'!FL$3:FL$242)=TRUE,\"P\",\"A\")","v":"A"},{"$f":"IF(Attendance($C57,'Daily Register'!FM$3:FM$242)=TRUE,\"P\",\"A\")","v":"A"},{"$f":"IF(Attendance($C57,'Daily Register'!FN$3:FN$242)=TRUE,\"P\",\"A\")","v":"A"},{"$f":"IF(Attendance($C57,'Daily Register'!FO$3:FO$242)=TRUE,\"P\",\"A\")","v":"A"},{"$f":"IF(Attendance($C57,'Daily Register'!FP$3:FP$242)=TRUE,\"P\",\"A\")","v":"A"},{"$f":"IF(Attendance($C57,'Daily Register'!FQ$3:FQ$242)=TRUE,\"P\",\"A\")","v":"A"},{"$f":"IF(Attendance($C57,'Daily Register'!FR$3:FR$242)=TRUE,\"P\",\"A\")","v":"A"},{"$f":"IF(Attendance($C57,'Daily Register'!FS$3:FS$242)=TRUE,\"P\",\"A\")","v":"A"},{"$f":"IF(Attendance($C57,'Daily Register'!FT$3:FT$242)=TRUE,\"P\",\"A\")","v":"A"},{"$f":"IF(Attendance($C57,'Daily Register'!FU$3:FU$242)=TRUE,\"P\",\"A\")","v":"A"},{"$f":"IF(Attendance($C57,'Daily Register'!FV$3:FV$242)=TRUE,\"P\",\"A\")","v":"A"},{"$f":"IF(Attendance($C57,'Daily Register'!FW$3:FW$242)=TRUE,\"P\",\"A\")","v":"A"},{"$f":"IF(Attendance($C57,'Daily Register'!FX$3:FX$242)=TRUE,\"P\",\"A\")","v":"A"},{"$f":"IF(Attendance($C57,'Daily Register'!FY$3:FY$242)=TRUE,\"P\",\"A\")","v":"A"},{"$f":"IF(Attendance($C57,'Daily Register'!FZ$3:FZ$242)=TRUE,\"P\",\"A\")","v":"A"},{"$f":"IF(Attendance($C57,'Daily Register'!GA$3:GA$242)=TRUE,\"P\",\"A\")","v":"A"},{"$f":"IF(Attendance($C57,'Daily Register'!GB$3:GB$242)=TRUE,\"P\",\"A\")","v":"A"},{"$f":"IF(Attendance($C57,'Daily Register'!GC$3:GC$242)=TRUE,\"P\",\"A\")","v":"A"},{"$f":"IF(Attendance($C57,'Daily Register'!GD$3:GD$242)=TRUE,\"P\",\"A\")","v":"A"},{"$f":"IF(Attendance($C57,'Daily Register'!GE$3:GE$242)=TRUE,\"P\",\"A\")","v":"A"},{"$f":"IF(Attendance($C57,'Daily Register'!GF$3:GF$242)=TRUE,\"P\",\"A\")","v":"A"},{"$f":"IF(Attendance($C57,'Daily Register'!GG$3:GG$242)=TRUE,\"P\",\"A\")","v":"A"},{"$f":"IF(Attendance($C57,'Daily Register'!GH$3:GH$242)=TRUE,\"P\",\"A\")","v":"A"},{"$f":"IF(Attendance($C57,'Daily Register'!GI$3:GI$242)=TRUE,\"P\",\"A\")","v":"A"},{"$f":"IF(Attendance($C57,'Daily Register'!GJ$3:GJ$242)=TRUE,\"P\",\"A\")","v":"A"},{"$f":"IF(Attendance($C57,'Daily Register'!GK$3:GK$242)=TRUE,\"P\",\"A\")","v":"A"},{"$f":"IF(Attendance($C57,'Daily Register'!GL$3:GL$242)=TRUE,\"P\",\"A\")","v":"A"},{"$f":"IF(Attendance($C57,'Daily Register'!GM$3:GM$242)=TRUE,\"P\",\"A\")","v":"A"},{"$f":"IF(Attendance($C57,'Daily Register'!GN$3:GN$242)=TRUE,\"P\",\"A\")","v":"A"},{"$f":"IF(Attendance($C57,'Daily Register'!GO$3:GO$242)=TRUE,\"P\",\"A\")","v":"A"},{"$f":"IF(Attendance($C57,'Daily Register'!GP$3:GP$242)=TRUE,\"P\",\"A\")","v":"A"},{"$f":"IF(Attendance($C57,'Daily Register'!GQ$3:GQ$242)=TRUE,\"P\",\"A\")","v":"A"},{"$f":"IF(Attendance($C57,'Daily Register'!GR$3:GR$242)=TRUE,\"P\",\"A\")","v":"A"},{"$f":"IF(Attendance($C57,'Daily Register'!GS$3:GS$242)=TRUE,\"P\",\"A\")","v":"A"},{"$f":"IF(Attendance($C57,'Daily Register'!GT$3:GT$242)=TRUE,\"P\",\"A\")","v":"A"},{"$f":"IF(Attendance($C57,'Daily Register'!GU$3:GU$242)=TRUE,\"P\",\"A\")","v":"A"},{"$f":"IF(Attendance($C57,'Daily Register'!GV$3:GV$242)=TRUE,\"P\",\"A\")","v":"A"},{"$f":"IF(Attendance($C57,'Daily Register'!GW$3:GW$242)=TRUE,\"P\",\"A\")","v":"A"},{"$f":"IF(Attendance($C57,'Daily Register'!GX$3:GX$242)=TRUE,\"P\",\"A\")","v":"A"},{"$f":"IF(Attendance($C57,'Daily Register'!GY$3:GY$242)=TRUE,\"P\",\"A\")","v":"A"},{"$f":"IF(Attendance($C57,'Daily Register'!GZ$3:GZ$242)=TRUE,\"P\",\"A\")","v":"A"},{"$f":"IF(Attendance($C57,'Daily Register'!HA$3:HA$242)=TRUE,\"P\",\"A\")","v":"A"},{"$f":"IF(Attendance($C57,'Daily Register'!HB$3:HB$242)=TRUE,\"P\",\"A\")","v":"A"},{"$f":"IF(Attendance($C57,'Daily Register'!HC$3:HC$242)=TRUE,\"P\",\"A\")","v":"A"},{"$f":"IF(Attendance($C57,'Daily Register'!HD$3:HD$242)=TRUE,\"P\",\"A\")","v":"A"},{"$f":"IF(Attendance($C57,'Daily Register'!HE$3:HE$242)=TRUE,\"P\",\"A\")","v":"A"},{"$f":"IF(Attendance($C57,'Daily Register'!HF$3:HF$242)=TRUE,\"P\",\"A\")","v":"A"},{"$f":"IF(Attendance($C57,'Daily Register'!HG$3:HG$242)=TRUE,\"P\",\"A\")","v":"A"},{"$f":"IF(Attendance($C57,'Daily Register'!HH$3:HH$242)=TRUE,\"P\",\"A\")","v":"A"},{"$f":"IF(Attendance($C57,'Daily Register'!HI$3:HI$242)=TRUE,\"P\",\"A\")","v":"A"},{"$f":"IF(Attendance($C57,'Daily Register'!HJ$3:HJ$242)=TRUE,\"P\",\"A\")","v":"A"},{"$f":"IF(Attendance($C57,'Daily Register'!HK$3:HK$242)=TRUE,\"P\",\"A\")","v":"A"},{"$f":"IF(Attendance($C57,'Daily Register'!HL$3:HL$242)=TRUE,\"P\",\"A\")","v":"A"},{"$f":"IF(Attendance($C57,'Daily Register'!HM$3:HM$242)=TRUE,\"P\",\"A\")","v":"A"},{"$f":"IF(Attendance($C57,'Daily Register'!HN$3:HN$242)=TRUE,\"P\",\"A\")","v":"A"},{"$f":"IF(Attendance($C57,'Daily Register'!HO$3:HO$242)=TRUE,\"P\",\"A\")","v":"A"},{"$f":"IF(Attendance($C57,'Daily Register'!HP$3:HP$242)=TRUE,\"P\",\"A\")","v":"A"},{"$f":"IF(Attendance($C57,'Daily Register'!HQ$3:HQ$242)=TRUE,\"P\",\"A\")","v":"A"},{"$f":"IF(Attendance($C57,'Daily Register'!HR$3:HR$242)=TRUE,\"P\",\"A\")","v":"A"},{"$f":"IF(Attendance($C57,'Daily Register'!HS$3:HS$242)=TRUE,\"P\",\"A\")","v":"A"},{"$f":"IF(Attendance($C57,'Daily Register'!HT$3:HT$242)=TRUE,\"P\",\"A\")","v":"A"},{"$f":"IF(Attendance($C57,'Daily Register'!HU$3:HU$242)=TRUE,\"P\",\"A\")","v":"A"},{"$f":"IF(Attendance($C57,'Daily Register'!HV$3:HV$242)=TRUE,\"P\",\"A\")","v":"A"},{"$f":"IF(Attendance($C57,'Daily Register'!HW$3:HW$242)=TRUE,\"P\",\"A\")","v":"A"},{"$f":"IF(Attendance($C57,'Daily Register'!HX$3:HX$242)=TRUE,\"P\",\"A\")","v":"A"},{"$f":"IF(Attendance($C57,'Daily Register'!HY$3:HY$242)=TRUE,\"P\",\"A\")","v":"A"},{"$f":"IF(Attendance($C57,'Daily Register'!HZ$3:HZ$242)=TRUE,\"P\",\"A\")","v":"A"},{"$f":"IF(Attendance($C57,'Daily Register'!IA$3:IA$242)=TRUE,\"P\",\"A\")","v":"A"},{"$f":"IF(Attendance($C57,'Daily Register'!IB$3:IB$242)=TRUE,\"P\",\"A\")","v":"A"},{"$f":"IF(Attendance($C57,'Daily Register'!IC$3:IC$242)=TRUE,\"P\",\"A\")","v":"A"},{"$f":"IF(Attendance($C57,'Daily Register'!ID$3:ID$242)=TRUE,\"P\",\"A\")","v":"A"},{"$f":"IF(Attendance($C57,'Daily Register'!IE$3:IE$242)=TRUE,\"P\",\"A\")","v":"A"},{"$f":"IF(Attendance($C57,'Daily Register'!IF$3:IF$242)=TRUE,\"P\",\"A\")","v":"A"},{"$f":"IF(Attendance($C57,'Daily Register'!IG$3:IG$242)=TRUE,\"P\",\"A\")","v":"A"},{"$f":"IF(Attendance($C57,'Daily Register'!IH$3:IH$242)=TRUE,\"P\",\"A\")","v":"A"},{"$f":"IF(Attendance($C57,'Daily Register'!II$3:II$242)=TRUE,\"P\",\"A\")","v":"A"},{"$f":"IF(Attendance($C57,'Daily Register'!IJ$3:IJ$242)=TRUE,\"P\",\"A\")","v":"A"},{"$f":"IF(Attendance($C57,'Daily Register'!IK$3:IK$242)=TRUE,\"P\",\"A\")","v":"A"},{"$f":"IF(Attendance($C57,'Daily Register'!IL$3:IL$242)=TRUE,\"P\",\"A\")","v":"A"},{"$f":"IF(Attendance($C57,'Daily Register'!IM$3:IM$242)=TRUE,\"P\",\"A\")","v":"A"},{"$f":"IF(Attendance($C57,'Daily Register'!IN$3:IN$242)=TRUE,\"P\",\"A\")","v":"A"},{"$f":"IF(Attendance($C57,'Daily Register'!IO$3:IO$242)=TRUE,\"P\",\"A\")","v":"A"},{"$f":"IF(Attendance($C57,'Daily Register'!IP$3:IP$242)=TRUE,\"P\",\"A\")","v":"A"},{"$f":"IF(Attendance($C57,'Daily Register'!IQ$3:IQ$242)=TRUE,\"P\",\"A\")","v":"A"},{"$f":"IF(Attendance($C57,'Daily Register'!IR$3:IR$242)=TRUE,\"P\",\"A\")","v":"A"},{"$f":"IF(Attendance($C57,'Daily Register'!IS$3:IS$242)=TRUE,\"P\",\"A\")","v":"A"},{"$f":"IF(Attendance($C57,'Daily Register'!IT$3:IT$242)=TRUE,\"P\",\"A\")","v":"A"},{"$f":"IF(Attendance($C57,'Daily Register'!IU$3:IU$242)=TRUE,\"P\",\"A\")","v":"A"},{"$f":"IF(Attendance($C57,'Daily Register'!IV$3:IV$242)=TRUE,\"P\",\"A\")","v":"A"},{"$f":"IF(Attendance($C57,'Daily Register'!IW$3:IW$242)=TRUE,\"P\",\"A\")","v":"A"},{"$f":"IF(Attendance($C57,'Daily Register'!IX$3:IX$242)=TRUE,\"P\",\"A\")","v":"A"},{"$f":"IF(Attendance($C57,'Daily Register'!IY$3:IY$242)=TRUE,\"P\",\"A\")","v":"A"},{"$f":"IF(Attendance($C57,'Daily Register'!IZ$3:IZ$242)=TRUE,\"P\",\"A\")","v":"A"},{"$f":"IF(Attendance($C57,'Daily Register'!JA$3:JA$242)=TRUE,\"P\",\"A\")","v":"A"},{"$f":"IF(Attendance($C57,'Daily Register'!JB$3:JB$242)=TRUE,\"P\",\"A\")","v":"A"},{"$f":"IF(Attendance($C57,'Daily Register'!JC$3:JC$242)=TRUE,\"P\",\"A\")","v":"A"},{"$f":"IF(Attendance($C57,'Daily Register'!JD$3:JD$242)=TRUE,\"P\",\"A\")","v":"A"},{"$f":"IF(Attendance($C57,'Daily Register'!JE$3:JE$242)=TRUE,\"P\",\"A\")","v":"A"},{"$f":"IF(Attendance($C57,'Daily Register'!JF$3:JF$242)=TRUE,\"P\",\"A\")","v":"A"},{"$f":"IF(Attendance($C57,'Daily Register'!JG$3:JG$242)=TRUE,\"P\",\"A\")","v":"A"},{"$f":"IF(Attendance($C57,'Daily Register'!JH$3:JH$242)=TRUE,\"P\",\"A\")","v":"A"},{"$f":"IF(Attendance($C57,'Daily Register'!JI$3:JI$242)=TRUE,\"P\",\"A\")","v":"A"},{"$f":"IF(Attendance($C57,'Daily Register'!JJ$3:JJ$242)=TRUE,\"P\",\"A\")","v":"A"},{"$f":"IF(Attendance($C57,'Daily Register'!JK$3:JK$242)=TRUE,\"P\",\"A\")","v":"A"},{"$f":"IF(Attendance($C57,'Daily Register'!JL$3:JL$242)=TRUE,\"P\",\"A\")","v":"A"},{"$f":"IF(Attendance($C57,'Daily Register'!JM$3:JM$242)=TRUE,\"P\",\"A\")","v":"A"},{"$f":"IF(Attendance($C57,'Daily Register'!JN$3:JN$242)=TRUE,\"P\",\"A\")","v":"A"},{"$f":"IF(Attendance($C57,'Daily Register'!JO$3:JO$242)=TRUE,\"P\",\"A\")","v":"A"},{"$f":"IF(Attendance($C57,'Daily Register'!JP$3:JP$242)=TRUE,\"P\",\"A\")","v":"A"},{"$f":"IF(Attendance($C57,'Daily Register'!JQ$3:JQ$242)=TRUE,\"P\",\"A\")","v":"A"},{"$f":"IF(Attendance($C57,'Daily Register'!JR$3:JR$242)=TRUE,\"P\",\"A\")","v":"A"},{"$f":"IF(Attendance($C57,'Daily Register'!JS$3:JS$242)=TRUE,\"P\",\"A\")","v":"A"},{"$f":"IF(Attendance($C57,'Daily Register'!JT$3:JT$242)=TRUE,\"P\",\"A\")","v":"A"},{"$f":"IF(Attendance($C57,'Daily Register'!JU$3:JU$242)=TRUE,\"P\",\"A\")","v":"A"},{"$f":"IF(Attendance($C57,'Daily Register'!JV$3:JV$242)=TRUE,\"P\",\"A\")","v":"A"},{"$f":"IF(Attendance($C57,'Daily Register'!JW$3:JW$242)=TRUE,\"P\",\"A\")","v":"A"},{"$f":"IF(Attendance($C57,'Daily Register'!JX$3:JX$242)=TRUE,\"P\",\"A\")","v":"A"},{"$f":"IF(Attendance($C57,'Daily Register'!JY$3:JY$242)=TRUE,\"P\",\"A\")","v":"A"},{"$f":"IF(Attendance($C57,'Daily Register'!JZ$3:JZ$242)=TRUE,\"P\",\"A\")","v":"A"},{"$f":"IF(Attendance($C57,'Daily Register'!KA$3:KA$242)=TRUE,\"P\",\"A\")","v":"A"},{"$f":"IF(Attendance($C57,'Daily Register'!KB$3:KB$242)=TRUE,\"P\",\"A\")","v":"A"},{"$f":"IF(Attendance($C57,'Daily Register'!KC$3:KC$242)=TRUE,\"P\",\"A\")","v":"A"},{"$f":"IF(Attendance($C57,'Daily Register'!KD$3:KD$242)=TRUE,\"P\",\"A\")","v":"A"},{"$f":"IF(Attendance($C57,'Daily Register'!KE$3:KE$242)=TRUE,\"P\",\"A\")","v":"A"},{"$f":"IF(Attendance($C57,'Daily Register'!KF$3:KF$242)=TRUE,\"P\",\"A\")","v":"A"},{"$f":"IF(Attendance($C57,'Daily Register'!KG$3:KG$242)=TRUE,\"P\",\"A\")","v":"A"},{"$f":"IF(Attendance($C57,'Daily Register'!KH$3:KH$242)=TRUE,\"P\",\"A\")","v":"A"},{"$f":"IF(Attendance($C57,'Daily Register'!KI$3:KI$242)=TRUE,\"P\",\"A\")","v":"A"},{"$f":"IF(Attendance($C57,'Daily Register'!KJ$3:KJ$242)=TRUE,\"P\",\"A\")","v":"A"},{"$f":"IF(Attendance($C57,'Daily Register'!KK$3:KK$242)=TRUE,\"P\",\"A\")","v":"A"},{"$f":"IF(Attendance($C57,'Daily Register'!KL$3:KL$242)=TRUE,\"P\",\"A\")","v":"A"},{"$f":"IF(Attendance($C57,'Daily Register'!KM$3:KM$242)=TRUE,\"P\",\"A\")","v":"A"},{"$f":"IF(Attendance($C57,'Daily Register'!KN$3:KN$242)=TRUE,\"P\",\"A\")","v":"A"},{"$f":"IF(Attendance($C57,'Daily Register'!KO$3:KO$242)=TRUE,\"P\",\"A\")","v":"A"},{"$f":"IF(Attendance($C57,'Daily Register'!KP$3:KP$242)=TRUE,\"P\",\"A\")","v":"A"},{"$f":"IF(Attendance($C57,'Daily Register'!KQ$3:KQ$242)=TRUE,\"P\",\"A\")","v":"A"},{"$f":"IF(Attendance($C57,'Daily Register'!KR$3:KR$242)=TRUE,\"P\",\"A\")","v":"A"},{"$f":"IF(Attendance($C57,'Daily Register'!KS$3:KS$242)=TRUE,\"P\",\"A\")","v":"A"},{"$f":"IF(Attendance($C57,'Daily Register'!KT$3:KT$242)=TRUE,\"P\",\"A\")","v":"A"},{"$f":"IF(Attendance($C57,'Daily Register'!KU$3:KU$242)=TRUE,\"P\",\"A\")","v":"A"},{"$f":"IF(Attendance($C57,'Daily Register'!KV$3:KV$242)=TRUE,\"P\",\"A\")","v":"A"},{"$f":"IF(Attendance($C57,'Daily Register'!KW$3:KW$242)=TRUE,\"P\",\"A\")","v":"A"},{"$f":"IF(Attendance($C57,'Daily Register'!KX$3:KX$242)=TRUE,\"P\",\"A\")","v":"A"},{"$f":"IF(Attendance($C57,'Daily Register'!KY$3:KY$242)=TRUE,\"P\",\"A\")","v":"A"},{"$f":"IF(Attendance($C57,'Daily Register'!KZ$3:KZ$242)=TRUE,\"P\",\"A\")","v":"A"},{"$f":"IF(Attendance($C57,'Daily Register'!LA$3:LA$242)=TRUE,\"P\",\"A\")","v":"A"},{"$f":"IF(Attendance($C57,'Daily Register'!LB$3:LB$242)=TRUE,\"P\",\"A\")","v":"A"},{"$f":"IF(Attendance($C57,'Daily Register'!LC$3:LC$242)=TRUE,\"P\",\"A\")","v":"A"},{"$f":"IF(Attendance($C57,'Daily Register'!LD$3:LD$242)=TRUE,\"P\",\"A\")","v":"A"},{"$f":"IF(Attendance($C57,'Daily Register'!LE$3:LE$242)=TRUE,\"P\",\"A\")","v":"A"},{"$f":"IF(Attendance($C57,'Daily Register'!LF$3:LF$242)=TRUE,\"P\",\"A\")","v":"A"},{"$f":"IF(Attendance($C57,'Daily Register'!LG$3:LG$242)=TRUE,\"P\",\"A\")","v":"A"},{"$f":"IF(Attendance($C57,'Daily Register'!LH$3:LH$242)=TRUE,\"P\",\"A\")","v":"A"},{"$f":"IF(Attendance($C57,'Daily Register'!LI$3:LI$242)=TRUE,\"P\",\"A\")","v":"A"},{"$f":"IF(Attendance($C57,'Daily Register'!LJ$3:LJ$242)=TRUE,\"P\",\"A\")","v":"A"},{"$f":"IF(Attendance($C57,'Daily Register'!LK$3:LK$242)=TRUE,\"P\",\"A\")","v":"A"},{"$f":"IF(Attendance($C57,'Daily Register'!LL$3:LL$242)=TRUE,\"P\",\"A\")","v":"A"},{"$f":"IF(Attendance($C57,'Daily Register'!LM$3:LM$242)=TRUE,\"P\",\"A\")","v":"A"},{"$f":"IF(Attendance($C57,'Daily Register'!LN$3:LN$242)=TRUE,\"P\",\"A\")","v":"A"},{"$f":"IF(Attendance($C57,'Daily Register'!LO$3:LO$242)=TRUE,\"P\",\"A\")","v":"A"},{"$f":"IF(Attendance($C57,'Daily Register'!LP$3:LP$242)=TRUE,\"P\",\"A\")","v":"A"},{"$f":"IF(Attendance($C57,'Daily Register'!LQ$3:LQ$242)=TRUE,\"P\",\"A\")","v":"A"},{"$f":"IF(Attendance($C57,'Daily Register'!LR$3:LR$242)=TRUE,\"P\",\"A\")","v":"A"},{"$f":"IF(Attendance($C57,'Daily Register'!LS$3:LS$242)=TRUE,\"P\",\"A\")","v":"A"},{"$f":"IF(Attendance($C57,'Daily Register'!LT$3:LT$242)=TRUE,\"P\",\"A\")","v":"A"},{"$f":"IF(Attendance($C57,'Daily Register'!LU$3:LU$242)=TRUE,\"P\",\"A\")","v":"A"},{"$f":"IF(Attendance($C57,'Daily Register'!LV$3:LV$242)=TRUE,\"P\",\"A\")","v":"A"},{"$f":"IF(Attendance($C57,'Daily Register'!LW$3:LW$242)=TRUE,\"P\",\"A\")","v":"A"},{"$f":"IF(Attendance($C57,'Daily Register'!LX$3:LX$242)=TRUE,\"P\",\"A\")","v":"A"},{"$f":"IF(Attendance($C57,'Daily Register'!LY$3:LY$242)=TRUE,\"P\",\"A\")","v":"A"},{"$f":"IF(Attendance($C57,'Daily Register'!LZ$3:LZ$242)=TRUE,\"P\",\"A\")","v":"A"},{"$f":"IF(Attendance($C57,'Daily Register'!MA$3:MA$242)=TRUE,\"P\",\"A\")","v":"A"},{"$f":"IF(Attendance($C57,'Daily Register'!MB$3:MB$242)=TRUE,\"P\",\"A\")","v":"A"},{"$f":"IF(Attendance($C57,'Daily Register'!MC$3:MC$242)=TRUE,\"P\",\"A\")","v":"A"},{"$f":"IF(Attendance($C57,'Daily Register'!MD$3:MD$242)=TRUE,\"P\",\"A\")","v":"A"},{"$f":"IF(Attendance($C57,'Daily Register'!ME$3:ME$242)=TRUE,\"P\",\"A\")","v":"A"},{"$f":"IF(Attendance($C57,'Daily Register'!MF$3:MF$242)=TRUE,\"P\",\"A\")","v":"A"},{"$f":"IF(Attendance($C57,'Daily Register'!MG$3:MG$242)=TRUE,\"P\",\"A\")","v":"A"},{"$f":"IF(Attendance($C57,'Daily Register'!MH$3:MH$242)=TRUE,\"P\",\"A\")","v":"A"},{"$f":"IF(Attendance($C57,'Daily Register'!MI$3:MI$242)=TRUE,\"P\",\"A\")","v":"A"},{"$f":"IF(Attendance($C57,'Daily Register'!MJ$3:MJ$242)=TRUE,\"P\",\"A\")","v":"A"},{"$f":"IF(Attendance($C57,'Daily Register'!MK$3:MK$242)=TRUE,\"P\",\"A\")","v":"A"},{"$f":"IF(Attendance($C57,'Daily Register'!ML$3:ML$242)=TRUE,\"P\",\"A\")","v":"A"},{"$f":"IF(Attendance($C57,'Daily Register'!MM$3:MM$242)=TRUE,\"P\",\"A\")","v":"A"},{"$f":"IF(Attendance($C57,'Daily Register'!MN$3:MN$242)=TRUE,\"P\",\"A\")","v":"A"},{"$f":"IF(Attendance($C57,'Daily Register'!MO$3:MO$242)=TRUE,\"P\",\"A\")","v":"A"},{"$f":"IF(Attendance($C57,'Daily Register'!MP$3:MP$242)=TRUE,\"P\",\"A\")","v":"A"},{"$f":"IF(Attendance($C57,'Daily Register'!MQ$3:MQ$242)=TRUE,\"P\",\"A\")","v":"A"},{"$f":"IF(Attendance($C57,'Daily Register'!MR$3:MR$242)=TRUE,\"P\",\"A\")","v":"A"},{"$f":"IF(Attendance($C57,'Daily Register'!MS$3:MS$242)=TRUE,\"P\",\"A\")","v":"A"},{"$f":"IF(Attendance($C57,'Daily Register'!MT$3:MT$242)=TRUE,\"P\",\"A\")","v":"A"},{"$f":"IF(Attendance($C57,'Daily Register'!MU$3:MU$242)=TRUE,\"P\",\"A\")","v":"A"},{"$f":"IF(Attendance($C57,'Daily Register'!MV$3:MV$242)=TRUE,\"P\",\"A\")","v":"A"},{"$f":"IF(Attendance($C57,'Daily Register'!MW$3:MW$242)=TRUE,\"P\",\"A\")","v":"A"},{"$f":"IF(Attendance($C57,'Daily Register'!MX$3:MX$242)=TRUE,\"P\",\"A\")","v":"A"},{"$f":"IF(Attendance($C57,'Daily Register'!MY$3:MY$242)=TRUE,\"P\",\"A\")","v":"A"},{"$f":"IF(Attendance($C57,'Daily Register'!MZ$3:MZ$242)=TRUE,\"P\",\"A\")","v":"A"},{"$f":"IF(Attendance($C57,'Daily Register'!NA$3:NA$242)=TRUE,\"P\",\"A\")","v":"A"},{"$f":"IF(Attendance($C57,'Daily Register'!NB$3:NB$242)=TRUE,\"P\",\"A\")","v":"A"}]
[0,null,55,null,{"$f":"IF(Attendance($C58,'Daily Register'!A$3:A$242)=TRUE,\"P\",\"A\")","v":"A"},{"$f":"IF(Attendance($C58,'Daily Register'!B$3:B$242)=TRUE,\"P\",\"A\")","v":"A"},{"$f":"IF(Attendance($C58,'Daily Register'!C$3:C$242)=TRUE,\"P\",\"A\")","v":"A"},{"$f":"IF(Attendance($C58,'Daily Register'!D$3:D$242)=TRUE,\"P\",\"A\")","v":"A"},{"$f":"IF(Attendance($C58,'Daily Register'!E$3:E$242)=TRUE,\"P\",\"A\")","v":"A"},{"$f":"IF(Attendance($C58,'Daily Register'!F$3:F$242)=TRUE,\"P\",\"A\")","v":"A"},{"$f":"IF(Attendance($C58,'Daily Register'!G$3:G$242)=TRUE,\"P\",\"A\")","v":"A"},{"$f":"IF(Attendance($C58,'Daily Register'!H$3:H$242)=TRUE,\"P\",\"A\")","v":"A"},{"$f":"IF(Attendance($C58,'Daily Register'!I$3:I$242)=TRUE,\"P\",\"A\")","v":"A"},{"$f":"IF(Attendance($C58,'Daily Register'!J$3:J$242)=TRUE,\"P\",\"A\")","v":"A"},{"$f":"IF(Attendance($C58,'Daily Register'!K$3:K$242)=TRUE,\"P\",\"A\")","v":"A"},{"$f":"IF(Attendance($C58,'Daily Register'!L$3:L$242)=TRUE,\"P\",\"A\")","v":"A"},{"$f":"IF(Attendance($C58,'Daily Register'!M$3:M$242)=TRUE,\"P\",\"A\")","v":"A"},{"$f":"IF(Attendance($C58,'Daily Register'!N$3:N$242)=TRUE,\"P\",\"A\")","v":"A"},{"$f":"IF(Attendance($C58,'Daily Register'!O$3:O$242)=TRUE,\"P\",\"A\")","v":"A"},{"$f":"IF(Attendance($C58,'Daily Register'!P$3:P$242)=TRUE,\"P\",\"A\")","v":"A"},{"$f":"IF(Attendance($C58,'Daily Register'!Q$3:Q$242)=TRUE,\"P\",\"A\")","v":"A"},{"$f":"IF(Attendance($C58,'Daily Register'!R$3:R$242)=TRUE,\"P\",\"A\")","v":"A"},{"$f":"IF(Attendance($C58,'Daily Register'!S$3:S$242)=TRUE,\"P\",\"A\")","v":"A"},{"$f":"IF(Attendance($C58,'Daily Register'!T$3:T$242)=TRUE,\"P\",\"A\")","v":"A"},{"$f":"IF(Attendance($C58,'Daily Register'!U$3:U$242)=TRUE,\"P\",\"A\")","v":"A"},{"$f":"IF(Attendance($C58,'Daily Register'!V$3:V$242)=TRUE,\"P\",\"A\")","v":"A"},{"$f":"IF(Attendance($C58,'Daily Register'!W$3:W$242)=TRUE,\"P\",\"A\")","v":"A"},{"$f":"IF(Attendance($C58,'Daily Register'!X$3:X$242)=TRUE,\"P\",\"A\")","v":"A"},{"$f":"IF(Attendance($C58,'Daily Register'!Y$3:Y$242)=TRUE,\"P\",\"A\")","v":"A"},{"$f":"IF(Attendance($C58,'Daily Register'!Z$3:Z$242)=TRUE,\"P\",\"A\")","v":"A"},{"$f":"IF(Attendance($C58,'Daily Register'!AA$3:AA$242)=TRUE,\"P\",\"A\")","v":"A"},{"$f":"IF(Attendance($C58,'Daily Register'!AB$3:AB$242)=TRUE,\"P\",\"A\")","v":"A"},{"$f":"IF(Attendance($C58,'Daily Register'!AC$3:AC$242)=TRUE,\"P\",\"A\")","v":"A"},{"$f":"IF(Attendance($C58,'Daily Register'!AD$3:AD$242)=TRUE,\"P\",\"A\")","v":"A"},{"$f":"IF(Attendance($C58,'Daily Register'!AE$3:AE$242)=TRUE,\"P\",\"A\")","v":"A"},{"$f":"IF(Attendance($C58,'Daily Register'!AF$3:AF$242)=TRUE,\"P\",\"A\")","v":"A"},{"$f":"IF(Attendance($C58,'Daily Register'!AG$3:AG$242)=TRUE,\"P\",\"A\")","v":"A"},{"$f":"IF(Attendance($C58,'Daily Register'!AH$3:AH$242)=TRUE,\"P\",\"A\")","v":"A"},{"$f":"IF(Attendance($C58,'Daily Register'!AI$3:AI$242)=TRUE,\"P\",\"A\")","v":"A"},{"$f":"IF(Attendance($C58,'Daily Register'!AJ$3:AJ$242)=TRUE,\"P\",\"A\")","v":"A"},{"$f":"IF(Attendance($C58,'Daily Register'!AK$3:AK$242)=TRUE,\"P\",\"A\")","v":"A"},{"$f":"IF(Attendance($C58,'Daily Register'!AL$3:AL$242)=TRUE,\"P\",\"A\")","v":"A"},{"$f":"IF(Attendance($C58,'Daily Register'!AM$3:AM$242)=TRUE,\"P\",\"A\")","v":"A"},{"$f":"IF(Attendance($C58,'Daily Register'!AN$3:AN$242)=TRUE,\"P\",\"A\")","v":"A"},{"$f":"IF(Attendance($C58,'Daily Register'!AO$3:AO$242)=TRUE,\"P\",\"A\")","v":"A"},{"$f":"IF(Attendance($C58,'Daily Register'!AP$3:AP$242)=TRUE,\"P\",\"A\")","v":"A"},{"$f":"IF(Attendance($C58,'Daily Register'!AQ$3:AQ$242)=TRUE,\"P\",\"A\")","v":"A"},{"$f":"IF(Attendance($C58,'Daily Register'!AR$3:AR$242)=TRUE,\"P\",\"A\")","v":"A"},{"$f":"IF(Attendance($C58,'Daily Register'!AS$3:AS$242)=TRUE,\"P\",\"A\")","v":"A"},{"$f":"IF(Attendance($C58,'Daily Register'!AT$3:AT$242)=TRUE,\"P\",\"A\")","v":"A"},{"$f":"IF(Attendance($C58,'Daily Register'!AU$3:AU$242)=TRUE,\"P\",\"A\")","v":"A"},{"$f":"IF(Attendance($C58,'Daily Register'!AV$3:AV$242)=TRUE,\"P\",\"A\")","v":"A"},{"$f":"IF(Attendance($C58,'Daily Register'!AW$3:AW$242)=TRUE,\"P\",\"A\")","v":"A"},{"$f":"IF(Attendance($C58,'Daily Register'!AX$3:AX$242)=TRUE,\"P\",\"A\")","v":"A"},{"$f":"IF(Attendance($C58,'Daily Register'!AY$3:AY$242)=TRUE,\"P\",\"A\")","v":"A"},{"$f":"IF(Attendance($C58,'Daily Register'!AZ$3:AZ$242)=TRUE,\"P\",\"A\")","v":"A"},{"$f":"IF(Attendance($C58,'Daily Register'!BA$3:BA$242)=TRUE,\"P\",\"A\")","v":"A"},{"$f":"IF(Attendance($C58,'Daily Register'!BB$3:BB$242)=TRUE,\"P\",\"A\")","v":"A"},{"$f":"IF(Attendance($C58,'Daily Register'!BC$3:BC$242)=TRUE,\"P\",\"A\")","v":"A"},{"$f":"IF(Attendance($C58,'Daily Register'!BD$3:BD$242)=TRUE,\"P\",\"A\")","v":"A"},{"$f":"IF(Attendance($C58,'Daily Register'!BE$3:BE$242)=TRUE,\"P\",\"A\")","v":"A"},{"$f":"IF(Attendance($C58,'Daily Register'!BF$3:BF$242)=TRUE,\"P\",\"A\")","v":"A"},{"$f":"IF(Attendance($C58,'Daily Register'!BG$3:BG$242)=TRUE,\"P\",\"A\")","v":"A"},{"$f":"IF(Attendance($C58,'Daily Register'!BH$3:BH$242)=TRUE,\"P\",\"A\")","v":"A"},{"$f":"IF(Attendance($C58,'Daily Register'!BI$3:BI$242)=TRUE,\"P\",\"A\")","v":"A"},{"$f":"IF(Attendance($C58,'Daily Register'!BJ$3:BJ$242)=TRUE,\"P\",\"A\")","v":"A"},{"$f":"IF(Attendance($C58,'Daily Register'!BK$3:BK$242)=TRUE,\"P\",\"A\")","v":"A"},{"$f":"IF(Attendance($C58,'Daily Register'!BL$3:BL$242)=TRUE,\"P\",\"A\")","v":"A"},{"$f":"IF(Attendance($C58,'Daily Register'!BM$3:BM$242)=TRUE,\"P\",\"A\")","v":"A"},{"$f":"IF(Attendance($C58,'Daily Register'!BN$3:BN$242)=TRUE,\"P\",\"A\")","v":"A"},{"$f":"IF(Attendance($C58,'Daily Register'!BO$3:BO$242)=TRUE,\"P\",\"A\")","v":"A"},{"$f":"IF(Attendance($C58,'Daily Register'!BP$3:BP$242)=TRUE,\"P\",\"A\")","v":"A"},{"$f":"IF(Attendance($C58,'Daily Register'!BQ$3:BQ$242)=TRUE,\"P\",\"A\")","v":"A"},{"$f":"IF(Attendance($C58,'Daily Register'!BR$3:BR$242)=TRUE,\"P\",\"A\")","v":"A"},{"$f":"IF(Attendance($C58,'Daily Register'!BS$3:BS$242)=TRUE,\"P\",\"A\")","v":"A"},{"$f":"IF(Attendance($C58,'Daily Register'!BT$3:BT$242)=TRUE,\"P\",\"A\")","v":"A"},{"$f":"IF(Attendance($C58,'Daily Register'!BU$3:BU$242)=TRUE,\"P\",\"A\")","v":"A"},{"$f":"IF(Attendance($C58,'Daily Register'!BV$3:BV$242)=TRUE,\"P\",\"A\")","v":"A"},{"$f":"IF(Attendance($C58,'Daily Register'!BW$3:BW$242)=TRUE,\"P\",\"A\")","v":"A"},{"$f":"IF(Attendance($C58,'Daily Register'!BX$3:BX$242)=TRUE,\"P\",\"A\")","v":"A"},{"$f":"IF(Attendance($C58,'Daily Register'!BY$3:BY$242)=TRUE,\"P\",\"A\")","v":"A"},{"$f":"IF(Attendance($C58,'Daily Register'!BZ$3:BZ$242)=TRUE,\"P\",\"A\")","v":"A"},{"$f":"IF(Attendance($C58,'Daily Register'!CA$3:CA$242)=TRUE,\"P\",\"A\")","v":"A"},{"$f":"IF(Attendance($C58,'Daily Register'!CB$3:CB$242)=TRUE,\"P\",\"A\")","v":"A"},{"$f":"IF(Attendance($C58,'Daily Register'!CC$3:CC$242)=TRUE,\"P\",\"A\")","v":"A"},{"$f":"IF(Attendance($C58,'Daily Register'!CD$3:CD$242)=TRUE,\"P\",\"A\")","v":"A"},{"$f":"IF(Attendance($C58,'Daily Register'!CE$3:CE$242)=TRUE,\"P\",\"A\")","v":"A"},{"$f":"IF(Attendance($C58,'Daily Register'!CF$3:CF$242)=TRUE,\"P\",\"A\")","v":"A"},{"$f":"IF(Attendance($C58,'Daily Register'!CG$3:CG$242)=TRUE,\"P\",\"A\")","v":"A"},{"$f":"IF(Attendance($C58,'Daily Register'!CH$3:CH$242)=TRUE,\"P\",\"A\")","v":"A"},{"$f":"IF(Attendance($C58,'Daily Register'!CI$3:CI$242)=TRUE,\"P\",\"A\")","v":"A"},{"$f":"IF(Attendance($C58,'Daily Register'!CJ$3:CJ$242)=TRUE,\"P\",\"A\")","v":"A"},{"$f":"IF(Attendance($C58,'Daily Register'!CK$3:CK$242)=TRUE,\"P\",\"A\")","v":"A"},{"$f":"IF(Attendance($C58,'Daily Register'!CL$3:CL$242)=TRUE,\"P\",\"A\")","v":"A"},{"$f":"IF(Attendance($C58,'Daily Register'!CM$3:CM$242)=TRUE,\"P\",\"A\")","v":"A"},{"$f":"IF(Attendance($C58,'Daily Register'!CN$3:CN$242)=TRUE,\"P\",\"A\")","v":"A"},{"$f":"IF(Attendance($C58,'Daily Register'!CO$3:CO$242)=TRUE,\"P\",\"A\")","v":"A"},{"$f":"IF(Attendance($C58,'Daily Register'!CP$3:CP$242)=TRUE,\"P\",\"A\")","v":"A"},{"$f":"IF(Attendance($C58,'Daily Register'!CQ$3:CQ$242)=TRUE,\"P\",\"A\")","v":"A"},{"$f":"IF(Attendance($C58,'Daily Register'!CR$3:CR$242)=TRUE,\"P\",\"A\")","v":"A"},{"$f":"IF(Attendance($C58,'Daily Register'!CS$3:CS$242)=TRUE,\"P\",\"A\")","v":"A"},{"$f":"IF(Attendance($C58,'Daily Register'!CT$3:CT$242)=TRUE,\"P\",\"A\")","v":"A"},{"$f":"IF(Attendance($C58,'Daily Register'!CU$3:CU$242)=TRUE,\"P\",\"A\")","v":"A"},{"$f":"IF(Attendance($C58,'Daily Register'!CV$3:CV$242)=TRUE,\"P\",\"A\")","v":"A"},{"$f":"IF(Attendance($C58,'Daily Register'!CW$3:CW$242)=TRUE,\"P\",\"A\")","v":"A"},{"$f":"IF(Attendance($C58,'Daily Register'!CX$3:CX$242)=TRUE,\"P\",\"A\")","v":"A"},{"$f":"IF(Attendance($C58,'Daily Register'!CY$3:CY$242)=TRUE,\"P\",\"A\")","v":"A"},{"$f":"IF(Attendance($C58,'Daily Register'!CZ$3:CZ$242)=TRUE,\"P\",\"A\")","v":"A"},{"$f":"IF(Attendance($C58,'Daily Register'!DA$3:DA$242)=TRUE,\"P\",\"A\")","v":"A"},{"$f":"IF(Attendance($C58,'Daily Register'!DB$3:DB$242)=TRUE,\"P\",\"A\")","v":"A"},{"$f":"IF(Attendance($C58,'Daily Register'!DC$3:DC$242)=TRUE,\"P\",\"A\")","v":"A"},{"$f":"IF(Attendance($C58,'Daily Register'!DD$3:DD$242)=TRUE,\"P\",\"A\")","v":"A"},{"$f":"IF(Attendance($C58,'Daily Register'!DE$3:DE$242)=TRUE,\"P\",\"A\")","v":"A"},{"$f":"IF(Attendance($C58,'Daily Register'!DF$3:DF$242)=TRUE,\"P\",\"A\")","v":"A"},{"$f":"IF(Attendance($C58,'Daily Register'!DG$3:DG$242)=TRUE,\"P\",\"A\")","v":"A"},{"$f":"IF(Attendance($C58,'Daily Register'!DH$3:DH$242)=TRUE,\"P\",\"A\")","v":"A"},{"$f":"IF(Attendance($C58,'Daily Register'!DI$3:DI$242)=TRUE,\"P\",\"A\")","v":"A"},{"$f":"IF(Attendance($C58,'Daily Register'!DJ$3:DJ$242)=TRUE,\"P\",\"A\")","v":"A"},{"$f":"IF(Attendance($C58,'Daily Register'!DK$3:DK$242)=TRUE,\"P\",\"A\")","v":"A"},{"$f":"IF(Attendance($C58,'Daily Register'!DL$3:DL$242)=TRUE,\"P\",\"A\")","v":"A"},{"$f":"IF(Attendance($C58,'Daily Register'!DM$3:DM$242)=TRUE,\"P\",\"A\")","v":"A"},{"$f":"IF(Attendance($C58,'Daily Register'!DN$3:DN$242)=TRUE,\"P\",\"A\")","v":"A"},{"$f":"IF(Attendance($C58,'Daily Register'!DO$3:DO$242)=TRUE,\"P\",\"A\")","v":"A"},{"$f":"IF(Attendance($C58,'Daily Register'!DP$3:DP$242)=TRUE,\"P\",\"A\")","v":"A"},{"$f":"IF(Attendance($C58,'Daily Register'!DQ$3:DQ$242)=TRUE,\"P\",\"A\")","v":"A"},{"$f":"IF(Attendance($C58,'Daily Register'!DR$3:DR$242)=TRUE,\"P\",\"A\")","v":"A"},{"$f":"IF(Attendance($C58,'Daily Register'!DS$3:DS$242)=TRUE,\"P\",\"A\")","v":"A"},{"$f":"IF(Attendance($C58,'Daily Register'!DT$3:DT$242)=TRUE,\"P\",\"A\")","v":"A"},{"$f":"IF(Attendance($C58,'Daily Register'!DU$3:DU$242)=TRUE,\"P\",\"A\")","v":"A"},{"$f":"IF(Attendance($C58,'Daily Register'!DV$3:DV$242)=TRUE,\"P\",\"A\")","v":"A"},{"$f":"IF(Attendance($C58,'Daily Register'!DW$3:DW$242)=TRUE,\"P\",\"A\")","v":"A"},{"$f":"IF(Attendance($C58,'Daily Register'!DX$3:DX$242)=TRUE,\"P\",\"A\")","v":"A"},{"$f":"IF(Attendance($C58,'Daily Register'!DY$3:DY$242)=TRUE,\"P\",\"A\")","v":"A"},{"$f":"IF(Attendance($C58,'Daily Register'!DZ$3:DZ$242)=TRUE,\"P\",\"A\")","v":"A"},{"$f":"IF(Attendance($C58,'Daily Register'!EA$3:EA$242)=TRUE,\"P\",\"A\")","v":"A"},{"$f":"IF(Attendance($C58,'Daily Register'!EB$3:EB$242)=TRUE,\"P\",\"A\")","v":"A"},{"$f":"IF(Attendance($C58,'Daily Register'!EC$3:EC$242)=TRUE,\"P\",\"A\")","v":"A"},{"$f":"IF(Attendance($C58,'Daily Register'!ED$3:ED$242)=TRUE,\"P\",\"A\")","v":"A"},{"$f":"IF(Attendance($C58,'Daily Register'!EE$3:EE$242)=TRUE,\"P\",\"A\")","v":"A"},{"$f":"IF(Attendance($C58,'Daily Register'!EF$3:EF$242)=TRUE,\"P\",\"A\")","v":"A"},{"$f":"IF(Attendance($C58,'Daily Register'!EG$3:EG$242)=TRUE,\"P\",\"A\")","v":"A"},{"$f":"IF(Attendance($C58,'Daily Register'!EH$3:EH$242)=TRUE,\"P\",\"A\")","v":"A"},{"$f":"IF(Attendance($C58,'Daily Register'!EI$3:EI$242)=TRUE,\"P\",\"A\")","v":"A"},{"$f":"IF(Attendance($C58,'Daily Register'!EJ$3:EJ$242)=TRUE,\"P\",\"A\")","v":"A"},{"$f":"IF(Attendance($C58,'Daily Register'!EK$3:EK$242)=TRUE,\"P\",\"A\")","v":"A"},{"$f":"IF(Attendance($C58,'Daily Register'!EL$3:EL$242)=TRUE,\"P\",\"A\")","v":"A"},{"$f":"IF(Attendance($C58,'Daily Register'!EM$22:EM$242)=TRUE,\"P\",\"A\")","v":"A"},{"$f":"IF(Attendance($C58,'Daily Register'!EN$3:EN$242)=TRUE,\"P\",\"A\")","v":"A"},{"$f":"IF(Attendance($C58,'Daily Register'!EO$3:EO$242)=TRUE,\"P\",\"A\")","v":"A"},{"$f":"IF(Attendance($C58,'Daily Register'!EP$3:EP$242)=TRUE,\"P\",\"A\")","v":"A"},{"$f":"IF(Attendance($C58,'Daily Register'!EQ$3:EQ$242)=TRUE,\"P\",\"A\")","v":"A"},{"$f":"IF(Attendance($C58,'Daily Register'!ER$3:ER$242)=TRUE,\"P\",\"A\")","v":"A"},{"$f":"IF(Attendance($C58,'Daily Register'!ES$3:ES$242)=TRUE,\"P\",\"A\")","v":"A"},{"$f":"IF(Attendance($C58,'Daily Register'!ET$3:ET$242)=TRUE,\"P\",\"A\")","v":"A"},{"$f":"IF(Attendance($C58,'Daily Register'!EU$3:EU$242)=TRUE,\"P\",\"A\")","v":"A"},{"$f":"IF(Attendance($C58,'Daily Register'!EV$3:EV$242)=TRUE,\"P\",\"A\")","v":"A"},{"$f":"IF(Attendance($C58,'Daily Register'!EW$3:EW$242)=TRUE,\"P\",\"A\")","v":"A"},{"$f":"IF(Attendance($C58,'Daily Register'!EX$3:EX$242)=TRUE,\"P\",\"A\")","v":"A"},{"$f":"IF(Attendance($C58,'Daily Register'!EY$3:EY$242)=TRUE,\"P\",\"A\")","v":"A"},{"$f":"IF(Attendance($C58,'Daily Register'!EZ$3:EZ$242)=TRUE,\"P\",\"A\")","v":"A"},{"$f":"IF(Attendance($C58,'Daily Register'!FA$3:FA$242)=TRUE,\"P\",\"A\")","v":"A"},{"$f":"IF(Attendance($C58,'Daily Register'!FB$3:FB$242)=TRUE,\"P\",\"A\")","v":"A"},{"$f":"IF(Attendance($C58,'Daily Register'!FC$3:FC$242)=TRUE,\"P\",\"A\")","v":"A"},{"$f":"IF(Attendance($C58,'Daily Register'!FD$3:FD$242)=TRUE,\"P\",\"A\")","v":"A"},{"$f":"IF(Attendance($C58,'Daily Register'!FE$3:FE$242)=TRUE,\"P\",\"A\")","v":"A"},{"$f":"IF(Attendance($C58,'Daily Register'!FF$3:FF$242)=TRUE,\"P\",\"A\")","v":"A"},{"$f":"IF(Attendance($C58,'Daily Register'!FG$3:FG$242)=TRUE,\"P\",\"A\")","v":"A"},{"$f":"IF(Attendance($C58,'Daily Register'!FH$3:FH$242)=TRUE,\"P\",\"A\")","v":"A"},{"$f":"IF(Attendance($C58,'Daily Register'!FI$3:FI$242)=TRUE,\"P\",\"A\")","v":"A"},{"$f":"IF(Attendance($C58,'Daily Register'!FJ$3:FJ$242)=TRUE,\"P\",\"A\")","v":"A"},{"$f":"IF(Attendance($C58,'Daily Register'!FK$3:FK$242)=TRUE,\"P\",\"A\")","v":"A"},{"$f":"IF(Attendance($C58,'Daily Register'!FL$3:FL$242)=TRUE,\"P\",\"A\")","v":"A"},{"$f":"IF(Attendance($C58,'Daily Register'!FM$3:FM$242)=TRUE,\"P\",\"A\")","v":"A"},{"$f":"IF(Attendance($C58,'Daily Register'!FN$3:FN$242)=TRUE,\"P\",\"A\")","v":"A"},{"$f":"IF(Attendance($C58,'Daily Register'!FO$3:FO$242)=TRUE,\"P\",\"A\")","v":"A"},{"$f":"IF(Attendance($C58,'Daily Register'!FP$3:FP$242)=TRUE,\"P\",\"A\")","v":"A"},{"$f":"IF(Attendance($C58,'Daily Register'!FQ$3:FQ$242)=TRUE,\"P\",\"A\")","v":"A"},{"$f":"IF(Attendance($C58,'Daily Register'!FR$3:FR$242)=TRUE,\"P\",\"A\")","v":"A"},{"$f":"IF(Attendance($C58,'Daily Register'!FS$3:FS$242)=TRUE,\"P\",\"A\")","v":"A"},{"$f":"IF(Attendance($C58,'Daily Register'!FT$3:FT$242)=TRUE,\"P\",\"A\")","v":"A"},{"$f":"IF(Attendance($C58,'Daily Register'!FU$3:FU$242)=TRUE,\"P\",\"A\")","v":"A"},{"$f":"IF(Attendance($C58,'Daily Register'!FV$3:FV$242)=TRUE,\"P\",\"A\")","v":"A"},{"$f":"IF(Attendance($C58,'Daily Register'!FW$3:FW$242)=TRUE,\"P\",\"A\")","v":"A"},{"$f":"IF(Attendance($C58,'Daily Register'!FX$3:FX$242)=TRUE,\"P\",\"A\")","v":"A"},{"$f":"IF(Attendance($C58,'Daily Register'!FY$3:FY$242)=TRUE,\"P\",\"A\")","v":"A"},{"$f":"IF(Attendance($C58,'Daily Register'!FZ$3:FZ$242)=TRUE,\"P\",\"A\")","v":"A"},{"$f":"IF(Attendance($C58,'Daily Register'!GA$3:GA$242)=TRUE,\"P\",\"A\")","v":"A"},{"$f":"IF(Attendance($C58,'Daily Register'!GB$3:GB$242)=TRUE,\"P\",\"A\")","v":"A"},{"$f":"IF(Attendance($C58,'Daily Register'!GC$3:GC$242)=TRUE,\"P\",\"A\")","v":"A"},{"$f":"IF(Attendance($C58,'Daily Register'!GD$3:GD$242)=TRUE,\"P\",\"A\")","v":"A"},{"$f":"IF(Attendance($C58,'Daily Register'!GE$3:GE$242)=TRUE,\"P\",\"A\")","v":"A"},{"$f":"IF(Attendance($C58,'Daily Register'!GF$3:GF$242)=TRUE,\"P\",\"A\")","v":"A"},{"$f":"IF(Attendance($C58,'Daily Register'!GG$3:GG$242)=TRUE,\"P\",\"A\")","v":"A"},{"$f":"IF(Attendance($C58,'Daily Register'!GH$3:GH$242)=TRUE,\"P\",\"A\")","v":"A"},{"$f":"IF(Attendance($C58,'Daily Register'!GI$3:GI$242)=TRUE,\"P\",\"A\")","v":"A"},{"$f":"IF(Attendance($C58,'Daily Register'!GJ$3:GJ$242)=TRUE,\"P\",\"A\")","v":"A"},{"$f":"IF(Attendance($C58,'Daily Register'!GK$3:GK$242)=TRUE,\"P\",\"A\")","v":"A"},{"$f":"IF(Attendance($C58,'Daily Register'!GL$3:GL$242)=TRUE,\"P\",\"A\")","v":"A"},{"$f":"IF(Attendance($C58,'Daily Register'!GM$3:GM$242)=TRUE,\"P\",\"A\")","v":"A"},{"$f":"IF(Attendance($C58,'Daily Register'!GN$3:GN$242)=TRUE,\"P\",\"A\")","v":"A"},{"$f":"IF(Attendance($C58,'Daily Register'!GO$3:GO$242)=TRUE,\"P\",\"A\")","v":"A"},{"$f":"IF(Attendance($C58,'Daily Register'!GP$3:GP$242)=TRUE,\"P\",\"A\")","v":"A"},{"$f":"IF(Attendance($C58,'Daily Register'!GQ$3:GQ$242)=TRUE,\"P\",\"A\")","v":"A"},{"$f":"IF(Attendance($C58,'Daily Register'!GR$3:GR$242)=TRUE,\"P\",\"A\")","v":"A"},{"$f":"IF(Attendance($C58,'Daily Register'!GS$3:GS$242)=TRUE,\"P\",\"A\")","v":"A"},{"$f":"IF(Attendance($C58,'Daily Register'!GT$3:GT$242)=TRUE,\"P\",\"A\")","v":"A"},{"$f":"IF(Attendance($C58,'Daily Register'!GU$3:GU$242)=TRUE,\"P\",\"A\")","v":"A"},{"$f":"IF(Attendance($C58,'Daily Register'!GV$3:GV$242)=TRUE,\"P\",\"A\")","v":"A"},{"$f":"IF(Attendance($C58,'Daily Register'!GW$3:GW$242)=TRUE,\"P\",\"A\")","v":"A"},{"$f":"IF(Attendance($C58,'Daily Register'!GX$3:GX$242)=TRUE,\"P\",\"A\")","v":"A"},{"$f":"IF(Attendance($C58,'Daily Register'!GY$3:GY$242)=TRUE,\"P\",\"A\")","v":"A"},{"$f":"IF(Attendance($C58,'Daily Register'!GZ$3:GZ$242)=TRUE,\"P\",\"A\")","v":"A"},{"$f":"IF(Attendance($C58,'Daily Register'!HA$3:HA$242)=TRUE,\"P\",\"A\")","v":"A"},{"$f":"IF(Attendance($C58,'Daily Register'!HB$3:HB$242)=TRUE,\"P\",\"A\")","v":"A"},{"$f":"IF(Attendance($C58,'Daily Register'!HC$3:HC$242)=TRUE,\"P\",\"A\")","v":"A"},{"$f":"IF(Attendance($C58,'Daily Register'!HD$3:HD$242)=TRUE,\"P\",\"A\")","v":"A"},{"$f":"IF(Attendance($C58,'Daily Register'!HE$3:HE$242)=TRUE,\"P\",\"A\")","v":"A"},{"$f":"IF(Attendance($C58,'Daily Register'!HF$3:HF$242)=TRUE,\"P\",\"A\")","v":"A"},{"$f":"IF(Attendance($C58,'Daily Register'!HG$3:HG$242)=TRUE,\"P\",\"A\")","v":"A"},{"$f":"IF(Attendance($C58,'Daily Register'!HH$3:HH$242)=TRUE,\"P\",\"A\")","v":"A"},{"$f":"IF(Attendance($C58,'Daily Register'!HI$3:HI$242)=TRUE,\"P\",\"A\")","v":"A"},{"$f":"IF(Attendance($C58,'Daily Register'!HJ$3:HJ$242)=TRUE,\"P\",\"A\")","v":"A"},{"$f":"IF(Attendance($C58,'Daily Register'!HK$3:HK$242)=TRUE,\"P\",\"A\")","v":"A"},{"$f":"IF(Attendance($C58,'Daily Register'!HL$3:HL$242)=TRUE,\"P\",\"A\")","v":"A"},{"$f":"IF(Attendance($C58,'Daily Register'!HM$3:HM$242)=TRUE,\"P\",\"A\")","v":"A"},{"$f":"IF(Attendance($C58,'Daily Register'!HN$3:HN$242)=TRUE,\"P\",\"A\")","v":"A"},{"$f":"IF(Attendance($C58,'Daily Register'!HO$3:HO$242)=TRUE,\"P\",\"A\")","v":"A"},{"$f":"IF(Attendance($C58,'Daily Register'!HP$3:HP$242)=TRUE,\"P\",\"A\")","v":"A"},{"$f":"IF(Attendance($C58,'Daily Register'!HQ$3:HQ$242)=TRUE,\"P\",\"A\")","v":"A"},{"$f":"IF(Attendance($C58,'Daily Register'!HR$3:HR$242)=TRUE,\"P\",\"A\")","v":"A"},{"$f":"IF(Attendance($C58,'Daily Register'!HS$3:HS$242)=TRUE,\"P\",\"A\")","v":"A"},{"$f":"IF(Attendance($C58,'Daily Register'!HT$3:HT$242)=TRUE,\"P\",\"A\")","v":"A"},{"$f":"IF(Attendance($C58,'Daily Register'!HU$3:HU$242)=TRUE,\"P\",\"A\")","v":"A"},{"$f":"IF(Attendance($C58,'Daily Register'!HV$3:HV$242)=TRUE,\"P\",\"A\")","v":"A"},{"$f":"IF(Attendance($C58,'Daily Register'!HW$3:HW$242)=TRUE,\"P\",\"A\")","v":"A"},{"$f":"IF(Attendance($C58,'Daily Register'!HX$3:HX$242)=TRUE,\"P\",\"A\")","v":"A"},{"$f":"IF(Attendance($C58,'Daily Register'!HY$3:HY$242)=TRUE,\"P\",\"A\")","v":"A"},{"$f":"IF(Attendance($C58,'Daily Register'!HZ$3:HZ$242)=TRUE,\"P\",\"A\")","v":"A"},{"$f":"IF(Attendance($C58,'Daily Register'!IA$3:IA$242)=TRUE,\"P\",\"A\")","v":"A"},{"$f":"IF(Attendance($C58,'Daily Register'!IB$3:IB$242)=TRUE,\"P\",\"A\")","v":"A"},{"$f":"IF(Attendance($C58,'Daily Register'!IC$3:IC$242)=TRUE,\"P\",\"A\")","v":"A"},{"$f":"IF(Attendance($C58,'Daily Register'!ID$3:ID$242)=TRUE,\"P\",\"A\")","v":"A"},{"$f":"IF(Attendance($C58,'Daily Register'!IE$3:IE$242)=TRUE,\"P\",\"A\")","v":"A"},{"$f":"IF(Attendance($C58,'Daily Register'!IF$3:IF$242)=TRUE,\"P\",\"A\")","v":"A"},{"$f":"IF(Attendance($C58,'Daily Register'!IG$3:IG$242)=TRUE,\"P\",\"A\")","v":"A"},{"$f":"IF(Attendance($C58,'Daily Register'!IH$3:IH$242)=TRUE,\"P\",\"A\")","v":"A"},{"$f":"IF(Attendance($C58,'Daily Register'!II$3:II$242)=TRUE,\"P\",\"A\")","v":"A"},{"$f":"IF(Attendance($C58,'Daily Register'!IJ$3:IJ$242)=TRUE,\"P\",\"A\")","v":"A"},{"$f":"IF(Attendance($C58,'Daily Register'!IK$3:IK$242)=TRUE,\"P\",\"A\")","v":"A"},{"$f":"IF(Attendance($C58,'Daily Register'!IL$3:IL$242)=TRUE,\"P\",\"A\")","v":"A"},{"$f":"IF(Attendance($C58,'Daily Register'!IM$3:IM$242)=TRUE,\"P\",\"A\")","v":"A"},{"$f":"IF(Attendance($C58,'Daily Register'!IN$3:IN$242)=TRUE,\"P\",\"A\")","v":"A"},{"$f":"IF(Attendance($C58,'Daily Register'!IO$3:IO$242)=TRUE,\"P\",\"A\")","v":"A"},{"$f":"IF(Attendance($C58,'Daily Register'!IP$3:IP$242)=TRUE,\"P\",\"A\")","v":"A"},{"$f":"IF(Attendance($C58,'Daily Register'!IQ$3:IQ$242)=TRUE,\"P\",\"A\")","v":"A"},{"$f":"IF(Attendance($C58,'Daily Register'!IR$3:IR$242)=TRUE,\"P\",\"A\")","v":"A"},{"$f":"IF(Attendance($C58,'Daily Register'!IS$3:IS$242)=TRUE,\"P\",\"A\")","v":"A"},{"$f":"IF(Attendance($C58,'Daily Register'!IT$3:IT$242)=TRUE,\"P\",\"A\")","v":"A"},{"$f":"IF(Attendance($C58,'Daily Register'!IU$3:IU$242)=TRUE,\"P\",\"A\")","v":"A"},{"$f":"IF(Attendance($C58,'Daily Register'!IV$3:IV$242)=TRUE,\"P\",\"A\")","v":"A"},{"$f":"IF(Attendance($C58,'Daily Register'!IW$3:IW$242)=TRUE,\"P\",\"A\")","v":"A"},{"$f":"IF(Attendance($C58,'Daily Register'!IX$3:IX$242)=TRUE,\"P\",\"A\")","v":"A"},{"$f":"IF(Attendance($C58,'Daily Register'!IY$3:IY$242)=TRUE,\"P\",\"A\")","v":"A"},{"$f":"IF(Attendance($C58,'Daily Register'!IZ$3:IZ$242)=TRUE,\"P\",\"A\")","v":"A"},{"$f":"IF(Attendance($C58,'Daily Register'!JA$3:JA$242)=TRUE,\"P\",\"A\")","v":"A"},{"$f":"IF(Attendance($C58,'Daily Register'!JB$3:JB$242)=TRUE,\"P\",\"A\")","v":"A"},{"$f":"IF(Attendance($C58,'Daily Register'!JC$3:JC$242)=TRUE,\"P\",\"A\")","v":"A"},{"$f":"IF(Attendance($C58,'Daily Register'!JD$3:JD$242)=TRUE,\"P\",\"A\")","v":"A"},{"$f":"IF(Attendance($C58,'Daily Register'!JE$3:JE$242)=TRUE,\"P\",\"A\")","v":"A"},{"$f":"IF(Attendance($C58,'Daily Register'!JF$3:JF$242)=TRUE,\"P\",\"A\")","v":"A"},{"$f":"IF(Attendance($C58,'Daily Register'!JG$3:JG$242)=TRUE,\"P\",\"A\")","v":"A"},{"$f":"IF(Attendance($C58,'Daily Register'!JH$3:JH$242)=TRUE,\"P\",\"A\")","v":"A"},{"$f":"IF(Attendance($C58,'Daily Register'!JI$3:JI$242)=TRUE,\"P\",\"A\")","v":"A"},{"$f":"IF(Attendance($C58,'Daily Register'!JJ$3:JJ$242)=TRUE,\"P\",\"A\")","v":"A"},{"$f":"IF(Attendance($C58,'Daily Register'!JK$3:JK$242)=TRUE,\"P\",\"A\")","v":"A"},{"$f":"IF(Attendance($C58,'Daily Register'!JL$3:JL$242)=TRUE,\"P\",\"A\")","v":"A"},{"$f":"IF(Attendance($C58,'Daily Register'!JM$3:JM$242)=TRUE,\"P\",\"A\")","v":"A"},{"$f":"IF(Attendance($C58,'Daily Register'!JN$3:JN$242)=TRUE,\"P\",\"A\")","v":"A"},{"$f":"IF(Attendance($C58,'Daily Register'!JO$3:JO$242)=TRUE,\"P\",\"A\")","v":"A"},{"$f":"IF(Attendance($C58,'Daily Register'!JP$3:JP$242)=TRUE,\"P\",\"A\")","v":"A"},{"$f":"IF(Attendance($C58,'Daily Register'!JQ$3:JQ$242)=TRUE,\"P\",\"A\")","v":"A"},{"$f":"IF(Attendance($C58,'Daily Register'!JR$3:JR$242)=TRUE,\"P\",\"A\")","v":"A"},{"$f":"IF(Attendance($C58,'Daily Register'!JS$3:JS$242)=TRUE,\"P\",\"A\")","v":"A"},{"$f":"IF(Attendance($C58,'Daily Register'!JT$3:JT$242)=TRUE,\"P\",\"A\")","v":"A"},{"$f":"IF(Attendance($C58,'Daily Register'!JU$3:JU$242)=TRUE,\"P\",\"A\")","v":"A"},{"$f":"IF(Attendance($C58,'Daily Register'!JV$3:JV$242)=TRUE,\"P\",\"A\")","v":"A"},{"$f":"IF(Attendance($C58,'Daily Register'!JW$3:JW$242)=TRUE,\"P\",\"A\")","v":"A"},{"$f":"IF(Attendance($C58,'Daily Register'!JX$3:JX$242)=TRUE,\"P\",\"A\")","v":"A"},{"$f":"IF(Attendance($C58,'Daily Register'!JY$3:JY$242)=TRUE,\"P\",\"A\")","v":"A"},{"$f":"IF(Attendance($C58,'Daily Register'!JZ$3:JZ$242)=TRUE,\"P\",\"A\")","v":"A"},{"$f":"IF(Attendance($C58,'Daily Register'!KA$3:KA$242)=TRUE,\"P\",\"A\")","v":"A"},{"$f":"IF(Attendance($C58,'Daily Register'!KB$3:KB$242)=TRUE,\"P\",\"A\")","v":"A"},{"$f":"IF(Attendance($C58,'Daily Register'!KC$3:KC$242)=TRUE,\"P\",\"A\")","v":"A"},{"$f":"IF(Attendance($C58,'Daily Register'!KD$3:KD$242)=TRUE,\"P\",\"A\")","v":"A"},{"$f":"IF(Attendance($C58,'Daily Register'!KE$3:KE$242)=TRUE,\"P\",\"A\")","v":"A"},{"$f":"IF(Attendance($C58,'Daily Register'!KF$3:KF$242)=TRUE,\"P\",\"A\")","v":"A"},{"$f":"IF(Attendance($C58,'Daily Register'!KG$3:KG$242)=TRUE,\"P\",\"A\")","v":"A"},{"$f":"IF(Attendance($C58,'Daily Register'!KH$3:KH$242)=TRUE,\"P\",\"A\")","v":"A"},{"$f":"IF(Attendance($C58,'Daily Register'!KI$3:KI$242)=TRUE,\"P\",\"A\")","v":"A"},{"$f":"IF(Attendance($C58,'Daily Register'!KJ$3:KJ$242)=TRUE,\"P\",\"A\")","v":"A"},{"$f":"IF(Attendance($C58,'Daily Register'!KK$3:KK$242)=TRUE,\"P\",\"A\")","v":"A"},{"$f":"IF(Attendance($C58,'Daily Register'!KL$3:KL$242)=TRUE,\"P\",\"A\")","v":"A"},{"$f":"IF(Attendance($C58,'Daily Register'!KM$3:KM$242)=TRUE,\"P\",\"A\")","v":"A"},{"$f":"IF(Attendance($C58,'Daily Register'!KN$3:KN$242)=TRUE,\"P\",\"A\")","v":"A"},{"$f":"IF(Attendance($C58,'Daily Register'!KO$3:KO$242)=TRUE,\"P\",\"A\")","v":"A"},{"$f":"IF(Attendance($C58,'Daily Register'!KP$3:KP$242)=TRUE,\"P\",\"A\")","v":"A"},{"$f":"IF(Attendance($C58,'Daily Register'!KQ$3:KQ$242)=TRUE,\"P\",\"A\")","v":"A"},{"$f":"IF(Attendance($C58,'Daily Register'!KR$3:KR$242)=TRUE,\"P\",\"A\")","v":"A"},{"$f":"IF(Attendance($C58,'Daily Register'!KS$3:KS$242)=TRUE,\"P\",\"A\")","v":"A"},{"$f":"IF(Attendance($C58,'Daily Register'!KT$3:KT$242)=TRUE,\"P\",\"A\")","v":"A"},{"$f":"IF(Attendance($C58,'Daily Register'!KU$3:KU$242)=TRUE,\"P\",\"A\")","v":"A"},{"$f":"IF(Attendance($C58,'Daily Register'!KV$3:KV$242)=TRUE,\"P\",\"A\")","v":"A"},{"$f":"IF(Attendance($C58,'Daily Register'!KW$3:KW$242)=TRUE,\"P\",\"A\")","v":"A"},{"$f":"IF(Attendance($C58,'Daily Register'!KX$3:KX$242)=TRUE,\"P\",\"A\")","v":"A"},{"$f":"IF(Attendance($C58,'Daily Register'!KY$3:KY$242)=TRUE,\"P\",\"A\")","v":"A"},{"$f":"IF(Attendance($C58,'Daily Register'!KZ$3:KZ$242)=TRUE,\"P\",\"A\")","v":"A"},{"$f":"IF(Attendance($C58,'Daily Register'!LA$3:LA$242)=TRUE,\"P\",\"A\")","v":"A"},{"$f":"IF(Attendance($C58,'Daily Register'!LB$3:LB$242)=TRUE,\"P\",\"A\")","v":"A"},{"$f":"IF(Attendance($C58,'Daily Register'!LC$3:LC$242)=TRUE,\"P\",\"A\")","v":"A"},{"$f":"IF(Attendance($C58,'Daily Register'!LD$3:LD$242)=TRUE,\"P\",\"A\")","v":"A"},{"$f":"IF(Attendance($C58,'Daily Register'!LE$3:LE$242)=TRUE,\"P\",\"A\")","v":"A"},{"$f":"IF(Attendance($C58,'Daily Register'!LF$3:LF$242)=TRUE,\"P\",\"A\")","v":"A"},{"$f":"IF(Attendance($C58,'Daily Register'!LG$3:LG$242)=TRUE,\"P\",\"A\")","v":"A"},{"$f":"IF(Attendance($C58,'Daily Register'!LH$3:LH$242)=TRUE,\"P\",\"A\")","v":"A"},{"$f":"IF(Attendance($C58,'Daily Register'!LI$3:LI$242)=TRUE,\"P\",\"A\")","v":"A"},{"$f":"IF(Attendance($C58,'Daily Register'!LJ$3:LJ$242)=TRUE,\"P\",\"A\")","v":"A"},{"$f":"IF(Attendance($C58,'Daily Register'!LK$3:LK$242)=TRUE,\"P\",\"A\")","v":"A"},{"$f":"IF(Attendance($C58,'Daily Register'!LL$3:LL$242)=TRUE,\"P\",\"A\")","v":"A"},{"$f":"IF(Attendance($C58,'Daily Register'!LM$3:LM$242)=TRUE,\"P\",\"A\")","v":"A"},{"$f":"IF(Attendance($C58,'Daily Register'!LN$3:LN$242)=TRUE,\"P\",\"A\")","v":"A"},{"$f":"IF(Attendance($C58,'Daily Register'!LO$3:LO$242)=TRUE,\"P\",\"A\")","v":"A"},{"$f":"IF(Attendance($C58,'Daily Register'!LP$3:LP$242)=TRUE,\"P\",\"A\")","v":"A"},{"$f":"IF(Attendance($C58,'Daily Register'!LQ$3:LQ$242)=TRUE,\"P\",\"A\")","v":"A"},{"$f":"IF(Attendance($C58,'Daily Register'!LR$3:LR$242)=TRUE,\"P\",\"A\")","v":"A"},{"$f":"IF(Attendance($C58,'Daily Register'!LS$3:LS$242)=TRUE,\"P\",\"A\")","v":"A"},{"$f":"IF(Attendance($C58,'Daily Register'!LT$3:LT$242)=TRUE,\"P\",\"A\")","v":"A"},{"$f":"IF(Attendance($C58,'Daily Register'!LU$3:LU$242)=TRUE,\"P\",\"A\")","v":"A"},{"$f":"IF(Attendance($C58,'Daily Register'!LV$3:LV$242)=TRUE,\"P\",\"A\")","v":"A"},{"$f":"IF(Attendance($C58,'Daily Register'!LW$3:LW$242)=TRUE,\"P\",\"A\")","v":"A"},{"$f":"IF(Attendance($C58,'Daily Register'!LX$3:LX$242)=TRUE,\"P\",\"A\")","v":"A"},{"$f":"IF(Attendance($C58,'Daily Register'!LY$3:LY$242)=TRUE,\"P\",\"A\")","v":"A"},{"$f":"IF(Attendance($C58,'Daily Register'!LZ$3:LZ$242)=TRUE,\"P\",\"A\")","v":"A"},{"$f":"IF(Attendance($C58,'Daily Register'!MA$3:MA$242)=TRUE,\"P\",\"A\")","v":"A"},{"$f":"IF(Attendance($C58,'Daily Register'!MB$3:MB$242)=TRUE,\"P\",\"A\")","v":"A"},{"$f":"IF(Attendance($C58,'Daily Register'!MC$3:MC$242)=TRUE,\"P\",\"A\")","v":"A"},{"$f":"IF(Attendance($C58,'Daily Register'!MD$3:MD$242)=TRUE,\"P\",\"A\")","v":"A"},{"$f":"IF(Attendance($C58,'Daily Register'!ME$3:ME$242)=TRUE,\"P\",\"A\")","v":"A"},{"$f":"IF(Attendance($C58,'Daily Register'!MF$3:MF$242)=TRUE,\"P\",\"A\")","v":"A"},{"$f":"IF(Attendance($C58,'Daily Register'!MG$3:MG$242)=TRUE,\"P\",\"A\")","v":"A"},{"$f":"IF(Attendance($C58,'Daily Register'!MH$3:MH$242)=TRUE,\"P\",\"A\")","v":"A"},{"$f":"IF(Attendance($C58,'Daily Register'!MI$3:MI$242)=TRUE,\"P\",\"A\")","v":"A"},{"$f":"IF(Attendance($C58,'Daily Register'!MJ$3:MJ$242)=TRUE,\"P\",\"A\")","v":"A"},{"$f":"IF(Attendance($C58,'Daily Register'!MK$3:MK$242)=TRUE,\"P\",\"A\")","v":"A"},{"$f":"IF(Attendance($C58,'Daily Register'!ML$3:ML$242)=TRUE,\"P\",\"A\")","v":"A"},{"$f":"IF(Attendance($C58,'Daily Register'!MM$3:MM$242)=TRUE,\"P\",\"A\")","v":"A"},{"$f":"IF(Attendance($C58,'Daily Register'!MN$3:MN$242)=TRUE,\"P\",\"A\")","v":"A"},{"$f":"IF(Attendance($C58,'Daily Register'!MO$3:MO$242)=TRUE,\"P\",\"A\")","v":"A"},{"$f":"IF(Attendance($C58,'Daily Register'!MP$3:MP$242)=TRUE,\"P\",\"A\")","v":"A"},{"$f":"IF(Attendance($C58,'Daily Register'!MQ$3:MQ$242)=TRUE,\"P\",\"A\")","v":"A"},{"$f":"IF(Attendance($C58,'Daily Register'!MR$3:MR$242)=TRUE,\"P\",\"A\")","v":"A"},{"$f":"IF(Attendance($C58,'Daily Register'!MS$3:MS$242)=TRUE,\"P\",\"A\")","v":"A"},{"$f":"IF(Attendance($C58,'Daily Register'!MT$3:MT$242)=TRUE,\"P\",\"A\")","v":"A"},{"$f":"IF(Attendance($C58,'Daily Register'!MU$3:MU$242)=TRUE,\"P\",\"A\")","v":"A"},{"$f":"IF(Attendance($C58,'Daily Register'!MV$3:MV$242)=TRUE,\"P\",\"A\")","v":"A"},{"$f":"IF(Attendance($C58,'Daily Register'!MW$3:MW$242)=TRUE,\"P\",\"A\")","v":"A"},{"$f":"IF(Attendance($C58,'Daily Register'!MX$3:MX$242)=TRUE,\"P\",\"A\")","v":"A"},{"$f":"IF(Attendance($C58,'Daily Register'!MY$3:MY$242)=TRUE,\"P\",\"A\")","v":"A"},{"$f":"IF(Attendance($C58,'Daily Register'!MZ$3:MZ$242)=TRUE,\"P\",\"A\")","v":"A"},{"$f":"IF(Attendance($C58,'Daily Register'!NA$3:NA$242)=TRUE,\"P\",\"A\")","v":"A"},{"$f":"IF(Attendance($C58,'Daily Register'!NB$3:NB$242)=TRUE,\"P\",\"A\")","v":"A"}]
[0,null,56,null,{"$f":"IF(Attendance($C59,'Daily Register'!A$3:A$242)=TRUE,\"P\",\"A\")","v":"A"},{"$f":"IF(Attendance($C59,'Daily Register'!B$3:B$242)=TRUE,\"P\",\"A\")","v":"A"},{"$f":"IF(Attendance($C59,'Daily Register'!C$3:C$242)=TRUE,\"P\",\"A\")","v":"A"},{"$f":"IF(Attendance($C59,'Daily Register'!D$3:D$242)=TRUE,\"P\",\"A\")","v":"A"},{"$f":"IF(Attendance($C59,'Daily Register'!E$3:E$242)=TRUE,\"P\",\"A\")","v":"A"},{"$f":"IF(Attendance($C59,'Daily Register'!F$3:F$242)=TRUE,\"P\",\"A\")","v":"A"},{"$f":"IF(Attendance($C59,'Daily Register'!G$3:G$242)=TRUE,\"P\",\"A\")","v":"A"},{"$f":"IF(Attendance($C59,'Daily Register'!H$3:H$242)=TRUE,\"P\",\"A\")","v":"A"},{"$f":"IF(Attendance($C59,'Daily Register'!I$3:I$242)=TRUE,\"P\",\"A\")","v":"A"},{"$f":"IF(Attendance($C59,'Daily Register'!J$3:J$242)=TRUE,\"P\",\"A\")","v":"A"},{"$f":"IF(Attendance($C59,'Daily Register'!K$3:K$242)=TRUE,\"P\",\"A\")","v":"A"},{"$f":"IF(Attendance($C59,'Daily Register'!L$3:L$242)=TRUE,\"P\",\"A\")","v":"A"},{"$f":"IF(Attendance($C59,'Daily Register'!M$3:M$242)=TRUE,\"P\",\"A\")","v":"A"},{"$f":"IF(Attendance($C59,'Daily Register'!N$3:N$242)=TRUE,\"P\",\"A\")","v":"A"},{"$f":"IF(Attendance($C59,'Daily Register'!O$3:O$242)=TRUE,\"P\",\"A\")","v":"A"},{"$f":"IF(Attendance($C59,'Daily Register'!P$3:P$242)=TRUE,\"P\",\"A\")","v":"A"},{"$f":"IF(Attendance($C59,'Daily Register'!Q$3:Q$242)=TRUE,\"P\",\"A\")","v":"A"},{"$f":"IF(Attendance($C59,'Daily Register'!R$3:R$242)=TRUE,\"P\",\"A\")","v":"A"},{"$f":"IF(Attendance($C59,'Daily Register'!S$3:S$242)=TRUE,\"P\",\"A\")","v":"A"},{"$f":"IF(Attendance($C59,'Daily Register'!T$3:T$242)=TRUE,\"P\",\"A\")","v":"A"},{"$f":"IF(Attendance($C59,'Daily Register'!U$3:U$242)=TRUE,\"P\",\"A\")","v":"A"},{"$f":"IF(Attendance($C59,'Daily Register'!V$3:V$242)=TRUE,\"P\",\"A\")","v":"A"},{"$f":"IF(Attendance($C59,'Daily Register'!W$3:W$242)=TRUE,\"P\",\"A\")","v":"A"},{"$f":"IF(Attendance($C59,'Daily Register'!X$3:X$242)=TRUE,\"P\",\"A\")","v":"A"},{"$f":"IF(Attendance($C59,'Daily Register'!Y$3:Y$242)=TRUE,\"P\",\"A\")","v":"A"},{"$f":"IF(Attendance($C59,'Daily Register'!Z$3:Z$242)=TRUE,\"P\",\"A\")","v":"A"},{"$f":"IF(Attendance($C59,'Daily Register'!AA$3:AA$242)=TRUE,\"P\",\"A\")","v":"A"},{"$f":"IF(Attendance($C59,'Daily Register'!AB$3:AB$242)=TRUE,\"P\",\"A\")","v":"A"},{"$f":"IF(Attendance($C59,'Daily Register'!AC$3:AC$242)=TRUE,\"P\",\"A\")","v":"A"},{"$f":"IF(Attendance($C59,'Daily Register'!AD$3:AD$242)=TRUE,\"P\",\"A\")","v":"A"},{"$f":"IF(Attendance($C59,'Daily Register'!AE$3:AE$242)=TRUE,\"P\",\"A\")","v":"A"},{"$f":"IF(Attendance($C59,'Daily Register'!AF$3:AF$242)=TRUE,\"P\",\"A\")","v":"A"},{"$f":"IF(Attendance($C59,'Daily Register'!AG$3:AG$242)=TRUE,\"P\",\"A\")","v":"A"},{"$f":"IF(Attendance($C59,'Daily Register'!AH$3:AH$242)=TRUE,\"P\",\"A\")","v":"A"},{"$f":"IF(Attendance($C59,'Daily Register'!AI$3:AI$242)=TRUE,\"P\",\"A\")","v":"A"},{"$f":"IF(Attendance($C59,'Daily Register'!AJ$3:AJ$242)=TRUE,\"P\",\"A\")","v":"A"},{"$f":"IF(Attendance($C59,'Daily Register'!AK$3:AK$242)=TRUE,\"P\",\"A\")","v":"A"},{"$f":"IF(Attendance($C59,'Daily Register'!AL$3:AL$242)=TRUE,\"P\",\"A\")","v":"A"},{"$f":"IF(Attendance($C59,'Daily Register'!AM$3:AM$242)=TRUE,\"P\",\"A\")","v":"A"},{"$f":"IF(Attendance($C59,'Daily Register'!AN$3:AN$242)=TRUE,\"P\",\"A\")","v":"A"},{"$f":"IF(Attendance($C59,'Daily Register'!AO$3:AO$242)=TRUE,\"P\",\"A\")","v":"A"},{"$f":"IF(Attendance($C59,'Daily Register'!AP$3:AP$242)=TRUE,\"P\",\"A\")","v":"A"},{"$f":"IF(Attendance($C59,'Daily Register'!AQ$3:AQ$242)=TRUE,\"P\",\"A\")","v":"A"},{"$f":"IF(Attendance($C59,'Daily Register'!AR$3:AR$242)=TRUE,\"P\",\"A\")","v":"A"},{"$f":"IF(Attendance($C59,'Daily Register'!AS$3:AS$242)=TRUE,\"P\",\"A\")","v":"A"},{"$f":"IF(Attendance($C59,'Daily Register'!AT$3:AT$242)=TRUE,\"P\",\"A\")","v":"A"},{"$f":"IF(Attendance($C59,'Daily Register'!AU$3:AU$242)=TRUE,\"P\",\"A\")","v":"A"},{"$f":"IF(Attendance($C59,'Daily Register'!AV$3:AV$242)=TRUE,\"P\",\"A\")","v":"A"},{"$f":"IF(Attendance($C59,'Daily Register'!AW$3:AW$242)=TRUE,\"P\",\"A\")","v":"A"},{"$f":"IF(Attendance($C59,'Daily Register'!AX$3:AX$242)=TRUE,\"P\",\"A\")","v":"A"},{"$f":"IF(Attendance($C59,'Daily Register'!AY$3:AY$242)=TRUE,\"P\",\"A\")","v":"A"},{"$f":"IF(Attendance($C59,'Daily Register'!AZ$3:AZ$242)=TRUE,\"P\",\"A\")","v":"A"},{"$f":"IF(Attendance($C59,'Daily Register'!BA$3:BA$242)=TRUE,\"P\",\"A\")","v":"A"},{"$f":"IF(Attendance($C59,'Daily Register'!BB$3:BB$242)=TRUE,\"P\",\"A\")","v":"A"},{"$f":"IF(Attendance($C59,'Daily Register'!BC$3:BC$242)=TRUE,\"P\",\"A\")","v":"A"},{"$f":"IF(Attendance($C59,'Daily Register'!BD$3:BD$242)=TRUE,\"P\",\"A\")","v":"A"},{"$f":"IF(Attendance($C59,'Daily Register'!BE$3:BE$242)=TRUE,\"P\",\"A\")","v":"A"},{"$f":"IF(Attendance($C59,'Daily Register'!BF$3:BF$242)=TRUE,\"P\",\"A\")","v":"A"},{"$f":"IF(Attendance($C59,'Daily Register'!BG$3:BG$242)=TRUE,\"P\",\"A\")","v":"A"},{"$f":"IF(Attendance($C59,'Daily Register'!BH$3:BH$242)=TRUE,\"P\",\"A\")","v":"A"},{"$f":"IF(Attendance($C59,'Daily Register'!BI$3:BI$242)=TRUE,\"P\",\"A\")","v":"A"},{"$f":"IF(Attendance($C59,'Daily Register'!BJ$3:BJ$242)=TRUE,\"P\",\"A\")","v":"A"},{"$f":"IF(Attendance($C59,'Daily Register'!BK$3:BK$242)=TRUE,\"P\",\"A\")","v":"A"},{"$f":"IF(Attendance($C59,'Daily Register'!BL$3:BL$242)=TRUE,\"P\",\"A\")","v":"A"},{"$f":"IF(Attendance($C59,'Daily Register'!BM$3:BM$242)=TRUE,\"P\",\"A\")","v":"A"},{"$f":"IF(Attendance($C59,'Daily Register'!BN$3:BN$242)=TRUE,\"P\",\"A\")","v":"A"},{"$f":"IF(Attendance($C59,'Daily Register'!BO$3:BO$242)=TRUE,\"P\",\"A\")","v":"A"},{"$f":"IF(Attendance($C59,'Daily Register'!BP$3:BP$242)=TRUE,\"P\",\"A\")","v":"A"},{"$f":"IF(Attendance($C59,'Daily Register'!BQ$3:BQ$242)=TRUE,\"P\",\"A\")","v":"A"},{"$f":"IF(Attendance($C59,'Daily Register'!BR$3:BR$242)=TRUE,\"P\",\"A\")","v":"A"},{"$f":"IF(Attendance($C59,'Daily Register'!BS$3:BS$242)=TRUE,\"P\",\"A\")","v":"A"},{"$f":"IF(Attendance($C59,'Daily Register'!BT$3:BT$242)=TRUE,\"P\",\"A\")","v":"A"},{"$f":"IF(Attendance($C59,'Daily Register'!BU$3:BU$242)=TRUE,\"P\",\"A\")","v":"A"},{"$f":"IF(Attendance($C59,'Daily Register'!BV$3:BV$242)=TRUE,\"P\",\"A\")","v":"A"},{"$f":"IF(Attendance($C59,'Daily Register'!BW$3:BW$242)=TRUE,\"P\",\"A\")","v":"A"},{"$f":"IF(Attendance($C59,'Daily Register'!BX$3:BX$242)=TRUE,\"P\",\"A\")","v":"A"},{"$f":"IF(Attendance($C59,'Daily Register'!BY$3:BY$242)=TRUE,\"P\",\"A\")","v":"A"},{"$f":"IF(Attendance($C59,'Daily Register'!BZ$3:BZ$242)=TRUE,\"P\",\"A\")","v":"A"},{"$f":"IF(Attendance($C59,'Daily Register'!CA$3:CA$242)=TRUE,\"P\",\"A\")","v":"A"},{"$f":"IF(Attendance($C59,'Daily Register'!CB$3:CB$242)=TRUE,\"P\",\"A\")","v":"A"},{"$f":"IF(Attendance($C59,'Daily Register'!CC$3:CC$242)=TRUE,\"P\",\"A\")","v":"A"},{"$f":"IF(Attendance($C59,'Daily Register'!CD$3:CD$242)=TRUE,\"P\",\"A\")","v":"A"},{"$f":"IF(Attendance($C59,'Daily Register'!CE$3:CE$242)=TRUE,\"P\",\"A\")","v":"A"},{"$f":"IF(Attendance($C59,'Daily Register'!CF$3:CF$242)=TRUE,\"P\",\"A\")","v":"A"},{"$f":"IF(Attendance($C59,'Daily Register'!CG$3:CG$242)=TRUE,\"P\",\"A\")","v":"A"},{"$f":"IF(Attendance($C59,'Daily Register'!CH$3:CH$242)=TRUE,\"P\",\"A\")","v":"A"},{"$f":"IF(Attendance($C59,'Daily Register'!CI$3:CI$242)=TRUE,\"P\",\"A\")","v":"A"},{"$f":"IF(Attendance($C59,'Daily Register'!CJ$3:CJ$242)=TRUE,\"P\",\"A\")","v":"A"},{"$f":"IF(Attendance($C59,'Daily Register'!CK$3:CK$242)=TRUE,\"P\",\"A\")","v":"A"},{"$f":"IF(Attendance($C59,'Daily Register'!CL$3:CL$242)=TRUE,\"P\",\"A\")","v":"A"},{"$f":"IF(Attendance($C59,'Daily Register'!CM$3:CM$242)=TRUE,\"P\",\"A\")","v":"A"},{"$f":"IF(Attendance($C59,'Daily Register'!CN$3:CN$242)=TRUE,\"P\",\"A\")","v":"A"},{"$f":"IF(Attendance($C59,'Daily Register'!CO$3:CO$242)=TRUE,\"P\",\"A\")","v":"A"},{"$f":"IF(Attendance($C59,'Daily Register'!CP$3:CP$242)=TRUE,\"P\",\"A\")","v":"A"},{"$f":"IF(Attendance($C59,'Daily Register'!CQ$3:CQ$242)=TRUE,\"P\",\"A\")","v":"A"},{"$f":"IF(Attendance($C59,'Daily Register'!CR$3:CR$242)=TRUE,\"P\",\"A\")","v":"A"},{"$f":"IF(Attendance($C59,'Daily Register'!CS$3:CS$242)=TRUE,\"P\",\"A\")","v":"A"},{"$f":"IF(Attendance($C59,'Daily Register'!CT$3:CT$242)=TRUE,\"P\",\"A\")","v":"A"},{"$f":"IF(Attendance($C59,'Daily Register'!CU$3:CU$242)=TRUE,\"P\",\"A\")","v":"A"},{"$f":"IF(Attendance($C59,'Daily Register'!CV$3:CV$242)=TRUE,\"P\",\"A\")","v":"A"},{"$f":"IF(Attendance($C59,'Daily Register'!CW$3:CW$242)=TRUE,\"P\",\"A\")","v":"A"},{"$f":"IF(Attendance($C59,'Daily Register'!CX$3:CX$242)=TRUE,\"P\",\"A\")","v":"A"},{"$f":"IF(Attendance($C59,'Daily Register'!CY$3:CY$242)=TRUE,\"P\",\"A\")","v":"A"},{"$f":"IF(Attendance($C59,'Daily Register'!CZ$3:CZ$242)=TRUE,\"P\",\"A\")","v":"A"},{"$f":"IF(Attendance($C59,'Daily Register'!DA$3:DA$242)=TRUE,\"P\",\"A\")","v":"A"},{"$f":"IF(Attendance($C59,'Daily Register'!DB$3:DB$242)=TRUE,\"P\",\"A\")","v":"A"},{"$f":"IF(Attendance($C59,'Daily Register'!DC$3:DC$242)=TRUE,\"P\",\"A\")","v":"A"},{"$f":"IF(Attendance($C59,'Daily Register'!DD$3:DD$242)=TRUE,\"P\",\"A\")","v":"A"},{"$f":"IF(Attendance($C59,'Daily Register'!DE$3:DE$242)=TRUE,\"P\",\"A\")","v":"A"},{"$f":"IF(Attendance($C59,'Daily Register'!DF$3:DF$242)=TRUE,\"P\",\"A\")","v":"A"},{"$f":"IF(Attendance($C59,'Daily Register'!DG$3:DG$242)=TRUE,\"P\",\"A\")","v":"A"},{"$f":"IF(Attendance($C59,'Daily Register'!DH$3:DH$242)=TRUE,\"P\",\"A\")","v":"A"},{"$f":"IF(Attendance($C59,'Daily Register'!DI$3:DI$242)=TRUE,\"P\",\"A\")","v":"A"},{"$f":"IF(Attendance($C59,'Daily Register'!DJ$3:DJ$242)=TRUE,\"P\",\"A\")","v":"A"},{"$f":"IF(Attendance($C59,'Daily Register'!DK$3:DK$242)=TRUE,\"P\",\"A\")","v":"A"},{"$f":"IF(Attendance($C59,'Daily Register'!DL$3:DL$242)=TRUE,\"P\",\"A\")","v":"A"},{"$f":"IF(Attendance($C59,'Daily Register'!DM$3:DM$242)=TRUE,\"P\",\"A\")","v":"A"},{"$f":"IF(Attendance($C59,'Daily Register'!DN$3:DN$242)=TRUE,\"P\",\"A\")","v":"A"},{"$f":"IF(Attendance($C59,'Daily Register'!DO$3:DO$242)=TRUE,\"P\",\"A\")","v":"A"},{"$f":"IF(Attendance($C59,'Daily Register'!DP$3:DP$242)=TRUE,\"P\",\"A\")","v":"A"},{"$f":"IF(Attendance($C59,'Daily Register'!DQ$3:DQ$242)=TRUE,\"P\",\"A\")","v":"A"},{"$f":"IF(Attendance($C59,'Daily Register'!DR$3:DR$242)=TRUE,\"P\",\"A\")","v":"A"},{"$f":"IF(Attendance($C59,'Daily Register'!DS$3:DS$242)=TRUE,\"P\",\"A\")","v":"A"},{"$f":"IF(Attendance($C59,'Daily Register'!DT$3:DT$242)=TRUE,\"P\",\"A\")","v":"A"},{"$f":"IF(Attendance($C59,'Daily Register'!DU$3:DU$242)=TRUE,\"P\",\"A\")","v":"A"},{"$f":"IF(Attendance($C59,'Daily Register'!DV$3:DV$242)=TRUE,\"P\",\"A\")","v":"A"},{"$f":"IF(Attendance($C59,'Daily Register'!DW$3:DW$242)=TRUE,\"P\",\"A\")","v":"A"},{"$f":"IF(Attendance($C59,'Daily Register'!DX$3:DX$242)=TRUE,\"P\",\"A\")","v":"A"},{"$f":"IF(Attendance($C59,'Daily Register'!DY$3:DY$242)=TRUE,\"P\",\"A\")","v":"A"},{"$f":"IF(Attendance($C59,'Daily Register'!DZ$3:DZ$242)=TRUE,\"P\",\"A\")","v":"A"},{"$f":"IF(Attendance($C59,'Daily Register'!EA$3:EA$242)=TRUE,\"P\",\"A\")","v":"A"},{"$f":"IF(Attendance($C59,'Daily Register'!EB$3:EB$242)=TRUE,\"P\",\"A\")","v":"A"},{"$f":"IF(Attendance($C59,'Daily Register'!EC$3:EC$242)=TRUE,\"P\",\"A\")","v":"A"},{"$f":"IF(Attendance($C59,'Daily Register'!ED$3:ED$242)=TRUE,\"P\",\"A\")","v":"A"},{"$f":"IF(Attendance($C59,'Daily Register'!EE$3:EE$242)=TRUE,\"P\",\"A\")","v":"A"},{"$f":"IF(Attendance($C59,'Daily Register'!EF$3:EF$242)=TRUE,\"P\",\"A\")","v":"A"},{"$f":"IF(Attendance($C59,'Daily Register'!EG$3:EG$242)=TRUE,\"P\",\"A\")","v":"A"},{"$f":"IF(Attendance($C59,'Daily Register'!EH$3:EH$242)=TRUE,\"P\",\"A\")","v":"A"},{"$f":"IF(Attendance($C59,'Daily Register'!EI$3:EI$242)=TRUE,\"P\",\"A\")","v":"A"},{"$f":"IF(Attendance($C59,'Daily Register'!EJ$3:EJ$242)=TRUE,\"P\",\"A\")","v":"A"},{"$f":"IF(Attendance($C59,'Daily Register'!EK$3:EK$242)=TRUE,\"P\",\"A\")","v":"A"},{"$f":"IF(Attendance($C59,'Daily Register'!EL$3:EL$242)=TRUE,\"P\",\"A\")","v":"A"},{"$f":"IF(Attendance($C59,'Daily Register'!EM$22:EM$242)=TRUE,\"P\",\"A\")","v":"A"},{"$f":"IF(Attendance($C59,'Daily Register'!EN$3:EN$242)=TRUE,\"P\",\"A\")","v":"A"},{"$f":"IF(Attendance($C59,'Daily Register'!EO$3:EO$242)=TRUE,\"P\",\"A\")","v":"A"},{"$f":"IF(Attendance($C59,'Daily Register'!EP$3:EP$242)=TRUE,\"P\",\"A\")","v":"A"},{"$f":"IF(Attendance($C59,'Daily Register'!EQ$3:EQ$242)=TRUE,\"P\",\"A\")","v":"A"},{"$f":"IF(Attendance($C59,'Daily Register'!ER$3:ER$242)=TRUE,\"P\",\"A\")","v":"A"},{"$f":"IF(Attendance($C59,'Daily Register'!ES$3:ES$242)=TRUE,\"P\",\"A\")","v":"A"},{"$f":"IF(Attendance($C59,'Daily Register'!ET$3:ET$242)=TRUE,\"P\",\"A\")","v":"A"},{"$f":"IF(Attendance($C59,'Daily Register'!EU$3:EU$242)=TRUE,\"P\",\"A\")","v":"A"},{"$f":"IF(Attendance($C59,'Daily Register'!EV$3:EV$242)=TRUE,\"P\",\"A\")","v":"A"},{"$f":"IF(Attendance($C59,'Daily Register'!EW$3:EW$242)=TRUE,\"P\",\"A\")","v":"A"},{"$f":"IF(Attendance($C59,'Daily Register'!EX$3:EX$242)=TRUE,\"P\",\"A\")","v":"A"},{"$f":"IF(Attendance($C59,'Daily Register'!EY$3:EY$242)=TRUE,\"P\",\"A\")","v":"A"},{"$f":"IF(Attendance($C59,'Daily Register'!EZ$3:EZ$242)=TRUE,\"P\",\"A\")","v":"A"},{"$f":"IF(Attendance($C59,'Daily Register'!FA$3:FA$242)=TRUE,\"P\",\"A\")","v":"A"},{"$f":"IF(Attendance($C59,'Daily Register'!FB$3:FB$242)=TRUE,\"P\",\"A\")","v":"A"},{"$f":"IF(Attendance($C59,'Daily Register'!FC$3:FC$242)=TRUE,\"P\",\"A\")","v":"A"},{"$f":"IF(Attendance($C59,'Daily Register'!FD$3:FD$242)=TRUE,\"P\",\"A\")","v":"A"},{"$f":"IF(Attendance($C59,'Daily Register'!FE$3:FE$242)=TRUE,\"P\",\"A\")","v":"A"},{"$f":"IF(Attendance($C59,'Daily Register'!FF$3:FF$242)=TRUE,\"P\",\"A\")","v":"A"},{"$f":"IF(Attendance($C59,'Daily Register'!FG$3:FG$242)=TRUE,\"P\",\"A\")","v":"A"},{"$f":"IF(Attendance($C59,'Daily Register'!FH$3:FH$242)=TRUE,\"P\",\"A\")","v":"A"},{"$f":"IF(Attendance($C59,'Daily Register'!FI$3:FI$242)=TRUE,\"P\",\"A\")","v":"A"},{"$f":"IF(Attendance($C59,'Daily Register'!FJ$3:FJ$242)=TRUE,\"P\",\"A\")","v":"A"},{"$f":"IF(Attendance($C59,'Daily Register'!FK$3:FK$242)=TRUE,\"P\",\"A\")","v":"A"},{"$f":"IF(Attendance($C59,'Daily Register'!FL$3:FL$242)=TRUE,\"P\",\"A\")","v":"A"},{"$f":"IF(Attendance($C59,'Daily Register'!FM$3:FM$242)=TRUE,\"P\",\"A\")","v":"A"},{"$f":"IF(Attendance($C59,'Daily Register'!FN$3:FN$242)=TRUE,\"P\",\"A\")","v":"A"},{"$f":"IF(Attendance($C59,'Daily Register'!FO$3:FO$242)=TRUE,\"P\",\"A\")","v":"A"},{"$f":"IF(Attendance($C59,'Daily Register'!FP$3:FP$242)=TRUE,\"P\",\"A\")","v":"A"},{"$f":"IF(Attendance($C59,'Daily Register'!FQ$3:FQ$242)=TRUE,\"P\",\"A\")","v":"A"},{"$f":"IF(Attendance($C59,'Daily Register'!FR$3:FR$242)=TRUE,\"P\",\"A\")","v":"A"},{"$f":"IF(Attendance($C59,'Daily Register'!FS$3:FS$242)=TRUE,\"P\",\"A\")","v":"A"},{"$f":"IF(Attendance($C59,'Daily Register'!FT$3:FT$242)=TRUE,\"P\",\"A\")","v":"A"},{"$f":"IF(Attendance($C59,'Daily Register'!FU$3:FU$242)=TRUE,\"P\",\"A\")","v":"A"},{"$f":"IF(Attendance($C59,'Daily Register'!FV$3:FV$242)=TRUE,\"P\",\"A\")","v":"A"},{"$f":"IF(Attendance($C59,'Daily Register'!FW$3:FW$242)=TRUE,\"P\",\"A\")","v":"A"},{"$f":"IF(Attendance($C59,'Daily Register'!FX$3:FX$242)=TRUE,\"P\",\"A\")","v":"A"},{"$f":"IF(Attendance($C59,'Daily Register'!FY$3:FY$242)=TRUE,\"P\",\"A\")","v":"A"},{"$f":"IF(Attendance($C59,'Daily Register'!FZ$3:FZ$242)=TRUE,\"P\",\"A\")","v":"A"},{"$f":"IF(Attendance($C59,'Daily Register'!GA$3:GA$242)=TRUE,\"P\",\"A\")","v":"A"},{"$f":"IF(Attendance($C59,'Daily Register'!GB$3:GB$242)=TRUE,\"P\",\"A\")","v":"A"},{"$f":"IF(Attendance($C59,'Daily Register'!GC$3:GC$242)=TRUE,\"P\",\"A\")","v":"A"},{"$f":"IF(Attendance($C59,'Daily Register'!GD$3:GD$242)=TRUE,\"P\",\"A\")","v":"A"},{"$f":"IF(Attendance($C59,'Daily Register'!GE$3:GE$242)=TRUE,\"P\",\"A\")","v":"A"},{"$f":"IF(Attendance($C59,'Daily Register'!GF$3:GF$242)=TRUE,\"P\",\"A\")","v":"A"},{"$f":"IF(Attendance($C59,'Daily Register'!GG$3:GG$242)=TRUE,\"P\",\"A\")","v":"A"},{"$f":"IF(Attendance($C59,'Daily Register'!GH$3:GH$242)=TRUE,\"P\",\"A\")","v":"A"},{"$f":"IF(Attendance($C59,'Daily Register'!GI$3:GI$242)=TRUE,\"P\",\"A\")","v":"A"},{"$f":"IF(Attendance($C59,'Daily Register'!GJ$3:GJ$242)=TRUE,\"P\",\"A\")","v":"A"},{"$f":"IF(Attendance($C59,'Daily Register'!GK$3:GK$242)=TRUE,\"P\",\"A\")","v":"A"},{"$f":"IF(Attendance($C59,'Daily Register'!GL$3:GL$242)=TRUE,\"P\",\"A\")","v":"A"},{"$f":"IF(Attendance($C59,'Daily Register'!GM$3:GM$242)=TRUE,\"P\",\"A\")","v":"A"},{"$f":"IF(Attendance($C59,'Daily Register'!GN$3:GN$242)=TRUE,\"P\",\"A\")","v":"A"},{"$f":"IF(Attendance($C59,'Daily Register'!GO$3:GO$242)=TRUE,\"P\",\"A\")","v":"A"},{"$f":"IF(Attendance($C59,'Daily Register'!GP$3:GP$242)=TRUE,\"P\",\"A\")","v":"A"},{"$f":"IF(Attendance($C59,'Daily Register'!GQ$3:GQ$242)=TRUE,\"P\",\"A\")","v":"A"},{"$f":"IF(Attendance($C59,'Daily Register'!GR$3:GR$242)=TRUE,\"P\",\"A\")","v":"A"},{"$f":"IF(Attendance($C59,'Daily Register'!GS$3:GS$242)=TRUE,\"P\",\"A\")","v":"A"},{"$f":"IF(Attendance($C59,'Daily Register'!GT$3:GT$242)=TRUE,\"P\",\"A\")","v":"A"},{"$f":"IF(Attendance($C59,'Daily Register'!GU$3:GU$242)=TRUE,\"P\",\"A\")","v":"A"},{"$f":"IF(Attendance($C59,'Daily Register'!GV$3:GV$242)=TRUE,\"P\",\"A\")","v":"A"},{"$f":"IF(Attendance($C59,'Daily Register'!GW$3:GW$242)=TRUE,\"P\",\"A\")","v":"A"},{"$f":"IF(Attendance($C59,'Daily Register'!GX$3:GX$242)=TRUE,\"P\",\"A\")","v":"A"},{"$f":"IF(Attendance($C59,'Daily Register'!GY$3:GY$242)=TRUE,\"P\",\"A\")","v":"A"},{"$f":"IF(Attendance($C59,'Daily Register'!GZ$3:GZ$242)=TRUE,\"P\",\"A\")","v":"A"},{"$f":"IF(Attendance($C59,'Daily Register'!HA$3:HA$242)=TRUE,\"P\",\"A\")","v":"A"},{"$f":"IF(Attendance($C59,'Daily Register'!HB$3:HB$242)=TRUE,\"P\",\"A\")","v":"A"},{"$f":"IF(Attendance($C59,'Daily Register'!HC$3:HC$242)=TRUE,\"P\",\"A\")","v":"A"},{"$f":"IF(Attendance($C59,'Daily Register'!HD$3:HD$242)=TRUE,\"P\",\"A\")","v":"A"},{"$f":"IF(Attendance($C59,'Daily Register'!HE$3:HE$242)=TRUE,\"P\",\"A\")","v":"A"},{"$f":"IF(Attendance($C59,'Daily Register'!HF$3:HF$242)=TRUE,\"P\",\"A\")","v":"A"},{"$f":"IF(Attendance($C59,'Daily Register'!HG$3:HG$242)=TRUE,\"P\",\"A\")","v":"A"},{"$f":"IF(Attendance($C59,'Daily Register'!HH$3:HH$242)=TRUE,\"P\",\"A\")","v":"A"},{"$f":"IF(Attendance($C59,'Daily Register'!HI$3:HI$242)=TRUE,\"P\",\"A\")","v":"A"},{"$f":"IF(Attendance($C59,'Daily Register'!HJ$3:HJ$242)=TRUE,\"P\",\"A\")","v":"A"},{"$f":"IF(Attendance($C59,'Daily Register'!HK$3:HK$242)=TRUE,\"P\",\"A\")","v":"A"},{"$f":"IF(Attendance($C59,'Daily Register'!HL$3:HL$242)=TRUE,\"P\",\"A\")","v":"A"},{"$f":"IF(Attendance($C59,'Daily Register'!HM$3:HM$242)=TRUE,\"P\",\"A\")","v":"A"},{"$f":"IF(Attendance($C59,'Daily Register'!HN$3:HN$242)=TRUE,\"P\",\"A\")","v":"A"},{"$f":"IF(Attendance($C59,'Daily Register'!HO$3:HO$242)=TRUE,\"P\",\"A\")","v":"A"},{"$f":"IF(Attendance($C59,'Daily Register'!HP$3:HP$242)=TRUE,\"P\",\"A\")","v":"A"},{"$f":"IF(Attendance($C59,'Daily Register'!HQ$3:HQ$242)=TRUE,\"P\",\"A\")","v":"A"},{"$f":"IF(Attendance($C59,'Daily Register'!HR$3:HR$242)=TRUE,\"P\",\"A\")","v":"A"},{"$f":"IF(Attendance($C59,'Daily Register'!HS$3:HS$242)=TRUE,\"P\",\"A\")","v":"A"},{"$f":"IF(Attendance($C59,'Daily Register'!HT$3:HT$242)=TRUE,\"P\",\"A\")","v":"A"},{"$f":"IF(Attendance($C59,'Daily Register'!HU$3:HU$242)=TRUE,\"P\",\"A\")","v":"A"},{"$f":"IF(Attendance($C59,'Daily Register'!HV$3:HV$242)=TRUE,\"P\",\"A\")","v":"A"},{"$f":"IF(Attendance($C59,'Daily Register'!HW$3:HW$242)=TRUE,\"P\",\"A\")","v":"A"},{"$f":"IF(Attendance($C59,'Daily Register'!HX$3:HX$242)=TRUE,\"P\",\"A\")","v":"A"},{"$f":"IF(Attendance($C59,'Daily Register'!HY$3:HY$242)=TRUE,\"P\",\"A\")","v":"A"},{"$f":"IF(Attendance($C59,'Daily Register'!HZ$3:HZ$242)=TRUE,\"P\",\"A\")","v":"A"},{"$f":"IF(Attendance($C59,'Daily Register'!IA$3:IA$242)=TRUE,\"P\",\"A\")","v":"A"},{"$f":"IF(Attendance($C59,'Daily Register'!IB$3:IB$242)=TRUE,\"P\",\"A\")","v":"A"},{"$f":"IF(Attendance($C59,'Daily Register'!IC$3:IC$242)=TRUE,\"P\",\"A\")","v":"A"},{"$f":"IF(Attendance($C59,'Daily Register'!ID$3:ID$242)=TRUE,\"P\",\"A\")","v":"A"},{"$f":"IF(Attendance($C59,'Daily Register'!IE$3:IE$242)=TRUE,\"P\",\"A\")","v":"A"},{"$f":"IF(Attendance($C59,'Daily Register'!IF$3:IF$242)=TRUE,\"P\",\"A\")","v":"A"},{"$f":"IF(Attendance($C59,'Daily Register'!IG$3:IG$242)=TRUE,\"P\",\"A\")","v":"A"},{"$f":"IF(Attendance($C59,'Daily Register'!IH$3:IH$242)=TRUE,\"P\",\"A\")","v":"A"},{"$f":"IF(Attendance($C59,'Daily Register'!II$3:II$242)=TRUE,\"P\",\"A\")","v":"A"},{"$f":"IF(Attendance($C59,'Daily Register'!IJ$3:IJ$242)=TRUE,\"P\",\"A\")","v":"A"},{"$f":"IF(Attendance($C59,'Daily Register'!IK$3:IK$242)=TRUE,\"P\",\"A\")","v":"A"},{"$f":"IF(Attendance($C59,'Daily Register'!IL$3:IL$242)=TRUE,\"P\",\"A\")","v":"A"},{"$f":"IF(Attendance($C59,'Daily Register'!IM$3:IM$242)=TRUE,\"P\",\"A\")","v":"A"},{"$f":"IF(Attendance($C59,'Daily Register'!IN$3:IN$242)=TRUE,\"P\",\"A\")","v":"A"},{"$f":"IF(Attendance($C59,'Daily Register'!IO$3:IO$242)=TRUE,\"P\",\"A\")","v":"A"},{"$f":"IF(Attendance($C59,'Daily Register'!IP$3:IP$242)=TRUE,\"P\",\"A\")","v":"A"},{"$f":"IF(Attendance($C59,'Daily Register'!IQ$3:IQ$242)=TRUE,\"P\",\"A\")","v":"A"},{"$f":"IF(Attendance($C59,'Daily Register'!IR$3:IR$242)=TRUE,\"P\",\"A\")","v":"A"},{"$f":"IF(Attendance($C59,'Daily Register'!IS$3:IS$242)=TRUE,\"P\",\"A\")","v":"A"},{"$f":"IF(Attendance($C59,'Daily Register'!IT$3:IT$242)=TRUE,\"P\",\"A\")","v":"A"},{"$f":"IF(Attendance($C59,'Daily Register'!IU$3:IU$242)=TRUE,\"P\",\"A\")","v":"A"},{"$f":"IF(Attendance($C59,'Daily Register'!IV$3:IV$242)=TRUE,\"P\",\"A\")","v":"A"},{"$f":"IF(Attendance($C59,'Daily Register'!IW$3:IW$242)=TRUE,\"P\",\"A\")","v":"A"},{"$f":"IF(Attendance($C59,'Daily Register'!IX$3:IX$242)=TRUE,\"P\",\"A\")","v":"A"},{"$f":"IF(Attendance($C59,'Daily Register'!IY$3:IY$242)=TRUE,\"P\",\"A\")","v":"A"},{"$f":"IF(Attendance($C59,'Daily Register'!IZ$3:IZ$242)=TRUE,\"P\",\"A\")","v":"A"},{"$f":"IF(Attendance($C59,'Daily Register'!JA$3:JA$242)=TRUE,\"P\",\"A\")","v":"A"},{"$f":"IF(Attendance($C59,'Daily Register'!JB$3:JB$242)=TRUE,\"P\",\"A\")","v":"A"},{"$f":"IF(Attendance($C59,'Daily Register'!JC$3:JC$242)=TRUE,\"P\",\"A\")","v":"A"},{"$f":"IF(Attendance($C59,'Daily Register'!JD$3:JD$242)=TRUE,\"P\",\"A\")","v":"A"},{"$f":"IF(Attendance($C59,'Daily Register'!JE$3:JE$242)=TRUE,\"P\",\"A\")","v":"A"},{"$f":"IF(Attendance($C59,'Daily Register'!JF$3:JF$242)=TRUE,\"P\",\"A\")","v":"A"},{"$f":"IF(Attendance($C59,'Daily Register'!JG$3:JG$242)=TRUE,\"P\",\"A\")","v":"A"},{"$f":"IF(Attendance($C59,'Daily Register'!JH$3:JH$242)=TRUE,\"P\",\"A\")","v":"A"},{"$f":"IF(Attendance($C59,'Daily Register'!JI$3:JI$242)=TRUE,\"P\",\"A\")","v":"A"},{"$f":"IF(Attendance($C59,'Daily Register'!JJ$3:JJ$242)=TRUE,\"P\",\"A\")","v":"A"},{"$f":"IF(Attendance($C59,'Daily Register'!JK$3:JK$242)=TRUE,\"P\",\"A\")","v":"A"},{"$f":"IF(Attendance($C59,'Daily Register'!JL$3:JL$242)=TRUE,\"P\",\"A\")","v":"A"},{"$f":"IF(Attendance($C59,'Daily Register'!JM$3:JM$242)=TRUE,\"P\",\"A\")","v":"A"},{"$f":"IF(Attendance($C59,'Daily Register'!JN$3:JN$242)=TRUE,\"P\",\"A\")","v":"A"},{"$f":"IF(Attendance($C59,'Daily Register'!JO$3:JO$242)=TRUE,\"P\",\"A\")","v":"A"},{"$f":"IF(Attendance($C59,'Daily Register'!JP$3:JP$242)=TRUE,\"P\",\"A\")","v":"A"},{"$f":"IF(Attendance($C59,'Daily Register'!JQ$3:JQ$242)=TRUE,\"P\",\"A\")","v":"A"},{"$f":"IF(Attendance($C59,'Daily Register'!JR$3:JR$242)=TRUE,\"P\",\"A\")","v":"A"},{"$f":"IF(Attendance($C59,'Daily Register'!JS$3:JS$242)=TRUE,\"P\",\"A\")","v":"A"},{"$f":"IF(Attendance($C59,'Daily Register'!JT$3:JT$242)=TRUE,\"P\",\"A\")","v":"A"},{"$f":"IF(Attendance($C59,'Daily Register'!JU$3:JU$242)=TRUE,\"P\",\"A\")","v":"A"},{"$f":"IF(Attendance($C59,'Daily Register'!JV$3:JV$242)=TRUE,\"P\",\"A\")","v":"A"},{"$f":"IF(Attendance($C59,'Daily Register'!JW$3:JW$242)=TRUE,\"P\",\"A\")","v":"A"},{"$f":"IF(Attendance($C59,'Daily Register'!JX$3:JX$242)=TRUE,\"P\",\"A\")","v":"A"},{"$f":"IF(Attendance($C59,'Daily Register'!JY$3:JY$242)=TRUE,\"P\",\"A\")","v":"A"},{"$f":"IF(Attendance($C59,'Daily Register'!JZ$3:JZ$242)=TRUE,\"P\",\"A\")","v":"A"},{"$f":"IF(Attendance($C59,'Daily Register'!KA$3:KA$242)=TRUE,\"P\",\"A\")","v":"A"},{"$f":"IF(Attendance($C59,'Daily Register'!KB$3:KB$242)=TRUE,\"P\",\"A\")","v":"A"},{"$f":"IF(Attendance($C59,'Daily Register'!KC$3:KC$242)=TRUE,\"P\",\"A\")","v":"A"},{"$f":"IF(Attendance($C59,'Daily Register'!KD$3:KD$242)=TRUE,\"P\",\"A\")","v":"A"},{"$f":"IF(Attendance($C59,'Daily Register'!KE$3:KE$242)=TRUE,\"P\",\"A\")","v":"A"},{"$f":"IF(Attendance($C59,'Daily Register'!KF$3:KF$242)=TRUE,\"P\",\"A\")","v":"A"},{"$f":"IF(Attendance($C59,'Daily Register'!KG$3:KG$242)=TRUE,\"P\",\"A\")","v":"A"},{"$f":"IF(Attendance($C59,'Daily Register'!KH$3:KH$242)=TRUE,\"P\",\"A\")","v":"A"},{"$f":"IF(Attendance($C59,'Daily Register'!KI$3:KI$242)=TRUE,\"P\",\"A\")","v":"A"},{"$f":"IF(Attendance($C59,'Daily Register'!KJ$3:KJ$242)=TRUE,\"P\",\"A\")","v":"A"},{"$f":"IF(Attendance($C59,'Daily Register'!KK$3:KK$242)=TRUE,\"P\",\"A\")","v":"A"},{"$f":"IF(Attendance($C59,'Daily Register'!KL$3:KL$242)=TRUE,\"P\",\"A\")","v":"A"},{"$f":"IF(Attendance($C59,'Daily Register'!KM$3:KM$242)=TRUE,\"P\",\"A\")","v":"A"},{"$f":"IF(Attendance($C59,'Daily Register'!KN$3:KN$242)=TRUE,\"P\",\"A\")","v":"A"},{"$f":"IF(Attendance($C59,'Daily Register'!KO$3:KO$242)=TRUE,\"P\",\"A\")","v":"A"},{"$f":"IF(Attendance($C59,'Daily Register'!KP$3:KP$242)=TRUE,\"P\",\"A\")","v":"A"},{"$f":"IF(Attendance($C59,'Daily Register'!KQ$3:KQ$242)=TRUE,\"P\",\"A\")","v":"A"},{"$f":"IF(Attendance($C59,'Daily Register'!KR$3:KR$242)=TRUE,\"P\",\"A\")","v":"A"},{"$f":"IF(Attendance($C59,'Daily Register'!KS$3:KS$242)=TRUE,\"P\",\"A\")","v":"A"},{"$f":"IF(Attendance($C59,'Daily Register'!KT$3:KT$242)=TRUE,\"P\",\"A\")","v":"A"},{"$f":"IF(Attendance($C59,'Daily Register'!KU$3:KU$242)=TRUE,\"P\",\"A\")","v":"A"},{"$f":"IF(Attendance($C59,'Daily Register'!KV$3:KV$242)=TRUE,\"P\",\"A\")","v":"A"},{"$f":"IF(Attendance($C59,'Daily Register'!KW$3:KW$242)=TRUE,\"P\",\"A\")","v":"A"},{"$f":"IF(Attendance($C59,'Daily Register'!KX$3:KX$242)=TRUE,\"P\",\"A\")","v":"A"},{"$f":"IF(Attendance($C59,'Daily Register'!KY$3:KY$242)=TRUE,\"P\",\"A\")","v":"A"},{"$f":"IF(Attendance($C59,'Daily Register'!KZ$3:KZ$242)=TRUE,\"P\",\"A\")","v":"A"},{"$f":"IF(Attendance($C59,'Daily Register'!LA$3:LA$242)=TRUE,\"P\",\"A\")","v":"A"},{"$f":"IF(Attendance($C59,'Daily Register'!LB$3:LB$242)=TRUE,\"P\",\"A\")","v":"A"},{"$f":"IF(Attendance($C59,'Daily Register'!LC$3:LC$242)=TRUE,\"P\",\"A\")","v":"A"},{"$f":"IF(Attendance($C59,'Daily Register'!LD$3:LD$242)=TRUE,\"P\",\"A\")","v":"A"},{"$f":"IF(Attendance($C59,'Daily Register'!LE$3:LE$242)=TRUE,\"P\",\"A\")","v":"A"},{"$f":"IF(Attendance($C59,'Daily Register'!LF$3:LF$242)=TRUE,\"P\",\"A\")","v":"A"},{"$f":"IF(Attendance($C59,'Daily Register'!LG$3:LG$242)=TRUE,\"P\",\"A\")","v":"A"},{"$f":"IF(Attendance($C59,'Daily Register'!LH$3:LH$242)=TRUE,\"P\",\"A\")","v":"A"},{"$f":"IF(Attendance($C59,'Daily Register'!LI$3:LI$242)=TRUE,\"P\",\"A\")","v":"A"},{"$f":"IF(Attendance($C59,'Daily Register'!LJ$3:LJ$242)=TRUE,\"P\",\"A\")","v":"A"},{"$f":"IF(Attendance($C59,'Daily Register'!LK$3:LK$242)=TRUE,\"P\",\"A\")","v":"A"},{"$f":"IF(Attendance($C59,'Daily Register'!LL$3:LL$242)=TRUE,\"P\",\"A\")","v":"A"},{"$f":"IF(Attendance($C59,'Daily Register'!LM$3:LM$242)=TRUE,\"P\",\"A\")","v":"A"},{"$f":"IF(Attendance($C59,'Daily Register'!LN$3:LN$242)=TRUE,\"P\",\"A\")","v":"A"},{"$f":"IF(Attendance($C59,'Daily Register'!LO$3:LO$242)=TRUE,\"P\",\"A\")","v":"A"},{"$f":"IF(Attendance($C59,'Daily Register'!LP$3:LP$242)=TRUE,\"P\",\"A\")","v":"A"},{"$f":"IF(Attendance($C59,'Daily Register'!LQ$3:LQ$242)=TRUE,\"P\",\"A\")","v":"A"},{"$f":"IF(Attendance($C59,'Daily Register'!LR$3:LR$242)=TRUE,\"P\",\"A\")","v":"A"},{"$f":"IF(Attendance($C59,'Daily Register'!LS$3:LS$242)=TRUE,\"P\",\"A\")","v":"A"},{"$f":"IF(Attendance($C59,'Daily Register'!LT$3:LT$242)=TRUE,\"P\",\"A\")","v":"A"},{"$f":"IF(Attendance($C59,'Daily Register'!LU$3:LU$242)=TRUE,\"P\",\"A\")","v":"A"},{"$f":"IF(Attendance($C59,'Daily Register'!LV$3:LV$242)=TRUE,\"P\",\"A\")","v":"A"},{"$f":"IF(Attendance($C59,'Daily Register'!LW$3:LW$242)=TRUE,\"P\",\"A\")","v":"A"},{"$f":"IF(Attendance($C59,'Daily Register'!LX$3:LX$242)=TRUE,\"P\",\"A\")","v":"A"},{"$f":"IF(Attendance($C59,'Daily Register'!LY$3:LY$242)=TRUE,\"P\",\"A\")","v":"A"},{"$f":"IF(Attendance($C59,'Daily Register'!LZ$3:LZ$242)=TRUE,\"P\",\"A\")","v":"A"},{"$f":"IF(Attendance($C59,'Daily Register'!MA$3:MA$242)=TRUE,\"P\",\"A\")","v":"A"},{"$f":"IF(Attendance($C59,'Daily Register'!MB$3:MB$242)=TRUE,\"P\",\"A\")","v":"A"},{"$f":"IF(Attendance($C59,'Daily Register'!MC$3:MC$242)=TRUE,\"P\",\"A\")","v":"A"},{"$f":"IF(Attendance($C59,'Daily Register'!MD$3:MD$242)=TRUE,\"P\",\"A\")","v":"A"},{"$f":"IF(Attendance($C59,'Daily Register'!ME$3:ME$242)=TRUE,\"P\",\"A\")","v":"A"},{"$f":"IF(Attendance($C59,'Daily Register'!MF$3:MF$242)=TRUE,\"P\",\"A\")","v":"A"},{"$f":"IF(Attendance($C59,'Daily Register'!MG$3:MG$242)=TRUE,\"P\",\"A\")","v":"A"},{"$f":"IF(Attendance($C59,'Daily Register'!MH$3:MH$242)=TRUE,\"P\",\"A\")","v":"A"},{"$f":"IF(Attendance($C59,'Daily Register'!MI$3:MI$242)=TRUE,\"P\",\"A\")","v":"A"},{"$f":"IF(Attendance($C59,'Daily Register'!MJ$3:MJ$242)=TRUE,\"P\",\"A\")","v":"A"},{"$f":"IF(Attendance($C59,'Daily Register'!MK$3:MK$242)=TRUE,\"P\",\"A\")","v":"A"},{"$f":"IF(Attendance($C59,'Daily Register'!ML$3:ML$242)=TRUE,\"P\",\"A\")","v":"A"},{"$f":"IF(Attendance($C59,'Daily Register'!MM$3:MM$242)=TRUE,\"P\",\"A\")","v":"A"},{"$f":"IF(Attendance($C59,'Daily Register'!MN$3:MN$242)=TRUE,\"P\",\"A\")","v":"A"},{"$f":"IF(Attendance($C59,'Daily Register'!MO$3:MO$242)=TRUE,\"P\",\"A\")","v":"A"},{"$f":"IF(Attendance($C59,'Daily Register'!MP$3:MP$242)=TRUE,\"P\",\"A\")","v":"A"},{"$f":"IF(Attendance($C59,'Daily Register'!MQ$3:MQ$242)=TRUE,\"P\",\"A\")","v":"A"},{"$f":"IF(Attendance($C59,'Daily Register'!MR$3:MR$242)=TRUE,\"P\",\"A\")","v":"A"},{"$f":"IF(Attendance($C59,'Daily Register'!MS$3:MS$242)=TRUE,\"P\",\"A\")","v":"A"},{"$f":"IF(Attendance($C59,'Daily Register'!MT$3:MT$242)=TRUE,\"P\",\"A\")","v":"A"},{"$f":"IF(Attendance($C59,'Daily Register'!MU$3:MU$242)=TRUE,\"P\",\"A\")","v":"A"},{"$f":"IF(Attendance($C59,'Daily Register'!MV$3:MV$242)=TRUE,\"P\",\"A\")","v":"A"},{"$f":"IF(Attendance($C59,'Daily Register'!MW$3:MW$242)=TRUE,\"P\",\"A\")","v":"A"},{"$f":"IF(Attendance($C59,'Daily Register'!MX$3:MX$242)=TRUE,\"P\",\"A\")","v":"A"},{"$f":"IF(Attendance($C59,'Daily Register'!MY$3:MY$242)=TRUE,\"P\",\"A\")","v":"A"},{"$f":"IF(Attendance($C59,'Daily Register'!MZ$3:MZ$242)=TRUE,\"P\",\"A\")","v":"A"},{"$f":"IF(Attendance($C59,'Daily Register'!NA$3:NA$242)=TRUE,\"P\",\"A\")","v":"A"},{"$f":"IF(Attendance($C59,'Daily Register'!NB$3:NB$242)=TRUE,\"P\",\"A\")","v":"A"}]
[0,null,57,null,{"$f":"IF(Attendance($C60,'Daily Register'!A$3:A$242)=TRUE,\"P\",\"A\")","v":"A"},{"$f":"IF(Attendance($C60,'Daily Register'!B$3:B$242)=TRUE,\"P\",\"A\")","v":"A"},{"$f":"IF(Attendance($C60,'Daily Register'!C$3:C$242)=TRUE,\"P\",\"A\")","v":"A"},{"$f":"IF(Attendance($C60,'Daily Register'!D$3:D$242)=TRUE,\"P\",\"A\")","v":"A"},{"$f":"IF(Attendance($C60,'Daily Register'!E$3:E$242)=TRUE,\"P\",\"A\")","v":"A"},{"$f":"IF(Attendance($C60,'Daily Register'!F$3:F$242)=TRUE,\"P\",\"A\")","v":"A"},{"$f":"IF(Attendance($C60,'Daily Register'!G$3:G$242)=TRUE,\"P\",\"A\")","v":"A"},{"$f":"IF(Attendance($C60,'Daily Register'!H$3:H$242)=TRUE,\"P\",\"A\")","v":"A"},{"$f":"IF(Attendance($C60,'Daily Register'!I$3:I$242)=TRUE,\"P\",\"A\")","v":"A"},{"$f":"IF(Attendance($C60,'Daily Register'!J$3:J$242)=TRUE,\"P\",\"A\")","v":"A"},{"$f":"IF(Attendance($C60,'Daily Register'!K$3:K$242)=TRUE,\"P\",\"A\")","v":"A"},{"$f":"IF(Attendance($C60,'Daily Register'!L$3:L$242)=TRUE,\"P\",\"A\")","v":"A"},{"$f":"IF(Attendance($C60,'Daily Register'!M$3:M$242)=TRUE,\"P\",\"A\")","v":"A"},{"$f":"IF(Attendance($C60,'Daily Register'!N$3:N$242)=TRUE,\"P\",\"A\")","v":"A"},{"$f":"IF(Attendance($C60,'Daily Register'!O$3:O$242)=TRUE,\"P\",\"A\")","v":"A"},{"$f":"IF(Attendance($C60,'Daily Register'!P$3:P$242)=TRUE,\"P\",\"A\")","v":"A"},{"$f":"IF(Attendance($C60,'Daily Register'!Q$3:Q$242)=TRUE,\"P\",\"A\")","v":"A"},{"$f":"IF(Attendance($C60,'Daily Register'!R$3:R$242)=TRUE,\"P\",\"A\")","v":"A"},{"$f":"IF(Attendance($C60,'Daily Register'!S$3:S$242)=TRUE,\"P\",\"A\")","v":"A"},{"$f":"IF(Attendance($C60,'Daily Register'!T$3:T$242)=TRUE,\"P\",\"A\")","v":"A"},{"$f":"IF(Attendance($C60,'Daily Register'!U$3:U$242)=TRUE,\"P\",\"A\")","v":"A"},{"$f":"IF(Attendance($C60,'Daily Register'!V$3:V$242)=TRUE,\"P\",\"A\")","v":"A"},{"$f":"IF(Attendance($C60,'Daily Register'!W$3:W$242)=TRUE,\"P\",\"A\")","v":"A"},{"$f":"IF(Attendance($C60,'Daily Register'!X$3:X$242)=TRUE,\"P\",\"A\")","v":"A"},{"$f":"IF(Attendance($C60,'Daily Register'!Y$3:Y$242)=TRUE,\"P\",\"A\")","v":"A"},{"$f":"IF(Attendance($C60,'Daily Register'!Z$3:Z$242)=TRUE,\"P\",\"A\")","v":"A"},{"$f":"IF(Attendance($C60,'Daily Register'!AA$3:AA$242)=TRUE,\"P\",\"A\")","v":"A"},{"$f":"IF(Attendance($C60,'Daily Register'!AB$3:AB$242)=TRUE,\"P\",\"A\")","v":"A"},{"$f":"IF(Attendance($C60,'Daily Register'!AC$3:AC$242)=TRUE,\"P\",\"A\")","v":"A"},{"$f":"IF(Attendance($C60,'Daily Register'!AD$3:AD$242)=TRUE,\"P\",\"A\")","v":"A"},{"$f":"IF(Attendance($C60,'Daily Register'!AE$3:AE$242)=TRUE,\"P\",\"A\")","v":"A"},{"$f":"IF(Attendance($C60,'Daily Register'!AF$3:AF$242)=TRUE,\"P\",\"A\")","v":"A"},{"$f":"IF(Attendance($C60,'Daily Register'!AG$3:AG$242)=TRUE,\"P\",\"A\")","v":"A"},{"$f":"IF(Attendance($C60,'Daily Register'!AH$3:AH$242)=TRUE,\"P\",\"A\")","v":"A"},{"$f":"IF(Attendance($C60,'Daily Register'!AI$3:AI$242)=TRUE,\"P\",\"A\")","v":"A"},{"$f":"IF(Attendance($C60,'Daily Register'!AJ$3:AJ$242)=TRUE,\"P\",\"A\")","v":"A"},{"$f":"IF(Attendance($C60,'Daily Register'!AK$3:AK$242)=TRUE,\"P\",\"A\")","v":"A"},{"$f":"IF(Attendance($C60,'Daily Register'!AL$3:AL$242)=TRUE,\"P\",\"A\")","v":"A"},{"$f":"IF(Attendance($C60,'Daily Register'!AM$3:AM$242)=TRUE,\"P\",\"A\")","v":"A"},{"$f":"IF(Attendance($C60,'Daily Register'!AN$3:AN$242)=TRUE,\"P\",\"A\")","v":"A"},{"$f":"IF(Attendance($C60,'Daily Register'!AO$3:AO$242)=TRUE,\"P\",\"A\")","v":"A"},{"$f":"IF(Attendance($C60,'Daily Register'!AP$3:AP$242)=TRUE,\"P\",\"A\")","v":"A"},{"$f":"IF(Attendance($C60,'Daily Register'!AQ$3:AQ$242)=TRUE,\"P\",\"A\")","v":"A"},{"$f":"IF(Attendance($C60,'Daily Register'!AR$3:AR$242)=TRUE,\"P\",\"A\")","v":"A"},{"$f":"IF(Attendance($C60,'Daily Register'!AS$3:AS$242)=TRUE,\"P\",\"A\")","v":"A"},{"$f":"IF(Attendance($C60,'Daily Register'!AT$3:AT$242)=TRUE,\"P\",\"A\")","v":"A"},{"$f":"IF(Attendance($C60,'Daily Register'!AU$3:AU$242)=TRUE,\"P\",\"A\")","v":"A"},{"$f":"IF(Attendance($C60,'Daily Register'!AV$3:AV$242)=TRUE,\"P\",\"A\")","v":"A"},{"$f":"IF(Attendance($C60,'Daily Register'!AW$3:AW$242)=TRUE,\"P\",\"A\")","v":"A"},{"$f":"IF(Attendance($C60,'Daily Register'!AX$3:AX$242)=TRUE,\"P\",\"A\")","v":"A"},{"$f":"IF(Attendance($C60,'Daily Register'!AY$3:AY$242)=TRUE,\"P\",\"A\")","v":"A"},{"$f":"IF(Attendance($C60,'Daily Register'!AZ$3:AZ$242)=TRUE,\"P\",\"A\")","v":"A"},{"$f":"IF(Attendance($C60,'Daily Register'!BA$3:BA$242)=TRUE,\"P\",\"A\")","v":"A"},{"$f":"IF(Attendance($C60,'Daily Register'!BB$3:BB$242)=TRUE,\"P\",\"A\")","v":"A"},{"$f":"IF(Attendance($C60,'Daily Register'!BC$3:BC$242)=TRUE,\"P\",\"A\")","v":"A"},{"$f":"IF(Attendance($C60,'Daily Register'!BD$3:BD$242)=TRUE,\"P\",\"A\")","v":"A"},{"$f":"IF(Attendance($C60,'Daily Register'!BE$3:BE$242)=TRUE,\"P\",\"A\")","v":"A"},{"$f":"IF(Attendance($C60,'Daily Register'!BF$3:BF$242)=TRUE,\"P\",\"A\")","v":"A"},{"$f":"IF(Attendance($C60,'Daily Register'!BG$3:BG$242)=TRUE,\"P\",\"A\")","v":"A"},{"$f":"IF(Attendance($C60,'Daily Register'!BH$3:BH$242)=TRUE,\"P\",\"A\")","v":"A"},{"$f":"IF(Attendance($C60,'Daily Register'!BI$3:BI$242)=TRUE,\"P\",\"A\")","v":"A"},{"$f":"IF(Attendance($C60,'Daily Register'!BJ$3:BJ$242)=TRUE,\"P\",\"A\")","v":"A"},{"$f":"IF(Attendance($C60,'Daily Register'!BK$3:BK$242)=TRUE,\"P\",\"A\")","v":"A"},{"$f":"IF(Attendance($C60,'Daily Register'!BL$3:BL$242)=TRUE,\"P\",\"A\")","v":"A"},{"$f":"IF(Attendance($C60,'Daily Register'!BM$3:BM$242)=TRUE,\"P\",\"A\")","v":"A"},{"$f":"IF(Attendance($C60,'Daily Register'!BN$3:BN$242)=TRUE,\"P\",\"A\")","v":"A"},{"$f":"IF(Attendance($C60,'Daily Register'!BO$3:BO$242)=TRUE,\"P\",\"A\")","v":"A"},{"$f":"IF(Attendance($C60,'Daily Register'!BP$3:BP$242)=TRUE,\"P\",\"A\")","v":"A"},{"$f":"IF(Attendance($C60,'Daily Register'!BQ$3:BQ$242)=TRUE,\"P\",\"A\")","v":"A"},{"$f":"IF(Attendance($C60,'Daily Register'!BR$3:BR$242)=TRUE,\"P\",\"A\")","v":"A"},{"$f":"IF(Attendance($C60,'Daily Register'!BS$3:BS$242)=TRUE,\"P\",\"A\")","v":"A"},{"$f":"IF(Attendance($C60,'Daily Register'!BT$3:BT$242)=TRUE,\"P\",\"A\")","v":"A"},{"$f":"IF(Attendance($C60,'Daily Register'!BU$3:BU$242)=TRUE,\"P\",\"A\")","v":"A"},{"$f":"IF(Attendance($C60,'Daily Register'!BV$3:BV$242)=TRUE,\"P\",\"A\")","v":"A"},{"$f":"IF(Attendance($C60,'Daily Register'!BW$3:BW$242)=TRUE,\"P\",\"A\")","v":"A"},{"$f":"IF(Attendance($C60,'Daily Register'!BX$3:BX$242)=TRUE,\"P\",\"A\")","v":"A"},{"$f":"IF(Attendance($C60,'Daily Register'!BY$3:BY$242)=TRUE,\"P\",\"A\")","v":"A"},{"$f":"IF(Attendance($C60,'Daily Register'!BZ$3:BZ$242)=TRUE,\"P\",\"A\")","v":"A"},{"$f":"IF(Attendance($C60,'Daily Register'!CA$3:CA$242)=TRUE,\"P\",\"A\")","v":"A"},{"$f":"IF(Attendance($C60,'Daily Register'!CB$3:CB$242)=TRUE,\"P\",\"A\")","v":"A"},{"$f":"IF(Attendance($C60,'Daily Register'!CC$3:CC$242)=TRUE,\"P\",\"A\")","v":"A"},{"$f":"IF(Attendance($C60,'Daily Register'!CD$3:CD$242)=TRUE,\"P\",\"A\")","v":"A"},{"$f":"IF(Attendance($C60,'Daily Register'!CE$3:CE$242)=TRUE,\"P\",\"A\")","v":"A"},{"$f":"IF(Attendance($C60,'Daily Register'!CF$3:CF$242)=TRUE,\"P\",\"A\")","v":"A"},{"$f":"IF(Attendance($C60,'Daily Register'!CG$3:CG$242)=TRUE,\"P\",\"A\")","v":"A"},{"$f":"IF(Attendance($C60,'Daily Register'!CH$3:CH$242)=TRUE,\"P\",\"A\")","v":"A"},{"$f":"IF(Attendance($C60,'Daily Register'!CI$3:CI$242)=TRUE,\"P\",\"A\")","v":"A"},{"$f":"IF(Attendance($C60,'Daily Register'!CJ$3:CJ$242)=TRUE,\"P\",\"A\")","v":"A"},{"$f":"IF(Attendance($C60,'Daily Register'!CK$3:CK$242)=TRUE,\"P\",\"A\")","v":"A"},{"$f":"IF(Attendance($C60,'Daily Register'!CL$3:CL$242)=TRUE,\"P\",\"A\")","v":"A"},{"$f":"IF(Attendance($C60,'Daily Register'!CM$3:CM$242)=TRUE,\"P\",\"A\")","v":"A"},{"$f":"IF(Attendance($C60,'Daily Register'!CN$3:CN$242)=TRUE,\"P\",\"A\")","v":"A"},{"$f":"IF(Attendance($C60,'Daily Register'!CO$3:CO$242)=TRUE,\"P\",\"A\")","v":"A"},{"$f":"IF(Attendance($C60,'Daily Register'!CP$3:CP$242)=TRUE,\"P\",\"A\")","v":"A"},{"$f":"IF(Attendance($C60,'Daily Register'!CQ$3:CQ$242)=TRUE,\"P\",\"A\")","v":"A"},{"$f":"IF(Attendance($C60,'Daily Register'!CR$3:CR$242)=TRUE,\"P\",\"A\")","v":"A"},{"$f":"IF(Attendance($C60,'Daily Register'!CS$3:CS$242)=TRUE,\"P\",\"A\")","v":"A"},{"$f":"IF(Attendance($C60,'Daily Register'!CT$3:CT$242)=TRUE,\"P\",\"A\")","v":"A"},{"$f":"IF(Attendance($C60,'Daily Register'!CU$3:CU$242)=TRUE,\"P\",\"A\")","v":"A"},{"$f":"IF(Attendance($C60,'Daily Register'!CV$3:CV$242)=TRUE,\"P\",\"A\")","v":"A"},{"$f":"IF(Attendance($C60,'Daily Register'!CW$3:CW$242)=TRUE,\"P\",\"A\")","v":"A"},{"$f":"IF(Attendance($C60,'Daily Register'!CX$3:CX$242)=TRUE,\"P\",\"A\")","v":"A"},{"$f":"IF(Attendance($C60,'Daily Register'!CY$3:CY$242)=TRUE,\"P\",\"A\")","v":"A"},{"$f":"IF(Attendance($C60,'Daily Register'!CZ$3:CZ$242)=TRUE,\"P\",\"A\")","v":"A"},{"$f":"IF(Attendance($C60,'Daily Register'!DA$3:DA$242)=TRUE,\"P\",\"A\")","v":"A"},{"$f":"IF(Attendance($C60,'Daily Register'!DB$3:DB$242)=TRUE,\"P\",\"A\")","v":"A"},{"$f":"IF(Attendance($C60,'Daily Register'!DC$3:DC$242)=TRUE,\"P\",\"A\")","v":"A"},{"$f":"IF(Attendance($C60,'Daily Register'!DD$3:DD$242)=TRUE,\"P\",\"A\")","v":"A"},{"$f":"IF(Attendance($C60,'Daily Register'!DE$3:DE$242)=TRUE,\"P\",\"A\")","v":"A"},{"$f":"IF(Attendance($C60,'Daily Register'!DF$3:DF$242)=TRUE,\"P\",\"A\")","v":"A"},{"$f":"IF(Attendance($C60,'Daily Register'!DG$3:DG$242)=TRUE,\"P\",\"A\")","v":"A"},{"$f":"IF(Attendance($C60,'Daily Register'!DH$3:DH$242)=TRUE,\"P\",\"A\")","v":"A"},{"$f":"IF(Attendance($C60,'Daily Register'!DI$3:DI$242)=TRUE,\"P\",\"A\")","v":"A"},{"$f":"IF(Attendance($C60,'Daily Register'!DJ$3:DJ$242)=TRUE,\"P\",\"A\")","v":"A"},{"$f":"IF(Attendance($C60,'Daily Register'!DK$3:DK$242)=TRUE,\"P\",\"A\")","v":"A"},{"$f":"IF(Attendance($C60,'Daily Register'!DL$3:DL$242)=TRUE,\"P\",\"A\")","v":"A"},{"$f":"IF(Attendance($C60,'Daily Register'!DM$3:DM$242)=TRUE,\"P\",\"A\")","v":"A"},{"$f":"IF(Attendance($C60,'Daily Register'!DN$3:DN$242)=TRUE,\"P\",\"A\")","v":"A"},{"$f":"IF(Attendance($C60,'Daily Register'!DO$3:DO$242)=TRUE,\"P\",\"A\")","v":"A"},{"$f":"IF(Attendance($C60,'Daily Register'!DP$3:DP$242)=TRUE,\"P\",\"A\")","v":"A"},{"$f":"IF(Attendance($C60,'Daily Register'!DQ$3:DQ$242)=TRUE,\"P\",\"A\")","v":"A"},{"$f":"IF(Attendance($C60,'Daily Register'!DR$3:DR$242)=TRUE,\"P\",\"A\")","v":"A"},{"$f":"IF(Attendance($C60,'Daily Register'!DS$3:DS$242)=TRUE,\"P\",\"A\")","v":"A"},{"$f":"IF(Attendance($C60,'Daily Register'!DT$3:DT$242)=TRUE,\"P\",\"A\")","v":"A"},{"$f":"IF(Attendance($C60,'Daily Register'!DU$3:DU$242)=TRUE,\"P\",\"A\")","v":"A"},{"$f":"IF(Attendance($C60,'Daily Register'!DV$3:DV$242)=TRUE,\"P\",\"A\")","v":"A"},{"$f":"IF(Attendance($C60,'Daily Register'!DW$3:DW$242)=TRUE,\"P\",\"A\")","v":"A"},{"$f":"IF(Attendance($C60,'Daily Register'!DX$3:DX$242)=TRUE,\"P\",\"A\")","v":"A"},{"$f":"IF(Attendance($C60,'Daily Register'!DY$3:DY$242)=TRUE,\"P\",\"A\")","v":"A"},{"$f":"IF(Attendance($C60,'Daily Register'!DZ$3:DZ$242)=TRUE,\"P\",\"A\")","v":"A"},{"$f":"IF(Attendance($C60,'Daily Register'!EA$3:EA$242)=TRUE,\"P\",\"A\")","v":"A"},{"$f":"IF(Attendance($C60,'Daily Register'!EB$3:EB$242)=TRUE,\"P\",\"A\")","v":"A"},{"$f":"IF(Attendance($C60,'Daily Register'!EC$3:EC$242)=TRUE,\"P\",\"A\")","v":"A"},{"$f":"IF(Attendance($C60,'Daily Register'!ED$3:ED$242)=TRUE,\"P\",\"A\")","v":"A"},{"$f":"IF(Attendance($C60,'Daily Register'!EE$3:EE$242)=TRUE,\"P\",\"A\")","v":"A"},{"$f":"IF(Attendance($C60,'Daily Register'!EF$3:EF$242)=TRUE,\"P\",\"A\")","v":"A"},{"$f":"IF(Attendance($C60,'Daily Register'!EG$3:EG$242)=TRUE,\"P\",\"A\")","v":"A"},{"$f":"IF(Attendance($C60,'Daily Register'!EH$3:EH$242)=TRUE,\"P\",\"A\")","v":"A"},{"$f":"IF(Attendance($C60,'Daily Register'!EI$3:EI$242)=TRUE,\"P\",\"A\")","v":"A"},{"$f":"IF(Attendance($C60,'Daily Register'!EJ$3:EJ$242)=TRUE,\"P\",\"A\")","v":"A"},{"$f":"IF(Attendance($C60,'Daily Register'!EK$3:EK$242)=TRUE,\"P\",\"A\")","v":"A"},{"$f":"IF(Attendance($C60,'Daily Register'!EL$3:EL$242)=TRUE,\"P\",\"A\")","v":"A"},{"$f":"IF(Attendance($C60,'Daily Register'!EM$22:EM$242)=TRUE,\"P\",\"A\")","v":"A"},{"$f":"IF(Attendance($C60,'Daily Register'!EN$3:EN$242)=TRUE,\"P\",\"A\")","v":"A"},{"$f":"IF(Attendance($C60,'Daily Register'!EO$3:EO$242)=TRUE,\"P\",\"A\")","v":"A"},{"$f":"IF(Attendance($C60,'Daily Register'!EP$3:EP$242)=TRUE,\"P\",\"A\")","v":"A"},{"$f":"IF(Attendance($C60,'Daily Register'!EQ$3:EQ$242)=TRUE,\"P\",\"A\")","v":"A"},{"$f":"IF(Attendance($C60,'Daily Register'!ER$3:ER$242)=TRUE,\"P\",\"A\")","v":"A"},{"$f":"IF(Attendance($C60,'Daily Register'!ES$3:ES$242)=TRUE,\"P\",\"A\")","v":"A"},{"$f":"IF(Attendance($C60,'Daily Register'!ET$3:ET$242)=TRUE,\"P\",\"A\")","v":"A"},{"$f":"IF(Attendance($C60,'Daily Register'!EU$3:EU$242)=TRUE,\"P\",\"A\")","v":"A"},{"$f":"IF(Attendance($C60,'Daily Register'!EV$3:EV$242)=TRUE,\"P\",\"A\")","v":"A"},{"$f":"IF(Attendance($C60,'Daily Register'!EW$3:EW$242)=TRUE,\"P\",\"A\")","v":"A"},{"$f":"IF(Attendance($C60,'Daily Register'!EX$3:EX$242)=TRUE,\"P\",\"A\")","v":"A"},{"$f":"IF(Attendance($C60,'Daily Register'!EY$3:EY$242)=TRUE,\"P\",\"A\")","v":"A"},{"$f":"IF(Attendance($C60,'Daily Register'!EZ$3:EZ$242)=TRUE,\"P\",\"A\")","v":"A"},{"$f":"IF(Attendance($C60,'Daily Register'!FA$3:FA$242)=TRUE,\"P\",\"A\")","v":"A"},{"$f":"IF(Attendance($C60,'Daily Register'!FB$3:FB$242)=TRUE,\"P\",\"A\")","v":"A"},{"$f":"IF(Attendance($C60,'Daily Register'!FC$3:FC$242)=TRUE,\"P\",\"A\")","v":"A"},{"$f":"IF(Attendance($C60,'Daily Register'!FD$3:FD$242)=TRUE,\"P\",\"A\")","v":"A"},{"$f":"IF(Attendance($C60,'Daily Register'!FE$3:FE$242)=TRUE,\"P\",\"A\")","v":"A"},{"$f":"IF(Attendance($C60,'Daily Register'!FF$3:FF$242)=TRUE,\"P\",\"A\")","v":"A"},{"$f":"IF(Attendance($C60,'Daily Register'!FG$3:FG$242)=TRUE,\"P\",\"A\")","v":"A"},{"$f":"IF(Attendance($C60,'Daily Register'!FH$3:FH$242)=TRUE,\"P\",\"A\")","v":"A"},{"$f":"IF(Attendance($C60,'Daily Register'!FI$3:FI$242)=TRUE,\"P\",\"A\")","v":"A"},{"$f":"IF(Attendance($C60,'Daily Register'!FJ$3:FJ$242)=TRUE,\"P\",\"A\")","v":"A"},{"$f":"IF(Attendance($C60,'Daily Register'!FK$3:FK$242)=TRUE,\"P\",\"A\")","v":"A"},{"$f":"IF(Attendance($C60,'Daily Register'!FL$3:FL$242)=TRUE,\"P\",\"A\")","v":"A"},{"$f":"IF(Attendance($C60,'Daily Register'!FM$3:FM$242)=TRUE,\"P\",\"A\")","v":"A"},{"$f":"IF(Attendance($C60,'Daily Register'!FN$3:FN$242)=TRUE,\"P\",\"A\")","v":"A"},{"$f":"IF(Attendance($C60,'Daily Register'!FO$3:FO$242)=TRUE,\"P\",\"A\")","v":"A"},{"$f":"IF(Attendance($C60,'Daily Register'!FP$3:FP$242)=TRUE,\"P\",\"A\")","v":"A"},{"$f":"IF(Attendance($C60,'Daily Register'!FQ$3:FQ$242)=TRUE,\"P\",\"A\")","v":"A"},{"$f":"IF(Attendance($C60,'Daily Register'!FR$3:FR$242)=TRUE,\"P\",\"A\")","v":"A"},{"$f":"IF(Attendance($C60,'Daily Register'!FS$3:FS$242)=TRUE,\"P\",\"A\")","v":"A"},{"$f":"IF(Attendance($C60,'Daily Register'!FT$3:FT$242)=TRUE,\"P\",\"A\")","v":"A"},{"$f":"IF(Attendance($C60,'Daily Register'!FU$3:FU$242)=TRUE,\"P\",\"A\")","v":"A"},{"$f":"IF(Attendance($C60,'Daily Register'!FV$3:FV$242)=TRUE,\"P\",\"A\")","v":"A"},{"$f":"IF(Attendance($C60,'Daily Register'!FW$3:FW$242)=TRUE,\"P\",\"A\")","v":"A"},{"$f":"IF(Attendance($C60,'Daily Register'!FX$3:FX$242)=TRUE,\"P\",\"A\")","v":"A"},{"$f":"IF(Attendance($C60,'Daily Register'!FY$3:FY$242)=TRUE,\"P\",\"A\")","v":"A"},{"$f":"IF(Attendance($C60,'Daily Register'!FZ$3:FZ$242)=TRUE,\"P\",\"A\")","v":"A"},{"$f":"IF(Attendance($C60,'Daily Register'!GA$3:GA$242)=TRUE,\"P\",\"A\")","v":"A"},{"$f":"IF(Attendance($C60,'Daily Register'!GB$3:GB$242)=TRUE,\"P\",\"A\")","v":"A"},{"$f":"IF(Attendance($C60,'Daily Register'!GC$3:GC$242)=TRUE,\"P\",\"A\")","v":"A"},{"$f":"IF(Attendance($C60,'Daily Register'!GD$3:GD$242)=TRUE,\"P\",\"A\")","v":"A"},{"$f":"IF(Attendance($C60,'Daily Register'!GE$3:GE$242)=TRUE,\"P\",\"A\")","v":"A"},{"$f":"IF(Attendance($C60,'Daily Register'!GF$3:GF$242)=TRUE,\"P\",\"A\")","v":"A"},{"$f":"IF(Attendance($C60,'Daily Register'!GG$3:GG$242)=TRUE,\"P\",\"A\")","v":"A"},{"$f":"IF(Attendance($C60,'Daily Register'!GH$3:GH$242)=TRUE,\"P\",\"A\")","v":"A"},{"$f":"IF(Attendance($C60,'Daily Register'!GI$3:GI$242)=TRUE,\"P\",\"A\")","v":"A"},{"$f":"IF(Attendance($C60,'Daily Register'!GJ$3:GJ$242)=TRUE,\"P\",\"A\")","v":"A"},{"$f":"IF(Attendance($C60,'Daily Register'!GK$3:GK$242)=TRUE,\"P\",\"A\")","v":"A"},{"$f":"IF(Attendance($C60,'Daily Register'!GL$3:GL$242)=TRUE,\"P\",\"A\")","v":"A"},{"$f":"IF(Attendance($C60,'Daily Register'!GM$3:GM$242)=TRUE,\"P\",\"A\")","v":"A"},{"$f":"IF(Attendance($C60,'Daily Register'!GN$3:GN$242)=TRUE,\"P\",\"A\")","v":"A"},{"$f":"IF(Attendance($C60,'Daily Register'!GO$3:GO$242)=TRUE,\"P\",\"A\")","v":"A"},{"$f":"IF(Attendance($C60,'Daily Register'!GP$3:GP$242)=TRUE,\"P\",\"A\")","v":"A"},{"$f":"IF(Attendance($C60,'Daily Register'!GQ$3:GQ$242)=TRUE,\"P\",\"A\")","v":"A"},{"$f":"IF(Attendance($C60,'Daily Register'!GR$3:GR$242)=TRUE,\"P\",\"A\")","v":"A"},{"$f":"IF(Attendance($C60,'Daily Register'!GS$3:GS$242)=TRUE,\"P\",\"A\")","v":"A"},{"$f":"IF(Attendance($C60,'Daily Register'!GT$3:GT$242)=TRUE,\"P\",\"A\")","v":"A"},{"$f":"IF(Attendance($C60,'Daily Register'!GU$3:GU$242)=TRUE,\"P\",\"A\")","v":"A"},{"$f":"IF(Attendance($C60,'Daily Register'!GV$3:GV$242)=TRUE,\"P\",\"A\")","v":"A"},{"$f":"IF(Attendance($C60,'Daily Register'!GW$3:GW$242)=TRUE,\"P\",\"A\")","v":"A"},{"$f":"IF(Attendance($C60,'Daily Register'!GX$3:GX$242)=TRUE,\"P\",\"A\")","v":"A"},{"$f":"IF(Attendance($C60,'Daily Register'!GY$3:GY$242)=TRUE,\"P\",\"A\")","v":"A"},{"$f":"IF(Attendance($C60,'Daily Register'!GZ$3:GZ$242)=TRUE,\"P\",\"A\")","v":"A"},{"$f":"IF(Attendance($C60,'Daily Register'!HA$3:HA$242)=TRUE,\"P\",\"A\")","v":"A"},{"$f":"IF(Attendance($C60,'Daily Register'!HB$3:HB$242)=TRUE,\"P\",\"A\")","v":"A"},{"$f":"IF(Attendance($C60,'Daily Register'!HC$3:HC$242)=TRUE,\"P\",\"A\")","v":"A"},{"$f":"IF(Attendance($C60,'Daily Register'!HD$3:HD$242)=TRUE,\"P\",\"A\")","v":"A"},{"$f":"IF(Attendance($C60,'Daily Register'!HE$3:HE$242)=TRUE,\"P\",\"A\")","v":"A"},{"$f":"IF(Attendance($C60,'Daily Register'!HF$3:HF$242)=TRUE,\"P\",\"A\")","v":"A"},{"$f":"IF(Attendance($C60,'Daily Register'!HG$3:HG$242)=TRUE,\"P\",\"A\")","v":"A"},{"$f":"IF(Attendance($C60,'Daily Register'!HH$3:HH$242)=TRUE,\"P\",\"A\")","v":"A"},{"$f":"IF(Attendance($C60,'Daily Register'!HI$3:HI$242)=TRUE,\"P\",\"A\")","v":"A"},{"$f":"IF(Attendance($C60,'Daily Register'!HJ$3:HJ$242)=TRUE,\"P\",\"A\")","v":"A"},{"$f":"IF(Attendance($C60,'Daily Register'!HK$3:HK$242)=TRUE,\"P\",\"A\")","v":"A"},{"$f":"IF(Attendance($C60,'Daily Register'!HL$3:HL$242)=TRUE,\"P\",\"A\")","v":"A"},{"$f":"IF(Attendance($C60,'Daily Register'!HM$3:HM$242)=TRUE,\"P\",\"A\")","v":"A"},{"$f":"IF(Attendance($C60,'Daily Register'!HN$3:HN$242)=TRUE,\"P\",\"A\")","v":"A"},{"$f":"IF(Attendance($C60,'Daily Register'!HO$3:HO$242)=TRUE,\"P\",\"A\")","v":"A"},{"$f":"IF(Attendance($C60,'Daily Register'!HP$3:HP$242)=TRUE,\"P\",\"A\")","v":"A"},{"$f":"IF(Attendance($C60,'Daily Register'!HQ$3:HQ$242)=TRUE,\"P\",\"A\")","v":"A"},{"$f":"IF(Attendance($C60,'Daily Register'!HR$3:HR$242)=TRUE,\"P\",\"A\")","v":"A"},{"$f":"IF(Attendance($C60,'Daily Register'!HS$3:HS$242)=TRUE,\"P\",\"A\")","v":"A"},{"$f":"IF(Attendance($C60,'Daily Register'!HT$3:HT$242)=TRUE,\"P\",\"A\")","v":"A"},{"$f":"IF(Attendance($C60,'Daily Register'!HU$3:HU$242)=TRUE,\"P\",\"A\")","v":"A"},{"$f":"IF(Attendance($C60,'Daily Register'!HV$3:HV$242)=TRUE,\"P\",\"A\")","v":"A"},{"$f":"IF(Attendance($C60,'Daily Register'!HW$3:HW$242)=TRUE,\"P\",\"A\")","v":"A"},{"$f":"IF(Attendance($C60,'Daily Register'!HX$3:HX$242)=TRUE,\"P\",\"A\")","v":"A"},{"$f":"IF(Attendance($C60,'Daily Register'!HY$3:HY$242)=TRUE,\"P\",\"A\")","v":"A"},{"$f":"IF(Attendance($C60,'Daily Register'!HZ$3:HZ$242)=TRUE,\"P\",\"A\")","v":"A"},{"$f":"IF(Attendance($C60,'Daily Register'!IA$3:IA$242)=TRUE,\"P\",\"A\")","v":"A"},{"$f":"IF(Attendance($C60,'Daily Register'!IB$3:IB$242)=TRUE,\"P\",\"A\")","v":"A"},{"$f":"IF(Attendance($C60,'Daily Register'!IC$3:IC$242)=TRUE,\"P\",\"A\")","v":"A"},{"$f":"IF(Attendance($C60,'Daily Register'!ID$3:ID$242)=TRUE,\"P\",\"A\")","v":"A"},{"$f":"IF(Attendance($C60,'Daily Register'!IE$3:IE$242)=TRUE,\"P\",\"A\")","v":"A"},{"$f":"IF(Attendance($C60,'Daily Register'!IF$3:IF$242)=TRUE,\"P\",\"A\")","v":"A"},{"$f":"IF(Attendance($C60,'Daily Register'!IG$3:IG$242)=TRUE,\"P\",\"A\")","v":"A"},{"$f":"IF(Attendance($C60,'Daily Register'!IH$3:IH$242)=TRUE,\"P\",\"A\")","v":"A"},{"$f":"IF(Attendance($C60,'Daily Register'!II$3:II$242)=TRUE,\"P\",\"A\")","v":"A"},{"$f":"IF(Attendance($C60,'Daily Register'!IJ$3:IJ$242)=TRUE,\"P\",\"A\")","v":"A"},{"$f":"IF(Attendance($C60,'Daily Register'!IK$3:IK$242)=TRUE,\"P\",\"A\")","v":"A"},{"$f":"IF(Attendance($C60,'Daily Register'!IL$3:IL$242)=TRUE,\"P\",\"A\")","v":"A"},{"$f":"IF(Attendance($C60,'Daily Register'!IM$3:IM$242)=TRUE,\"P\",\"A\")","v":"A"},{"$f":"IF(Attendance($C60,'Daily Register'!IN$3:IN$242)=TRUE,\"P\",\"A\")","v":"A"},{"$f":"IF(Attendance($C60,'Daily Register'!IO$3:IO$242)=TRUE,\"P\",\"A\")","v":"A"},{"$f":"IF(Attendance($C60,'Daily Register'!IP$3:IP$242)=TRUE,\"P\",\"A\")","v":"A"},{"$f":"IF(Attendance($C60,'Daily Register'!IQ$3:IQ$242)=TRUE,\"P\",\"A\")","v":"A"},{"$f":"IF(Attendance($C60,'Daily Register'!IR$3:IR$242)=TRUE,\"P\",\"A\")","v":"A"},{"$f":"IF(Attendance($C60,'Daily Register'!IS$3:IS$242)=TRUE,\"P\",\"A\")","v":"A"},{"$f":"IF(Attendance($C60,'Daily Register'!IT$3:IT$242)=TRUE,\"P\",\"A\")","v":"A"},{"$f":"IF(Attendance($C60,'Daily Register'!IU$3:IU$242)=TRUE,\"P\",\"A\")","v":"A"},{"$f":"IF(Attendance($C60,'Daily Register'!IV$3:IV$242)=TRUE,\"P\",\"A\")","v":"A"},{"$f":"IF(Attendance($C60,'Daily Register'!IW$3:IW$242)=TRUE,\"P\",\"A\")","v":"A"},{"$f":"IF(Attendance($C60,'Daily Register'!IX$3:IX$242)=TRUE,\"P\",\"A\")","v":"A"},{"$f":"IF(Attendance($C60,'Daily Register'!IY$3:IY$242)=TRUE,\"P\",\"A\")","v":"A"},{"$f":"IF(Attendance($C60,'Daily Register'!IZ$3:IZ$242)=TRUE,\"P\",\"A\")","v":"A"},{"$f":"IF(Attendance($C60,'Daily Register'!JA$3:JA$242)=TRUE,\"P\",\"A\")","v":"A"},{"$f":"IF(Attendance($C60,'Daily Register'!JB$3:JB$242)=TRUE,\"P\",\"A\")","v":"A"},{"$f":"IF(Attendance($C60,'Daily Register'!JC$3:JC$242)=TRUE,\"P\",\"A\")","v":"A"},{"$f":"IF(Attendance($C60,'Daily Register'!JD$3:JD$242)=TRUE,\"P\",\"A\")","v":"A"},{"$f":"IF(Attendance($C60,'Daily Register'!JE$3:JE$242)=TRUE,\"P\",\"A\")","v":"A"},{"$f":"IF(Attendance($C60,'Daily Register'!JF$3:JF$242)=TRUE,\"P\",\"A\")","v":"A"},{"$f":"IF(Attendance($C60,'Daily Register'!JG$3:JG$242)=TRUE,\"P\",\"A\")","v":"A"},{"$f":"IF(Attendance($C60,'Daily Register'!JH$3:JH$242)=TRUE,\"P\",\"A\")","v":"A"},{"$f":"IF(Attendance($C60,'Daily Register'!JI$3:JI$242)=TRUE,\"P\",\"A\")","v":"A"},{"$f":"IF(Attendance($C60,'Daily Register'!JJ$3:JJ$242)=TRUE,\"P\",\"A\")","v":"A"},{"$f":"IF(Attendance($C60,'Daily Register'!JK$3:JK$242)=TRUE,\"P\",\"A\")","v":"A"},{"$f":"IF(Attendance($C60,'Daily Register'!JL$3:JL$242)=TRUE,\"P\",\"A\")","v":"A"},{"$f":"IF(Attendance($C60,'Daily Register'!JM$3:JM$242)=TRUE,\"P\",\"A\")","v":"A"},{"$f":"IF(Attendance($C60,'Daily Register'!JN$3:JN$242)=TRUE,\"P\",\"A\")","v":"A"},{"$f":"IF(Attendance($C60,'Daily Register'!JO$3:JO$242)=TRUE,\"P\",\"A\")","v":"A"},{"$f":"IF(Attendance($C60,'Daily Register'!JP$3:JP$242)=TRUE,\"P\",\"A\")","v":"A"},{"$f":"IF(Attendance($C60,'Daily Register'!JQ$3:JQ$242)=TRUE,\"P\",\"A\")","v":"A"},{"$f":"IF(Attendance($C60,'Daily Register'!JR$3:JR$242)=TRUE,\"P\",\"A\")","v":"A"},{"$f":"IF(Attendance($C60,'Daily Register'!JS$3:JS$242)=TRUE,\"P\",\"A\")","v":"A"},{"$f":"IF(Attendance($C60,'Daily Register'!JT$3:JT$242)=TRUE,\"P\",\"A\")","v":"A"},{"$f":"IF(Attendance($C60,'Daily Register'!JU$3:JU$242)=TRUE,\"P\",\"A\")","v":"A"},{"$f":"IF(Attendance($C60,'Daily Register'!JV$3:JV$242)=TRUE,\"P\",\"A\")","v":"A"},{"$f":"IF(Attendance($C60,'Daily Register'!JW$3:JW$242)=TRUE,\"P\",\"A\")","v":"A"},{"$f":"IF(Attendance($C60,'Daily Register'!JX$3:JX$242)=TRUE,\"P\",\"A\")","v":"A"},{"$f":"IF(Attendance($C60,'Daily Register'!JY$3:JY$242)=TRUE,\"P\",\"A\")","v":"A"},{"$f":"IF(Attendance($C60,'Daily Register'!JZ$3:JZ$242)=TRUE,\"P\",\"A\")","v":"A"},{"$f":"IF(Attendance($C60,'Daily Register'!KA$3:KA$242)=TRUE,\"P\",\"A\")","v":"A"},{"$f":"IF(Attendance($C60,'Daily Register'!KB$3:KB$242)=TRUE,\"P\",\"A\")","v":"A"},{"$f":"IF(Attendance($C60,'Daily Register'!KC$3:KC$242)=TRUE,\"P\",\"A\")","v":"A"},{"$f":"IF(Attendance($C60,'Daily Register'!KD$3:KD$242)=TRUE,\"P\",\"A\")","v":"A"},{"$f":"IF(Attendance($C60,'Daily Register'!KE$3:KE$242)=TRUE,\"P\",\"A\")","v":"A"},{"$f":"IF(Attendance($C60,'Daily Register'!KF$3:KF$242)=TRUE,\"P\",\"A\")","v":"A"},{"$f":"IF(Attendance($C60,'Daily Register'!KG$3:KG$242)=TRUE,\"P\",\"A\")","v":"A"},{"$f":"IF(Attendance($C60,'Daily Register'!KH$3:KH$242)=TRUE,\"P\",\"A\")","v":"A"},{"$f":"IF(Attendance($C60,'Daily Register'!KI$3:KI$242)=TRUE,\"P\",\"A\")","v":"A"},{"$f":"IF(Attendance($C60,'Daily Register'!KJ$3:KJ$242)=TRUE,\"P\",\"A\")","v":"A"},{"$f":"IF(Attendance($C60,'Daily Register'!KK$3:KK$242)=TRUE,\"P\",\"A\")","v":"A"},{"$f":"IF(Attendance($C60,'Daily Register'!KL$3:KL$242)=TRUE,\"P\",\"A\")","v":"A"},{"$f":"IF(Attendance($C60,'Daily Register'!KM$3:KM$242)=TRUE,\"P\",\"A\")","v":"A"},{"$f":"IF(Attendance($C60,'Daily Register'!KN$3:KN$242)=TRUE,\"P\",\"A\")","v":"A"},{"$f":"IF(Attendance($C60,'Daily Register'!KO$3:KO$242)=TRUE,\"P\",\"A\")","v":"A"},{"$f":"IF(Attendance($C60,'Daily Register'!KP$3:KP$242)=TRUE,\"P\",\"A\")","v":"A"},{"$f":"IF(Attendance($C60,'Daily Register'!KQ$3:KQ$242)=TRUE,\"P\",\"A\")","v":"A"},{"$f":"IF(Attendance($C60,'Daily Register'!KR$3:KR$242)=TRUE,\"P\",\"A\")","v":"A"},{"$f":"IF(Attendance($C60,'Daily Register'!KS$3:KS$242)=TRUE,\"P\",\"A\")","v":"A"},{"$f":"IF(Attendance($C60,'Daily Register'!KT$3:KT$242)=TRUE,\"P\",\"A\")","v":"A"},{"$f":"IF(Attendance($C60,'Daily Register'!KU$3:KU$242)=TRUE,\"P\",\"A\")","v":"A"},{"$f":"IF(Attendance($C60,'Daily Register'!KV$3:KV$242)=TRUE,\"P\",\"A\")","v":"A"},{"$f":"IF(Attendance($C60,'Daily Register'!KW$3:KW$242)=TRUE,\"P\",\"A\")","v":"A"},{"$f":"IF(Attendance($C60,'Daily Register'!KX$3:KX$242)=TRUE,\"P\",\"A\")","v":"A"},{"$f":"IF(Attendance($C60,'Daily Register'!KY$3:KY$242)=TRUE,\"P\",\"A\")","v":"A"},{"$f":"IF(Attendance($C60,'Daily Register'!KZ$3:KZ$242)=TRUE,\"P\",\"A\")","v":"A"},{"$f":"IF(Attendance($C60,'Daily Register'!LA$3:LA$242)=TRUE,\"P\",\"A\")","v":"A"},{"$f":"IF(Attendance($C60,'Daily Register'!LB$3:LB$242)=TRUE,\"P\",\"A\")","v":"A"},{"$f":"IF(Attendance($C60,'Daily Register'!LC$3:LC$242)=TRUE,\"P\",\"A\")","v":"A"},{"$f":"IF(Attendance($C60,'Daily Register'!LD$3:LD$242)=TRUE,\"P\",\"A\")","v":"A"},{"$f":"IF(Attendance($C60,'Daily Register'!LE$3:LE$242)=TRUE,\"P\",\"A\")","v":"A"},{"$f":"IF(Attendance($C60,'Daily Register'!LF$3:LF$242)=TRUE,\"P\",\"A\")","v":"A"},{"$f":"IF(Attendance($C60,'Daily Register'!LG$3:LG$242)=TRUE,\"P\",\"A\")","v":"A"},{"$f":"IF(Attendance($C60,'Daily Register'!LH$3:LH$242)=TRUE,\"P\",\"A\")","v":"A"},{"$f":"IF(Attendance($C60,'Daily Register'!LI$3:LI$242)=TRUE,\"P\",\"A\")","v":"A"},{"$f":"IF(Attendance($C60,'Daily Register'!LJ$3:LJ$242)=TRUE,\"P\",\"A\")","v":"A"},{"$f":"IF(Attendance($C60,'Daily Register'!LK$3:LK$242)=TRUE,\"P\",\"A\")","v":"A"},{"$f":"IF(Attendance($C60,'Daily Register'!LL$3:LL$242)=TRUE,\"P\",\"A\")","v":"A"},{"$f":"IF(Attendance($C60,'Daily Register'!LM$3:LM$242)=TRUE,\"P\",\"A\")","v":"A"},{"$f":"IF(Attendance($C60,'Daily Register'!LN$3:LN$242)=TRUE,\"P\",\"A\")","v":"A"},{"$f":"IF(Attendance($C60,'Daily Register'!LO$3:LO$242)=TRUE,\"P\",\"A\")","v":"A"},{"$f":"IF(Attendance($C60,'Daily Register'!LP$3:LP$242)=TRUE,\"P\",\"A\")","v":"A"},{"$f":"IF(Attendance($C60,'Daily Register'!LQ$3:LQ$242)=TRUE,\"P\",\"A\")","v":"A"},{"$f":"IF(Attendance($C60,'Daily Register'!LR$3:LR$242)=TRUE,\"P\",\"A\")","v":"A"},{"$f":"IF(Attendance($C60,'Daily Register'!LS$3:LS$242)=TRUE,\"P\",\"A\")","v":"A"},{"$f":"IF(Attendance($C60,'Daily Register'!LT$3:LT$242)=TRUE,\"P\",\"A\")","v":"A"},{"$f":"IF(Attendance($C60,'Daily Register'!LU$3:LU$242)=TRUE,\"P\",\"A\")","v":"A"},{"$f":"IF(Attendance($C60,'Daily Register'!LV$3:LV$242)=TRUE,\"P\",\"A\")","v":"A"},{"$f":"IF(Attendance($C60,'Daily Register'!LW$3:LW$242)=TRUE,\"P\",\"A\")","v":"A"},{"$f":"IF(Attendance($C60,'Daily Register'!LX$3:LX$242)=TRUE,\"P\",\"A\")","v":"A"},{"$f":"IF(Attendance($C60,'Daily Register'!LY$3:LY$242)=TRUE,\"P\",\"A\")","v":"A"},{"$f":"IF(Attendance($C60,'Daily Register'!LZ$3:LZ$242)=TRUE,\"P\",\"A\")","v":"A"},{"$f":"IF(Attendance($C60,'Daily Register'!MA$3:MA$242)=TRUE,\"P\",\"A\")","v":"A"},{"$f":"IF(Attendance($C60,'Daily Register'!MB$3:MB$242)=TRUE,\"P\",\"A\")","v":"A"},{"$f":"IF(Attendance($C60,'Daily Register'!MC$3:MC$242)=TRUE,\"P\",\"A\")","v":"A"},{"$f":"IF(Attendance($C60,'Daily Register'!MD$3:MD$242)=TRUE,\"P\",\"A\")","v":"A"},{"$f":"IF(Attendance($C60,'Daily Register'!ME$3:ME$242)=TRUE,\"P\",\"A\")","v":"A"},{"$f":"IF(Attendance($C60,'Daily Register'!MF$3:MF$242)=TRUE,\"P\",\"A\")","v":"A"},{"$f":"IF(Attendance($C60,'Daily Register'!MG$3:MG$242)=TRUE,\"P\",\"A\")","v":"A"},{"$f":"IF(Attendance($C60,'Daily Register'!MH$3:MH$242)=TRUE,\"P\",\"A\")","v":"A"},{"$f":"IF(Attendance($C60,'Daily Register'!MI$3:MI$242)=TRUE,\"P\",\"A\")","v":"A"},{"$f":"IF(Attendance($C60,'Daily Register'!MJ$3:MJ$242)=TRUE,\"P\",\"A\")","v":"A"},{"$f":"IF(Attendance($C60,'Daily Register'!MK$3:MK$242)=TRUE,\"P\",\"A\")","v":"A"},{"$f":"IF(Attendance($C60,'Daily Register'!ML$3:ML$242)=TRUE,\"P\",\"A\")","v":"A"},{"$f":"IF(Attendance($C60,'Daily Register'!MM$3:MM$242)=TRUE,\"P\",\"A\")","v":"A"},{"$f":"IF(Attendance($C60,'Daily Register'!MN$3:MN$242)=TRUE,\"P\",\"A\")","v":"A"},{"$f":"IF(Attendance($C60,'Daily Register'!MO$3:MO$242)=TRUE,\"P\",\"A\")","v":"A"},{"$f":"IF(Attendance($C60,'Daily Register'!MP$3:MP$242)=TRUE,\"P\",\"A\")","v":"A"},{"$f":"IF(Attendance($C60,'Daily Register'!MQ$3:MQ$242)=TRUE,\"P\",\"A\")","v":"A"},{"$f":"IF(Attendance($C60,'Daily Register'!MR$3:MR$242)=TRUE,\"P\",\"A\")","v":"A"},{"$f":"IF(Attendance($C60,'Daily Register'!MS$3:MS$242)=TRUE,\"P\",\"A\")","v":"A"},{"$f":"IF(Attendance($C60,'Daily Register'!MT$3:MT$242)=TRUE,\"P\",\"A\")","v":"A"},{"$f":"IF(Attendance($C60,'Daily Register'!MU$3:MU$242)=TRUE,\"P\",\"A\")","v":"A"},{"$f":"IF(Attendance($C60,'Daily Register'!MV$3:MV$242)=TRUE,\"P\",\"A\")","v":"A"},{"$f":"IF(Attendance($C60,'Daily Register'!MW$3:MW$242)=TRUE,\"P\",\"A\")","v":"A"},{"$f":"IF(Attendance($C60,'Daily Register'!MX$3:MX$242)=TRUE,\"P\",\"A\")","v":"A"},{"$f":"IF(Attendance($C60,'Daily Register'!MY$3:MY$242)=TRUE,\"P\",\"A\")","v":"A"},{"$f":"IF(Attendance($C60,'Daily Register'!MZ$3:MZ$242)=TRUE,\"P\",\"A\")","v":"A"},{"$f":"IF(Attendance($C60,'Daily Register'!NA$3:NA$242)=TRUE,\"P\",\"A\")","v":"A"},{"$f":"IF(Attendance($C60,'Daily Register'!NB$3:NB$242)=TRUE,\"P\",\"A\")","v":"A"}]
[0,null,58,null,{"$f":"IF(Attendance($C61,'Daily Register'!A$3:A$242)=TRUE,\"P\",\"A\")","v":"A"},{"$f":"IF(Attendance($C61,'Daily Register'!B$3:B$242)=TRUE,\"P\",\"A\")","v":"A"},{"$f":"IF(Attendance($C61,'Daily Register'!C$3:C$242)=TRUE,\"P\",\"A\")","v":"A"},{"$f":"IF(Attendance($C61,'Daily Register'!D$3:D$242)=TRUE,\"P\",\"A\")","v":"A"},{"$f":"IF(Attendance($C61,'Daily Register'!E$3:E$242)=TRUE,\"P\",\"A\")","v":"A"},{"$f":"IF(Attendance($C61,'Daily Register'!F$3:F$242)=TRUE,\"P\",\"A\")","v":"A"},{"$f":"IF(Attendance($C61,'Daily Register'!G$3:G$242)=TRUE,\"P\",\"A\")","v":"A"},{"$f":"IF(Attendance($C61,'Daily Register'!H$3:H$242)=TRUE,\"P\",\"A\")","v":"A"},{"$f":"IF(Attendance($C61,'Daily Register'!I$3:I$242)=TRUE,\"P\",\"A\")","v":"A"},{"$f":"IF(Attendance($C61,'Daily Register'!J$3:J$242)=TRUE,\"P\",\"A\")","v":"A"},{"$f":"IF(Attendance($C61,'Daily Register'!K$3:K$242)=TRUE,\"P\",\"A\")","v":"A"},{"$f":"IF(Attendance($C61,'Daily Register'!L$3:L$242)=TRUE,\"P\",\"A\")","v":"A"},{"$f":"IF(Attendance($C61,'Daily Register'!M$3:M$242)=TRUE,\"P\",\"A\")","v":"A"},{"$f":"IF(Attendance($C61,'Daily Register'!N$3:N$242)=TRUE,\"P\",\"A\")","v":"A"},{"$f":"IF(Attendance($C61,'Daily Register'!O$3:O$242)=TRUE,\"P\",\"A\")","v":"A"},{"$f":"IF(Attendance($C61,'Daily Register'!P$3:P$242)=TRUE,\"P\",\"A\")","v":"A"},{"$f":"IF(Attendance($C61,'Daily Register'!Q$3:Q$242)=TRUE,\"P\",\"A\")","v":"A"},{"$f":"IF(Attendance($C61,'Daily Register'!R$3:R$242)=TRUE,\"P\",\"A\")","v":"A"},{"$f":"IF(Attendance($C61,'Daily Register'!S$3:S$242)=TRUE,\"P\",\"A\")","v":"A"},{"$f":"IF(Attendance($C61,'Daily Register'!T$3:T$242)=TRUE,\"P\",\"A\")","v":"A"},{"$f":"IF(Attendance($C61,'Daily Register'!U$3:U$242)=TRUE,\"P\",\"A\")","v":"A"},{"$f":"IF(Attendance($C61,'Daily Register'!V$3:V$242)=TRUE,\"P\",\"A\")","v":"A"},{"$f":"IF(Attendance($C61,'Daily Register'!W$3:W$242)=TRUE,\"P\",\"A\")","v":"A"},{"$f":"IF(Attendance($C61,'Daily Register'!X$3:X$242)=TRUE,\"P\",\"A\")","v":"A"},{"$f":"IF(Attendance($C61,'Daily Register'!Y$3:Y$242)=TRUE,\"P\",\"A\")","v":"A"},{"$f":"IF(Attendance($C61,'Daily Register'!Z$3:Z$242)=TRUE,\"P\",\"A\")","v":"A"},{"$f":"IF(Attendance($C61,'Daily Register'!AA$3:AA$242)=TRUE,\"P\",\"A\")","v":"A"},{"$f":"IF(Attendance($C61,'Daily Register'!AB$3:AB$242)=TRUE,\"P\",\"A\")","v":"A"},{"$f":"IF(Attendance($C61,'Daily Register'!AC$3:AC$242)=TRUE,\"P\",\"A\")","v":"A"},{"$f":"IF(Attendance($C61,'Daily Register'!AD$3:AD$242)=TRUE,\"P\",\"A\")","v":"A"},{"$f":"IF(Attendance($C61,'Daily Register'!AE$3:AE$242)=TRUE,\"P\",\"A\")","v":"A"},{"$f":"IF(Attendance($C61,'Daily Register'!AF$3:AF$242)=TRUE,\"P\",\"A\")","v":"A"},{"$f":"IF(Attendance($C61,'Daily Register'!AG$3:AG$242)=TRUE,\"P\",\"A\")","v":"A"},{"$f":"IF(Attendance($C61,'Daily Register'!AH$3:AH$242)=TRUE,\"P\",\"A\")","v":"A"},{"$f":"IF(Attendance($C61,'Daily Register'!AI$3:AI$242)=TRUE,\"P\",\"A\")","v":"A"},{"$f":"IF(Attendance($C61,'Daily Register'!AJ$3:AJ$242)=TRUE,\"P\",\"A\")","v":"A"},{"$f":"IF(Attendance($C61,'Daily Register'!AK$3:AK$242)=TRUE,\"P\",\"A\")","v":"A"},{"$f":"IF(Attendance($C61,'Daily Register'!AL$3:AL$242)=TRUE,\"P\",\"A\")","v":"A"},{"$f":"IF(Attendance($C61,'Daily Register'!AM$3:AM$242)=TRUE,\"P\",\"A\")","v":"A"},{"$f":"IF(Attendance($C61,'Daily Register'!AN$3:AN$242)=TRUE,\"P\",\"A\")","v":"A"},{"$f":"IF(Attendance($C61,'Daily Register'!AO$3:AO$242)=TRUE,\"P\",\"A\")","v":"A"},{"$f":"IF(Attendance($C61,'Daily Register'!AP$3:AP$242)=TRUE,\"P\",\"A\")","v":"A"},{"$f":"IF(Attendance($C61,'Daily Register'!AQ$3:AQ$242)=TRUE,\"P\",\"A\")","v":"A"},{"$f":"IF(Attendance($C61,'Daily Register'!AR$3:AR$242)=TRUE,\"P\",\"A\")","v":"A"},{"$f":"IF(Attendance($C61,'Daily Register'!AS$3:AS$242)=TRUE,\"P\",\"A\")","v":"A"},{"$f":"IF(Attendance($C61,'Daily Register'!AT$3:AT$242)=TRUE,\"P\",\"A\")","v":"A"},{"$f":"IF(Attendance($C61,'Daily Register'!AU$3:AU$242)=TRUE,\"P\",\"A\")","v":"A"},{"$f":"IF(Attendance($C61,'Daily Register'!AV$3:AV$242)=TRUE,\"P\",\"A\")","v":"A"},{"$f":"IF(Attendance($C61,'Daily Register'!AW$3:AW$242)=TRUE,\"P\",\"A\")","v":"A"},{"$f":"IF(Attendance($C61,'Daily Register'!AX$3:AX$242)=TRUE,\"P\",\"A\")","v":"A"},{"$f":"IF(Attendance($C61,'Daily Register'!AY$3:AY$242)=TRUE,\"P\",\"A\")","v":"A"},{"$f":"IF(Attendance($C61,'Daily Register'!AZ$3:AZ$242)=TRUE,\"P\",\"A\")","v":"A"},{"$f":"IF(Attendance($C61,'Daily Register'!BA$3:BA$242)=TRUE,\"P\",\"A\")","v":"A"},{"$f":"IF(Attendance($C61,'Daily Register'!BB$3:BB$242)=TRUE,\"P\",\"A\")","v":"A"},{"$f":"IF(Attendance($C61,'Daily Register'!BC$3:BC$242)=TRUE,\"P\",\"A\")","v":"A"},{"$f":"IF(Attendance($C61,'Daily Register'!BD$3:BD$242)=TRUE,\"P\",\"A\")","v":"A"},{"$f":"IF(Attendance($C61,'Daily Register'!BE$3:BE$242)=TRUE,\"P\",\"A\")","v":"A"},{"$f":"IF(Attendance($C61,'Daily Register'!BF$3:BF$242)=TRUE,\"P\",\"A\")","v":"A"},{"$f":"IF(Attendance($C61,'Daily Register'!BG$3:BG$242)=TRUE,\"P\",\"A\")","v":"A"},{"$f":"IF(Attendance($C61,'Daily Register'!BH$3:BH$242)=TRUE,\"P\",\"A\")","v":"A"},{"$f":"IF(Attendance($C61,'Daily Register'!BI$3:BI$242)=TRUE,\"P\",\"A\")","v":"A"},{"$f":"IF(Attendance($C61,'Daily Register'!BJ$3:BJ$242)=TRUE,\"P\",\"A\")","v":"A"},{"$f":"IF(Attendance($C61,'Daily Register'!BK$3:BK$242)=TRUE,\"P\",\"A\")","v":"A"},{"$f":"IF(Attendance($C61,'Daily Register'!BL$3:BL$242)=TRUE,\"P\",\"A\")","v":"A"},{"$f":"IF(Attendance($C61,'Daily Register'!BM$3:BM$242)=TRUE,\"P\",\"A\")","v":"A"},{"$f":"IF(Attendance($C61,'Daily Register'!BN$3:BN$242)=TRUE,\"P\",\"A\")","v":"A"},{"$f":"IF(Attendance($C61,'Daily Register'!BO$3:BO$242)=TRUE,\"P\",\"A\")","v":"A"},{"$f":"IF(Attendance($C61,'Daily Register'!BP$3:BP$242)=TRUE,\"P\",\"A\")","v":"A"},{"$f":"IF(Attendance($C61,'Daily Register'!BQ$3:BQ$242)=TRUE,\"P\",\"A\")","v":"A"},{"$f":"IF(Attendance($C61,'Daily Register'!BR$3:BR$242)=TRUE,\"P\",\"A\")","v":"A"},{"$f":"IF(Attendance($C61,'Daily Register'!BS$3:BS$242)=TRUE,\"P\",\"A\")","v":"A"},{"$f":"IF(Attendance($C61,'Daily Register'!BT$3:BT$242)=TRUE,\"P\",\"A\")","v":"A"},{"$f":"IF(Attendance($C61,'Daily Register'!BU$3:BU$242)=TRUE,\"P\",\"A\")","v":"A"},{"$f":"IF(Attendance($C61,'Daily Register'!BV$3:BV$242)=TRUE,\"P\",\"A\")","v":"A"},{"$f":"IF(Attendance($C61,'Daily Register'!BW$3:BW$242)=TRUE,\"P\",\"A\")","v":"A"},{"$f":"IF(Attendance($C61,'Daily Register'!BX$3:BX$242)=TRUE,\"P\",\"A\")","v":"A"},{"$f":"IF(Attendance($C61,'Daily Register'!BY$3:BY$242)=TRUE,\"P\",\"A\")","v":"A"},{"$f":"IF(Attendance($C61,'Daily Register'!BZ$3:BZ$242)=TRUE,\"P\",\"A\")","v":"A"},{"$f":"IF(Attendance($C61,'Daily Register'!CA$3:CA$242)=TRUE,\"P\",\"A\")","v":"A"},{"$f":"IF(Attendance($C61,'Daily Register'!CB$3:CB$242)=TRUE,\"P\",\"A\")","v":"A"},{"$f":"IF(Attendance($C61,'Daily Register'!CC$3:CC$242)=TRUE,\"P\",\"A\")","v":"A"},{"$f":"IF(Attendance($C61,'Daily Register'!CD$3:CD$242)=TRUE,\"P\",\"A\")","v":"A"},{"$f":"IF(Attendance($C61,'Daily Register'!CE$3:CE$242)=TRUE,\"P\",\"A\")","v":"A"},{"$f":"IF(Attendance($C61,'Daily Register'!CF$3:CF$242)=TRUE,\"P\",\"A\")","v":"A"},{"$f":"IF(Attendance($C61,'Daily Register'!CG$3:CG$242)=TRUE,\"P\",\"A\")","v":"A"},{"$f":"IF(Attendance($C61,'Daily Register'!CH$3:CH$242)=TRUE,\"P\",\"A\")","v":"A"},{"$f":"IF(Attendance($C61,'Daily Register'!CI$3:CI$242)=TRUE,\"P\",\"A\")","v":"A"},{"$f":"IF(Attendance($C61,'Daily Register'!CJ$3:CJ$242)=TRUE,\"P\",\"A\")","v":"A"},{"$f":"IF(Attendance($C61,'Daily Register'!CK$3:CK$242)=TRUE,\"P\",\"A\")","v":"A"},{"$f":"IF(Attendance($C61,'Daily Register'!CL$3:CL$242)=TRUE,\"P\",\"A\")","v":"A"},{"$f":"IF(Attendance($C61,'Daily Register'!CM$3:CM$242)=TRUE,\"P\",\"A\")","v":"A"},{"$f":"IF(Attendance($C61,'Daily Register'!CN$3:CN$242)=TRUE,\"P\",\"A\")","v":"A"},{"$f":"IF(Attendance($C61,'Daily Register'!CO$3:CO$242)=TRUE,\"P\",\"A\")","v":"A"},{"$f":"IF(Attendance($C61,'Daily Register'!CP$3:CP$242)=TRUE,\"P\",\"A\")","v":"A"},{"$f":"IF(Attendance($C61,'Daily Register'!CQ$3:CQ$242)=TRUE,\"P\",\"A\")","v":"A"},{"$f":"IF(Attendance($C61,'Daily Register'!CR$3:CR$242)=TRUE,\"P\",\"A\")","v":"A"},{"$f":"IF(Attendance($C61,'Daily Register'!CS$3:CS$242)=TRUE,\"P\",\"A\")","v":"A"},{"$f":"IF(Attendance($C61,'Daily Register'!CT$3:CT$242)=TRUE,\"P\",\"A\")","v":"A"},{"$f":"IF(Attendance($C61,'Daily Register'!CU$3:CU$242)=TRUE,\"P\",\"A\")","v":"A"},{"$f":"IF(Attendance($C61,'Daily Register'!CV$3:CV$242)=TRUE,\"P\",\"A\")","v":"A"},{"$f":"IF(Attendance($C61,'Daily Register'!CW$3:CW$242)=TRUE,\"P\",\"A\")","v":"A"},{"$f":"IF(Attendance($C61,'Daily Register'!CX$3:CX$242)=TRUE,\"P\",\"A\")","v":"A"},{"$f":"IF(Attendance($C61,'Daily Register'!CY$3:CY$242)=TRUE,\"P\",\"A\")","v":"A"},{"$f":"IF(Attendance($C61,'Daily Register'!CZ$3:CZ$242)=TRUE,\"P\",\"A\")","v":"A"},{"$f":"IF(Attendance($C61,'Daily Register'!DA$3:DA$242)=TRUE,\"P\",\"A\")","v":"A"},{"$f":"IF(Attendance($C61,'Daily Register'!DB$3:DB$242)=TRUE,\"P\",\"A\")","v":"A"},{"$f":"IF(Attendance($C61,'Daily Register'!DC$3:DC$242)=TRUE,\"P\",\"A\")","v":"A"},{"$f":"IF(Attendance($C61,'Daily Register'!DD$3:DD$242)=TRUE,\"P\",\"A\")","v":"A"},{"$f":"IF(Attendance($C61,'Daily Register'!DE$3:DE$242)=TRUE,\"P\",\"A\")","v":"A"},{"$f":"IF(Attendance($C61,'Daily Register'!DF$3:DF$242)=TRUE,\"P\",\"A\")","v":"A"},{"$f":"IF(Attendance($C61,'Daily Register'!DG$3:DG$242)=TRUE,\"P\",\"A\")","v":"A"},{"$f":"IF(Attendance($C61,'Daily Register'!DH$3:DH$242)=TRUE,\"P\",\"A\")","v":"A"},{"$f":"IF(Attendance($C61,'Daily Register'!DI$3:DI$242)=TRUE,\"P\",\"A\")","v":"A"},{"$f":"IF(Attendance($C61,'Daily Register'!DJ$3:DJ$242)=TRUE,\"P\",\"A\")","v":"A"},{"$f":"IF(Attendance($C61,'Daily Register'!DK$3:DK$242)=TRUE,\"P\",\"A\")","v":"A"},{"$f":"IF(Attendance($C61,'Daily Register'!DL$3:DL$242)=TRUE,\"P\",\"A\")","v":"A"},{"$f":"IF(Attendance($C61,'Daily Register'!DM$3:DM$242)=TRUE,\"P\",\"A\")","v":"A"},{"$f":"IF(Attendance($C61,'Daily Register'!DN$3:DN$242)=TRUE,\"P\",\"A\")","v":"A"},{"$f":"IF(Attendance($C61,'Daily Register'!DO$3:DO$242)=TRUE,\"P\",\"A\")","v":"A"},{"$f":"IF(Attendance($C61,'Daily Register'!DP$3:DP$242)=TRUE,\"P\",\"A\")","v":"A"},{"$f":"IF(Attendance($C61,'Daily Register'!DQ$3:DQ$242)=TRUE,\"P\",\"A\")","v":"A"},{"$f":"IF(Attendance($C61,'Daily Register'!DR$3:DR$242)=TRUE,\"P\",\"A\")","v":"A"},{"$f":"IF(Attendance($C61,'Daily Register'!DS$3:DS$242)=TRUE,\"P\",\"A\")","v":"A"},{"$f":"IF(Attendance($C61,'Daily Register'!DT$3:DT$242)=TRUE,\"P\",\"A\")","v":"A"},{"$f":"IF(Attendance($C61,'Daily Register'!DU$3:DU$242)=TRUE,\"P\",\"A\")","v":"A"},{"$f":"IF(Attendance($C61,'Daily Register'!DV$3:DV$242)=TRUE,\"P\",\"A\")","v":"A"},{"$f":"IF(Attendance($C61,'Daily Register'!DW$3:DW$242)=TRUE,\"P\",\"A\")","v":"A"},{"$f":"IF(Attendance($C61,'Daily Register'!DX$3:DX$242)=TRUE,\"P\",\"A\")","v":"A"},{"$f":"IF(Attendance($C61,'Daily Register'!DY$3:DY$242)=TRUE,\"P\",\"A\")","v":"A"},{"$f":"IF(Attendance($C61,'Daily Register'!DZ$3:DZ$242)=TRUE,\"P\",\"A\")","v":"A"},{"$f":"IF(Attendance($C61,'Daily Register'!EA$3:EA$242)=TRUE,\"P\",\"A\")","v":"A"},{"$f":"IF(Attendance($C61,'Daily Register'!EB$3:EB$242)=TRUE,\"P\",\"A\")","v":"A"},{"$f":"IF(Attendance($C61,'Daily Register'!EC$3:EC$242)=TRUE,\"P\",\"A\")","v":"A"},{"$f":"IF(Attendance($C61,'Daily Register'!ED$3:ED$242)=TRUE,\"P\",\"A\")","v":"A"},{"$f":"IF(Attendance($C61,'Daily Register'!EE$3:EE$242)=TRUE,\"P\",\"A\")","v":"A"},{"$f":"IF(Attendance($C61,'Daily Register'!EF$3:EF$242)=TRUE,\"P\",\"A\")","v":"A"},{"$f":"IF(Attendance($C61,'Daily Register'!EG$3:EG$242)=TRUE,\"P\",\"A\")","v":"A"},{"$f":"IF(Attendance($C61,'Daily Register'!EH$3:EH$242)=TRUE,\"P\",\"A\")","v":"A"},{"$f":"IF(Attendance($C61,'Daily Register'!EI$3:EI$242)=TRUE,\"P\",\"A\")","v":"A"},{"$f":"IF(Attendance($C61,'Daily Register'!EJ$3:EJ$242)=TRUE,\"P\",\"A\")","v":"A"},{"$f":"IF(Attendance($C61,'Daily Register'!EK$3:EK$242)=TRUE,\"P\",\"A\")","v":"A"},{"$f":"IF(Attendance($C61,'Daily Register'!EL$3:EL$242)=TRUE,\"P\",\"A\")","v":"A"},{"$f":"IF(Attendance($C61,'Daily Register'!EM$22:EM$242)=TRUE,\"P\",\"A\")","v":"A"},{"$f":"IF(Attendance($C61,'Daily Register'!EN$3:EN$242)=TRUE,\"P\",\"A\")","v":"A"},{"$f":"IF(Attendance($C61,'Daily Register'!EO$3:EO$242)=TRUE,\"P\",\"A\")","v":"A"},{"$f":"IF(Attendance($C61,'Daily Register'!EP$3:EP$242)=TRUE,\"P\",\"A\")","v":"A"},{"$f":"IF(Attendance($C61,'Daily Register'!EQ$3:EQ$242)=TRUE,\"P\",\"A\")","v":"A"},{"$f":"IF(Attendance($C61,'Daily Register'!ER$3:ER$242)=TRUE,\"P\",\"A\")","v":"A"},{"$f":"IF(Attendance($C61,'Daily Register'!ES$3:ES$242)=TRUE,\"P\",\"A\")","v":"A"},{"$f":"IF(Attendance($C61,'Daily Register'!ET$3:ET$242)=TRUE,\"P\",\"A\")","v":"A"},{"$f":"IF(Attendance($C61,'Daily Register'!EU$3:EU$242)=TRUE,\"P\",\"A\")","v":"A"},{"$f":"IF(Attendance($C61,'Daily Register'!EV$3:EV$242)=TRUE,\"P\",\"A\")","v":"A"},{"$f":"IF(Attendance($C61,'Daily Register'!EW$3:EW$242)=TRUE,\"P\",\"A\")","v":"A"},{"$f":"IF(Attendance($C61,'Daily Register'!EX$3:EX$242)=TRUE,\"P\",\"A\")","v":"A"},{"$f":"IF(Attendance($C61,'Daily Register'!EY$3:EY$242)=TRUE,\"P\",\"A\")","v":"A"},{"$f":"IF(Attendance($C61,'Daily Register'!EZ$3:EZ$242)=TRUE,\"P\",\"A\")","v":"A"},{"$f":"IF(Attendance($C61,'Daily Register'!FA$3:FA$242)=TRUE,\"P\",\"A\")","v":"A"},{"$f":"IF(Attendance($C61,'Daily Register'!FB$3:FB$242)=TRUE,\"P\",\"A\")","v":"A"},{"$f":"IF(Attendance($C61,'Daily Register'!FC$3:FC$242)=TRUE,\"P\",\"A\")","v":"A"},{"$f":"IF(Attendance($C61,'Daily Register'!FD$3:FD$242)=TRUE,\"P\",\"A\")","v":"A"},{"$f":"IF(Attendance($C61,'Daily Register'!FE$3:FE$242)=TRUE,\"P\",\"A\")","v":"A"},{"$f":"IF(Attendance($C61,'Daily Register'!FF$3:FF$242)=TRUE,\"P\",\"A\")","v":"A"},{"$f":"IF(Attendance($C61,'Daily Register'!FG$3:FG$242)=TRUE,\"P\",\"A\")","v":"A"},{"$f":"IF(Attendance($C61,'Daily Register'!FH$3:FH$242)=TRUE,\"P\",\"A\")","v":"A"},{"$f":"IF(Attendance($C61,'Daily Register'!FI$3:FI$242)=TRUE,\"P\",\"A\")","v":"A"},{"$f":"IF(Attendance($C61,'Daily Register'!FJ$3:FJ$242)=TRUE,\"P\",\"A\")","v":"A"},{"$f":"IF(Attendance($C61,'Daily Register'!FK$3:FK$242)=TRUE,\"P\",\"A\")","v":"A"},{"$f":"IF(Attendance($C61,'Daily Register'!FL$3:FL$242)=TRUE,\"P\",\"A\")","v":"A"},{"$f":"IF(Attendance($C61,'Daily Register'!FM$3:FM$242)=TRUE,\"P\",\"A\")","v":"A"},{"$f":"IF(Attendance($C61,'Daily Register'!FN$3:FN$242)=TRUE,\"P\",\"A\")","v":"A"},{"$f":"IF(Attendance($C61,'Daily Register'!FO$3:FO$242)=TRUE,\"P\",\"A\")","v":"A"},{"$f":"IF(Attendance($C61,'Daily Register'!FP$3:FP$242)=TRUE,\"P\",\"A\")","v":"A"},{"$f":"IF(Attendance($C61,'Daily Register'!FQ$3:FQ$242)=TRUE,\"P\",\"A\")","v":"A"},{"$f":"IF(Attendance($C61,'Daily Register'!FR$3:FR$242)=TRUE,\"P\",\"A\")","v":"A"},{"$f":"IF(Attendance($C61,'Daily Register'!FS$3:FS$242)=TRUE,\"P\",\"A\")","v":"A"},{"$f":"IF(Attendance($C61,'Daily Register'!FT$3:FT$242)=TRUE,\"P\",\"A\")","v":"A"},{"$f":"IF(Attendance($C61,'Daily Register'!FU$3:FU$242)=TRUE,\"P\",\"A\")","v":"A"},{"$f":"IF(Attendance($C61,'Daily Register'!FV$3:FV$242)=TRUE,\"P\",\"A\")","v":"A"},{"$f":"IF(Attendance($C61,'Daily Register'!FW$3:FW$242)=TRUE,\"P\",\"A\")","v":"A"},{"$f":"IF(Attendance($C61,'Daily Register'!FX$3:FX$242)=TRUE,\"P\",\"A\")","v":"A"},{"$f":"IF(Attendance($C61,'Daily Register'!FY$3:FY$242)=TRUE,\"P\",\"A\")","v":"A"},{"$f":"IF(Attendance($C61,'Daily Register'!FZ$3:FZ$242)=TRUE,\"P\",\"A\")","v":"A"},{"$f":"IF(Attendance($C61,'Daily Register'!GA$3:GA$242)=TRUE,\"P\",\"A\")","v":"A"},{"$f":"IF(Attendance($C61,'Daily Register'!GB$3:GB$242)=TRUE,\"P\",\"A\")","v":"A"},{"$f":"IF(Attendance($C61,'Daily Register'!GC$3:GC$242)=TRUE,\"P\",\"A\")","v":"A"},{"$f":"IF(Attendance($C61,'Daily Register'!GD$3:GD$242)=TRUE,\"P\",\"A\")","v":"A"},{"$f":"IF(Attendance($C61,'Daily Register'!GE$3:GE$242)=TRUE,\"P\",\"A\")","v":"A"},{"$f":"IF(Attendance($C61,'Daily Register'!GF$3:GF$242)=TRUE,\"P\",\"A\")","v":"A"},{"$f":"IF(Attendance($C61,'Daily Register'!GG$3:GG$242)=TRUE,\"P\",\"A\")","v":"A"},{"$f":"IF(Attendance($C61,'Daily Register'!GH$3:GH$242)=TRUE,\"P\",\"A\")","v":"A"},{"$f":"IF(Attendance($C61,'Daily Register'!GI$3:GI$242)=TRUE,\"P\",\"A\")","v":"A"},{"$f":"IF(Attendance($C61,'Daily Register'!GJ$3:GJ$242)=TRUE,\"P\",\"A\")","v":"A"},{"$f":"IF(Attendance($C61,'Daily Register'!GK$3:GK$242)=TRUE,\"P\",\"A\")","v":"A"},{"$f":"IF(Attendance($C61,'Daily Register'!GL$3:GL$242)=TRUE,\"P\",\"A\")","v":"A"},{"$f":"IF(Attendance($C61,'Daily Register'!GM$3:GM$242)=TRUE,\"P\",\"A\")","v":"A"},{"$f":"IF(Attendance($C61,'Daily Register'!GN$3:GN$242)=TRUE,\"P\",\"A\")","v":"A"},{"$f":"IF(Attendance($C61,'Daily Register'!GO$3:GO$242)=TRUE,\"P\",\"A\")","v":"A"},{"$f":"IF(Attendance($C61,'Daily Register'!GP$3:GP$242)=TRUE,\"P\",\"A\")","v":"A"},{"$f":"IF(Attendance($C61,'Daily Register'!GQ$3:GQ$242)=TRUE,\"P\",\"A\")","v":"A"},{"$f":"IF(Attendance($C61,'Daily Register'!GR$3:GR$242)=TRUE,\"P\",\"A\")","v":"A"},{"$f":"IF(Attendance($C61,'Daily Register'!GS$3:GS$242)=TRUE,\"P\",\"A\")","v":"A"},{"$f":"IF(Attendance($C61,'Daily Register'!GT$3:GT$242)=TRUE,\"P\",\"A\")","v":"A"},{"$f":"IF(Attendance($C61,'Daily Register'!GU$3:GU$242)=TRUE,\"P\",\"A\")","v":"A"},{"$f":"IF(Attendance($C61,'Daily Register'!GV$3:GV$242)=TRUE,\"P\",\"A\")","v":"A"},{"$f":"IF(Attendance($C61,'Daily Register'!GW$3:GW$242)=TRUE,\"P\",\"A\")","v":"A"},{"$f":"IF(Attendance($C61,'Daily Register'!GX$3:GX$242)=TRUE,\"P\",\"A\")","v":"A"},{"$f":"IF(Attendance($C61,'Daily Register'!GY$3:GY$242)=TRUE,\"P\",\"A\")","v":"A"},{"$f":"IF(Attendance($C61,'Daily Register'!GZ$3:GZ$242)=TRUE,\"P\",\"A\")","v":"A"},{"$f":"IF(Attendance($C61,'Daily Register'!HA$3:HA$242)=TRUE,\"P\",\"A\")","v":"A"},{"$f":"IF(Attendance($C61,'Daily Register'!HB$3:HB$242)=TRUE,\"P\",\"A\")","v":"A"},{"$f":"IF(Attendance($C61,'Daily Register'!HC$3:HC$242)=TRUE,\"P\",\"A\")","v":"A"},{"$f":"IF(Attendance($C61,'Daily Register'!HD$3:HD$242)=TRUE,\"P\",\"A\")","v":"A"},{"$f":"IF(Attendance($C61,'Daily Register'!HE$3:HE$242)=TRUE,\"P\",\"A\")","v":"A"},{"$f":"IF(Attendance($C61,'Daily Register'!HF$3:HF$242)=TRUE,\"P\",\"A\")","v":"A"},{"$f":"IF(Attendance($C61,'Daily Register'!HG$3:HG$242)=TRUE,\"P\",\"A\")","v":"A"},{"$f":"IF(Attendance($C61,'Daily Register'!HH$3:HH$242)=TRUE,\"P\",\"A\")","v":"A"},{"$f":"IF(Attendance($C61,'Daily Register'!HI$3:HI$242)=TRUE,\"P\",\"A\")","v":"A"},{"$f":"IF(Attendance($C61,'Daily Register'!HJ$3:HJ$242)=TRUE,\"P\",\"A\")","v":"A"},{"$f":"IF(Attendance($C61,'Daily Register'!HK$3:HK$242)=TRUE,\"P\",\"A\")","v":"A"},{"$f":"IF(Attendance($C61,'Daily Register'!HL$3:HL$242)=TRUE,\"P\",\"A\")","v":"A"},{"$f":"IF(Attendance($C61,'Daily Register'!HM$3:HM$242)=TRUE,\"P\",\"A\")","v":"A"},{"$f":"IF(Attendance($C61,'Daily Register'!HN$3:HN$242)=TRUE,\"P\",\"A\")","v":"A"},{"$f":"IF(Attendance($C61,'Daily Register'!HO$3:HO$242)=TRUE,\"P\",\"A\")","v":"A"},{"$f":"IF(Attendance($C61,'Daily Register'!HP$3:HP$242)=TRUE,\"P\",\"A\")","v":"A"},{"$f":"IF(Attendance($C61,'Daily Register'!HQ$3:HQ$242)=TRUE,\"P\",\"A\")","v":"A"},{"$f":"IF(Attendance($C61,'Daily Register'!HR$3:HR$242)=TRUE,\"P\",\"A\")","v":"A"},{"$f":"IF(Attendance($C61,'Daily Register'!HS$3:HS$242)=TRUE,\"P\",\"A\")","v":"A"},{"$f":"IF(Attendance($C61,'Daily Register'!HT$3:HT$242)=TRUE,\"P\",\"A\")","v":"A"},{"$f":"IF(Attendance($C61,'Daily Register'!HU$3:HU$242)=TRUE,\"P\",\"A\")","v":"A"},{"$f":"IF(Attendance($C61,'Daily Register'!HV$3:HV$242)=TRUE,\"P\",\"A\")","v":"A"},{"$f":"IF(Attendance($C61,'Daily Register'!HW$3:HW$242)=TRUE,\"P\",\"A\")","v":"A"},{"$f":"IF(Attendance($C61,'Daily Register'!HX$3:HX$242)=TRUE,\"P\",\"A\")","v":"A"},{"$f":"IF(Attendance($C61,'Daily Register'!HY$3:HY$242)=TRUE,\"P\",\"A\")","v":"A"},{"$f":"IF(Attendance($C61,'Daily Register'!HZ$3:HZ$242)=TRUE,\"P\",\"A\")","v":"A"},{"$f":"IF(Attendance($C61,'Daily Register'!IA$3:IA$242)=TRUE,\"P\",\"A\")","v":"A"},{"$f":"IF(Attendance($C61,'Daily Register'!IB$3:IB$242)=TRUE,\"P\",\"A\")","v":"A"},{"$f":"IF(Attendance($C61,'Daily Register'!IC$3:IC$242)=TRUE,\"P\",\"A\")","v":"A"},{"$f":"IF(Attendance($C61,'Daily Register'!ID$3:ID$242)=TRUE,\"P\",\"A\")","v":"A"},{"$f":"IF(Attendance($C61,'Daily Register'!IE$3:IE$242)=TRUE,\"P\",\"A\")","v":"A"},{"$f":"IF(Attendance($C61,'Daily Register'!IF$3:IF$242)=TRUE,\"P\",\"A\")","v":"A"},{"$f":"IF(Attendance($C61,'Daily Register'!IG$3:IG$242)=TRUE,\"P\",\"A\")","v":"A"},{"$f":"IF(Attendance($C61,'Daily Register'!IH$3:IH$242)=TRUE,\"P\",\"A\")","v":"A"},{"$f":"IF(Attendance($C61,'Daily Register'!II$3:II$242)=TRUE,\"P\",\"A\")","v":"A"},{"$f":"IF(Attendance($C61,'Daily Register'!IJ$3:IJ$242)=TRUE,\"P\",\"A\")","v":"A"},{"$f":"IF(Attendance($C61,'Daily Register'!IK$3:IK$242)=TRUE,\"P\",\"A\")","v":"A"},{"$f":"IF(Attendance($C61,'Daily Register'!IL$3:IL$242)=TRUE,\"P\",\"A\")","v":"A"},{"$f":"IF(Attendance($C61,'Daily Register'!IM$3:IM$242)=TRUE,\"P\",\"A\")","v":"A"},{"$f":"IF(Attendance($C61,'Daily Register'!IN$3:IN$242)=TRUE,\"P\",\"A\")","v":"A"},{"$f":"IF(Attendance($C61,'Daily Register'!IO$3:IO$242)=TRUE,\"P\",\"A\")","v":"A"},{"$f":"IF(Attendance($C61,'Daily Register'!IP$3:IP$242)=TRUE,\"P\",\"A\")","v":"A"},{"$f":"IF(Attendance($C61,'Daily Register'!IQ$3:IQ$242)=TRUE,\"P\",\"A\")","v":"A"},{"$f":"IF(Attendance($C61,'Daily Register'!IR$3:IR$242)=TRUE,\"P\",\"A\")","v":"A"},{"$f":"IF(Attendance($C61,'Daily Register'!IS$3:IS$242)=TRUE,\"P\",\"A\")","v":"A"},{"$f":"IF(Attendance($C61,'Daily Register'!IT$3:IT$242)=TRUE,\"P\",\"A\")","v":"A"},{"$f":"IF(Attendance($C61,'Daily Register'!IU$3:IU$242)=TRUE,\"P\",\"A\")","v":"A"},{"$f":"IF(Attendance($C61,'Daily Register'!IV$3:IV$242)=TRUE,\"P\",\"A\")","v":"A"},{"$f":"IF(Attendance($C61,'Daily Register'!IW$3:IW$242)=TRUE,\"P\",\"A\")","v":"A"},{"$f":"IF(Attendance($C61,'Daily Register'!IX$3:IX$242)=TRUE,\"P\",\"A\")","v":"A"},{"$f":"IF(Attendance($C61,'Daily Register'!IY$3:IY$242)=TRUE,\"P\",\"A\")","v":"A"},{"$f":"IF(Attendance($C61,'Daily Register'!IZ$3:IZ$242)=TRUE,\"P\",\"A\")","v":"A"},{"$f":"IF(Attendance($C61,'Daily Register'!JA$3:JA$242)=TRUE,\"P\",\"A\")","v":"A"},{"$f":"IF(Attendance($C61,'Daily Register'!JB$3:JB$242)=TRUE,\"P\",\"A\")","v":"A"},{"$f":"IF(Attendance($C61,'Daily Register'!JC$3:JC$242)=TRUE,\"P\",\"A\")","v":"A"},{"$f":"IF(Attendance($C61,'Daily Register'!JD$3:JD$242)=TRUE,\"P\",\"A\")","v":"A"},{"$f":"IF(Attendance($C61,'Daily Register'!JE$3:JE$242)=TRUE,\"P\",\"A\")","v":"A"},{"$f":"IF(Attendance($C61,'Daily Register'!JF$3:JF$242)=TRUE,\"P\",\"A\")","v":"A"},{"$f":"IF(Attendance($C61,'Daily Register'!JG$3:JG$242)=TRUE,\"P\",\"A\")","v":"A"},{"$f":"IF(Attendance($C61,'Daily Register'!JH$3:JH$242)=TRUE,\"P\",\"A\")","v":"A"},{"$f":"IF(Attendance($C61,'Daily Register'!JI$3:JI$242)=TRUE,\"P\",\"A\")","v":"A"},{"$f":"IF(Attendance($C61,'Daily Register'!JJ$3:JJ$242)=TRUE,\"P\",\"A\")","v":"A"},{"$f":"IF(Attendance($C61,'Daily Register'!JK$3:JK$242)=TRUE,\"P\",\"A\")","v":"A"},{"$f":"IF(Attendance($C61,'Daily Register'!JL$3:JL$242)=TRUE,\"P\",\"A\")","v":"A"},{"$f":"IF(Attendance($C61,'Daily Register'!JM$3:JM$242)=TRUE,\"P\",\"A\")","v":"A"},{"$f":"IF(Attendance($C61,'Daily Register'!JN$3:JN$242)=TRUE,\"P\",\"A\")","v":"A"},{"$f":"IF(Attendance($C61,'Daily Register'!JO$3:JO$242)=TRUE,\"P\",\"A\")","v":"A"},{"$f":"IF(Attendance($C61,'Daily Register'!JP$3:JP$242)=TRUE,\"P\",\"A\")","v":"A"},{"$f":"IF(Attendance($C61,'Daily Register'!JQ$3:JQ$242)=TRUE,\"P\",\"A\")","v":"A"},{"$f":"IF(Attendance($C61,'Daily Register'!JR$3:JR$242)=TRUE,\"P\",\"A\")","v":"A"},{"$f":"IF(Attendance($C61,'Daily Register'!JS$3:JS$242)=TRUE,\"P\",\"A\")","v":"A"},{"$f":"IF(Attendance($C61,'Daily Register'!JT$3:JT$242)=TRUE,\"P\",\"A\")","v":"A"},{"$f":"IF(Attendance($C61,'Daily Register'!JU$3:JU$242)=TRUE,\"P\",\"A\")","v":"A"},{"$f":"IF(Attendance($C61,'Daily Register'!JV$3:JV$242)=TRUE,\"P\",\"A\")","v":"A"},{"$f":"IF(Attendance($C61,'Daily Register'!JW$3:JW$242)=TRUE,\"P\",\"A\")","v":"A"},{"$f":"IF(Attendance($C61,'Daily Register'!JX$3:JX$242)=TRUE,\"P\",\"A\")","v":"A"},{"$f":"IF(Attendance($C61,'Daily Register'!JY$3:JY$242)=TRUE,\"P\",\"A\")","v":"A"},{"$f":"IF(Attendance($C61,'Daily Register'!JZ$3:JZ$242)=TRUE,\"P\",\"A\")","v":"A"},{"$f":"IF(Attendance($C61,'Daily Register'!KA$3:KA$242)=TRUE,\"P\",\"A\")","v":"A"},{"$f":"IF(Attendance($C61,'Daily Register'!KB$3:KB$242)=TRUE,\"P\",\"A\")","v":"A"},{"$f":"IF(Attendance($C61,'Daily Register'!KC$3:KC$242)=TRUE,\"P\",\"A\")","v":"A"},{"$f":"IF(Attendance($C61,'Daily Register'!KD$3:KD$242)=TRUE,\"P\",\"A\")","v":"A"},{"$f":"IF(Attendance($C61,'Daily Register'!KE$3:KE$242)=TRUE,\"P\",\"A\")","v":"A"},{"$f":"IF(Attendance($C61,'Daily Register'!KF$3:KF$242)=TRUE,\"P\",\"A\")","v":"A"},{"$f":"IF(Attendance($C61,'Daily Register'!KG$3:KG$242)=TRUE,\"P\",\"A\")","v":"A"},{"$f":"IF(Attendance($C61,'Daily Register'!KH$3:KH$242)=TRUE,\"P\",\"A\")","v":"A"},{"$f":"IF(Attendance($C61,'Daily Register'!KI$3:KI$242)=TRUE,\"P\",\"A\")","v":"A"},{"$f":"IF(Attendance($C61,'Daily Register'!KJ$3:KJ$242)=TRUE,\"P\",\"A\")","v":"A"},{"$f":"IF(Attendance($C61,'Daily Register'!KK$3:KK$242)=TRUE,\"P\",\"A\")","v":"A"},{"$f":"IF(Attendance($C61,'Daily Register'!KL$3:KL$242)=TRUE,\"P\",\"A\")","v":"A"},{"$f":"IF(Attendance($C61,'Daily Register'!KM$3:KM$242)=TRUE,\"P\",\"A\")","v":"A"},{"$f":"IF(Attendance($C61,'Daily Register'!KN$3:KN$242)=TRUE,\"P\",\"A\")","v":"A"},{"$f":"IF(Attendance($C61,'Daily Register'!KO$3:KO$242)=TRUE,\"P\",\"A\")","v":"A"},{"$f":"IF(Attendance($C61,'Daily Register'!KP$3:KP$242)=TRUE,\"P\",\"A\")","v":"A"},{"$f":"IF(Attendance($C61,'Daily Register'!KQ$3:KQ$242)=TRUE,\"P\",\"A\")","v":"A"},{"$f":"IF(Attendance($C61,'Daily Register'!KR$3:KR$242)=TRUE,\"P\",\"A\")","v":"A"},{"$f":"IF(Attendance($C61,'Daily Register'!KS$3:KS$242)=TRUE,\"P\",\"A\")","v":"A"},{"$f":"IF(Attendance($C61,'Daily Register'!KT$3:KT$242)=TRUE,\"P\",\"A\")","v":"A"},{"$f":"IF(Attendance($C61,'Daily Register'!KU$3:KU$242)=TRUE,\"P\",\"A\")","v":"A"},{"$f":"IF(Attendance($C61,'Daily Register'!KV$3:KV$242)=TRUE,\"P\",\"A\")","v":"A"},{"$f":"IF(Attendance($C61,'Daily Register'!KW$3:KW$242)=TRUE,\"P\",\"A\")","v":"A"},{"$f":"IF(Attendance($C61,'Daily Register'!KX$3:KX$242)=TRUE,\"P\",\"A\")","v":"A"},{"$f":"IF(Attendance($C61,'Daily Register'!KY$3:KY$242)=TRUE,\"P\",\"A\")","v":"A"},{"$f":"IF(Attendance($C61,'Daily Register'!KZ$3:KZ$242)=TRUE,\"P\",\"A\")","v":"A"},{"$f":"IF(Attendance($C61,'Daily Register'!LA$3:LA$242)=TRUE,\"P\",\"A\")","v":"A"},{"$f":"IF(Attendance($C61,'Daily Register'!LB$3:LB$242)=TRUE,\"P\",\"A\")","v":"A"},{"$f":"IF(Attendance($C61,'Daily Register'!LC$3:LC$242)=TRUE,\"P\",\"A\")","v":"A"},{"$f":"IF(Attendance($C61,'Daily Register'!LD$3:LD$242)=TRUE,\"P\",\"A\")","v":"A"},{"$f":"IF(Attendance($C61,'Daily Register'!LE$3:LE$242)=TRUE,\"P\",\"A\")","v":"A"},{"$f":"IF(Attendance($C61,'Daily Register'!LF$3:LF$242)=TRUE,\"P\",\"A\")","v":"A"},{"$f":"IF(Attendance($C61,'Daily Register'!LG$3:LG$242)=TRUE,\"P\",\"A\")","v":"A"},{"$f":"IF(Attendance($C61,'Daily Register'!LH$3:LH$242)=TRUE,\"P\",\"A\")","v":"A"},{"$f":"IF(Attendance($C61,'Daily Register'!LI$3:LI$242)=TRUE,\"P\",\"A\")","v":"A"},{"$f":"IF(Attendance($C61,'Daily Register'!LJ$3:LJ$242)=TRUE,\"P\",\"A\")","v":"A"},{"$f":"IF(Attendance($C61,'Daily Register'!LK$3:LK$242)=TRUE,\"P\",\"A\")","v":"A"},{"$f":"IF(Attendance($C61,'Daily Register'!LL$3:LL$242)=TRUE,\"P\",\"A\")","v":"A"},{"$f":"IF(Attendance($C61,'Daily Register'!LM$3:LM$242)=TRUE,\"P\",\"A\")","v":"A"},{"$f":"IF(Attendance($C61,'Daily Register'!LN$3:LN$242)=TRUE,\"P\",\"A\")","v":"A"},{"$f":"IF(Attendance($C61,'Daily Register'!LO$3:LO$242)=TRUE,\"P\",\"A\")","v":"A"},{"$f":"IF(Attendance($C61,'Daily Register'!LP$3:LP$242)=TRUE,\"P\",\"A\")","v":"A"},{"$f":"IF(Attendance($C61,'Daily Register'!LQ$3:LQ$242)=TRUE,\"P\",\"A\")","v":"A"},{"$f":"IF(Attendance($C61,'Daily Register'!LR$3:LR$242)=TRUE,\"P\",\"A\")","v":"A"},{"$f":"IF(Attendance($C61,'Daily Register'!LS$3:LS$242)=TRUE,\"P\",\"A\")","v":"A"},{"$f":"IF(Attendance($C61,'Daily Register'!LT$3:LT$242)=TRUE,\"P\",\"A\")","v":"A"},{"$f":"IF(Attendance($C61,'Daily Register'!LU$3:LU$242)=TRUE,\"P\",\"A\")","v":"A"},{"$f":"IF(Attendance($C61,'Daily Register'!LV$3:LV$242)=TRUE,\"P\",\"A\")","v":"A"},{"$f":"IF(Attendance($C61,'Daily Register'!LW$3:LW$242)=TRUE,\"P\",\"A\")","v":"A"},{"$f":"IF(Attendance($C61,'Daily Register'!LX$3:LX$242)=TRUE,\"P\",\"A\")","v":"A"},{"$f":"IF(Attendance($C61,'Daily Register'!LY$3:LY$242)=TRUE,\"P\",\"A\")","v":"A"},{"$f":"IF(Attendance($C61,'Daily Register'!LZ$3:LZ$242)=TRUE,\"P\",\"A\")","v":"A"},{"$f":"IF(Attendance($C61,'Daily Register'!MA$3:MA$242)=TRUE,\"P\",\"A\")","v":"A"},{"$f":"IF(Attendance($C61,'Daily Register'!MB$3:MB$242)=TRUE,\"P\",\"A\")","v":"A"},{"$f":"IF(Attendance($C61,'Daily Register'!MC$3:MC$242)=TRUE,\"P\",\"A\")","v":"A"},{"$f":"IF(Attendance($C61,'Daily Register'!MD$3:MD$242)=TRUE,\"P\",\"A\")","v":"A"},{"$f":"IF(Attendance($C61,'Daily Register'!ME$3:ME$242)=TRUE,\"P\",\"A\")","v":"A"},{"$f":"IF(Attendance($C61,'Daily Register'!MF$3:MF$242)=TRUE,\"P\",\"A\")","v":"A"},{"$f":"IF(Attendance($C61,'Daily Register'!MG$3:MG$242)=TRUE,\"P\",\"A\")","v":"A"},{"$f":"IF(Attendance($C61,'Daily Register'!MH$3:MH$242)=TRUE,\"P\",\"A\")","v":"A"},{"$f":"IF(Attendance($C61,'Daily Register'!MI$3:MI$242)=TRUE,\"P\",\"A\")","v":"A"},{"$f":"IF(Attendance($C61,'Daily Register'!MJ$3:MJ$242)=TRUE,\"P\",\"A\")","v":"A"},{"$f":"IF(Attendance($C61,'Daily Register'!MK$3:MK$242)=TRUE,\"P\",\"A\")","v":"A"},{"$f":"IF(Attendance($C61,'Daily Register'!ML$3:ML$242)=TRUE,\"P\",\"A\")","v":"A"},{"$f":"IF(Attendance($C61,'Daily Register'!MM$3:MM$242)=TRUE,\"P\",\"A\")","v":"A"},{"$f":"IF(Attendance($C61,'Daily Register'!MN$3:MN$242)=TRUE,\"P\",\"A\")","v":"A"},{"$f":"IF(Attendance($C61,'Daily Register'!MO$3:MO$242)=TRUE,\"P\",\"A\")","v":"A"},{"$f":"IF(Attendance($C61,'Daily Register'!MP$3:MP$242)=TRUE,\"P\",\"A\")","v":"A"},{"$f":"IF(Attendance($C61,'Daily Register'!MQ$3:MQ$242)=TRUE,\"P\",\"A\")","v":"A"},{"$f":"IF(Attendance($C61,'Daily Register'!MR$3:MR$242)=TRUE,\"P\",\"A\")","v":"A"},{"$f":"IF(Attendance($C61,'Daily Register'!MS$3:MS$242)=TRUE,\"P\",\"A\")","v":"A"},{"$f":"IF(Attendance($C61,'Daily Register'!MT$3:MT$242)=TRUE,\"P\",\"A\")","v":"A"},{"$f":"IF(Attendance($C61,'Daily Register'!MU$3:MU$242)=TRUE,\"P\",\"A\")","v":"A"},{"$f":"IF(Attendance($C61,'Daily Register'!MV$3:MV$242)=TRUE,\"P\",\"A\")","v":"A"},{"$f":"IF(Attendance($C61,'Daily Register'!MW$3:MW$242)=TRUE,\"P\",\"A\")","v":"A"},{"$f":"IF(Attendance($C61,'Daily Register'!MX$3:MX$242)=TRUE,\"P\",\"A\")","v":"A"},{"$f":"IF(Attendance($C61,'Daily Register'!MY$3:MY$242)=TRUE,\"P\",\"A\")","v":"A"},{"$f":"IF(Attendance($C61,'Daily Register'!MZ$3:MZ$242)=TRUE,\"P\",\"A\")","v":"A"},{"$f":"IF(Attendance($C61,'Daily Register'!NA$3:NA$242)=TRUE,\"P\",\"A\")","v":"A"},{"$f":"IF(Attendance($C61,'Daily Register'!NB$3:NB$242)=TRUE,\"P\",\"A\")","v":"A"}]
[0,null,59,null,{"$f":"IF(Attendance($C62,'Daily Register'!A$3:A$242)=TRUE,\"P\",\"A\")","v":"A"},{"$f":"IF(Attendance($C62,'Daily Register'!B$3:B$242)=TRUE,\"P\",\"A\")","v":"A"},{"$f":"IF(Attendance($C62,'Daily Register'!C$3:C$242)=TRUE,\"P\",\"A\")","v":"A"},{"$f":"IF(Attendance($C62,'Daily Register'!D$3:D$242)=TRUE,\"P\",\"A\")","v":"A"},{"$f":"IF(Attendance($C62,'Daily Register'!E$3:E$242)=TRUE,\"P\",\"A\")","v":"A"},{"$f":"IF(Attendance($C62,'Daily Register'!F$3:F$242)=TRUE,\"P\",\"A\")","v":"A"},{"$f":"IF(Attendance($C62,'Daily Register'!G$3:G$242)=TRUE,\"P\",\"A\")","v":"A"},{"$f":"IF(Attendance($C62,'Daily Register'!H$3:H$242)=TRUE,\"P\",\"A\")","v":"A"},{"$f":"IF(Attendance($C62,'Daily Register'!I$3:I$242)=TRUE,\"P\",\"A\")","v":"A"},{"$f":"IF(Attendance($C62,'Daily Register'!J$3:J$242)=TRUE,\"P\",\"A\")","v":"A"},{"$f":"IF(Attendance($C62,'Daily Register'!K$3:K$242)=TRUE,\"P\",\"A\")","v":"A"},{"$f":"IF(Attendance($C62,'Daily Register'!L$3:L$242)=TRUE,\"P\",\"A\")","v":"A"},{"$f":"IF(Attendance($C62,'Daily Register'!M$3:M$242)=TRUE,\"P\",\"A\")","v":"A"},{"$f":"IF(Attendance($C62,'Daily Register'!N$3:N$242)=TRUE,\"P\",\"A\")","v":"A"},{"$f":"IF(Attendance($C62,'Daily Register'!O$3:O$242)=TRUE,\"P\",\"A\")","v":"A"},{"$f":"IF(Attendance($C62,'Daily Register'!P$3:P$242)=TRUE,\"P\",\"A\")","v":"A"},{"$f":"IF(Attendance($C62,'Daily Register'!Q$3:Q$242)=TRUE,\"P\",\"A\")","v":"A"},{"$f":"IF(Attendance($C62,'Daily Register'!R$3:R$242)=TRUE,\"P\",\"A\")","v":"A"},{"$f":"IF(Attendance($C62,'Daily Register'!S$3:S$242)=TRUE,\"P\",\"A\")","v":"A"},{"$f":"IF(Attendance($C62,'Daily Register'!T$3:T$242)=TRUE,\"P\",\"A\")","v":"A"},{"$f":"IF(Attendance($C62,'Daily Register'!U$3:U$242)=TRUE,\"P\",\"A\")","v":"A"},{"$f":"IF(Attendance($C62,'Daily Register'!V$3:V$242)=TRUE,\"P\",\"A\")","v":"A"},{"$f":"IF(Attendance($C62,'Daily Register'!W$3:W$242)=TRUE,\"P\",\"A\")","v":"A"},{"$f":"IF(Attendance($C62,'Daily Register'!X$3:X$242)=TRUE,\"P\",\"A\")","v":"A"},{"$f":"IF(Attendance($C62,'Daily Register'!Y$3:Y$242)=TRUE,\"P\",\"A\")","v":"A"},{"$f":"IF(Attendance($C62,'Daily Register'!Z$3:Z$242)=TRUE,\"P\",\"A\")","v":"A"},{"$f":"IF(Attendance($C62,'Daily Register'!AA$3:AA$242)=TRUE,\"P\",\"A\")","v":"A"},{"$f":"IF(Attendance($C62,'Daily Register'!AB$3:AB$242)=TRUE,\"P\",\"A\")","v":"A"},{"$f":"IF(Attendance($C62,'Daily Register'!AC$3:AC$242)=TRUE,\"P\",\"A\")","v":"A"},{"$f":"IF(Attendance($C62,'Daily Register'!AD$3:AD$242)=TRUE,\"P\",\"A\")","v":"A"},{"$f":"IF(Attendance($C62,'Daily Register'!AE$3:AE$242)=TRUE,\"P\",\"A\")","v":"A"},{"$f":"IF(Attendance($C62,'Daily Register'!AF$3:AF$242)=TRUE,\"P\",\"A\")","v":"A"},{"$f":"IF(Attendance($C62,'Daily Register'!AG$3:AG$242)=TRUE,\"P\",\"A\")","v":"A"},{"$f":"IF(Attendance($C62,'Daily Register'!AH$3:AH$242)=TRUE,\"P\",\"A\")","v":"A"},{"$f":"IF(Attendance($C62,'Daily Register'!AI$3:AI$242)=TRUE,\"P\",\"A\")","v":"A"},{"$f":"IF(Attendance($C62,'Daily Register'!AJ$3:AJ$242)=TRUE,\"P\",\"A\")","v":"A"},{"$f":"IF(Attendance($C62,'Daily Register'!AK$3:AK$242)=TRUE,\"P\",\"A\")","v":"A"},{"$f":"IF(Attendance($C62,'Daily Register'!AL$3:AL$242)=TRUE,\"P\",\"A\")","v":"A"},{"$f":"IF(Attendance($C62,'Daily Register'!AM$3:AM$242)=TRUE,\"P\",\"A\")","v":"A"},{"$f":"IF(Attendance($C62,'Daily Register'!AN$3:AN$242)=TRUE,\"P\",\"A\")","v":"A"},{"$f":"IF(Attendance($C62,'Daily Register'!AO$3:AO$242)=TRUE,\"P\",\"A\")","v":"A"},{"$f":"IF(Attendance($C62,'Daily Register'!AP$3:AP$242)=TRUE,\"P\",\"A\")","v":"A"},{"$f":"IF(Attendance($C62,'Daily Register'!AQ$3:AQ$242)=TRUE,\"P\",\"A\")","v":"A"},{"$f":"IF(Attendance($C62,'Daily Register'!AR$3:AR$242)=TRUE,\"P\",\"A\")","v":"A"},{"$f":"IF(Attendance($C62,'Daily Register'!AS$3:AS$242)=TRUE,\"P\",\"A\")","v":"A"},{"$f":"IF(Attendance($C62,'Daily Register'!AT$3:AT$242)=TRUE,\"P\",\"A\")","v":"A"},{"$f":"IF(Attendance($C62,'Daily Register'!AU$3:AU$242)=TRUE,\"P\",\"A\")","v":"A"},{"$f":"IF(Attendance($C62,'Daily Register'!AV$3:AV$242)=TRUE,\"P\",\"A\")","v":"A"},{"$f":"IF(Attendance($C62,'Daily Register'!AW$3:AW$242)=TRUE,\"P\",\"A\")","v":"A"},{"$f":"IF(Attendance($C62,'Daily Register'!AX$3:AX$242)=TRUE,\"P\",\"A\")","v":"A"},{"$f":"IF(Attendance($C62,'Daily Register'!AY$3:AY$242)=TRUE,\"P\",\"A\")","v":"A"},{"$f":"IF(Attendance($C62,'Daily Register'!AZ$3:AZ$242)=TRUE,\"P\",\"A\")","v":"A"},{"$f":"IF(Attendance($C62,'Daily Register'!BA$3:BA$242)=TRUE,\"P\",\"A\")","v":"A"},{"$f":"IF(Attendance($C62,'Daily Register'!BB$3:BB$242)=TRUE,\"P\",\"A\")","v":"A"},{"$f":"IF(Attendance($C62,'Daily Register'!BC$3:BC$242)=TRUE,\"P\",\"A\")","v":"A"},{"$f":"IF(Attendance($C62,'Daily Register'!BD$3:BD$242)=TRUE,\"P\",\"A\")","v":"A"},{"$f":"IF(Attendance($C62,'Daily Register'!BE$3:BE$242)=TRUE,\"P\",\"A\")","v":"A"},{"$f":"IF(Attendance($C62,'Daily Register'!BF$3:BF$242)=TRUE,\"P\",\"A\")","v":"A"},{"$f":"IF(Attendance($C62,'Daily Register'!BG$3:BG$242)=TRUE,\"P\",\"A\")","v":"A"},{"$f":"IF(Attendance($C62,'Daily Register'!BH$3:BH$242)=TRUE,\"P\",\"A\")","v":"A"},{"$f":"IF(Attendance($C62,'Daily Register'!BI$3:BI$242)=TRUE,\"P\",\"A\")","v":"A"},{"$f":"IF(Attendance($C62,'Daily Register'!BJ$3:BJ$242)=TRUE,\"P\",\"A\")","v":"A"},{"$f":"IF(Attendance($C62,'Daily Register'!BK$3:BK$242)=TRUE,\"P\",\"A\")","v":"A"},{"$f":"IF(Attendance($C62,'Daily Register'!BL$3:BL$242)=TRUE,\"P\",\"A\")","v":"A"},{"$f":"IF(Attendance($C62,'Daily Register'!BM$3:BM$242)=TRUE,\"P\",\"A\")","v":"A"},{"$f":"IF(Attendance($C62,'Daily Register'!BN$3:BN$242)=TRUE,\"P\",\"A\")","v":"A"},{"$f":"IF(Attendance($C62,'Daily Register'!BO$3:BO$242)=TRUE,\"P\",\"A\")","v":"A"},{"$f":"IF(Attendance($C62,'Daily Register'!BP$3:BP$242)=TRUE,\"P\",\"A\")","v":"A"},{"$f":"IF(Attendance($C62,'Daily Register'!BQ$3:BQ$242)=TRUE,\"P\",\"A\")","v":"A"},{"$f":"IF(Attendance($C62,'Daily Register'!BR$3:BR$242)=TRUE,\"P\",\"A\")","v":"A"},{"$f":"IF(Attendance($C62,'Daily Register'!BS$3:BS$242)=TRUE,\"P\",\"A\")","v":"A"},{"$f":"IF(Attendance($C62,'Daily Register'!BT$3:BT$242)=TRUE,\"P\",\"A\")","v":"A"},{"$f":"IF(Attendance($C62,'Daily Register'!BU$3:BU$242)=TRUE,\"P\",\"A\")","v":"A"},{"$f":"IF(Attendance($C62,'Daily Register'!BV$3:BV$242)=TRUE,\"P\",\"A\")","v":"A"},{"$f":"IF(Attendance($C62,'Daily Register'!BW$3:BW$242)=TRUE,\"P\",\"A\")","v":"A"},{"$f":"IF(Attendance($C62,'Daily Register'!BX$3:BX$242)=TRUE,\"P\",\"A\")","v":"A"},{"$f":"IF(Attendance($C62,'Daily Register'!BY$3:BY$242)=TRUE,\"P\",\"A\")","v":"A"},{"$f":"IF(Attendance($C62,'Daily Register'!BZ$3:BZ$242)=TRUE,\"P\",\"A\")","v":"A"},{"$f":"IF(Attendance($C62,'Daily Register'!CA$3:CA$242)=TRUE,\"P\",\"A\")","v":"A"},{"$f":"IF(Attendance($C62,'Daily Register'!CB$3:CB$242)=TRUE,\"P\",\"A\")","v":"A"},{"$f":"IF(Attendance($C62,'Daily Register'!CC$3:CC$242)=TRUE,\"P\",\"A\")","v":"A"},{"$f":"IF(Attendance($C62,'Daily Register'!CD$3:CD$242)=TRUE,\"P\",\"A\")","v":"A"},{"$f":"IF(Attendance($C62,'Daily Register'!CE$3:CE$242)=TRUE,\"P\",\"A\")","v":"A"},{"$f":"IF(Attendance($C62,'Daily Register'!CF$3:CF$242)=TRUE,\"P\",\"A\")","v":"A"},{"$f":"IF(Attendance($C62,'Daily Register'!CG$3:CG$242)=TRUE,\"P\",\"A\")","v":"A"},{"$f":"IF(Attendance($C62,'Daily Register'!CH$3:CH$242)=TRUE,\"P\",\"A\")","v":"A"},{"$f":"IF(Attendance($C62,'Daily Register'!CI$3:CI$242)=TRUE,\"P\",\"A\")","v":"A"},{"$f":"IF(Attendance($C62,'Daily Register'!CJ$3:CJ$242)=TRUE,\"P\",\"A\")","v":"A"},{"$f":"IF(Attendance($C62,'Daily Register'!CK$3:CK$242)=TRUE,\"P\",\"A\")","v":"A"},{"$f":"IF(Attendance($C62,'Daily Register'!CL$3:CL$242)=TRUE,\"P\",\"A\")","v":"A"},{"$f":"IF(Attendance($C62,'Daily Register'!CM$3:CM$242)=TRUE,\"P\",\"A\")","v":"A"},{"$f":"IF(Attendance($C62,'Daily Register'!CN$3:CN$242)=TRUE,\"P\",\"A\")","v":"A"},{"$f":"IF(Attendance($C62,'Daily Register'!CO$3:CO$242)=TRUE,\"P\",\"A\")","v":"A"},{"$f":"IF(Attendance($C62,'Daily Register'!CP$3:CP$242)=TRUE,\"P\",\"A\")","v":"A"},{"$f":"IF(Attendance($C62,'Daily Register'!CQ$3:CQ$242)=TRUE,\"P\",\"A\")","v":"A"},{"$f":"IF(Attendance($C62,'Daily Register'!CR$3:CR$242)=TRUE,\"P\",\"A\")","v":"A"},{"$f":"IF(Attendance($C62,'Daily Register'!CS$3:CS$242)=TRUE,\"P\",\"A\")","v":"A"},{"$f":"IF(Attendance($C62,'Daily Register'!CT$3:CT$242)=TRUE,\"P\",\"A\")","v":"A"},{"$f":"IF(Attendance($C62,'Daily Register'!CU$3:CU$242)=TRUE,\"P\",\"A\")","v":"A"},{"$f":"IF(Attendance($C62,'Daily Register'!CV$3:CV$242)=TRUE,\"P\",\"A\")","v":"A"},{"$f":"IF(Attendance($C62,'Daily Register'!CW$3:CW$242)=TRUE,\"P\",\"A\")","v":"A"},{"$f":"IF(Attendance($C62,'Daily Register'!CX$3:CX$242)=TRUE,\"P\",\"A\")","v":"A"},{"$f":"IF(Attendance($C62,'Daily Register'!CY$3:CY$242)=TRUE,\"P\",\"A\")","v":"A"},{"$f":"IF(Attendance($C62,'Daily Register'!CZ$3:CZ$242)=TRUE,\"P\",\"A\")","v":"A"},{"$f":"IF(Attendance($C62,'Daily Register'!DA$3:DA$242)=TRUE,\"P\",\"A\")","v":"A"},{"$f":"IF(Attendance($C62,'Daily Register'!DB$3:DB$242)=TRUE,\"P\",\"A\")","v":"A"},{"$f":"IF(Attendance($C62,'Daily Register'!DC$3:DC$242)=TRUE,\"P\",\"A\")","v":"A"},{"$f":"IF(Attendance($C62,'Daily Register'!DD$3:DD$242)=TRUE,\"P\",\"A\")","v":"A"},{"$f":"IF(Attendance($C62,'Daily Register'!DE$3:DE$242)=TRUE,\"P\",\"A\")","v":"A"},{"$f":"IF(Attendance($C62,'Daily Register'!DF$3:DF$242)=TRUE,\"P\",\"A\")","v":"A"},{"$f":"IF(Attendance($C62,'Daily Register'!DG$3:DG$242)=TRUE,\"P\",\"A\")","v":"A"},{"$f":"IF(Attendance($C62,'Daily Register'!DH$3:DH$242)=TRUE,\"P\",\"A\")","v":"A"},{"$f":"IF(Attendance($C62,'Daily Register'!DI$3:DI$242)=TRUE,\"P\",\"A\")","v":"A"},{"$f":"IF(Attendance($C62,'Daily Register'!DJ$3:DJ$242)=TRUE,\"P\",\"A\")","v":"A"},{"$f":"IF(Attendance($C62,'Daily Register'!DK$3:DK$242)=TRUE,\"P\",\"A\")","v":"A"},{"$f":"IF(Attendance($C62,'Daily Register'!DL$3:DL$242)=TRUE,\"P\",\"A\")","v":"A"},{"$f":"IF(Attendance($C62,'Daily Register'!DM$3:DM$242)=TRUE,\"P\",\"A\")","v":"A"},{"$f":"IF(Attendance($C62,'Daily Register'!DN$3:DN$242)=TRUE,\"P\",\"A\")","v":"A"},{"$f":"IF(Attendance($C62,'Daily Register'!DO$3:DO$242)=TRUE,\"P\",\"A\")","v":"A"},{"$f":"IF(Attendance($C62,'Daily Register'!DP$3:DP$242)=TRUE,\"P\",\"A\")","v":"A"},{"$f":"IF(Attendance($C62,'Daily Register'!DQ$3:DQ$242)=TRUE,\"P\",\"A\")","v":"A"},{"$f":"IF(Attendance($C62,'Daily Register'!DR$3:DR$242)=TRUE,\"P\",\"A\")","v":"A"},{"$f":"IF(Attendance($C62,'Daily Register'!DS$3:DS$242)=TRUE,\"P\",\"A\")","v":"A"},{"$f":"IF(Attendance($C62,'Daily Register'!DT$3:DT$242)=TRUE,\"P\",\"A\")","v":"A"},{"$f":"IF(Attendance($C62,'Daily Register'!DU$3:DU$242)=TRUE,\"P\",\"A\")","v":"A"},{"$f":"IF(Attendance($C62,'Daily Register'!DV$3:DV$242)=TRUE,\"P\",\"A\")","v":"A"},{"$f":"IF(Attendance($C62,'Daily Register'!DW$3:DW$242)=TRUE,\"P\",\"A\")","v":"A"},{"$f":"IF(Attendance($C62,'Daily Register'!DX$3:DX$242)=TRUE,\"P\",\"A\")","v":"A"},{"$f":"IF(Attendance($C62,'Daily Register'!DY$3:DY$242)=TRUE,\"P\",\"A\")","v":"A"},{"$f":"IF(Attendance($C62,'Daily Register'!DZ$3:DZ$242)=TRUE,\"P\",\"A\")","v":"A"},{"$f":"IF(Attendance($C62,'Daily Register'!EA$3:EA$242)=TRUE,\"P\",\"A\")","v":"A"},{"$f":"IF(Attendance($C62,'Daily Register'!EB$3:EB$242)=TRUE,\"P\",\"A\")","v":"A"},{"$f":"IF(Attendance($C62,'Daily Register'!EC$3:EC$242)=TRUE,\"P\",\"A\")","v":"A"},{"$f":"IF(Attendance($C62,'Daily Register'!ED$3:ED$242)=TRUE,\"P\",\"A\")","v":"A"},{"$f":"IF(Attendance($C62,'Daily Register'!EE$3:EE$242)=TRUE,\"P\",\"A\")","v":"A"},{"$f":"IF(Attendance($C62,'Daily Register'!EF$3:EF$242)=TRUE,\"P\",\"A\")","v":"A"},{"$f":"IF(Attendance($C62,'Daily Register'!EG$3:EG$242)=TRUE,\"P\",\"A\")","v":"A"},{"$f":"IF(Attendance($C62,'Daily Register'!EH$3:EH$242)=TRUE,\"P\",\"A\")","v":"A"},{"$f":"IF(Attendance($C62,'Daily Register'!EI$3:EI$242)=TRUE,\"P\",\"A\")","v":"A"},{"$f":"IF(Attendance($C62,'Daily Register'!EJ$3:EJ$242)=TRUE,\"P\",\"A\")","v":"A"},{"$f":"IF(Attendance($C62,'Daily Register'!EK$3:EK$242)=TRUE,\"P\",\"A\")","v":"A"},{"$f":"IF(Attendance($C62,'Daily Register'!EL$3:EL$242)=TRUE,\"P\",\"A\")","v":"A"},{"$f":"IF(Attendance($C62,'Daily Register'!EM$22:EM$242)=TRUE,\"P\",\"A\")","v":"A"},{"$f":"IF(Attendance($C62,'Daily Register'!EN$3:EN$242)=TRUE,\"P\",\"A\")","v":"A"},{"$f":"IF(Attendance($C62,'Daily Register'!EO$3:EO$242)=TRUE,\"P\",\"A\")","v":"A"},{"$f":"IF(Attendance($C62,'Daily Register'!EP$3:EP$242)=TRUE,\"P\",\"A\")","v":"A"},{"$f":"IF(Attendance($C62,'Daily Register'!EQ$3:EQ$242)=TRUE,\"P\",\"A\")","v":"A"},{"$f":"IF(Attendance($C62,'Daily Register'!ER$3:ER$242)=TRUE,\"P\",\"A\")","v":"A"},{"$f":"IF(Attendance($C62,'Daily Register'!ES$3:ES$242)=TRUE,\"P\",\"A\")","v":"A"},{"$f":"IF(Attendance($C62,'Daily Register'!ET$3:ET$242)=TRUE,\"P\",\"A\")","v":"A"},{"$f":"IF(Attendance($C62,'Daily Register'!EU$3:EU$242)=TRUE,\"P\",\"A\")","v":"A"},{"$f":"IF(Attendance($C62,'Daily Register'!EV$3:EV$242)=TRUE,\"P\",\"A\")","v":"A"},{"$f":"IF(Attendance($C62,'Daily Register'!EW$3:EW$242)=TRUE,\"P\",\"A\")","v":"A"},{"$f":"IF(Attendance($C62,'Daily Register'!EX$3:EX$242)=TRUE,\"P\",\"A\")","v":"A"},{"$f":"IF(Attendance($C62,'Daily Register'!EY$3:EY$242)=TRUE,\"P\",\"A\")","v":"A"},{"$f":"IF(Attendance($C62,'Daily Register'!EZ$3:EZ$242)=TRUE,\"P\",\"A\")","v":"A"},{"$f":"IF(Attendance($C62,'Daily Register'!FA$3:FA$242)=TRUE,\"P\",\"A\")","v":"A"},{"$f":"IF(Attendance($C62,'Daily Register'!FB$3:FB$242)=TRUE,\"P\",\"A\")","v":"A"},{"$f":"IF(Attendance($C62,'Daily Register'!FC$3:FC$242)=TRUE,\"P\",\"A\")","v":"A"},{"$f":"IF(Attendance($C62,'Daily Register'!FD$3:FD$242)=TRUE,\"P\",\"A\")","v":"A"},{"$f":"IF(Attendance($C62,'Daily Register'!FE$3:FE$242)=TRUE,\"P\",\"A\")","v":"A"},{"$f":"IF(Attendance($C62,'Daily Register'!FF$3:FF$242)=TRUE,\"P\",\"A\")","v":"A"},{"$f":"IF(Attendance($C62,'Daily Register'!FG$3:FG$242)=TRUE,\"P\",\"A\")","v":"A"},{"$f":"IF(Attendance($C62,'Daily Register'!FH$3:FH$242)=TRUE,\"P\",\"A\")","v":"A"},{"$f":"IF(Attendance($C62,'Daily Register'!FI$3:FI$242)=TRUE,\"P\",\"A\")","v":"A"},{"$f":"IF(Attendance($C62,'Daily Register'!FJ$3:FJ$242)=TRUE,\"P\",\"A\")","v":"A"},{"$f":"IF(Attendance($C62,'Daily Register'!FK$3:FK$242)=TRUE,\"P\",\"A\")","v":"A"},{"$f":"IF(Attendance($C62,'Daily Register'!FL$3:FL$242)=TRUE,\"P\",\"A\")","v":"A"},{"$f":"IF(Attendance($C62,'Daily Register'!FM$3:FM$242)=TRUE,\"P\",\"A\")","v":"A"},{"$f":"IF(Attendance($C62,'Daily Register'!FN$3:FN$242)=TRUE,\"P\",\"A\")","v":"A"},{"$f":"IF(Attendance($C62,'Daily Register'!FO$3:FO$242)=TRUE,\"P\",\"A\")","v":"A"},{"$f":"IF(Attendance($C62,'Daily Register'!FP$3:FP$242)=TRUE,\"P\",\"A\")","v":"A"},{"$f":"IF(Attendance($C62,'Daily Register'!FQ$3:FQ$242)=TRUE,\"P\",\"A\")","v":"A"},{"$f":"IF(Attendance($C62,'Daily Register'!FR$3:FR$242)=TRUE,\"P\",\"A\")","v":"A"},{"$f":"IF(Attendance($C62,'Daily Register'!FS$3:FS$242)=TRUE,\"P\",\"A\")","v":"A"},{"$f":"IF(Attendance($C62,'Daily Register'!FT$3:FT$242)=TRUE,\"P\",\"A\")","v":"A"},{"$f":"IF(Attendance($C62,'Daily Register'!FU$3:FU$242)=TRUE,\"P\",\"A\")","v":"A"},{"$f":"IF(Attendance($C62,'Daily Register'!FV$3:FV$242)=TRUE,\"P\",\"A\")","v":"A"},{"$f":"IF(Attendance($C62,'Daily Register'!FW$3:FW$242)=TRUE,\"P\",\"A\")","v":"A"},{"$f":"IF(Attendance($C62,'Daily Register'!FX$3:FX$242)=TRUE,\"P\",\"A\")","v":"A"},{"$f":"IF(Attendance($C62,'Daily Register'!FY$3:FY$242)=TRUE,\"P\",\"A\")","v":"A"},{"$f":"IF(Attendance($C62,'Daily Register'!FZ$3:FZ$242)=TRUE,\"P\",\"A\")","v":"A"},{"$f":"IF(Attendance($C62,'Daily Register'!GA$3:GA$242)=TRUE,\"P\",\"A\")","v":"A"},{"$f":"IF(Attendance($C62,'Daily Register'!GB$3:GB$242)=TRUE,\"P\",\"A\")","v":"A"},{"$f":"IF(Attendance($C62,'Daily Register'!GC$3:GC$242)=TRUE,\"P\",\"A\")","v":"A"},{"$f":"IF(Attendance($C62,'Daily Register'!GD$3:GD$242)=TRUE,\"P\",\"A\")","v":"A"},{"$f":"IF(Attendance($C62,'Daily Register'!GE$3:GE$242)=TRUE,\"P\",\"A\")","v":"A"},{"$f":"IF(Attendance($C62,'Daily Register'!GF$3:GF$242)=TRUE,\"P\",\"A\")","v":"A"},{"$f":"IF(Attendance($C62,'Daily Register'!GG$3:GG$242)=TRUE,\"P\",\"A\")","v":"A"},{"$f":"IF(Attendance($C62,'Daily Register'!GH$3:GH$242)=TRUE,\"P\",\"A\")","v":"A"},{"$f":"IF(Attendance($C62,'Daily Register'!GI$3:GI$242)=TRUE,\"P\",\"A\")","v":"A"},{"$f":"IF(Attendance($C62,'Daily Register'!GJ$3:GJ$242)=TRUE,\"P\",\"A\")","v":"A"},{"$f":"IF(Attendance($C62,'Daily Register'!GK$3:GK$242)=TRUE,\"P\",\"A\")","v":"A"},{"$f":"IF(Attendance($C62,'Daily Register'!GL$3:GL$242)=TRUE,\"P\",\"A\")","v":"A"},{"$f":"IF(Attendance($C62,'Daily Register'!GM$3:GM$242)=TRUE,\"P\",\"A\")","v":"A"},{"$f":"IF(Attendance($C62,'Daily Register'!GN$3:GN$242)=TRUE,\"P\",\"A\")","v":"A"},{"$f":"IF(Attendance($C62,'Daily Register'!GO$3:GO$242)=TRUE,\"P\",\"A\")","v":"A"},{"$f":"IF(Attendance($C62,'Daily Register'!GP$3:GP$242)=TRUE,\"P\",\"A\")","v":"A"},{"$f":"IF(Attendance($C62,'Daily Register'!GQ$3:GQ$242)=TRUE,\"P\",\"A\")","v":"A"},{"$f":"IF(Attendance($C62,'Daily Register'!GR$3:GR$242)=TRUE,\"P\",\"A\")","v":"A"},{"$f":"IF(Attendance($C62,'Daily Register'!GS$3:GS$242)=TRUE,\"P\",\"A\")","v":"A"},{"$f":"IF(Attendance($C62,'Daily Register'!GT$3:GT$242)=TRUE,\"P\",\"A\")","v":"A"},{"$f":"IF(Attendance($C62,'Daily Register'!GU$3:GU$242)=TRUE,\"P\",\"A\")","v":"A"},{"$f":"IF(Attendance($C62,'Daily Register'!GV$3:GV$242)=TRUE,\"P\",\"A\")","v":"A"},{"$f":"IF(Attendance($C62,'Daily Register'!GW$3:GW$242)=TRUE,\"P\",\"A\")","v":"A"},{"$f":"IF(Attendance($C62,'Daily Register'!GX$3:GX$242)=TRUE,\"P\",\"A\")","v":"A"},{"$f":"IF(Attendance($C62,'Daily Register'!GY$3:GY$242)=TRUE,\"P\",\"A\")","v":"A"},{"$f":"IF(Attendance($C62,'Daily Register'!GZ$3:GZ$242)=TRUE,\"P\",\"A\")","v":"A"},{"$f":"IF(Attendance($C62,'Daily Register'!HA$3:HA$242)=TRUE,\"P\",\"A\")","v":"A"},{"$f":"IF(Attendance($C62,'Daily Register'!HB$3:HB$242)=TRUE,\"P\",\"A\")","v":"A"},{"$f":"IF(Attendance($C62,'Daily Register'!HC$3:HC$242)=TRUE,\"P\",\"A\")","v":"A"},{"$f":"IF(Attendance($C62,'Daily Register'!HD$3:HD$242)=TRUE,\"P\",\"A\")","v":"A"},{"$f":"IF(Attendance($C62,'Daily Register'!HE$3:HE$242)=TRUE,\"P\",\"A\")","v":"A"},{"$f":"IF(Attendance($C62,'Daily Register'!HF$3:HF$242)=TRUE,\"P\",\"A\")","v":"A"},{"$f":"IF(Attendance($C62,'Daily Register'!HG$3:HG$242)=TRUE,\"P\",\"A\")","v":"A"},{"$f":"IF(Attendance($C62,'Daily Register'!HH$3:HH$242)=TRUE,\"P\",\"A\")","v":"A"},{"$f":"IF(Attendance($C62,'Daily Register'!HI$3:HI$242)=TRUE,\"P\",\"A\")","v":"A"},{"$f":"IF(Attendance($C62,'Daily Register'!HJ$3:HJ$242)=TRUE,\"P\",\"A\")","v":"A"},{"$f":"IF(Attendance($C62,'Daily Register'!HK$3:HK$242)=TRUE,\"P\",\"A\")","v":"A"},{"$f":"IF(Attendance($C62,'Daily Register'!HL$3:HL$242)=TRUE,\"P\",\"A\")","v":"A"},{"$f":"IF(Attendance($C62,'Daily Register'!HM$3:HM$242)=TRUE,\"P\",\"A\")","v":"A"},{"$f":"IF(Attendance($C62,'Daily Register'!HN$3:HN$242)=TRUE,\"P\",\"A\")","v":"A"},{"$f":"IF(Attendance($C62,'Daily Register'!HO$3:HO$242)=TRUE,\"P\",\"A\")","v":"A"},{"$f":"IF(Attendance($C62,'Daily Register'!HP$3:HP$242)=TRUE,\"P\",\"A\")","v":"A"},{"$f":"IF(Attendance($C62,'Daily Register'!HQ$3:HQ$242)=TRUE,\"P\",\"A\")","v":"A"},{"$f":"IF(Attendance($C62,'Daily Register'!HR$3:HR$242)=TRUE,\"P\",\"A\")","v":"A"},{"$f":"IF(Attendance($C62,'Daily Register'!HS$3:HS$242)=TRUE,\"P\",\"A\")","v":"A"},{"$f":"IF(Attendance($C62,'Daily Register'!HT$3:HT$242)=TRUE,\"P\",\"A\")","v":"A"},{"$f":"IF(Attendance($C62,'Daily Register'!HU$3:HU$242)=TRUE,\"P\",\"A\")","v":"A"},{"$f":"IF(Attendance($C62,'Daily Register'!HV$3:HV$242)=TRUE,\"P\",\"A\")","v":"A"},{"$f":"IF(Attendance($C62,'Daily Register'!HW$3:HW$242)=TRUE,\"P\",\"A\")","v":"A"},{"$f":"IF(Attendance($C62,'Daily Register'!HX$3:HX$242)=TRUE,\"P\",\"A\")","v":"A"},{"$f":"IF(Attendance($C62,'Daily Register'!HY$3:HY$242)=TRUE,\"P\",\"A\")","v":"A"},{"$f":"IF(Attendance($C62,'Daily Register'!HZ$3:HZ$242)=TRUE,\"P\",\"A\")","v":"A"},{"$f":"IF(Attendance($C62,'Daily Register'!IA$3:IA$242)=TRUE,\"P\",\"A\")","v":"A"},{"$f":"IF(Attendance($C62,'Daily Register'!IB$3:IB$242)=TRUE,\"P\",\"A\")","v":"A"},{"$f":"IF(Attendance($C62,'Daily Register'!IC$3:IC$242)=TRUE,\"P\",\"A\")","v":"A"},{"$f":"IF(Attendance($C62,'Daily Register'!ID$3:ID$242)=TRUE,\"P\",\"A\")","v":"A"},{"$f":"IF(Attendance($C62,'Daily Register'!IE$3:IE$242)=TRUE,\"P\",\"A\")","v":"A"},{"$f":"IF(Attendance($C62,'Daily Register'!IF$3:IF$242)=TRUE,\"P\",\"A\")","v":"A"},{"$f":"IF(Attendance($C62,'Daily Register'!IG$3:IG$242)=TRUE,\"P\",\"A\")","v":"A"},{"$f":"IF(Attendance($C62,'Daily Register'!IH$3:IH$242)=TRUE,\"P\",\"A\")","v":"A"},{"$f":"IF(Attendance($C62,'Daily Register'!II$3:II$242)=TRUE,\"P\",\"A\")","v":"A"},{"$f":"IF(Attendance($C62,'Daily Register'!IJ$3:IJ$242)=TRUE,\"P\",\"A\")","v":"A"},{"$f":"IF(Attendance($C62,'Daily Register'!IK$3:IK$242)=TRUE,\"P\",\"A\")","v":"A"},{"$f":"IF(Attendance($C62,'Daily Register'!IL$3:IL$242)=TRUE,\"P\",\"A\")","v":"A"},{"$f":"IF(Attendance($C62,'Daily Register'!IM$3:IM$242)=TRUE,\"P\",\"A\")","v":"A"},{"$f":"IF(Attendance($C62,'Daily Register'!IN$3:IN$242)=TRUE,\"P\",\"A\")","v":"A"},{"$f":"IF(Attendance($C62,'Daily Register'!IO$3:IO$242)=TRUE,\"P\",\"A\")","v":"A"},{"$f":"IF(Attendance($C62,'Daily Register'!IP$3:IP$242)=TRUE,\"P\",\"A\")","v":"A"},{"$f":"IF(Attendance($C62,'Daily Register'!IQ$3:IQ$242)=TRUE,\"P\",\"A\")","v":"A"},{"$f":"IF(Attendance($C62,'Daily Register'!IR$3:IR$242)=TRUE,\"P\",\"A\")","v":"A"},{"$f":"IF(Attendance($C62,'Daily Register'!IS$3:IS$242)=TRUE,\"P\",\"A\")","v":"A"},{"$f":"IF(Attendance($C62,'Daily Register'!IT$3:IT$242)=TRUE,\"P\",\"A\")","v":"A"},{"$f":"IF(Attendance($C62,'Daily Register'!IU$3:IU$242)=TRUE,\"P\",\"A\")","v":"A"},{"$f":"IF(Attendance($C62,'Daily Register'!IV$3:IV$242)=TRUE,\"P\",\"A\")","v":"A"},{"$f":"IF(Attendance($C62,'Daily Register'!IW$3:IW$242)=TRUE,\"P\",\"A\")","v":"A"},{"$f":"IF(Attendance($C62,'Daily Register'!IX$3:IX$242)=TRUE,\"P\",\"A\")","v":"A"},{"$f":"IF(Attendance($C62,'Daily Register'!IY$3:IY$242)=TRUE,\"P\",\"A\")","v":"A"},{"$f":"IF(Attendance($C62,'Daily Register'!IZ$3:IZ$242)=TRUE,\"P\",\"A\")","v":"A"},{"$f":"IF(Attendance($C62,'Daily Register'!JA$3:JA$242)=TRUE,\"P\",\"A\")","v":"A"},{"$f":"IF(Attendance($C62,'Daily Register'!JB$3:JB$242)=TRUE,\"P\",\"A\")","v":"A"},{"$f":"IF(Attendance($C62,'Daily Register'!JC$3:JC$242)=TRUE,\"P\",\"A\")","v":"A"},{"$f":"IF(Attendance($C62,'Daily Register'!JD$3:JD$242)=TRUE,\"P\",\"A\")","v":"A"},{"$f":"IF(Attendance($C62,'Daily Register'!JE$3:JE$242)=TRUE,\"P\",\"A\")","v":"A"},{"$f":"IF(Attendance($C62,'Daily Register'!JF$3:JF$242)=TRUE,\"P\",\"A\")","v":"A"},{"$f":"IF(Attendance($C62,'Daily Register'!JG$3:JG$242)=TRUE,\"P\",\"A\")","v":"A"},{"$f":"IF(Attendance($C62,'Daily Register'!JH$3:JH$242)=TRUE,\"P\",\"A\")","v":"A"},{"$f":"IF(Attendance($C62,'Daily Register'!JI$3:JI$242)=TRUE,\"P\",\"A\")","v":"A"},{"$f":"IF(Attendance($C62,'Daily Register'!JJ$3:JJ$242)=TRUE,\"P\",\"A\")","v":"A"},{"$f":"IF(Attendance($C62,'Daily Register'!JK$3:JK$242)=TRUE,\"P\",\"A\")","v":"A"},{"$f":"IF(Attendance($C62,'Daily Register'!JL$3:JL$242)=TRUE,\"P\",\"A\")","v":"A"},{"$f":"IF(Attendance($C62,'Daily Register'!JM$3:JM$242)=TRUE,\"P\",\"A\")","v":"A"},{"$f":"IF(Attendance($C62,'Daily Register'!JN$3:JN$242)=TRUE,\"P\",\"A\")","v":"A"},{"$f":"IF(Attendance($C62,'Daily Register'!JO$3:JO$242)=TRUE,\"P\",\"A\")","v":"A"},{"$f":"IF(Attendance($C62,'Daily Register'!JP$3:JP$242)=TRUE,\"P\",\"A\")","v":"A"},{"$f":"IF(Attendance($C62,'Daily Register'!JQ$3:JQ$242)=TRUE,\"P\",\"A\")","v":"A"},{"$f":"IF(Attendance($C62,'Daily Register'!JR$3:JR$242)=TRUE,\"P\",\"A\")","v":"A"},{"$f":"IF(Attendance($C62,'Daily Register'!JS$3:JS$242)=TRUE,\"P\",\"A\")","v":"A"},{"$f":"IF(Attendance($C62,'Daily Register'!JT$3:JT$242)=TRUE,\"P\",\"A\")","v":"A"},{"$f":"IF(Attendance($C62,'Daily Register'!JU$3:JU$242)=TRUE,\"P\",\"A\")","v":"A"},{"$f":"IF(Attendance($C62,'Daily Register'!JV$3:JV$242)=TRUE,\"P\",\"A\")","v":"A"},{"$f":"IF(Attendance($C62,'Daily Register'!JW$3:JW$242)=TRUE,\"P\",\"A\")","v":"A"},{"$f":"IF(Attendance($C62,'Daily Register'!JX$3:JX$242)=TRUE,\"P\",\"A\")","v":"A"},{"$f":"IF(Attendance($C62,'Daily Register'!JY$3:JY$242)=TRUE,\"P\",\"A\")","v":"A"},{"$f":"IF(Attendance($C62,'Daily Register'!JZ$3:JZ$242)=TRUE,\"P\",\"A\")","v":"A"},{"$f":"IF(Attendance($C62,'Daily Register'!KA$3:KA$242)=TRUE,\"P\",\"A\")","v":"A"},{"$f":"IF(Attendance($C62,'Daily Register'!KB$3:KB$242)=TRUE,\"P\",\"A\")","v":"A"},{"$f":"IF(Attendance($C62,'Daily Register'!KC$3:KC$242)=TRUE,\"P\",\"A\")","v":"A"},{"$f":"IF(Attendance($C62,'Daily Register'!KD$3:KD$242)=TRUE,\"P\",\"A\")","v":"A"},{"$f":"IF(Attendance($C62,'Daily Register'!KE$3:KE$242)=TRUE,\"P\",\"A\")","v":"A"},{"$f":"IF(Attendance($C62,'Daily Register'!KF$3:KF$242)=TRUE,\"P\",\"A\")","v":"A"},{"$f":"IF(Attendance($C62,'Daily Register'!KG$3:KG$242)=TRUE,\"P\",\"A\")","v":"A"},{"$f":"IF(Attendance($C62,'Daily Register'!KH$3:KH$242)=TRUE,\"P\",\"A\")","v":"A"},{"$f":"IF(Attendance($C62,'Daily Register'!KI$3:KI$242)=TRUE,\"P\",\"A\")","v":"A"},{"$f":"IF(Attendance($C62,'Daily Register'!KJ$3:KJ$242)=TRUE,\"P\",\"A\")","v":"A"},{"$f":"IF(Attendance($C62,'Daily Register'!KK$3:KK$242)=TRUE,\"P\",\"A\")","v":"A"},{"$f":"IF(Attendance($C62,'Daily Register'!KL$3:KL$242)=TRUE,\"P\",\"A\")","v":"A"},{"$f":"IF(Attendance($C62,'Daily Register'!KM$3:KM$242)=TRUE,\"P\",\"A\")","v":"A"},{"$f":"IF(Attendance($C62,'Daily Register'!KN$3:KN$242)=TRUE,\"P\",\"A\")","v":"A"},{"$f":"IF(Attendance($C62,'Daily Register'!KO$3:KO$242)=TRUE,\"P\",\"A\")","v":"A"},{"$f":"IF(Attendance($C62,'Daily Register'!KP$3:KP$242)=TRUE,\"P\",\"A\")","v":"A"},{"$f":"IF(Attendance($C62,'Daily Register'!KQ$3:KQ$242)=TRUE,\"P\",\"A\")","v":"A"},{"$f":"IF(Attendance($C62,'Daily Register'!KR$3:KR$242)=TRUE,\"P\",\"A\")","v":"A"},{"$f":"IF(Attendance($C62,'Daily Register'!KS$3:KS$242)=TRUE,\"P\",\"A\")","v":"A"},{"$f":"IF(Attendance($C62,'Daily Register'!KT$3:KT$242)=TRUE,\"P\",\"A\")","v":"A"},{"$f":"IF(Attendance($C62,'Daily Register'!KU$3:KU$242)=TRUE,\"P\",\"A\")","v":"A"},{"$f":"IF(Attendance($C62,'Daily Register'!KV$3:KV$242)=TRUE,\"P\",\"A\")","v":"A"},{"$f":"IF(Attendance($C62,'Daily Register'!KW$3:KW$242)=TRUE,\"P\",\"A\")","v":"A"},{"$f":"IF(Attendance($C62,'Daily Register'!KX$3:KX$242)=TRUE,\"P\",\"A\")","v":"A"},{"$f":"IF(Attendance($C62,'Daily Register'!KY$3:KY$242)=TRUE,\"P\",\"A\")","v":"A"},{"$f":"IF(Attendance($C62,'Daily Register'!KZ$3:KZ$242)=TRUE,\"P\",\"A\")","v":"A"},{"$f":"IF(Attendance($C62,'Daily Register'!LA$3:LA$242)=TRUE,\"P\",\"A\")","v":"A"},{"$f":"IF(Attendance($C62,'Daily Register'!LB$3:LB$242)=TRUE,\"P\",\"A\")","v":"A"},{"$f":"IF(Attendance($C62,'Daily Register'!LC$3:LC$242)=TRUE,\"P\",\"A\")","v":"A"},{"$f":"IF(Attendance($C62,'Daily Register'!LD$3:LD$242)=TRUE,\"P\",\"A\")","v":"A"},{"$f":"IF(Attendance($C62,'Daily Register'!LE$3:LE$242)=TRUE,\"P\",\"A\")","v":"A"},{"$f":"IF(Attendance($C62,'Daily Register'!LF$3:LF$242)=TRUE,\"P\",\"A\")","v":"A"},{"$f":"IF(Attendance($C62,'Daily Register'!LG$3:LG$242)=TRUE,\"P\",\"A\")","v":"A"},{"$f":"IF(Attendance($C62,'Daily Register'!LH$3:LH$242)=TRUE,\"P\",\"A\")","v":"A"},{"$f":"IF(Attendance($C62,'Daily Register'!LI$3:LI$242)=TRUE,\"P\",\"A\")","v":"A"},{"$f":"IF(Attendance($C62,'Daily Register'!LJ$3:LJ$242)=TRUE,\"P\",\"A\")","v":"A"},{"$f":"IF(Attendance($C62,'Daily Register'!LK$3:LK$242)=TRUE,\"P\",\"A\")","v":"A"},{"$f":"IF(Attendance($C62,'Daily Register'!LL$3:LL$242)=TRUE,\"P\",\"A\")","v":"A"},{"$f":"IF(Attendance($C62,'Daily Register'!LM$3:LM$242)=TRUE,\"P\",\"A\")","v":"A"},{"$f":"IF(Attendance($C62,'Daily Register'!LN$3:LN$242)=TRUE,\"P\",\"A\")","v":"A"},{"$f":"IF(Attendance($C62,'Daily Register'!LO$3:LO$242)=TRUE,\"P\",\"A\")","v":"A"},{"$f":"IF(Attendance($C62,'Daily Register'!LP$3:LP$242)=TRUE,\"P\",\"A\")","v":"A"},{"$f":"IF(Attendance($C62,'Daily Register'!LQ$3:LQ$242)=TRUE,\"P\",\"A\")","v":"A"},{"$f":"IF(Attendance($C62,'Daily Register'!LR$3:LR$242)=TRUE,\"P\",\"A\")","v":"A"},{"$f":"IF(Attendance($C62,'Daily Register'!LS$3:LS$242)=TRUE,\"P\",\"A\")","v":"A"},{"$f":"IF(Attendance($C62,'Daily Register'!LT$3:LT$242)=TRUE,\"P\",\"A\")","v":"A"},{"$f":"IF(Attendance($C62,'Daily Register'!LU$3:LU$242)=TRUE,\"P\",\"A\")","v":"A"},{"$f":"IF(Attendance($C62,'Daily Register'!LV$3:LV$242)=TRUE,\"P\",\"A\")","v":"A"},{"$f":"IF(Attendance($C62,'Daily Register'!LW$3:LW$242)=TRUE,\"P\",\"A\")","v":"A"},{"$f":"IF(Attendance($C62,'Daily Register'!LX$3:LX$242)=TRUE,\"P\",\"A\")","v":"A"},{"$f":"IF(Attendance($C62,'Daily Register'!LY$3:LY$242)=TRUE,\"P\",\"A\")","v":"A"},{"$f":"IF(Attendance($C62,'Daily Register'!LZ$3:LZ$242)=TRUE,\"P\",\"A\")","v":"A"},{"$f":"IF(Attendance($C62,'Daily Register'!MA$3:MA$242)=TRUE,\"P\",\"A\")","v":"A"},{"$f":"IF(Attendance($C62,'Daily Register'!MB$3:MB$242)=TRUE,\"P\",\"A\")","v":"A"},{"$f":"IF(Attendance($C62,'Daily Register'!MC$3:MC$242)=TRUE,\"P\",\"A\")","v":"A"},{"$f":"IF(Attendance($C62,'Daily Register'!MD$3:MD$242)=TRUE,\"P\",\"A\")","v":"A"},{"$f":"IF(Attendance($C62,'Daily Register'!ME$3:ME$242)=TRUE,\"P\",\"A\")","v":"A"},{"$f":"IF(Attendance($C62,'Daily Register'!MF$3:MF$242)=TRUE,\"P\",\"A\")","v":"A"},{"$f":"IF(Attendance($C62,'Daily Register'!MG$3:MG$242)=TRUE,\"P\",\"A\")","v":"A"},{"$f":"IF(Attendance($C62,'Daily Register'!MH$3:MH$242)=TRUE,\"P\",\"A\")","v":"A"},{"$f":"IF(Attendance($C62,'Daily Register'!MI$3:MI$242)=TRUE,\"P\",\"A\")","v":"A"},{"$f":"IF(Attendance($C62,'Daily Register'!MJ$3:MJ$242)=TRUE,\"P\",\"A\")","v":"A"},{"$f":"IF(Attendance($C62,'Daily Register'!MK$3:MK$242)=TRUE,\"P\",\"A\")","v":"A"},{"$f":"IF(Attendance($C62,'Daily Register'!ML$3:ML$242)=TRUE,\"P\",\"A\")","v":"A"},{"$f":"IF(Attendance($C62,'Daily Register'!MM$3:MM$242)=TRUE,\"P\",\"A\")","v":"A"},{"$f":"IF(Attendance($C62,'Daily Register'!MN$3:MN$242)=TRUE,\"P\",\"A\")","v":"A"},{"$f":"IF(Attendance($C62,'Daily Register'!MO$3:MO$242)=TRUE,\"P\",\"A\")","v":"A"},{"$f":"IF(Attendance($C62,'Daily Register'!MP$3:MP$242)=TRUE,\"P\",\"A\")","v":"A"},{"$f":"IF(Attendance($C62,'Daily Register'!MQ$3:MQ$242)=TRUE,\"P\",\"A\")","v":"A"},{"$f":"IF(Attendance($C62,'Daily Register'!MR$3:MR$242)=TRUE,\"P\",\"A\")","v":"A"},{"$f":"IF(Attendance($C62,'Daily Register'!MS$3:MS$242)=TRUE,\"P\",\"A\")","v":"A"},{"$f":"IF(Attendance($C62,'Daily Register'!MT$3:MT$242)=TRUE,\"P\",\"A\")","v":"A"},{"$f":"IF(Attendance($C62,'Daily Register'!MU$3:MU$242)=TRUE,\"P\",\"A\")","v":"A"},{"$f":"IF(Attendance($C62,'Daily Register'!MV$3:MV$242)=TRUE,\"P\",\"A\")","v":"A"},{"$f":"IF(Attendance($C62,'Daily Register'!MW$3:MW$242)=TRUE,\"P\",\"A\")","v":"A"},{"$f":"IF(Attendance($C62,'Daily Register'!MX$3:MX$242)=TRUE,\"P\",\"A\")","v":"A"},{"$f":"IF(Attendance($C62,'Daily Register'!MY$3:MY$242)=TRUE,\"P\",\"A\")","v":"A"},{"$f":"IF(Attendance($C62,'Daily Register'!MZ$3:MZ$242)=TRUE,\"P\",\"A\")","v":"A"},{"$f":"IF(Attendance($C62,'Daily Register'!NA$3:NA$242)=TRUE,\"P\",\"A\")","v":"A"},{"$f":"IF(Attendance($C62,'Daily Register'!NB$3:NB$242)=TRUE,\"P\",\"A\")","v":"A"}]
[0,null,60,null,{"$f":"IF(Attendance($C63,'Daily Register'!A$3:A$242)=TRUE,\"P\",\"A\")","v":"A"},{"$f":"IF(Attendance($C63,'Daily Register'!B$3:B$242)=TRUE,\"P\",\"A\")","v":"A"},{"$f":"IF(Attendance($C63,'Daily Register'!C$3:C$242)=TRUE,\"P\",\"A\")","v":"A"},{"$f":"IF(Attendance($C63,'Daily Register'!D$3:D$242)=TRUE,\"P\",\"A\")","v":"A"},{"$f":"IF(Attendance($C63,'Daily Register'!E$3:E$242)=TRUE,\"P\",\"A\")","v":"A"},{"$f":"IF(Attendance($C63,'Daily Register'!F$3:F$242)=TRUE,\"P\",\"A\")","v":"A"},{"$f":"IF(Attendance($C63,'Daily Register'!G$3:G$242)=TRUE,\"P\",\"A\")","v":"A"},{"$f":"IF(Attendance($C63,'Daily Register'!H$3:H$242)=TRUE,\"P\",\"A\")","v":"A"},{"$f":"IF(Attendance($C63,'Daily Register'!I$3:I$242)=TRUE,\"P\",\"A\")","v":"A"},{"$f":"IF(Attendance($C63,'Daily Register'!J$3:J$242)=TRUE,\"P\",\"A\")","v":"A"},{"$f":"IF(Attendance($C63,'Daily Register'!K$3:K$242)=TRUE,\"P\",\"A\")","v":"A"},{"$f":"IF(Attendance($C63,'Daily Register'!L$3:L$242)=TRUE,\"P\",\"A\")","v":"A"},{"$f":"IF(Attendance($C63,'Daily Register'!M$3:M$242)=TRUE,\"P\",\"A\")","v":"A"},{"$f":"IF(Attendance($C63,'Daily Register'!N$3:N$242)=TRUE,\"P\",\"A\")","v":"A"},{"$f":"IF(Attendance($C63,'Daily Register'!O$3:O$242)=TRUE,\"P\",\"A\")","v":"A"},{"$f":"IF(Attendance($C63,'Daily Register'!P$3:P$242)=TRUE,\"P\",\"A\")","v":"A"},{"$f":"IF(Attendance($C63,'Daily Register'!Q$3:Q$242)=TRUE,\"P\",\"A\")","v":"A"},{"$f":"IF(Attendance($C63,'Daily Register'!R$3:R$242)=TRUE,\"P\",\"A\")","v":"A"},{"$f":"IF(Attendance($C63,'Daily Register'!S$3:S$242)=TRUE,\"P\",\"A\")","v":"A"},{"$f":"IF(Attendance($C63,'Daily Register'!T$3:T$242)=TRUE,\"P\",\"A\")","v":"A"},{"$f":"IF(Attendance($C63,'Daily Register'!U$3:U$242)=TRUE,\"P\",\"A\")","v":"A"},{"$f":"IF(Attendance($C63,'Daily Register'!V$3:V$242)=TRUE,\"P\",\"A\")","v":"A"},{"$f":"IF(Attendance($C63,'Daily Register'!W$3:W$242)=TRUE,\"P\",\"A\")","v":"A"},{"$f":"IF(Attendance($C63,'Daily Register'!X$3:X$242)=TRUE,\"P\",\"A\")","v":"A"},{"$f":"IF(Attendance($C63,'Daily Register'!Y$3:Y$242)=TRUE,\"P\",\"A\")","v":"A"},{"$f":"IF(Attendance($C63,'Daily Register'!Z$3:Z$242)=TRUE,\"P\",\"A\")","v":"A"},{"$f":"IF(Attendance($C63,'Daily Register'!AA$3:AA$242)=TRUE,\"P\",\"A\")","v":"A"},{"$f":"IF(Attendance($C63,'Daily Register'!AB$3:AB$242)=TRUE,\"P\",\"A\")","v":"A"},{"$f":"IF(Attendance($C63,'Daily Register'!AC$3:AC$242)=TRUE,\"P\",\"A\")","v":"A"},{"$f":"IF(Attendance($C63,'Daily Register'!AD$3:AD$242)=TRUE,\"P\",\"A\")","v":"A"},{"$f":"IF(Attendance($C63,'Daily Register'!AE$3:AE$242)=TRUE,\"P\",\"A\")","v":"A"},{"$f":"IF(Attendance($C63,'Daily Register'!AF$3:AF$242)=TRUE,\"P\",\"A\")","v":"A"},{"$f":"IF(Attendance($C63,'Daily Register'!AG$3:AG$242)=TRUE,\"P\",\"A\")","v":"A"},{"$f":"IF(Attendance($C63,'Daily Register'!AH$3:AH$242)=TRUE,\"P\",\"A\")","v":"A"},{"$f":"IF(Attendance($C63,'Daily Register'!AI$3:AI$242)=TRUE,\"P\",\"A\")","v":"A"},{"$f":"IF(Attendance($C63,'Daily Register'!AJ$3:AJ$242)=TRUE,\"P\",\"A\")","v":"A"},{"$f":"IF(Attendance($C63,'Daily Register'!AK$3:AK$242)=TRUE,\"P\",\"A\")","v":"A"},{"$f":"IF(Attendance($C63,'Daily Register'!AL$3:AL$242)=TRUE,\"P\",\"A\")","v":"A"},{"$f":"IF(Attendance($C63,'Daily Register'!AM$3:AM$242)=TRUE,\"P\",\"A\")","v":"A"},{"$f":"IF(Attendance($C63,'Daily Register'!AN$3:AN$242)=TRUE,\"P\",\"A\")","v":"A"},{"$f":"IF(Attendance($C63,'Daily Register'!AO$3:AO$242)=TRUE,\"P\",\"A\")","v":"A"},{"$f":"IF(Attendance($C63,'Daily Register'!AP$3:AP$242)=TRUE,\"P\",\"A\")","v":"A"},{"$f":"IF(Attendance($C63,'Daily Register'!AQ$3:AQ$242)=TRUE,\"P\",\"A\")","v":"A"},{"$f":"IF(Attendance($C63,'Daily Register'!AR$3:AR$242)=TRUE,\"P\",\"A\")","v":"A"},{"$f":"IF(Attendance($C63,'Daily Register'!AS$3:AS$242)=TRUE,\"P\",\"A\")","v":"A"},{"$f":"IF(Attendance($C63,'Daily Register'!AT$3:AT$242)=TRUE,\"P\",\"A\")","v":"A"},{"$f":"IF(Attendance($C63,'Daily Register'!AU$3:AU$242)=TRUE,\"P\",\"A\")","v":"A"},{"$f":"IF(Attendance($C63,'Daily Register'!AV$3:AV$242)=TRUE,\"P\",\"A\")","v":"A"},{"$f":"IF(Attendance($C63,'Daily Register'!AW$3:AW$242)=TRUE,\"P\",\"A\")","v":"A"},{"$f":"IF(Attendance($C63,'Daily Register'!AX$3:AX$242)=TRUE,\"P\",\"A\")","v":"A"},{"$f":"IF(Attendance($C63,'Daily Register'!AY$3:AY$242)=TRUE,\"P\",\"A\")","v":"A"},{"$f":"IF(Attendance($C63,'Daily Register'!AZ$3:AZ$242)=TRUE,\"P\",\"A\")","v":"A"},{"$f":"IF(Attendance($C63,'Daily Register'!BA$3:BA$242)=TRUE,\"P\",\"A\")","v":"A"},{"$f":"IF(Attendance($C63,'Daily Register'!BB$3:BB$242)=TRUE,\"P\",\"A\")","v":"A"},{"$f":"IF(Attendance($C63,'Daily Register'!BC$3:BC$242)=TRUE,\"P\",\"A\")","v":"A"},{"$f":"IF(Attendance($C63,'Daily Register'!BD$3:BD$242)=TRUE,\"P\",\"A\")","v":"A"},{"$f":"IF(Attendance($C63,'Daily Register'!BE$3:BE$242)=TRUE,\"P\",\"A\")","v":"A"},{"$f":"IF(Attendance($C63,'Daily Register'!BF$3:BF$242)=TRUE,\"P\",\"A\")","v":"A"},{"$f":"IF(Attendance($C63,'Daily Register'!BG$3:BG$242)=TRUE,\"P\",\"A\")","v":"A"},{"$f":"IF(Attendance($C63,'Daily Register'!BH$3:BH$242)=TRUE,\"P\",\"A\")","v":"A"},{"$f":"IF(Attendance($C63,'Daily Register'!BI$3:BI$242)=TRUE,\"P\",\"A\")","v":"A"},{"$f":"IF(Attendance($C63,'Daily Register'!BJ$3:BJ$242)=TRUE,\"P\",\"A\")","v":"A"},{"$f":"IF(Attendance($C63,'Daily Register'!BK$3:BK$242)=TRUE,\"P\",\"A\")","v":"A"},{"$f":"IF(Attendance($C63,'Daily Register'!BL$3:BL$242)=TRUE,\"P\",\"A\")","v":"A"},{"$f":"IF(Attendance($C63,'Daily Register'!BM$3:BM$242)=TRUE,\"P\",\"A\")","v":"A"},{"$f":"IF(Attendance($C63,'Daily Register'!BN$3:BN$242)=TRUE,\"P\",\"A\")","v":"A"},{"$f":"IF(Attendance($C63,'Daily Register'!BO$3:BO$242)=TRUE,\"P\",\"A\")","v":"A"},{"$f":"IF(Attendance($C63,'Daily Register'!BP$3:BP$242)=TRUE,\"P\",\"A\")","v":"A"},{"$f":"IF(Attendance($C63,'Daily Register'!BQ$3:BQ$242)=TRUE,\"P\",\"A\")","v":"A"},{"$f":"IF(Attendance($C63,'Daily Register'!BR$3:BR$242)=TRUE,\"P\",\"A\")","v":"A"},{"$f":"IF(Attendance($C63,'Daily Register'!BS$3:BS$242)=TRUE,\"P\",\"A\")","v":"A"},{"$f":"IF(Attendance($C63,'Daily Register'!BT$3:BT$242)=TRUE,\"P\",\"A\")","v":"A"},{"$f":"IF(Attendance($C63,'Daily Register'!BU$3:BU$242)=TRUE,\"P\",\"A\")","v":"A"},{"$f":"IF(Attendance($C63,'Daily Register'!BV$3:BV$242)=TRUE,\"P\",\"A\")","v":"A"},{"$f":"IF(Attendance($C63,'Daily Register'!BW$3:BW$242)=TRUE,\"P\",\"A\")","v":"A"},{"$f":"IF(Attendance($C63,'Daily Register'!BX$3:BX$242)=TRUE,\"P\",\"A\")","v":"A"},{"$f":"IF(Attendance($C63,'Daily Register'!BY$3:BY$242)=TRUE,\"P\",\"A\")","v":"A"},{"$f":"IF(Attendance($C63,'Daily Register'!BZ$3:BZ$242)=TRUE,\"P\",\"A\")","v":"A"},{"$f":"IF(Attendance($C63,'Daily Register'!CA$3:CA$242)=TRUE,\"P\",\"A\")","v":"A"},{"$f":"IF(Attendance($C63,'Daily Register'!CB$3:CB$242)=TRUE,\"P\",\"A\")","v":"A"},{"$f":"IF(Attendance($C63,'Daily Register'!CC$3:CC$242)=TRUE,\"P\",\"A\")","v":"A"},{"$f":"IF(Attendance($C63,'Daily Register'!CD$3:CD$242)=TRUE,\"P\",\"A\")","v":"A"},{"$f":"IF(Attendance($C63,'Daily Register'!CE$3:CE$242)=TRUE,\"P\",\"A\")","v":"A"},{"$f":"IF(Attendance($C63,'Daily Register'!CF$3:CF$242)=TRUE,\"P\",\"A\")","v":"A"},{"$f":"IF(Attendance($C63,'Daily Register'!CG$3:CG$242)=TRUE,\"P\",\"A\")","v":"A"},{"$f":"IF(Attendance($C63,'Daily Register'!CH$3:CH$242)=TRUE,\"P\",\"A\")","v":"A"},{"$f":"IF(Attendance($C63,'Daily Register'!CI$3:CI$242)=TRUE,\"P\",\"A\")","v":"A"},{"$f":"IF(Attendance($C63,'Daily Register'!CJ$3:CJ$242)=TRUE,\"P\",\"A\")","v":"A"},{"$f":"IF(Attendance($C63,'Daily Register'!CK$3:CK$242)=TRUE,\"P\",\"A\")","v":"A"},{"$f":"IF(Attendance($C63,'Daily Register'!CL$3:CL$242)=TRUE,\"P\",\"A\")","v":"A"},{"$f":"IF(Attendance($C63,'Daily Register'!CM$3:CM$242)=TRUE,\"P\",\"A\")","v":"A"},{"$f":"IF(Attendance($C63,'Daily Register'!CN$3:CN$242)=TRUE,\"P\",\"A\")","v":"A"},{"$f":"IF(Attendance($C63,'Daily Register'!CO$3:CO$242)=TRUE,\"P\",\"A\")","v":"A"},{"$f":"IF(Attendance($C63,'Daily Register'!CP$3:CP$242)=TRUE,\"P\",\"A\")","v":"A"},{"$f":"IF(Attendance($C63,'Daily Register'!CQ$3:CQ$242)=TRUE,\"P\",\"A\")","v":"A"},{"$f":"IF(Attendance($C63,'Daily Register'!CR$3:CR$242)=TRUE,\"P\",\"A\")","v":"A"},{"$f":"IF(Attendance($C63,'Daily Register'!CS$3:CS$242)=TRUE,\"P\",\"A\")","v":"A"},{"$f":"IF(Attendance($C63,'Daily Register'!CT$3:CT$242)=TRUE,\"P\",\"A\")","v":"A"},{"$f":"IF(Attendance($C63,'Daily Register'!CU$3:CU$242)=TRUE,\"P\",\"A\")","v":"A"},{"$f":"IF(Attendance($C63,'Daily Register'!CV$3:CV$242)=TRUE,\"P\",\"A\")","v":"A"},{"$f":"IF(Attendance($C63,'Daily Register'!CW$3:CW$242)=TRUE,\"P\",\"A\")","v":"A"},{"$f":"IF(Attendance($C63,'Daily Register'!CX$3:CX$242)=TRUE,\"P\",\"A\")","v":"A"},{"$f":"IF(Attendance($C63,'Daily Register'!CY$3:CY$242)=TRUE,\"P\",\"A\")","v":"A"},{"$f":"IF(Attendance($C63,'Daily Register'!CZ$3:CZ$242)=TRUE,\"P\",\"A\")","v":"A"},{"$f":"IF(Attendance($C63,'Daily Register'!DA$3:DA$242)=TRUE,\"P\",\"A\")","v":"A"},{"$f":"IF(Attendance($C63,'Daily Register'!DB$3:DB$242)=TRUE,\"P\",\"A\")","v":"A"},{"$f":"IF(Attendance($C63,'Daily Register'!DC$3:DC$242)=TRUE,\"P\",\"A\")","v":"A"},{"$f":"IF(Attendance($C63,'Daily Register'!DD$3:DD$242)=TRUE,\"P\",\"A\")","v":"A"},{"$f":"IF(Attendance($C63,'Daily Register'!DE$3:DE$242)=TRUE,\"P\",\"A\")","v":"A"},{"$f":"IF(Attendance($C63,'Daily Register'!DF$3:DF$242)=TRUE,\"P\",\"A\")","v":"A"},{"$f":"IF(Attendance($C63,'Daily Register'!DG$3:DG$242)=TRUE,\"P\",\"A\")","v":"A"},{"$f":"IF(Attendance($C63,'Daily Register'!DH$3:DH$242)=TRUE,\"P\",\"A\")","v":"A"},{"$f":"IF(Attendance($C63,'Daily Register'!DI$3:DI$242)=TRUE,\"P\",\"A\")","v":"A"},{"$f":"IF(Attendance($C63,'Daily Register'!DJ$3:DJ$242)=TRUE,\"P\",\"A\")","v":"A"},{"$f":"IF(Attendance($C63,'Daily Register'!DK$3:DK$242)=TRUE,\"P\",\"A\")","v":"A"},{"$f":"IF(Attendance($C63,'Daily Register'!DL$3:DL$242)=TRUE,\"P\",\"A\")","v":"A"},{"$f":"IF(Attendance($C63,'Daily Register'!DM$3:DM$242)=TRUE,\"P\",\"A\")","v":"A"},{"$f":"IF(Attendance($C63,'Daily Register'!DN$3:DN$242)=TRUE,\"P\",\"A\")","v":"A"},{"$f":"IF(Attendance($C63,'Daily Register'!DO$3:DO$242)=TRUE,\"P\",\"A\")","v":"A"},{"$f":"IF(Attendance($C63,'Daily Register'!DP$3:DP$242)=TRUE,\"P\",\"A\")","v":"A"},{"$f":"IF(Attendance($C63,'Daily Register'!DQ$3:DQ$242)=TRUE,\"P\",\"A\")","v":"A"},{"$f":"IF(Attendance($C63,'Daily Register'!DR$3:DR$242)=TRUE,\"P\",\"A\")","v":"A"},{"$f":"IF(Attendance($C63,'Daily Register'!DS$3:DS$242)=TRUE,\"P\",\"A\")","v":"A"},{"$f":"IF(Attendance($C63,'Daily Register'!DT$3:DT$242)=TRUE,\"P\",\"A\")","v":"A"},{"$f":"IF(Attendance($C63,'Daily Register'!DU$3:DU$242)=TRUE,\"P\",\"A\")","v":"A"},{"$f":"IF(Attendance($C63,'Daily Register'!DV$3:DV$242)=TRUE,\"P\",\"A\")","v":"A"},{"$f":"IF(Attendance($C63,'Daily Register'!DW$3:DW$242)=TRUE,\"P\",\"A\")","v":"A"},{"$f":"IF(Attendance($C63,'Daily Register'!DX$3:DX$242)=TRUE,\"P\",\"A\")","v":"A"},{"$f":"IF(Attendance($C63,'Daily Register'!DY$3:DY$242)=TRUE,\"P\",\"A\")","v":"A"},{"$f":"IF(Attendance($C63,'Daily Register'!DZ$3:DZ$242)=TRUE,\"P\",\"A\")","v":"A"},{"$f":"IF(Attendance($C63,'Daily Register'!EA$3:EA$242)=TRUE,\"P\",\"A\")","v":"A"},{"$f":"IF(Attendance($C63,'Daily Register'!EB$3:EB$242)=TRUE,\"P\",\"A\")","v":"A"},{"$f":"IF(Attendance($C63,'Daily Register'!EC$3:EC$242)=TRUE,\"P\",\"A\")","v":"A"},{"$f":"IF(Attendance($C63,'Daily Register'!ED$3:ED$242)=TRUE,\"P\",\"A\")","v":"A"},{"$f":"IF(Attendance($C63,'Daily Register'!EE$3:EE$242)=TRUE,\"P\",\"A\")","v":"A"},{"$f":"IF(Attendance($C63,'Daily Register'!EF$3:EF$242)=TRUE,\"P\",\"A\")","v":"A"},{"$f":"IF(Attendance($C63,'Daily Register'!EG$3:EG$242)=TRUE,\"P\",\"A\")","v":"A"},{"$f":"IF(Attendance($C63,'Daily Register'!EH$3:EH$242)=TRUE,\"P\",\"A\")","v":"A"},{"$f":"IF(Attendance($C63,'Daily Register'!EI$3:EI$242)=TRUE,\"P\",\"A\")","v":"A"},{"$f":"IF(Attendance($C63,'Daily Register'!EJ$3:EJ$242)=TRUE,\"P\",\"A\")","v":"A"},{"$f":"IF(Attendance($C63,'Daily Register'!EK$3:EK$242)=TRUE,\"P\",\"A\")","v":"A"},{"$f":"IF(Attendance($C63,'Daily Register'!EL$3:EL$242)=TRUE,\"P\",\"A\")","v":"A"},{"$f":"IF(Attendance($C63,'Daily Register'!EM$22:EM$242)=TRUE,\"P\",\"A\")","v":"A"},{"$f":"IF(Attendance($C63,'Daily Register'!EN$3:EN$242)=TRUE,\"P\",\"A\")","v":"A"},{"$f":"IF(Attendance($C63,'Daily Register'!EO$3:EO$242)=TRUE,\"P\",\"A\")","v":"A"},{"$f":"IF(Attendance($C63,'Daily Register'!EP$3:EP$242)=TRUE,\"P\",\"A\")","v":"A"},{"$f":"IF(Attendance($C63,'Daily Register'!EQ$3:EQ$242)=TRUE,\"P\",\"A\")","v":"A"},{"$f":"IF(Attendance($C63,'Daily Register'!ER$3:ER$242)=TRUE,\"P\",\"A\")","v":"A"},{"$f":"IF(Attendance($C63,'Daily Register'!ES$3:ES$242)=TRUE,\"P\",\"A\")","v":"A"},{"$f":"IF(Attendance($C63,'Daily Register'!ET$3:ET$242)=TRUE,\"P\",\"A\")","v":"A"},{"$f":"IF(Attendance($C63,'Daily Register'!EU$3:EU$242)=TRUE,\"P\",\"A\")","v":"A"},{"$f":"IF(Attendance($C63,'Daily Register'!EV$3:EV$242)=TRUE,\"P\",\"A\")","v":"A"},{"$f":"IF(Attendance($C63,'Daily Register'!EW$3:EW$242)=TRUE,\"P\",\"A\")","v":"A"},{"$f":"IF(Attendance($C63,'Daily Register'!EX$3:EX$242)=TRUE,\"P\",\"A\")","v":"A"},{"$f":"IF(Attendance($C63,'Daily Register'!EY$3:EY$242)=TRUE,\"P\",\"A\")","v":"A"},{"$f":"IF(Attendance($C63,'Daily Register'!EZ$3:EZ$242)=TRUE,\"P\",\"A\")","v":"A"},{"$f":"IF(Attendance($C63,'Daily Register'!FA$3:FA$242)=TRUE,\"P\",\"A\")","v":"A"},{"$f":"IF(Attendance($C63,'Daily Register'!FB$3:FB$242)=TRUE,\"P\",\"A\")","v":"A"},{"$f":"IF(Attendance($C63,'Daily Register'!FC$3:FC$242)=TRUE,\"P\",\"A\")","v":"A"},{"$f":"IF(Attendance($C63,'Daily Register'!FD$3:FD$242)=TRUE,\"P\",\"A\")","v":"A"},{"$f":"IF(Attendance($C63,'Daily Register'!FE$3:FE$242)=TRUE,\"P\",\"A\")","v":"A"},{"$f":"IF(Attendance($C63,'Daily Register'!FF$3:FF$242)=TRUE,\"P\",\"A\")","v":"A"},{"$f":"IF(Attendance($C63,'Daily Register'!FG$3:FG$242)=TRUE,\"P\",\"A\")","v":"A"},{"$f":"IF(Attendance($C63,'Daily Register'!FH$3:FH$242)=TRUE,\"P\",\"A\")","v":"A"},{"$f":"IF(Attendance($C63,'Daily Register'!FI$3:FI$242)=TRUE,\"P\",\"A\")","v":"A"},{"$f":"IF(Attendance($C63,'Daily Register'!FJ$3:FJ$242)=TRUE,\"P\",\"A\")","v":"A"},{"$f":"IF(Attendance($C63,'Daily Register'!FK$3:FK$242)=TRUE,\"P\",\"A\")","v":"A"},{"$f":"IF(Attendance($C63,'Daily Register'!FL$3:FL$242)=TRUE,\"P\",\"A\")","v":"A"},{"$f":"IF(Attendance($C63,'Daily Register'!FM$3:FM$242)=TRUE,\"P\",\"A\")","v":"A"},{"$f":"IF(Attendance($C63,'Daily Register'!FN$3:FN$242)=TRUE,\"P\",\"A\")","v":"A"},{"$f":"IF(Attendance($C63,'Daily Register'!FO$3:FO$242)=TRUE,\"P\",\"A\")","v":"A"},{"$f":"IF(Attendance($C63,'Daily Register'!FP$3:FP$242)=TRUE,\"P\",\"A\")","v":"A"},{"$f":"IF(Attendance($C63,'Daily Register'!FQ$3:FQ$242)=TRUE,\"P\",\"A\")","v":"A"},{"$f":"IF(Attendance($C63,'Daily Register'!FR$3:FR$242)=TRUE,\"P\",\"A\")","v":"A"},{"$f":"IF(Attendance($C63,'Daily Register'!FS$3:FS$242)=TRUE,\"P\",\"A\")","v":"A"},{"$f":"IF(Attendance($C63,'Daily Register'!FT$3:FT$242)=TRUE,\"P\",\"A\")","v":"A"},{"$f":"IF(Attendance($C63,'Daily Register'!FU$3:FU$242)=TRUE,\"P\",\"A\")","v":"A"},{"$f":"IF(Attendance($C63,'Daily Register'!FV$3:FV$242)=TRUE,\"P\",\"A\")","v":"A"},{"$f":"IF(Attendance($C63,'Daily Register'!FW$3:FW$242)=TRUE,\"P\",\"A\")","v":"A"},{"$f":"IF(Attendance($C63,'Daily Register'!FX$3:FX$242)=TRUE,\"P\",\"A\")","v":"A"},{"$f":"IF(Attendance($C63,'Daily Register'!FY$3:FY$242)=TRUE,\"P\",\"A\")","v":"A"},{"$f":"IF(Attendance($C63,'Daily Register'!FZ$3:FZ$242)=TRUE,\"P\",\"A\")","v":"A"},{"$f":"IF(Attendance($C63,'Daily Register'!GA$3:GA$242)=TRUE,\"P\",\"A\")","v":"A"},{"$f":"IF(Attendance($C63,'Daily Register'!GB$3:GB$242)=TRUE,\"P\",\"A\")","v":"A"},{"$f":"IF(Attendance($C63,'Daily Register'!GC$3:GC$242)=TRUE,\"P\",\"A\")","v":"A"},{"$f":"IF(Attendance($C63,'Daily Register'!GD$3:GD$242)=TRUE,\"P\",\"A\")","v":"A"},{"$f":"IF(Attendance($C63,'Daily Register'!GE$3:GE$242)=TRUE,\"P\",\"A\")","v":"A"},{"$f":"IF(Attendance($C63,'Daily Register'!GF$3:GF$242)=TRUE,\"P\",\"A\")","v":"A"},{"$f":"IF(Attendance($C63,'Daily Register'!GG$3:GG$242)=TRUE,\"P\",\"A\")","v":"A"},{"$f":"IF(Attendance($C63,'Daily Register'!GH$3:GH$242)=TRUE,\"P\",\"A\")","v":"A"},{"$f":"IF(Attendance($C63,'Daily Register'!GI$3:GI$242)=TRUE,\"P\",\"A\")","v":"A"},{"$f":"IF(Attendance($C63,'Daily Register'!GJ$3:GJ$242)=TRUE,\"P\",\"A\")","v":"A"},{"$f":"IF(Attendance($C63,'Daily Register'!GK$3:GK$242)=TRUE,\"P\",\"A\")","v":"A"},{"$f":"IF(Attendance($C63,'Daily Register'!GL$3:GL$242)=TRUE,\"P\",\"A\")","v":"A"},{"$f":"IF(Attendance($C63,'Daily Register'!GM$3:GM$242)=TRUE,\"P\",\"A\")","v":"A"},{"$f":"IF(Attendance($C63,'Daily Register'!GN$3:GN$242)=TRUE,\"P\",\"A\")","v":"A"},{"$f":"IF(Attendance($C63,'Daily Register'!GO$3:GO$242)=TRUE,\"P\",\"A\")","v":"A"},{"$f":"IF(Attendance($C63,'Daily Register'!GP$3:GP$242)=TRUE,\"P\",\"A\")","v":"A"},{"$f":"IF(Attendance($C63,'Daily Register'!GQ$3:GQ$242)=TRUE,\"P\",\"A\")","v":"A"},{"$f":"IF(Attendance($C63,'Daily Register'!GR$3:GR$242)=TRUE,\"P\",\"A\")","v":"A"},{"$f":"IF(Attendance($C63,'Daily Register'!GS$3:GS$242)=TRUE,\"P\",\"A\")","v":"A"},{"$f":"IF(Attendance($C63,'Daily Register'!GT$3:GT$242)=TRUE,\"P\",\"A\")","v":"A"},{"$f":"IF(Attendance($C63,'Daily Register'!GU$3:GU$242)=TRUE,\"P\",\"A\")","v":"A"},{"$f":"IF(Attendance($C63,'Daily Register'!GV$3:GV$242)=TRUE,\"P\",\"A\")","v":"A"},{"$f":"IF(Attendance($C63,'Daily Register'!GW$3:GW$242)=TRUE,\"P\",\"A\")","v":"A"},{"$f":"IF(Attendance($C63,'Daily Register'!GX$3:GX$242)=TRUE,\"P\",\"A\")","v":"A"},{"$f":"IF(Attendance($C63,'Daily Register'!GY$3:GY$242)=TRUE,\"P\",\"A\")","v":"A"},{"$f":"IF(Attendance($C63,'Daily Register'!GZ$3:GZ$242)=TRUE,\"P\",\"A\")","v":"A"},{"$f":"IF(Attendance($C63,'Daily Register'!HA$3:HA$242)=TRUE,\"P\",\"A\")","v":"A"},{"$f":"IF(Attendance($C63,'Daily Register'!HB$3:HB$242)=TRUE,\"P\",\"A\")","v":"A"},{"$f":"IF(Attendance($C63,'Daily Register'!HC$3:HC$242)=TRUE,\"P\",\"A\")","v":"A"},{"$f":"IF(Attendance($C63,'Daily Register'!HD$3:HD$242)=TRUE,\"P\",\"A\")","v":"A"},{"$f":"IF(Attendance($C63,'Daily Register'!HE$3:HE$242)=TRUE,\"P\",\"A\")","v":"A"},{"$f":"IF(Attendance($C63,'Daily Register'!HF$3:HF$242)=TRUE,\"P\",\"A\")","v":"A"},{"$f":"IF(Attendance($C63,'Daily Register'!HG$3:HG$242)=TRUE,\"P\",\"A\")","v":"A"},{"$f":"IF(Attendance($C63,'Daily Register'!HH$3:HH$242)=TRUE,\"P\",\"A\")","v":"A"},{"$f":"IF(Attendance($C63,'Daily Register'!HI$3:HI$242)=TRUE,\"P\",\"A\")","v":"A"},{"$f":"IF(Attendance($C63,'Daily Register'!HJ$3:HJ$242)=TRUE,\"P\",\"A\")","v":"A"},{"$f":"IF(Attendance($C63,'Daily Register'!HK$3:HK$242)=TRUE,\"P\",\"A\")","v":"A"},{"$f":"IF(Attendance($C63,'Daily Register'!HL$3:HL$242)=TRUE,\"P\",\"A\")","v":"A"},{"$f":"IF(Attendance($C63,'Daily Register'!HM$3:HM$242)=TRUE,\"P\",\"A\")","v":"A"},{"$f":"IF(Attendance($C63,'Daily Register'!HN$3:HN$242)=TRUE,\"P\",\"A\")","v":"A"},{"$f":"IF(Attendance($C63,'Daily Register'!HO$3:HO$242)=TRUE,\"P\",\"A\")","v":"A"},{"$f":"IF(Attendance($C63,'Daily Register'!HP$3:HP$242)=TRUE,\"P\",\"A\")","v":"A"},{"$f":"IF(Attendance($C63,'Daily Register'!HQ$3:HQ$242)=TRUE,\"P\",\"A\")","v":"A"},{"$f":"IF(Attendance($C63,'Daily Register'!HR$3:HR$242)=TRUE,\"P\",\"A\")","v":"A"},{"$f":"IF(Attendance($C63,'Daily Register'!HS$3:HS$242)=TRUE,\"P\",\"A\")","v":"A"},{"$f":"IF(Attendance($C63,'Daily Register'!HT$3:HT$242)=TRUE,\"P\",\"A\")","v":"A"},{"$f":"IF(Attendance($C63,'Daily Register'!HU$3:HU$242)=TRUE,\"P\",\"A\")","v":"A"},{"$f":"IF(Attendance($C63,'Daily Register'!HV$3:HV$242)=TRUE,\"P\",\"A\")","v":"A"},{"$f":"IF(Attendance($C63,'Daily Register'!HW$3:HW$242)=TRUE,\"P\",\"A\")","v":"A"},{"$f":"IF(Attendance($C63,'Daily Register'!HX$3:HX$242)=TRUE,\"P\",\"A\")","v":"A"},{"$f":"IF(Attendance($C63,'Daily Register'!HY$3:HY$242)=TRUE,\"P\",\"A\")","v":"A"},{"$f":"IF(Attendance($C63,'Daily Register'!HZ$3:HZ$242)=TRUE,\"P\",\"A\")","v":"A"},{"$f":"IF(Attendance($C63,'Daily Register'!IA$3:IA$242)=TRUE,\"P\",\"A\")","v":"A"},{"$f":"IF(Attendance($C63,'Daily Register'!IB$3:IB$242)=TRUE,\"P\",\"A\")","v":"A"},{"$f":"IF(Attendance($C63,'Daily Register'!IC$3:IC$242)=TRUE,\"P\",\"A\")","v":"A"},{"$f":"IF(Attendance($C63,'Daily Register'!ID$3:ID$242)=TRUE,\"P\",\"A\")","v":"A"},{"$f":"IF(Attendance($C63,'Daily Register'!IE$3:IE$242)=TRUE,\"P\",\"A\")","v":"A"},{"$f":"IF(Attendance($C63,'Daily Register'!IF$3:IF$242)=TRUE,\"P\",\"A\")","v":"A"},{"$f":"IF(Attendance($C63,'Daily Register'!IG$3:IG$242)=TRUE,\"P\",\"A\")","v":"A"},{"$f":"IF(Attendance($C63,'Daily Register'!IH$3:IH$242)=TRUE,\"P\",\"A\")","v":"A"},{"$f":"IF(Attendance($C63,'Daily Register'!II$3:II$242)=TRUE,\"P\",\"A\")","v":"A"},{"$f":"IF(Attendance($C63,'Daily Register'!IJ$3:IJ$242)=TRUE,\"P\",\"A\")","v":"A"},{"$f":"IF(Attendance($C63,'Daily Register'!IK$3:IK$242)=TRUE,\"P\",\"A\")","v":"A"},{"$f":"IF(Attendance($C63,'Daily Register'!IL$3:IL$242)=TRUE,\"P\",\"A\")","v":"A"},{"$f":"IF(Attendance($C63,'Daily Register'!IM$3:IM$242)=TRUE,\"P\",\"A\")","v":"A"},{"$f":"IF(Attendance($C63,'Daily Register'!IN$3:IN$242)=TRUE,\"P\",\"A\")","v":"A"},{"$f":"IF(Attendance($C63,'Daily Register'!IO$3:IO$242)=TRUE,\"P\",\"A\")","v":"A"},{"$f":"IF(Attendance($C63,'Daily Register'!IP$3:IP$242)=TRUE,\"P\",\"A\")","v":"A"},{"$f":"IF(Attendance($C63,'Daily Register'!IQ$3:IQ$242)=TRUE,\"P\",\"A\")","v":"A"},{"$f":"IF(Attendance($C63,'Daily Register'!IR$3:IR$242)=TRUE,\"P\",\"A\")","v":"A"},{"$f":"IF(Attendance($C63,'Daily Register'!IS$3:IS$242)=TRUE,\"P\",\"A\")","v":"A"},{"$f":"IF(Attendance($C63,'Daily Register'!IT$3:IT$242)=TRUE,\"P\",\"A\")","v":"A"},{"$f":"IF(Attendance($C63,'Daily Register'!IU$3:IU$242)=TRUE,\"P\",\"A\")","v":"A"},{"$f":"IF(Attendance($C63,'Daily Register'!IV$3:IV$242)=TRUE,\"P\",\"A\")","v":"A"},{"$f":"IF(Attendance($C63,'Daily Register'!IW$3:IW$242)=TRUE,\"P\",\"A\")","v":"A"},{"$f":"IF(Attendance($C63,'Daily Register'!IX$3:IX$242)=TRUE,\"P\",\"A\")","v":"A"},{"$f":"IF(Attendance($C63,'Daily Register'!IY$3:IY$242)=TRUE,\"P\",\"A\")","v":"A"},{"$f":"IF(Attendance($C63,'Daily Register'!IZ$3:IZ$242)=TRUE,\"P\",\"A\")","v":"A"},{"$f":"IF(Attendance($C63,'Daily Register'!JA$3:JA$242)=TRUE,\"P\",\"A\")","v":"A"},{"$f":"IF(Attendance($C63,'Daily Register'!JB$3:JB$242)=TRUE,\"P\",\"A\")","v":"A"},{"$f":"IF(Attendance($C63,'Daily Register'!JC$3:JC$242)=TRUE,\"P\",\"A\")","v":"A"},{"$f":"IF(Attendance($C63,'Daily Register'!JD$3:JD$242)=TRUE,\"P\",\"A\")","v":"A"},{"$f":"IF(Attendance($C63,'Daily Register'!JE$3:JE$242)=TRUE,\"P\",\"A\")","v":"A"},{"$f":"IF(Attendance($C63,'Daily Register'!JF$3:JF$242)=TRUE,\"P\",\"A\")","v":"A"},{"$f":"IF(Attendance($C63,'Daily Register'!JG$3:JG$242)=TRUE,\"P\",\"A\")","v":"A"},{"$f":"IF(Attendance($C63,'Daily Register'!JH$3:JH$242)=TRUE,\"P\",\"A\")","v":"A"},{"$f":"IF(Attendance($C63,'Daily Register'!JI$3:JI$242)=TRUE,\"P\",\"A\")","v":"A"},{"$f":"IF(Attendance($C63,'Daily Register'!JJ$3:JJ$242)=TRUE,\"P\",\"A\")","v":"A"},{"$f":"IF(Attendance($C63,'Daily Register'!JK$3:JK$242)=TRUE,\"P\",\"A\")","v":"A"},{"$f":"IF(Attendance($C63,'Daily Register'!JL$3:JL$242)=TRUE,\"P\",\"A\")","v":"A"},{"$f":"IF(Attendance($C63,'Daily Register'!JM$3:JM$242)=TRUE,\"P\",\"A\")","v":"A"},{"$f":"IF(Attendance($C63,'Daily Register'!JN$3:JN$242)=TRUE,\"P\",\"A\")","v":"A"},{"$f":"IF(Attendance($C63,'Daily Register'!JO$3:JO$242)=TRUE,\"P\",\"A\")","v":"A"},{"$f":"IF(Attendance($C63,'Daily Register'!JP$3:JP$242)=TRUE,\"P\",\"A\")","v":"A"},{"$f":"IF(Attendance($C63,'Daily Register'!JQ$3:JQ$242)=TRUE,\"P\",\"A\")","v":"A"},{"$f":"IF(Attendance($C63,'Daily Register'!JR$3:JR$242)=TRUE,\"P\",\"A\")","v":"A"},{"$f":"IF(Attendance($C63,'Daily Register'!JS$3:JS$242)=TRUE,\"P\",\"A\")","v":"A"},{"$f":"IF(Attendance($C63,'Daily Register'!JT$3:JT$242)=TRUE,\"P\",\"A\")","v":"A"},{"$f":"IF(Attendance($C63,'Daily Register'!JU$3:JU$242)=TRUE,\"P\",\"A\")","v":"A"},{"$f":"IF(Attendance($C63,'Daily Register'!JV$3:JV$242)=TRUE,\"P\",\"A\")","v":"A"},{"$f":"IF(Attendance($C63,'Daily Register'!JW$3:JW$242)=TRUE,\"P\",\"A\")","v":"A"},{"$f":"IF(Attendance($C63,'Daily Register'!JX$3:JX$242)=TRUE,\"P\",\"A\")","v":"A"},{"$f":"IF(Attendance($C63,'Daily Register'!JY$3:JY$242)=TRUE,\"P\",\"A\")","v":"A"},{"$f":"IF(Attendance($C63,'Daily Register'!JZ$3:JZ$242)=TRUE,\"P\",\"A\")","v":"A"},{"$f":"IF(Attendance($C63,'Daily Register'!KA$3:KA$242)=TRUE,\"P\",\"A\")","v":"A"},{"$f":"IF(Attendance($C63,'Daily Register'!KB$3:KB$242)=TRUE,\"P\",\"A\")","v":"A"},{"$f":"IF(Attendance($C63,'Daily Register'!KC$3:KC$242)=TRUE,\"P\",\"A\")","v":"A"},{"$f":"IF(Attendance($C63,'Daily Register'!KD$3:KD$242)=TRUE,\"P\",\"A\")","v":"A"},{"$f":"IF(Attendance($C63,'Daily Register'!KE$3:KE$242)=TRUE,\"P\",\"A\")","v":"A"},{"$f":"IF(Attendance($C63,'Daily Register'!KF$3:KF$242)=TRUE,\"P\",\"A\")","v":"A"},{"$f":"IF(Attendance($C63,'Daily Register'!KG$3:KG$242)=TRUE,\"P\",\"A\")","v":"A"},{"$f":"IF(Attendance($C63,'Daily Register'!KH$3:KH$242)=TRUE,\"P\",\"A\")","v":"A"},{"$f":"IF(Attendance($C63,'Daily Register'!KI$3:KI$242)=TRUE,\"P\",\"A\")","v":"A"},{"$f":"IF(Attendance($C63,'Daily Register'!KJ$3:KJ$242)=TRUE,\"P\",\"A\")","v":"A"},{"$f":"IF(Attendance($C63,'Daily Register'!KK$3:KK$242)=TRUE,\"P\",\"A\")","v":"A"},{"$f":"IF(Attendance($C63,'Daily Register'!KL$3:KL$242)=TRUE,\"P\",\"A\")","v":"A"},{"$f":"IF(Attendance($C63,'Daily Register'!KM$3:KM$242)=TRUE,\"P\",\"A\")","v":"A"},{"$f":"IF(Attendance($C63,'Daily Register'!KN$3:KN$242)=TRUE,\"P\",\"A\")","v":"A"},{"$f":"IF(Attendance($C63,'Daily Register'!KO$3:KO$242)=TRUE,\"P\",\"A\")","v":"A"},{"$f":"IF(Attendance($C63,'Daily Register'!KP$3:KP$242)=TRUE,\"P\",\"A\")","v":"A"},{"$f":"IF(Attendance($C63,'Daily Register'!KQ$3:KQ$242)=TRUE,\"P\",\"A\")","v":"A"},{"$f":"IF(Attendance($C63,'Daily Register'!KR$3:KR$242)=TRUE,\"P\",\"A\")","v":"A"},{"$f":"IF(Attendance($C63,'Daily Register'!KS$3:KS$242)=TRUE,\"P\",\"A\")","v":"A"},{"$f":"IF(Attendance($C63,'Daily Register'!KT$3:KT$242)=TRUE,\"P\",\"A\")","v":"A"},{"$f":"IF(Attendance($C63,'Daily Register'!KU$3:KU$242)=TRUE,\"P\",\"A\")","v":"A"},{"$f":"IF(Attendance($C63,'Daily Register'!KV$3:KV$242)=TRUE,\"P\",\"A\")","v":"A"},{"$f":"IF(Attendance($C63,'Daily Register'!KW$3:KW$242)=TRUE,\"P\",\"A\")","v":"A"},{"$f":"IF(Attendance($C63,'Daily Register'!KX$3:KX$242)=TRUE,\"P\",\"A\")","v":"A"},{"$f":"IF(Attendance($C63,'Daily Register'!KY$3:KY$242)=TRUE,\"P\",\"A\")","v":"A"},{"$f":"IF(Attendance($C63,'Daily Register'!KZ$3:KZ$242)=TRUE,\"P\",\"A\")","v":"A"},{"$f":"IF(Attendance($C63,'Daily Register'!LA$3:LA$242)=TRUE,\"P\",\"A\")","v":"A"},{"$f":"IF(Attendance($C63,'Daily Register'!LB$3:LB$242)=TRUE,\"P\",\"A\")","v":"A"},{"$f":"IF(Attendance($C63,'Daily Register'!LC$3:LC$242)=TRUE,\"P\",\"A\")","v":"A"},{"$f":"IF(Attendance($C63,'Daily Register'!LD$3:LD$242)=TRUE,\"P\",\"A\")","v":"A"},{"$f":"IF(Attendance($C63,'Daily Register'!LE$3:LE$242)=TRUE,\"P\",\"A\")","v":"A"},{"$f":"IF(Attendance($C63,'Daily Register'!LF$3:LF$242)=TRUE,\"P\",\"A\")","v":"A"},{"$f":"IF(Attendance($C63,'Daily Register'!LG$3:LG$242)=TRUE,\"P\",\"A\")","v":"A"},{"$f":"IF(Attendance($C63,'Daily Register'!LH$3:LH$242)=TRUE,\"P\",\"A\")","v":"A"},{"$f":"IF(Attendance($C63,'Daily Register'!LI$3:LI$242)=TRUE,\"P\",\"A\")","v":"A"},{"$f":"IF(Attendance($C63,'Daily Register'!LJ$3:LJ$242)=TRUE,\"P\",\"A\")","v":"A"},{"$f":"IF(Attendance($C63,'Daily Register'!LK$3:LK$242)=TRUE,\"P\",\"A\")","v":"A"},{"$f":"IF(Attendance($C63,'Daily Register'!LL$3:LL$242)=TRUE,\"P\",\"A\")","v":"A"},{"$f":"IF(Attendance($C63,'Daily Register'!LM$3:LM$242)=TRUE,\"P\",\"A\")","v":"A"},{"$f":"IF(Attendance($C63,'Daily Register'!LN$3:LN$242)=TRUE,\"P\",\"A\")","v":"A"},{"$f":"IF(Attendance($C63,'Daily Register'!LO$3:LO$242)=TRUE,\"P\",\"A\")","v":"A"},{"$f":"IF(Attendance($C63,'Daily Register'!LP$3:LP$242)=TRUE,\"P\",\"A\")","v":"A"},{"$f":"IF(Attendance($C63,'Daily Register'!LQ$3:LQ$242)=TRUE,\"P\",\"A\")","v":"A"},{"$f":"IF(Attendance($C63,'Daily Register'!LR$3:LR$242)=TRUE,\"P\",\"A\")","v":"A"},{"$f":"IF(Attendance($C63,'Daily Register'!LS$3:LS$242)=TRUE,\"P\",\"A\")","v":"A"},{"$f":"IF(Attendance($C63,'Daily Register'!LT$3:LT$242)=TRUE,\"P\",\"A\")","v":"A"},{"$f":"IF(Attendance($C63,'Daily Register'!LU$3:LU$242)=TRUE,\"P\",\"A\")","v":"A"},{"$f":"IF(Attendance($C63,'Daily Register'!LV$3:LV$242)=TRUE,\"P\",\"A\")","v":"A"},{"$f":"IF(Attendance($C63,'Daily Register'!LW$3:LW$242)=TRUE,\"P\",\"A\")","v":"A"},{"$f":"IF(Attendance($C63,'Daily Register'!LX$3:LX$242)=TRUE,\"P\",\"A\")","v":"A"},{"$f":"IF(Attendance($C63,'Daily Register'!LY$3:LY$242)=TRUE,\"P\",\"A\")","v":"A"},{"$f":"IF(Attendance($C63,'Daily Register'!LZ$3:LZ$242)=TRUE,\"P\",\"A\")","v":"A"},{"$f":"IF(Attendance($C63,'Daily Register'!MA$3:MA$242)=TRUE,\"P\",\"A\")","v":"A"},{"$f":"IF(Attendance($C63,'Daily Register'!MB$3:MB$242)=TRUE,\"P\",\"A\")","v":"A"},{"$f":"IF(Attendance($C63,'Daily Register'!MC$3:MC$242)=TRUE,\"P\",\"A\")","v":"A"},{"$f":"IF(Attendance($C63,'Daily Register'!MD$3:MD$242)=TRUE,\"P\",\"A\")","v":"A"},{"$f":"IF(Attendance($C63,'Daily Register'!ME$3:ME$242)=TRUE,\"P\",\"A\")","v":"A"},{"$f":"IF(Attendance($C63,'Daily Register'!MF$3:MF$242)=TRUE,\"P\",\"A\")","v":"A"},{"$f":"IF(Attendance($C63,'Daily Register'!MG$3:MG$242)=TRUE,\"P\",\"A\")","v":"A"},{"$f":"IF(Attendance($C63,'Daily Register'!MH$3:MH$242)=TRUE,\"P\",\"A\")","v":"A"},{"$f":"IF(Attendance($C63,'Daily Register'!MI$3:MI$242)=TRUE,\"P\",\"A\")","v":"A"},{"$f":"IF(Attendance($C63,'Daily Register'!MJ$3:MJ$242)=TRUE,\"P\",\"A\")","v":"A"},{"$f":"IF(Attendance($C63,'Daily Register'!MK$3:MK$242)=TRUE,\"P\",\"A\")","v":"A"},{"$f":"IF(Attendance($C63,'Daily Register'!ML$3:ML$242)=TRUE,\"P\",\"A\")","v":"A"},{"$f":"IF(Attendance($C63,'Daily Register'!MM$3:MM$242)=TRUE,\"P\",\"A\")","v":"A"},{"$f":"IF(Attendance($C63,'Daily Register'!MN$3:MN$242)=TRUE,\"P\",\"A\")","v":"A"},{"$f":"IF(Attendance($C63,'Daily Register'!MO$3:MO$242)=TRUE,\"P\",\"A\")","v":"A"},{"$f":"IF(Attendance($C63,'Daily Register'!MP$3:MP$242)=TRUE,\"P\",\"A\")","v":"A"},{"$f":"IF(Attendance($C63,'Daily Register'!MQ$3:MQ$242)=TRUE,\"P\",\"A\")","v":"A"},{"$f":"IF(Attendance($C63,'Daily Register'!MR$3:MR$242)=TRUE,\"P\",\"A\")","v":"A"},{"$f":"IF(Attendance($C63,'Daily Register'!MS$3:MS$242)=TRUE,\"P\",\"A\")","v":"A"},{"$f":"IF(Attendance($C63,'Daily Register'!MT$3:MT$242)=TRUE,\"P\",\"A\")","v":"A"},{"$f":"IF(Attendance($C63,'Daily Register'!MU$3:MU$242)=TRUE,\"P\",\"A\")","v":"A"},{"$f":"IF(Attendance($C63,'Daily Register'!MV$3:MV$242)=TRUE,\"P\",\"A\")","v":"A"},{"$f":"IF(Attendance($C63,'Daily Register'!MW$3:MW$242)=TRUE,\"P\",\"A\")","v":"A"},{"$f":"IF(Attendance($C63,'Daily Register'!MX$3:MX$242)=TRUE,\"P\",\"A\")","v":"A"},{"$f":"IF(Attendance($C63,'Daily Register'!MY$3:MY$242)=TRUE,\"P\",\"A\")","v":"A"},{"$f":"IF(Attendance($C63,'Daily Register'!MZ$3:MZ$242)=TRUE,\"P\",\"A\")","v":"A"},{"$f":"IF(Attendance($C63,'Daily Register'!NA$3:NA$242)=TRUE,\"P\",\"A\")","v":"A"},{"$f":"IF(Attendance($C63,'Daily Register'!NB$3:NB$242)=TRUE,\"P\",\"A\")","v":"A"}]

{"sheet":"Daily Register","index":1,"n_rows":2,"n_cols":366,"rows_kept":2,"cut":false,"hidden":false,"merged":[]}
["2024-01-01","2024-01-02","2024-01-03","2024-01-04","2024-01-05","2024-01-06","2024-01-07","2024-01-08","2024-01-09","2024-01-10","2024-01-11","2024-01-12","2024-01-13","2024-01-14","2024-01-15","2024-01-16","2024-01-17","2024-01-18","2024-01-19","2024-01-20","2024-01-21","2024-01-22","2024-01-23","2024-01-24","2024-01-25","2024-01-26","2024-01-27","2024-01-28","2024-01-29","2024-01-30","2024-01-31","2024-02-01","2024-02-02","2024-02-03","2024-02-04","2024-02-05","2024-02-06","2024-02-07","2024-02-08","2024-02-09","2024-02-10","2024-02-11","2024-02-12","2024-02-13","2024-02-14","2024-02-15","2024-02-16","2024-02-17","2024-02-18","2024-02-19","2024-02-20","2024-02-21","2024-02-22","2024-02-23","2024-02-24","2024-02-25","2024-02-26","2024-02-27","2024-02-28","2024-02-29","2024-03-01","2024-03-02","2024-03-03","2024-03-04","2024-03-05","2024-03-06","2024-03-07","2024-03-08","2024-03-09","2024-03-10","2024-03-11","2024-03-12","2024-03-13","2024-03-14","2024-03-15","2024-03-16","2024-03-17","2024-03-18","2024-03-19","2024-03-20","2024-03-21","2024-03-22","2024-03-23","2024-03-24","2024-03-25","2024-03-26","2024-03-27","2024-03-28","2024-03-29","2024-03-30","2024-03-31","2024-04-01","2024-04-02","2024-04-03","2024-04-04","2024-04-05","2024-04-06","2024-04-07","2024-04-08","2024-04-09","2024-04-10","2024-04-11","2024-04-12","2024-04-13","2024-04-14","2024-04-15","2024-04-16","2024-04-17","2024-04-18","2024-04-19","2024-04-20","2024-04-21","2024-04-22","2024-04-23","2024-04-24","2024-04-25","2024-04-26","2024-04-27","2024-04-28","2024-04-29","2024-04-30","2024-05-01","2024-05-02","2024-05-03","2024-05-04","2024-05-05","2024-05-06","2024-05-07","2024-05-08","2024-05-09","2024-05-10","2024-05-11","2024-05-12","2024-05-13","2024-05-14","2024-05-15","2024-05-16","2024-05-17","2024-05-18","2024-05-19","2024-05-20","2024-05-21","2024-05-22","2024-05-23","2024-05-24","2024-05-25","2024-05-26","2024-05-27","2024-05-28","2024-05-29","2024-05-30","2024-05-31","2024-06-01","2024-06-02","2024-06-03","2024-06-04","2024-06-05","2024-06-06","2024-06-07","2024-06-08","2024-06-09","2024-06-10","2024-06-11","2024-06-12","2024-06-13","2024-06-14","2024-06-15","2024-06-16","2024-06-17","2024-06-18","2024-06-19","2024-06-20","2024-06-21","2024-06-22","2024-06-23","2024-06-24","2024-06-25","2024-06-26","2024-06-27","2024-06-28","2024-06-29","2024-06-30","2024-07-01","2024-07-02","2024-07-03","2024-07-04","2024-07-05","2024-07-06","2024-07-07","2024-07-08","2024-07-09","2024-07-10","2024-07-11","2024-07-12","2024-07-13","2024-07-14","2024-07-15","2024-07-16","2024-07-17","2024-07-18","2024-07-19","2024-07-20","2024-07-21","2024-07-22","2024-07-23","2024-07-24","2024-07-25","2024-07-26","2024-07-27","2024-07-28","2024-07-29","2024-07-30","2024-07-31","2024-08-01","2024-08-02","2024-08-03","2024-08-04","2024-08-05","2024-08-06","2024-08-07","2024-08-08","2024-08-09","2024-08-10","2024-08-11","2024-08-12","2024-08-13","2024-08-14","2024-08-15","2024-08-16","2024-08-17","2024-08-18","2024-08-19","2024-08-20","2024-08-21","2024-08-22","2024-08-23","2024-08-24","2024-08-25","2024-08-26","2024-08-27","2024-08-28","2024-08-29","2024-08-30","2024-08-31","2024-09-01","2024-09-02","2024-09-03","2024-09-04","2024-09-05","2024-09-06","2024-09-07","2024-09-08","2024-09-09","2024-09-10","2024-09-11","2024-09-12","2024-09-13","2024-09-14","2024-09-15","2024-09-16","2024-09-17","2024-09-18","2024-09-19","2024-09-20","2024-09-21","2024-09-22","2024-09-23","2024-09-24","2024-09-25","2024-09-26","2024-09-27","2024-09-28","2024-09-29","2024-09-30","2024-10-01","2024-10-02","2024-10-03","2024-10-04","2024-10-05","2024-10-06","2024-10-07","2024-10-08","2024-10-09","2024-10-10","2024-10-11","2024-10-12","2024-10-13","2024-10-14","2024-10-15","2024-10-16","2024-10-17","2024-10-18","2024-10-19","2024-10-20","2024-10-21","2024-10-22","2024-10-23","2024-10-24","2024-10-25","2024-10-26","2024-10-27","2024-10-28","2024-10-29","2024-10-30","2024-10-31","2024-11-01","2024-11-02","2024-11-03","2024-11-04","2024-11-05","2024-11-06","2024-11-07","2024-11-08","2024-11-09","2024-11-10","2024-11-11","2024-11-12","2024-11-13","2024-11-14","2024-11-15","2024-11-16","2024-11-17","2024-11-18","2024-11-19","2024-11-20","2024-11-21","2024-11-22","2024-11-23","2024-11-24","2024-11-25","2024-11-26","2024-11-27","2024-11-28","2024-11-29","2024-11-30","2024-12-01","2024-12-02","2024-12-03","2024-12-04","2024-12-05","2024-12-06","2024-12-07","2024-12-08","2024-12-09","2024-12-10","2024-12-11","2024-12-12","2024-12-13","2024-12-14","2024-12-15","2024-12-16","2024-12-17","2024-12-18","2024-12-19","2024-12-20","2024-12-21","2024-12-22","2024-12-23","2024-12-24","2024-12-25","2024-12-26","2024-12-27","2024-12-28","2024-12-29","2024-12-30","2024-12-31"]
[{"$f":"TEXT(A1,\"DDD\")","v":"Mon"},"Tue",{"$f":"TEXT(C1,\"DDD\")","v":"Wed"},"Thu","Fri","Sat","Sun","Mon","Tue","Wed","Thu","Fri","Sat","Sun","Mon","Tue","Wed","Thu","Fri","Sat","Sun","Mon","Tue","Wed","Thu","Fri","Sat","Sun","Mon","Tue","Wed","Thu","Fri","Sat","Sun","Mon","Tue","Wed","Thu","Fri","Sat","Sun","Mon","Tue","Wed","Thu","Fri","Sat","Sun","Mon","Tue","Wed","Thu","Fri","Sat","Sun","Mon","Tue","Wed","Thu","Fri","Sat","Sun","Mon","Tue","Wed",{"$f":"TEXT(BO1,\"DDD\")","v":"Thu"},"Fri","Sat","Sun","Mon","Tue","Wed","Thu","Fri","Sat","Sun","Mon","Tue","Wed","Thu","Fri","Sat","Sun","Mon","Tue","Wed","Thu","Fri","Sat","Sun","Mon","Tue","Wed","Thu","Fri","Sat","Sun","Mon","Tue","Wed","Thu","Fri","Sat","Sun","Mon","Tue","Wed","Thu","Fri","Sat","Sun","Mon","Tue","Wed","Thu","Fri","Sat","Sun","Mon","Tue","Wed","Thu","Fri","Sat","Sun","Mon","Tue","Wed","Thu",{"$f":"TEXT(EA1,\"DDD\")","v":"Fri"},"Sat","Sun","Mon","Tue","Wed","Thu","Fri","Sat","Sun","Mon","Tue","Wed","Thu","Fri","Sat","Sun","Mon","Tue","Wed","Thu","Fri","Sat","Sun","Mon","Tue","Wed","Thu","Fri","Sat","Sun","Mon","Tue","Wed","Thu","Fri","Sat","Sun","Mon","Tue","Wed","Thu","Fri","Sat","Sun","Mon","Tue","Wed","Thu","Fri","Sat","Sun","Mon","Tue","Wed","Thu","Fri","Sat","Sun","Mon","Tue","Wed","Thu","Fri",{"$f":"TEXT(GM1,\"DDD\")","v":"Sat"},"Sun","Mon","Tue","Wed","Thu","Fri","Sat","Sun","Mon","Tue","Wed","Thu","Fri","Sat","Sun","Mon","Tue","Wed","Thu","Fri","Sat","Sun","Mon","Tue","Wed","Thu","Fri","Sat","Sun","Mon","Tue","Wed","Thu","Fri","Sat","Sun","Mon","Tue","Wed","Thu","Fri","Sat","Sun","Mon","Tue","Wed","Thu","Fri","Sat","Sun","Mon","Tue","Wed","Thu","Fri","Sat","Sun","Mon","Tue","Wed","Thu","Fri","Sat",{"$f":"TEXT(IY1,\"DDD\")","v":"Sun"},"Mon","Tue","Wed","Thu","Fri","Sat","Sun","Mon","Tue","Wed","Thu","Fri","Sat","Sun","Mon","Tue","Wed","Thu","Fri","Sat","Sun","Mon","Tue","Wed","Thu","Fri","Sat","Sun","Mon","Tue","Wed","Thu","Fri","Sat","Sun","Mon","Tue","Wed","Thu","Fri","Sat","Sun","Mon","Tue","Wed","Thu","Fri","Sat","Sun","Mon","Tue","Wed","Thu","Fri","Sat","Sun","Mon","Tue","Wed","Thu","Fri","Sat","Sun",{"$f":"TEXT(LK1,\"DDD\")","v":"Mon"},"Tue","Wed","Thu","Fri","Sat","Sun","Mon","Tue","Wed","Thu","Fri","Sat","Sun","Mon","Tue","Wed","Thu","Fri","Sat","Sun","Mon","Tue","Wed","Thu","Fri","Sat","Sun","Mon","Tue","Wed","Thu","Fri","Sat","Sun","Mon","Tue","Wed","Thu","Fri","Sat","Sun","Mon","Tue"]